Workbook
Name _R1: '[1]Fastener Correction'!#REF!
Name Af: '[2]Fastener Correction'!#REF!
Name Ar: '[3]Fastener Correction'!#REF!
Name d0: '[2]Fastener Correction'!#REF!
Name d1_: '[2]Fastener Correction'!#REF!
Name ef: '[4]Fastener Correction'!#REF!
Name Fensterdaten: #REF!
Name lmf: '[2]Fastener Correction'!#REF!
Name NameDrop: '[1]Common Areas (MF)'!#REF!:INDEX('[1]Common Areas (MF)'!#REF!,MAX('[1]Common Areas (MF)'!#REF!),1)
Name nf: '[1]Fastener Correction'!#REF!
Name re: '[3]Fastener Correction'!#REF!
Name Rooms: [2]!Room_Type[Room Type]
Name RTh: '[1]Fastener Correction'!#REF!

Sheet Phius Feedback
B4: Rationale for retrofit acceptable? | C4: Y/N
B5: # Incomplete (out of 347) | C5: =SUM(B12:B23,B25,B38:B51,B53:B66,B84:B157,C84:C157,B159:C232,B234:B239,B241:B246) -> 346
B6: # CFR Deliverables | C6: Needs automated
B7: # IAQ Remediation Requirements
B8: # Site Hazard Mitigation Requirements
B9: # Unresolved issues
B11: General Incomplete
B12: =IF('Cx Report'!F8="INCOMPLETE",1,0) -> 1
B13: =IF('Cx Report'!F9="INCOMPLETE",1,0) -> 1
B14: =IF('Cx Report'!F10="INCOMPLETE",1,0) -> 1
B15: =IF('Cx Report'!F11="INCOMPLETE",1,0) -> 1
B16: =IF('Cx Report'!F12="INCOMPLETE",1,0) -> 1
B17: =IF('Cx Report'!F13="INCOMPLETE",1,0) -> 1
B18: =IF('Cx Report'!F14="INCOMPLETE",1,0) -> 1
B19: =IF('Cx Report'!F15="INCOMPLETE",1,0) -> 1
B20: =IF('Cx Report'!F16="INCOMPLETE",1,0) -> 1
B21: =IF('Cx Report'!F17="INCOMPLETE",1,0) -> 1
B22: =IF('Cx Report'!F18="INCOMPLETE",1,0) -> 1
B23: =IF('Cx Report'!F19="INCOMPLETE",1,0) -> 1
B24: Facility Sumary Incomplete
B25: {=IF('Cx Report'!H8:N19="INCOMPLETE",1,0)} -> 0 | C25: 0 | D25: 0 | E25: 0 | F25: 0 | G25: 0 | H25: 0
B26: 0 | C26: 0 | D26: 0 | E26: 0 | F26: 0 | G26: 0 | H26: 0
B27: 0 | C27: 0 | D27: 0 | E27: 0 | F27: 0 | G27: 0 | H27: 0
B28: 0 | C28: 0 | D28: 0 | E28: 0 | F28: 0 | G28: 0 | H28: 0
B29: 0 | C29: 0 | D29: 0 | E29: 0 | F29: 0 | G29: 0 | H29: 0
B30: 0 | C30: 0 | D30: 0 | E30: 0 | F30: 0 | G30: 0 | H30: 0
B31: 0 | C31: 0 | D31: 0 | E31: 0 | F31: 0 | G31: 0 | H31: 0
B32: 0 | C32: 0 | D32: 0 | E32: 0 | F32: 0 | G32: 0 | H32: 0
B33: 0 | C33: 0 | D33: 0 | E33: 0 | F33: 0 | G33: 0 | H33: 0
B34: 0 | C34: 0 | D34: 0 | E34: 0 | F34: 0 | G34: 0 | H34: 0
B35: 0 | C35: 0 | D35: 0 | E35: 0 | F35: 0 | G35: 0 | H35: 0
B36: 0 | C36: 0 | D36: 0 | E36: 0 | F36: 0 | G36: 0 | H36: 0
B37: Occupant Survey Incomplete
B38: =IF('Cx Report'!F23="INCOMPLETE",1,0) -> 1
B39: =IF('Cx Report'!F24="INCOMPLETE",1,0) -> 1
B40: =IF('Cx Report'!F25="INCOMPLETE",1,0) -> 1
B41: =IF('Cx Report'!F26="INCOMPLETE",1,0) -> 1
B42: =IF('Cx Report'!F27="INCOMPLETE",1,0) -> 1
B43: =IF('Cx Report'!F28="INCOMPLETE",1,0) -> 1
B44: =IF('Cx Report'!F29="INCOMPLETE",1,0) -> 1
...

Sheet Cx Report
C2: Phius REVIVE 2024 Cx Report - Part 1
C3: Phase 2: Assessment & Investigation
C4: Phius Acceptance Gate Milestone 2: Assessment & Investigation Approval | M4: All items complete? | N4: Date of Phius Approval
M5: =IF('Phius Feedback'!C5>0,"NO","YES") -> NO
C6: Rationale for Retrofit: | F6: ='Rationale for Retrofit'!G30 -> Please complete 'Program Plan' tab below and all dropdown options above | M6: Team Acceptance: | N6: =IF(ISBLANK('Rationale for Retrofit'!I29),"INCOMPLETE","✓") -> INCOMPLETE
C7: General Info & Facility Summary
D8: General | E8: Owner Name: | F8: =IF(ISBLANK('Program Plan'!I3),"INCOMPLETE",'Program Plan'!I3) -> INCOMPLETE | G8: Facility Summary | H8: =IF('Current Facility Requirements'!E3="[Complete the facility summary once facility requirements are determined below]","INCOMPLETE",'Current Facility Requirements'!E3) -> [Write a brief facility summary HERE once facility requirements are determined below]
E9: Submitter Name: | F9: =IF(ISBLANK('Program Plan'!I4),"INCOMPLETE",'Program Plan'!I4) -> INCOMPLETE
E10: CPHC CxP Name: | F10: =IF(ISBLANK('Program Plan'!I5),"INCOMPLETE",'Program Plan'!I5) -> INCOMPLETE
E11: CPHC CxP #: | F11: =IF(ISBLANK('Program Plan'!I6),"INCOMPLETE",'Program Plan'!I6) -> INCOMPLETE
E12: Project Address: | F12: =IF(ISBLANK('Program Plan'!I7),"INCOMPLETE",'Program Plan'!I7) -> INCOMPLETE
E13: City: | F13: =IF(ISBLANK('Program Plan'!I8),"INCOMPLETE",'Program Plan'!I8) -> INCOMPLETE
E14: State: | F14: =IF('Program Plan'!I9="[Select Dropdown]","INCOMPLETE",'Program Plan'!I9) -> INCOMPLETE
E15: Zip Code: | F15: =IF(ISBLANK('Program Plan'!I10),"INCOMPLETE",'Program Plan'!I10) -> INCOMPLETE
E16: Year Built: | F16: =IF('Owner Worksheet'!G4="[Select Dropdown]","INCOMPLETE",'Owner Worksheet'!G4) -> INCOMPLETE
E17: # of Existing Units: | F17: =IF('Owner Worksheet'!G7="[Enter value]","INCOMPLETE",'Owner Worksheet'!G7) -> INCOMPLETE
E18: # of Planned Units: | F18: =IF('Owner Worksheet'!G8="[Enter value]","INCOMPLETE",'Owner Worksheet'!G8) -> INCOMPLETE
E19: Project Type: | F19: =IF(OR(F17="INCOMPLETE",F18="INCOMPLETE"),"INCOMPLETE",IF(AND(F17>0,F18>0),"Multifamily",IF(AND(F17>0,F18=0),"Multifamily conversion to Non-Residential",IF(AND(F17=0,F18>0),"Non-Resisdential conversion to Multifamily","Non-Residential")))) -> INCOMPLETE
C20: Occupant Survey & Facility Information | J20: Current Facility Requirements (CFR)
L21: Requirement ID | N21: Description of Issue | S21: Required dropdown menu inputs.
J22: Categories | K22: FR1 Regulatory | L22: ='Current Facility Requirements'!D6 -> FR1.1 | M22: =IF(ISBLANK('Current Facility Requirements'!E6),"n/a",'Current Facility Requirements'!E6) -> n/a | N22: =IF(ISBLANK('Current Facility Requirements'!E6),"n/a",IF(ISBLANK('Current Facility Requirements'!F6),"INCOMPLETE",'Current Facility Requirements'!F6)) -> n/a
C23: Occupant Survey Categories | D23: General | E23: Age Range of Occupants: | F23: =IF('Owner Worksheet'!G27="[Select Dropdown] ","INCOMPLETE",'Owner Worksheet'!G27) -> INCOMPLETE | G23: Additional Facility Information | H23: Wall Construction: | I23: =IF('Owner Worksheet'!G11="[Select Dropdown]","INCOMPLETE",'Owner Worksheet'!G11) -> INCOMPLETE | L23: FR1.2 | M23: =IF(ISBLANK('Current Facility Requirements'!E7),"n/a",'Current Facility Requirements'!E7) -> n/a | N23: =IF(ISBLANK('Current Facility Requirements'!E7),"n/a",IF(ISBLANK('Current Facility Requirements'!F7),"INCOMPLETE",'Current Facility Requirements'!F7)) -> n/a
D24: Noise | E24: Acoustical Privacy: | F24: =IF('Owner Worksheet'!G28="[Select Dropdown] ","INCOMPLETE",'Owner Worksheet'!G28) -> INCOMPLETE | H24: Foundation Type: | I24: =IF('Owner Worksheet'!G12="[Select Dropdown]","INCOMPLETE",'Owner Worksheet'!G12) -> INCOMPLETE | L24: FR1.3 | M24: =IF(ISBLANK('Current Facility Requirements'!E8),"n/a",'Current Facility Requirements'!E8) -> n/a | N24: =IF(ISBLANK('Current Facility Requirements'!E8),"n/a",IF(ISBLANK('Current Facility Requirements'!F8),"INCOMPLETE",'Current Facility Requirements'!F8)) -> n/a
E25: Ambient noise negatively impacting concentration: | F25: =IF('Owner Worksheet'!G29="[Select Dropdown] ","INCOMPLETE",'Owner Worksheet'!G29) -> INCOMPLETE | H25: Cooling System: | I25: =IF('Owner Worksheet'!G13="[Select Dropdown] ","INCOMPLETE",'Owner Worksheet'!G13) -> INCOMPLETE | L25: FR1.4 | M25: =IF(ISBLANK('Current Facility Requirements'!E9),"n/a",'Current Facility Requirements'!E9) -> n/a | N25: =IF(ISBLANK('Current Facility Requirements'!E9),"n/a",IF(ISBLANK('Current Facility Requirements'!F9),"INCOMPLETE",'Current Facility Requirements'!F9)) -> n/a
D26: Thermal | E26: Perception of Summer comfort: | F26: =IF('Owner Worksheet'!G30="[Select Dropdown] ","INCOMPLETE",'Owner Worksheet'!G30) -> INCOMPLETE | H26: Heating System: | I26: =IF('Owner Worksheet'!G14="[Select Dropdown] ","INCOMPLETE",'Owner Worksheet'!G14) -> INCOMPLETE | L26: FR1.5 | M26: =IF(ISBLANK('Current Facility Requirements'!E10),"n/a",'Current Facility Requirements'!E10) -> n/a | N26: =IF(ISBLANK('Current Facility Requirements'!E10),"n/a",IF(ISBLANK('Current Facility Requirements'!F10),"INCOMPLETE",'Current Facility Requirements'!F10)) -> n/a
E27: Perception of Winter comfort: | F27: =IF('Owner Worksheet'!G31="[Select Dropdown] ","INCOMPLETE",'Owner Worksheet'!G31) -> INCOMPLETE | H27: Hot Water System: | I27: =IF('Owner Worksheet'!G15="[Select Dropdown] ","INCOMPLETE",'Owner Worksheet'!G15) -> INCOMPLETE | K27: FR2 Financial | L27: FR2.1 | M27: =IF(ISBLANK('Current Facility Requirements'!E11),"n/a",'Current Facility Requirements'!E11) -> n/a | N27: =IF(ISBLANK('Current Facility Requirements'!E11),"n/a",IF(ISBLANK('Current Facility Requirements'!F11),"INCOMPLETE",'Current Facility Requirements'!F11)) -> n/a
D28: Visual | E28: Adequate lighting for tasks / activities: | F28: =IF('Owner Worksheet'!G32="[Select Dropdown]","INCOMPLETE",'Owner Worksheet'!G32) -> INCOMPLETE | G28: Available Facility Documents | H28: Construction Documents: | I28: =IF('Owner Worksheet'!G16="[Select Dropdown]","INCOMPLETE",'Owner Worksheet'!G16) -> INCOMPLETE | L28: FR2.2 | M28: =IF(ISBLANK('Current Facility Requirements'!E12),"n/a",'Current Facility Requirements'!E12) -> n/a | N28: =IF(ISBLANK('Current Facility Requirements'!E12),"n/a",IF(ISBLANK('Current Facility Requirements'!F12),"INCOMPLETE",'Current Facility Requirements'!F12)) -> n/a
E29: Light quality: | F29: =IF('Owner Worksheet'!G33="[Select Dropdown] ","INCOMPLETE",'Owner Worksheet'!G33) -> INCOMPLETE | H29: Sytems / Facility Manuals: | I29: =IF('Owner Worksheet'!G17="[Select Dropdown] ","INCOMPLETE",'Owner Worksheet'!G17) -> INCOMPLETE | L29: FR2.3 | M29: =IF(ISBLANK('Current Facility Requirements'!E13),"n/a",'Current Facility Requirements'!E13) -> n/a | N29: =IF(ISBLANK('Current Facility Requirements'!E13),"n/a",IF(ISBLANK('Current Facility Requirements'!F13),"INCOMPLETE",'Current Facility Requirements'!F13)) -> n/a
E30: Lighting color discrimination: | F30: =IF('Owner Worksheet'!G34="[Select Dropdown] ","INCOMPLETE",'Owner Worksheet'!G34) -> INCOMPLETE | H30: Existing consultant reports: | I30: =IF('Owner Worksheet'!G18="[Select Dropdown] ","INCOMPLETE",'Owner Worksheet'!G18) -> INCOMPLETE | L30: FR2.4 | M30: =IF(ISBLANK('Current Facility Requirements'!E14),"n/a",'Current Facility Requirements'!E14) -> n/a | N30: =IF(ISBLANK('Current Facility Requirements'!E14),"n/a",IF(ISBLANK('Current Facility Requirements'!F14),"INCOMPLETE",'Current Facility Requirements'!F14)) -> n/a
E31: Problematic light flicker: | F31: =IF('Owner Worksheet'!G35="[Select Dropdown] ","INCOMPLETE",'Owner Worksheet'!G35) -> INCOMPLETE | H31: Utility rates / supplier info: | I31: =IF('Owner Worksheet'!G19="[Select Dropdown] ","INCOMPLETE",'Owner Worksheet'!G19) -> INCOMPLETE | L31: FR2.5 | M31: =IF(ISBLANK('Current Facility Requirements'!E15),"n/a",'Current Facility Requirements'!E15) -> n/a | N31: =IF(ISBLANK('Current Facility Requirements'!E15),"n/a",IF(ISBLANK('Current Facility Requirements'!F15),"INCOMPLETE",'Current Facility Requirements'!F15)) -> n/a
E32: Glare: | F32: =IF('Owner Worksheet'!G36="[Select Dropdown] ","INCOMPLETE",'Owner Worksheet'!G36) -> INCOMPLETE | H32: Utility meter / submeter location: | I32: =IF('Owner Worksheet'!G20="[Select Dropdown] ","INCOMPLETE",'Owner Worksheet'!G20) -> INCOMPLETE | K32: FR3 Functional | L32: FR3.1 | M32: =IF(ISBLANK('Current Facility Requirements'!E16),"n/a",'Current Facility Requirements'!E16) -> n/a | N32: =IF(ISBLANK('Current Facility Requirements'!E16),"n/a",IF(ISBLANK('Current Facility Requirements'!F16),"INCOMPLETE",'Current Facility Requirements'!F16)) -> n/a
E33: Difficulty seeing computer screen: | F33: =IF('Owner Worksheet'!G37="[Select Dropdown] ","INCOMPLETE",'Owner Worksheet'!G37) -> INCOMPLETE | H33: Operations / maintenance report: | I33: =IF('Owner Worksheet'!G21="[Select Dropdown] ","INCOMPLETE",'Owner Worksheet'!G21) -> INCOMPLETE | L33: FR3.2 | M33: =IF(ISBLANK('Current Facility Requirements'!E17),"n/a",'Current Facility Requirements'!E17) -> n/a | N33: =IF(ISBLANK('Current Facility Requirements'!E17),"n/a",IF(ISBLANK('Current Facility Requirements'!F17),"INCOMPLETE",'Current Facility Requirements'!F17)) -> n/a
E34: Adequacy of light levels: | F34: =IF('Owner Worksheet'!G38="[Select Dropdown] ","INCOMPLETE",'Owner Worksheet'!G38) -> INCOMPLETE | H34: Annual maintence cost breakdown: | I34: =IF('Owner Worksheet'!G22="[Select Dropdown] ","INCOMPLETE",'Owner Worksheet'!G22) -> INCOMPLETE | L34: FR3.3 | M34: =IF(ISBLANK('Current Facility Requirements'!E18),"n/a",'Current Facility Requirements'!E18) -> n/a | N34: =IF(ISBLANK('Current Facility Requirements'!E18),"n/a",IF(ISBLANK('Current Facility Requirements'!F18),"INCOMPLETE",'Current Facility Requirements'!F18)) -> n/a
D35: IAQ | E35: Air Quality (general): | F35: =IF('Owner Worksheet'!G39="[Select Dropdown]","INCOMPLETE",'Owner Worksheet'!G39) -> INCOMPLETE | H35: Onsite energy production: | I35: =IF('Owner Worksheet'!G23="[Select Dropdown] ","INCOMPLETE",'Owner Worksheet'!G23) -> INCOMPLETE | L35: FR3.4 | M35: =IF(ISBLANK('Current Facility Requirements'!E19),"n/a",'Current Facility Requirements'!E19) -> n/a | N35: =IF(ISBLANK('Current Facility Requirements'!E19),"n/a",IF(ISBLANK('Current Facility Requirements'!F19),"INCOMPLETE",'Current Facility Requirements'!F19)) -> n/a
E36: Unpleasant odors: | F36: =IF('Owner Worksheet'!G40="[Select Dropdown]","INCOMPLETE",'Owner Worksheet'!G40) -> INCOMPLETE | H36: Low-cost repair budget: | I36: =IF('Owner Worksheet'!G24="[Select Dropdown] ","INCOMPLETE",'Owner Worksheet'!G24) -> INCOMPLETE | L36: FR3.5 | M36: =IF(ISBLANK('Current Facility Requirements'!E20),"n/a",'Current Facility Requirements'!E20) -> n/a | N36: =IF(ISBLANK('Current Facility Requirements'!E20),"n/a",IF(ISBLANK('Current Facility Requirements'!F20),"INCOMPLETE",'Current Facility Requirements'!F20)) -> n/a
C37: IAQ Assessment Site Visit Report | I37: IAQ Investigation Site Visit Report
C38: EPA Energy Savings Plus Health IAQ Priority Issues | D38: IAQ Category | E38: Assessment Protocol Item | G38: CxP Assessment Reporting Notes | H38: Status | I38: EPA Energy Savings Plus Health IAQ Priority Issues | J38: IAQ Category | K38: Assessment Protocol Item | M38: CxP Investigation Reporting Notes | N38: Status
D39: 1. Asbestos | E39: AP1.1 Determine Potential Asbestos Hazard | G39: =IF(ISBLANK('Phase 2 IAQ Assessment'!F12),"INCOMPLETE",'Phase 2 IAQ Assessment'!F12) -> INCOMPLETE | H39: =IF('Phase 2 IAQ Assessment'!G12="[Select Dropdown]","INCOMPLETE",'Phase 2 IAQ Assessment'!G12) -> INCOMPLETE | J39: 1. Asbestos | K39: AP1.1 Determine Potential Asbestos Hazard | M39: =IF('Phase 2 IAQ Investigation'!E12="INCOMPLETE","INCOMPLETE",IF(OR('Phase 2 IAQ Investigation'!E12="No further investigation required",'Phase 2 IAQ Investigation'!E12="Resolved"),"n/a",IF(AND(OR('Phase 2 IAQ Investigation'!E12="Remediation Required",'Phase 2 IAQ Investigation'!E12="Needs further investigation"),ISBLANK('Phase 2 IAQ Investigation'!F12)),"INCOMPLETE",'Phase 2 IAQ Investigation'!F12))) -> INCOMPLETE | N39: =IF('Phase 2 IAQ Investigation'!G12="[Select Dropdown]","INCOMPLETE",'Phase 2 IAQ Investigation'!G12) -> INCOMPLETE
D40: 2. Below Ground Contaminants (except radon) | E40: AP2.1 Evaluate potential sources and odors | G40: =IF(ISBLANK('Phase 2 IAQ Assessment'!F14),"INCOMPLETE",'Phase 2 IAQ Assessment'!F14) -> INCOMPLETE | H40: =IF('Phase 2 IAQ Assessment'!G14="[Select Dropdown]","INCOMPLETE",'Phase 2 IAQ Assessment'!G14) -> INCOMPLETE | J40: 2. Below Ground Contaminants (except radon) | K40: AP2.1 Evaluate Sources | M40: =IF('Phase 2 IAQ Investigation'!E14="INCOMPLETE","INCOMPLETE",IF(OR('Phase 2 IAQ Investigation'!E14="No further investigation required",'Phase 2 IAQ Investigation'!E14="Resolved"),"n/a",IF(AND(OR('Phase 2 IAQ Investigation'!E14="Remediation Required",'Phase 2 IAQ Investigation'!E14="Needs further investigation"),ISBLANK('Phase 2 IAQ Investigation'!F14)),"INCOMPLETE",'Phase 2 IAQ Investigation'!F14))) -> INCOMPLETE | N40: =IF('Phase 2 IAQ Investigation'!G14="[Select Dropdown]","INCOMPLETE",'Phase 2 IAQ Investigation'!G14) -> INCOMPLETE
E41: AP2.2 Evaluate Sewer Vent System | G41: =IF(ISBLANK('Phase 2 IAQ Assessment'!F15),"INCOMPLETE",'Phase 2 IAQ Assessment'!F15) -> INCOMPLETE | H41: =IF('Phase 2 IAQ Assessment'!G15="[Select Dropdown]","INCOMPLETE",'Phase 2 IAQ Assessment'!G15) -> INCOMPLETE | K41: AP2.2 Evaluate Sewer Vent System | M41: =IF('Phase 2 IAQ Investigation'!E15="INCOMPLETE","INCOMPLETE",IF(OR('Phase 2 IAQ Investigation'!E15="No further investigation required",'Phase 2 IAQ Investigation'!E15="Resolved"),"n/a",IF(AND(OR('Phase 2 IAQ Investigation'!E15="Remediation Required",'Phase 2 IAQ Investigation'!E15="Needs further investigation"),ISBLANK('Phase 2 IAQ Investigation'!F15)),"INCOMPLETE",'Phase 2 IAQ Investigation'!F15))) -> INCOMPLETE | N41: =IF('Phase 2 IAQ Investigation'!G15="[Select Dropdown]","INCOMPLETE",'Phase 2 IAQ Investigation'!G15) -> INCOMPLETE
...

Sheet Cx Plan
B2: Phius REVIVE 2024 Cx Plan - Part 1
B3: 8.6.5.1 IAQ Assessment Site Visit Planning With respect to the EPA energy savings plus health documents, list the assessment protocol items that can be accomplished in a walkthrough | E3: CxP Assessment Planning Notes Complete pre-assessment | F3: Assess or Defer | G3: CxP Investigation Planning Notes Complete pre-investigation | H3: Current status?
B4: EPA Energy Savings Plus Health IAQ Guidelines | C4: 1. Asbestos | D4: AP1.1 Determine Potential Asbestos Hazard | E4: =IF(ISBLANK('Phase 2 IAQ Assessment'!D12),"INCOMPLETE",'Phase 2 IAQ Assessment'!D12) -> INCOMPLETE | F4: =IF('Phase 2 IAQ Assessment'!E12="[Select Dropdown]","INCOMPLETE",'Phase 2 IAQ Assessment'!E12) -> INCOMPLETE | G4: =IF(ISBLANK('Phase 2 IAQ Investigation'!D12),"INCOMPLETE",'Phase 2 IAQ Investigation'!D12) -> INCOMPLETE | H4: ='Phase 2 IAQ Investigation'!E12 -> INCOMPLETE
C5: 2. Below Ground Contaminants (except radon) | D5: AP2.1 Evaluate potential sources and odors | E5: =IF(ISBLANK('Phase 2 IAQ Assessment'!D14),"INCOMPLETE",'Phase 2 IAQ Assessment'!D14) -> INCOMPLETE | F5: =IF('Phase 2 IAQ Assessment'!E14="[Select Dropdown]","INCOMPLETE",'Phase 2 IAQ Assessment'!E14) -> INCOMPLETE | G5: =IF(ISBLANK('Phase 2 IAQ Investigation'!D14),"INCOMPLETE",'Phase 2 IAQ Investigation'!D14) -> INCOMPLETE | H5: ='Phase 2 IAQ Investigation'!E14 -> INCOMPLETE
D6: AP2.2 Evaluate Sewer Vent System | E6: =IF(ISBLANK('Phase 2 IAQ Assessment'!D15),"INCOMPLETE",'Phase 2 IAQ Assessment'!D15) -> INCOMPLETE | F6: =IF('Phase 2 IAQ Assessment'!E15="[Select Dropdown]","INCOMPLETE",'Phase 2 IAQ Assessment'!E15) -> INCOMPLETE | G6: =IF(ISBLANK('Phase 2 IAQ Investigation'!D15),"INCOMPLETE",'Phase 2 IAQ Investigation'!D15) -> INCOMPLETE | H6: ='Phase 2 IAQ Investigation'!E15 -> INCOMPLETE
D7: AP2.3 Take proper action if odor source cannot be identified | E7: =IF(ISBLANK('Phase 2 IAQ Assessment'!D16),"INCOMPLETE",'Phase 2 IAQ Assessment'!D16) -> INCOMPLETE | F7: =IF('Phase 2 IAQ Assessment'!E16="[Select Dropdown]","INCOMPLETE",'Phase 2 IAQ Assessment'!E16) -> INCOMPLETE | G7: =IF(ISBLANK('Phase 2 IAQ Investigation'!D16),"INCOMPLETE",'Phase 2 IAQ Investigation'!D16) -> INCOMPLETE | H7: ='Phase 2 IAQ Investigation'!E16 -> INCOMPLETE
D8: AP2.4 Conduct further assessment if contamination is suspected | E8: =IF(ISBLANK('Phase 2 IAQ Assessment'!D17),"INCOMPLETE",'Phase 2 IAQ Assessment'!D17) -> INCOMPLETE | F8: =IF('Phase 2 IAQ Assessment'!E17="[Select Dropdown]","INCOMPLETE",'Phase 2 IAQ Assessment'!E17) -> INCOMPLETE | G8: =IF(ISBLANK('Phase 2 IAQ Investigation'!D17),"INCOMPLETE",'Phase 2 IAQ Investigation'!D17) -> INCOMPLETE | H8: ='Phase 2 IAQ Investigation'!E17 -> INCOMPLETE
C9: 3. Building Products / Material Emissions | D9: AP3.1 Review content & emissions documentation for new products | E9: =IF(ISBLANK('Phase 2 IAQ Assessment'!D19),"INCOMPLETE",'Phase 2 IAQ Assessment'!D19) -> INCOMPLETE | F9: =IF('Phase 2 IAQ Assessment'!E19="[Select Dropdown]","INCOMPLETE",'Phase 2 IAQ Assessment'!E19) -> INCOMPLETE | G9: =IF(ISBLANK('Phase 2 IAQ Investigation'!E19),"INCOMPLETE",'Phase 2 IAQ Investigation'!E19) -> INCOMPLETE | H9: ='Phase 2 IAQ Investigation'!E19 -> INCOMPLETE
D10: AP3.2 Carpet | E10: =IF(ISBLANK('Phase 2 IAQ Assessment'!D20),"INCOMPLETE",'Phase 2 IAQ Assessment'!D20) -> INCOMPLETE | F10: =IF('Phase 2 IAQ Assessment'!E20="[Select Dropdown]","INCOMPLETE",'Phase 2 IAQ Assessment'!E20) -> INCOMPLETE | G10: =IF(ISBLANK('Phase 2 IAQ Investigation'!E20),"INCOMPLETE",'Phase 2 IAQ Investigation'!E20) -> INCOMPLETE | H10: ='Phase 2 IAQ Investigation'!E20 -> INCOMPLETE
D11: AP3.3 Ventilation | E11: =IF(ISBLANK('Phase 2 IAQ Assessment'!D21),"INCOMPLETE",'Phase 2 IAQ Assessment'!D21) -> INCOMPLETE | F11: =IF('Phase 2 IAQ Assessment'!E21="[Select Dropdown]","INCOMPLETE",'Phase 2 IAQ Assessment'!E21) -> INCOMPLETE | G11: =IF(ISBLANK('Phase 2 IAQ Investigation'!E21),"INCOMPLETE",'Phase 2 IAQ Investigation'!E21) -> INCOMPLETE | H11: ='Phase 2 IAQ Investigation'!E21 -> INCOMPLETE
C12: 4. Environmental Tobacco Smoke | D12: AP4.1 Determine whether there is a smoke-free policy | E12: =IF(ISBLANK('Phase 2 IAQ Assessment'!D23),"INCOMPLETE",'Phase 2 IAQ Assessment'!D23) -> INCOMPLETE | F12: =IF('Phase 2 IAQ Assessment'!E23="[Select Dropdown]","INCOMPLETE",'Phase 2 IAQ Assessment'!E24) -> INCOMPLETE | G12: =IF(ISBLANK('Phase 2 IAQ Investigation'!D23),"INCOMPLETE",'Phase 2 IAQ Investigation'!D27) -> INCOMPLETE | H12: ='Phase 2 IAQ Investigation'!E23 -> INCOMPLETE
D13: AP4.2 Identify occupants' smoking-related concerns | E13: =IF(ISBLANK('Phase 2 IAQ Assessment'!D24),"INCOMPLETE",'Phase 2 IAQ Assessment'!D24) -> INCOMPLETE | F13: =IF('Phase 2 IAQ Assessment'!E24="[Select Dropdown]","INCOMPLETE",'Phase 2 IAQ Assessment'!E25) -> INCOMPLETE | G13: =IF(ISBLANK('Phase 2 IAQ Investigation'!D24),"INCOMPLETE",'Phase 2 IAQ Investigation'!D28) -> INCOMPLETE | H13: ='Phase 2 IAQ Investigation'!E24 -> INCOMPLETE
D14: AP4.3 Asses whether compartmentalization is a possible ETS control strategy in building w/o a smoke-free policy | E14: =IF(ISBLANK('Phase 2 IAQ Assessment'!D25),"INCOMPLETE",'Phase 2 IAQ Assessment'!D25) -> INCOMPLETE | F14: =IF('Phase 2 IAQ Assessment'!E25="[Select Dropdown]","INCOMPLETE",'Phase 2 IAQ Assessment'!E26) -> INCOMPLETE | G14: =IF(ISBLANK('Phase 2 IAQ Investigation'!D25),"INCOMPLETE",'Phase 2 IAQ Investigation'!D29) -> INCOMPLETE | H14: ='Phase 2 IAQ Investigation'!E25 -> INCOMPLETE
C15: 5. Garage Air Pollutants | D15: AP5.1 Identify Location & Configuration of Garages | E15: =IF(ISBLANK('Phase 2 IAQ Assessment'!D27),"INCOMPLETE",'Phase 2 IAQ Assessment'!D27) -> INCOMPLETE | F15: =IF('Phase 2 IAQ Assessment'!E27="[Select Dropdown]","INCOMPLETE",'Phase 2 IAQ Assessment'!E27) -> INCOMPLETE | G15: =IF(ISBLANK('Phase 2 IAQ Investigation'!D27),"INCOMPLETE",'Phase 2 IAQ Investigation'!D27) -> INCOMPLETE | H15: ='Phase 2 IAQ Investigation'!E27 -> INCOMPLETE
D16: AP5.2 Check for HVAC Systems Inside Garage | E16: =IF(ISBLANK('Phase 2 IAQ Assessment'!D28),"INCOMPLETE",'Phase 2 IAQ Assessment'!D28) -> INCOMPLETE | F16: =IF('Phase 2 IAQ Assessment'!E28="[Select Dropdown]","INCOMPLETE",'Phase 2 IAQ Assessment'!E28) -> INCOMPLETE | G16: =IF(ISBLANK('Phase 2 IAQ Investigation'!D28),"INCOMPLETE",'Phase 2 IAQ Investigation'!D28) -> INCOMPLETE | H16: ='Phase 2 IAQ Investigation'!E28 -> INCOMPLETE
D17: AP5.3 Locate Air Leaks | E17: =IF(ISBLANK('Phase 2 IAQ Assessment'!D29),"INCOMPLETE",'Phase 2 IAQ Assessment'!D29) -> INCOMPLETE | F17: =IF('Phase 2 IAQ Assessment'!E29="[Select Dropdown]","INCOMPLETE",'Phase 2 IAQ Assessment'!E29) -> INCOMPLETE | G17: =IF(ISBLANK('Phase 2 IAQ Investigation'!D29),"INCOMPLETE",'Phase 2 IAQ Investigation'!D29) -> INCOMPLETE | H17: ='Phase 2 IAQ Investigation'!E29 -> INCOMPLETE
D18: AP5.4 Determine presence of combustion applicances or engines | E18: =IF(ISBLANK('Phase 2 IAQ Assessment'!D30),"INCOMPLETE",'Phase 2 IAQ Assessment'!D30) -> INCOMPLETE | F18: =IF('Phase 2 IAQ Assessment'!E30="[Select Dropdown]","INCOMPLETE",'Phase 2 IAQ Assessment'!E30) -> INCOMPLETE | G18: =IF(ISBLANK('Phase 2 IAQ Investigation'!D30),"INCOMPLETE",'Phase 2 IAQ Investigation'!D30) -> INCOMPLETE | H18: ='Phase 2 IAQ Investigation'!E30 -> INCOMPLETE
D19: AP5.5 Occupant Complaints | E19: =IF(ISBLANK('Phase 2 IAQ Assessment'!D31),"INCOMPLETE",'Phase 2 IAQ Assessment'!D31) -> INCOMPLETE | F19: =IF('Phase 2 IAQ Assessment'!E31="[Select Dropdown]","INCOMPLETE",'Phase 2 IAQ Assessment'!E31) -> INCOMPLETE | G19: =IF(ISBLANK('Phase 2 IAQ Investigation'!D31),"INCOMPLETE",'Phase 2 IAQ Investigation'!D31) -> INCOMPLETE | H19: ='Phase 2 IAQ Investigation'!E31 -> INCOMPLETE
C20: 6. Lead | D20: AP6.1 Assess Paint Conditions | E20: =IF(ISBLANK('Phase 2 IAQ Assessment'!D33),"INCOMPLETE",'Phase 2 IAQ Assessment'!D33) -> INCOMPLETE | F20: =IF('Phase 2 IAQ Assessment'!E33="[Select Dropdown]","INCOMPLETE",'Phase 2 IAQ Assessment'!E33) -> INCOMPLETE | G20: =IF(ISBLANK('Phase 2 IAQ Investigation'!D33),"INCOMPLETE",'Phase 2 IAQ Investigation'!D33) -> INCOMPLETE | H20: ='Phase 2 IAQ Investigation'!E33 -> INCOMPLETE
D21: AP6.2 Testing Method | E21: =IF(ISBLANK('Phase 2 IAQ Assessment'!D34),"INCOMPLETE",'Phase 2 IAQ Assessment'!D34) -> INCOMPLETE | F21: =IF('Phase 2 IAQ Assessment'!E34="[Select Dropdown]","INCOMPLETE",'Phase 2 IAQ Assessment'!E34) -> INCOMPLETE | G21: =IF(ISBLANK('Phase 2 IAQ Investigation'!D34),"INCOMPLETE",'Phase 2 IAQ Investigation'!D34) -> INCOMPLETE | H21: ='Phase 2 IAQ Investigation'!E34 -> INCOMPLETE
C22: 7. Moisture & Mold | D22: AP7.1 Inspect for Moisture Problems | E22: =IF(ISBLANK('Phase 2 IAQ Assessment'!D36),"INCOMPLETE",'Phase 2 IAQ Assessment'!D36) -> INCOMPLETE | F22: =IF('Phase 2 IAQ Assessment'!E36="[Select Dropdown]","INCOMPLETE",'Phase 2 IAQ Assessment'!E36) -> INCOMPLETE | G22: =IF(ISBLANK('Phase 2 IAQ Investigation'!D36),"INCOMPLETE",'Phase 2 IAQ Investigation'!D36) -> INCOMPLETE | H22: ='Phase 2 IAQ Investigation'!E36 -> INCOMPLETE
D23: AP7.2 Determine Whether Mold Remediateion is Required | E23: =IF(ISBLANK('Phase 2 IAQ Assessment'!D37),"INCOMPLETE",'Phase 2 IAQ Assessment'!D37) -> INCOMPLETE | F23: =IF('Phase 2 IAQ Assessment'!E37="[Select Dropdown]","INCOMPLETE",'Phase 2 IAQ Assessment'!E37) -> INCOMPLETE | G23: =IF(ISBLANK('Phase 2 IAQ Investigation'!D37),"INCOMPLETE",'Phase 2 IAQ Investigation'!D37) -> INCOMPLETE | H23: ='Phase 2 IAQ Investigation'!E37 -> INCOMPLETE
D24: AP7.3 Identify Moisture or Mold Problems to Address before Upgrades | E24: =IF(ISBLANK('Phase 2 IAQ Assessment'!D38),"INCOMPLETE",'Phase 2 IAQ Assessment'!D38) -> INCOMPLETE | F24: =IF('Phase 2 IAQ Assessment'!E38="[Select Dropdown]","INCOMPLETE",'Phase 2 IAQ Assessment'!E38) -> INCOMPLETE | G24: =IF(ISBLANK('Phase 2 IAQ Investigation'!D38),"INCOMPLETE",'Phase 2 IAQ Investigation'!D38) -> INCOMPLETE | H24: ='Phase 2 IAQ Investigation'!E38 -> INCOMPLETE
D25: AP7.4 Identify Moisture Problems that may Limit Upgrades | E25: =IF(ISBLANK('Phase 2 IAQ Assessment'!D39),"INCOMPLETE",'Phase 2 IAQ Assessment'!D39) -> INCOMPLETE | F25: =IF('Phase 2 IAQ Assessment'!E39="[Select Dropdown]","INCOMPLETE",'Phase 2 IAQ Assessment'!E39) -> INCOMPLETE | G25: =IF(ISBLANK('Phase 2 IAQ Investigation'!D39),"INCOMPLETE",'Phase 2 IAQ Investigation'!D39) -> INCOMPLETE | H25: ='Phase 2 IAQ Investigation'!E39 -> INCOMPLETE
C26: 8. Outdoor Air Sources and Conditions | D26: AP8.1 Consider outdoor pollutant sources and conditions that impact the indoor environment | E26: =IF(ISBLANK('Phase 2 IAQ Assessment'!D41),"INCOMPLETE",'Phase 2 IAQ Assessment'!D41) -> INCOMPLETE | F26: =IF('Phase 2 IAQ Assessment'!E41="[Select Dropdown]","INCOMPLETE",'Phase 2 IAQ Assessment'!E41) -> INCOMPLETE | G26: =IF(ISBLANK('Phase 2 IAQ Investigation'!D41),"INCOMPLETE",'Phase 2 IAQ Investigation'!D41) -> INCOMPLETE | H26: ='Phase 2 IAQ Investigation'!E48 -> INCOMPLETE
D27: AP8.2 Occupant complaints | E27: =IF(ISBLANK('Phase 2 IAQ Assessment'!D42),"INCOMPLETE",'Phase 2 IAQ Assessment'!D42) -> INCOMPLETE | F27: =IF('Phase 2 IAQ Assessment'!E42="[Select Dropdown]","INCOMPLETE",'Phase 2 IAQ Assessment'!E42) -> INCOMPLETE | G27: =IF(ISBLANK('Phase 2 IAQ Investigation'!D42),"INCOMPLETE",'Phase 2 IAQ Investigation'!D42) -> INCOMPLETE | H27: ='Phase 2 IAQ Investigation'!E49 -> INCOMPLETE
C28: 9. Pests | D28: AP9.1 Identify potential pests and integrated pest management (IPM) resources | E28: =IF(ISBLANK('Phase 2 IAQ Assessment'!D44),"INCOMPLETE",'Phase 2 IAQ Assessment'!D44) -> INCOMPLETE | F28: =IF('Phase 2 IAQ Assessment'!E44="[Select Dropdown]","INCOMPLETE",'Phase 2 IAQ Assessment'!E44) -> INCOMPLETE | G28: =IF(ISBLANK('Phase 2 IAQ Investigation'!D44),"INCOMPLETE",'Phase 2 IAQ Investigation'!D44) -> INCOMPLETE | H28: ='Phase 2 IAQ Investigation'!E44 -> INCOMPLETE
D29: AP9.2 Identify evidence of pests | E29: =IF(ISBLANK('Phase 2 IAQ Assessment'!D45),"INCOMPLETE",'Phase 2 IAQ Assessment'!D45) -> INCOMPLETE | F29: =IF('Phase 2 IAQ Assessment'!E45="[Select Dropdown]","INCOMPLETE",'Phase 2 IAQ Assessment'!E45) -> INCOMPLETE | G29: =IF(ISBLANK('Phase 2 IAQ Investigation'!D45),"INCOMPLETE",'Phase 2 IAQ Investigation'!D45) -> INCOMPLETE | H29: ='Phase 2 IAQ Investigation'!E45 -> INCOMPLETE
D30: AP9.3 Assess whether the building has an IPM Plan | E30: =IF(ISBLANK('Phase 2 IAQ Assessment'!D46),"INCOMPLETE",'Phase 2 IAQ Assessment'!D46) -> INCOMPLETE | F30: =IF('Phase 2 IAQ Assessment'!E46="[Select Dropdown]","INCOMPLETE",'Phase 2 IAQ Assessment'!E46) -> INCOMPLETE | G30: =IF(ISBLANK('Phase 2 IAQ Investigation'!D46),"INCOMPLETE",'Phase 2 IAQ Investigation'!D46) -> INCOMPLETE | H30: ='Phase 2 IAQ Investigation'!E46 -> INCOMPLETE
C31: 10. Polychlorinated Biphenyls | D31: AP10.1 Determine whether any light ballasts containing PCBs are present | E31: =IF(ISBLANK('Phase 2 IAQ Assessment'!D48),"INCOMPLETE",'Phase 2 IAQ Assessment'!D48) -> INCOMPLETE | F31: =IF('Phase 2 IAQ Assessment'!E48="[Select Dropdown]","INCOMPLETE",'Phase 2 IAQ Assessment'!E48) -> INCOMPLETE | G31: =IF(ISBLANK('Phase 2 IAQ Investigation'!D48),"INCOMPLETE",'Phase 2 IAQ Investigation'!D48) -> INCOMPLETE | H31: ='Phase 2 IAQ Investigation'!E48 -> INCOMPLETE
D32: AP10.2 Assess whether calk will be disturbed | E32: =IF(ISBLANK('Phase 2 IAQ Assessment'!D49),"INCOMPLETE",'Phase 2 IAQ Assessment'!D49) -> INCOMPLETE | F32: =IF('Phase 2 IAQ Assessment'!E49="[Select Dropdown]","INCOMPLETE",'Phase 2 IAQ Assessment'!E49) -> INCOMPLETE | G32: =IF(ISBLANK('Phase 2 IAQ Investigation'!D49),"INCOMPLETE",'Phase 2 IAQ Investigation'!D49) -> INCOMPLETE | H32: ='Phase 2 IAQ Investigation'!E49 -> INCOMPLETE
C33: 11. Radon | D33: AP11.1 Determine whether the building has an active Radon Mitigation System | E33: =IF(ISBLANK('Phase 2 IAQ Assessment'!D51),"INCOMPLETE",'Phase 2 IAQ Assessment'!D51) -> INCOMPLETE | F33: =IF('Phase 2 IAQ Assessment'!E51="[Select Dropdown]","INCOMPLETE",'Phase 2 IAQ Assessment'!E51) -> INCOMPLETE | G33: =IF(ISBLANK('Phase 2 IAQ Investigation'!D51),"INCOMPLETE",'Phase 2 IAQ Investigation'!D51) -> INCOMPLETE | H33: ='Phase 2 IAQ Investigation'!E51 -> INCOMPLETE
D34: AP11.2 Select a radon-testing professional for building w/o an active radon system | E34: =IF(ISBLANK('Phase 2 IAQ Assessment'!D52),"INCOMPLETE",'Phase 2 IAQ Assessment'!D52) -> INCOMPLETE | F34: =IF('Phase 2 IAQ Assessment'!E52="[Select Dropdown]","INCOMPLETE",'Phase 2 IAQ Assessment'!E52) -> INCOMPLETE | G34: =IF(ISBLANK('Phase 2 IAQ Investigation'!D52),"INCOMPLETE",'Phase 2 IAQ Investigation'!D52) -> INCOMPLETE | H34: ='Phase 2 IAQ Investigation'!E52 -> INCOMPLETE
D35: AP11.3 Determine whether radon testing will be completed either (1) pre- and post-upgrades or (2) post-upgrades only | E35: =IF(ISBLANK('Phase 2 IAQ Assessment'!D53),"INCOMPLETE",'Phase 2 IAQ Assessment'!D53) -> INCOMPLETE | F35: =IF('Phase 2 IAQ Assessment'!E53="[Select Dropdown]","INCOMPLETE",'Phase 2 IAQ Assessment'!E53) -> INCOMPLETE | G35: =IF(ISBLANK('Phase 2 IAQ Investigation'!D53),"INCOMPLETE",'Phase 2 IAQ Investigation'!D53) -> INCOMPLETE | H35: ='Phase 2 IAQ Investigation'!E53 -> INCOMPLETE
C36: 12. Tracked-In Pollutants | D36: AP12.1 Inspect floor surfaces at building common entrances | E36: =IF(ISBLANK('Phase 2 IAQ Assessment'!D55),"INCOMPLETE",'Phase 2 IAQ Assessment'!D55) -> INCOMPLETE | F36: =IF('Phase 2 IAQ Assessment'!E55="[Select Dropdown]","INCOMPLETE",'Phase 2 IAQ Assessment'!E55) -> INCOMPLETE | G36: =IF(ISBLANK('Phase 2 IAQ Investigation'!D55),"INCOMPLETE",'Phase 2 IAQ Investigation'!D55) -> INCOMPLETE | H36: ='Phase 2 IAQ Investigation'!E55 -> INCOMPLETE
C37: 13. Unvented Combustion Appliances | D37: AP13.1 Identify unvented combustion appliances and applicable regulations | E37: =IF(ISBLANK('Phase 2 IAQ Assessment'!D57),"INCOMPLETE",'Phase 2 IAQ Assessment'!D57) -> INCOMPLETE | F37: =IF('Phase 2 IAQ Assessment'!E57="[Select Dropdown]","INCOMPLETE",'Phase 2 IAQ Assessment'!E57) -> INCOMPLETE | G37: =IF(ISBLANK('Phase 2 IAQ Investigation'!D57),"INCOMPLETE",'Phase 2 IAQ Investigation'!D57) -> INCOMPLETE | H37: ='Phase 2 IAQ Investigation'!E57 -> INCOMPLETE
D38: AP13.2 Conduct a safety inspection | E38: =IF(ISBLANK('Phase 2 IAQ Assessment'!D58),"INCOMPLETE",'Phase 2 IAQ Assessment'!D58) -> INCOMPLETE | F38: =IF('Phase 2 IAQ Assessment'!E58="[Select Dropdown]","INCOMPLETE",'Phase 2 IAQ Assessment'!E58) -> INCOMPLETE | G38: =IF(ISBLANK('Phase 2 IAQ Investigation'!D58),"INCOMPLETE",'Phase 2 IAQ Investigation'!D58) -> INCOMPLETE | H38: ='Phase 2 IAQ Investigation'!E58 -> INCOMPLETE
D39: AP13.3 Determine whether CO detection and warning equipment is installed | E39: =IF(ISBLANK('Phase 2 IAQ Assessment'!D59),"INCOMPLETE",'Phase 2 IAQ Assessment'!D59) -> INCOMPLETE | F39: =IF('Phase 2 IAQ Assessment'!E59="[Select Dropdown]","INCOMPLETE",'Phase 2 IAQ Assessment'!E59) -> INCOMPLETE | G39: =IF(ISBLANK('Phase 2 IAQ Investigation'!D59),"INCOMPLETE",'Phase 2 IAQ Investigation'!D59) -> INCOMPLETE | H39: ='Phase 2 IAQ Investigation'!E59 -> INCOMPLETE
D40: AP13.4 Inquire about occupant complaints | E40: =IF(ISBLANK('Phase 2 IAQ Assessment'!D60),"INCOMPLETE",'Phase 2 IAQ Assessment'!D60) -> INCOMPLETE | F40: =IF('Phase 2 IAQ Assessment'!E60="[Select Dropdown]","INCOMPLETE",'Phase 2 IAQ Assessment'!E60) -> INCOMPLETE | G40: =IF(ISBLANK('Phase 2 IAQ Investigation'!D60),"INCOMPLETE",'Phase 2 IAQ Investigation'!D60) -> INCOMPLETE | H40: ='Phase 2 IAQ Investigation'!E60 -> INCOMPLETE
C41: 14. Vented Combustion Appliances | D41: AP14.1 Conduct a combustion safety inspection | E41: =IF(ISBLANK('Phase 2 IAQ Assessment'!D62),"INCOMPLETE",'Phase 2 IAQ Assessment'!D62) -> INCOMPLETE | F41: =IF('Phase 2 IAQ Assessment'!E62="[Select Dropdown]","INCOMPLETE",'Phase 2 IAQ Assessment'!E62) -> INCOMPLETE | G41: =IF(ISBLANK('Phase 2 IAQ Investigation'!D62),"INCOMPLETE",'Phase 2 IAQ Investigation'!D62) -> INCOMPLETE | H41: ='Phase 2 IAQ Investigation'!E62 -> INCOMPLETE
...

Sheet Program Plan
B1: v25.1.0 - 2025.02
B2: Phius REVIVE 2024 Pilot Programming Worksheet | J2: Cx Program Scope & Objectives
B3: Building Triage and Ranking | E3: General | G3: Owner Name: | J3: Program Mission Statement: | K3: [Purpose for Retrofitting]
G4: Submitter Name:
G5: CPHC CxP Name: | J5: Additional Notes:
G6: CPHC CxP #:
G7: Street Address:
G8: City:
G9: State: | I9: [Select Dropdown]
G10: Zip Code:
G11: County:
E12: Facility Identification | J12: Ranking Metrics
E13: Facility Rank | F13: Building Name | G13: Existing Function | H13: Approximate iCFA (sf) | I13: Intended Function | J13: Intended Building Life | K13: Building Function | L13: Climate Migration Score | M13: Maintenance Needs
E14: 1 | G14: [Select Dropdown] | I14: [Select Dropdown] | J14: [Select Dropdown] | K14: [Select Dropdown] | L14: =_xlfn.IFNA('Rationale for Retrofit'!G26,"-") -> - | M14: [Select Dropdown] | N14: =IF(M14="Minimal ",2,(IF(M14="Moderate ",4,(IF(M14="Considerable ",6,IF(M14="Extreme",8,IF(M14="Unsure",2,0))))))) -> 0
E15: 2 | G15: [Select Dropdown] | H15: [Enter value] | I15: [Select Dropdown] | J15: [Select Dropdown] | K15: [Select Dropdown] | L15: ='Rationale for Retrofit'!$G$25 -> - | M15: [Select Dropdown] | N15: =IF(M15="Minimal",0,(IF(M15="Moderate ",0.5,(IF(M15="Considerable ",1,0))))) -> 0 | O15: =IF(ISBLANK(F15),30,SUM(E15,N15:N15)) -> 30
E16: 3 | G16: [Select Dropdown] | H16: [Enter value] | I16: [Select Dropdown] | J16: [Select Dropdown] | K16: [Select Dropdown] | L16: ='Rationale for Retrofit'!$G$25 -> - | M16: [Select Dropdown] | N16: =IF(M16="Minimal",0,(IF(M16="Moderate ",0.5,(IF(M16="Considerable ",1,0))))) -> 0 | O16: =IF(ISBLANK(F16),30,SUM(E16,N16:N16)) -> 30
E17: 4 | G17: [Select Dropdown] | H17: [Enter value] | I17: [Select Dropdown] | J17: [Select Dropdown] | K17: [Select Dropdown] | L17: ='Rationale for Retrofit'!$G$25 -> - | M17: [Select Dropdown] | N17: =IF(M17="Minimal",0,(IF(M17="Moderate ",0.5,(IF(M17="Considerable ",1,0))))) -> 0 | O17: =IF(ISBLANK(F17),30,SUM(E17,N17:N17)) -> 30
E18: 5 | G18: [Select Dropdown] | H18: [Enter value] | I18: [Select Dropdown] | J18: [Select Dropdown] | K18: [Select Dropdown] | L18: ='Rationale for Retrofit'!$G$25 -> - | M18: [Select Dropdown] | N18: =IF(M18="Minimal",0,(IF(M18="Moderate ",0.5,(IF(M18="Considerable ",1,0))))) -> 0 | O18: =IF(ISBLANK(F18),30,SUM(E18,N18:N18)) -> 30
E19: 6 | G19: [Select Dropdown] | H19: [Enter value] | I19: [Select Dropdown] | J19: [Select Dropdown] | K19: [Select Dropdown] | L19: ='Rationale for Retrofit'!$G$25 -> - | M19: [Select Dropdown] | N19: =IF(M19="Minimal",0,(IF(M19="Moderate ",0.5,(IF(M19="Considerable ",1,0))))) -> 0 | O19: =IF(ISBLANK(F19),30,SUM(E19,N19:N19)) -> 30
E20: 7 | G20: [Select Dropdown] | H20: [Enter value] | I20: [Select Dropdown] | J20: [Select Dropdown] | K20: [Select Dropdown] | L20: ='Rationale for Retrofit'!$G$25 -> - | M20: [Select Dropdown] | N20: =IF(M20="Minimal",0,(IF(M20="Moderate ",0.5,(IF(M20="Considerable ",1,0))))) -> 0 | O20: =IF(ISBLANK(F20),30,SUM(E20,N20:N20)) -> 30
E21: 8 | G21: [Select Dropdown] | H21: [Enter value] | I21: [Select Dropdown] | J21: [Select Dropdown] | K21: [Select Dropdown] | L21: ='Rationale for Retrofit'!$G$25 -> - | M21: [Select Dropdown] | N21: =IF(M21="Minimal",0,(IF(M21="Moderate ",0.5,(IF(M21="Considerable ",1,0))))) -> 0 | O21: =IF(ISBLANK(F21),30,SUM(E21,N21:N21)) -> 30
E22: 9 | G22: [Select Dropdown] | H22: [Enter value] | I22: [Select Dropdown] | J22: [Select Dropdown] | K22: [Select Dropdown] | L22: ='Rationale for Retrofit'!$G$25 -> - | M22: [Select Dropdown] | N22: =IF(M22="Minimal",0,(IF(M22="Moderate ",0.5,(IF(M22="Considerable ",1,0))))) -> 0 | O22: =IF(ISBLANK(F22),30,SUM(E22,N22:N22)) -> 30
E23: 10 | G23: [Select Dropdown] | H23: [Enter value] | I23: [Select Dropdown] | J23: [Select Dropdown] | K23: [Select Dropdown] | L23: ='Rationale for Retrofit'!$G$25 -> - | M23: [Select Dropdown] | N23: =IF(M23="Minimal",0,(IF(M23="Moderate ",0.5,(IF(M23="Considerable ",1,0))))) -> 0 | O23: =IF(ISBLANK(F23),30,SUM(E23,N23:N23)) -> 30
E24: 11 | G24: [Select Dropdown] | H24: [Enter value] | I24: [Select Dropdown] | J24: [Select Dropdown] | K24: [Select Dropdown] | L24: ='Rationale for Retrofit'!$G$25 -> - | M24: [Select Dropdown] | N24: =IF(M24="Minimal",0,(IF(M24="Moderate ",0.5,(IF(M24="Considerable ",1,0))))) -> 0 | O24: =IF(ISBLANK(F24),30,SUM(E24,N24:N24)) -> 30
E25: 12 | G25: [Select Dropdown] | H25: [Enter value] | I25: [Select Dropdown] | J25: [Select Dropdown] | K25: [Select Dropdown] | L25: ='Rationale for Retrofit'!$G$25 -> - | M25: [Select Dropdown] | N25: =IF(M25="Minimal",0,(IF(M25="Moderate ",0.5,(IF(M25="Considerable ",1,0))))) -> 0 | O25: =IF(ISBLANK(F25),30,SUM(E25,N25:N25)) -> 30
E26: 13 | G26: [Select Dropdown] | H26: [Enter value] | I26: [Select Dropdown] | J26: [Select Dropdown] | K26: [Select Dropdown] | L26: ='Rationale for Retrofit'!$G$25 -> - | M26: [Select Dropdown] | N26: =IF(M26="Minimal",0,(IF(M26="Moderate ",0.5,(IF(M26="Considerable ",1,0))))) -> 0 | O26: =IF(ISBLANK(F26),30,SUM(E26,N26:N26)) -> 30
... E33: 20 | G33: [Select Dropdown] | H33: [Enter value] | I33: [Select Dropdown] | J33: [Select Dropdown] | K33: [Select Dropdown] | L33: ='Rationale for Retrofit'!$G$25 -> - | M33: [Select Dropdown] | N33: =IF(M33="Minimal",0,(IF(M33="Moderate ",0.5,(IF(M33="Considerable ",1,0))))) -> 0 | O33: =IF(ISBLANK(F33),30,SUM(E33,N33:N33)) -> 30

Sheet Rationale for Retrofit
B1: v25.1.0 - 2025.02
B2: Phius REVIVE 2024 Pilot Workbook | G2: CxP Required Information | I2: Cx Team Notes
E3: General | F3: Building/Facility Name: | G3: =IF(ISBLANK('Program Plan'!F14),"Please complete 'Program Plan' tab below",'Program Plan'!F14) -> Please complete 'Program Plan' tab below
F4: Owner Name: | G4: =IF(ISBLANK('Program Plan'!I3),"Please complete 'Program Plan' tab below",'Program Plan'!I3) -> Please complete 'Program Plan' tab below
F5: Submitter Name: | G5: =IF(ISBLANK('Program Plan'!I4),"Please complete 'Program Plan' tab below",'Program Plan'!I4) -> Please complete 'Program Plan' tab below
F6: CPHC CxP Name: | G6: =IF(ISBLANK('Program Plan'!I5),"Please complete 'Program Plan' tab below",'Program Plan'!I5) -> Please complete 'Program Plan' tab below
F7: CPHC CxP #: | G7: =IF(ISBLANK('Program Plan'!I6),"Please complete 'Program Plan' tab below",'Program Plan'!I6) -> Please complete 'Program Plan' tab below
F8: Project Address: | G8: =IF(ISBLANK('Program Plan'!I7),"Please complete 'Program Plan' tab below",'Program Plan'!I7) -> Please complete 'Program Plan' tab below
F9: City: | G9: =IF(ISBLANK('Program Plan'!I8),"Please complete 'Program Plan' tab below",'Program Plan'!I8) -> Please complete 'Program Plan' tab below
F10: State: | G10: =IF('Program Plan'!I9="[Select Dropdown]","Please complete 'Program Plan' tab below",'Program Plan'!I9) -> Please complete 'Program Plan' tab below
F11: Zip Code: | G11: =IF(ISBLANK('Program Plan'!I10),"Please complete 'Program Plan' tab below",'Program Plan'!I10) -> Please complete 'Program Plan' tab below
B12: Rationale for Retrofit | E12: 4.5.1.1 Intended Building Life: | G12: [Select Dropdown] | H12: =IF(G12="5-10 years",5,IF(G12="10-20 years ",4,(IF(G12="20-30 years ",3,(IF(G12="30-50 years ",2,(IF(G12="50-70 years",1,IF(OR(G12="Indefinite / Permanent",G12="70-100 years"),0,"inc"))))))))) -> inc
E13: 4.5.1.2 Building Functionality: | G13: [Select Dropdown]
E14: Existing Function | F14: Residential: | G14: [Select Dropdown]
F15: Non-Residential: | G15: [Select Dropdown]
E16: New Function | F16: Residential: | G16: [Select Dropdown]
F17: Non-Residential: | G17: [Select Dropdown]
E18: 4.5.1.3 Site and Land Use: | G18: Climate migration risk values will automatically populate based on the Climate Migration Map published by PROPUBLICA based on the County defined in the 'Program Plan' tab below. | I18: Cx Team Notes
E19: 4.5.1.3.1 Climate Migration | F19: Project County: | G19: =IF('Program Plan'!I11="[Select Dropdown]","Please complete 'Program Plan' tab below",'Climate Risk'!B1) -> [Select Dropdown],
F20: Heat Risk: | G20: =_xlfn.IFNA(VLOOKUP('Climate Risk'!$B$1,'Climate Risk'!$B$2:$L$3109,5,FALSE),"-") -> -
F21: Wet Bulb Risk: | G21: =_xlfn.IFNA(VLOOKUP('Climate Risk'!$B$1,'Climate Risk'!$B$2:$L$3109,6,FALSE),"-") -> -
F22: Farm Crop Risk: | G22: =_xlfn.IFNA(VLOOKUP('Climate Risk'!$B$1,'Climate Risk'!$B$2:$L$3109,7,FALSE),"-") -> -
F23: Sea Level Rise Risk: | G23: =_xlfn.IFNA(VLOOKUP('Climate Risk'!$B$1,'Climate Risk'!$B$2:$L$3109,8,FALSE),"-") -> -
F24: Wildfire Risk: | G24: =_xlfn.IFNA(VLOOKUP('Climate Risk'!$B$1,'Climate Risk'!$B$2:$L$3109,9,FALSE),"-") -> -
F25: Economic Risk | G25: =_xlfn.IFNA(VLOOKUP('Climate Risk'!$B$1,'Climate Risk'!$B$2:$L$3109,10,FALSE),"-") -> - | H25: =_xlfn.IFNA(G25,"0") -> -
F26: Combined Risk: | G26: =_xlfn.IFNA(VLOOKUP('Climate Risk'!$B$1,'Climate Risk'!$B$2:$L$3109,11,FALSE),"-") -> - | H26: =G26 -> -
E27: 4.5.1.3.2 Zoning | F27: Typical Zoning Designation: | G27: [Select Dropdown]
F28: Specific Zoning Code: | G28: [Enter Zoning Code (i.e. R-1)]
F29: Variance Needed? | G29: [Select Dropdown]
B30: Final Considerations & Cx Team Acceptance: | G30: =IF(OR(H12="inc"),"Please complete 'Program Plan' tab below and all dropdown options above",IF(AND(H26<26,OR(H12<2,H12=2)),'Options 2024 '!B194,IF(AND(OR(H26=26,H26>26),H12>2),'Options 2024 '!B195,'Options 2024 '!B196))) -> Please complete 'Program Plan' tab below and all dropdown options above | H30: =SUM(H12,H26,'Program Plan'!N14) -> 0
B32: 1
B33: 2
B34: 3
B35: 4
B36: 5
B37: 6
B38: 7
B39: 8
B40: 9
B41: 10
...

Sheet Hazard Mitigation
B1: v25.1.0 - 2025.02
B2: Phius REVIVE 2024 Pilot Workbook: Assessment | F2: 5.2 Hazard Mitigation Use the resources for each hazard category below to determine which hazard mitigation requirements will be needed for certification. Use the '+' to the left to expand each section.
B3: Multifamily / Mixed-use / Non-Residential Requirements
B4: EARTHQUAKE
B5: 5.2.1 Earthquake | C5: Seismic Deisgn Category (SDC): | F5: [Select Dropdown]
C6: IRC 2021 R301.2.2
C7: w/i scope of FEMA P-50? (SF detached, wood frame) | F7: n/a
C8: Seismic Performance Grade: | F8: n/a
C9: Simplified Seismic Assessment Form
C10: Certification Requirement: | F10: =IF(F5="[Select Dropdown]","-",IF(OR(F5="C",F5="D",F5="E"),"Improvements require signoff by licensed engineer at Design Cert","No requirement")) -> -
C11: Compliance Resources: | F11: -
B12: FLOOD
B13: 5.2.2 Flood | C13: FEMA Flood Zone (first letter only): | F13: [Select Dropdown]
C14: How to Read a Flood Map (2022)
C15: Certification Requirement: | F15: =IF(F13="[Select Dropdown]","-",IF(OR(F13="V",F13="A",F13="B",F13="D",F13="X-shaded"),"All electrical / mechanical systems & connections must be elevated above the 500-yr flood level OR 3ft min. above the Base Flood Elevation (BFE) OR Implement permanent dry flood protecion","No requirement")) -> -
C16: Compliance Resources: | F16: IBHS FORTIFIED Commercial (Sec 3.2.4 & 3.2.5)
B17: HAIL
B18: 5.2.3 Hail | C18: Certification Requirement: | F18: PV Modules must be FM Approved for hail. Refer to Section 3.3.2.2 of the Phius 2024 Certification Guidebook for alternate compliance paths for Flexible and Rigid PV Panels
B19: STRUCTURAL / HIGH WIND
B20: 5.2.4 Structural & High Wind | C20: Dry stack foundation? | F20: n/a
C21: IBHS FORTIFIED HOME Fig 2.1, 2.2, &2.3
C22: Ultimate design wind speed (Vult): | F22: n/a
C23: IRC 2021 R301.2.1(1)
C24: Certification Requirement (Foundation): | F24: n/a
C25: Certification Requirement (Roof): | F25: IBHS FORTIFIED Commercial, Sec 3.1 FORTIFIED Roof
C26: Compliance Resources: | F26: IBHS FORTIFIED Commercial (Sec 3.1)
B29: SNOW LOAD & ICE DAMS
B30: 5.2.5 Snow Load and Ice Dams | C30: History of ice dams? | F30: [Select Dropdown]
C31: Certification Requirement: | F31: =IF(F30="[Select Dropdown] ","-",IF(F30="Yes","Diagnose & mitigate","n/a")) -> -
C32: Compliance Resources: | F32: Lstiburek, 2018
B33: WILDFIRE
B34: 5.2.6 Wildfire | C34: FEMA Designated wildfire risk: | F34: [Select Dropdown]
C35: FEMA Wildfire Map
C36: Certification Requirement: | F36: =IF(F34="[Select Dropdown]","-",IF(F34="Relatively Moderate / Relatively High / Very High ","Complete the actions listed or implied by the Defensible Space & Home Hardening Self-Inspection Checklist","No requirement")) -> -
C37: Compliance Resources: | F37: Berkely Fire Dept Checklist

Sheet Owner Worksheet
B1: v25.1.0 - 2025.02
B2: Phius REVIVE 2024 Pilot Workbook: Owner Worksheet | G2: 8.6.1 Facility Information | H2: Additional Notes
E3: Facility Summary | F3: Project Name: | G3: =IF(ISBLANK('Program Plan'!F14),"Please enter building name in 'Program Plan' tab below",'Program Plan'!F14) -> Please enter building name in 'Program Plan' tab below
F4: Year Constructed: | G4: [Select Dropdown] | J4: Required input cells. | K4: Calculated. | L4: Output for WUFI
F5: Known Prior Renovations? | G5: [Select Dropdown] | J5: Required dropdown menu inputs. | K5: Calculated from another sheet. | L5: Constants & Instructions
F6: Existing iCFA (sf): | G6: =IF(ISBLANK('Program Plan'!H14),"Please enter approximate iCFA in 'Program Plan' tab below",'Program Plan'!H14) -> Please enter approximate iCFA in 'Program Plan' tab below
F7: Number of Existing Units: | G7: [Enter value] | H7: Hint: Enter 0 for non-residential Projects
F8: Number of Planned Units | G8: [Enter value] | H8: Hint: Enter 0 for non-residential Projects
F9: Existing Occupancy: | G9: [Enter value] | H9: Hint: Total building occupant quanitity
F10: Roof / Ceiling Insulation: | G10: [Select Dropdown]
F11: Wall Construction: | G11: [Select Dropdown]
F12: Foundation Type: | G12: [Select Dropdown]
F13: Cooling System: | G13: [Select Dropdown]
F14: Heating System: | G14: [Select Dropdown]
F15: Hot Water System: | G15: [Select Dropdown]
F16: Ventilation System: | G16: [Select Dropdown]
E17: Available Facility Documents | F17: Construction Documents: | G17: [Select Dropdown]
F18: Sytems / Facility Manuals: | G18: [Select Dropdown]
F19: Existing consultant reports: | G19: [Select Dropdown]
F20: Utility rates / supplier info: | G20: [Select Dropdown]
F21: Utility meter / submeter location: | G21: [Select Dropdown]
F22: Operations / maintenance report: | G22: [Select Dropdown]
F23: Annual maintence cost breakdown: | G23: [Select Dropdown]
F24: Onsite energy production: | G24: [Select Dropdown]
F25: Low-cost walkthrough budget: | G25: [Select Dropdown] | H25: Hint: Items that can be immediately addressed during a walkthrough, for example installing smoke/CO2 alarms or replacing the batteries, providing a fire extinguisher, etc.
G26: 8.6.2 Occupant Survey | H26: Additional Notes
E27: General | F27: Age Range of (primary) Occupants: | G27: [Select Dropdown]
E28: Noise | F28: Acoustical Privacy: | G28: [Select Dropdown]
F29: Ambient noise negatively impacting concentration: | G29: [Select Dropdown]
E30: Thermal | F30: Perception of Summer comfort: | G30: [Select Dropdown]
F31: Perception of Winter comfort: | G31: [Select Dropdown]
E32: Visual | F32: Adequate lighting for tasks / activities: | G32: [Select Dropdown]
F33: Light quality: | G33: [Select Dropdown]
F34: Lighting color discrimination: | G34: [Select Dropdown]
F35: Problematic light flicker: | G35: [Select Dropdown]
F36: Glare: | G36: [Select Dropdown]
F37: Difficulty seeing computer screen: | G37: [Select Dropdown]
F38: Adequacy of light levels: | G38: [Select Dropdown]
E39: Indoor air quality | F39: Air Quality (general): | G39: [Select Dropdown]
F40: Unpleasant odors: | G40: [Select Dropdown]

Sheet Current Facility Requirements
B1: v25.1.0 - 2025.02
B2: Phius REVIVE 2024 Pilot Workbook: Current Facility Requirements (CFR)
B3: Facility Summary The Cx team should interpret and synthesize the information provided by the Owner up to this point. Create a comprehensive project narrative in the space to the right | E3: [Write a brief facility summary HERE once facility requirements are determined below]
B4: General Requirement: | E4: The retrofitted building shall meet the requirements of Phius REVIVE 2024 Pilot. The retrofitted building shall also meet the owner-directed and owner-elected requirements listed below.
B5: Onwer-Elected Facility Requirements Each owner-elected deliverable must be completed, proven, and accepted by Phius in order to become Final Certified. The Cx Team will be expected to address deliverables during Phase 2: Design | E5: Requirement ID Work with the Owner to define specific facility requirements. Create a unique name for each owner-elected deliverable below | F5: Description Briefly describe each owner-elected requirement | G5: Date Added
B6: 8.6.4.1 Facility Requirements | C6: FR1 Regulatory | D6: FR1.1
D7: FR1.2
D8: FR1.3
D9: FR1.4
D10: FR1.5
C11: FR2 Financial | D11: FR2.1
D12: FR2.2
D13: FR2.3
D14: FR2.4
D15: FR2.5
C16: FR3 Functional | D16: FR3.1
D17: FR3.2
D18: FR3.3
D19: FR3.4
D20: FR3.5
C21: FR4 Preferred Vendors | D21: FR4.1
D22: FR4.2
D23: FR4.3
D24: FR4.4
D25: FR4.5
C26: 8.6.4.1.1 *Critical Loads & Occupancy | E26: Use the 'Critical Loads & Occ' tab below to define information on critical process loads and occupancy schedules during outage periods. For non-residential projects only.
B27: Ongoing Comissioning / Measurement & Verification Non-residential project teams should confirm their intent to register with Energy Star Portfolio Manager using the Dropdown menu below (7.4.1). ALL other M&V items below are electives ONLY and will not impact certification. | E27: M&V Electives | F27: Additional Notes | G27: Date Added
B28: 8.6.4.2 OCx / M&V Elevtives | C28: 7.1 Indoor Environment | D28: Hazardous Gas 7.1.1 | E28: [Select Dropdown]
D29: IEQ 7.1.2 | E29: [Select Dropdown]
C30: 7.2 Energy End-Use | D30: MELs 7.2.1 | E30: [Select Dropdown]
D31: Dehumidification 7.2.2 | E31: [Select Dropdown]
D32: Heating 7.2.3 | E32: [Select Dropdown]
D33: Cooling 7.2.4 | E33: [Select Dropdown]
D34: DHW 7.2.5 | E34: [Select Dropdown]
D35: Lighting 7.2.6 | E35: [Select Dropdown]
D36: Appliances 7.2.7 | E36: [Select Dropdown]
D37: Humidification 7.2.8 | E37: [Select Dropdown]
C38: 7.3 Water Quality | D38: RESET 7.3.1 | E38: [Select Dropdown]
C39: *7.4 Waste / Materials | D39: ES Portfolio Mgr. 7.4.1 | E39: [Select Dropdown]
B40: *Required for Nonresidential Projects only

Sheet Phase 2 IAQ Assessment
B1: v25.1.0 - 2025.02
B2: Phius REVIVE 2024 Pilot Workbook: Assessment
B3: Instructions | D3: Site Visit Log
B4: Phase 2 (part 1): Assessment 8.6.5.1 IAQ Assessment Site Visit Planning With respect to the EPA energy savings plus health documents, list the assessment protocol items that can be accomplished in a walkthrough in columns 'E' and 'F'. Expand each section using the '+' to the left. Complete the initial assessment site visit once each Assessment Protocol item is addressed. Then, complete columns 'G' and 'H' to indicate the findings of the site visit.The EBCx team should use the site visit log to the right to record the overall status of the Assessment phase, the date of each visit, and any valuable site visit notes. During these site visits, the Cx Team should also collect measurements and begin compiling existing building documentation. | D4: Team Members | E4: Assessment Complete? | F4: Date | G4: Notes
E5: [Select Dropdown]
E6: [Select Dropdown]
E7: [Select Dropdown]
E8: [Select Dropdown]
E9: [Select Dropdown]
B10: EPA Energy Savings Plus Health IAQ Guidelines | E10: [Select Dropdown]
B11: Priority Issue 1: Asbestos | D11: CxP Assessment Planning Notes Complete pre-assessment | E11: Assess or Defer | F11: CxP Assessment Reporting Notes Complete post-assessment | G11: Status?
B12: Asbestos | C12: AP1.1 Determine Potential Asbestos Hazard | E12: [Select Dropdown] | G12: [Select Dropdown]
B13: Priority Issue 2: Below Ground Contaminants (Except Radon) | D13: CxP Assessment Planning Notes Complete pre-assessment | E13: Assess or Defer | F13: CxP Assessment Reporting Notes Complete post-assessment | G13: Status?
B14: Below Ground Contaminants (except radon) | C14: AP2.1 Evaluate potential sources and odors | E14: [Select Dropdown] | G14: [Select Dropdown]
C15: AP2.2 Evaluate Sewer Vent System | E15: [Select Dropdown] | G15: [Select Dropdown]
C16: AP2.3 Take proper action if odor source cannot be identified | E16: [Select Dropdown] | G16: [Select Dropdown]
C17: AP2.4 Conduct further assessment if contamination is suspected | E17: [Select Dropdown] | G17: [Select Dropdown]
B18: Priority Issue 3: Building Products & Material Emissions | D18: CxP Assessment Planning Notes Complete pre-assessment | E18: Assess or Defer | F18: CxP Assessment Reporting Notes Complete post-assessment | G18: Status?
B19: Building Products / Material Emissions | C19: AP3.1 Review content & emissions documentation for new products | E19: [Select Dropdown] | G19: [Select Dropdown]
C20: AP3.2 Carpet | E20: [Select Dropdown] | G20: [Select Dropdown]
C21: AP3.3 Ventilation | E21: [Select Dropdown] | G21: [Select Dropdown]
B22: Priority Issue 4: Environmental Tobacco Smoke | D22: CxP Assessment Planning Notes Complete pre-assessment | E22: Assess or Defer | F22: CxP Assessment Reporting Notes Complete post-assessment | G22: Status?
B23: Environmental Tobacco Smoke | C23: AP4.1 Determine whether there is a smoke-free policy | E23: [Select Dropdown] | G23: [Select Dropdown]
C24: AP4.2 Identify occupants' smoking-related concerns | E24: [Select Dropdown] | G24: [Select Dropdown]
C25: AP4.3 Asses whether compartmentalization is a possible ETS control strategy in building w/o a smoke-free policy | E25: [Select Dropdown] | G25: [Select Dropdown]
B26: Priority Issue 5: Garage Air Pollutants (Carbon monoxide, benzene, and other VOCs) | D26: CxP Assessment Planning Notes Complete pre-assessment | E26: Assess or Defer | F26: CxP Assessment Reporting Notes Complete post-assessment | G26: Status?
B27: Garage Air Pollutants | C27: AP5.1 Identify Location & Configuration of Garages | E27: [Select Dropdown] | G27: [Select Dropdown]
C28: AP5.2 Check for HVAC Systems Inside Garage | E28: [Select Dropdown] | G28: [Select Dropdown]
C29: AP5.3 Locate Air Leaks | E29: [Select Dropdown] | G29: [Select Dropdown]
C30: AP5.4 Determine presence of combustion applicances or engines | E30: [Select Dropdown] | G30: [Select Dropdown]
C31: AP5.5 Occupant Complaints | E31: [Select Dropdown] | G31: [Select Dropdown]
B32: Priority Issue 6: Lead | D32: CxP Assessment Planning Notes Complete pre-assessment | E32: Assess or Defer | F32: CxP Assessment Reporting Notes Complete post-assessment | G32: Status?
B33: Lead | C33: AP6.1 Assess Paint Conditions | E33: [Select Dropdown] | G33: [Select Dropdown]
C34: AP6.2 Testing Method | E34: [Select Dropdown] | G34: [Select Dropdown]
B35: Priority Issue 7: Moisture & Mold | D35: CxP Assessment Planning Notes Complete pre-assessment | E35: Assess or Defer | F35: CxP Assessment Reporting Notes Complete post-assessment | G35: Status?
B36: Moisture & Mold | C36: AP7.1 Inspect for Moisture Problems | E36: [Select Dropdown] | G36: [Select Dropdown]
C37: AP7.2 Determine Whether Mold Remediation is Required | E37: [Select Dropdown] | G37: [Select Dropdown]
C38: AP7.3 Identify Moisture or Mold Problems to Address before Upgrades | E38: [Select Dropdown] | G38: [Select Dropdown]
C39: AP7.4 Identify Moisture Problems that may Limit Upgrades | E39: [Select Dropdown] | G39: [Select Dropdown]
B40: Priority Issue 8: Outdoor Air Sources and Conditions | D40: CxP Assessment Planning Notes Complete pre-assessment | E40: Assess or Defer | F40: CxP Assessment Reporting Notes Complete post-assessment | G40: Status?
...

Sheet Phase 2 IAQ Investigation
B1: v25.1.0 - 2025.02
B2: Phius REVIVE 2024 Pilot Workbook: Investigation
B3: Instructions | D3: Site Visit Log
B4: Phase 2 (part 2): Investigation 8.7.6.1 IAQ Investigation Site Visit Planning With respect to the EPA energy savings plus health documents, create a plan for investigation and testing for all remaining Assessment Protocol items that were not addressed during the Assessment Phase in columns 'E' and 'F'. Expand each section using the '+' to the left. Complete the investigation site visit once each remaining Assessment Protocol item is addressed. Then, complete columns 'G' and 'H' to indicate the final findings of the site visits. The EBCx team should use the site visit log to the right to record the overall status of the Investigation phase, the date of each visit, and any valuable site visit notes. By the end of the investigation phase, the Cx Team should hace all necessary existing building documentation needed to complete initial performance modeling and establish the baseline case. | D4: Team Members | E4: Investigation Complete? | F4: Date | G4: Notes
E5: [Select Dropdown]
E6: [Select Dropdown]
E7: [Select Dropdown]
E8: [Select Dropdown]
E9: [Select Dropdown]
E10: [Select Dropdown]
B11: Priority Issue 1: Asbestos | D11: CxP Investigation Planning Notes Complete pre-investigation | E11: Current status? | F11: CxP Investigation Reporting Notes Complete post-investigation | G11: Final status?
B12: Asbestos | C12: AP1.1 Determine Potential Asbestos Hazard | E12: =IF('Phase 2 IAQ Assessment'!G12="[Select Dropdown]","INCOMPLETE",'Phase 2 IAQ Assessment'!G12) -> INCOMPLETE | G12: [Select Dropdown]
