Workbook
Name _R1: '[1]Fastener Correction'!#REF!
Name Af: '[1]Fastener Correction'!#REF!
Name Ar: '[2]Fastener Correction'!#REF!
Name d0: '[1]Fastener Correction'!#REF!
Name d1_: '[1]Fastener Correction'!#REF!
Name ef: '[1]Fastener Correction'!#REF!
Name Fensterdaten: #REF!
Name lmf: '[1]Fastener Correction'!#REF!
Name NameDrop: '[1]Common Areas (MF)'!#REF!:INDEX('[1]Common Areas (MF)'!#REF!,MAX('[1]Common Areas (MF)'!#REF!),1)
Name nf: '[1]Fastener Correction'!#REF!
Name re: '[2]Fastener Correction'!#REF!
Name Rooms: [1]!Room_Type[Room Type]
Name RTh: '[1]Fastener Correction'!#REF!

Sheet Calculation
B1: v26.2.0 - 2026.09
A2: Phius Pool Energy Use Estimator | F2: Notes / Instructions
F3: Required dropdown menu inputs. | I3: Required inputs. | K3: Result for WUFI Passive / METr
I4: Calculation. | K4: Instructions.
A6: 1 | B6: Project Information | F6: Step 1: Select the Certification Standard sought. (only impacts non-electric heaters)
B7: Phius Standard: | C7: -Select-
A9: 2 | B9: Pool Information | F9: Step 2: Input the surface area of the pool. Input the average depth of the pool. Input the planned temperature to which the pool will be heated. Select if a pool cover will be provided (and used at night). Confirm if the pool is inside or outside. If outside: Choose Country. Choose State or Province. Choose appropriate Climate Data. Input first planned month open. Input last planned month open. Confirm if screened from wind. (2 m/s screened, 4 m/s unscreened)
B10: Surface Area: | D10: ft2
B11: Average Pool Depth [LD]: | D11: ft
B12: Pool Temperature: | D12: °F (75-86 typ.)
B13: Pool Cover Type: | C13: -Select-
B14: Pool Location: | C14: -Select-
B15: =IF(C14="Inside","n/a","Country:") -> Country: | C15: -Select-
B16: =IF(C14="Inside","n/a",IF(C15="Canada","Province:","State:")) -> State: | C16: -Select-
B17: =IF(C14="Inside","n/a","Climate Data:") -> Climate Data: | C17: -Select-
B18: =IF(C14="Inside","n/a","First Month Open:") -> First Month Open: | C18: -Select-
B19: =IF(C14="Inside","n/a","Last Month Open:") -> Last Month Open: | C19: -Select-
B20: =IF(C14="Inside","n/a","Wind Screening:") -> Wind Screening: | C20: -Select-
A22: 3 | B22: Pool Heater Information | F22: Step 3: Select the fuel type of the pool heating system. Input the efficiency of the heating system as a decimal. ex: Electric resistance heater = 1.00. 90% natural gas system = 0.90.
B23: Fuel Type: | C23: -Select-
B24: System Efficiency: | D24: 100% = 1
A27: 4 | B27: Values for WUFI Passive / METr | F27: Step 4: System > Distribution > Supportive Device Uncheck the box for 'Use Default Values' and click 'New'. Set the device type to 'Other'. Input '1'. Always leave the box 'unchecked' to not impact internal gains. Input the calculated energy demand. Input '1'.
B28: Name: | C28: Pool Heating Energy Use
B29: Device Type: | C29: Other
B30: Quantity: | C30: 1
B31: In Conditioned Space: | C31: FALSE
B32: Energy Demand: | C32: =IFERROR(VLOOKUP(Calculation!C23,'Pool Calc (Outdoor)'!B15:E17,HLOOKUP(Calculation!C7,'Pool Calc (Outdoor)'!C14:E18,5,FALSE),FALSE),"-") -> - | D32: W
B33: Period of Operation: | C33: 1 | D33: khr/yr
A35: 5 | B35: Values for WUFI Passive / METr | F35: Step 5: System > Distribution > Supportive Device Uncheck the box for 'Use Default Values' and click 'New'. Set the device type to 'Other'. Input '1'. Varies depending on location of the pool pump. Input the calculated energy demand. Input '1'.
B36: Name: | C36: Pool Pump Energy Use
B37: Device Type: | C37: Other
B38: Quantity: | C38: 1
B39: In Conditioned Space: | C39: FALSE
B40: Energy Demand: | C40: =IFERROR(((1/C55)*((C50*((C52*C10*C11)/C53))/C51)*C54*(1/1000))/3.412,"-") -> 0 | D40: W
B41: Period of Operation: | C41: 1 | D41: khr/yr
B43: Informational (Pool Heating Energy) | F43: Information for reference: Select the units for reference information. Input the surface area of the pool. Input the planned temperature to which the pool will be heated. Select if a pool cover will be provided (and used).
B44: Preferred Units: | C44: Select
B45: Pool Heating Energy: | C45: =IF(C44="kWh",'Pool Calc (Outdoor)'!C22,IF(C44="kBtu",'Pool Calc (Outdoor)'!C20,IF(C44="THERM",'Pool Calc (Outdoor)'!C21,"-"))) -> - | D45: =IF($C$44="Select","",$C$44&"/yr")
B46: Site Energy: | C46: =IFERROR(C45/C24,"-") -> - | D46: =IF($C$44="Select","",$C$44&"/yr")
B47: Source Energy: | C47: =IFERROR(C46*VLOOKUP(C23,'Pool Calc (Outdoor)'!B8:E10,HLOOKUP(Calculation!C7,'Pool Calc (Outdoor)'!C7:E11,5,FALSE),FALSE),"-") -> - | D47: =IF($C$44="Select","",$C$44&"/yr")
...

Sheet Update Tracker
A1: Version | B1: Date | C1: Notes
A2: v25.1.0 | B2: 45817 | C2: Updated calculation to account for pool size. Previous calculator only accounted for a 1,000 sf pool. | D2: Web Link
A3: v26.1.0 | B3: 46268 | C3: ENERGY STAR | Portfolio Manager | Technical Reference | Swimming Pools and the ENERGY STAR Score in the United States and Canada | July 2013 calculation for total pumping energy. Energypump = Pp x tp Pp = 1/C x Hloss x m1 / ηp m1 = ρ x Ap x Ld x τ | D3: https://www.energystar.gov/buildings/tools-and-resources/energy-star-score-swimming-pools | E3: Terms: tp = pump run time (hours/year) | F3: Terms: Pp = pump energy consumption rate (Btu/hr) C = 778.28, conversion factor from ft.lb/lbm to Btu/hr HLoss = Head loss (ft.lb/lbm) m1 = Pool water circulation rate (lbm/hd) ηp = pump overall efficiency (%) | G3: Terms: ρ = 64.02 constant for pool water density (lbm/ft3) Ap = Area pool (ft.lb/lbm) Ld = Average pool depth (ft) τ = time required purging a pool (hours/day)
A4: v26.2.0 | B4: 46283 | C4: Updated the pool heating energy calculations based on a total heat loss model equation: Qtotal = Qevap + Qconv + Qrad + Qmakeup Qevap = A x (pw - pa) x 0.089 x v0.04 Qconv = hc x A x (Tw - Ta) Qrad = A x Qr Qmakeup = Wr x (V x p x cp x dT / 24 x 3600) | D4: https://www.enginist.co/en/guides/heating/understanding-pool-heating | E4: Terms: Qevap = Evaporation heat loss Qconv = Convection heat loss Qrad = Radiation heat loss Qmakeup = Fresh water makeup heat | F4: Terms: A = Pool surface area (m2) pw = vapor pressure at water temp (Pa) pa = vapor pressure at air temp (Pa) v = Air velocity over pool surface (m/s) 0.089 = Empirical constant | G4: Terms: hc = Convection coefficient (5.7 + 3.8v) Tw = Temperature of the water (C) Ta = Temperature of the air (C) | H4: Terms: Qr = simplified radiation (W/m2) | I4: Terms: Wr = Water replacement per day (%) V = volume of pool (m3) p = 1,000 cp = 4,186 dT = Tw - Tfw Tfw = Temperature of incoming water

Sheet Pool Calc (Outdoor)
B2: Select
B3: THERM
B4: kBTU
B5: kWh
B7: ="-Select-" -> -Select- | C7: 2018 | D7: 2021 | E7: 2024
B8: Electric | C8: 2.8 | D8: 1.8 | E8: 2
B9: Natural Gas | C9: 1.1 | D9: 1.1 | E9: 1.1
B10: Bio-Fuel | C10: 0.2 | D10: 0.2 | E10: 0.2
B11: row of data | C11: 2 | D11: 3 | E11: 4
B14: Site Energy | C14: 2018 | D14: 2021 | E14: 2024
B15: =B8 -> Electric | C15: =C22/Calculation!C24 -> #DIV/0! | D15: =C22/Calculation!C24 -> #DIV/0! | E15: =C22/Calculation!C24 -> #DIV/0!
B16: =B9 -> Natural Gas | C16: =C15*C9/C8 -> #DIV/0! | D16: =D15*D9/D8 -> #DIV/0! | E16: =E15*E9/E8 -> #DIV/0!
B17: =B10 -> Bio-Fuel | C17: =C16*C10/C8 -> #DIV/0! | D17: =D16*D10/D8 -> #DIV/0! | E17: =E16*E10/E8 -> #DIV/0!
B18: row of data | C18: 2 | D18: 3 | E18: 4
B20: Annual Energy Use | C20: =C22*3.41214 -> 0 | D20: kBtu/yr
C21: =C20*0.010002388 -> 0 | D21: THERM/yr
C22: =IFERROR(IF(Calculation!C14="Inside",'Indoor Pool Heating Calc'!B5,'Outdoor Pool Heating Calc'!B5),0) -> 0 | D22: kWh/yr

Sheet Outdoor Pool Heating Calc
A1: Pool Heating Calculator | Enginist | F1: Qevap | G1: =(1-VLOOKUP(Calculation!C13,'Outdoor Pool Heating Calc'!A34:B39,2,FALSE))*(G2*(G3-G4)*0.089*G5^0.4)/1000 -> #DIV/0! | H1: kW
A2: Qtotal | B2: =G1+G16+G23+G29 -> #DIV/0! | C2: kW | F2: A | G2: =CONVERT(Calculation!C10,"ft^2","m^2") -> 0
B3: =B2*24 -> #DIV/0! | C3: kWh | F3: pw | G3: =(10^(8.07131-1730.63/(233.426+G6)))*133.322 -> 148.24019 | H3: Antoine Equation
A4: Total Heating Energy Use | F4: pa | G4: =SUMPRODUCT('Vapor Pressure Calc'!AB2:AM2,'Vapor Pressure Calc'!AB4:AM4)/SUMIF('Vapor Pressure Calc'!AB2:AM2,">0",'Vapor Pressure Calc'!AB4:AM4) -> #DIV/0!
A5: Energy Use | B5: =MROUND(B3*SUMIF('Vapor Pressure Calc'!AB2:AM2,">0",'Vapor Pressure Calc'!AB4:AM4),5) -> #DIV/0! | C5: kWh/yr | F5: v (m/s) | G5: =VLOOKUP(Calculation!C20,'Outdoor Pool Heating Calc'!A41:B43,2,FALSE) -> 4
F6: Water Temp [C] | G6: =CONVERT(Calculation!C12,"F","C") -> -17.777778
F16: Qconv | G16: =(G17*G18*(G19-G20))/1000 -> #DIV/0! | H16: kW
F17: hc (W/m2K) | G17: =5.7+3.8*G5 -> 20.9
F18: A | G18: =G2 -> 0
F19: Tw | G19: =CONVERT(Calculation!C12,"F","C") -> -17.777778
F20: Ta | G20: =SUMPRODUCT('Vapor Pressure Calc'!D2:O2,'Vapor Pressure Calc'!AB4:AM4)/SUMIF('Vapor Pressure Calc'!AB2:AM2,">0",'Vapor Pressure Calc'!AB4:AM4) -> #DIV/0!
A22: =IF(Calculation!C14="Inside","","-Select-") -> -Select- | B22: 7 | C22: =A22 -> -Select- | D22: 6
A23: January | B23: 1 | C23: July | D23: 7 | F23: Qrad (nighttime) | G23: =G25*G24/1000 -> 0 | H23: kW
A24: February | B24: 2 | C24: August | D24: 8 | F24: A | G24: =G2 -> 0
A25: March | B25: 3 | C25: September | D25: 9 | F25: nighttime (clear sky) | G25: =Calculation!C67*12/24 -> 50 | H25: W/m2
A26: April | B26: 4 | C26: October | D26: 10
A27: May | B27: 5 | C27: November | D27: 11
A28: June | B28: 6 | C28: December | D28: 12
F29: Qmakeup | G29: =((G30*G31*G32*G33)/(24*3600))/1000 -> 0 | H29: kW
A30: ="-Select-" -> -Select- | F30: V | G30: =G2*CONVERT(Calculation!C11,"ft","m")*G34 -> 0
A31: Inside | F31: p | G31: 1000
A32: Outside | F32: cp | G32: 4186
F33: dT | G33: =G19-CONVERT(Calculation!C65,"F","C") -> -27.777778
A34: ="-Select-" -> -Select- | F34: % Replacement | G34: =Calculation!C64 -> 0.05 | H34: outdoors
A35: None | B35: 0
A36: Thermal Bubble | B36: 0.6
A37: Solar | B37: 0.7
A38: Solid Safety | B38: 0.8
A39: Automatic | B39: 0.85
A41: ="-Select-" -> -Select- | B41: 4
A42: Screened | B42: 2
A43: Unscreened | B43: 4

Sheet Indoor Pool Heating Calc
A1: Pool Heating Calculator | Enginist | F1: Qevap | G1: =(1-VLOOKUP(Calculation!C13,'Indoor Pool Heating Calc'!A22:B27,2,FALSE))*(G2*(G3-G4)*0.089*G5^0.4)/1000 -> 0 | H1: kW
A2: Qtotal | B2: =G1+G16+G23+G29 -> 0 | C2: kW | F2: A | G2: =CONVERT(Calculation!C10,"ft^2","m^2") -> 0
B3: =B2*24 -> 0 | C3: kWh | F3: pw | G3: =(10^(8.07131-1730.63/(233.426+G6)))*133.322 -> 148.24019 | H3: Antoine Equation
A4: Total Heating Energy Use | F4: pa | G4: =0.6*6.105*EXP(17.27*G20/(237.7+G20))*100 -> 102.90998
A5: Energy Use | B5: =MROUND(B3*365,5) -> 0 | C5: kWh/yr | F5: v (m/s) | G5: 1.5 | H5: indoors
F6: Water Temp [C] | G6: =CONVERT(Calculation!C12,"F","C") -> -17.777778
F16: Qconv | G16: =(G17*G18*(G19-G20))/1000 -> 0 | H16: kW
F17: hc (W/m2K) | G17: =5.7+3.8*G5 -> 11.4
F18: A | G18: =G2 -> 0
F19: Tw | G19: =CONVERT(Calculation!C12,"F","C") -> -17.777778
F20: Ta | G20: ='Indoor Pool Heating Calc'!G19+1.5 -> -16.277778
A22: ='Outdoor Pool Heating Calc'!A34 -> -Select-
A23: ='Outdoor Pool Heating Calc'!A35 -> None | B23: ='Outdoor Pool Heating Calc'!B35 -> 0 | F23: Qrad | G23: =G25*G24/1000 -> 0 | H23: kW
A24: ='Outdoor Pool Heating Calc'!A36 -> Thermal Bubble | B24: ='Outdoor Pool Heating Calc'!B36 -> 0.6 | F24: A | G24: =G2 -> 0
A25: ='Outdoor Pool Heating Calc'!A37 -> Solar | B25: ='Outdoor Pool Heating Calc'!B37 -> 0.7 | F25: indoors | G25: =Calculation!C62 -> 20 | H25: W/m2
A26: ='Outdoor Pool Heating Calc'!A38 -> Solid Safety | B26: ='Outdoor Pool Heating Calc'!B38 -> 0.8
A27: ='Outdoor Pool Heating Calc'!A39 -> Automatic | B27: ='Outdoor Pool Heating Calc'!B39 -> 0.85
F29: Qmakeup | G29: =((G30*G31*G32*G33)/(24*3600))/1000 -> 0 | H29: kW
F30: V | G30: =G2*CONVERT(Calculation!C11,"ft","m")*G34 -> 0
F31: p | G31: 1000
F32: cp | G32: 4186
F33: dT | G33: =G19-CONVERT(Calculation!C59,"F","C") -> -27.777778
F34: % Replacement | G34: =Calculation!C58 -> 0.02 | H34: indoors

Sheet Vapor Pressure Calc
C1: 1 | D1: 2 | E1: 3 | F1: 4 | G1: 5 | H1: 6 | I1: 7 | J1: 8 | K1: 9 | L1: 10 | M1: 11 | N1: 12 | O1: 13 | P1: 14 | Q1: 15 | R1: 16 | S1: 17 | T1: 18 | U1: 19 | V1: 20 | W1: 21 | X1: 22 | Y1: 23 | Z1: 24 | AA1: 25 | AB1: 26 | AC1: 27 | AD1: 28 | AE1: 29 | AF1: 30 | AG1: 31 | AH1: 32 | AI1: 33 | AJ1: 34 | AK1: 35 | AL1: 36 | AM1: 37
C2: Data for Calculations | D2: =IF(AB2>0,VLOOKUP($C3,$C5:$O1500,D1,FALSE),0) -> 0 | E2: =IF(AC2>0,VLOOKUP($C3,$C5:$O1500,E1,FALSE),0) -> 0 | F2: =IF(AD2>0,VLOOKUP($C3,$C5:$O1500,F1,FALSE),0) -> 0 | G2: =IF(AE2>0,VLOOKUP($C3,$C5:$O1500,G1,FALSE),0) -> 0 | H2: =IF(AF2>0,VLOOKUP($C3,$C5:$O1500,H1,FALSE),0) -> 0 | I2: =IF(AG2>0,VLOOKUP($C3,$C5:$O1500,I1,FALSE),0) -> 0 | J2: =IF(AH2>0,VLOOKUP($C3,$C5:$O1500,J1,FALSE),0) -> 0 | K2: =IF(AI2>0,VLOOKUP($C3,$C5:$O1500,K1,FALSE),0) -> 0 | ... O2: =IF(AM2>0,VLOOKUP($C3,$C5:$O1500,O1,FALSE),0) -> 0 | AB2: =IF('Vapor Pressure Calc'!AB3>=VLOOKUP(Calculation!$C18,'Outdoor Pool Heating Calc'!$A22:$B28,2,FALSE),VLOOKUP($C3,$C6:$AM1501,AB1,FALSE),0) -> 0 | AC2: =IF('Vapor Pressure Calc'!AC3>=VLOOKUP(Calculation!$C18,'Outdoor Pool Heating Calc'!$A22:$B28,2,FALSE),VLOOKUP($C3,$C6:$AM1501,AC1,FALSE),0) -> 0 | AD2: =IF('Vapor Pressure Calc'!AD3>=VLOOKUP(Calculation!$C18,'Outdoor Pool Heating Calc'!$A22:$B28,2,FALSE),VLOOKUP($C3,$C6:$AM1501,AD1,FALSE),0) -> 0 | AE2: =IF('Vapor Pressure Calc'!AE3>=VLOOKUP(Calculation!$C18,'Outdoor Pool Heating Calc'!$A22:$B28,2,FALSE),VLOOKUP($C3,$C6:$AM1501,AE1,FALSE),0) -> 0 | AF2: =IF('Vapor Pressure Calc'!AF3>=VLOOKUP(Calculation!$C18,'Outdoor Pool Heating Calc'!$A22:$B28,2,FALSE),VLOOKUP($C3,$C6:$AM1501,AF1,FALSE),0) -> 0 | AG2: =IF('Vapor Pressure Calc'!AG3>=VLOOKUP(Calculation!$C18,'Outdoor Pool Heating Calc'!$A22:$B28,2,FALSE),VLOOKUP($C3,$C6:$AM1501,AG1,FALSE),0) -> 0 | AH2: =IF('Vapor Pressure Calc'!AH3<=VLOOKUP(Calculation!$C19,'Outdoor Pool Heating Calc'!$C22:$D28,2,FALSE),VLOOKUP($C3,$C6:$AM1501,AH1,FALSE),0) -> 0 | AI2: =IF('Vapor Pressure Calc'!AI3<=VLOOKUP(Calculation!$C19,'Outdoor Pool Heating Calc'!$C22:$D28,2,FALSE),VLOOKUP($C3,$C6:$AM1501,AI1,FALSE),0) -> 0 | AJ2: =IF('Vapor Pressure Calc'!AJ3<=VLOOKUP(Calculation!$C19,'Outdoor Pool Heating Calc'!$C22:$D28,2,FALSE),VLOOKUP($C3,$C6:$AM1501,AJ1,FALSE),0) -> 0 | AK2: =IF('Vapor Pressure Calc'!AK3<=VLOOKUP(Calculation!$C19,'Outdoor Pool Heating Calc'!$C22:$D28,2,FALSE),VLOOKUP($C3,$C6:$AM1501,AK1,FALSE),0) -> 0 | AL2: =IF('Vapor Pressure Calc'!AL3<=VLOOKUP(Calculation!$C19,'Outdoor Pool Heating Calc'!$C22:$D28,2,FALSE),VLOOKUP($C3,$C6:$AM1501,AL1,FALSE),0) -> 0 | AM2: =IF('Vapor Pressure Calc'!AM3<=VLOOKUP(Calculation!$C19,'Outdoor Pool Heating Calc'!$C22:$D28,2,FALSE),VLOOKUP($C3,$C6:$AM1501,AM1,FALSE),0) -> 0
C3: =Calculation!C17 -> -Select- | AB3: 1 | AC3: 2 | AD3: 3 | AE3: 4 | AF3: 5 | AG3: 6 | AH3: 7 | AI3: 8 | AJ3: 9 | AK3: 10 | AL3: 11 | AM3: 12
A4: x | C4: Days per month | D4: 31 | E4: 28 | F4: 31 | G4: 30 | H4: 31 | I4: 30 | J4: 31 | K4: 31 | L4: 30 | M4: 31 | N4: 30 | O4: 31 | P4: 31 | Q4: 28 | R4: 31 | S4: 30 | T4: 31 | U4: 30 | V4: 31 | W4: 31 | X4: 30 | Y4: 31 | Z4: 30 | AA4: 31 | AB4: 31 | AC4: 28 | AD4: 31 | AE4: 30 | AF4: 31 | AG4: 30 | AH4: 31 | AI4: 31 | AJ4: 30 | AK4: 31 | AL4: 30 | AM4: 31
A5: x | D5: Phius Ambient Temperature (C) | P5: Phius Dewpoint Temperature (C) | AB5: Vapor Pressure (Pa) | AN5: RH (%)
A6: Country | B6: State | C6: City_WUFIp Data Set | D6: Jan | E6: Feb | F6: Mar | G6: Apr | H6: May | I6: Jun | J6: Jul | K6: Aug | L6: Sep | M6: Oct | N6: Nov | O6: Dec | P6: Jan | Q6: Feb | R6: Mar | S6: Apr | T6: May | U6: Jun | V6: Jul | W6: Aug | X6: Sep | Y6: Oct | Z6: Nov | AA6: Dec | AB6: Jan | AC6: Feb | AD6: Mar | AE6: Apr | AF6: May | AG6: Jun | AH6: Jul | AI6: Aug | AJ6: Sep | AK6: Oct | AL6: Nov | AM6: Dec | AN6: Jan | AO6: Feb | AP6: Mar | AQ6: Apr | AR6: May | AS6: Jun | AT6: Jul | AU6: Aug | AV6: Sep | AW6: Oct | AX6: Nov | AY6: Dec
A7: Canada | B7: AB | C7: CALGARY INT AP | D7: -6.22 | E7: -5.8 | F7: -2.28 | G7: 4 | H7: 9.72 | I7: 13.6 | J7: 17.6 | K7: 15.8 | L7: 11.28 | M7: 4.6 | N7: -0.61 | O7: -6.61 | P7: -12.722222 | Q7: -11.8 | R7: -9.2222222 | S7: -4.8 | T7: 0.22222222 | U7: 6.2 | V7: 9.2 | W7: 7.3 | X7: 2.7222222 | Y7: -3.1 | Z7: -8 | AA7: -12.388889 | AB7: =6.112*EXP(17.625*P7/(243.04+P7))*100*AN7 -> 138.54712 | AC7: =6.112*EXP(17.625*Q7/(243.04+Q7))*100*AO7 -> 155.63858 | AD7: =6.112*EXP(17.625*R7/(243.04+R7))*100*AP7 -> 179.82884 | AE7: =6.112*EXP(17.625*S7/(243.04+S7))*100*AQ7 -> 225.84234 | AF7: =6.112*EXP(17.625*T7/(243.04+T7))*100*AR7 -> 320.48904 | AG7: =6.112*EXP(17.625*U7/(243.04+U7))*100*AS7 -> 577.26231 | AH7: =6.112*EXP(17.625*V7/(243.04+V7))*100*AT7 -> 672.46981 | AI7: =6.112*EXP(17.625*W7/(243.04+W7))*100*AU7 -> 582.58123 | ... AM7: =6.112*EXP(17.625*AA7/(243.04+AA7))*100*AY7 -> 150.62659 | AN7: =(EXP((17.625*P7)/(243.04+P7))/EXP((17.625*D7)/(243.04+D7))) -> 0.60010573 | AO7: =(EXP((17.625*Q7)/(243.04+Q7))/EXP((17.625*E7)/(243.04+E7))) -> 0.62594205 | AP7: =(EXP((17.625*R7)/(243.04+R7))/EXP((17.625*F7)/(243.04+F7))) -> 0.58963304 | AQ7: =(EXP((17.625*S7)/(243.04+S7))/EXP((17.625*G7)/(243.04+G7))) -> 0.52703781 | AR7: =(EXP((17.625*T7)/(243.04+T7))/EXP((17.625*H7)/(243.04+H7))) -> 0.51598543 | AS7: =(EXP((17.625*U7)/(243.04+U7))/EXP((17.625*I7)/(243.04+I7))) -> 0.60922946 | AT7: =(EXP((17.625*V7)/(243.04+V7))/EXP((17.625*J7)/(243.04+J7))) -> 0.57850553 | AU7: =(EXP((17.625*W7)/(243.04+W7))/EXP((17.625*K7)/(243.04+K7))) -> 0.57012101 | ... AY7: =(EXP((17.625*AA7)/(243.04+AA7))/EXP((17.625*O7)/(243.04+O7))) -> 0.6351244
A8: Canada | B8: AB | C8: COP UPPER | D8: -5.39 | E8: -5 | F8: -1.89 | G8: 3.6 | H8: 9.22 | I8: 12.7 | J8: 17 | K8: 15.2 | L8: 11 | M8: 4.7 | N8: -0.22 | O8: -5.5 | P8: -12.777778 | Q8: -12 | R8: -9.3888889 | S8: -5.4 | T8: -1.1111111 | U8: 4.8 | V8: 7.5 | W8: 6 | X8: 1.8888889 | Y8: -3.7 | Z8: -8.6111111 | AA8: -12.222222 | AB8: =6.112*EXP(17.625*P8/(243.04+P8))*100*AN8 -> 128.9034 | AC8: =6.112*EXP(17.625*Q8/(243.04+Q8))*100*AO8 -> 141.85187 | AD8: =6.112*EXP(17.625*R8/(243.04+R8))*100*AP8 -> 170.22063 | AE8: =6.112*EXP(17.625*S8/(243.04+S8))*100*AQ8 -> 212.12276 | AF8: =6.112*EXP(17.625*T8/(243.04+T8))*100*AR8 -> 272.96522 | AG8: =6.112*EXP(17.625*U8/(243.04+U8))*100*AS8 -> 504.14735 | AH8: =6.112*EXP(17.625*V8/(243.04+V8))*100*AT8 -> 554.69498 | AI8: =6.112*EXP(17.625*W8/(243.04+W8))*100*AU8 -> 506.37542 | ... AM8: =6.112*EXP(17.625*AA8/(243.04+AA8))*100*AY8 -> 142.1612 | AN8: =(EXP((17.625*P8)/(243.04+P8))/EXP((17.625*D8)/(243.04+D8))) -> 0.56084577 | AO8: =(EXP((17.625*Q8)/(243.04+Q8))/EXP((17.625*E8)/(243.04+E8))) -> 0.57971712 | AP8: =(EXP((17.625*R8)/(243.04+R8))/EXP((17.625*F8)/(243.04+F8))) -> 0.56547064 | AQ8: =(EXP((17.625*S8)/(243.04+S8))/EXP((17.625*G8)/(243.04+G8))) -> 0.51801126 | AR8: =(EXP((17.625*T8)/(243.04+T8))/EXP((17.625*H8)/(243.04+H8))) -> 0.48426006 | AS8: =(EXP((17.625*U8)/(243.04+U8))/EXP((17.625*I8)/(243.04+I8))) -> 0.586311 | AT8: =(EXP((17.625*V8)/(243.04+V8))/EXP((17.625*J8)/(243.04+J8))) -> 0.53546689 | AU8: =(EXP((17.625*W8)/(243.04+W8))/EXP((17.625*K8)/(243.04+K8))) -> 0.54184436 | ... AY8: =(EXP((17.625*AA8)/(243.04+AA8))/EXP((17.625*O8)/(243.04+O8))) -> 0.59144492
A9: Canada | B9: AB | C9: EDMONTON AP | D9: -11.22 | E9: -9.9 | F9: -5.78 | G9: 3.4 | H9: 10.11 | I9: 14.3 | J9: 16.9 | K9: 14.9 | L9: 10.22 | M9: 3.1 | N9: -3.5 | O9: -11.22 | P9: -15.277778 | Q9: -14.1 | R9: -10.277778 | S9: -4.1 | T9: 0.27777778 | U9: 6.9 | V9: 10.8 | W9: 9.3 | X9: 4.1111111 | Y9: -2.4 | Z9: -7.8888889 | AA9: -15 | AB9: =6.112*EXP(17.625*P9/(243.04+P9))*100*AN9 -> 134.82489 | AC9: =6.112*EXP(17.625*Q9/(243.04+Q9))*100*AO9 -> 147.35789 | AD9: =6.112*EXP(17.625*R9/(243.04+R9))*100*AP9 -> 198.00786 | AE9: =6.112*EXP(17.625*S9/(243.04+S9))*100*AQ9 -> 261.75335 | AF9: =6.112*EXP(17.625*T9/(243.04+T9))*100*AR9 -> 314.75058 | AG9: =6.112*EXP(17.625*U9/(243.04+U9))*100*AS9 -> 607.38498 | AH9: =6.112*EXP(17.625*V9/(243.04+V9))*100*AT9 -> 870.70082 | AI9: =6.112*EXP(17.625*W9/(243.04+W9))*100*AU9 -> 809.52658 | ... AM9: =6.112*EXP(17.625*AA9/(243.04+AA9))*100*AY9 -> 141.14608 | AN9: =(EXP((17.625*P9)/(243.04+P9))/EXP((17.625*D9)/(243.04+D9))) -> 0.71949762 | AO9: =(EXP((17.625*Q9)/(243.04+Q9))/EXP((17.625*E9)/(243.04+E9))) -> 0.7138602 | AP9: =(EXP((17.625*R9)/(243.04+R9))/EXP((17.625*F9)/(243.04+F9))) -> 0.70548244 | AQ9: =(EXP((17.625*S9)/(243.04+S9))/EXP((17.625*G9)/(243.04+G9))) -> 0.57949855 | AR9: =(EXP((17.625*T9)/(243.04+T9))/EXP((17.625*H9)/(243.04+H9))) -> 0.50471322 | AS9: =(EXP((17.625*U9)/(243.04+U9))/EXP((17.625*I9)/(243.04+I9))) -> 0.61089622 | AT9: =(EXP((17.625*V9)/(243.04+V9))/EXP((17.625*J9)/(243.04+J9))) -> 0.67300157 | AU9: =(EXP((17.625*W9)/(243.04+W9))/EXP((17.625*K9)/(243.04+K9))) -> 0.69174032 | ... AY9: =(EXP((17.625*AA9)/(243.04+AA9))/EXP((17.625*O9)/(243.04+O9))) -> 0.73617106
A10: Canada | B10: AB | C10: EDMONTON MUN AP | D10: -10.22 | E10: -7.6 | F10: -3.72 | G10: 4.8 | H10: 11.22 | I10: 15.8 | J10: 18.8 | K10: 16.8 | L10: 11.89 | M10: 4.7 | N10: -1.89 | O10: -10.72 | P10: -14.722222 | Q10: -13 | R10: -10.222222 | S10: -4.7 | T10: 0.38888889 | U10: 7.2 | V10: 11 | W10: 9.5 | X10: 4.6111111 | Y10: -2.2 | Z10: -7.7222222 | AA10: -14.777778 | AB10: =6.112*EXP(17.625*P10/(243.04+P10))*100*AN10 -> 136.47429 | AC10: =6.112*EXP(17.625*Q10/(243.04+Q10))*100*AO10 -> 147.27685 | AD10: =6.112*EXP(17.625*R10/(243.04+R10))*100*AP10 -> 171.00325 | AE10: =6.112*EXP(17.625*S10/(243.04+S10))*100*AQ10 -> 216.79551 | AF10: =6.112*EXP(17.625*T10/(243.04+T10))*100*AR10 -> 297.07384 | AG10: =6.112*EXP(17.625*U10/(243.04+U10))*100*AS10 -> 574.66824 | AH10: =6.112*EXP(17.625*V10/(243.04+V10))*100*AT10 -> 793.3712 | AI10: =6.112*EXP(17.625*W10/(243.04+W10))*100*AU10 -> 736.49643 | ... AM10: =6.112*EXP(17.625*AA10/(243.04+AA10))*100*AY10 -> 140.69599 | AN10: =(EXP((17.625*P10)/(243.04+P10))/EXP((17.625*D10)/(243.04+D10))) -> 0.69572178 | AO10: =(EXP((17.625*Q10)/(243.04+Q10))/EXP((17.625*E10)/(243.04+E10))) -> 0.65240635 | AP10: =(EXP((17.625*R10)/(243.04+R10))/EXP((17.625*F10)/(243.04+F10))) -> 0.60659801 | AQ10: =(EXP((17.625*S10)/(243.04+S10))/EXP((17.625*G10)/(243.04+G10))) -> 0.50212335 | AR10: =(EXP((17.625*T10)/(243.04+T10))/EXP((17.625*H10)/(243.04+H10))) -> 0.47255541 | AS10: =(EXP((17.625*U10)/(243.04+U10))/EXP((17.625*I10)/(243.04+I10))) -> 0.5662359 | AT10: =(EXP((17.625*V10)/(243.04+V10))/EXP((17.625*J10)/(243.04+J10))) -> 0.6051371 | AU10: =(EXP((17.625*W10)/(243.04+W10))/EXP((17.625*K10)/(243.04+K10))) -> 0.62093204 | ... AY10: =(EXP((17.625*AA10)/(243.04+AA10))/EXP((17.625*O10)/(243.04+O10))) -> 0.72052584
A11: Canada | B11: AB | C11: EDMONTON NAMAO | D11: -10.72 | E11: -9.1 | F11: -5.22 | G11: 3.7 | H11: 10.28 | I11: 14.6 | J11: 17.4 | K11: 15.3 | L11: 10.72 | M11: 3.6 | N11: -3.11 | O11: -11 | P11: -15 | Q11: -13.5 | R11: -10.388889 | S11: -4.7 | T11: 0 | U11: 7.1 | V11: 11.2 | W11: 9.7 | X11: 4.7222222 | Y11: -2 | Z11: -7.6111111 | AA11: -14.722222 | AB11: =6.112*EXP(17.625*P11/(243.04+P11))*100*AN11 -> 135.64306 | AC11: =6.112*EXP(17.625*Q11/(243.04+Q11))*100*AO11 -> 152.60435 | AD11: =6.112*EXP(17.625*R11/(243.04+R11))*100*AP11 -> 186.45975 | AE11: =6.112*EXP(17.625*S11/(243.04+S11))*100*AQ11 -> 234.16064 | AF11: =6.112*EXP(17.625*T11/(243.04+T11))*100*AR11 -> 298.92199 | AG11: =6.112*EXP(17.625*U11/(243.04+U11))*100*AS11 -> 612.27809 | AH11: =6.112*EXP(17.625*V11/(243.04+V11))*100*AT11 -> 889.59044 | AI11: =6.112*EXP(17.625*W11/(243.04+W11))*100*AU11 -> 832.52966 | ... AM11: =6.112*EXP(17.625*AA11/(243.04+AA11))*100*AY11 -> 145.18129 | AN11: =(EXP((17.625*P11)/(243.04+P11))/EXP((17.625*D11)/(243.04+D11))) -> 0.70746913 | AO11: =(EXP((17.625*Q11)/(243.04+Q11))/EXP((17.625*E11)/(243.04+E11))) -> 0.70398968 | AP11: =(EXP((17.625*R11)/(243.04+R11))/EXP((17.625*F11)/(243.04+F11))) -> 0.67020237 | AQ11: =(EXP((17.625*S11)/(243.04+S11))/EXP((17.625*G11)/(243.04+G11))) -> 0.542343 | AR11: =(EXP((17.625*T11)/(243.04+T11))/EXP((17.625*H11)/(243.04+H11))) -> 0.48907394 | AS11: =(EXP((17.625*U11)/(243.04+U11))/EXP((17.625*I11)/(243.04+I11))) -> 0.60743657 | AT11: =(EXP((17.625*V11)/(243.04+V11))/EXP((17.625*J11)/(243.04+J11))) -> 0.6695866 | AU11: =(EXP((17.625*W11)/(243.04+W11))/EXP((17.625*K11)/(243.04+K11))) -> 0.69253836 | ... AY11: =(EXP((17.625*AA11)/(243.04+AA11))/EXP((17.625*O11)/(243.04+O11))) -> 0.7401085
A12: Canada | B12: AB | C12: FORT MCMURRAY AP | D12: -16.5 | E12: -14 | F12: -7.5 | G12: 2.8 | H12: 9.28 | I12: 14.9 | J12: 17.7 | K12: 15 | L12: 9.89 | M12: 2.5 | N12: -6.22 | O12: -16 | P12: -20.222222 | Q12: -18.4 | R12: -13.888889 | S12: -6.6 | T12: -0.72222222 | U12: 6.6 | V12: 10.8 | W12: 9.6 | X12: 5.1111111 | Y12: -2.7 | Z12: -9.6111111 | AA12: -19.277778 | AB12: =6.112*EXP(17.625*P12/(243.04+P12))*100*AN12 -> 90.013686 | AC12: =6.112*EXP(17.625*Q12/(243.04+Q12))*100*AO12 -> 100.02905 | AD12: =6.112*EXP(17.625*R12/(243.04+R12))*100*AP12 -> 126.48529 | AE12: =6.112*EXP(17.625*S12/(243.04+S12))*100*AQ12 -> 186.9261 | AF12: =6.112*EXP(17.625*T12/(243.04+T12))*100*AR12 -> 287.76322 | AG12: =6.112*EXP(17.625*U12/(243.04+U12))*100*AS12 -> 560.73676 | AH12: =6.112*EXP(17.625*V12/(243.04+V12))*100*AT12 -> 827.77169 | AI12: =6.112*EXP(17.625*W12/(243.04+W12))*100*AU12 -> 837.42284 | ... AM12: =6.112*EXP(17.625*AA12/(243.04+AA12))*100*AY12 -> 101.55538 | AN12: =(EXP((17.625*P12)/(243.04+P12))/EXP((17.625*D12)/(243.04+D12))) -> 0.72915102 | AO12: =(EXP((17.625*Q12)/(243.04+Q12))/EXP((17.625*E12)/(243.04+E12))) -> 0.69328062 | AP12: =(EXP((17.625*R12)/(243.04+R12))/EXP((17.625*F12)/(243.04+F12))) -> 0.60227332 | AQ12: =(EXP((17.625*S12)/(243.04+S12))/EXP((17.625*G12)/(243.04+G12))) -> 0.50021083 | AR12: =(EXP((17.625*T12)/(243.04+T12))/EXP((17.625*H12)/(243.04+H12))) -> 0.49621035 | AS12: =(EXP((17.625*U12)/(243.04+U12))/EXP((17.625*I12)/(243.04+I12))) -> 0.57571434 | AT12: =(EXP((17.625*V12)/(243.04+V12))/EXP((17.625*J12)/(243.04+J12))) -> 0.63981982 | AU12: =(EXP((17.625*W12)/(243.04+W12))/EXP((17.625*K12)/(243.04+K12))) -> 0.70129772 | ... AY12: =(EXP((17.625*AA12)/(243.04+AA12))/EXP((17.625*O12)/(243.04+O12))) -> 0.75852916
A13: Canada | B13: AB | C13: GRAND PRAIRIE | D13: -12.5 | E13: -10.1 | F13: -6.22 | G13: 3.2 | H13: 9.78 | I13: 14.8 | J13: 16.9 | K13: 15 | L13: 10.39 | M13: 3.4 | N13: -4.28 | O13: -11.72 | P13: -16.388889 | Q13: -14.5 | R13: -11.5 | S13: -4.9 | T13: 0 | U13: 5.7 | V13: 9 | W13: 8.1 | X13: 4.1111111 | Y13: -1.9 | Z13: -8.1111111 | AA13: -15.111111 | AB13: =6.112*EXP(17.625*P13/(243.04+P13))*100*AN13 -> 124.23474 | AC13: =6.112*EXP(17.625*Q13/(243.04+Q13))*100*AO13 -> 140.21035 | AD13: =6.112*EXP(17.625*R13/(243.04+R13))*100*AP13 -> 168.60551 | AE13: =6.112*EXP(17.625*S13/(243.04+S13))*100*AQ13 -> 235.34929 | AF13: =6.112*EXP(17.625*T13/(243.04+T13))*100*AR13 -> 309.08766 | AG13: =6.112*EXP(17.625*U13/(243.04+U13))*100*AS13 -> 498.45908 | AH13: =6.112*EXP(17.625*V13/(243.04+V13))*100*AT13 -> 684.2091 | AI13: =6.112*EXP(17.625*W13/(243.04+W13))*100*AU13 -> 683.88477 | ... AM13: =6.112*EXP(17.625*AA13/(243.04+AA13))*100*AY13 -> 144.23181 | AN13: =(EXP((17.625*P13)/(243.04+P13))/EXP((17.625*D13)/(243.04+D13))) -> 0.72701562 | AO13: =(EXP((17.625*Q13)/(243.04+Q13))/EXP((17.625*E13)/(243.04+E13))) -> 0.70184636 | AP13: =(EXP((17.625*R13)/(243.04+R13))/EXP((17.625*F13)/(243.04+F13))) -> 0.66201052 | AQ13: =(EXP((17.625*S13)/(243.04+S13))/EXP((17.625*G13)/(243.04+G13))) -> 0.5533862 | AR13: =(EXP((17.625*T13)/(243.04+T13))/EXP((17.625*H13)/(243.04+H13))) -> 0.50570625 | AS13: =(EXP((17.625*U13)/(243.04+U13))/EXP((17.625*I13)/(243.04+I13))) -> 0.54455392 | AT13: =(EXP((17.625*V13)/(243.04+V13))/EXP((17.625*J13)/(243.04+J13))) -> 0.59659007 | AU13: =(EXP((17.625*W13)/(243.04+W13))/EXP((17.625*K13)/(243.04+K13))) -> 0.63375513 | ... AY13: =(EXP((17.625*AA13)/(243.04+AA13))/EXP((17.625*O13)/(243.04+O13))) -> 0.75918533
A14: Canada | B14: AB | C14: LACOMBE | D14: -10.72 | E14: -9 | F14: -4.39 | G14: 3.4 | H14: 9.61 | I14: 13.7 | J14: 16.8 | K14: 14.6 | L14: 10.11 | M14: 3.6 | N14: -3.28 | O14: -10.72 | P14: -13.888889 | Q14: -12.6 | R14: -8.7777778 | S14: -3.2 | T14: 1.2777778 | U14: 7.5 | V14: 11.2 | W14: 9.5 | X14: 4.7777778 | Y14: -1.5 | Z14: -7.2222222 | AA14: -13.722222 | AB14: =6.112*EXP(17.625*P14/(243.04+P14))*100*AN14 -> 162.74595 | AC14: =6.112*EXP(17.625*Q14/(243.04+Q14))*100*AO14 -> 175.17636 | AD14: =6.112*EXP(17.625*R14/(243.04+R14))*100*AP14 -> 225.61392 | AE14: =6.112*EXP(17.625*S14/(243.04+S14))*100*AQ14 -> 299.45018 | AF14: =6.112*EXP(17.625*T14/(243.04+T14))*100*AR14 -> 375.92226 | AG14: =6.112*EXP(17.625*U14/(243.04+U14))*100*AS14 -> 685.5015 | AH14: =6.112*EXP(17.625*V14/(243.04+V14))*100*AT14 -> 924.02605 | AI14: =6.112*EXP(17.625*W14/(243.04+W14))*100*AU14 -> 847.82516 | ... AM14: =6.112*EXP(17.625*AA14/(243.04+AA14))*100*AY14 -> 167.22875 | AN14: =(EXP((17.625*P14)/(243.04+P14))/EXP((17.625*D14)/(243.04+D14))) -> 0.77493236 | AO14: =(EXP((17.625*Q14)/(243.04+Q14))/EXP((17.625*E14)/(243.04+E14))) -> 0.75131436 | AP14: =(EXP((17.625*R14)/(243.04+R14))/EXP((17.625*F14)/(243.04+F14))) -> 0.71448567 | AQ14: =(EXP((17.625*S14)/(243.04+S14))/EXP((17.625*G14)/(243.04+G14))) -> 0.61982419 | AR14: =(EXP((17.625*T14)/(243.04+T14))/EXP((17.625*H14)/(243.04+H14))) -> 0.56089569 | AS14: =(EXP((17.625*U14)/(243.04+U14))/EXP((17.625*I14)/(243.04+I14))) -> 0.6617391 | AT14: =(EXP((17.625*V14)/(243.04+V14))/EXP((17.625*J14)/(243.04+J14))) -> 0.69550596 | AU14: =(EXP((17.625*W14)/(243.04+W14))/EXP((17.625*K14)/(243.04+K14))) -> 0.71479207 | ... AY14: =(EXP((17.625*AA14)/(243.04+AA14))/EXP((17.625*O14)/(243.04+O14))) -> 0.78553254
A15: Canada | B15: AB | C15: LETHBRIDGE | D15: -4.61 | E15: -4 | F15: 0.11 | G15: 5.8 | H15: 10.28 | I15: 12.7 | J15: 19.2 | K15: 18.1 | L15: 13.61 | M15: 6.9 | N15: 1.61 | O15: -4.78 | P15: -11 | Q15: -10.1 | R15: -7.2777778 | S15: -3.4 | T15: 0.22222222 | U15: 4.3 | V15: 8.8 | W15: 7.3 | X15: 3.7777778 | Y15: -1.6 | Z15: -6.5 | AA15: -10.722222 | AB15: =6.112*EXP(17.625*P15/(243.04+P15))*100*AN15 -> 161.60454 | AC15: =6.112*EXP(17.625*Q15/(243.04+Q15))*100*AO15 -> 178.03071 | AD15: =6.112*EXP(17.625*R15/(243.04+R15))*100*AP15 -> 204.24361 | AE15: =6.112*EXP(17.625*S15/(243.04+S15))*100*AQ15 -> 245.79378 | AF15: =6.112*EXP(17.625*T15/(243.04+T15))*100*AR15 -> 308.70429 | AG15: =6.112*EXP(17.625*U15/(243.04+U15))*100*AS15 -> 470.12118 | AH15: =6.112*EXP(17.625*V15/(243.04+V15))*100*AT15 -> 576.36301 | AI15: =6.112*EXP(17.625*W15/(243.04+W15))*100*AU15 -> 503.56432 | ... AM15: =6.112*EXP(17.625*AA15/(243.04+AA15))*100*AY15 -> 171.07751 | AN15: =(EXP((17.625*P15)/(243.04+P15))/EXP((17.625*D15)/(243.04+D15))) -> 0.60972458 | AO15: =(EXP((17.625*Q15)/(243.04+Q15))/EXP((17.625*E15)/(243.04+E15))) -> 0.62545918 | AP15: =(EXP((17.625*R15)/(243.04+R15))/EXP((17.625*F15)/(243.04+F15))) -> 0.57577281 | AQ15: =(EXP((17.625*S15)/(243.04+S15))/EXP((17.625*G15)/(243.04+G15))) -> 0.51640252 | AR15: =(EXP((17.625*T15)/(243.04+T15))/EXP((17.625*H15)/(243.04+H15))) -> 0.49701206 | AS15: =(EXP((17.625*U15)/(243.04+U15))/EXP((17.625*I15)/(243.04+I15))) -> 0.56617959 | AT15: =(EXP((17.625*V15)/(243.04+V15))/EXP((17.625*J15)/(243.04+J15))) -> 0.50938367 | AU15: =(EXP((17.625*W15)/(243.04+W15))/EXP((17.625*K15)/(243.04+K15))) -> 0.49279411 | ... AY15: =(EXP((17.625*AA15)/(243.04+AA15))/EXP((17.625*O15)/(243.04+O15))) -> 0.63137434
A16: Canada | B16: AB | C16: MEDICINE AP | D16: -7.39 | E16: -6.6 | F16: -0.78 | G16: 6.4 | H16: 12.22 | I16: 16.3 | J16: 21.4 | K16: 19.3 | L16: 13.78 | M16: 6.3 | N16: -0.11 | O16: -7.39 | P16: -12 | Q16: -11.3 | R16: -7.7222222 | S16: -3.2 | T16: 1.7777778 | U16: 7.8 | V16: 10 | W16: 8.3 | X16: 4.6111111 | Y16: -1.1 | Z16: -6.3888889 | AA16: -12.111111 | AB16: =6.112*EXP(17.625*P16/(243.04+P16))*100*AN16 -> 170.25437 | AC16: =6.112*EXP(17.625*Q16/(243.04+Q16))*100*AO16 -> 179.21122 | AD16: =6.112*EXP(17.625*R16/(243.04+R16))*100*AP16 -> 203.44629 | AE16: =6.112*EXP(17.625*S16/(243.04+S16))*100*AQ16 -> 242.96022 | AF16: =6.112*EXP(17.625*T16/(243.04+T16))*100*AR16 -> 339.55624 | AG16: =6.112*EXP(17.625*U16/(243.04+U16))*100*AS16 -> 604.12271 | AH16: =6.112*EXP(17.625*V16/(243.04+V16))*100*AT16 -> 591.20843 | AI16: =6.112*EXP(17.625*W16/(243.04+W16))*100*AU16 -> 535.30538 | ... AM16: =6.112*EXP(17.625*AA16/(243.04+AA16))*100*AY16 -> 167.24373 | AN16: =(EXP((17.625*P16)/(243.04+P16))/EXP((17.625*D16)/(243.04+D16))) -> 0.69579187 | AO16: =(EXP((17.625*Q16)/(243.04+Q16))/EXP((17.625*E16)/(243.04+E16))) -> 0.69250701 | AP16: =(EXP((17.625*R16)/(243.04+R16))/EXP((17.625*F16)/(243.04+F16))) -> 0.59354772 | AQ16: =(EXP((17.625*S16)/(243.04+S16))/EXP((17.625*G16)/(243.04+G16))) -> 0.50289709 | AR16: =(EXP((17.625*T16)/(243.04+T16))/EXP((17.625*H16)/(243.04+H16))) -> 0.48881509 | AS16: =(EXP((17.625*U16)/(243.04+U16))/EXP((17.625*I16)/(243.04+I16))) -> 0.57137736 | AT16: =(EXP((17.625*V16)/(243.04+V16))/EXP((17.625*J16)/(243.04+J16))) -> 0.48201223 | AU16: =(EXP((17.625*W16)/(243.04+W16))/EXP((17.625*K16)/(243.04+K16))) -> 0.48937943 | ... AY16: =(EXP((17.625*AA16)/(243.04+AA16))/EXP((17.625*O16)/(243.04+O16))) -> 0.68961252
A17: Canada | B17: AB | C17: RED DEER AP | D17: -10.39 | E17: -9.3 | F17: -4.61 | G17: 3.5 | H17: 9.72 | I17: 13.9 | J17: 17.1 | K17: 15 | L17: 10.28 | M17: 3.4 | N17: -3.11 | O17: -10.39 | P17: -15 | Q17: -14.1 | R17: -9.8888889 | S17: -4.1 | T17: 0.27777778 | U17: 6.7 | V17: 10.2 | W17: 8.6 | X17: 3.8888889 | Y17: -2.6 | Z17: -8.3888889 | AA17: -14.722222 | AB17: =6.112*EXP(17.625*P17/(243.04+P17))*100*AN17 -> 132.1415 | AC17: =6.112*EXP(17.625*Q17/(243.04+Q17))*100*AO17 -> 140.56929 | AD17: =6.112*EXP(17.625*R17/(243.04+R17))*100*AP17 -> 192.69414 | AE17: =6.112*EXP(17.625*S17/(243.04+S17))*100*AQ17 -> 259.9144 | AF17: =6.112*EXP(17.625*T17/(243.04+T17))*100*AR17 -> 323.07652 | AG17: =6.112*EXP(17.625*U17/(243.04+U17))*100*AS17 -> 606.45249 | AH17: =6.112*EXP(17.625*V17/(243.04+V17))*100*AT17 -> 793.66764 | AI17: =6.112*EXP(17.625*W17/(243.04+W17))*100*AU17 -> 731.84663 | ... AM17: =6.112*EXP(17.625*AA17/(243.04+AA17))*100*AY17 -> 138.32146 | AN17: =(EXP((17.625*P17)/(243.04+P17))/EXP((17.625*D17)/(243.04+D17))) -> 0.68920614 | AO17: =(EXP((17.625*Q17)/(243.04+Q17))/EXP((17.625*E17)/(243.04+E17))) -> 0.6809735 | AP17: =(EXP((17.625*R17)/(243.04+R17))/EXP((17.625*F17)/(243.04+F17))) -> 0.665796 | AQ17: =(EXP((17.625*S17)/(243.04+S17))/EXP((17.625*G17)/(243.04+G17))) -> 0.57542727 | AR17: =(EXP((17.625*T17)/(243.04+T17))/EXP((17.625*H17)/(243.04+H17))) -> 0.51806416 | AS17: =(EXP((17.625*U17)/(243.04+U17))/EXP((17.625*I17)/(243.04+I17))) -> 0.61838774 | AT17: =(EXP((17.625*V17)/(243.04+V17))/EXP((17.625*J17)/(243.04+J17))) -> 0.63848369 | AU17: =(EXP((17.625*W17)/(243.04+W17))/EXP((17.625*K17)/(243.04+K17))) -> 0.65560168 | ... AY17: =(EXP((17.625*AA17)/(243.04+AA17))/EXP((17.625*O17)/(243.04+O17))) -> 0.7051383
A18: Canada | B18: AB | C18: SPRINGBANK | D18: -5.78 | E18: -5.3 | F18: -2 | G18: 3.7 | H18: 9.28 | I18: 13 | J18: 17.2 | K18: 15.3 | L18: 11 | M18: 4.7 | N18: -0.28 | O18: -6 | P18: -12.777778 | Q18: -12 | R18: -9.2222222 | S18: -5.1 | T18: -0.72222222 | U18: 5.3 | V18: 8 | W18: 6.6 | X18: 2.2777778 | Y18: -3.4 | Z18: -8.2777778 | AA18: -12.277778 | AB18: =6.112*EXP(17.625*P18/(243.04+P18))*100*AN18 -> 132.77976 | AC18: =6.112*EXP(17.625*Q18/(243.04+Q18))*100*AO18 -> 145.10987 | AD18: =6.112*EXP(17.625*R18/(243.04+R18))*100*AP18 -> 176.15034 | AE18: =6.112*EXP(17.625*S18/(243.04+S18))*100*AQ18 -> 220.43 | AF18: =6.112*EXP(17.625*T18/(243.04+T18))*100*AR18 -> 287.76322 | AG18: =6.112*EXP(17.625*U18/(243.04+U18))*100*AS18 -> 529.98027 | AH18: =6.112*EXP(17.625*V18/(243.04+V18))*100*AT18 -> 586.31954 | AI18: =6.112*EXP(17.625*W18/(243.04+W18))*100*AU18 -> 546.5022 | ... AM18: =6.112*EXP(17.625*AA18/(243.04+AA18))*100*AY18 -> 146.35921 | AN18: =(EXP((17.625*P18)/(243.04+P18))/EXP((17.625*D18)/(243.04+D18))) -> 0.57771139 | AO18: =(EXP((17.625*Q18)/(243.04+Q18))/EXP((17.625*E18)/(243.04+E18))) -> 0.59303185 | AP18: =(EXP((17.625*R18)/(243.04+R18))/EXP((17.625*F18)/(243.04+F18))) -> 0.57757177 | AQ18: =(EXP((17.625*S18)/(243.04+S18))/EXP((17.625*G18)/(243.04+G18))) -> 0.52620193 | AR18: =(EXP((17.625*T18)/(243.04+T18))/EXP((17.625*H18)/(243.04+H18))) -> 0.49621035 | AS18: =(EXP((17.625*U18)/(243.04+U18))/EXP((17.625*I18)/(243.04+I18))) -> 0.59527483 | AT18: =(EXP((17.625*V18)/(243.04+V18))/EXP((17.625*J18)/(243.04+J18))) -> 0.54704578 | AU18: =(EXP((17.625*W18)/(243.04+W18))/EXP((17.625*K18)/(243.04+K18))) -> 0.56109957 | ... AY18: =(EXP((17.625*AA18)/(243.04+AA18))/EXP((17.625*O18)/(243.04+O18))) -> 0.61163687
... A91: Canada | B91: BC | C91: ABBOTSFORD AP | D91: 3.61 | E91: 4.8 | F91: 6.5 | G91: 9.5 | H91: 13 | I91: 16 | J91: 18.6 | K91: 18.1 | L91: 15 | M91: 10.5 | N91: 6.22 | O91: 3.28 | P91: 0.22222222 | Q91: 0.1 | R91: 1.8888889 | S91: 3.6 | T91: 6.7777778 | U91: 9.5 | V91: 11.7 | W91: 11.7 | X91: 9.8888889 | Y91: 6.4 | Z91: 3 | AA91: -0.27777778 | AB91: =6.112*EXP(17.625*P91/(243.04+P91))*100*AN91 -> 487.68209 | AC91: =6.112*EXP(17.625*Q91/(243.04+Q91))*100*AO91 -> 440.79186 | AD91: =6.112*EXP(17.625*R91/(243.04+R91))*100*AP91 -> 506.83075 | AE91: =6.112*EXP(17.625*S91/(243.04+S91))*100*AQ91 -> 526.85509 | AF91: =6.112*EXP(17.625*T91/(243.04+T91))*100*AR91 -> 649.95835 | AG91: =6.112*EXP(17.625*U91/(243.04+U91))*100*AS91 -> 774.9642 | AH91: =6.112*EXP(17.625*V91/(243.04+V91))*100*AT91 -> 881.35971 | AI91: =6.112*EXP(17.625*W91/(243.04+W91))*100*AU91 -> 909.4255 | ... AM91: =6.112*EXP(17.625*AA91/(243.04+AA91))*100*AY91 -> 464.23697 | AN91: =(EXP((17.625*P91)/(243.04+P91))/EXP((17.625*D91)/(243.04+D91))) -> 0.78516524 | AO91: =(EXP((17.625*Q91)/(243.04+Q91))/EXP((17.625*E91)/(243.04+E91))) -> 0.71598193 | AP91: =(EXP((17.625*R91)/(243.04+R91))/EXP((17.625*F91)/(243.04+F91))) -> 0.72385012 | AQ91: =(EXP((17.625*S91)/(243.04+S91))/EXP((17.625*G91)/(243.04+G91))) -> 0.66647261 | AR91: =(EXP((17.625*T91)/(243.04+T91))/EXP((17.625*H91)/(243.04+H91))) -> 0.65922009 | AS91: =(EXP((17.625*U91)/(243.04+U91))/EXP((17.625*I91)/(243.04+I91))) -> 0.6533638 | AT91: =(EXP((17.625*V91)/(243.04+V91))/EXP((17.625*J91)/(243.04+J91))) -> 0.64181175 | AU91: =(EXP((17.625*W91)/(243.04+W91))/EXP((17.625*K91)/(243.04+K91))) -> 0.66224944 | ... AY91: =(EXP((17.625*AA91)/(243.04+AA91))/EXP((17.625*O91)/(243.04+O91))) -> 0.77502352
A92: Colombia | B92: COL | C92: BARRANQUILLA | D92: #VALUE! | E92: #VALUE! | F92: #VALUE! | G92: #VALUE! | H92: #VALUE! | I92: #VALUE! | J92: #VALUE! | K92: #VALUE! | L92: #VALUE! | M92: #VALUE! | N92: #VALUE! | O92: #VALUE! | P92: #VALUE! | Q92: #VALUE! | R92: #VALUE! | S92: #VALUE! | T92: #VALUE! | U92: #VALUE! | V92: #VALUE! | W92: #VALUE! | X92: #VALUE! | Y92: #VALUE! | Z92: #VALUE! | AA92: #VALUE! | AB92: =6.112*EXP(17.625*P92/(243.04+P92))*100*AN92 -> #VALUE! | AC92: =6.112*EXP(17.625*Q92/(243.04+Q92))*100*AO92 -> #VALUE! | AD92: =6.112*EXP(17.625*R92/(243.04+R92))*100*AP92 -> #VALUE! | AE92: =6.112*EXP(17.625*S92/(243.04+S92))*100*AQ92 -> #VALUE! | AF92: =6.112*EXP(17.625*T92/(243.04+T92))*100*AR92 -> #VALUE! | AG92: =6.112*EXP(17.625*U92/(243.04+U92))*100*AS92 -> #VALUE! | AH92: =6.112*EXP(17.625*V92/(243.04+V92))*100*AT92 -> #VALUE! | AI92: =6.112*EXP(17.625*W92/(243.04+W92))*100*AU92 -> #VALUE! | ... AM92: =6.112*EXP(17.625*AA92/(243.04+AA92))*100*AY92 -> #VALUE! | AN92: =(EXP((17.625*P92)/(243.04+P92))/EXP((17.625*D92)/(243.04+D92))) -> #VALUE! | AO92: =(EXP((17.625*Q92)/(243.04+Q92))/EXP((17.625*E92)/(243.04+E92))) -> #VALUE! | AP92: =(EXP((17.625*R92)/(243.04+R92))/EXP((17.625*F92)/(243.04+F92))) -> #VALUE! | AQ92: =(EXP((17.625*S92)/(243.04+S92))/EXP((17.625*G92)/(243.04+G92))) -> #VALUE! | AR92: =(EXP((17.625*T92)/(243.04+T92))/EXP((17.625*H92)/(243.04+H92))) -> #VALUE! | AS92: =(EXP((17.625*U92)/(243.04+U92))/EXP((17.625*I92)/(243.04+I92))) -> #VALUE! | AT92: =(EXP((17.625*V92)/(243.04+V92))/EXP((17.625*J92)/(243.04+J92))) -> #VALUE! | AU92: =(EXP((17.625*W92)/(243.04+W92))/EXP((17.625*K92)/(243.04+K92))) -> #VALUE! | ... AY92: =(EXP((17.625*AA92)/(243.04+AA92))/EXP((17.625*O92)/(243.04+O92))) -> #VALUE!
A93: Colombia | B93: COL | C93: CALI | D93: #VALUE! | E93: #VALUE! | F93: #VALUE! | G93: #VALUE! | H93: #VALUE! | I93: #VALUE! | J93: #VALUE! | K93: #VALUE! | L93: #VALUE! | M93: #VALUE! | N93: #VALUE! | O93: #VALUE! | P93: #VALUE! | Q93: #VALUE! | R93: #VALUE! | S93: #VALUE! | T93: #VALUE! | U93: #VALUE! | V93: #VALUE! | W93: #VALUE! | X93: #VALUE! | Y93: #VALUE! | Z93: #VALUE! | AA93: #VALUE! | AB93: =6.112*EXP(17.625*P93/(243.04+P93))*100*AN93 -> #VALUE! | AC93: =6.112*EXP(17.625*Q93/(243.04+Q93))*100*AO93 -> #VALUE! | AD93: =6.112*EXP(17.625*R93/(243.04+R93))*100*AP93 -> #VALUE! | AE93: =6.112*EXP(17.625*S93/(243.04+S93))*100*AQ93 -> #VALUE! | AF93: =6.112*EXP(17.625*T93/(243.04+T93))*100*AR93 -> #VALUE! | AG93: =6.112*EXP(17.625*U93/(243.04+U93))*100*AS93 -> #VALUE! | AH93: =6.112*EXP(17.625*V93/(243.04+V93))*100*AT93 -> #VALUE! | AI93: =6.112*EXP(17.625*W93/(243.04+W93))*100*AU93 -> #VALUE! | ... AM93: =6.112*EXP(17.625*AA93/(243.04+AA93))*100*AY93 -> #VALUE! | AN93: =(EXP((17.625*P93)/(243.04+P93))/EXP((17.625*D93)/(243.04+D93))) -> #VALUE! | AO93: =(EXP((17.625*Q93)/(243.04+Q93))/EXP((17.625*E93)/(243.04+E93))) -> #VALUE! | AP93: =(EXP((17.625*R93)/(243.04+R93))/EXP((17.625*F93)/(243.04+F93))) -> #VALUE! | AQ93: =(EXP((17.625*S93)/(243.04+S93))/EXP((17.625*G93)/(243.04+G93))) -> #VALUE! | AR93: =(EXP((17.625*T93)/(243.04+T93))/EXP((17.625*H93)/(243.04+H93))) -> #VALUE! | AS93: =(EXP((17.625*U93)/(243.04+U93))/EXP((17.625*I93)/(243.04+I93))) -> #VALUE! | AT93: =(EXP((17.625*V93)/(243.04+V93))/EXP((17.625*J93)/(243.04+J93))) -> #VALUE! | AU93: =(EXP((17.625*W93)/(243.04+W93))/EXP((17.625*K93)/(243.04+K93))) -> #VALUE! | ... AY93: =(EXP((17.625*AA93)/(243.04+AA93))/EXP((17.625*O93)/(243.04+O93))) -> #VALUE!
A94: Colombia | B94: COL | C94: CARTAGENA | D94: #VALUE! | E94: #VALUE! | F94: #VALUE! | G94: #VALUE! | H94: #VALUE! | I94: #VALUE! | J94: #VALUE! | K94: #VALUE! | L94: #VALUE! | M94: #VALUE! | N94: #VALUE! | O94: #VALUE! | P94: #VALUE! | Q94: #VALUE! | R94: #VALUE! | S94: #VALUE! | T94: #VALUE! | U94: #VALUE! | V94: #VALUE! | W94: #VALUE! | X94: #VALUE! | Y94: #VALUE! | Z94: #VALUE! | AA94: #VALUE! | AB94: =6.112*EXP(17.625*P94/(243.04+P94))*100*AN94 -> #VALUE! | AC94: =6.112*EXP(17.625*Q94/(243.04+Q94))*100*AO94 -> #VALUE! | AD94: =6.112*EXP(17.625*R94/(243.04+R94))*100*AP94 -> #VALUE! | AE94: =6.112*EXP(17.625*S94/(243.04+S94))*100*AQ94 -> #VALUE! | AF94: =6.112*EXP(17.625*T94/(243.04+T94))*100*AR94 -> #VALUE! | AG94: =6.112*EXP(17.625*U94/(243.04+U94))*100*AS94 -> #VALUE! | AH94: =6.112*EXP(17.625*V94/(243.04+V94))*100*AT94 -> #VALUE! | AI94: =6.112*EXP(17.625*W94/(243.04+W94))*100*AU94 -> #VALUE! | ... AM94: =6.112*EXP(17.625*AA94/(243.04+AA94))*100*AY94 -> #VALUE! | AN94: =(EXP((17.625*P94)/(243.04+P94))/EXP((17.625*D94)/(243.04+D94))) -> #VALUE! | AO94: =(EXP((17.625*Q94)/(243.04+Q94))/EXP((17.625*E94)/(243.04+E94))) -> #VALUE! | AP94: =(EXP((17.625*R94)/(243.04+R94))/EXP((17.625*F94)/(243.04+F94))) -> #VALUE! | AQ94: =(EXP((17.625*S94)/(243.04+S94))/EXP((17.625*G94)/(243.04+G94))) -> #VALUE! | AR94: =(EXP((17.625*T94)/(243.04+T94))/EXP((17.625*H94)/(243.04+H94))) -> #VALUE! | AS94: =(EXP((17.625*U94)/(243.04+U94))/EXP((17.625*I94)/(243.04+I94))) -> #VALUE! | AT94: =(EXP((17.625*V94)/(243.04+V94))/EXP((17.625*J94)/(243.04+J94))) -> #VALUE! | AU94: =(EXP((17.625*W94)/(243.04+W94))/EXP((17.625*K94)/(243.04+K94))) -> #VALUE! | ... AY94: =(EXP((17.625*AA94)/(243.04+AA94))/EXP((17.625*O94)/(243.04+O94))) -> #VALUE!
A95: India | B95: BD | C95: DHAKA | D95: #VALUE! | E95: #VALUE! | F95: #VALUE! | G95: #VALUE! | H95: #VALUE! | I95: #VALUE! | J95: #VALUE! | K95: #VALUE! | L95: #VALUE! | M95: #VALUE! | N95: #VALUE! | O95: #VALUE! | P95: #VALUE! | Q95: #VALUE! | R95: #VALUE! | S95: #VALUE! | T95: #VALUE! | U95: #VALUE! | V95: #VALUE! | W95: #VALUE! | X95: #VALUE! | Y95: #VALUE! | Z95: #VALUE! | AA95: #VALUE! | AB95: =6.112*EXP(17.625*P95/(243.04+P95))*100*AN95 -> #VALUE! | AC95: =6.112*EXP(17.625*Q95/(243.04+Q95))*100*AO95 -> #VALUE! | AD95: =6.112*EXP(17.625*R95/(243.04+R95))*100*AP95 -> #VALUE! | AE95: =6.112*EXP(17.625*S95/(243.04+S95))*100*AQ95 -> #VALUE! | AF95: =6.112*EXP(17.625*T95/(243.04+T95))*100*AR95 -> #VALUE! | AG95: =6.112*EXP(17.625*U95/(243.04+U95))*100*AS95 -> #VALUE! | AH95: =6.112*EXP(17.625*V95/(243.04+V95))*100*AT95 -> #VALUE! | AI95: =6.112*EXP(17.625*W95/(243.04+W95))*100*AU95 -> #VALUE! | ... AM95: =6.112*EXP(17.625*AA95/(243.04+AA95))*100*AY95 -> #VALUE! | AN95: =(EXP((17.625*P95)/(243.04+P95))/EXP((17.625*D95)/(243.04+D95))) -> #VALUE! | AO95: =(EXP((17.625*Q95)/(243.04+Q95))/EXP((17.625*E95)/(243.04+E95))) -> #VALUE! | AP95: =(EXP((17.625*R95)/(243.04+R95))/EXP((17.625*F95)/(243.04+F95))) -> #VALUE! | AQ95: =(EXP((17.625*S95)/(243.04+S95))/EXP((17.625*G95)/(243.04+G95))) -> #VALUE! | AR95: =(EXP((17.625*T95)/(243.04+T95))/EXP((17.625*H95)/(243.04+H95))) -> #VALUE! | AS95: =(EXP((17.625*U95)/(243.04+U95))/EXP((17.625*I95)/(243.04+I95))) -> #VALUE! | AT95: =(EXP((17.625*V95)/(243.04+V95))/EXP((17.625*J95)/(243.04+J95))) -> #VALUE! | AU95: =(EXP((17.625*W95)/(243.04+W95))/EXP((17.625*K95)/(243.04+K95))) -> #VALUE! | ... AY95: =(EXP((17.625*AA95)/(243.04+AA95))/EXP((17.625*O95)/(243.04+O95))) -> #VALUE!
A96: India | B96: IND | C96: NEW DELHI SAFDARJUNG AP | D96: #VALUE! | E96: #VALUE! | F96: #VALUE! | G96: #VALUE! | H96: #VALUE! | I96: #VALUE! | J96: #VALUE! | K96: #VALUE! | L96: #VALUE! | M96: #VALUE! | N96: #VALUE! | O96: #VALUE! | P96: #VALUE! | Q96: #VALUE! | R96: #VALUE! | S96: #VALUE! | T96: #VALUE! | U96: #VALUE! | V96: #VALUE! | W96: #VALUE! | X96: #VALUE! | Y96: #VALUE! | Z96: #VALUE! | AA96: #VALUE! | AB96: =6.112*EXP(17.625*P96/(243.04+P96))*100*AN96 -> #VALUE! | AC96: =6.112*EXP(17.625*Q96/(243.04+Q96))*100*AO96 -> #VALUE! | AD96: =6.112*EXP(17.625*R96/(243.04+R96))*100*AP96 -> #VALUE! | AE96: =6.112*EXP(17.625*S96/(243.04+S96))*100*AQ96 -> #VALUE! | AF96: =6.112*EXP(17.625*T96/(243.04+T96))*100*AR96 -> #VALUE! | AG96: =6.112*EXP(17.625*U96/(243.04+U96))*100*AS96 -> #VALUE! | AH96: =6.112*EXP(17.625*V96/(243.04+V96))*100*AT96 -> #VALUE! | AI96: =6.112*EXP(17.625*W96/(243.04+W96))*100*AU96 -> #VALUE! | ... AM96: =6.112*EXP(17.625*AA96/(243.04+AA96))*100*AY96 -> #VALUE! | AN96: =(EXP((17.625*P96)/(243.04+P96))/EXP((17.625*D96)/(243.04+D96))) -> #VALUE! | AO96: =(EXP((17.625*Q96)/(243.04+Q96))/EXP((17.625*E96)/(243.04+E96))) -> #VALUE! | AP96: =(EXP((17.625*R96)/(243.04+R96))/EXP((17.625*F96)/(243.04+F96))) -> #VALUE! | AQ96: =(EXP((17.625*S96)/(243.04+S96))/EXP((17.625*G96)/(243.04+G96))) -> #VALUE! | AR96: =(EXP((17.625*T96)/(243.04+T96))/EXP((17.625*H96)/(243.04+H96))) -> #VALUE! | AS96: =(EXP((17.625*U96)/(243.04+U96))/EXP((17.625*I96)/(243.04+I96))) -> #VALUE! | AT96: =(EXP((17.625*V96)/(243.04+V96))/EXP((17.625*J96)/(243.04+J96))) -> #VALUE! | AU96: =(EXP((17.625*W96)/(243.04+W96))/EXP((17.625*K96)/(243.04+K96))) -> #VALUE! | ... AY96: =(EXP((17.625*AA96)/(243.04+AA96))/EXP((17.625*O96)/(243.04+O96))) -> #VALUE!
A97: India | B97: IND | C97: PATNA | D97: #VALUE! | E97: #VALUE! | F97: #VALUE! | G97: #VALUE! | H97: #VALUE! | I97: #VALUE! | J97: #VALUE! | K97: #VALUE! | L97: #VALUE! | M97: #VALUE! | N97: #VALUE! | O97: #VALUE! | P97: #VALUE! | Q97: #VALUE! | R97: #VALUE! | S97: #VALUE! | T97: #VALUE! | U97: #VALUE! | V97: #VALUE! | W97: #VALUE! | X97: #VALUE! | Y97: #VALUE! | Z97: #VALUE! | AA97: #VALUE! | AB97: =6.112*EXP(17.625*P97/(243.04+P97))*100*AN97 -> #VALUE! | AC97: =6.112*EXP(17.625*Q97/(243.04+Q97))*100*AO97 -> #VALUE! | AD97: =6.112*EXP(17.625*R97/(243.04+R97))*100*AP97 -> #VALUE! | AE97: =6.112*EXP(17.625*S97/(243.04+S97))*100*AQ97 -> #VALUE! | AF97: =6.112*EXP(17.625*T97/(243.04+T97))*100*AR97 -> #VALUE! | AG97: =6.112*EXP(17.625*U97/(243.04+U97))*100*AS97 -> #VALUE! | AH97: =6.112*EXP(17.625*V97/(243.04+V97))*100*AT97 -> #VALUE! | AI97: =6.112*EXP(17.625*W97/(243.04+W97))*100*AU97 -> #VALUE! | ... AM97: =6.112*EXP(17.625*AA97/(243.04+AA97))*100*AY97 -> #VALUE! | AN97: =(EXP((17.625*P97)/(243.04+P97))/EXP((17.625*D97)/(243.04+D97))) -> #VALUE! | AO97: =(EXP((17.625*Q97)/(243.04+Q97))/EXP((17.625*E97)/(243.04+E97))) -> #VALUE! | AP97: =(EXP((17.625*R97)/(243.04+R97))/EXP((17.625*F97)/(243.04+F97))) -> #VALUE! | AQ97: =(EXP((17.625*S97)/(243.04+S97))/EXP((17.625*G97)/(243.04+G97))) -> #VALUE! | AR97: =(EXP((17.625*T97)/(243.04+T97))/EXP((17.625*H97)/(243.04+H97))) -> #VALUE! | AS97: =(EXP((17.625*U97)/(243.04+U97))/EXP((17.625*I97)/(243.04+I97))) -> #VALUE! | AT97: =(EXP((17.625*V97)/(243.04+V97))/EXP((17.625*J97)/(243.04+J97))) -> #VALUE! | AU97: =(EXP((17.625*W97)/(243.04+W97))/EXP((17.625*K97)/(243.04+K97))) -> #VALUE! | ... AY97: =(EXP((17.625*AA97)/(243.04+AA97))/EXP((17.625*O97)/(243.04+O97))) -> #VALUE!
A98: JAPAN | B98: AICHI (JP-23) | C98: NAGOYA | D98: 4.61 | E98: 5.72 | F98: 9.11 | G98: 14.72 | H98: 19.61 | I98: 23.22 | J98: 27.22 | K98: 28.28 | L98: 24.61 | M98: 18.78 | N98: 12.61 | O98: 7.11 | P98: -2.5 | Q98: -2.2777778 | R98: 0.11111111 | S98: 5.6111111 | T98: 11.388889 | U98: 16.777778 | V98: 21.111111 | W98: 21.5 | X98: 18.111111 | Y98: 12 | Z98: 5.8888889 | AA98: 0.5 | AB98: =6.112*EXP(17.625*P98/(243.04+P98))*100*AN98 -> 305.20144 | AC98: =6.112*EXP(17.625*Q98/(243.04+Q98))*100*AO98 -> 291.97396 | AD98: =6.112*EXP(17.625*R98/(243.04+R98))*100*AP98 -> 328.57118 | AE98: =6.112*EXP(17.625*S98/(243.04+S98))*100*AQ98 -> 494.90467 | AF98: =6.112*EXP(17.625*T98/(243.04+T98))*100*AR98 -> 794.23951 | AG98: =6.112*EXP(17.625*U98/(243.04+U98))*100*AS98 -> 1280.0548 | AH98: =6.112*EXP(17.625*V98/(243.04+V98))*100*AT98 -> 1732.764 | AI98: =6.112*EXP(17.625*W98/(243.04+W98))*100*AU98 -> 1708.2566 | ... AM98: =6.112*EXP(17.625*AA98/(243.04+AA98))*100*AY98 -> 398.15439 | AN98: =(EXP((17.625*P98)/(243.04+P98))/EXP((17.625*D98)/(243.04+D98))) -> 0.59973306 | AO98: =(EXP((17.625*Q98)/(243.04+Q98))/EXP((17.625*E98)/(243.04+E98))) -> 0.56438712 | AP98: =(EXP((17.625*R98)/(243.04+R98))/EXP((17.625*F98)/(243.04+F98))) -> 0.53327143 | AQ98: =(EXP((17.625*S98)/(243.04+S98))/EXP((17.625*G98)/(243.04+G98))) -> 0.5440096 | AR98: =(EXP((17.625*T98)/(243.04+T98))/EXP((17.625*H98)/(243.04+H98))) -> 0.59038564 | AS98: =(EXP((17.625*U98)/(243.04+U98))/EXP((17.625*I98)/(243.04+I98))) -> 0.67105549 | AT98: =(EXP((17.625*V98)/(243.04+V98))/EXP((17.625*J98)/(243.04+J98))) -> 0.6931205 | AU98: =(EXP((17.625*W98)/(243.04+W98))/EXP((17.625*K98)/(243.04+K98))) -> 0.66722032 | ... AY98: =(EXP((17.625*AA98)/(243.04+AA98))/EXP((17.625*O98)/(243.04+O98))) -> 0.62827997
A99: JAPAN | B99: AKITA (JP-05) | C99: AKITA | D99: 0.28 | E99: 0.72 | F99: 4.11 | G99: 9.72 | H99: 15.5 | I99: 19.78 | J99: 23.72 | K99: 25.22 | L99: 21 | M99: 14.5 | N99: 8.22 | O99: 2.72 | P99: -4 | Q99: -4.1111111 | R99: -1.5 | S99: 3.2222222 | T99: 9.7222222 | U99: 14.611111 | V99: 19.388889 | W99: 20.277778 | X99: 15.777778 | Y99: 9.2777778 | Z99: 3.2222222 | AA99: -1.7222222 | AB99: =6.112*EXP(17.625*P99/(243.04+P99))*100*AN99 -> 332.04911 | AC99: =6.112*EXP(17.625*Q99/(243.04+Q99))*100*AO99 -> 316.34661 | AD99: =6.112*EXP(17.625*R99/(243.04+R99))*100*AP99 -> 366.28807 | AE99: =6.112*EXP(17.625*S99/(243.04+S99))*100*AQ99 -> 492.19556 | AF99: =6.112*EXP(17.625*T99/(243.04+T99))*100*AR99 -> 824.37228 | AG99: =6.112*EXP(17.625*U99/(243.04+U99))*100*AS99 -> 1197.4437 | AH99: =6.112*EXP(17.625*V99/(243.04+V99))*100*AT99 -> 1724.3153 | AI99: =6.112*EXP(17.625*W99/(243.04+W99))*100*AU99 -> 1759.8774 | ... AM99: =6.112*EXP(17.625*AA99/(243.04+AA99))*100*AY99 -> 391.03059 | AN99: =(EXP((17.625*P99)/(243.04+P99))/EXP((17.625*D99)/(243.04+D99))) -> 0.72963443 | AO99: =(EXP((17.625*Q99)/(243.04+Q99))/EXP((17.625*E99)/(243.04+E99))) -> 0.7009473 | AP99: =(EXP((17.625*R99)/(243.04+R99))/EXP((17.625*F99)/(243.04+F99))) -> 0.66861276 | AQ99: =(EXP((17.625*S99)/(243.04+S99))/EXP((17.625*G99)/(243.04+G99))) -> 0.63943985 | AR99: =(EXP((17.625*T99)/(243.04+T99))/EXP((17.625*H99)/(243.04+H99))) -> 0.6847316 | AS99: =(EXP((17.625*U99)/(243.04+U99))/EXP((17.625*I99)/(243.04+I99))) -> 0.72110226 | AT99: =(EXP((17.625*V99)/(243.04+V99))/EXP((17.625*J99)/(243.04+J99))) -> 0.76719285 | AU99: =(EXP((17.625*W99)/(243.04+W99))/EXP((17.625*K99)/(243.04+K99))) -> 0.74103727 | ... AY99: =(EXP((17.625*AA99)/(243.04+AA99))/EXP((17.625*O99)/(243.04+O99))) -> 0.72552961
A100: JAPAN | B100: AOMORI (JP-02) | C100: AOMORI | D100: -1 | E100: -0.61 | F100: 2.78 | G100: 8.72 | H100: 13.78 | I100: 17.78 | J100: 21.89 | K100: 23.5 | L100: 19.89 | M100: 13.5 | N100: 7.11 | O100: 1.22 | P100: -4.5 | Q100: -4.7222222 | R100: -2.5 | S100: 1.7222222 | T100: 8.1111111 | U100: 13.388889 | V100: 18.111111 | W100: 19.277778 | X100: 15 | Y100: 8.2777778 | Z100: 2.2777778 | AA100: -2.3888889 | AB100: =6.112*EXP(17.625*P100/(243.04+P100))*100*AN100 -> 338.07236 | AC100: =6.112*EXP(17.625*Q100/(243.04+Q100))*100*AO100 -> 317.76113 | AD100: =6.112*EXP(17.625*R100/(243.04+R100))*100*AP100 -> 347.14355 | AE100: =6.112*EXP(17.625*S100/(243.04+S100))*100*AQ100 -> 425.38376 | AF100: =6.112*EXP(17.625*T100/(243.04+T100))*100*AR100 -> 741.11629 | AG100: =6.112*EXP(17.625*U100/(243.04+U100))*100*AS100 -> 1157.987 | AH100: =6.112*EXP(17.625*V100/(243.04+V100))*100*AT100 -> 1642.1696 | AI100: =6.112*EXP(17.625*W100/(243.04+W100))*100*AU100 -> 1723.326 | ... AM100: =6.112*EXP(17.625*AA100/(243.04+AA100))*100*AY100 -> 394.44287 | AN100: =(EXP((17.625*P100)/(243.04+P100))/EXP((17.625*D100)/(243.04+D100))) -> 0.77130387 | AO100: =(EXP((17.625*Q100)/(243.04+Q100))/EXP((17.625*E100)/(243.04+E100))) -> 0.73720577 | AP100: =(EXP((17.625*R100)/(243.04+R100))/EXP((17.625*F100)/(243.04+F100))) -> 0.68215098 | AQ100: =(EXP((17.625*S100)/(243.04+S100))/EXP((17.625*G100)/(243.04+G100))) -> 0.61480666 | AR100: =(EXP((17.625*T100)/(243.04+T100))/EXP((17.625*H100)/(243.04+H100))) -> 0.68627345 | AS100: =(EXP((17.625*U100)/(243.04+U100))/EXP((17.625*I100)/(243.04+I100))) -> 0.75484892 | AT100: =(EXP((17.625*V100)/(243.04+V100))/EXP((17.625*J100)/(243.04+J100))) -> 0.79139075 | AU100: =(EXP((17.625*W100)/(243.04+W100))/EXP((17.625*K100)/(243.04+K100))) -> 0.77207235 | ... AY100: =(EXP((17.625*AA100)/(243.04+AA100))/EXP((17.625*O100)/(243.04+O100))) -> 0.76874915
A101: JAPAN | B101: AOMORI (JP-02) | C101: HACHINOHE | D101: -0.89 | E101: -0.28 | F101: 3.28 | G101: 8.89 | H101: 13.78 | I101: 17 | J101: 21.11 | K101: 22.78 | L101: 19.61 | M101: 13.39 | N101: 7.11 | O101: 1.39 | P101: -5.7222222 | Q101: -5.6111111 | R101: -2.8888889 | S101: 1.7777778 | T101: 8.2777778 | U101: 13.388889 | V101: 17.888889 | W101: 19.388889 | X101: 15.722222 | Y101: 8.6111111 | Z101: 2.1111111 | AA101: -3.2777778 | AB101: =6.112*EXP(17.625*P101/(243.04+P101))*100*AN101 -> 278.73261 | AC101: =6.112*EXP(17.625*Q101/(243.04+Q101))*100*AO101 -> 271.1566 | AD101: =6.112*EXP(17.625*R101/(243.04+R101))*100*AP101 -> 316.29995 | AE101: =6.112*EXP(17.625*S101/(243.04+S101))*100*AQ101 -> 423.88125 | AF101: =6.112*EXP(17.625*T101/(243.04+T101))*100*AR101 -> 758.07275 | AG101: =6.112*EXP(17.625*U101/(243.04+U101))*100*AS101 -> 1216.4614 | AH101: =6.112*EXP(17.625*V101/(243.04+V101))*100*AT101 -> 1675.0172 | AI101: =6.112*EXP(17.625*W101/(243.04+W101))*100*AU101 -> 1825.0622 | ... AM101: =6.112*EXP(17.625*AA101/(243.04+AA101))*100*AY101 -> 341.48205 | AN101: =(EXP((17.625*P101)/(243.04+P101))/EXP((17.625*D101)/(243.04+D101))) -> 0.69753951 | AO101: =(EXP((17.625*Q101)/(243.04+Q101))/EXP((17.625*E101)/(243.04+E101))) -> 0.67287244 | AP101: =(EXP((17.625*R101)/(243.04+R101))/EXP((17.625*F101)/(243.04+F101))) -> 0.63972685 | AQ101: =(EXP((17.625*S101)/(243.04+S101))/EXP((17.625*G101)/(243.04+G101))) -> 0.61020687 | AR101: =(EXP((17.625*T101)/(243.04+T101))/EXP((17.625*H101)/(243.04+H101))) -> 0.69407989 | AS101: =(EXP((17.625*U101)/(243.04+U101))/EXP((17.625*I101)/(243.04+I101))) -> 0.79296618 | AT101: =(EXP((17.625*V101)/(243.04+V101))/EXP((17.625*J101)/(243.04+J101))) -> 0.81857618 | AU101: =(EXP((17.625*W101)/(243.04+W101))/EXP((17.625*K101)/(243.04+K101))) -> 0.81201779 | ... AY101: =(EXP((17.625*AA101)/(243.04+AA101))/EXP((17.625*O101)/(243.04+O101))) -> 0.71093192
A102: JAPAN | B102: CHIBA (JP-12) | C102: CHIBA | D102: 6 | E102: 6.61 | F102: 9.89 | G102: 14.61 | H102: 19 | I102: 22.11 | J102: 26.11 | K102: 27.28 | L102: 24 | M102: 18.72 | N102: 13.39 | O102: 8.5 | P102: -3.8888889 | Q102: -2.3888889 | R102: 1.5 | S102: 7.3888889 | T102: 13 | U102: 17.611111 | V102: 21.5 | W102: 22.388889 | X102: 19.111111 | Y102: 13.222222 | Z102: 6.7222222 | AA102: -0.27777778 | AB102: =6.112*EXP(17.625*P102/(243.04+P102))*100*AN102 -> 225.33443 | AC102: =6.112*EXP(17.625*Q102/(243.04+Q102))*100*AO102 -> 270.11483 | AD102: =6.112*EXP(17.625*R102/(243.04+R102))*100*AP102 -> 380.8778 | AE102: =6.112*EXP(17.625*S102/(243.04+S102))*100*AQ102 -> 636.54215 | AF102: =6.112*EXP(17.625*T102/(243.04+T102))*100*AR102 -> 1019.6655 | AG102: =6.112*EXP(17.625*U102/(243.04+U102))*100*AS102 -> 1521.4641 | AH102: =6.112*EXP(17.625*V102/(243.04+V102))*100*AT102 -> 1940.144 | AI102: =6.112*EXP(17.625*W102/(243.04+W102))*100*AU102 -> 2018.4537 | ... AM102: =6.112*EXP(17.625*AA102/(243.04+AA102))*100*AY102 -> 323.60014 | AN102: =(EXP((17.625*P102)/(243.04+P102))/EXP((17.625*D102)/(243.04+D102))) -> 0.49103759 | AO102: =(EXP((17.625*Q102)/(243.04+Q102))/EXP((17.625*E102)/(243.04+E102))) -> 0.52644012 | AP102: =(EXP((17.625*R102)/(243.04+R102))/EXP((17.625*F102)/(243.04+F102))) -> 0.55930698 | AQ102: =(EXP((17.625*S102)/(243.04+S102))/EXP((17.625*G102)/(243.04+G102))) -> 0.61915593 | AR102: =(EXP((17.625*T102)/(243.04+T102))/EXP((17.625*H102)/(243.04+H102))) -> 0.68176242 | AS102: =(EXP((17.625*U102)/(243.04+U102))/EXP((17.625*I102)/(243.04+I102))) -> 0.75665811 | AT102: =(EXP((17.625*V102)/(243.04+V102))/EXP((17.625*J102)/(243.04+J102))) -> 0.75779217 | AU102: =(EXP((17.625*W102)/(243.04+W102))/EXP((17.625*K102)/(243.04+K102))) -> 0.74676593 | ... AY102: =(EXP((17.625*AA102)/(243.04+AA102))/EXP((17.625*O102)/(243.04+O102))) -> 0.54023642
A103: JAPAN | B103: CHIBA (JP-12) | C103: CHOSHI | D103: 6.5 | E103: 7 | F103: 9.78 | G103: 13.89 | H103: 17.5 | I103: 20.28 | J103: 23.78 | K103: 25.61 | L103: 23.39 | M103: 19.22 | N103: 14.28 | O103: 9.22 | P103: -0.77777778 | Q103: 0.38888889 | R103: 3.6111111 | S103: 9 | T103: 14.111111 | U103: 18 | V103: 21.777778 | W103: 23.222222 | X103: 20.277778 | Y103: 14.888889 | Z103: 9.2222222 | AA103: 2.7222222 | AB103: =6.112*EXP(17.625*P103/(243.04+P103))*100*AN103 -> 344.86744 | AC103: =6.112*EXP(17.625*Q103/(243.04+Q103))*100*AO103 -> 394.77528 | AD103: =6.112*EXP(17.625*R103/(243.04+R103))*100*AP103 -> 517.85992 | AE103: =6.112*EXP(17.625*S103/(243.04+S103))*100*AQ103 -> 829.91271 | AF103: =6.112*EXP(17.625*T103/(243.04+T103))*100*AR103 -> 1294.5533 | AG103: =6.112*EXP(17.625*U103/(243.04+U103))*100*AS103 -> 1787.6718 | AH103: =6.112*EXP(17.625*V103/(243.04+V103))*100*AT103 -> 2306.4545 | AI103: =6.112*EXP(17.625*W103/(243.04+W103))*100*AU103 -> 2464.1687 | ... AM103: =6.112*EXP(17.625*AA103/(243.04+AA103))*100*AY103 -> 474.22866 | AN103: =(EXP((17.625*P103)/(243.04+P103))/EXP((17.625*D103)/(243.04+D103))) -> 0.59709477 | AO103: =(EXP((17.625*Q103)/(243.04+Q103))/EXP((17.625*E103)/(243.04+E103))) -> 0.62796911 | AP103: =(EXP((17.625*R103)/(243.04+R103))/EXP((17.625*F103)/(243.04+F103))) -> 0.65458137 | AQ103: =(EXP((17.625*S103)/(243.04+S103))/EXP((17.625*G103)/(243.04+G103))) -> 0.72363504 | AR103: =(EXP((17.625*T103)/(243.04+T103))/EXP((17.625*H103)/(243.04+H103))) -> 0.80519459 | AS103: =(EXP((17.625*U103)/(243.04+U103))/EXP((17.625*I103)/(243.04+I103))) -> 0.86754678 | AT103: =(EXP((17.625*V103)/(243.04+V103))/EXP((17.625*J103)/(243.04+J103))) -> 0.88569572 | AU103: =(EXP((17.625*W103)/(243.04+W103))/EXP((17.625*K103)/(243.04+K103))) -> 0.8667631 | ... AY103: =(EXP((17.625*AA103)/(243.04+AA103))/EXP((17.625*O103)/(243.04+O103))) -> 0.63829125
