{"text_format":"1","workbook":"xlsx","n_sheets":14,"sheets":["Checklist","Canned Responses","Net Gain - Angle Calculator","Compliance Calcs","Main","DHW","Update Tracker","Reference Climate Info_Vals","Effective R-Values","NFRC - Window Calculation","City List","V1 Sanden CO2","V2-Sanden CO2 GS3-45HPA","Window ISO 13788 Calc"],"not_rendered":{"charts":0,"images":3,"macros":1,"external_links":3,"defined_names":207,"comments":4,"pivot_tables":0},"unopened":[],"bounds":{"document_bytes":16777216,"sheet_cells":100000,"rows_first":2000,"rows_last":500,"rows_between":2000,"halvings":0,"cell_chars":16384,"cell_head_chars":4096},"cells_cut":0,"cells_raw":0,"read":"whole","date_system":"1900"}

{"sheet":"Checklist","index":0,"n_rows":539,"n_cols":28,"rows_kept":539,"cut":false,"hidden":false,"merged":[[286,9,286,10],[402,13,402,14],[403,3,403,7],[403,11,403,12],[403,13,403,14],[404,3,404,7],[404,11,404,12],[404,13,404,14],[407,3,407,7],[407,11,407,12],[407,13,407,14],[408,3,408,7],[408,11,408,12],[408,13,408,14],[409,3,409,7],[409,11,409,12],[409,13,409,14],[405,3,405,7],[405,11,405,12],[405,13,405,14],[406,3,406,7],[406,11,406,12],[406,13,406,14],[284,15,284,16],[282,15,282,16],[51,6,51,15],[54,6,54,15],[58,6,58,15],[17,10,17,12],[18,10,18,12],[9,17,9,18],[13,17,13,18],[14,17,14,18],[15,17,15,18],[38,5,38,14],[374,2,374,5],[533,2,533,19],[478,10,479,12],[480,15,481,16],[478,13,478,14],[479,13,479,14],[480,13,480,14],[481,13,481,14],[277,3,278,8],[277,9,278,10],[278,15,278,16],[278,17,278,18],[249,3,250,8],[249,9,250,11],[250,13,250,14],[250,15,250,16],[250,17,250,18],[283,9,283,10],[284,9,284,10],[285,9,285,10],[267,9,267,11],[268,9,268,11],[269,9,269,11],[258,9,258,11],[259,9,259,11],[270,9,270,11],[271,9,271,11],[258,3,258,8],[271,3,271,8],[275,13,275,14],[275,15,275,16],[279,3,279,8],[272,3,272,8],[273,3,273,8],[266,15,266,16],[275,3,275,8],[276,13,276,16],[279,15,279,16],[262,15,262,16],[268,15,268,16],[264,15,264,16],[274,3,274,8],[5,7,5,16],[3,11,3,12],[4,11,4,12],[275,9,275,11],[279,9,279,10],[280,9,280,10],[281,9,281,10],[282,9,282,10],[295,17,295,18],[290,15,290,16],[293,3,293,8],[294,3,294,8],[296,15,296,16],[297,17,297,18],[124,13,124,19],[261,9,261,11],[262,9,262,11],[263,9,263,11],[287,9,287,10],[288,9,288,10],[255,13,255,14],[261,13,261,14],[261,15,261,16],[269,3,269,8],[270,3,270,8],[272,9,272,11],[273,9,273,11],[289,9,289,10],[290,9,290,10],[291,9,291,10],[292,9,292,10],[293,9,293,10],[469,3,469,8],[470,3,470,8],[336,9,336,10],[480,10,481,10],[453,17,453,19],[454,17,454,19],[458,17,458,19],[461,17,461,19],[459,17,460,19],[305,5,305,19],[475,9,475,10],[463,3,463,8],[462,3,462,8],[464,3,464,8],[321,6,321,16],[322,3,322,19],[471,3,471,8],[445,2,445,6],[442,7,442,16],[443,7,443,16],[375,2,375,6],[327,9,327,10],[336,12,336,14],[357,13,357,15],[388,2,388,3],[373,6,373,16],[373,2,373,5],[461,7,461,16],[356,9,356,10],[357,2,357,8],[433,2,433,7],[382,4,382,16],[449,7,449,16],[450,7,450,16],[328,12,328,14],[329,10,329,11],[512,2,512,19],[513,2,513,19],[468,9,468,10],[339,9,339,10],[335,12,335,14],[341,2,341,4],[341,5,341,7],[341,9,341,10],[341,12,341,14],[369,2,369,3],[370,2,370,4],[345,9,345,10],[362,2,362,5],[362,6,362,16],[363,2,363,11],[363,13,363,15],[360,6,360,16],[379,5,379,16],[380,5,380,16],[478,2,479,4],[480,2,481,4],[508,2,508,19],[509,2,509,19],[470,11,470,12],[465,3,465,8],[466,3,466,8],[467,3,467,8],[468,3,468,8],[436,2,436,7],[438,2,438,7],[439,2,439,7],[440,2,440,7],[514,2,514,19],[515,2,515,19],[516,2,516,19],[325,13,325,15],[324,5,324,7],[320,2,320,4],[320,9,320,11],[323,2,323,4],[323,5,323,8],[477,2,477,6],[477,7,477,16],[471,9,471,10],[472,9,472,10],[473,9,473,10],[474,9,474,10],[439,8,439,16],[458,2,458,6],[462,2,476,2],[455,2,457,2],[463,11,463,12],[464,11,464,12],[376,12,376,13],[466,11,466,12],[320,5,320,8],[320,13,320,15],[473,11,473,12],[449,2,449,6],[450,2,450,6],[417,11,417,12],[422,11,422,12],[402,3,402,7],[402,11,402,12],[505,2,505,19],[506,2,506,19],[507,2,507,19],[376,2,376,6],[454,2,454,6],[457,3,457,14],[456,3,456,14],[455,3,455,14],[454,7,454,14],[461,2,461,6],[471,11,471,12],[472,11,472,12],[474,11,474,12],[444,7,444,16],[445,7,445,16],[446,2,446,5],[427,13,427,14],[399,11,399,12],[428,11,428,12],[459,2,460,2],[480,5,481,8],[458,7,458,14],[459,3,459,14],[447,2,447,6],[447,7,447,16],[434,2,434,6],[441,2,441,7],[436,8,436,16],[414,3,414,7],[414,11,414,12],[414,13,414,14],[339,5,340,8],[339,12,340,14],[448,2,448,7],[448,8,448,15],[437,8,437,16],[355,9,355,10],[355,12,355,14],[356,5,356,7],[440,8,440,16],[441,8,441,16],[426,13,426,14],[466,9,466,10],[467,9,467,10],[387,2,387,3],[378,2,378,4],[377,2,377,4],[379,2,379,4],[462,11,462,12],[451,2,451,4],[452,2,452,5],[452,6,452,16],[435,2,435,6],[442,2,442,6],[443,2,443,6],[444,2,444,6],[371,5,371,15],[368,2,368,4],[372,5,372,16],[374,6,374,16],[400,3,400,7],[400,11,400,12],[400,13,400,14],[401,3,401,7],[401,11,401,12],[401,13,401,14],[333,2,333,8],[410,13,410,14],[411,3,411,7],[411,11,411,12],[411,13,411,14],[412,3,412,7],[412,11,412,12],[412,13,412,14],[413,3,413,7],[413,11,413,12],[413,13,413,14],[360,2,360,5],[381,3,381,16],[376,10,376,11],[410,3,410,7],[410,11,410,12],[343,3,343,19],[349,2,349,4],[342,2,342,8],[342,10,342,11],[359,13,359,15],[354,2,354,4],[355,2,355,7],[369,4,369,19],[366,3,366,16],[367,4,367,19],[367,2,367,3],[416,11,416,12],[384,14,384,15],[385,14,385,15],[383,4,383,16],[375,7,375,9],[375,10,375,11],[375,12,375,13],[354,16,355,16],[356,2,356,4],[384,17,385,19],[346,5,346,7],[346,9,346,10],[361,2,361,11],[361,13,361,15],[368,5,368,16],[358,2,358,5],[358,6,358,16],[376,7,376,9],[370,5,370,15],[377,5,377,16],[388,4,388,16],[114,13,114,14],[114,15,114,17],[106,3,107,15],[111,13,111,14],[111,15,111,17],[246,7,246,11],[248,2,275,2],[276,2,303,2],[231,2,241,2],[124,9,124,12],[300,9,300,10],[301,9,301,10],[302,9,302,10],[303,9,303,10],[303,3,303,8],[302,15,302,16],[302,17,302,18],[303,15,303,16],[303,17,303,18],[300,15,300,16],[300,17,300,18],[301,15,301,16],[301,17,301,18],[297,9,297,10],[260,13,260,14],[260,15,260,16],[294,9,294,10],[295,9,295,10],[296,9,296,10],[264,9,264,11],[265,9,265,11],[266,9,266,11],[125,3,125,19],[130,15,130,17],[131,15,131,17],[238,3,238,8],[238,9,238,12],[238,13,238,14],[238,15,238,17],[219,2,229,2],[205,2,215,2],[193,2,203,2],[178,2,191,2],[90,6,90,15],[104,3,104,15],[96,9,96,12],[97,9,97,12],[98,9,98,12],[93,3,93,19],[94,9,94,12],[94,3,94,8],[94,13,94,19],[92,7,92,19],[102,13,102,14],[109,3,109,8],[92,2,92,6],[91,2,91,5],[99,15,99,17],[96,3,96,8],[115,13,115,14],[115,15,115,17],[109,13,109,19],[105,3,105,15],[114,9,114,12],[79,2,79,4],[97,3,97,8],[99,3,99,8],[100,3,100,8],[101,3,101,8],[102,3,102,8],[90,2,90,5],[38,2,38,4],[33,4,33,16],[33,2,33,3],[34,2,34,4],[35,2,35,4],[34,5,34,16],[35,5,35,16],[36,3,36,16],[37,4,37,19],[37,2,37,3],[101,15,101,17],[102,15,102,17],[96,13,96,14],[97,13,97,14],[98,13,98,14],[99,13,99,14],[79,5,79,16],[78,2,78,3],[59,4,59,19],[59,2,59,3],[55,7,55,9],[56,7,56,9],[55,2,56,6],[50,2,50,3],[71,9,71,10],[9,13,9,16],[9,9,9,10],[23,14,23,15],[8,2,8,3],[8,4,8,19],[60,2,60,4],[39,3,39,16],[40,4,40,19],[40,2,40,3],[49,11,49,14],[48,11,48,14],[55,14,55,15],[75,2,75,9],[74,17,74,19],[76,17,76,19],[68,9,68,10],[69,9,69,10],[65,9,65,10],[67,6,67,8],[67,9,67,10],[45,15,46,15],[76,2,76,16],[56,14,56,15],[73,2,73,3],[73,4,73,19],[70,17,70,19],[71,17,71,19],[72,17,72,19],[61,11,61,12],[69,6,69,8],[66,6,66,8],[70,6,70,8],[72,9,72,10],[61,9,62,10],[61,6,62,8],[63,6,63,8],[60,5,60,15],[16,4,16,19],[22,2,22,4],[22,5,22,16],[23,2,24,5],[13,9,13,16],[14,9,14,16],[15,9,15,16],[10,2,10,3],[15,2,15,8],[14,2,14,8],[13,2,13,8],[11,2,11,6],[24,14,24,15],[23,6,23,13],[24,6,24,13],[11,11,11,13],[71,6,71,8],[72,6,72,8],[70,9,70,10],[52,2,53,6],[52,7,52,10],[44,6,44,9],[17,5,18,9],[17,17,18,18],[17,14,17,15],[18,14,18,15],[17,2,18,4],[118,9,118,12],[98,15,98,17],[97,15,97,17],[230,3,230,19],[216,2,216,5],[216,6,216,15],[175,6,175,15],[31,2,31,4],[29,5,29,16],[28,2,28,3],[66,9,66,10],[30,5,30,16],[31,5,31,16],[41,2,41,4],[41,5,41,15],[42,2,42,3],[42,4,42,19],[43,2,43,4],[32,3,32,16],[61,2,72,5],[61,13,61,14],[61,15,61,16],[51,2,51,5],[58,2,58,5],[54,2,54,5],[63,9,63,10],[64,6,64,8],[64,9,64,10],[65,6,65,8],[48,6,48,10],[49,6,49,10],[68,6,68,8],[99,9,99,12],[328,9,328,10],[335,2,335,4],[344,2,345,4],[354,17,357,19],[339,16,340,16],[336,2,336,4],[77,3,77,16],[109,9,109,12],[111,3,111,8],[111,9,111,12],[108,3,108,19],[110,3,110,19],[124,3,124,8],[106,17,106,18],[255,9,255,11],[256,9,256,11],[257,9,257,11],[116,13,116,14],[156,3,156,8],[156,9,156,12],[156,13,156,14],[156,15,156,17],[157,3,157,8],[116,15,116,17],[113,3,113,8],[121,17,121,18],[122,17,122,18],[117,3,117,8],[117,9,117,12],[117,15,117,17],[118,3,118,8],[462,9,462,10],[465,9,465,10],[133,3,134,15],[133,17,133,18],[134,17,134,18],[116,3,116,8],[116,9,116,12],[434,7,434,16],[435,7,435,16],[389,3,389,16],[390,2,390,3],[391,2,391,4],[392,2,392,5],[393,2,393,6],[394,2,394,6],[429,2,429,5],[430,2,430,6],[431,2,431,6],[242,2,242,5],[395,17,395,19],[394,7,394,16],[141,9,141,12],[141,13,141,14],[141,15,141,17],[135,3,135,19],[136,3,136,8],[298,9,298,10],[299,9,299,10],[298,15,298,16],[298,17,298,18],[295,3,295,8],[296,3,296,8],[242,6,242,16],[240,17,240,18],[241,17,241,18],[246,12,246,13],[178,13,178,19],[154,13,154,14],[154,15,154,17],[155,3,155,8],[155,9,155,12],[155,13,155,14],[143,3,143,8],[143,9,143,12],[143,13,143,14],[143,15,143,17],[144,3,144,9],[144,10,144,19],[145,3,146,15],[145,17,145,18],[146,17,146,18],[243,5,243,16],[147,6,147,15],[237,3,237,8],[237,9,237,12],[237,13,237,14],[237,15,237,17],[181,3,181,8],[176,2,176,6],[176,7,176,19],[147,2,147,5],[150,2,161,2],[159,17,159,18],[160,17,160,18],[142,3,142,8],[142,9,142,12],[142,13,142,14],[142,15,142,17],[437,2,437,7],[45,16,46,16],[45,6,45,9],[46,6,46,9],[48,2,49,5],[127,15,127,17],[128,15,128,17],[129,15,129,17],[141,3,141,8],[91,6,91,15],[126,15,126,17],[318,10,318,14],[318,5,318,9],[150,9,150,12],[150,13,150,19],[149,3,149,19],[151,3,151,19],[177,3,177,19],[178,3,178,8],[178,9,178,12],[136,9,136,12],[136,13,136,19],[53,7,53,10],[137,3,137,19],[138,3,138,8],[138,9,138,12],[138,13,138,14],[138,15,138,17],[75,14,75,15],[103,13,103,14],[103,3,103,8],[103,15,103,17],[112,3,112,8],[112,9,112,12],[112,13,112,14],[112,15,112,17],[103,9,103,12],[126,3,126,8],[126,9,126,12],[126,13,126,14],[140,15,140,17],[130,13,130,14],[131,13,131,14],[132,3,132,9],[132,10,132,19],[139,3,139,8],[139,9,139,12],[139,13,139,14],[139,15,139,17],[140,3,140,8],[140,9,140,12],[140,13,140,14],[127,13,127,14],[128,13,128,14],[129,13,129,14],[104,17,104,18],[105,17,105,18],[120,3,120,15],[120,17,120,18],[121,3,122,15],[127,9,127,12],[128,9,128,12],[129,9,129,12],[130,9,130,12],[95,3,95,19],[113,9,113,12],[113,13,113,14],[113,15,113,17],[114,3,114,8],[127,3,127,8],[128,3,128,8],[129,3,129,8],[130,3,130,8],[131,3,131,8],[96,15,96,17],[131,9,131,12],[119,3,119,15],[119,17,119,18],[107,17,107,18],[115,3,115,8],[115,9,115,12],[117,13,117,14],[118,13,118,14],[118,15,118,17],[100,15,100,17],[98,3,98,8],[100,9,100,12],[101,9,101,12],[102,9,102,12],[101,13,101,14],[123,3,123,19],[100,13,100,14],[155,15,155,17],[157,9,157,12],[157,13,157,14],[157,15,157,17],[148,2,148,6],[148,7,148,19],[150,3,150,8],[152,3,152,8],[152,9,152,12],[152,13,152,14],[152,15,152,17],[153,3,153,8],[153,9,153,12],[153,13,153,14],[153,15,153,17],[154,3,154,8],[154,9,154,12],[163,3,163,8],[167,9,167,12],[167,13,167,14],[167,15,167,17],[165,13,165,14],[183,3,183,8],[183,9,183,12],[183,13,183,14],[183,15,183,17],[184,3,184,8],[184,9,184,12],[184,13,184,14],[184,15,184,17],[182,3,182,8],[182,9,182,12],[182,13,182,14],[182,15,182,17],[181,9,181,12],[181,13,181,14],[181,15,181,17],[170,3,170,8],[170,9,170,12],[170,13,170,14],[170,15,170,17],[171,3,171,15],[171,17,171,18],[172,3,172,15],[172,17,172,18],[174,17,174,18],[175,2,175,5],[173,3,174,15],[173,17,173,18],[179,3,179,19],[180,3,180,8],[180,9,180,12],[180,13,180,14],[180,15,180,17],[187,3,187,8],[187,9,187,12],[187,13,187,14],[187,15,187,17],[188,3,188,15],[188,17,188,18],[189,3,189,15],[189,17,189,18],[190,3,191,15],[190,17,190,18],[185,3,185,8],[185,9,185,12],[185,13,185,14],[185,15,185,17],[186,3,186,8],[186,9,186,12],[186,13,186,14],[186,15,186,17],[197,3,197,8],[197,9,197,12],[197,13,197,14],[197,15,197,17],[198,3,198,8],[198,9,198,12],[198,13,198,14],[198,15,198,17],[196,3,196,8],[196,9,196,12],[196,13,196,14],[196,15,196,17],[199,3,199,8],[191,17,191,18],[192,3,192,19],[193,3,193,8],[193,9,193,12],[193,13,193,19],[194,3,194,19],[195,3,195,8],[195,9,195,12],[195,13,195,14],[195,15,195,17],[209,3,209,8],[209,9,209,12],[199,9,199,12],[199,13,199,14],[199,15,199,17],[200,3,200,8],[200,9,200,12],[200,13,200,14],[200,15,200,17],[223,3,223,8],[207,9,207,12],[207,13,207,14],[207,15,207,17],[208,3,208,8],[208,9,208,12],[208,13,208,14],[208,15,208,17],[201,3,201,9],[225,15,225,17],[217,2,217,6],[217,7,217,19],[218,3,218,19],[219,3,219,8],[219,9,219,12],[219,13,219,19],[220,3,220,19],[224,3,224,8],[213,3,213,9],[213,10,213,19],[214,3,215,15],[214,17,214,18],[215,17,215,18],[211,3,211,8],[211,9,211,12],[211,13,211,14],[211,15,211,17],[212,3,212,8],[212,9,212,12],[212,13,212,14],[212,15,212,17],[233,9,233,12],[233,13,233,14],[233,15,233,17],[234,3,234,8],[234,9,234,12],[234,13,234,14],[234,15,234,17],[253,9,253,11],[201,10,201,19],[202,3,203,15],[202,17,202,18],[203,17,203,18],[204,3,204,19],[205,3,205,8],[205,9,205,12],[205,13,205,19],[252,13,252,14],[209,13,209,14],[209,15,209,17],[210,3,210,8],[210,9,210,12],[210,13,210,14],[210,15,210,17],[206,3,206,19],[207,3,207,8],[239,3,239,9],[224,9,224,12],[224,13,224,14],[224,15,224,17],[225,3,225,8],[225,9,225,12],[225,13,225,14],[264,17,264,18],[248,17,248,19],[260,9,260,11],[255,17,255,18],[259,13,259,14],[259,15,259,16],[259,3,259,8],[260,3,260,8],[221,3,221,8],[221,9,221,12],[221,13,221,14],[221,15,221,17],[222,3,222,8],[222,9,222,12],[222,13,222,14],[222,15,222,17],[249,17,249,18],[223,9,223,12],[223,13,223,14],[223,15,223,17],[239,10,239,19],[240,3,241,15],[245,2,247,6],[248,13,248,16],[254,17,254,18],[231,3,231,8],[231,9,231,12],[231,13,231,19],[232,3,232,19],[233,3,233,8],[247,7,247,11],[243,2,243,4],[254,13,254,14],[254,15,254,16],[251,15,251,16],[251,17,251,18],[259,17,259,18],[260,17,260,18],[261,17,261,18],[252,15,252,16],[252,17,252,18],[256,13,256,14],[247,12,247,13],[247,14,247,15],[256,17,256,18],[257,13,257,14],[257,15,257,16],[257,17,257,18],[258,13,258,14],[258,15,258,16],[258,17,258,18],[246,17,247,19],[256,15,256,16],[265,13,265,14],[265,15,265,16],[266,13,266,14],[226,3,226,8],[226,9,226,12],[226,13,226,14],[226,15,226,17],[227,3,227,9],[227,10,227,19],[228,3,229,15],[228,17,228,18],[229,17,229,18],[235,3,235,8],[235,9,235,12],[235,13,235,14],[253,13,253,14],[253,15,253,16],[253,17,253,18],[235,15,235,17],[236,3,236,8],[236,9,236,12],[236,13,236,14],[236,15,236,17],[249,13,249,14],[249,15,249,16],[253,3,253,8],[254,9,254,11],[244,6,244,16],[251,9,251,11],[252,9,252,11],[244,2,244,5],[251,13,251,14],[276,17,276,19],[268,13,268,14],[268,17,268,18],[269,13,269,14],[277,15,277,16],[274,13,274,14],[274,15,274,16],[274,17,274,18],[263,13,263,14],[275,17,275,18],[276,3,276,12],[256,3,256,8],[257,3,257,8],[254,3,254,8],[255,3,255,8],[255,15,255,16],[269,15,269,16],[269,17,269,18],[270,13,270,14],[270,15,270,16],[270,17,270,18],[274,9,274,11],[277,17,277,18],[266,17,266,18],[267,13,267,14],[267,15,267,16],[267,17,267,18],[262,13,262,14],[263,15,263,16],[263,17,263,18],[264,13,264,14],[262,17,262,18],[282,17,282,18],[283,15,283,16],[283,17,283,18],[279,17,279,18],[280,15,280,16],[280,17,280,18],[284,17,284,18],[281,15,281,16],[281,17,281,18]],"merged_total":1489,"flags":["merged_cut"]}
[]
[null,"Navigate to Endnotes","-","Phius CORE Prescriptive 2021 Checklist - V2.9 - 03/2023"]
[null,null,null,null,null,null,null,"*To view all content in this checklist, make sure to 'enable macros'*",null,null,null,null,null,null,null,null,null,"NR = No Requirement"]
[null,null,null,null,null,null,null,"Required input cells.",null,null,null,"Requirement met.",null,"Calculated.",null,null,"Threshold","Input 'X' for verification in columns R & S.",null,null,null,"Round of Review:","Round 1",null,"Round 2",null,"Round 3"]
[null,null,null,null,null,null,null,"Required dropdown menu inputs.",null,null,null,"Requirement not met.",null,"Calculated from another sheet.",null,null,null,"If a particular requirement is not applicable, mark 'X' in column T.",null,null,null,"Date:"]
[null,null,null,null,null,null,null,"Instructions: Use the [+] icon on the far left of the screen to expand and view built in compliance calculators.",null,null,null,null,null,null,null,null,null,null,null,null,null,"User Notes","Phius Review Comments","Submitter Response","Phius Review Comments","Submitter Response","Phius Review Comments","Submitter Response"]
[null,null,0,"Project Information",null,null,null,null,null,null,null,null,null,null,null,null,null,null,null,null,null,null,"-Select from Dropdown-"]
[null,null,"Phius Project Number:",null,null,null,null,null,null,"Project Name:",null,null,null,null,null,null,null,null,"Date:"]
[null,null,0.3,null,"Climate Information"]
[null,null,"State / Province:",null,null,null,null,null,null,"ILLINOIS",null,"City:",null,"CHICAGO OHARE INTL AP",null,null,null,"Climate Zone:",null,{"$f":"'Reference Climate Info_Vals'!C2","v":"5A"}]
[null,null,0.4,null,"Project Location"]
[null,null,"City:",null,null,null,null,null,null,null,null,"Street Address:",null,null,null,null,null,null,"Zip Code:"]
[null,null,0.5,null,"Project Team"]
[null,null,"Submitter/CPHC Name:",null,null,null,null,null,null,null,null,null,null,null,null,null,null,"Phius ID:"]
[null,null,"Builder Name:",null,null,null,null,null,null,null,null,null,null,null,null,null,null,"Phius ID:"]
[null,null,"Rater Name:",null,null,null,null,null,null,null,null,null,null,null,null,null,null,"Phius ID:"]
[null,null,0.6,null,"Project Specifics"]
[null,null,"Project Type:",null,null,"Single Family Detached - New Construction",null,null,null,null,"Interior Conditioned Floor Area (iCFA) [ft2]:",null,null,null,"Number of Stories:",null,null,"South Façade Azimuth [°]:",null,180]
[null,null,null,null,null,null,null,null,null,null,"Exterior Enclosure Area [ft2]:",null,null,null,"Number of Bedrooms:"]
[null,null,1,"General",null,null,null,null,null,null,null,null,null,null,null,null,null,"Design Verified","Rater Verified","NA",null,null,"-Select from Dropdown-"]
[null,null,1.1000000000000001,null,"Scope"]
[null,"1,2","1.1.1",null,null,"The proposed building is a single-family detached or attached residence1 (one dwelling unit2 where the occupants are primarily permanent in nature.)"]
[null,null,"1.1.2",null,null,"The iCFA (minus excluded floor levels) divided by the number of bedrooms < 900 [ft2]. Excluded Floor Levels are floor levels without egress windows/doors."]
[null,null,"1.1.2.1",null,null,null,"Area of Excluded Floor Levels [ft2]",null,null,null,null,null,null,null,"iCFA/Bedroom",null,"< 900 [ft2]:"]
[null,null,null,null,null,null,0,null,null,null,null,null,null,null,{"$f":"IF(ISBLANK(N18), \"\", IF(ISBLANK(Q19),\"\",ROUND((N18-G25)/Q19,0)))","v":""},null,{"$f":"IF(O25<900, \"YES\", \"NO\")","v":"NO"}]
[null,null,"1.1.3",null,null,"No fossil fuel combustion equipment is to be installed."]
[null,null,"1.1.4",null,null,"No jetted tubs or indoor pools are planned."]
[null,null,"1.1.5",null,null,"No natural draft fireplaces are to be installed."]
[null,3,1.2,null,"Co-Requisites3"]
[null,null,"1.2.1",null,null,"ENERGY STAR Certified Homes"]
[null,null,"1.2.2",null,null,"DOE Zero Energy Ready Homes"]
[null,null,"1.2.3",null,null,"EPA Indoor airPLUS"]
[null,null,2,"Air-Tightness",null,null,null,null,null,null,null,null,null,null,null,null,null,"Design Verified","Rater Verified","NA",null,null,"-Select from Dropdown-"]
[null,4,2.1,null,"Measured building airtightness q50 ≤ 0.04 cfm/ft2 enclosure area.4"]
[null,5,"2.1.1",null,null,"Testing agent identified for preliminary blower door test.5",null,null,null,null,null,null,null,null,null,null,null,null,null,null,null,null,"-Select from Dropdown-"]
[null,null,"2.1.2",null,null,"Airtightness detail drawings must be comprehensible and show a continuous uninterrupted air barrier that forms from different materials and components at all junctions."]
[null,null,3," Compactness",null,null,null,null,null,null,null,null,null,null,null,null,null,"Design Verified","Rater Verified","NA",null,null,"-Select from Dropdown-"]
[null,6,3.1,null,"Building Enclosure Area6"]
[null,null,"3.1.1",null,null,"Does not exceed the calculated maximum limit [ft2] calculated to the right.",null,null,null,null,null,null,null,null,null,{"$f":"IF(AND(N19<=Q39,N19>0), \"YES\", \"NO\")","v":"NO"},{"$f":"IFERROR('Compliance Calcs'!C5,\"-\")","v":"-"}]
[null,null,4,"Solar Protection",null,null,null,null,null,null,null,null,null,null,null,null,null,"Design Verified","Rater Verified","NA",null,null,"-Select from Dropdown-"]
[null,7,4.0999999999999996,null,"Glazed Fenestration Solar Heat Gain Coefficient7 (SHGC)"]
[null,8,"4.1.1",null,null,"Does not exceed the calculated maximum requirement.8",null,null,null,null,null,null,null,null,null,null,{"$f":"'Reference Climate Info_Vals'!BO2","v":"NR"}]
[null,null,4.2,null,"Glazed Fenestration Area"]
[null,9,"4.2.1",null,null,"The overall window-to-wall (WWR) area ratio9 is ≤ 18%."]
[null,null,"4.2.1.1",null,null,null,"Orientation (within 90°)",null,null,null,"North","East","South","West","Total","Calculated WWR","≤ 18%"]
[null,null,null,null,null,null,"Window Area [ft2]",null,null,null,{"$f":"6*3+24+24+(6.667*3)","v":86.001000000000005},{"$f":"36*2","v":72},{"$f":"(6*5.5)*3+(6*6.5)*2+(6*7.667)","v":223.00200000000001},{"$f":"36+5.5*9","v":85.5},{"$f":"SUM(K46:N46)","v":466.50300000000004},{"$f":"ROUND(O46/(O46+O47),2)","v":0.16},{"$f":"IF(P46<=18%,\"YES\",\"NO\")","v":"YES"}]
[null,null,null,null,null,null,"Above-grade Wall Area [ft2]",null,null,null,756.6,593.29999999999995,616.6,571.20000000000005,{"$f":"SUM(K47:N47)","v":2537.6999999999998}]
[null,10,"4.2.2",null,null,"The skylight-to-roof (SRR) area ratio10 is ≤ 3%."]
[null,null,"4.2.2.1",null,null,null,"Roof Area [ft2]",null,null,null,null,"Skylight Area [ft2]",null,null,null,"Calculated SRR","≤ 3%"]
[null,null,null,null,null,null,1500,null,null,null,null,50,null,null,null,{"$f":"ROUND(L50/(L50+G50),2)","v":0.03},{"$f":"IF(P50<=3%,\"YES\",\"NO\")","v":"YES"}]
[null,11,4.3,null,"Fenestration orientation - Adequate Exposure Diversity (AED) complies with a, b or c below.11",null,null,null,null,null,null,null,null,null,"Choose one:",null,"Select"]
[null,12,"4.3.1a",null,null,null,"Window-to-floor (WFR) area ratio12 ≤ 15%. ",null,null,null,null,null,null,null,null,null,{"$f":"IF(OR(F18=\"Single Family Detached - New Construction\",F18=\"Single Family Detached - Retrofit\"),\"≤ 15%\",\"NR\")","v":"≤ 15%"}]
[null,null,"4.3.1a.1",null,null,null,null,"iCFA [ft2]",null,null,null,"Window Area [ft2]",null,null,null,"Calculated WFR","≤ 15%"]
[null,null,null,null,null,null,null,{"$f":"N18","v":0},null,null,null,{"$f":"O46","v":466.50300000000004},null,null,null,{"$f":"IFERROR(ROUND(SUM($K$46:$N$46)/$N$18,2),\"-\")","v":"-"},{"$f":"IF(P54<=15%,\"YES\",\"NO\")","v":"NO"}]
[null,"13, 14","4.3.1b",null,null,null,"Adequate Exposure Diversity13 (AED) is achieved using the simplified method.14",null,null,null,null,null,null,null,null,null,{"$f":"IF(OR(F18=\"Single Family Detached - New Construction\",F18=\"Single Family Detached - Retrofit\"),\"< 100%\",\"NR\")","v":"< 100%"}]
[null,null,"4.3.1b.1",null,null,null,null,"Orientation (within 90°)",null,null,"North","East","South","West","AED Score\n<100% Passes",null,"Passes?"]
[null,null,null,null,null,null,null,"Window Area [ft2]",null,null,{"$f":"'Net Gain - Angle Calculator'!I18","v":86.000999999999991},{"$f":"'Net Gain - Angle Calculator'!J18","v":72},{"$f":"'Net Gain - Angle Calculator'!K18","v":223.00200000000001},{"$f":"'Net Gain - Angle Calculator'!L18","v":85.500000000000014},{"$f":"Main!P405","v":0.78941321029501765},null,{"$f":"IF(O57<=100%,\"YES\",\"NO\")","v":"YES"}]
[null,null,{"$f":"IF(O57>1,\"If AED is failing, try balancing the East & West window areas, distrubiting the fenestration more evenly, or shifting area to the North façade.\",\"-\")","v":"-"}]
[null,null,"4.3.1c",null,null,null,"AED is achieved according to ACCA Manual J calculation.",null,null,null,null,null,null,null,null,null,{"$f":"IF(OR(F18=\"Single Family Detached - New Construction\",F18=\"Single Family Detached - Retrofit\"),\"Manual J\",\"NR\")","v":"Manual J"}]
[null,null,4.4000000000000004,null,"Fixed Overhangs"]
[null,"15, 16, 17","4.4.1",null,null,"In Climate Zones15 0-3, south-facing glazed fenestration16 is protected by fixed overhangs with a Projection Factor (PF) as calculated.17",null,null,null,null,null,null,null,null,null,null,{"$f":"IF(ISNUMBER('Reference Climate Info_Vals'!BM2),ROUND('Reference Climate Info_Vals'!BM2,2),'Reference Climate Info_Vals'!BM2)","v":"NR"}]
[null,null,"4.4.1.1",null,null,null,"South Facing Fenestration  Mark",null,null,"Quantity",null,"Sill Height Above Finished Floor (AFF)",null,"Overhang Height (AFF)",null,"Minimum Overhang Depth Required based on PF"]
[null,null,null,null,null,null,null,null,null,null,null,"[ft]","[in]","[ft]","[in]","[ft]","[in]"]
[null,null,null,null,null,null,"South Door D100",null,null,1,null,0,0,7,0,{"$f":"IF($Q$61=\"NR\",\"NR\",ROUNDDOWN($Q$61*((N64+(O64/12))-(L64+(M64/12))),0))","v":"NR"},{"$f":"IF($Q$61=\"NR\",\"NR\",ROUNDDOWN(($Q$61*((N64+(O64/12))-(L64+(M64/12)))-P64)*12,0))","v":"NR"}]
[null,null,null,null,null,null,null,null,null,null,null,null,null,null,null,{"$f":"IF($Q$61=\"NR\",\"NR\",ROUNDDOWN($Q$61*((N65+(O65/12))-(L65+(M65/12))),0))","v":"NR"},{"$f":"IF($Q$61=\"NR\",\"NR\",ROUNDDOWN(($Q$61*((N65+(O65/12))-(L65+(M65/12)))-P65)*12,0))","v":"NR"}]
[null,null,null,null,null,null,null,null,null,null,null,null,null,null,null,"NR","NR"]
[null,null,null,null,null,null,null,null,null,null,null,null,null,null,null,"NR","NR"]
[null,null,null,null,null,null,null,null,null,null,null,null,null,null,null,"NR","NR"]
[null,null,null,null,null,null,null,null,null,null,null,null,null,null,null,"NR","NR"]
[null,null,null,null,null,null,null,null,null,null,null,null,null,null,null,"NR","NR"]
[null,null,null,null,null,null,null,null,null,null,null,null,null,null,null,"NR","NR"]
[null,null,null,null,null,null,null,null,null,null,null,null,null,null,null,"NR","NR"]
[null,null,null,null,null,null,null,null,null,null,null,null,null,null,null,"NR","NR"]
[null,null,4.5,null,"In climate zones 4-7 except 4C & 5C, fenestration orientation - Net Heat Gain complies with calculation below."]
[null,null,"Orientation (within 90°)",null,null,null,null,null,null,null,"North","East","South","West","Net Gain Score\n>0 Passes",null,"Passes?"]
[null,null,"Window Area [ft2]",null,null,null,null,null,null,null,{"$f":"$K$57","v":86.000999999999991},{"$f":"$L$57","v":72},{"$f":"$M$57","v":223.00200000000001},{"$f":"$N$57","v":85.500000000000014},{"$f":"Main!Q405","v":40},null,{"$f":"IF(OR(O76=\"NR\",O76>=0)=TRUE,\"YES\",\"NO\")","v":"YES"}]
[null,null,{"$f":"IF(O76<0,\"If Net Heat Gain is failing, try reducing the north-facing window area and/or increasing south-facing window area.\",\"-\")","v":"-"}]
[null,null,5,"Thermal Enclosure",null,null,null,null,null,null,null,null,null,null,null,null,null,"Design Verified","Rater Verified","NA",null,null,"-Select from Dropdown-"]
[null,"18, 19",5.0999999999999996,null,"Enclosure meets 5.1.1 OR 5.1.2 below.18,19",null,null,null,null,null,null,"Choose one:",null,"Select"]
[null,null,"5.1.1",null,null,"Individual Component Compliance"]
[null,null,"5.1.1.1",null,null,null,"Use the [+] icon on the far left of the screen to expand and input user-defined materials for the compliance calculators in sections 5.1.1b,c,d and 3 below."]
[null,null,null,null,null,null,null,null,null,null,null,null,"Materials",null,null,null,"R-value/in"]
[null,null,null,null,null,null,null,null,null,null,null,null,"Pink Panther XPS",null,null,null,5.0999999999999996]
[null,null,null,null,null,null,null,null,null,null,null,null,"Gravel",null,null,null,0.2]
[]
[]
[]
[]
[]
[]
[null,20,"5.1.1a",null,null,null,"Fenestration U-Values20 ≤ maximum U-value [BTU/h.ft2.°F].",null,null,null,null,null,null,null,null,null,{"$f":"'Reference Climate Info_Vals'!BH2","v":0.1546829848716641}]
[null,21,"5.1.1b",null,null,null,"Above-grade walls and cantilevered floors effective R-Value21 [ft2.°F.h/BTU] meets calculated minimum.",null,null,null,null,null,null,null,null,null,{"$f":"'Reference Climate Info_Vals'!BJ2","v":38}]
[null,null,"5.1.1b.1",null,null,null,null,"Use the [+] icon on the far left of the screen to expand and view built in compliance calculators."]
[null,null,{"$f":"IF(T108=0,\"-\",T108)","v":36},"Above-Grade Wall Type 1"]
[null,null,null,"Step 1: Choose Wall Assembly Type.",null,null,null,null,null,"Wall Type B (1)",null,null,null,{"$f":"HLOOKUP(J95,'Effective R-Values'!$P$2:$Y$11,'Effective R-Values'!$P$11,FALSE)","v":"Framed assemblies with some insulation value outside of the framing or structure."}]
[null,null,null,"Step 2: Fill in assembly materials, thicknesses & framing."]
[null,null,null,"Material Layer",null,null,null,null,null,"Material Type",null,null,null,"Thickness [in]",null,"Framing Type",null,null,"R/in","Effective R-Value"]
[null,null,null,{"$f":"HLOOKUP(J95,'Effective R-Values'!$Q$2:$Z$9,'Effective R-Values'!$P$3,FALSE)","v":"Continous Exterior Insulation"},null,null,null,null,null,"Polyisocyanurate",null,null,null,3,null,"-",null,null,{"$f":"IFERROR(VLOOKUP(J98,'Effective R-Values'!$J$2:$K$34,2,FALSE),)","v":5.8},{"$f":"IF(LEFT(J98,3)=\"air\",S98, IFERROR(VLOOKUP(P98,'Effective R-Values'!$M$2:$N$13,2,FALSE)*N98*S98+(1-VLOOKUP(P98,'Effective R-Values'!$M$2:$N$13,2,FALSE))*1.25,))","v":17.399999999999999}]
[null,null,null,{"$f":"HLOOKUP(J95,'Effective R-Values'!$Q$2:$Z$9,'Effective R-Values'!$P$4,FALSE)","v":"Sheathing"},null,null,null,null,null,"Plywood",null,null,null,0.75,null,"-",null,null,{"$f":"IFERROR(VLOOKUP(J99,'Effective R-Values'!$J$2:$K$34,2,FALSE),)","v":1.4},{"$f":"IF(LEFT(J99,3)=\"air\",S99, IFERROR(VLOOKUP(P99,'Effective R-Values'!$M$2:$N$13,2,FALSE)*N99*S99+(1-VLOOKUP(P99,'Effective R-Values'!$M$2:$N$13,2,FALSE))*1.25,))","v":1.0499999999999998}]
[null,null,null,{"$f":"HLOOKUP(J95,'Effective R-Values'!$Q$2:$Z$9,'Effective R-Values'!$P$5,FALSE)","v":"Insulated Cavity"},null,null,null,null,null,"Cellulose (Blown-in Wall)",null,null,null,5.5,null,"Wall Wood Frame (24\" o.c.)",null,null,{"$f":"IFERROR(VLOOKUP(J100,'Effective R-Values'!$J$2:$K$34,2,FALSE),)","v":3.8},{"$f":"IF(LEFT(J100,3)=\"air\",S100, IFERROR(VLOOKUP(P100,'Effective R-Values'!$M$2:$N$13,2,FALSE)*N100*S100+(1-VLOOKUP(P100,'Effective R-Values'!$M$2:$N$13,2,FALSE))*1.25,))","v":16.576999999999998}]
[null,null,null,{"$f":"HLOOKUP(J95,'Effective R-Values'!$Q$2:$Z$9,'Effective R-Values'!$P$6,FALSE)","v":"Interior Finish"},null,null,null,null,null,"Gypsum Wall Board",null,null,null,0.625,null,"-",null,null,{"$f":"IFERROR(VLOOKUP(J101,'Effective R-Values'!$J$2:$K$34,2,FALSE),)","v":0.89800000000000002},{"$f":"IF(LEFT(J101,3)=\"air\",S101, IFERROR(VLOOKUP(P101,'Effective R-Values'!$M$2:$N$13,2,FALSE)*N101*S101+(1-VLOOKUP(P101,'Effective R-Values'!$M$2:$N$13,2,FALSE))*1.25,))","v":0.56125000000000003}]
[null,null,null,{"$f":"HLOOKUP(J95,'Effective R-Values'!$Q$2:$Z$9,'Effective R-Values'!$P$7,FALSE)","v":"-"},null,null,null,null,null,null,null,null,null,null,null,"-",null,null,{"$f":"IFERROR(VLOOKUP(J102,'Effective R-Values'!$J$2:$K$34,2,FALSE),)","v":0},{"$f":"IF(LEFT(J102,3)=\"air\",S102, IFERROR(VLOOKUP(P102,'Effective R-Values'!$M$2:$N$13,2,FALSE)*N102*S102+(1-VLOOKUP(P102,'Effective R-Values'!$M$2:$N$13,2,FALSE))*1.25,))","v":0}]
[null,null,null,{"$f":"HLOOKUP(J95,'Effective R-Values'!$Q$2:$Z$9,'Effective R-Values'!$P$8,FALSE)","v":"-"},null,null,null,null,null,null,null,null,null,null,null,"-",null,null,{"$f":"IFERROR(VLOOKUP(J103,'Effective R-Values'!$J$2:$K$34,2,FALSE),)","v":0},{"$f":"IF(LEFT(J103,3)=\"air\",S103, IFERROR(VLOOKUP(P103,'Effective R-Values'!$M$2:$N$13,2,FALSE)*N103*S103+(1-VLOOKUP(P103,'Effective R-Values'!$M$2:$N$13,2,FALSE))*1.25,))","v":0}]
[null,null,null,{"$f":"HLOOKUP(J95,'Effective R-Values'!$Q$2:$Z$9,'Effective R-Values'!$P$9,FALSE)","v":"-"},null,null,null,null,null,null,null,null,null,null,null,"-",null,null,{"$f":"IFERROR(VLOOKUP(J104,'Effective R-Values'!$J$2:$K$34,2,FALSE),)","v":0},{"$f":"IF(LEFT(J104,3)=\"air\",S104, IFERROR(VLOOKUP(P104,'Effective R-Values'!$M$2:$N$13,2,FALSE)*N104*S104+(1-VLOOKUP(P104,'Effective R-Values'!$M$2:$N$13,2,FALSE))*1.25,))","v":0}]
[null,null,null,"Step 3: Review hygrothermal & moisture guidelines.",null,null,null,null,null,null,null,null,null,null,null,null,{"$f":"IF(R106=\"NR\",\"NR\",\"≥\"&R106)","v":"≥0.35"},"Required Ratio",null,"Calculated Ratio"]
[null,null,null,{"$f":"HLOOKUP(J95,'Effective R-Values'!$Q$2:$Z$11,'Effective R-Values'!$P$10,FALSE)","v":"This wall type allows Class III interior vapor control so long as the sheathing-to-cavity R-value ratio is >0.35."},null,null,null,null,null,null,null,null,null,null,null,null,{"$f":"IF(LEFT(RIGHT(J95,5),1)=\"b\",IF(R106=\"NR\",\"NR\",IF(T106>R106,\"YES\",\"NO\")),\"NR\")","v":"YES"},{"$f":"IFERROR(IF(LEFT(RIGHT(J95,5),1)=\"B\",VLOOKUP($T$10,'Effective R-Values'!$P$32:$U$48,5,FALSE),\"NR\"),\"n/a\")","v":0.35},null,{"$f":"IFERROR(IF(LEFT(RIGHT(J95,5),5)=\"B (1)\",(S98*N98)/(SUMPRODUCT(N98:N104,S98:S104)-(S98*N98)),IF(LEFT(RIGHT(J95,5),5)=\"B (2)\",SUMPRODUCT(S98:S99,N98:N99)/(SUMPRODUCT(N98:N104,S98:S104)-SUMPRODUCT(S98:S99,N98:N99)),\"-\")),)","v":0.77294685990338163}]
[null,null,null,"Step 4: Review Effective R-Value to confirm compliance with required R-value.",null,null,null,null,null,null,null,null,null,null,null,null,{"$f":"\"≥\"&R108","v":"≥38"},"Required R-value",null,"Calculated R-value"]
[null,null,null,null,null,null,null,null,null,null,null,null,null,null,null,null,{"$f":"IF(T108>=R108,\"YES\",\"NO\")","v":"NO"},{"$f":"$Q$92","v":38},null,{"$f":"ROUND(SUM(T98:T104),0)","v":36}]
[null,null,{"$f":"IF(T123=0,\"-\",T123)","v":40},"Above-Grade Wall Type 2"]
[null,null,null,"Step 1: Choose Wall Assembly Type.",null,null,null,null,null,"Wall Type B (1)",null,null,null,{"$f":"HLOOKUP(J110,'Effective R-Values'!$P$2:$Y$11,'Effective R-Values'!$P$11,FALSE)","v":"Framed assemblies with some insulation value outside of the framing or structure."}]
[null,null,null,"Step 2: Fill in assembly materials, thicknesses & framing."]
[null,null,null,"Material Layer",null,null,null,null,null,"Material Type",null,null,null,"Thickness [in]",null,"Framing Type",null,null,"R/in","Effective R-Value"]
[null,null,null,{"$f":"HLOOKUP(J110,'Effective R-Values'!$Q$2:$Z$9,'Effective R-Values'!$P$3,FALSE)","v":"Continous Exterior Insulation"},null,null,null,null,null,"Polyisocyanurate",null,null,null,4,null,"-",null,null,{"$f":"IFERROR(VLOOKUP(J113,'Effective R-Values'!$J$2:$K$34,2,FALSE),)","v":5.8},{"$f":"IF(LEFT(J113,3)=\"air\",S113, IFERROR(VLOOKUP(P113,'Effective R-Values'!$M$2:$N$13,2,FALSE)*N113*S113+(1-VLOOKUP(P113,'Effective R-Values'!$M$2:$N$13,2,FALSE))*1.25,))","v":23.2}]
[null,null,null,{"$f":"HLOOKUP(J110,'Effective R-Values'!$Q$2:$Z$9,'Effective R-Values'!$P$4,FALSE)","v":"Sheathing"},null,null,null,null,null,"Plywood",null,null,null,0.5,null,"-",null,null,{"$f":"IFERROR(VLOOKUP(J114,'Effective R-Values'!$J$2:$K$34,2,FALSE),)","v":1.4},{"$f":"IF(LEFT(J114,3)=\"air\",S114, IFERROR(VLOOKUP(P114,'Effective R-Values'!$M$2:$N$13,2,FALSE)*N114*S114+(1-VLOOKUP(P114,'Effective R-Values'!$M$2:$N$13,2,FALSE))*1.25,))","v":0.7}]
[null,null,null,{"$f":"HLOOKUP(J110,'Effective R-Values'!$Q$2:$Z$9,'Effective R-Values'!$P$5,FALSE)","v":"Insulated Cavity"},null,null,null,null,null,"Cellulose (Blown-in Wall)",null,null,null,5.5,null,"Wall Wood Frame (16\" o.c.)",null,null,{"$f":"IFERROR(VLOOKUP(J115,'Effective R-Values'!$J$2:$K$34,2,FALSE),)","v":3.8},{"$f":"IF(LEFT(J115,3)=\"air\",S115, IFERROR(VLOOKUP(P115,'Effective R-Values'!$M$2:$N$13,2,FALSE)*N115*S115+(1-VLOOKUP(P115,'Effective R-Values'!$M$2:$N$13,2,FALSE))*1.25,))","v":15.987499999999999}]
[null,null,null,{"$f":"HLOOKUP(J110,'Effective R-Values'!$Q$2:$Z$9,'Effective R-Values'!$P$6,FALSE)","v":"Interior Finish"},null,null,null,null,null,"Gypsum Wall Board",null,null,null,0.625,null,"-",null,null,{"$f":"IFERROR(VLOOKUP(J116,'Effective R-Values'!$J$2:$K$34,2,FALSE),)","v":0.89800000000000002},{"$f":"IF(LEFT(J116,3)=\"air\",S116, IFERROR(VLOOKUP(P116,'Effective R-Values'!$M$2:$N$13,2,FALSE)*N116*S116+(1-VLOOKUP(P116,'Effective R-Values'!$M$2:$N$13,2,FALSE))*1.25,))","v":0.56125000000000003}]
[null,null,null,{"$f":"HLOOKUP(J110,'Effective R-Values'!$Q$2:$Z$9,'Effective R-Values'!$P$7,FALSE)","v":"-"},null,null,null,null,null,null,null,null,null,null,null,"-",null,null,{"$f":"IFERROR(VLOOKUP(J117,'Effective R-Values'!$J$2:$K$34,2,FALSE),)","v":0},{"$f":"IF(LEFT(J117,3)=\"air\",S117, IFERROR(VLOOKUP(P117,'Effective R-Values'!$M$2:$N$13,2,FALSE)*N117*S117+(1-VLOOKUP(P117,'Effective R-Values'!$M$2:$N$13,2,FALSE))*1.25,))","v":0}]
[null,null,null,{"$f":"HLOOKUP(J110,'Effective R-Values'!$Q$2:$Z$9,'Effective R-Values'!$P$8,FALSE)","v":"-"},null,null,null,null,null,null,null,null,null,null,null,"-",null,null,{"$f":"IFERROR(VLOOKUP(J118,'Effective R-Values'!$J$2:$K$34,2,FALSE),)","v":0},{"$f":"IF(LEFT(J118,3)=\"air\",S118, IFERROR(VLOOKUP(P118,'Effective R-Values'!$M$2:$N$13,2,FALSE)*N118*S118+(1-VLOOKUP(P118,'Effective R-Values'!$M$2:$N$13,2,FALSE))*1.25,))","v":0}]
[null,null,null,{"$f":"HLOOKUP(J110,'Effective R-Values'!$Q$2:$Z$9,'Effective R-Values'!$P$9,FALSE)","v":"-"},null,null,null,null,null,null,null,null,null,null,null,"-",null,null,{"$f":"IFERROR(VLOOKUP(J119,'Effective R-Values'!$J$2:$K$34,2,FALSE),)","v":0},{"$f":"IF(LEFT(J119,3)=\"air\",S119, IFERROR(VLOOKUP(P119,'Effective R-Values'!$M$2:$N$13,2,FALSE)*N119*S119+(1-VLOOKUP(P119,'Effective R-Values'!$M$2:$N$13,2,FALSE))*1.25,))","v":0}]
[null,null,null,"Step 3: Review hygrothermal & moisture guidelines.",null,null,null,null,null,null,null,null,null,null,null,null,{"$f":"IF(R121=\"NR\",\"NR\",\"≥\"&R121)","v":"≥0.35"},"Required Ratio",null,"Calculated Ratio"]
[null,null,null,{"$f":"HLOOKUP(J110,'Effective R-Values'!$Q$2:$Z$11,'Effective R-Values'!$P$10,FALSE)","v":"This wall type allows Class III interior vapor control so long as the sheathing-to-cavity R-value ratio is >0.35."},null,null,null,null,null,null,null,null,null,null,null,null,{"$f":"IF(LEFT(RIGHT(J110,5),1)=\"b\",IF(R121=\"NR\",\"NR\",IF(T121>R121,\"YES\",\"NO\")),\"NR\")","v":"YES"},{"$f":"IFERROR(IF(LEFT(RIGHT(J110,5),1)=\"B\",VLOOKUP($T$10,'Effective R-Values'!$P$32:$U$48,5,FALSE),\"NR\"),\"n/a\")","v":0.35},null,{"$f":"IFERROR(IF(LEFT(RIGHT(J110,5),5)=\"B (1)\",(S113*N113)/(SUMPRODUCT(N113:N119,S113:S119)-(S113*N113)),IF(LEFT(RIGHT(J110,5),5)=\"B (2)\",SUMPRODUCT(S113:S114,N113:N114)/(SUMPRODUCT(N113:N119,S113:S119)-SUMPRODUCT(S113:S114,N113:N114)),\"-\")),)","v":1.0468723560268487}]
[null,null,null,"Step 4: Review Effective R-Value to confirm compliance with required R-value.",null,null,null,null,null,null,null,null,null,null,null,null,{"$f":"\"≥\"&R123","v":"≥38"},"Required R-value",null,"Calculated R-value"]
[null,null,null,null,null,null,null,null,null,null,null,null,null,null,null,null,{"$f":"IF(T123>=R123,\"YES\",\"NO\")","v":"YES"},{"$f":"$Q$92","v":38},null,{"$f":"ROUND(SUM(T113:T119),0)","v":40}]
[null,null,{"$f":"IF(T135=0,\"-\",T135)","v":"-"},"Cantileverd Floor Type 1"]
[null,null,null,"Step 1: Choose Floor Assembly Type.",null,null,null,null,null,"Overhang Floor Type B",null,null,null,{"$f":"HLOOKUP(J125,'Effective R-Values'!$P$22:$W$29,'Effective R-Values'!$P$29,FALSE)","v":"Overhang floor (over crawlspace or cantilevered) without rigid insulation on the bottom using air permeable cavity insulation."}]
[null,null,null,"Step 2: Fill in assembly materials, thicknesses & framing."]
[null,null,null,"Material Layer",null,null,null,null,null,"Material Type",null,null,null,"Thickness [in]",null,"Framing Type",null,null,"R/in","Effective R-Value"]
[null,null,null,{"$f":"HLOOKUP(J125,'Effective R-Values'!$Q$22:$W$27,'Effective R-Values'!$P$23,FALSE)","v":"Netting / Exterior GWB"},null,null,null,null,null,null,null,null,null,null,null,"-",null,null,{"$f":"IFERROR(VLOOKUP(J128,'Effective R-Values'!$J$2:$K$34,2,FALSE),)","v":0},{"$f":"IF(LEFT(J128,3)=\"air\",S128, IFERROR(VLOOKUP(P128,'Effective R-Values'!$M$2:$N$13,2,FALSE)*N128*S128+(1-VLOOKUP(P128,'Effective R-Values'!$M$2:$N$13,2,FALSE))*1.25,))","v":0}]
[null,null,null,{"$f":"HLOOKUP(J125,'Effective R-Values'!$Q$22:$W$27,'Effective R-Values'!$P$24,FALSE)","v":"Insulated Cavity (vapor open)"},null,null,null,null,null,null,null,null,null,null,null,"-",null,null,{"$f":"IFERROR(VLOOKUP(J129,'Effective R-Values'!$J$2:$K$34,2,FALSE),)","v":0},{"$f":"IF(LEFT(J129,3)=\"air\",S129, IFERROR(VLOOKUP(P129,'Effective R-Values'!$M$2:$N$13,2,FALSE)*N129*S129+(1-VLOOKUP(P129,'Effective R-Values'!$M$2:$N$13,2,FALSE))*1.25,))","v":0}]
[null,null,null,{"$f":"HLOOKUP(J125,'Effective R-Values'!$Q$22:$W$27,'Effective R-Values'!$P$25,FALSE)","v":"Subfloor (optional)"},null,null,null,null,null,null,null,null,null,null,null,"-",null,null,{"$f":"IFERROR(VLOOKUP(J130,'Effective R-Values'!$J$2:$K$34,2,FALSE),)","v":0},{"$f":"IF(LEFT(J130,3)=\"air\",S130, IFERROR(VLOOKUP(P130,'Effective R-Values'!$M$2:$N$13,2,FALSE)*N130*S130+(1-VLOOKUP(P130,'Effective R-Values'!$M$2:$N$13,2,FALSE))*1.25,))","v":0}]
[null,null,null,{"$f":"HLOOKUP(J125,'Effective R-Values'!$Q$22:$W$27,'Effective R-Values'!$P$26,FALSE)","v":"-"},null,null,null,null,null,null,null,null,null,null,null,"-",null,null,{"$f":"IFERROR(VLOOKUP(J131,'Effective R-Values'!$J$2:$K$34,2,FALSE),)","v":0},{"$f":"IF(LEFT(J131,3)=\"air\",S131, IFERROR(VLOOKUP(P131,'Effective R-Values'!$M$2:$N$13,2,FALSE)*N131*S131+(1-VLOOKUP(P131,'Effective R-Values'!$M$2:$N$13,2,FALSE))*1.25,))","v":0}]
[null,null,null,{"$f":"HLOOKUP(J125,'Effective R-Values'!$Q$22:$W$27,'Effective R-Values'!$P$27,FALSE)","v":"-"},null,null,null,null,null,null,null,null,null,null,null,"-",null,null,{"$f":"IFERROR(VLOOKUP(J132,'Effective R-Values'!$J$2:$K$34,2,FALSE),)","v":0},{"$f":"IF(LEFT(J132,3)=\"air\",S132, IFERROR(VLOOKUP(P132,'Effective R-Values'!$M$2:$N$13,2,FALSE)*N132*S132+(1-VLOOKUP(P132,'Effective R-Values'!$M$2:$N$13,2,FALSE))*1.25,))","v":0}]
[null,null,null,"Step 3: Review hygrothermal & moisture guidelines.",null,null,null,null,null,null,{"$f":"HLOOKUP(J125,'Effective R-Values'!$Q$22:$W$29,'Effective R-Values'!$P$28,FALSE)","v":"Fiberglass or mineral wool is preferable to cellulose."}]
[null,null,null,"Step 4: Review Effective R-Value to confirm compliance with required R-value.",null,null,null,null,null,null,null,null,null,null,null,null,{"$f":"\"≥\"&R135","v":"≥38"},"Required R-value",null,"Calculated R-value"]
[null,null,null,null,null,null,null,null,null,null,null,null,null,null,null,null,{"$f":"IF(T135>=R135,\"YES\",\"NO\")","v":"NO"},{"$f":"$Q$92","v":38},null,{"$f":"ROUND(SUM(T128:T132),0)","v":0}]
[null,null,{"$f":"IF(T147=0,\"-\",T147)","v":"-"},"Cantileverd Floor Type 2"]
[null,null,null,"Step 1: Choose Floor Assembly Type.",null,null,null,null,null,"Overhang Floor Type C (1)",null,null,null,{"$f":"HLOOKUP(J137,'Effective R-Values'!$P$22:$W$29,'Effective R-Values'!$P$29,FALSE)","v":"Overhang floor (over crawlspace or cantilevered) with cavity insulation comprised of only air-impermeable insulation."}]
[null,null,null,"Step 2: Fill in assembly materials, thicknesses & framing."]
[null,null,null,"Material Layer",null,null,null,null,null,"Material Type",null,null,null,"Thickness [in]",null,"Framing Type",null,null,"R/in","Effective R-Value"]
[null,null,null,{"$f":"HLOOKUP(J137,'Effective R-Values'!$Q$22:$W$27,'Effective R-Values'!$P$23,FALSE)","v":"Exterior Sheathing"},null,null,null,null,null,null,null,null,null,null,null,"-",null,null,{"$f":"IFERROR(VLOOKUP(J140,'Effective R-Values'!$J$2:$K$34,2,FALSE),)","v":0},{"$f":"IF(LEFT(J140,3)=\"air\",S140, IFERROR(VLOOKUP(P140,'Effective R-Values'!$M$2:$N$13,2,FALSE)*N140*S140+(1-VLOOKUP(P140,'Effective R-Values'!$M$2:$N$13,2,FALSE))*1.25,))","v":0}]
[null,null,null,{"$f":"HLOOKUP(J137,'Effective R-Values'!$Q$22:$W$27,'Effective R-Values'!$P$24,FALSE)","v":"Insulated Cavity (vapor closed)"},null,null,null,null,null,null,null,null,null,null,null,"-",null,null,{"$f":"IFERROR(VLOOKUP(J141,'Effective R-Values'!$J$2:$K$34,2,FALSE),)","v":0},{"$f":"IF(LEFT(J141,3)=\"air\",S141, IFERROR(VLOOKUP(P141,'Effective R-Values'!$M$2:$N$13,2,FALSE)*N141*S141+(1-VLOOKUP(P141,'Effective R-Values'!$M$2:$N$13,2,FALSE))*1.25,))","v":0}]
[null,null,null,{"$f":"HLOOKUP(J137,'Effective R-Values'!$Q$22:$W$27,'Effective R-Values'!$P$25,FALSE)","v":"Subfloor (optional)"},null,null,null,null,null,null,null,null,null,null,null,"-",null,null,{"$f":"IFERROR(VLOOKUP(J142,'Effective R-Values'!$J$2:$K$34,2,FALSE),)","v":0},{"$f":"IF(LEFT(J142,3)=\"air\",S142, IFERROR(VLOOKUP(P142,'Effective R-Values'!$M$2:$N$13,2,FALSE)*N142*S142+(1-VLOOKUP(P142,'Effective R-Values'!$M$2:$N$13,2,FALSE))*1.25,))","v":0}]
[null,null,null,{"$f":"HLOOKUP(J137,'Effective R-Values'!$Q$22:$W$27,'Effective R-Values'!$P$26,FALSE)","v":"-"},null,null,null,null,null,null,null,null,null,null,null,"-",null,null,{"$f":"IFERROR(VLOOKUP(J143,'Effective R-Values'!$J$2:$K$34,2,FALSE),)","v":0},{"$f":"IF(LEFT(J143,3)=\"air\",S143, IFERROR(VLOOKUP(P143,'Effective R-Values'!$M$2:$N$13,2,FALSE)*N143*S143+(1-VLOOKUP(P143,'Effective R-Values'!$M$2:$N$13,2,FALSE))*1.25,))","v":0}]
[null,null,null,{"$f":"HLOOKUP(J137,'Effective R-Values'!$Q$22:$W$27,'Effective R-Values'!$P$27,FALSE)","v":"-"},null,null,null,null,null,null,null,null,null,null,null,"-",null,null,{"$f":"IFERROR(VLOOKUP(J144,'Effective R-Values'!$J$2:$K$34,2,FALSE),)","v":0},{"$f":"IF(LEFT(J144,3)=\"air\",S144, IFERROR(VLOOKUP(P144,'Effective R-Values'!$M$2:$N$13,2,FALSE)*N144*S144+(1-VLOOKUP(P144,'Effective R-Values'!$M$2:$N$13,2,FALSE))*1.25,))","v":0}]
[null,null,null,"Step 3: Review hygrothermal & moisture guidelines.",null,null,null,null,null,null,{"$f":"HLOOKUP(J137,'Effective R-Values'!$Q$22:$W$29,'Effective R-Values'!$P$28,FALSE)","v":"This floor type requires an effective airflow control layer on the inside of the insulation and/or framing."}]
[null,null,null,"Step 4: Review Effective R-Value to confirm compliance with required R-value.",null,null,null,null,null,null,null,null,null,null,null,null,{"$f":"\"≥\"&R147","v":"≥38"},"Required R-value",null,"Calculated R-value"]
[null,null,null,null,null,null,null,null,null,null,null,null,null,null,null,null,{"$f":"IF(T147>=R147,\"YES\",\"NO\")","v":"NO"},{"$f":"$Q$92","v":38},null,{"$f":"ROUND(SUM(T140:T144),0)","v":0}]
[null,null,"5.1.1c",null,null,null,"Roof or ceiling effective R-Value [ft2.°F.h/BTU] meets calculated minimum.",null,null,null,null,null,null,null,null,null,{"$f":"'Reference Climate Info_Vals'!BI2","v":69}]
[null,null,"5.1.1c.1",null,null,null,null,"Use the [+] icon on the far left of the screen to expand and view built in compliance calculators."]
[null,null,{"$f":"IF(T162=0,\"-\",T162)","v":79},"Ceiling / Roof Type 1"]
[null,null,null,"Step 1: Choose Roof Assembly Type:",null,null,null,null,null,"Roof Type D",null,null,null,{"$f":"HLOOKUP(J151,'Effective R-Values'!$P$13:$Y$20,'Effective R-Values'!$P$20,FALSE)","v":"Unvented roof assemblies with insulation comprised of only air-impermeable insulation."}]
[null,null,null,"Step 2: Fill in assembly materials, thicknesses & framing."]
[null,null,null,"Material Layer",null,null,null,null,null,"Material Type",null,null,null,"Material Thickness (in)",null,"Framing Type",null,null,"R/in","Effective R-Value"]
[null,null,null,{"$f":"HLOOKUP(J151,'Effective R-Values'!$Q$13:$Y$18,'Effective R-Values'!$P$14,FALSE)","v":"Exterior Sheathing"},null,null,null,null,null,"Cellulose (Loose-Fill) Attic",null,null,null,24,null,"Roof Wood Frame (24\" o.c.)",null,null,{"$f":"IFERROR(VLOOKUP(J154,'Effective R-Values'!$J$2:$K$31,2,FALSE),)","v":3.5},{"$f":"IF(LEFT(J154,3)=\"air\",S154, IFERROR(VLOOKUP(P154,'Effective R-Values'!$M$2:$N$12,2,FALSE)*N154*S154+(1-VLOOKUP(P154,'Effective R-Values'!$M$2:$N$12,2,FALSE))*1.25,))","v":78.20750000000001}]
[null,null,null,{"$f":"HLOOKUP(J151,'Effective R-Values'!$Q$13:$Y$18,'Effective R-Values'!$P$15,FALSE)","v":"Insulated Cavity (vapor closed)"},null,null,null,null,null,"Orient Strand Board (OSB)",null,null,null,0.625,null,"-",null,null,{"$f":"IFERROR(VLOOKUP(J155,'Effective R-Values'!$J$2:$K$31,2,FALSE),)","v":1.1000000000000001},{"$f":"IF(LEFT(J155,3)=\"air\",S155, IFERROR(VLOOKUP(P155,'Effective R-Values'!$M$2:$N$12,2,FALSE)*N155*S155+(1-VLOOKUP(P155,'Effective R-Values'!$M$2:$N$12,2,FALSE))*1.25,))","v":0.6875}]
[null,null,null,{"$f":"HLOOKUP(J151,'Effective R-Values'!$Q$13:$Y$18,'Effective R-Values'!$P$16,FALSE)","v":"Interior Finish"},null,null,null,null,null,"Gypsum Wall Board",null,null,null,0.625,null,"-",null,null,{"$f":"IFERROR(VLOOKUP(J156,'Effective R-Values'!$J$2:$K$31,2,FALSE),)","v":0.89800000000000002},{"$f":"IF(LEFT(J156,3)=\"air\",S156, IFERROR(VLOOKUP(P156,'Effective R-Values'!$M$2:$N$12,2,FALSE)*N156*S156+(1-VLOOKUP(P156,'Effective R-Values'!$M$2:$N$12,2,FALSE))*1.25,))","v":0.56125000000000003}]
[null,null,null,{"$f":"HLOOKUP(J151,'Effective R-Values'!$Q$13:$Y$18,'Effective R-Values'!$P$17,FALSE)","v":"-"},null,null,null,null,null,null,null,null,null,null,null,"-",null,null,{"$f":"IFERROR(VLOOKUP(J157,'Effective R-Values'!$J$2:$K$31,2,FALSE),)","v":0},{"$f":"IF(LEFT(J157,3)=\"air\",S157, IFERROR(VLOOKUP(P157,'Effective R-Values'!$M$2:$N$12,2,FALSE)*N157*S157+(1-VLOOKUP(P157,'Effective R-Values'!$M$2:$N$12,2,FALSE))*1.25,))","v":0}]
[null,null,null,{"$f":"HLOOKUP(J151,'Effective R-Values'!$Q$13:$Y$18,'Effective R-Values'!$P$18,FALSE)","v":"-"},null,null,null,null,null,null,null,null,null,null,null,"-",null,null,{"$f":"IFERROR(VLOOKUP(J158,'Effective R-Values'!$J$2:$K$31,2,FALSE),)","v":0},{"$f":"IF(LEFT(J158,3)=\"air\",S158, IFERROR(VLOOKUP(P158,'Effective R-Values'!$M$2:$N$12,2,FALSE)*N158*S158+(1-VLOOKUP(P158,'Effective R-Values'!$M$2:$N$12,2,FALSE))*1.25,))","v":0}]
[null,null,null,"Step 3: Review hygrothermal & moisture guidelines.",null,null,null,null,null,null,null,null,null,null,null,null,{"$f":"IF(R160=\"NR\",\"NR\",\"≥\"&R160)","v":"NR"},"Required Ratio",null,"Calculated Ratio"]
[null,null,null,{"$f":"HLOOKUP(J151,'Effective R-Values'!$Q$13:$Y$19,'Effective R-Values'!$P$19,FALSE)","v":"This roof type requires an effective airflow control layer on the inside of the insulation and/or framing."},null,null,null,null,null,null,null,null,null,null,null,null,{"$f":"IF(LEFT(RIGHT(J151,5),1)=\"c\",IF(R160=\"NR\",\"NR\",IF(T160>R160,\"YES\",\"NO\")),\"NR\")","v":"NR"},{"$f":"IFERROR(IF(LEFT(RIGHT(J151,5),1)=\"C\",VLOOKUP($T$10,'Effective R-Values'!$P$32:$U$48,3,FALSE)/100,\"NR\"),\"n/a\")","v":"NR"},null,{"$f":"IFERROR(IF(LEFT(RIGHT(J151,5),5)=\"C (1)\",(S154*N154)/SUMPRODUCT(N154:N158,S154:S158),IF(LEFT(RIGHT(J151,5),5)=\"C (2)\",SUMPRODUCT(S154:S155,N154:N155)/SUMPRODUCT(N154:N158,S154:S158),\"-\")),)","v":"-"}]
[null,null,null,"Step 4: Review Effective R-Value to confirm compliance with required R-value.",null,null,null,null,null,null,null,null,null,null,null,null,{"$f":"\"≥\"&R162","v":"≥69"},"Required R-value",null,"Calculated R-value"]
[null,null,null,null,null,null,null,null,null,null,null,null,null,null,null,null,{"$f":"IF(T162>=R162,\"YES\",\"NO\")","v":"YES"},{"$f":"$Q$148","v":69},null,{"$f":"ROUND(SUM(T154:T158),0)","v":79}]
[null,null,{"$f":"IF(T175=0,\"-\",T175)","v":"-"},"Ceiling / Roof Type 2"]
[null,null,null,"Step 1: Choose Roof Assembly Type:",null,null,null,null,null,"Roof Type A",null,null,null,{"$f":"HLOOKUP(J164,'Effective R-Values'!$P$13:$Y$20,'Effective R-Values'!$P$20,FALSE)","v":"Unvented roof assemblies with most (>75%) of the insulation ouboard of the structure."}]
[null,null,null,"Step 2: Fill in assembly materials, thicknesses & framing."]
[null,null,null,"Material Layer",null,null,null,null,null,"Material Type",null,null,null,"Material Thickness (in)",null,"Framing Type",null,null,"R/in","Effective R-Value"]
[null,null,null,{"$f":"HLOOKUP(J164,'Effective R-Values'!$Q$13:$Y$18,'Effective R-Values'!$P$14,FALSE)","v":"Continous Exterior Insulation"},null,null,null,null,null,null,null,null,null,null,null,"-",null,null,{"$f":"IFERROR(VLOOKUP(J167,'Effective R-Values'!$J$2:$K$31,2,FALSE),)","v":0},{"$f":"IF(LEFT(J167,3)=\"air\",S167, IFERROR(VLOOKUP(P167,'Effective R-Values'!$M$2:$N$12,2,FALSE)*N167*S167+(1-VLOOKUP(P167,'Effective R-Values'!$M$2:$N$12,2,FALSE))*1.25,))","v":0}]
[null,null,null,{"$f":"HLOOKUP(J164,'Effective R-Values'!$Q$13:$Y$18,'Effective R-Values'!$P$15,FALSE)","v":"Sheathing"},null,null,null,null,null,null,null,null,null,null,null,"-",null,null,{"$f":"IFERROR(VLOOKUP(J168,'Effective R-Values'!$J$2:$K$31,2,FALSE),)","v":0},{"$f":"IF(LEFT(J168,3)=\"air\",S168, IFERROR(VLOOKUP(P168,'Effective R-Values'!$M$2:$N$12,2,FALSE)*N168*S168+(1-VLOOKUP(P168,'Effective R-Values'!$M$2:$N$12,2,FALSE))*1.25,))","v":0}]
[null,null,null,{"$f":"HLOOKUP(J164,'Effective R-Values'!$Q$13:$Y$18,'Effective R-Values'!$P$16,FALSE)","v":"Insulated Cavity (optional)"},null,null,null,null,null,null,null,null,null,null,null,"-",null,null,{"$f":"IFERROR(VLOOKUP(J169,'Effective R-Values'!$J$2:$K$31,2,FALSE),)","v":0},{"$f":"IF(LEFT(J169,3)=\"air\",S169, IFERROR(VLOOKUP(P169,'Effective R-Values'!$M$2:$N$12,2,FALSE)*N169*S169+(1-VLOOKUP(P169,'Effective R-Values'!$M$2:$N$12,2,FALSE))*1.25,))","v":0}]
[null,null,null,{"$f":"HLOOKUP(J164,'Effective R-Values'!$Q$13:$Y$18,'Effective R-Values'!$P$17,FALSE)","v":"Interior Finish"},null,null,null,null,null,null,null,null,null,null,null,"-",null,null,{"$f":"IFERROR(VLOOKUP(J170,'Effective R-Values'!$J$2:$K$31,2,FALSE),)","v":0},{"$f":"IF(LEFT(J170,3)=\"air\",S170, IFERROR(VLOOKUP(P170,'Effective R-Values'!$M$2:$N$12,2,FALSE)*N170*S170+(1-VLOOKUP(P170,'Effective R-Values'!$M$2:$N$12,2,FALSE))*1.25,))","v":0}]
[null,null,null,{"$f":"HLOOKUP(J164,'Effective R-Values'!$Q$13:$Y$18,'Effective R-Values'!$P$18,FALSE)","v":"-"},null,null,null,null,null,null,null,null,null,null,null,"-",null,null,{"$f":"IFERROR(VLOOKUP(J171,'Effective R-Values'!$J$2:$K$31,2,FALSE),)","v":0},{"$f":"IF(LEFT(J171,3)=\"air\",S171, IFERROR(VLOOKUP(P171,'Effective R-Values'!$M$2:$N$12,2,FALSE)*N171*S171+(1-VLOOKUP(P171,'Effective R-Values'!$M$2:$N$12,2,FALSE))*1.25,))","v":0}]
[null,null,null,"Step 3: Review hygrothermal & moisture guidelines.",null,null,null,null,null,null,null,null,null,null,null,null,{"$f":"IF(R173=\"NR\",\"NR\",\"≥\"&R173)","v":"NR"},"Required Ratio",null,"Calculated Ratio"]
[null,null,null,{"$f":"HLOOKUP(J164,'Effective R-Values'!$Q$13:$Y$19,'Effective R-Values'!$P$19,FALSE)","v":"This roof type does not require additional vapor control if a Class II vapor control insulation layer is used."},null,null,null,null,null,null,null,null,null,null,null,null,{"$f":"IF(LEFT(RIGHT(J164,5),1)=\"c\",IF(R173=\"NR\",\"NR\",IF(T173>R173,\"YES\",\"NO\")),\"NR\")","v":"NR"},{"$f":"IFERROR(IF(LEFT(RIGHT(J164,5),1)=\"C\",VLOOKUP($T$10,'Effective R-Values'!$P$32:$U$48,3,FALSE)/100,\"NR\"),\"n/a\")","v":"NR"},null,{"$f":"IFERROR(IF(LEFT(RIGHT(J164,5),5)=\"C (1)\",(S167*N167)/SUMPRODUCT(N167:N171,S167:S171),IF(LEFT(RIGHT(J164,5),5)=\"C (2)\",SUMPRODUCT(S167:S168,N167:N168)/SUMPRODUCT(N167:N171,S167:S171),\"-\")),)","v":"-"}]
[null,null,null,"Step 4: Review Effective R-Value to confirm compliance with required R-value.",null,null,null,null,null,null,null,null,null,null,null,null,{"$f":"\"≥\"&R175","v":"≥69"},"Required R-value",null,"Calculated R-value"]
[null,null,null,null,null,null,null,null,null,null,null,null,null,null,null,null,{"$f":"IF(T175>=R175,\"YES\",\"NO\")","v":"NO"},{"$f":"$Q$148","v":69},null,{"$f":"ROUND(SUM(T167:T171),0)","v":0}]
[null,null,"5.1.1d",null,null,null,"For whole slab foundations, below-grade walls and floors of conditioned basements and crawl spaces, the effective R-Value [ft2.°F.h/BTU] meets the calculated minimum.",null,null,null,null,null,null,null,null,null,{"$f":"'Reference Climate Info_Vals'!BK2","v":20}]
[null,null,"5.1.1d.1",null,null,null,null,"Use the [+] icon on the far left of the screen to expand and view built in compliance calculators."]
[null,null,{"$f":"IF(T192=0,\"-\",T192)","v":"-"},"Below-Grade Wall Type 1"]
[null,null,null,"Step 1: Choose Wall Assembly Type.",null,null,null,null,null,"Wall Type C",null,null,null,{"$f":"HLOOKUP(J179,'Effective R-Values'!$P$2:$Y$11,'Effective R-Values'!$P$11,FALSE)","v":"Assemblies with most (>75%) of the insulation outboard of the structure."}]
[null,null,null,"Step 2: Fill in assembly materials, thicknesses & framing."]
[null,null,null,"Material Layer",null,null,null,null,null,"Material Type",null,null,null,"Thickness [in]",null,"Framing Type",null,null,"R/in","Effective R-Value"]
[null,null,null,{"$f":"HLOOKUP(J179,'Effective R-Values'!$Q$2:$Z$9,'Effective R-Values'!$P$3,FALSE)","v":"Continous Exterior Insulation"},null,null,null,null,null,null,null,null,null,null,null,"-",null,null,{"$f":"IFERROR(VLOOKUP(J182,'Effective R-Values'!$J$2:$K$34,2,FALSE),)","v":0},{"$f":"IF(LEFT(J182,3)=\"air\",S182, IFERROR(VLOOKUP(P182,'Effective R-Values'!$M$2:$N$13,2,FALSE)*N182*S182+(1-VLOOKUP(P182,'Effective R-Values'!$M$2:$N$13,2,FALSE))*1.25,))","v":0}]
[null,null,null,{"$f":"HLOOKUP(J179,'Effective R-Values'!$Q$2:$Z$9,'Effective R-Values'!$P$4,FALSE)","v":"Sheathing"},null,null,null,null,null,null,null,null,null,null,null,"-",null,null,{"$f":"IFERROR(VLOOKUP(J183,'Effective R-Values'!$J$2:$K$34,2,FALSE),)","v":0},{"$f":"IF(LEFT(J183,3)=\"air\",S183, IFERROR(VLOOKUP(P183,'Effective R-Values'!$M$2:$N$13,2,FALSE)*N183*S183+(1-VLOOKUP(P183,'Effective R-Values'!$M$2:$N$13,2,FALSE))*1.25,))","v":0}]
[null,null,null,{"$f":"HLOOKUP(J179,'Effective R-Values'!$Q$2:$Z$9,'Effective R-Values'!$P$5,FALSE)","v":"Structure / Insulated Cavity (optional)"},null,null,null,null,null,null,null,null,null,null,null,"-",null,null,{"$f":"IFERROR(VLOOKUP(J184,'Effective R-Values'!$J$2:$K$34,2,FALSE),)","v":0},{"$f":"IF(LEFT(J184,3)=\"air\",S184, IFERROR(VLOOKUP(P184,'Effective R-Values'!$M$2:$N$13,2,FALSE)*N184*S184+(1-VLOOKUP(P184,'Effective R-Values'!$M$2:$N$13,2,FALSE))*1.25,))","v":0}]
[null,null,null,{"$f":"HLOOKUP(J179,'Effective R-Values'!$Q$2:$Z$9,'Effective R-Values'!$P$6,FALSE)","v":"Interior Finish"},null,null,null,null,null,null,null,null,null,null,null,"-",null,null,{"$f":"IFERROR(VLOOKUP(J185,'Effective R-Values'!$J$2:$K$34,2,FALSE),)","v":0},{"$f":"IF(LEFT(J185,3)=\"air\",S185, IFERROR(VLOOKUP(P185,'Effective R-Values'!$M$2:$N$13,2,FALSE)*N185*S185+(1-VLOOKUP(P185,'Effective R-Values'!$M$2:$N$13,2,FALSE))*1.25,))","v":0}]
[null,null,null,{"$f":"HLOOKUP(J179,'Effective R-Values'!$Q$2:$Z$9,'Effective R-Values'!$P$7,FALSE)","v":"-"},null,null,null,null,null,null,null,null,null,null,null,"-",null,null,{"$f":"IFERROR(VLOOKUP(J186,'Effective R-Values'!$J$2:$K$34,2,FALSE),)","v":0},{"$f":"IF(LEFT(J186,3)=\"air\",S186, IFERROR(VLOOKUP(P186,'Effective R-Values'!$M$2:$N$13,2,FALSE)*N186*S186+(1-VLOOKUP(P186,'Effective R-Values'!$M$2:$N$13,2,FALSE))*1.25,))","v":0}]
[null,null,null,{"$f":"HLOOKUP(J179,'Effective R-Values'!$Q$2:$Z$9,'Effective R-Values'!$P$8,FALSE)","v":"-"},null,null,null,null,null,null,null,null,null,null,null,"-",null,null,{"$f":"IFERROR(VLOOKUP(J187,'Effective R-Values'!$J$2:$K$34,2,FALSE),)","v":0},{"$f":"IF(LEFT(J187,3)=\"air\",S187, IFERROR(VLOOKUP(P187,'Effective R-Values'!$M$2:$N$13,2,FALSE)*N187*S187+(1-VLOOKUP(P187,'Effective R-Values'!$M$2:$N$13,2,FALSE))*1.25,))","v":0}]
[null,null,null,{"$f":"HLOOKUP(J179,'Effective R-Values'!$Q$2:$Z$9,'Effective R-Values'!$P$9,FALSE)","v":"-"},null,null,null,null,null,null,null,null,null,null,null,"-",null,null,{"$f":"IFERROR(VLOOKUP(J188,'Effective R-Values'!$J$2:$K$34,2,FALSE),)","v":0},{"$f":"IF(LEFT(J188,3)=\"air\",S188, IFERROR(VLOOKUP(P188,'Effective R-Values'!$M$2:$N$13,2,FALSE)*N188*S188+(1-VLOOKUP(P188,'Effective R-Values'!$M$2:$N$13,2,FALSE))*1.25,))","v":0}]
[null,null,null,"Step 3: Review hygrothermal & moisture guidelines.",null,null,null,null,null,null,null,null,null,null,null,null,{"$f":"IF(R190=\"NR\",\"NR\",\"≥\"&R190)","v":"NR"},"Required Ratio",null,"Calculated Ratio"]
[null,null,null,{"$f":"IF(J179=\"Double-Stud Wall\",HYPERLINK(\"https://www.buildingscience.com/documents/enclosures-that-work/high-r-value-wall-assemblies/high-r-value-double-stud-wall-construction?topic=doctypes/enclosures-that-work/etw-high-r-value-enclosure-assemblie\",HLOOKUP(J179,'Effective R-Values'!$Q$2:$Z$11,'Effective R-Values'!$P$10,FALSE)),HLOOKUP(J179,'Effective R-Values'!$Q$2:$Z$11,'Effective R-Values'!$P$10,FALSE))","v":"This wall type recommends Class I or II vapor control on the inside assuming the outboard components are moisture tolerant. The exterior of the vapor control layer is best detailed as a drainage plane water control layer."},null,null,null,null,null,null,null,null,null,null,null,null,{"$f":"IF(LEFT(RIGHT(J179,5),1)=\"b\",IF(R190=\"NR\",\"NR\",IF(T190>R190,\"YES\",\"NO\")),\"NR\")","v":"NR"},{"$f":"IFERROR(IF(LEFT(RIGHT(J179,5),1)=\"B\",VLOOKUP($T$10,'Effective R-Values'!$P$32:$U$48,5,FALSE),\"NR\"),\"n/a\")","v":"NR"},null,{"$f":"IFERROR(IF(LEFT(RIGHT(J179,5),5)=\"B (1)\",(S182*N182)/(SUMPRODUCT(N182:N188,S182:S188)-(S182*N182)),IF(LEFT(RIGHT(J179,5),5)=\"B (2)\",SUMPRODUCT(S182:S183,N182:N183)/(SUMPRODUCT(N182:N188,S182:S188)-SUMPRODUCT(S182:S183,N182:N183)),\"-\")),)","v":"-"}]
[null,null,null,"Step 4: Review Effective R-Value to confirm compliance with required R-value.",null,null,null,null,null,null,null,null,null,null,null,null,{"$f":"\"≥\"&R192","v":"≥20"},"Required R-value",null,"Calculated R-value"]
[null,null,null,null,null,null,null,null,null,null,null,null,null,null,null,null,{"$f":"IF(T192>=R192,\"YES\",\"NO\")","v":"NO"},{"$f":"$Q$176","v":20},null,{"$f":"ROUND(SUM(T182:T188),0)","v":0}]
[null,null,{"$f":"IF(T204=0,\"-\",T204)","v":50},"Slab Type 1"]
[null,null,null,"Step 1: Choose Floor Assembly Type.",null,null,null,null,null,"Slab on Grade Type A",null,null,null,{"$f":"HLOOKUP(J194,'Effective R-Values'!$P$22:$W$29,'Effective R-Values'!$P$29,FALSE)","v":"Typical slab on grade. Be sure to only use insulation types graded to be used in contact with the ground."}]
[null,null,null,"Step 2: Fill in assembly materials, thicknesses & framing."]
[null,null,null,"Material Layer",null,null,null,null,null,"Material Type",null,null,null,"Thickness [in]",null,"Framing Type",null,null,"R/in","Effective R-Value"]
[null,null,null,{"$f":"HLOOKUP(J194,'Effective R-Values'!$Q$22:$W$27,'Effective R-Values'!$P$23,FALSE)","v":"Continous Exterior Insulation"},null,null,null,null,null,"Expanded Polystyrene (EPS)",null,null,null,12,null,"-",null,null,{"$f":"IFERROR(VLOOKUP(J197,'Effective R-Values'!$J$2:$K$34,2,FALSE),)","v":4},{"$f":"IF(LEFT(J197,3)=\"air\",S197, IFERROR(VLOOKUP(P197,'Effective R-Values'!$M$2:$N$13,2,FALSE)*N197*S197+(1-VLOOKUP(P197,'Effective R-Values'!$M$2:$N$13,2,FALSE))*1.25,))","v":48}]
[null,null,null,{"$f":"HLOOKUP(J194,'Effective R-Values'!$Q$22:$W$27,'Effective R-Values'!$P$24,FALSE)","v":"Concrete Slab"},null,null,null,null,null,"Gravel",null,null,null,8,null,"-",null,null,{"$f":"IFERROR(VLOOKUP(J198,'Effective R-Values'!$J$2:$K$34,2,FALSE),)","v":0.2},{"$f":"IF(LEFT(J198,3)=\"air\",S198, IFERROR(VLOOKUP(P198,'Effective R-Values'!$M$2:$N$13,2,FALSE)*N198*S198+(1-VLOOKUP(P198,'Effective R-Values'!$M$2:$N$13,2,FALSE))*1.25,))","v":1.6}]
[null,null,null,{"$f":"HLOOKUP(J194,'Effective R-Values'!$Q$22:$W$27,'Effective R-Values'!$P$25,FALSE)","v":"Subfloor (optional)"},null,null,null,null,null,"Concrete",null,null,null,6,null,"-",null,null,{"$f":"IFERROR(VLOOKUP(J199,'Effective R-Values'!$J$2:$K$34,2,FALSE),)","v":6.25E-2},{"$f":"IF(LEFT(J199,3)=\"air\",S199, IFERROR(VLOOKUP(P199,'Effective R-Values'!$M$2:$N$13,2,FALSE)*N199*S199+(1-VLOOKUP(P199,'Effective R-Values'!$M$2:$N$13,2,FALSE))*1.25,))","v":0.375}]
[null,null,null,{"$f":"HLOOKUP(J194,'Effective R-Values'!$Q$22:$W$27,'Effective R-Values'!$P$26,FALSE)","v":"-"},null,null,null,null,null,null,null,null,null,null,null,"-",null,null,{"$f":"IFERROR(VLOOKUP(J200,'Effective R-Values'!$J$2:$K$34,2,FALSE),)","v":0},{"$f":"IF(LEFT(J200,3)=\"air\",S200, IFERROR(VLOOKUP(P200,'Effective R-Values'!$M$2:$N$13,2,FALSE)*N200*S200+(1-VLOOKUP(P200,'Effective R-Values'!$M$2:$N$13,2,FALSE))*1.25,))","v":0}]
[null,null,null,{"$f":"HLOOKUP(J194,'Effective R-Values'!$Q$22:$W$27,'Effective R-Values'!$P$27,FALSE)","v":"-"},null,null,null,null,null,null,null,null,null,null,null,"-",null,null,{"$f":"IFERROR(VLOOKUP(J201,'Effective R-Values'!$J$2:$K$34,2,FALSE),)","v":0},{"$f":"IF(LEFT(J201,3)=\"air\",S201, IFERROR(VLOOKUP(P201,'Effective R-Values'!$M$2:$N$13,2,FALSE)*N201*S201+(1-VLOOKUP(P201,'Effective R-Values'!$M$2:$N$13,2,FALSE))*1.25,))","v":0}]
[null,null,null,"Step 3: Review hygrothermal & moisture guidelines.",null,null,null,null,null,null,{"$f":"HLOOKUP(J194,'Effective R-Values'!$Q$22:$W$29,'Effective R-Values'!$P$28,FALSE)","v":"Does not typically have hygrothermal concerns as long as the vapor control layer (Class I) is installed between the concrete and the rigid insulation."}]
[null,null,null,"Step 4: Review Effective R-Value to confirm compliance with required R-value.",null,null,null,null,null,null,null,null,null,null,null,null,{"$f":"\"≥\"&R204","v":"≥20"},"Required R-value",null,"Calculated R-value"]
[null,null,null,null,null,null,null,null,null,null,null,null,null,null,null,null,{"$f":"IF(T204>=R204,\"YES\",\"NO\")","v":"YES"},{"$f":"$Q$176","v":20},null,{"$f":"ROUND(SUM(T197:T201),0)","v":50}]
[null,null,{"$f":"IF(T216=0,\"-\",T216)","v":"-"},"Slab Type 2"]
[null,null,null,"Step 1: Choose Floor Assembly Type.",null,null,null,null,null,"Slab on Grade Type A",null,null,null,{"$f":"HLOOKUP(J206,'Effective R-Values'!$P$22:$W$29,'Effective R-Values'!$P$29,FALSE)","v":"Typical slab on grade. Be sure to only use insulation types graded to be used in contact with the ground."}]
[null,null,null,"Step 2: Fill in assembly materials, thicknesses & framing."]
[null,null,null,"Material Layer",null,null,null,null,null,"Material Type",null,null,null,"Thickness [in]",null,"Framing Type",null,null,"R/in","Effective R-Value"]
[null,null,null,{"$f":"HLOOKUP(J206,'Effective R-Values'!$Q$22:$W$27,'Effective R-Values'!$P$23,FALSE)","v":"Continous Exterior Insulation"},null,null,null,null,null,null,null,null,null,null,null,"-",null,null,{"$f":"IFERROR(VLOOKUP(J209,'Effective R-Values'!$J$2:$K$34,2,FALSE),)","v":0},{"$f":"IF(LEFT(J209,3)=\"air\",S209, IFERROR(VLOOKUP(P209,'Effective R-Values'!$M$2:$N$13,2,FALSE)*N209*S209+(1-VLOOKUP(P209,'Effective R-Values'!$M$2:$N$13,2,FALSE))*1.25,))","v":0}]
[null,null,null,{"$f":"HLOOKUP(J206,'Effective R-Values'!$Q$22:$W$27,'Effective R-Values'!$P$24,FALSE)","v":"Concrete Slab"},null,null,null,null,null,null,null,null,null,null,null,"-",null,null,{"$f":"IFERROR(VLOOKUP(J210,'Effective R-Values'!$J$2:$K$34,2,FALSE),)","v":0},{"$f":"IF(LEFT(J210,3)=\"air\",S210, IFERROR(VLOOKUP(P210,'Effective R-Values'!$M$2:$N$13,2,FALSE)*N210*S210+(1-VLOOKUP(P210,'Effective R-Values'!$M$2:$N$13,2,FALSE))*1.25,))","v":0}]
[null,null,null,{"$f":"HLOOKUP(J206,'Effective R-Values'!$Q$22:$W$27,'Effective R-Values'!$P$25,FALSE)","v":"Subfloor (optional)"},null,null,null,null,null,null,null,null,null,null,null,"-",null,null,{"$f":"IFERROR(VLOOKUP(J211,'Effective R-Values'!$J$2:$K$34,2,FALSE),)","v":0},{"$f":"IF(LEFT(J211,3)=\"air\",S211, IFERROR(VLOOKUP(P211,'Effective R-Values'!$M$2:$N$13,2,FALSE)*N211*S211+(1-VLOOKUP(P211,'Effective R-Values'!$M$2:$N$13,2,FALSE))*1.25,))","v":0}]
[null,null,null,{"$f":"HLOOKUP(J206,'Effective R-Values'!$Q$22:$W$27,'Effective R-Values'!$P$26,FALSE)","v":"-"},null,null,null,null,null,null,null,null,null,null,null,"-",null,null,{"$f":"IFERROR(VLOOKUP(J212,'Effective R-Values'!$J$2:$K$34,2,FALSE),)","v":0},{"$f":"IF(LEFT(J212,3)=\"air\",S212, IFERROR(VLOOKUP(P212,'Effective R-Values'!$M$2:$N$13,2,FALSE)*N212*S212+(1-VLOOKUP(P212,'Effective R-Values'!$M$2:$N$13,2,FALSE))*1.25,))","v":0}]
[null,null,null,{"$f":"HLOOKUP(J206,'Effective R-Values'!$Q$22:$W$27,'Effective R-Values'!$P$27,FALSE)","v":"-"},null,null,null,null,null,null,null,null,null,null,null,"-",null,null,{"$f":"IFERROR(VLOOKUP(J213,'Effective R-Values'!$J$2:$K$34,2,FALSE),)","v":0},{"$f":"IF(LEFT(J213,3)=\"air\",S213, IFERROR(VLOOKUP(P213,'Effective R-Values'!$M$2:$N$13,2,FALSE)*N213*S213+(1-VLOOKUP(P213,'Effective R-Values'!$M$2:$N$13,2,FALSE))*1.25,))","v":0}]
[null,null,null,"Step 3: Review hygrothermal & moisture guidelines.",null,null,null,null,null,null,{"$f":"HLOOKUP(J206,'Effective R-Values'!$Q$22:$W$29,'Effective R-Values'!$P$28,FALSE)","v":"Does not typically have hygrothermal concerns as long as the vapor control layer (Class I) is installed between the concrete and the rigid insulation."}]
[null,null,null,"Step 4: Review Effective R-Value to confirm compliance with required R-value.",null,null,null,null,null,null,null,null,null,null,null,null,{"$f":"\"≥\"&R216","v":"≥20"},"Required R-value",null,"Calculated R-value"]
[null,null,null,null,null,null,null,null,null,null,null,null,null,null,null,null,{"$f":"IF(T216>=R216,\"YES\",\"NO\")","v":"NO"},{"$f":"$Q$176","v":20},null,{"$f":"ROUND(SUM(T209:T213),0)","v":0}]
[null,22,"5.1.1e",null,null,null,"For ceilings of unconditioned basements or crawl spaces, and pier and beam floors, the effective R-Value22 [ft2.°F.h/BTU] meets calculated minimum.",null,null,null,null,null,null,null,null,null,{"$f":"'Reference Climate Info_Vals'!BL2","v":25}]
[null,null,"5.1.1e.1",null,null,null,null,"Use the [+] icon on the far left of the screen to expand and view built in compliance calculators."]
[null,null,{"$f":"IF(T230=0,\"-\",T230)","v":"-"},"Unconditioned Basement/Crawl Space Ceiling Type 1"]
[null,null,null,"Step 1: Choose Floor Assembly Type.",null,null,null,null,null,"Overhang Floor Type B",null,null,null,{"$f":"HLOOKUP(J220,'Effective R-Values'!$P$22:$W$29,'Effective R-Values'!$P$29,FALSE)","v":"Overhang floor (over crawlspace or cantilevered) without rigid insulation on the bottom using air permeable cavity insulation."}]
[null,null,null,"Step 2: Fill in assembly materials, thicknesses & framing."]
[null,null,null,"Material Layer",null,null,null,null,null,"Material Type",null,null,null,"Thickness [in]",null,"Framing Type",null,null,"R/in","Effective R-Value"]
[null,null,null,{"$f":"HLOOKUP(J220,'Effective R-Values'!$Q$22:$W$27,'Effective R-Values'!$P$23,FALSE)","v":"Netting / Exterior GWB"},null,null,null,null,null,null,null,null,null,null,null,"-",null,null,{"$f":"IFERROR(VLOOKUP(J223,'Effective R-Values'!$J$2:$K$34,2,FALSE),)","v":0},{"$f":"IF(LEFT(J223,3)=\"air\",S223, IFERROR(VLOOKUP(P223,'Effective R-Values'!$M$2:$N$13,2,FALSE)*N223*S223+(1-VLOOKUP(P223,'Effective R-Values'!$M$2:$N$13,2,FALSE))*1.25,))","v":0}]
[null,null,null,{"$f":"HLOOKUP(J220,'Effective R-Values'!$Q$22:$W$27,'Effective R-Values'!$P$24,FALSE)","v":"Insulated Cavity (vapor open)"},null,null,null,null,null,null,null,null,null,null,null,"-",null,null,{"$f":"IFERROR(VLOOKUP(J224,'Effective R-Values'!$J$2:$K$34,2,FALSE),)","v":0},{"$f":"IF(LEFT(J224,3)=\"air\",S224, IFERROR(VLOOKUP(P224,'Effective R-Values'!$M$2:$N$13,2,FALSE)*N224*S224+(1-VLOOKUP(P224,'Effective R-Values'!$M$2:$N$13,2,FALSE))*1.25,))","v":0}]
[null,null,null,{"$f":"HLOOKUP(J220,'Effective R-Values'!$Q$22:$W$27,'Effective R-Values'!$P$25,FALSE)","v":"Subfloor (optional)"},null,null,null,null,null,null,null,null,null,null,null,"-",null,null,{"$f":"IFERROR(VLOOKUP(J225,'Effective R-Values'!$J$2:$K$34,2,FALSE),)","v":0},{"$f":"IF(LEFT(J225,3)=\"air\",S225, IFERROR(VLOOKUP(P225,'Effective R-Values'!$M$2:$N$13,2,FALSE)*N225*S225+(1-VLOOKUP(P225,'Effective R-Values'!$M$2:$N$13,2,FALSE))*1.25,))","v":0}]
[null,null,null,{"$f":"HLOOKUP(J220,'Effective R-Values'!$Q$22:$W$27,'Effective R-Values'!$P$26,FALSE)","v":"-"},null,null,null,null,null,null,null,null,null,null,null,"-",null,null,{"$f":"IFERROR(VLOOKUP(J226,'Effective R-Values'!$J$2:$K$34,2,FALSE),)","v":0},{"$f":"IF(LEFT(J226,3)=\"air\",S226, IFERROR(VLOOKUP(P226,'Effective R-Values'!$M$2:$N$13,2,FALSE)*N226*S226+(1-VLOOKUP(P226,'Effective R-Values'!$M$2:$N$13,2,FALSE))*1.25,))","v":0}]
[null,null,null,{"$f":"HLOOKUP(J220,'Effective R-Values'!$Q$22:$W$27,'Effective R-Values'!$P$27,FALSE)","v":"-"},null,null,null,null,null,null,null,null,null,null,null,"-",null,null,{"$f":"IFERROR(VLOOKUP(J227,'Effective R-Values'!$J$2:$K$34,2,FALSE),)","v":0},{"$f":"IF(LEFT(J227,3)=\"air\",S227, IFERROR(VLOOKUP(P227,'Effective R-Values'!$M$2:$N$13,2,FALSE)*N227*S227+(1-VLOOKUP(P227,'Effective R-Values'!$M$2:$N$13,2,FALSE))*1.25,))","v":0}]
[null,null,null,"Step 3: Review hygrothermal & moisture guidelines.",null,null,null,null,null,null,{"$f":"HLOOKUP(J220,'Effective R-Values'!$Q$22:$W$29,'Effective R-Values'!$P$28,FALSE)","v":"Fiberglass or mineral wool is preferable to cellulose."}]
[null,null,null,"Step 4: Review Effective R-Value to confirm compliance with required R-value.",null,null,null,null,null,null,null,null,null,null,null,null,{"$f":"\"≥\"&R230","v":"≥25"},"Required R-value",null,"Calculated R-value"]
[null,null,null,null,null,null,null,null,null,null,null,null,null,null,null,null,{"$f":"IF(T230>=R230,\"YES\",\"NO\")","v":"NO"},{"$f":"$Q$217","v":25},null,{"$f":"ROUND(SUM(T223:T227),0)","v":0}]
[null,null,{"$f":"IF(T242=0,\"-\",T242)","v":"-"},"Unconditioned Basement/Crawl Space Ceiling Type 2"]
[null,null,null,"Step 1: Choose Floor Assembly Type.",null,null,null,null,null,"Overhang Floor Type B",null,null,null,{"$f":"HLOOKUP(J232,'Effective R-Values'!$P$22:$W$29,'Effective R-Values'!$P$29,FALSE)","v":"Overhang floor (over crawlspace or cantilevered) without rigid insulation on the bottom using air permeable cavity insulation."}]
[null,null,null,"Step 2: Fill in assembly materials, thicknesses & framing."]
[null,null,null,"Material Layer",null,null,null,null,null,"Material Type",null,null,null,"Thickness [in]",null,"Framing Type",null,null,"R/in","Effective R-Value"]
[null,null,null,{"$f":"HLOOKUP(J232,'Effective R-Values'!$Q$22:$W$27,'Effective R-Values'!$P$23,FALSE)","v":"Netting / Exterior GWB"},null,null,null,null,null,null,null,null,null,null,null,"-",null,null,{"$f":"IFERROR(VLOOKUP(J235,'Effective R-Values'!$J$2:$K$34,2,FALSE),)","v":0},{"$f":"IF(LEFT(J235,3)=\"air\",S235, IFERROR(VLOOKUP(P235,'Effective R-Values'!$M$2:$N$13,2,FALSE)*N235*S235+(1-VLOOKUP(P235,'Effective R-Values'!$M$2:$N$13,2,FALSE))*1.25,))","v":0}]
[null,null,null,{"$f":"HLOOKUP(J232,'Effective R-Values'!$Q$22:$W$27,'Effective R-Values'!$P$24,FALSE)","v":"Insulated Cavity (vapor open)"},null,null,null,null,null,null,null,null,null,null,null,"-",null,null,{"$f":"IFERROR(VLOOKUP(J236,'Effective R-Values'!$J$2:$K$34,2,FALSE),)","v":0},{"$f":"IF(LEFT(J236,3)=\"air\",S236, IFERROR(VLOOKUP(P236,'Effective R-Values'!$M$2:$N$13,2,FALSE)*N236*S236+(1-VLOOKUP(P236,'Effective R-Values'!$M$2:$N$13,2,FALSE))*1.25,))","v":0}]
[null,null,null,{"$f":"HLOOKUP(J232,'Effective R-Values'!$Q$22:$W$27,'Effective R-Values'!$P$25,FALSE)","v":"Subfloor (optional)"},null,null,null,null,null,null,null,null,null,null,null,"-",null,null,{"$f":"IFERROR(VLOOKUP(J237,'Effective R-Values'!$J$2:$K$34,2,FALSE),)","v":0},{"$f":"IF(LEFT(J237,3)=\"air\",S237, IFERROR(VLOOKUP(P237,'Effective R-Values'!$M$2:$N$13,2,FALSE)*N237*S237+(1-VLOOKUP(P237,'Effective R-Values'!$M$2:$N$13,2,FALSE))*1.25,))","v":0}]
[null,null,null,{"$f":"HLOOKUP(J232,'Effective R-Values'!$Q$22:$W$27,'Effective R-Values'!$P$26,FALSE)","v":"-"},null,null,null,null,null,null,null,null,null,null,null,"-",null,null,{"$f":"IFERROR(VLOOKUP(J238,'Effective R-Values'!$J$2:$K$34,2,FALSE),)","v":0},{"$f":"IF(LEFT(J238,3)=\"air\",S238, IFERROR(VLOOKUP(P238,'Effective R-Values'!$M$2:$N$13,2,FALSE)*N238*S238+(1-VLOOKUP(P238,'Effective R-Values'!$M$2:$N$13,2,FALSE))*1.25,))","v":0}]
[null,null,null,{"$f":"HLOOKUP(J232,'Effective R-Values'!$Q$22:$W$27,'Effective R-Values'!$P$27,FALSE)","v":"-"},null,null,null,null,null,null,null,null,null,null,null,"-",null,null,{"$f":"IFERROR(VLOOKUP(J239,'Effective R-Values'!$J$2:$K$34,2,FALSE),)","v":0},{"$f":"IF(LEFT(J239,3)=\"air\",S239, IFERROR(VLOOKUP(P239,'Effective R-Values'!$M$2:$N$13,2,FALSE)*N239*S239+(1-VLOOKUP(P239,'Effective R-Values'!$M$2:$N$13,2,FALSE))*1.25,))","v":0}]
[null,null,null,"Step 3: Review hygrothermal & moisture guidelines.",null,null,null,null,null,null,{"$f":"HLOOKUP(J232,'Effective R-Values'!$Q$22:$W$29,'Effective R-Values'!$P$28,FALSE)","v":"Fiberglass or mineral wool is preferable to cellulose."}]
[null,null,null,"Step 4: Review Effective R-Value to confirm compliance with required R-value.",null,null,null,null,null,null,null,null,null,null,null,null,{"$f":"\"≥\"&R242","v":"≥25"},"Required R-value",null,"Calculated R-value"]
[null,null,null,null,null,null,null,null,null,null,null,null,null,null,null,null,{"$f":"IF(T242>=R242,\"YES\",\"NO\")","v":"NO"},{"$f":"$Q$217","v":25},null,{"$f":"ROUND(SUM(T235:T239),0)","v":0}]
[null,23,"5.1.1f",null,null,null,"Slab edge insulation meets requirements of IECC 2021.23"]
[null,24,"5.1.2",null,null,"Total UA Alternative.24"]
[null,null,"5.1.2a",null,null,null,"Total building thermal enclosure UA ≤ total UA resulting from the U-factors in Section 5.1.1, Individual Component Compliance."]
[null,null,"5.1.2a.1",null,null,null,null,"Use the [+] icon on the far left of the screen to expand and view built in compliance calculators."]
[null,null,null,null,null,null,null,"Whole Building UA Calculation",null,null,null,null,"Total UA, Proposed",null,"Total UA, Reference",null,"Passes?"]
[null,null,null,null,null,null,null,"TOTAL UA [BTU/h°F]",null,null,null,null,{"$f":"IF(SUM(P252:P304)=0,\"N/A\",SUM(P252:P304))","v":"N/A"},null,{"$f":"IF(SUM(T252:T304)=0,\"N/A\",SUM(T252:T304))","v":"N/A"},null,{"$f":"IF(M248=\"N/A\",\"N/A\",IF(M248<=O248,\"YES\",\"NO\"))","v":"N/A"}]
[null,null,null,"Opaque Components",null,null,null,null,null,null,null,null,null,"Proposed",null,null,null,"Reference "]
[null,null,null,"Name",null,null,null,null,null,"Component Type",null,null,"Area","R-Value",null,"U x A",null,"R-Value",null,"U x A"]
[null,null,null,null,null,null,null,null,null,null,null,null,"[ft2]","[ft2.°F.h/BTU]",null,"[BTU/h°F]",null," [BTU/ft2.°F.h]",null,"[BTU/h°F]"]
[null,null,null,null,null,null,null,null,null,null,null,null,null,null,null,{"$f":"IF(ISBLANK($M252),\"-\",IF(ISBLANK($N252),\"-\",1/$N252*$M252))","v":"-"},null,{"$f":"IF(ISBLANK(J252),\"-\",VLOOKUP(J252,'Compliance Calcs'!$A$17:$B$24,2,FALSE))","v":"-"},null,{"$f":"IF(ISBLANK($M252),\"-\",IF(R252=\"-\",\"-\",1/$R252*$M252))","v":"-"}]
[null,null,null,null,null,null,null,null,null,null,null,null,null,null,null,{"$f":"IF(ISBLANK($M253),\"-\",IF(ISBLANK($N253),\"-\",1/$N253*$M253))","v":"-"},null,{"$f":"IF(ISBLANK(J253),\"-\",VLOOKUP(J253,'Compliance Calcs'!$A$17:$B$24,2,FALSE))","v":"-"},null,{"$f":"IF(ISBLANK($M253),\"-\",IF(R253=\"-\",\"-\",1/$R253*$M253))","v":"-"}]
[null,null,null,null,null,null,null,null,null,null,null,null,null,null,null,"-",null,{"$f":"IF(ISBLANK(J254),\"-\",VLOOKUP(J254,'Compliance Calcs'!$A$17:$B$24,2,FALSE))","v":"-"},null,"-"]
[null,null,null,null,null,null,null,null,null,null,null,null,null,null,null,"-",null,{"$f":"IF(ISBLANK(J255),\"-\",VLOOKUP(J255,'Compliance Calcs'!$A$17:$B$24,2,FALSE))","v":"-"},null,"-"]
[null,null,null,null,null,null,null,null,null,null,null,null,null,null,null,"-",null,{"$f":"IF(ISBLANK(J256),\"-\",VLOOKUP(J256,'Compliance Calcs'!$A$17:$B$24,2,FALSE))","v":"-"},null,"-"]
[null,null,null,null,null,null,null,null,null,null,null,null,null,null,null,"-",null,{"$f":"IF(ISBLANK(J257),\"-\",VLOOKUP(J257,'Compliance Calcs'!$A$17:$B$24,2,FALSE))","v":"-"},null,"-"]
[null,null,null,null,null,null,null,null,null,null,null,null,null,null,null,"-",null,{"$f":"IF(ISBLANK(J258),\"-\",VLOOKUP(J258,'Compliance Calcs'!$A$17:$B$24,2,FALSE))","v":"-"},null,"-"]
[null,null,null,null,null,null,null,null,null,null,null,null,null,null,null,"-",null,{"$f":"IF(ISBLANK(J259),\"-\",VLOOKUP(J259,'Compliance Calcs'!$A$17:$B$24,2,FALSE))","v":"-"},null,"-"]
[null,null,null,null,null,null,null,null,null,null,null,null,null,null,null,"-",null,{"$f":"IF(ISBLANK(J260),\"-\",VLOOKUP(J260,'Compliance Calcs'!$A$17:$B$24,2,FALSE))","v":"-"},null,"-"]
[null,null,null,null,null,null,null,null,null,null,null,null,null,null,null,"-",null,{"$f":"IF(ISBLANK(J261),\"-\",VLOOKUP(J261,'Compliance Calcs'!$A$17:$B$24,2,FALSE))","v":"-"},null,"-"]
[null,null,null,null,null,null,null,null,null,null,null,null,null,null,null,"-",null,{"$f":"IF(ISBLANK(J262),\"-\",VLOOKUP(J262,'Compliance Calcs'!$A$17:$B$24,2,FALSE))","v":"-"},null,"-"]
[null,null,null,null,null,null,null,null,null,null,null,null,null,null,null,"-",null,{"$f":"IF(ISBLANK(J263),\"-\",VLOOKUP(J263,'Compliance Calcs'!$A$17:$B$24,2,FALSE))","v":"-"},null,"-"]
[null,null,null,null,null,null,null,null,null,null,null,null,null,null,null,"-",null,{"$f":"IF(ISBLANK(J264),\"-\",VLOOKUP(J264,'Compliance Calcs'!$A$17:$B$24,2,FALSE))","v":"-"},null,"-"]
[null,null,null,null,null,null,null,null,null,null,null,null,null,null,null,"-",null,{"$f":"IF(ISBLANK(J265),\"-\",VLOOKUP(J265,'Compliance Calcs'!$A$17:$B$24,2,FALSE))","v":"-"},null,"-"]
[null,null,null,null,null,null,null,null,null,null,null,null,null,null,null,"-",null,{"$f":"IF(ISBLANK(J266),\"-\",VLOOKUP(J266,'Compliance Calcs'!$A$17:$B$24,2,FALSE))","v":"-"},null,"-"]
[null,null,null,null,null,null,null,null,null,null,null,null,null,null,null,"-",null,{"$f":"IF(ISBLANK(J267),\"-\",VLOOKUP(J267,'Compliance Calcs'!$A$17:$B$24,2,FALSE))","v":"-"},null,"-"]
[null,null,null,null,null,null,null,null,null,null,null,null,null,null,null,"-",null,{"$f":"IF(ISBLANK(J268),\"-\",VLOOKUP(J268,'Compliance Calcs'!$A$17:$B$24,2,FALSE))","v":"-"},null,"-"]
[null,null,null,null,null,null,null,null,null,null,null,null,null,null,null,"-",null,{"$f":"IF(ISBLANK(J269),\"-\",VLOOKUP(J269,'Compliance Calcs'!$A$17:$B$24,2,FALSE))","v":"-"},null,"-"]
[null,null,null,null,null,null,null,null,null,null,null,null,null,null,null,"-",null,{"$f":"IF(ISBLANK(J270),\"-\",VLOOKUP(J270,'Compliance Calcs'!$A$17:$B$24,2,FALSE))","v":"-"},null,"-"]
[null,null,null,null,null,null,null,null,null,null,null,null,null,null,null,"-",null,{"$f":"IF(ISBLANK(J271),\"-\",VLOOKUP(J271,'Compliance Calcs'!$A$17:$B$24,2,FALSE))","v":"-"},null,"-"]
[null,null,null,null,null,null,null,null,null,null,null,null,null,null,null,"-",null,{"$f":"IF(ISBLANK(J272),\"-\",VLOOKUP(J272,'Compliance Calcs'!$A$17:$B$24,2,FALSE))","v":"-"},null,"-"]
[null,null,null,null,null,null,null,null,null,null,null,null,null,null,null,"-",null,{"$f":"IF(ISBLANK(J273),\"-\",VLOOKUP(J273,'Compliance Calcs'!$A$17:$B$24,2,FALSE))","v":"-"},null,"-"]
[null,null,null,null,null,null,null,null,null,null,null,null,null,null,null,"-",null,{"$f":"IF(ISBLANK(J274),\"-\",VLOOKUP(J274,'Compliance Calcs'!$A$17:$B$24,2,FALSE))","v":"-"},null,"-"]
[null,null,null,null,null,null,null,null,null,null,null,null,null,null,null,"-",null,{"$f":"IF(ISBLANK(J275),\"-\",VLOOKUP(J275,'Compliance Calcs'!$A$17:$B$24,2,FALSE))","v":"-"},null,"-"]
[null,null,null,null,null,null,null,null,null,null,null,null,null,null,null,"-",null,{"$f":"IF(ISBLANK(J276),\"-\",VLOOKUP(J276,'Compliance Calcs'!$A$17:$B$24,2,FALSE))","v":"-"},null,"-"]
[null,null,null,"Fenestration ",null,null,null,null,null,null,null,null,null,"Proposed",null,null,null,"Reference "]
[null,null,null,"Name",null,null,null,null,null,"Component Type",null,"Height","Area","U-Value","Max. U-Value","U x A",null,"U-Value",null,"U x A"]
[null,null,null,null,null,null,null,null,null,null,null,"[ft]","[ft2]","[BTU/ft2.°F.h]","[BTU/ft2.°F.h]","[BTU/h°F]",null," [BTU/ft2.°F.h]",null,"[BTU/h°F]"]
[null,null,null,null,null,null,null,null,null,null,null,null,null,null,{"$f":"IF(ISBLANK($L280),\"-\",MIN(IF($L280>=16,6,MIN(MAX(14.7-(0.742*$L280),14.7-(0.742*10)),13.3))/(0.74*(68-VLOOKUP(_Ctrl_3,'Reference Climate Info_Vals'!B:J,9,FALSE))),0.5))","v":"-"},{"$f":"IF(ISBLANK($M280),\"-\",IF(ISBLANK($N280),\"-\",$N280*$M280))","v":"-"},null,{"$f":"IF(ISBLANK(J280),\"-\",$Q$91)","v":"-"},null,{"$f":"IF(ISBLANK($M280),\"-\",IF(ISBLANK($N280),\"-\",IF($R280=\"-\",\"-\",$R280*$M280)))","v":"-"}]
[null,null,null,null,null,null,null,null,null,null,null,null,null,null,{"$f":"IF(ISBLANK($L281),\"-\",MIN(IF($L281>=16,6,MIN(MAX(14.7-(0.742*$L281),14.7-(0.742*10)),13.3))/(0.74*(68-VLOOKUP(_Ctrl_3,'Reference Climate Info_Vals'!B:J,9,FALSE))),0.5))","v":"-"},"-",null,{"$f":"IF(ISBLANK(J281),\"-\",$Q$91)","v":"-"},null,"-"]
[null,null,null,null,null,null,null,null,null,null,null,null,null,null,{"$f":"IF(ISBLANK($L282),\"-\",MIN(IF($L282>=16,6,MIN(MAX(14.7-(0.742*$L282),14.7-(0.742*10)),13.3))/(0.74*(68-VLOOKUP(_Ctrl_3,'Reference Climate Info_Vals'!B:J,9,FALSE))),0.5))","v":"-"},"-",null,"-",null,"-"]
[null,null,null,null,null,null,null,null,null,null,null,null,null,null,{"$f":"IF(ISBLANK($L283),\"-\",MIN(IF($L283>=16,6,MIN(MAX(14.7-(0.742*$L283),14.7-(0.742*10)),13.3))/(0.74*(68-VLOOKUP(_Ctrl_3,'Reference Climate Info_Vals'!B:J,9,FALSE))),0.5))","v":"-"},"-",null,"-",null,"-"]
[null,null,null,null,null,null,null,null,null,null,null,null,null,null,{"$f":"IF(ISBLANK($L284),\"-\",MIN(IF($L284>=16,6,MIN(MAX(14.7-(0.742*$L284),14.7-(0.742*10)),13.3))/(0.74*(68-VLOOKUP(_Ctrl_3,'Reference Climate Info_Vals'!B:J,9,FALSE))),0.5))","v":"-"},"-",null,"-",null,"-"]
[null,null,null,null,null,null,null,null,null,null,null,null,null,null,{"$f":"IF(ISBLANK($L285),\"-\",MIN(IF($L285>=16,6,MIN(MAX(14.7-(0.742*$L285),14.7-(0.742*10)),13.3))/(0.74*(68-VLOOKUP(_Ctrl_3,'Reference Climate Info_Vals'!B:J,9,FALSE))),0.5))","v":"-"},"-",null,"-",null,"-"]
[null,null,null,null,null,null,null,null,null,null,null,null,null,null,{"$f":"IF(ISBLANK($L286),\"-\",MIN(IF($L286>=16,6,MIN(MAX(14.7-(0.742*$L286),14.7-(0.742*10)),13.3))/(0.74*(68-VLOOKUP(_Ctrl_3,'Reference Climate Info_Vals'!B:J,9,FALSE))),0.5))","v":"-"},"-",null,"-",null,"-"]
[null,null,null,null,null,null,null,null,null,null,null,null,null,null,{"$f":"IF(ISBLANK($L287),\"-\",MIN(IF($L287>=16,6,MIN(MAX(14.7-(0.742*$L287),14.7-(0.742*10)),13.3))/(0.74*(68-VLOOKUP(_Ctrl_3,'Reference Climate Info_Vals'!B:J,9,FALSE))),0.5))","v":"-"},"-",null,"-",null,"-"]
[null,null,null,null,null,null,null,null,null,null,null,null,null,null,{"$f":"IF(ISBLANK($L288),\"-\",MIN(IF($L288>=16,6,MIN(MAX(14.7-(0.742*$L288),14.7-(0.742*10)),13.3))/(0.74*(68-VLOOKUP(_Ctrl_3,'Reference Climate Info_Vals'!B:J,9,FALSE))),0.5))","v":"-"},"-",null,"-",null,"-"]
[null,null,null,null,null,null,null,null,null,null,null,null,null,null,{"$f":"IF(ISBLANK($L289),\"-\",MIN(IF($L289>=16,6,MIN(MAX(14.7-(0.742*$L289),14.7-(0.742*10)),13.3))/(0.74*(68-VLOOKUP(_Ctrl_3,'Reference Climate Info_Vals'!B:J,9,FALSE))),0.5))","v":"-"},"-",null,"-",null,"-"]
[null,null,null,null,null,null,null,null,null,null,null,null,null,null,{"$f":"IF(ISBLANK($L290),\"-\",MIN(IF($L290>=16,6,MIN(MAX(14.7-(0.742*$L290),14.7-(0.742*10)),13.3))/(0.74*(68-VLOOKUP(_Ctrl_3,'Reference Climate Info_Vals'!B:J,9,FALSE))),0.5))","v":"-"},"-",null,"-",null,"-"]
[null,null,null,null,null,null,null,null,null,null,null,null,null,null,{"$f":"IF(ISBLANK($L291),\"-\",MIN(IF($L291>=16,6,MIN(MAX(14.7-(0.742*$L291),14.7-(0.742*10)),13.3))/(0.74*(68-VLOOKUP(_Ctrl_3,'Reference Climate Info_Vals'!B:J,9,FALSE))),0.5))","v":"-"},"-",null,"-",null,"-"]
[null,null,null,null,null,null,null,null,null,null,null,null,null,null,{"$f":"IF(ISBLANK($L292),\"-\",MIN(IF($L292>=16,6,MIN(MAX(14.7-(0.742*$L292),14.7-(0.742*10)),13.3))/(0.74*(68-VLOOKUP(_Ctrl_3,'Reference Climate Info_Vals'!B:J,9,FALSE))),0.5))","v":"-"},"-",null,"-",null,"-"]
[null,null,null,null,null,null,null,null,null,null,null,null,null,null,{"$f":"IF(ISBLANK($L293),\"-\",MIN(IF($L293>=16,6,MIN(MAX(14.7-(0.742*$L293),14.7-(0.742*10)),13.3))/(0.74*(68-VLOOKUP(_Ctrl_3,'Reference Climate Info_Vals'!B:J,9,FALSE))),0.5))","v":"-"},"-",null,"-",null,"-"]
[null,null,null,null,null,null,null,null,null,null,null,null,null,null,{"$f":"IF(ISBLANK($L294),\"-\",MIN(IF($L294>=16,6,MIN(MAX(14.7-(0.742*$L294),14.7-(0.742*10)),13.3))/(0.74*(68-VLOOKUP(_Ctrl_3,'Reference Climate Info_Vals'!B:J,9,FALSE))),0.5))","v":"-"},"-",null,"-",null,"-"]
[null,null,null,null,null,null,null,null,null,null,null,null,null,null,{"$f":"IF(ISBLANK($L295),\"-\",MIN(IF($L295>=16,6,MIN(MAX(14.7-(0.742*$L295),14.7-(0.742*10)),13.3))/(0.74*(68-VLOOKUP(_Ctrl_3,'Reference Climate Info_Vals'!B:J,9,FALSE))),0.5))","v":"-"},"-",null,"-",null,"-"]
[null,null,null,null,null,null,null,null,null,null,null,null,null,null,{"$f":"IF(ISBLANK($L296),\"-\",MIN(IF($L296>=16,6,MIN(MAX(14.7-(0.742*$L296),14.7-(0.742*10)),13.3))/(0.74*(68-VLOOKUP(_Ctrl_3,'Reference Climate Info_Vals'!B:J,9,FALSE))),0.5))","v":"-"},"-",null,"-",null,"-"]
[null,null,null,null,null,null,null,null,null,null,null,null,null,null,{"$f":"IF(ISBLANK($L297),\"-\",MIN(IF($L297>=16,6,MIN(MAX(14.7-(0.742*$L297),14.7-(0.742*10)),13.3))/(0.74*(68-VLOOKUP(_Ctrl_3,'Reference Climate Info_Vals'!B:J,9,FALSE))),0.5))","v":"-"},"-",null,"-",null,"-"]
[null,null,null,null,null,null,null,null,null,null,null,null,null,null,{"$f":"IF(ISBLANK($L298),\"-\",MIN(IF($L298>=16,6,MIN(MAX(14.7-(0.742*$L298),14.7-(0.742*10)),13.3))/(0.74*(68-VLOOKUP(_Ctrl_3,'Reference Climate Info_Vals'!B:J,9,FALSE))),0.5))","v":"-"},"-",null,"-",null,"-"]
[null,null,null,null,null,null,null,null,null,null,null,null,null,null,{"$f":"IF(ISBLANK($L299),\"-\",MIN(IF($L299>=16,6,MIN(MAX(14.7-(0.742*$L299),14.7-(0.742*10)),13.3))/(0.74*(68-VLOOKUP(_Ctrl_3,'Reference Climate Info_Vals'!B:J,9,FALSE))),0.5))","v":"-"},"-",null,"-",null,"-"]
[null,null,null,null,null,null,null,null,null,null,null,null,null,null,{"$f":"IF(ISBLANK($L300),\"-\",MIN(IF($L300>=16,6,MIN(MAX(14.7-(0.742*$L300),14.7-(0.742*10)),13.3))/(0.74*(68-VLOOKUP(_Ctrl_3,'Reference Climate Info_Vals'!B:J,9,FALSE))),0.5))","v":"-"},"-",null,"-",null,"-"]
[null,null,null,null,null,null,null,null,null,null,null,null,null,null,{"$f":"IF(ISBLANK($L301),\"-\",MIN(IF($L301>=16,6,MIN(MAX(14.7-(0.742*$L301),14.7-(0.742*10)),13.3))/(0.74*(68-VLOOKUP(_Ctrl_3,'Reference Climate Info_Vals'!B:J,9,FALSE))),0.5))","v":"-"},"-",null,"-",null,"-"]
[null,null,null,null,null,null,null,null,null,null,null,null,null,null,{"$f":"IF(ISBLANK($L302),\"-\",MIN(IF($L302>=16,6,MIN(MAX(14.7-(0.742*$L302),14.7-(0.742*10)),13.3))/(0.74*(68-VLOOKUP(_Ctrl_3,'Reference Climate Info_Vals'!B:J,9,FALSE))),0.5))","v":"-"},"-",null,"-",null,"-"]
[null,null,null,null,null,null,null,null,null,null,null,null,null,null,{"$f":"IF(ISBLANK($L303),\"-\",MIN(IF($L303>=16,6,MIN(MAX(14.7-(0.742*$L303),14.7-(0.742*10)),13.3))/(0.74*(68-VLOOKUP(_Ctrl_3,'Reference Climate Info_Vals'!B:J,9,FALSE))),0.5))","v":"-"},"-",null,"-",null,"-"]
[null,null,null,null,null,null,null,null,null,null,null,null,null,null,{"$f":"IF(ISBLANK($L304),\"-\",MIN(IF($L304>=16,6,MIN(MAX(14.7-(0.742*$L304),14.7-(0.742*10)),13.3))/(0.74*(68-VLOOKUP(_Ctrl_3,'Reference Climate Info_Vals'!B:J,9,FALSE))),0.5))","v":"-"},"-",null,"-",null,"-"]
[null,25,5.2,null,"Reduced Thermal Bridging25"]
[null,null,"5.2.1",null,null,"At above-grade walls separating conditioned from unconditioned space, one of the following options is used:"]
[null,26,"5.2.1.1",null,null,null,"Continuous insulation26, insulated siding, or combination of the two OR"]
[null,27,"5.2.1.2",null,null,null,"Structural insulated panels or; insulated concrete forms or; interior-load bearing double-wall framing.27"]
[null,28,"5.2.2",null,null,"The thermal envelope must be continuous and at least an effective28 R-10 everywhere."]
[null,29,"5.2.3",null,null,"Structural cantilevers and columns may not penetrate the thermal enclosure.29"]
[null,null,"5.2.4",null,null,"No continuous metal girt cladding attachments."]
[null,30,"5.2.5",null,null,"No materials of conductivity > 0.17 [Btu/h.ft.F] (0.3 [W/mK]) bridge from the inside to the outside at windows, doors, skylights. Fenestration metal frames and thresholds are thermally broken. See NFRC 10130 for material properties."]
[null,null,6,"Moisture Risk Limitation",null,null,null,null,null,null,null,null,null,null,null,null,null,"Design Verified","Rater Verified","NA",null,null,"-Select from Dropdown-"]
[null,null,6.1,null,"Opaque Enclosure"]
[null,31,"6.1.1",null,null," Meets requirements found in phius Certification Guidebook Appendix B.31"]
[null,null,"6.1.1.1",null,null,null,"Calculations in section 5.1.1 in-line with effective R-value calculation may be used to show compliance."]
[null,null,6.2,null,"Fenestration"]
[null,null,"6.2.1",null,null,"Minimum condensation resistance, as calculated, is met by one of the following methods:",null,null,null,null,null,null,null,null,null,null,{"$f":"Main!C17","v":0.64200000000000002}]
[null,null,null,null,null,"Step 1: Select compliance method:",null,null,null,null,"Select",null,null,null,null,"Passes?",{"$f":"Main!$J$17","v":"Pending"}]
[null,null,"6.2.1.1",null,null,null,"General Frame Type U-Value."]
[null,null,"Select Type:",null,null,"triple pane nonmetal improved",null,null,null,"Estimated U-Frame [BTU/h.ft2.°F]:",null,null,{"$f":"VLOOKUP(F321, Main!$B$20:$E$24,4, FALSE)","v":0.26},"Surface temperature factor",null,null,{"$f":"VLOOKUP(F321, Main!$B$20:$E$24,3, FALSE)","v":0.83864475008386452}]
[null,null,"6.2.1.2",null,null,null,"U-frame Inferred by Window U-value (U-w) and Center of Glass U-Value (U-cog)."]
[null,null,{"$f":"IF(Q325=\"-\",\"-\",Q325)","v":"-"},"Single Lite Fenestration Type 1"]
[null,null,"Select Type:",null,null,"Casement",null,null,null,"Frame Width [in]:",null,null,"Estimated U-Frame [BTU/h.ft2.°F]:",null,null,{"$f":"'NFRC - Window Calculation'!I13","v":"-"},"Passes?"]
[null,null,"Panes of Glass:",null,null,3,null,null,"OR","U-cog [BTU/h.ft2.°F]:",null,null,"U-cog [BTU/h.ft2.°F]:",null,null,{"$f":"'NFRC - Window Calculation'!L9","v":0.11},{"$f":"IF(Q326=\"-\",\"-\",IF(Q326>=$Q$318,\"YES\",\"NO\"))","v":"-"}]
[null,null,"U-w at Comfort Requirement [BTU/h.ft2.°F]:",null,null,null,null,null,null,{"$f":"$Q$91","v":0.1546829848716641},"Safety Factor on U-Value:",null,0.15,"Estimated Surface temperature factor:",null,null,{"$f":"'NFRC - Window Calculation'!L4","v":"-"}]
[null,null,{"$f":"IF(Q329=\"-\",\"-\",Q329)","v":"-"},"Single Lite Fenestration Type 2"]
[null,null,"Select Type:",null,null,"Dual Action",null,null,null,"Frame Width [in]:",null,null,"Estimated U-Frame [BTU/h.ft2.°F]:",null,null,{"$f":"'NFRC - Window Calculation'!I26","v":"-"},"Passes?"]
[null,null,"Panes of Glass:",null,null,3,null,null,"OR","U-cog [BTU/h.ft2.°F]:",null,null,"U-cog [BTU/h.ft2.°F]:",null,null,{"$f":"'NFRC - Window Calculation'!L22","v":0.11},{"$f":"IF(Q330=\"-\",\"-\",IF(Q330>=$Q$318,\"YES\",\"NO\"))","v":"-"}]
[null,null,"U-w at Comfort Requirement [BTU/h.ft2.°F]:",null,null,null,null,null,null,{"$f":"$Q$91","v":0.1546829848716641},"Safety Factor on U-Value:",null,0.15,"Estimated Surface temperature factor:",null,null,{"$f":"'NFRC - Window Calculation'!L17","v":"-"}]
[null,null,{"$f":"IF(Q333=\"-\",\"-\",Q333)","v":"-"},"Single Lite Fenestration Type 3"]
[null,null,"Select Type:",null,null,"Fixed",null,null,null,"Frame Width [in]:",null,null,"Estimated U-Frame [BTU/h.ft2.°F]:",null,null,{"$f":"'NFRC - Window Calculation'!I39","v":"-"},"Passes?"]
[null,null,"Panes of Glass:",null,null,3,null,null,"OR","U-cog [BTU/h.ft2.°F]:",null,null,"U-cog [BTU/h.ft2.°F]:",null,null,{"$f":"'NFRC - Window Calculation'!L35","v":0.11},{"$f":"IF(Q334=\"-\",\"-\",IF(Q334>=$Q$318,\"YES\",\"NO\"))","v":"-"}]
[null,null,"U-w at Comfort Requirement [BTU/h.ft2.°F]:",null,null,null,null,null,null,{"$f":"$Q$91","v":0.1546829848716641},"Safety Factor on U-Value:",null,0.15,"Surface temperature factor",null,null,{"$f":"'NFRC - Window Calculation'!L30","v":"-"}]
[null,null,{"$f":"IF(Q337=\"-\",\"-\",Q337)","v":"-"},"Single Lite Fenestration Type 4"]
[null,null,"Select Type:",null,null,"Swinging Door",null,null,null,"Frame Width [in]:",null,null,"Estimated U-Frame [BTU/h.ft2.°F]:",null,null,{"$f":"'NFRC - Window Calculation'!I43","v":0},"Passes?"]
[null,null,"Panes of Glass:",null,null,3,null,null,"OR","U-cog [BTU/h.ft2.°F]:",null,null,"U-cog [BTU/h.ft2.°F]:",null,null,{"$f":"'NFRC - Window Calculation'!L48","v":0.11},{"$f":"IF(Q338=\"-\",\"-\",IF(Q338>=$Q$318,\"YES\",\"NO\"))","v":"-"}]
[null,null,"U-w at Comfort Requirement [BTU/h.ft2.°F]:",null,null,null,null,null,null,{"$f":"$Q$91","v":0.1546829848716641},"Safety Factor on U-Value:",null,0.15,"Surface temperature factor",null,null,{"$f":"'NFRC - Window Calculation'!L43","v":"-"}]
[null,null,{"$f":"IF(Q342=\"-\",\"-\",Q342)","v":"-"},"2-Lite Stacked Fenestration Type 1"]
[null,null,"Select Type:",null,null,"Fixed",null,null,null,"Frame Width [in]:",null,null,"Estimated U-Frame [BTU/h.ft2.°F]:",null,null,{"$f":"'NFRC - Window Calculation'!I66","v":"-"},"Passes?"]
[null,null,null,null,null,null,null,null,null,"Center Rail Width [in]:"]
[null,null,"Panes of Glass:",null,null,3,null,null,"OR","U-cog [BTU/h.ft2.°F]:",null,null,"U-cog [BTU/h.ft2.°F]:",null,null,{"$f":"'NFRC - Window Calculation'!L61","v":0.11},{"$f":"IF(Q343=\"-\",\"-\",IF(Q343>=$Q$318,\"YES\",\"NO\"))","v":"-"}]
[null,null,"U-w at Comfort Requirement [BTU/h.ft2.°F]:",null,null,null,null,null,null,{"$f":"$Q$91","v":0.1546829848716641},"Safety Factor on U-Value:",null,0.15,"Surface temperature factor",null,null,{"$f":"'NFRC - Window Calculation'!L56","v":"-"}]
[null,null,{"$f":"IF(Q347=\"-\",\"-\",Q347)","v":"-"},"2-Lite Stacked Fenestration Type 2"]
[null,null,"Select Type:",null,null,"Fixed",null,null,null,"Frame Width [in]:",null,null,"Estimated U-Frame [BTU/h.ft2.°F]:",null,null,{"$f":"'NFRC - Window Calculation'!I87","v":"-"},"Passes?"]
[null,null,null,null,null,null,null,null,null,"Center Rail Width [in]:"]
[null,null,"Panes of Glass:",null,null,3,null,null,"OR","U-cog [BTU/h.ft2.°F]:",null,null,"U-cog [BTU/h.ft2.°F]:",null,null,{"$f":"'NFRC - Window Calculation'!L82","v":0.11},{"$f":"IF(Q348=\"-\",\"-\",IF(Q348>=$Q$318,\"YES\",\"NO\"))","v":"-"}]
[null,null,"U-w at Comfort Requirement [BTU/h.ft2.°F]:",null,null,null,null,null,null,{"$f":"$Q$91","v":0.1546829848716641},"Safety Factor on U-Value:",null,0.15,"Surface temperature factor",null,null,{"$f":"'NFRC - Window Calculation'!L77","v":"-"}]
[null,null,{"$f":"IF(Q352=\"-\",\"-\",Q352)","v":"-"},"2-Lite Side-by-side Fenestration Type 1"]
[null,null,"Select Type:",null,null,"Fixed",null,null,null,"Head Frame Width [in]:",null,null,"Estimated U-Frame [BTU/h.ft2.°F]:",null,null,{"$f":"'NFRC - Window Calculation'!I110","v":"-"},"Passes?"]
[null,null,"Jamb Frame Width [in]:",null,null,null,null,null,null,"Center Rail Width [in]:",null,null,"Sill Frame Width [in]:"]
[null,null,"Panes of Glass:",null,null,3,null,null,"OR","U-cog [BTU/h.ft2.°F]:",null,null,"U-cog [BTU/h.ft2.°F]:",null,null,{"$f":"'NFRC - Window Calculation'!S105","v":0.11},{"$f":"IF(Q353=\"-\",\"-\",IF(Q353>=$Q$318,\"YES\",\"NO\"))","v":"-"}]
[null,null,"U-w at Comfort Requirement [BTU/h.ft2.°F]:",null,null,null,null,null,null,{"$f":"$Q$91","v":0.1546829848716641},"Safety Factor on U-Value:",null,0.15,"Surface temperature factor",null,null,{"$f":"'NFRC - Window Calculation'!S100","v":"-"}]
[null,null,{"$f":"IF(Q357=\"-\",\"-\",Q357)","v":"-"},"2-Lite Side-by-side Fenestration Type 2"]
[null,null,"Select Type:",null,null,"Fixed",null,null,null,"Head Frame Width [in]:",null,null,"Estimated U-Frame [BTU/h.ft2.°F]:",null,null,{"$f":"'NFRC - Window Calculation'!I115","v":0},"Passes?","-"]
[null,null,"Jamb Frame Width [in]:",null,null,null,null,null,null,"Center Rail Width [in]:",null,null,"Sill Frame Width [in]:"]
[null,null,"Panes of Glass:",null,null,3,null,null,"OR","U-cog [BTU/h.ft2.°F]:",null,null,"U-cog [BTU/h.ft2.°F]:",null,null,{"$f":"'NFRC - Window Calculation'!S120","v":0.11},{"$f":"IF(Q358=\"-\",\"-\",IF(Q358>=$Q$318,\"YES\",\"NO\"))","v":"-"}]
[null,null,"U-w at Comfort Requirement [BTU/h.ft2.°F]:",null,null,null,null,null,null,{"$f":"$Q$91","v":0.1546829848716641},"Safety Factor on U-Value:",null,0.15,"Surface temperature factor",null,null,{"$f":"'NFRC - Window Calculation'!S115","v":"-"}]
[null,null,"6.2.1.3",null,null,null,"AAMA 1503 Condensation Resistance Factor (CRF)"]
[null,null,"Safety Factor on U-value:",null,null,null,null,null,null,null,0.15,"Input CRF:",null,"Surface temperature factor:",null,null,{"$f":"IF(ISBLANK(M360), \"-\", Main!$C$27)","v":"-"}]
[null,null,"6.2.1.4",null,null,null,"NFRC 500-2020 Condensation Resistance"]
[null,null,"Input Condensation Resistance:",null,null,null,null,null,null,null,null,null,null,"Surface temperature factor:",null,null,{"$f":"IF(ISBLANK(M362), \"-\", Main!$C$29/100)","v":"-"}]
[null,null,"6.2.1.5",null,null,null,"CAN/CSA A440.2 Temperature Index"]
[null,null,"Input Temperature Index:",null,null,null,null,null,null,null,null,null,null,"Surface temperature factor:",null,null,{"$f":"IF(ISBLANK(M364), \"-\", Main!$C$31/100)","v":"-"}]
[null,32,"6.2.1.6",null,null,null,"fRSI Method32"]
[null,null,"Input fRSI:",null,null,null,null,null,null,null,null,null,null,"Surface temperature factor:",null,null,{"$f":"IF(ISBLANK(M366), \"-\", Main!$C$33)","v":"-"}]
[null,33,7,"Mechanical Ventilation33",null,null,null,null,null,null,null,null,null,null,null,null,null,"Design Verified","Rater Verified","NA",null,null,"-Select from Dropdown-"]
[null,null,7.1,null,"Balanced Ventilation"]
[null,null,"7.1.1",null,null,"Ventilation is balanced according to phius Certification Guidebook Section 3."]
[null,null,7.2,null,"Mechanical Ventilation Efficiency"]
[null,"34, 35, 36","7.2.1",null,null,"The sensible recovery efficiency34,35,36 in heating mode ≥ calculated minimum required value.",null,null,null,null,null,null,null,null,null,null,{"$f":"'Reference Climate Info_Vals'!BG2","v":0.81566820276497698}]
[null,37,"7.2.2",null,null,"The total recovery efficiency37 in cooling mode is greater than or equal to the calculated minimum required value.",null,null,null,null,null,null,null,null,null,null,{"$f":"'Reference Climate Info_Vals'!BN2","v":"NR"}]
[null,null,"7.2.3",null,null,"The electrical efficiency of the fresh air ventilation system meets 7.2.3.1 or follows the performance tradeoff path in 9.1.2."]
[null,38,"7.2.3.1",null,null,null,"Limit of 0.83 [W/cfm] (1.2 [cfm/W]) on mechanical fresh air ventilation systems.38"]
[null,null,"7.2.3.2",null,null,null,"For tradeoff path allowed for fresh air ventilation system electric efficiency, use [+] to the left to reveal table below."]
[null,null,"Ventilation System Type",null,null,null,null,"Electric Efficiency [W/cfm]",null,null,"Number of Bedrooms",null,"ASHRAE 62.2 2019 [cfm]",null,"Run Hours","Proposed\n(W/cfm)","Reference (W/cfm)"]
[null,null,"HRV",null,null,null,null,null,null,null,{"$f":"Q19","v":0},null,{"$f":"Main!D111","v":15},null,8760,{"$f":"Main!F111","v":"N/A"},{"$f":"Main!G111","v":109}]
[null,null,"7.2.4",null,null,"The ventilation ducts between the recovery device and the enclosure are insulated to at least R-8. Air-sealed, Class I vapor retarder shall be installed over all air-permeable insulation (such as fiberglass duct wrap) on ventilation ducts connected to the outside."]
[null,null,"7.2.5",null,null,"The total length of the fresh air ventilation (supply and exhaust) ducts between the recovery device and the enclosure is less than or equal to the project-specific calculated maximum [ft].",null,null,null,null,null,null,null,null,null,null,{"$f":"IF(ISBLANK(N18),\"iCFA missing.\",IF(ISBLANK(Q19),\"Bedroom input missing.\",IF(ISBLANK(Q18),\"Story count missing.\",Main!B37*2)))","v":"iCFA missing."}]
[null,39,"7.2.6",null,null,"Ventilator defrost is provided as required.39"]
[null,null,"7.2.7",null,null,"Direct exhaust range hood rated airflow does not exceed 385 [cfm]."]
[null,null,8,"Mechanical Systems",null,null,null,null,null,null,null,null,null,null,null,null,null,"Design Verified","Rater Verified","NA",null,null,"-Select from Dropdown-"]
[null,40,8.1,null,"The space heating system does not rely primarily40 on electric resistance."]
[null,null,8.1999999999999993,null,"Minimum required heating/cooling equipment efficiency is met based on climate zone and system type as calculated."]
[null,"41, 42, 43","8.2.1",null,null,"Cooling System Planned?41, 42, 43",null,null,"Select",{"$f":"IF(AND(I385=\"Select\",OR(T10=\"0A\",T10=\"0B\",T10=\"1A\",T10=\"1B\",T10=\"2A\",T10=\"2B\")),\"Cooling system is required.\",IF(I385=\"Select\",\"Answer cooling question to left.\",IF(AND(I385=\"No\",OR(T10=\"0A\",T10=\"0B\",T10=\"1A\",T10=\"1B\",T10=\"2A\",T10=\"2B\")),\"Cooling system is required. Revise input to left.\",IF(I385=\"No\",\"See 4.1.1 & 4.4.1. No EER/SEER required.\",\"EER/SEER requirements to right.\"))))","v":"Answer cooling question to left."},null,"Choose System:","Select",null,{"$f":"Main!C41","v":""},null,{"$f":"Main!C40","v":"Select System"}]
[null,null,null,null,null,null,null,null,null,null,null,null,null,null,{"$f":"Main!D41","v":""},null,{"$f":"Main!D40","v":"-"}]
[null,44,8.3000000000000007,null,"Ventilation Fans meet ENERGY STAR Most Efficient 2020.44"]
[null,45,8.4,null,"Dehumidifiers meet ENERGY STAR Most Efficient 2020.45"]
[null,46,8.5,null,"No active ice/snow melt systems nor semi-heated enclosed spaces outside of the certified thermal envelope are planned (no heating of garages, attached sunspaces, three-season rooms, greenhouses).46"]
[null,null,9,"Lighting, Appliances & Water Heating",null,null,null,null,null,null,null,null,null,null,null,null,null,"Design Verified","Rater Verified","NA",null,null,"-Select from Dropdown-"]
[null,null,9.1,null,"Builder-installed lighting, appliances, & water heating comply with 9.1.1 or 9.1.2.",null,null,null,null,null,null,null,null,"Choose one:",null,"Select"]
[null,null,"9.1.1",null,null,"Component Compliance"]
[null,null,"9.1.1.1",null,null,null,"Lighting meets a or b below.",null,null,null,"Choose one:",null,"Select"]
[null,null,"9.1.1.1a",null,null,null,null,"All light fixtures ≥ 83 Lumens/Watt OR"]
[null,null,"9.1.1.1b",null,null,null,null,"Average efficacy (weighted based on wattage) of light fixtures ≥ 83 Lumens/Watt."]
[null,null,"9.1.1.1b.1",null,null,null,null,null,"Use the [+] icon on the far left of the screen to expand and view built in compliance calculators."]
[null,null,"Light Fixtures, Average Efficacy",null,null,null,null,null,null,"Proposed Average Efficacy [Lumens/Watt]",null,null,null,"Reference Average Efficacy [lm/W]",null,null,"Passes?"]
[null,null,null,null,null,null,null,null,null,{"$f":"IF(AND(ISNUMBER(J400),ISNUMBER(K400),ISNUMBER(I400),ISNUMBER(C400)), ROUND(SUMPRODUCT(K400:K429,I400:I429,L400:L429)/SUMPRODUCT(I400:I429,K400:K429),0), \"N/A\")","v":"N/A"},null,null,null,83,null,null,{"$f":"IF(J398=\"N/A\",\"N/A\",IF(J398>=N398, \"YES\", \"NO\"))","v":"N/A"}]
[null,null,"Hrs / Day","Installed Fixture Location",null,null,null,null,"Quantity","Lumens\n[lm]","Wattage\n[W]","Proposed Efficacy\n[lm/W]",null,"Reference Efficacy\n[lm/W]",null,"Reference [W]"]
[null,null,{"$f":"IF(ISBLANK(D400),\"-\",VLOOKUP(D400,Main!$B$71:$C$83,2,FALSE))","v":"-"},null,null,null,null,null,null,null,null,{"$f":"IF(ISBLANK(K400),\"-\",IF(ISBLANK(J400),\"\",J400/K400))","v":"-"},null,{"$f":"IF(ISBLANK(J400), \"-\", 83)","v":"-"},null,{"$f":"IF(ISBLANK(J400),\"-\",J400/N400)","v":"-"}]
[null,null,{"$f":"IF(ISBLANK(D401),\"-\",VLOOKUP(D401,Main!$B$71:$C$83,2,FALSE))","v":"-"},null,null,null,null,null,null,null,null,{"$f":"IF(ISBLANK(K401),\"-\",IF(ISBLANK(J401),\"\",J401/K401))","v":"-"},null,{"$f":"IF(ISBLANK(J401), \"-\", 83)","v":"-"},null,{"$f":"IF(ISBLANK(J401),\"-\",J401/N401)","v":"-"}]
[null,null,{"$f":"IF(ISBLANK(D402),\"-\",VLOOKUP(D402,Main!$B$71:$C$83,2,FALSE))","v":"-"},null,null,null,null,null,null,null,null,"-",null,"-",null,"-"]
[null,null,{"$f":"IF(ISBLANK(D403),\"-\",VLOOKUP(D403,Main!$B$71:$C$83,2,FALSE))","v":"-"},null,null,null,null,null,null,null,null,"-",null,"-",null,"-"]
[null,null,{"$f":"IF(ISBLANK(D404),\"-\",VLOOKUP(D404,Main!$B$71:$C$83,2,FALSE))","v":"-"},null,null,null,null,null,null,null,null,"-",null,"-",null,"-"]
[null,null,{"$f":"IF(ISBLANK(D405),\"-\",VLOOKUP(D405,Main!$B$71:$C$83,2,FALSE))","v":"-"},null,null,null,null,null,null,null,null,"-",null,"-",null,"-"]
[null,null,{"$f":"IF(ISBLANK(D406),\"-\",VLOOKUP(D406,Main!$B$71:$C$83,2,FALSE))","v":"-"},null,null,null,null,null,null,null,null,{"$f":"IF(ISBLANK(K406),\"-\",IF(ISBLANK(J406),\"\",J406/K406))","v":"-"},null,{"$f":"IF(ISBLANK(J406), \"-\", 83)","v":"-"},null,{"$f":"IF(ISBLANK(J406),\"-\",J406/N406)","v":"-"}]
[null,null,{"$f":"IF(ISBLANK(D407),\"-\",VLOOKUP(D407,Main!$B$71:$C$83,2,FALSE))","v":"-"},null,null,null,null,null,null,null,null,"-",null,"-",null,"-"]
[null,null,{"$f":"IF(ISBLANK(D408),\"-\",VLOOKUP(D408,Main!$B$71:$C$83,2,FALSE))","v":"-"},null,null,null,null,null,null,null,null,"-",null,"-",null,"-"]
[null,null,{"$f":"IF(ISBLANK(D409),\"-\",VLOOKUP(D409,Main!$B$71:$C$83,2,FALSE))","v":"-"},null,null,null,null,null,null,null,null,"-",null,"-",null,"-"]
[null,null,{"$f":"IF(ISBLANK(D410),\"-\",VLOOKUP(D410,Main!$B$71:$C$83,2,FALSE))","v":"-"},null,null,null,null,null,null,null,null,"-",null,"-",null,"-"]
[null,null,{"$f":"IF(ISBLANK(D411),\"-\",VLOOKUP(D411,Main!$B$71:$C$83,2,FALSE))","v":"-"},null,null,null,null,null,null,null,null,"-",null,"-",null,"-"]
[null,null,{"$f":"IF(ISBLANK(D412),\"-\",VLOOKUP(D412,Main!$B$71:$C$83,2,FALSE))","v":"-"},null,null,null,null,null,null,null,null,"-",null,"-",null,"-"]
[null,null,{"$f":"IF(ISBLANK(D413),\"-\",VLOOKUP(D413,Main!$B$71:$C$83,2,FALSE))","v":"-"},null,null,null,null,null,null,null,null,"-",null,"-",null,"-"]
[null,null,{"$f":"IF(ISBLANK(D414),\"-\",VLOOKUP(D414,Main!$B$71:$C$83,2,FALSE))","v":"-"},null,null,null,null,null,null,null,null,"-",null,"-",null,"-"]
[null,null,{"$f":"IF(ISBLANK(D415),\"-\",VLOOKUP(D415,Main!$B$71:$C$83,2,FALSE))","v":"-"},null,null,null,null,null,null,null,null,"-",null,"-",null,"-"]
[null,null,{"$f":"IF(ISBLANK(D416),\"-\",VLOOKUP(D416,Main!$B$71:$C$83,2,FALSE))","v":"-"},null,null,null,null,null,null,null,null,{"$f":"IF(ISBLANK(K416),\"-\",IF(ISBLANK(J416),\"\",J416/K416))","v":"-"},null,"-",null,{"$f":"IF(ISBLANK(J416),\"-\",J416/N416)","v":"-"}]
[null,null,{"$f":"IF(ISBLANK(D417),\"-\",VLOOKUP(D417,Main!$B$71:$C$83,2,FALSE))","v":"-"},null,null,null,null,null,null,null,null,"-",null,"-",null,"-"]
[null,null,{"$f":"IF(ISBLANK(D418),\"-\",VLOOKUP(D418,Main!$B$71:$C$83,2,FALSE))","v":"-"},null,null,null,null,null,null,null,null,"-",null,"-",null,"-"]
[null,null,{"$f":"IF(ISBLANK(D419),\"-\",VLOOKUP(D419,Main!$B$71:$C$83,2,FALSE))","v":"-"},null,null,null,null,null,null,null,null,"-",null,"-",null,"-"]
[null,null,{"$f":"IF(ISBLANK(D420),\"-\",VLOOKUP(D420,Main!$B$71:$C$83,2,FALSE))","v":"-"},null,null,null,null,null,null,null,null,"-",null,"-",null,"-"]
[null,null,{"$f":"IF(ISBLANK(D421),\"-\",VLOOKUP(D421,Main!$B$71:$C$83,2,FALSE))","v":"-"},null,null,null,null,null,null,null,null,"-",null,"-",null,"-"]
[null,null,{"$f":"IF(ISBLANK(D422),\"-\",VLOOKUP(D422,Main!$B$71:$C$83,2,FALSE))","v":"-"},null,null,null,null,null,null,null,null,"-",null,"-",null,"-"]
[null,null,{"$f":"IF(ISBLANK(D423),\"-\",VLOOKUP(D423,Main!$B$71:$C$83,2,FALSE))","v":"-"},null,null,null,null,null,null,null,null,"-",null,"-",null,"-"]
[null,null,{"$f":"IF(ISBLANK(D424),\"-\",VLOOKUP(D424,Main!$B$71:$C$83,2,FALSE))","v":"-"},null,null,null,null,null,null,null,null,"-",null,"-",null,"-"]
[null,null,{"$f":"IF(ISBLANK(D425),\"-\",VLOOKUP(D425,Main!$B$71:$C$83,2,FALSE))","v":"-"},null,null,null,null,null,null,null,null,"-",null,"-",null,"-"]
[null,null,{"$f":"IF(ISBLANK(D426),\"-\",VLOOKUP(D426,Main!$B$71:$C$83,2,FALSE))","v":"-"},null,null,null,null,null,null,null,null,"-",null,"-",null,"-"]
[null,null,{"$f":"IF(ISBLANK(D427),\"-\",VLOOKUP(D427,Main!$B$71:$C$83,2,FALSE))","v":"-"},null,null,null,null,null,null,null,null,"-",null,"-",null,"-"]
[null,null,{"$f":"IF(ISBLANK(D428),\"-\",VLOOKUP(D428,Main!$B$71:$C$83,2,FALSE))","v":"-"},null,null,null,null,null,null,null,null,"-",null,"-",null,"-"]
[null,null,{"$f":"IF(ISBLANK(D429),\"-\",VLOOKUP(D429,Main!$B$71:$C$83,2,FALSE))","v":"-"},null,null,null,null,null,null,null,null,"-",null,"-",null,"-"]
[null,null,"9.1.1.2",null,null,null,"Appliances"]
[null,47,"9.1.1.2a",null,null,null,null,"Clothes Washer Labeled Energy Rating (LER)47 ≤ 135 kWh/yr."]
[null,null,"9.1.1.2b",null,null,null,null,"9.1.1.2b Clothes Dryer meet the requirements outlined below."]
[null,null,"9.1.1.2b.1",null,null,null,null,null,"Combined Energy Factor (CEF) ≥ 3.93."]
[null,null,"9.1.1.2b.2",null,null,null,null,null,"Condensation dryers are not installed in conditioned space, in climate zones 4B and below."]
[null,null,"9.1.1.2c",null,null,null,null,"Dishwasher LER ≤ 239 kWh/yr."]
[null,48,"9.1.1.2d",null,null,null,null,"Refrigerators & Freezers meet the LER requirements outlined below.48"]
[null,null,"9.1.1.2d.1",null,null,null,null,null,"Refrigerator-freezer LER ≤ 358 kWh/yr."]
[null,null,"9.1.1.2d.2",null,null,null,null,null,"Compact refrigerator-freezer ≤ 218 kWh/yr."]
[null,null,"9.1.1.2d.3",null,null,null,null,null,"Stand-alone refrigerator LER ≤ 374 kWh/yr."]
[null,null,"9.1.1.2d.4",null,null,null,null,null,"Compact stand-alone refrigerator LER ≤ 216 kWh/yr."]
[null,null,"9.1.1.2d.5",null,null,null,null,null,"Stand-alone freezer LER ≤ 394 kWh/yr."]
[null,null,"9.1.1.2d.6",null,null,null,null,null,"Compact stand-alone freezer LER ≤ 196 kWh/yr"]
[null,null,"9.1.1.2e",null,null,null,null,"Ceiling Fan efficiency ≥ 220.1 cfm/W."]
[null,null,"9.1.1.2f",null,null,null,null,"Pool Pump Weighted Energy Factor (WEF) ≥ 9.3 kgal/kWh."]
[null,null,"9.1.1.2g",null,null,null,null,"Electric Vehicle Charger standby power ≤ to 1.81 Watts."]
[null,null,"9.1.1.2h",null,null,null,null,"Smart Home Energy Management Systems (“Thermostat”) standby power ≤ 0.17 W."]
[null,null,"9.1.1.3",null,null,null,"Water Heating"]
[null,49,"9.1.1.3a",null,null,null,null,"Water heater is installed in conditioned space.49"]
[null,null,"9.1.1.3a.1",null,null,null,null,null,"Average Annual Ambient Temperature [F°]:",null,null,null,null,null,null,null,{"$f":"'Compliance Calcs'!B15","v":50.341666666666661}]
[null,null,"9.1.1.3b",null,null,null,null,"Water heater Uniform Energy Factor (UEF) ≥ 3.0."]
[null,null,"9.1.1.3c",null,null,null,null,"Solar water heater Solar Energy Factor (SEF) ≥ to 1.9."]
[null,null,"9.1.2",null,null,"Performance Tradeoff Calculation"]
[null,null,"9.1.2.1",null,null,null,"Performance tradeoff calculation for the proposed design shows energy use no higher than the reference design."]
[null,null,"9.1.2.1.1",null,null,null,null,"If using 9.1.2 and error populates, review calculators 9.1.1.1b.1, 9.1.2.1.2, 9.1.2.1.3 and 9.1.2.1.4.",null,null,null,null,null,null,null,"Passes?",{"$f":"Main!E90","v":"Error, review inputs."}]
[null,null,"9.1.2.1.2",null,null,null,null,"For lighting, use calculation in 9.1.1.1b.1 above.",null,null,null,null,null,null,null,"Proposed","Reference"]
[null,null,null,"Installed Lumens [lm]:",null,null,null,null,null,null,null,null,null,null,null,{"$f":"IF(SUMPRODUCT(J400:J429,I400:I429)=0,\"N/A\",ROUND(SUMPRODUCT(J400:J429,I400:I429),0))","v":"N/A"},{"$f":"P456","v":"N/A"}]
[null,null,null,"Installed Wattage [W]:",null,null,null,null,null,null,null,null,null,null,null,{"$f":"IF(SUMPRODUCT(K400:K429,I400:I429)=0,\"N/A\",ROUND(SUMPRODUCT(K400:K429,I400:I429),0))","v":"N/A"},{"$f":"IF(SUMPRODUCT(I400:I429,P400:P429)=0,\"N/A\",ROUND(SUMPRODUCT(I400:I429,P400:P429),0))","v":"N/A"}]
[null,null,null,"Subtotal, Lighting Energy [kWh/yr]:",null,null,null,null,null,null,null,null,null,null,null,{"$f":"IF(SUMPRODUCT(C400:C429,K400:K429,I400:I429)*365/1000=0,\"N/A\",ROUND(SUMPRODUCT(C400:C429,K400:K429,I400:I429)*365/1000,0))","v":"N/A"},{"$f":"IF(SUMPRODUCT(C400:C429,I400:I429,P400:P429)*365/1000=0,\"N/A\",ROUND(SUMPRODUCT(C400:C429,I400:I429,P400:P429)*365/1000,0))","v":"N/A"}]
[null,null,"9.1.2.1.3",null,null,null,null,"For fresh air ventilation system electric efficiency, use calculation in 7.2.3.2 above.",null,null,null,null,null,null,null,"Proposed","Reference"]
[null,null,null,"Rated Wattage [W]:",null,null,null,null,null,null,null,null,null,null,null,{"$f":"H377","v":0},0.83]
[null,null,null,"Subtotal, Fresh Air Ventilation System Energy [kWh/yr]:",null,null,null,null,null,null,null,null,null,null,null,{"$f":"P377","v":"N/A"},{"$f":"Q377","v":109}]
[null,null,"9.1.2.1.4",null,null,null,null,"For appliances, use table below."]
[null,null,null,"Appliance",null,null,null,null,null,"Efficiency Unit",null,"Proposed Efficiency",null,"Quantity","Reference Efficiency","Proposed","Reference"]
[null,null,null,{"$f":"Main!$B$93","v":"Clothes Washers"},null,null,null,null,null,"LER [kWh/yr]",null,null,null,null,135,{"$f":"Main!$F$93","v":"-"},{"$f":"Main!$G$93","v":"-"}]
[null,null,null,{"$f":"Main!$B$94","v":"Clothes Dryers"},null,null,null,null,null,"CEF [lbs/kWh]",null,null,null,null,3.93,{"$f":"Main!$F$94","v":"-"},{"$f":"Main!$G$94","v":"-"}]
[null,null,null,{"$f":"Main!$B$95","v":"Dishwashers"},null,null,null,null,null,"LER [kWh/yr]",null,null,null,null,239,{"$f":"Main!$F$95","v":"-"},{"$f":"Main!$G$95","v":"-"}]
[null,null,null,{"$f":"Main!$B$96","v":"Refrigerator-freezer"},null,null,null,null,null,"LER [kWh/yr]",null,null,null,null,358,{"$f":"Main!$F$96","v":"-"},{"$f":"Main!$G$96","v":"-"}]
[null,null,null,{"$f":"Main!$B$97","v":"Compact Refrigerator-Freezer"},null,null,null,null,null,"LER [kWh/yr]",null,null,null,null,218,{"$f":"Main!$F$97","v":"-"},{"$f":"Main!$G$97","v":"-"}]
[null,null,null,{"$f":"Main!$B$98","v":"Stand-alone Refrigerator"},null,null,null,null,null,"LER [kWh/yr]",null,null,null,null,374,{"$f":"Main!$F$98","v":"-"},{"$f":"Main!$G$98","v":"-"}]
[null,null,null,{"$f":"Main!$B$99","v":"Compact Stand-alone Refrigerator"},null,null,null,null,null,"LER [kWh/yr]",null,null,null,null,216,{"$f":"Main!$F$99","v":"-"},{"$f":"Main!$G$99","v":"-"}]
[null,null,null,{"$f":"Main!$B$100","v":"Stand-alone Freezer"},null,null,null,null,null,"LER [kWh/yr]",null,null,null,null,394,{"$f":"Main!$F$100","v":"-"},{"$f":"Main!$G$100","v":"-"}]
[null,null,null,{"$f":"Main!$B$101","v":"Compact Stand-alone Freezer"},null,null,null,null,null,"LER [kWh/yr]",null,null,null,null,196,{"$f":"Main!$F$101","v":"-"},{"$f":"Main!$G$101","v":"-"}]
[null,null,null,{"$f":"Main!$B$102","v":"Ceiling fans"},null,null,null,null,null,"[cfm/w]",null,null,null,null,220.1,{"$f":"Main!$F$102","v":"-"},{"$f":"Main!$G$102","v":"-"}]
[null,null,null,{"$f":"Main!$B$103","v":"Pool pumps"},null,null,null,null,null,"WEF [kgal/kWh]",null,null,null,null,9.3000000000000007,{"$f":"Main!$F$103","v":"-"},{"$f":"Main!$G$103","v":"-"}]
[null,null,null,{"$f":"Main!$B$104","v":"Electric vehicle chargers"},null,null,null,null,null,"Standby power [W]",null,null,null,null,1.81,{"$f":"Main!$F$104","v":"-"},{"$f":"Main!$G$104","v":"-"}]
[null,null,null,{"$f":"Main!$B$105","v":"Smart home energy management systems (\"Thermostat\")"},null,null,null,null,null,"Standby power [W]",null,null,null,null,0.17,{"$f":"Main!$F$105","v":"-"},{"$f":"Main!$G$105","v":"-"}]
[null,null,null,"Subtotal, Appliance Energy [kWh/yr]:",null,null,null,null,null,null,null,null,null,null,null,{"$f":"Main!F106","v":"N/A"},{"$f":"Main!G106","v":0}]
[null,null,"9.1.2.1.5",null,null,null,null,"For water heating, use table below."]
[null,null,"Select Water Heater Type:",null,null,"Heat Pump Water Heater",null,null,null,{"$f":"IFERROR(VLOOKUP(F479, DHW!A3:B4,2, FALSE),\"-\")","v":"Rated UEF"},{"$f":"VLOOKUP(F481,DHW!A6:J11,7,FALSE)","v":"Heat Pump for Space Heating"},null,null,"Reference Efficiency",null,"Proposed","Reference"]
[null,null,null,null,null,null,null,null,null,null,null,null,null,{"$f":"IFERROR(VLOOKUP(F479,DHW!A2:L4,3,FALSE),\"-\")","v":3},null,{"$f":"IFERROR(VLOOKUP(F479,DHW!A2:L4,12,FALSE),\"-\")","v":"-"},{"$f":"IFERROR(VLOOKUP(F479,DHW!A3:L4,11,FALSE),\"-\")","v":"-"}]
[null,null,{"$f":"IF(F479=\"Heat Pump Water Heater\",\"Select specific HPWH:\",\"Select dash (-) from dropdown:\")","v":"Select specific HPWH:"},null,null,"HPWH Inside, Heat Pump Space Heat",null,null,null,{"$f":"IF(F479=\"Heat Pump Water Heater\",\"Adjusted UEF\",\"-\")","v":"Adjusted UEF"},{"$f":"VLOOKUP(F481,DHW!A6:J11,8,FALSE)","v":"Input COP at:"},{"$f":"VLOOKUP(F481,DHW!A6:J11,9,FALSE)","v":"47F"},null,"Adjusted Reference Efficiency"]
[null,null,null,null,null,null,null,null,null,{"$f":"IFERROR(VLOOKUP(F479,DHW!A2:L4,6,FALSE),\"-\")","v":"-"},null,{"$f":"VLOOKUP(F481,DHW!A6:J11,10,FALSE)","v":"5F"},null,{"$f":"IFERROR(VLOOKUP(F479,DHW!A2:L4,5,FALSE),\"-\")","v":"-"}]
[null,null,"Subtotal, Water Heating Energy [kWh/yr]:",null,null,null,null,null,null,null,null,null,null,null,null,{"$f":"P480","v":"-"},{"$f":"Q480","v":"-"}]
[null,50,10,"Electric Vehicle Ready50",null,null,null,null,null,null,null,null,null,null,null,null,null,"Design Verified","Rater Verified","NA",null,null,"-Select from Dropdown-"]
[null,null,10.1,null,"New construction shall facilitate future installation and use of Electric Vehicle Supply Equipment (EVSE) in accordance with the National Electrical Code (NFPA 70)."]
[null,51,10.199999999999999,null,"For each dwelling unit, when parking spaces are provided,  provide at least one EV Ready Space.51"]
[]
[null,"E","Endnotes"]
[null,1,"Attached dwellings are limited to those with vertical partitions only and no common spaces. "]
[null,2,"For attached dwellings, one checklist may be used for a set of multiple identical dwelling units."]
[null,3,"Applicable program version based on time of PHIUS contract."]
[null,4,"For additional requirements see phius Certification Guidebook Sections 3 & 4, Appendix G-2.3, ENERGY STAR Certified Homes National Rater Field Checklist Sections 2 and 4, PHIUS+ Single-Family QA Workbook Sections, Building Envelope, Sections 3 and 4."]
[null,5,"Preliminary blower door test, as outlined in PHIUS+ Single Family QA Workbook Section 4.1, is required (not optional)."]
[null,6,"Enclosure area should match the area used for the blower door test."]
[null,7,"The SHGC requirement applies to the whole window, not just the center of glass."]
[null,8,"Aligns with ZERH requirements, however exception c) of ZERH footnote 26 does not apply: “15 square feet of glazed fenestration per dwelling unit shall be exempt from the U-factor and SHGC requirements, and shall be excluded from area-weighted averages calculated using a) and b), above.”\nAdditional limits in place for climate zones 4-8 when no cooling system is planned."]
[null,9,"Sum of window area divided by sum of: window area and opaque above grade wall area."]
[null,10,"Sum of skylight area divided by the sum of: skylight area and opaque roof area."]
[null,11,"Exception: This requirement does not apply to attached housing, such as side-by-side duplexes, rowhouses or townhomes."]
[null,12,"Sum of window area divided by floor area (iCFA)."]
[null,13,"Adequate Exposure Diversity is a metric used to represent the peak hour glazing load for a building relative to the average glazing load over the day."]
[null,14,"PHIUS defined calculation method which takes into account glazing on each side."]
[null,15,"Climate zones as defined by ASHRAE 169 - 2020."]
[null,16,"Applies to bedrooms and living spaces (not circulation areas) that are equator-facing within 45°.\nAdditional limits in place for climate zones 4-8 when no cooling system is planned."]
[null,17,"Projection Factor ≥ tan(latitude*). Projection Factor (PF) is the Horizontal depth out from the glazing surface divided by height from window sill to bottom of overhang.\n*Climate Zones 0-4B, the March 21 sun angle is assumed. Climate Zones 4C-8, the June 21 sun angle is assumed (includes a reduction factor for 23.5° tilt of the Earth)."]
[null,18,"Per DOE ZERH requirements, Item 2, Footnote 12:\n\"Insulation levels in a home shall meet or exceed the component insulation requirements in the 2015 International Energy Conservation Code (IECC) – Table R402.1.2.\""]
[null,19,"Point fasteners are not included in the effective U-value calculation of opaque assemblies."]
[null,20,"U-Value requirement applies to the whole window or whole door."]
[null,21,"Alternate: For effective U-values of wood-framed base wall assemblies, see ASHRAE 90.1-2019 Table A3.4.3.1. For effective U-values of steel-framed base wall assemblies, see ASHRAE 90.1-2019 Table A3.3.3.1."]
[null,22,"Alternate: For effective U-values of wood-joist floors, see ASHRAE 90.1-2019 Table A5.4.3.1. "]
[null,23,"For slabs on grade in CZ 3, 100% slab edge insulated to ≥ R-10 at a depth of ≥ 2ft and for CZ 4-8, 100% of slab edge insulated to ≥ R-10 at a depth of ≥ 4ft as specified by the 2021 IECC and aligned with the thermal boundary of the walls. Per IECC 2018, R402.2.10 Slab-on-grade floors: Slab-on-grade floors with a floor surface less than 12 inches (305 mm) below grade shall be insulated in accordance with Table R402.1.2. The insulation shall extend downward from the top of the slab on the outside or inside of the foundation wall. Insulation located below grade shall be extended the distance provided in Table R402.1.2 by any combination of vertical insulation, insulation extending under the slab or insulation extending out from the building. Insulation extending away from the building shall be protected by pavement or by not less than 10 inches (254 mm) of soil. The top edge of the insulation installed between the exterior wall and the edge of the interior slab shall be permitted to be cut at a 45-degree (0.79 rad) angle away from the exterior wall. Slab-edge insulation is not required in jurisdictions designated by the code official as having a very heavy termite infestation."]
[null,24,"While ceiling and slab insulation can be included in trade-off calculations, Items 3.1 through 3.3 of the ENERGY STAR v3.1 (Rev.11) Rater Field Checklist shall be met regardless of the UA trade offs calculated. The UA calculation shall be done using a method consistent with the ASHRAE Handbook of Fundamentals and shall include the thermal bridging effects of framing materials. The calculation for a steel-frame envelope assembly shall use the ASHRAE zone method or a method providing equivalent results, and not a series-parallel path calculation method."]
[null,25,"This aligns with ENERGY STAR for Homes Rater Field Checklist “Reduced Thermal Bridging” section, except that: a) the option for \"Advanced framing\" does not apply, b) Rim/band joists are not exempt, c) Footnote 18 regarding exempted exterior wall surface area does not apply."]
[null,26,"Continuous Insulation: Insulation that is uncompressed and continuous across all structural members without thermal bridges other than fasteners and service openings."]
[null,27,"Revision to ENERGY STAR for Homes Rater Field Checklist Footnote 21 regarding double-wall framing: A structural sheathing layer, that is more vapor-closed than the exterior sheathing, shall be attached to the inner framing."]
[null,28,"Including framing effects per Section 5.1.1.\nException: If point thermal bridging is present, Appendix N-3 of the Phius Certification Guidebook may be used as an alternate compliance path to comply with this rule. The effective R-value of the assembly in which the point thermal bridges are present shall be derated using the Phius Fastener Correction Calculator available in the Phius Resource Library."]
[null,29,"Does not apply to point penetrations for plumbing, electrical, ventilation, makeup air, combustion supply air, and flues/chimneys."]
[null,30,"NFRC 101: https://www.nfrccommunity.org/store/viewproduct.aspx?id=1402074"]
[null,31,"Note that DOE ZERH Footnote 12 also applies: \"Building envelope assemblies, including exterior walls and unvented attic assemblies (where used), shall comply with the relevant vapor retarder provisions of the 2015 International Residential Code (IRC).\""]
[null,32,"Passivhaus Institut (PHI) Certified Component Data."]
[null,33,"It is recommended that the whole building balanced ventilation rate does not exceed (40 cfm x #bedrooms)."]
[null,34,"For units with HVI certification, the Adjusted Sensible Recovery Efficiency (ASRE) listed at 32 °F for the planned net airflow rate value may be used to show compliance. This data should be taken from the HVI Ratings Directory Setion III: https://www.hvi.org/hvi-certified-products-directory/section-iii-hrv-erv-directory-listing/"]
[null,35,"For units with only PHI certification, use the PHI efficiency for winter performance, as long as the design airflow is within the range listed on the PHI certificate. PHI ratings for heat recovery ventilators (HRVs) are only applicable to HRVs, not energy recovery ventilators (ERVs)."]
[null,36,"For units without PHIUS, HVI, AHRI or PHI certification, use: “manufacturer’s stated efficiency (typically Apparent Sensible Effectiveness, ASE), minus 12 percentage points”."]
[null,37,"HVI Rating."]
[null,38,"Per DOE ZERH Target Home: https://www.energy.gov/sites/prod/files/2019/04/f62/DOE%20ZERH%20Specs%20Rev07.pdf"]
[null,39,"A pre-heater defrost (or ground loop pre-heater) is required for ERVs where the ASHRAE 99.6% design temperature is below the manufacturer’s claimed minimum operating temperature, rather than relying on recirculation defrost. For exceptions see phius Certification Guidebook Section 3 on Ventilator Defrost."]
[null,40,"‘Primarily’ is defined as >50% of the installed heating capacity. Exception: Climate Zones 0 & 1."]
[null,41,"No panel nor radiant cooling systems may be used in the prescriptive path."]
[null,42,"No portable nor window air conditioning units may be installed by the builder."]
[null,43,"Cooling Systems are required in climate zones 0-2.\nFor climate zones 3-8:\n-If air is used as the medium for space conditioning, a cooling system is required (ie. air-to-air, water-to-air, direct ground exchange (DGX)-to-air), otherwise a cooling system is not required (ie. water-to-water, DGX-to-water).\n   -If no cooling system is provided: Requirements from section 4.1.1 & 4.4.1 apply regardless of the climate zone."]
[null,44,"https://www.energystar.gov/most-efficient/me-certified-ventilating-fans/"]
[null,45,"https://www.energystar.gov/sites/default/files/Dehumidifier%20ENERGY%20STAR%20Most%20Efficient%202020%20Final%20Criteria.pdf"]
[null,46,"Exception: Exterior screened porches may employ non-fossil-fuel burning fireplace or stove heating."]
[null,47,"Per Energy Star."]
[null,48,"Compact Refrigerators, Refrigerator-Freezers and Freezers are defined as less than 7.75 cubic feet."]
[null,49,"Exception: Sanden V-1 can be used when average annual ambient temperature (based on WUFI Passive monthly climate data) is >=55F, and Sanden V-2 can be used when the average ambient temperature is >=23F. "]
[null,50,"Electric Vehicle Definitions and Requirements https://www.phius.org/phius-certification-for-buildings-products/project-certification/phius-2021-emissions-down-scale-up"]
[null,51,"The branch circuit shall be identified as “EV Ready” in the service panel or subpanel directory, and the termination location shall be marked as “EV Ready”. "]

{"sheet":"Canned Responses","index":1,"n_rows":11,"n_cols":1,"rows_kept":11,"cut":false,"hidden":true,"merged":[]}
["Section Responses"]
["-Select from Dropdown-"]
["Review comments below by clicking the [+] to the left."]
["Ok, for Design Certification."]
["Ok, for Final Certification."]
[]
["2.1.1"]
["-Select from Dropdown-"]
["Please have the Rater include this requirement in their LOI."]
["Ok, for Design Certification."]
["Ok, for Final Certification."]

{"sheet":"Net Gain - Angle Calculator","index":2,"n_rows":24,"n_cols":15,"rows_kept":24,"cut":false,"hidden":true,"merged":[[9,7,10,7],[21,6,22,6],[12,0,14,3],[12,4,12,7],[12,15,14,18],[13,4,13,7],[13,13,14,13],[13,14,14,14],[14,4,14,7],[16,0,17,4],[16,5,16,7],[16,12,16,13],[16,15,18,18],[17,5,17,7],[17,12,17,13],[18,0,18,14]]}
[null,null,null,null,null,null,null,null,"North Façade Azimuth","East Façade Azimuth","South Façade Azimuth","West Azimuth"]
[null,null,null,null,null,null,null,"Degrees",{"$f":"K2-180","v":0},{"$f":"K2-90","v":90},{"$f":"Checklist!T18","v":180},{"$f":"K2+90","v":270}]
[null,null,null,null,null,null,null,"Radians",{"$f":"RADIANS(I2-180)","v":-3.1415926535897931},{"$f":"RADIANS(J2)","v":1.5707963267948966},0,{"$f":"RADIANS(L2-180)","v":1.5707963267948966}]
[]
[null,null,null,null,null,null,null,"SIN",{"$f":"ABS(SIN(I3))","v":1.22514845490862E-16},{"$f":"ABS(SIN(J3))","v":1},{"$f":"ABS(SIN(K3))","v":0},{"$f":"ABS(SIN(L3))","v":1}]
[null,null,null,null,null,null,null,"COS",{"$f":"ABS(COS(I3))","v":1},{"$f":"ABS(COS(J3))","v":6.1257422745431001E-17},{"$f":"ABS(COS(K3))","v":1},{"$f":"ABS(COS(L3))","v":6.1257422745431001E-17}]
[]
[null,null,null,null,null,null,null,"TOTAL",{"$f":"SUM(I5:I6)","v":1.0000000000000002},{"$f":"SUM(J5:J6)","v":1},{"$f":"SUM(K5:K6)","v":1},{"$f":"SUM(L5:L6)","v":1}]
[]
[null,null,null,null,null,null,null,"%",{"$f":"I5/I$8","v":1.2251484549086198E-16},1,0,1]
[null,null,null,null,null,null,null,null,0.99999999999999978,6.1257422745431001E-17,1,6.1257422745431001E-17]
[]
["4.2.1.1",null,null,null,"Orientation (within 90°)",null,null,null,"North","East","South","West","Total","Calculated WWR","≤ 18%"]
[null,null,null,null,"Window Area [ft2]",null,null,null,{"$f":"Checklist!K46","v":86.001000000000005},{"$f":"Checklist!L46","v":72},{"$f":"Checklist!M46","v":223.00200000000001},{"$f":"Checklist!N46","v":85.5},{"$f":"SUM(I14:L14)","v":466.50300000000004},{"$f":"ROUND(M14/(M14+M15),2)","v":1},{"$f":"IF(N14<=18%,\"YES\",\"NO\")","v":"NO"}]
[null,null,null,null,"Above-grade Wall Area [ft2]",null,null,null,null,null,null,null,{"$f":"SUM(I15:L15)","v":0}]
[]
["4.3.1b.1",null,null,null,null,"Orientation (within 90°)",null,null,"North","East","South","West","AED Score\n<100% Passes",null,"Passes?"]
[null,null,null,null,null,"Window Area [ft2]",null,null,{"$f":"IF($K$2>180,I11*I14+L11*L14,I11*I14+J11*J14)","v":86.000999999999991},{"$f":"IF($K$2>180,J10*J14+I10*I14,J10*J14+K10*K14)","v":72},{"$f":"IF($K$2>180,K11*K14+J11*J14,K11*K14+L11*L14)","v":223.00200000000001},{"$f":"IF($K$2>180,L10*L14+K10*K14,L10*L14+I10*I14)","v":85.500000000000014},{"$f":"Main!N363","v":0},null,{"$f":"IF(M18<=100%,\"YES\",\"NO\")","v":"YES"}]
[{"$f":"IF(M18>1,\"If AED is failing, try balancing the East & West window areas, distrubiting the fenestration more evenly, or shifting area to the North façade.\",\"-\")","v":"-"}]
[]
[null,null,null,null,null,null,null,null,"N & W","E & N","S & E","W & S","total"]
[null,null,null,null,null,null,"Area",">180",{"$f":"I6*I14+L6*L14","v":86.001000000000005},{"$f":"J5*J14+I5*I14","v":72.000000000000014},{"$f":"K6*K14+J6*J14","v":223.00200000000001},{"$f":"L5*L14+K5*K14","v":85.5},{"$f":"SUM(I22:L22)","v":466.50300000000004}]
[null,null,null,null,null,null,null,"<180",{"$f":"I6*I14+J6*J14","v":86.001000000000005},{"$f":"J5*J14+K5*K14","v":72},{"$f":"K6*K14+L6*L14","v":223.00200000000001},{"$f":"L5*L14+I5*I14","v":85.500000000000014},{"$f":"SUM(I23:L23)","v":466.50300000000004}]
[null,null,null,null,null,null,null,null,"N & E","E & S","S & W","W & E"]

{"sheet":"Compliance Calcs","index":3,"n_rows":24,"n_cols":15,"rows_kept":24,"cut":false,"hidden":true,"merged":[[0,2,0,3],[1,2,1,3]]}
[null,"iCFA (sf)",{"$f":"Checklist!N18","v":0},null,"per dwelling unit"]
[null,"Number of Stories",{"$f":"Checklist!Q18","v":0}]
[]
["3. COMPACTNESS"]
[null,"Envelope Enclosure (sf)",{"$f":"CEILING(2*((MAX((C1/C2)/(7*5.5),SQRT(3*(C1/C2))+2)+(C1/C2)/(MAX((C1/C2)/(7*5.5),SQRT(3*(C1/C2))+2)-2)+2)*(12*C2)+(MAX((C1/C2)/(7*5.5),SQRT(3*(C1/C2))+2))*((C1/C2)/(MAX((C1/C2)/(7*5.5),SQRT(3*(C1/C2))+2)-2)+2)),25)","v":{"$error":"#DIV/0!"}},"Reference Building"]
["REFERENCE CLIMATE INFORMATION"]
[]
["HDD65 [F.days]",{"$f":"'Reference Climate Info_Vals'!D2","v":6190},null,"Jan","Feb","Mar","Apr","May","Jun","Jul","Aug","Sep","Oct","Nov","Dec"]
["IGA [kWh/m2.yr]",{"$f":"'Reference Climate Info_Vals'!E2","v":1380},"Average Ambient Temp",{"$f":"'Reference Climate Info_Vals'!K2","v":24.6},{"$f":"'Reference Climate Info_Vals'!L2","v":28.2},{"$f":"'Reference Climate Info_Vals'!M2","v":38.200000000000003},{"$f":"'Reference Climate Info_Vals'!N2","v":49.2},{"$f":"'Reference Climate Info_Vals'!O2","v":59.6},{"$f":"'Reference Climate Info_Vals'!P2","v":69.5},{"$f":"'Reference Climate Info_Vals'!Q2","v":74.2},{"$f":"'Reference Climate Info_Vals'!R2","v":72.7},{"$f":"'Reference Climate Info_Vals'!S2","v":64.900000000000006},{"$f":"'Reference Climate Info_Vals'!T2","v":53.1},{"$f":"'Reference Climate Info_Vals'!U2","v":40.6},{"$f":"'Reference Climate Info_Vals'!V2","v":29.3}]
["THD [F]",{"$f":"'Reference Climate Info_Vals'!F2","v":14.35},"HDD50 (Monthly)",{"$f":"'Reference Climate Info_Vals'!W2","v":788},{"$f":"'Reference Climate Info_Vals'!X2","v":612},{"$f":"'Reference Climate Info_Vals'!Y2","v":397},{"$f":"'Reference Climate Info_Vals'!Z2","v":123},{"$f":"'Reference Climate Info_Vals'!AA2","v":14},{"$f":"'Reference Climate Info_Vals'!AB2","v":0},{"$f":"'Reference Climate Info_Vals'!AC2","v":0},{"$f":"'Reference Climate Info_Vals'!AD2","v":0},{"$f":"'Reference Climate Info_Vals'!AE2","v":2},{"$f":"'Reference Climate Info_Vals'!AF2","v":67},{"$f":"'Reference Climate Info_Vals'!AG2","v":307},{"$f":"'Reference Climate Info_Vals'!AH2","v":645}]
["TCD [F]",{"$f":"'Reference Climate Info_Vals'!G2","v":80.8},"CDD50 (Monthly)",{"$f":"'Reference Climate Info_Vals'!AI2","v":0},{"$f":"'Reference Climate Info_Vals'!AJ2","v":2},{"$f":"'Reference Climate Info_Vals'!AK2","v":33},{"$f":"'Reference Climate Info_Vals'!AL2","v":98},{"$f":"'Reference Climate Info_Vals'!AM2","v":310},{"$f":"'Reference Climate Info_Vals'!AN2","v":585},{"$f":"'Reference Climate Info_Vals'!AO2","v":751},{"$f":"'Reference Climate Info_Vals'!AP2","v":704},{"$f":"'Reference Climate Info_Vals'!AQ2","v":448},{"$f":"'Reference Climate Info_Vals'!AR2","v":163},{"$f":"'Reference Climate Info_Vals'!AS2","v":25},{"$f":"'Reference Climate Info_Vals'!AT2","v":3}]
["Marginal Elec Price ($/kWh)",{"$f":"'Reference Climate Info_Vals'!H2","v":0.1144},"Dew Pt (Monthly)",{"$f":"'Reference Climate Info_Vals'!AU2","v":15.1},{"$f":"'Reference Climate Info_Vals'!AV2","v":17.239999999999998},{"$f":"'Reference Climate Info_Vals'!AW2","v":29.3},{"$f":"'Reference Climate Info_Vals'!AX2","v":39.200000000000003},{"$f":"'Reference Climate Info_Vals'!AY2","v":45},{"$f":"'Reference Climate Info_Vals'!AZ2","v":55.4},{"$f":"'Reference Climate Info_Vals'!BA2","v":65.66},{"$f":"'Reference Climate Info_Vals'!BB2","v":61.88},{"$f":"'Reference Climate Info_Vals'!BC2","v":55.2},{"$f":"'Reference Climate Info_Vals'!BD2","v":32.700000000000003},{"$f":"'Reference Climate Info_Vals'!BE2","v":32.700000000000003},{"$f":"'Reference Climate Info_Vals'!BF2","v":18.3}]
["Latitude",{"$f":"'Reference Climate Info_Vals'!I2","v":"41.995N"}]
["99% Dry Bulb [F]",{"$f":"'Reference Climate Info_Vals'!J2","v":4.4000000000000004}]
["Average Annual Ambient Temp",{"$f":"AVERAGE(D9:O9)","v":50.341666666666661}]
[]
["Roof",{"$f":"Checklist!Q148","v":69}]
["Ceiling",{"$f":"B17","v":69}]
["Wall (Below Grade)",{"$f":"Checklist!Q176","v":20}]
["Wall (Above Grade)",{"$f":"Checklist!Q92","v":38}]
["Overhang Floor",{"$f":"B20","v":38}]
["Crawlspace Floor",{"$f":"Checklist!Q217","v":25}]
["Crawlspace Ceiling",{"$f":"B22","v":25}]
["Slab",{"$f":"B19","v":20}]

{"sheet":"Main","index":4,"n_rows":416,"n_cols":19,"rows_kept":416,"cut":false,"hidden":true,"merged":[[131,4,131,5],[380,1,380,7],[401,17,403,17],[0,10,0,11],[37,2,37,3],[132,4,132,5],[161,1,161,2],[43,1,44,1],[401,18,403,18],[402,15,403,15],[402,16,403,16],[112,12,112,13],[113,12,113,13]]}
[5.2,"For effective U-values of wood-framed base wall assemblies, see ASHRAE 90.1-2019 Table A3.4.3.1",null,"Window Area Per Orientation",null,null,null,null,null,null,"Projection Factor Calculation"]
[null,"For effective U-values of steel-framed base wall assemblies, see ASHRAE 90.1-2019 Table A3.3.3.1",null,"Manual J Adequate Exposure Diversity",null,null,null,null,null,null,"Climate Zone","Latitude Addition Factor"]
[null,"Alternate: Use the listed framing factors in the calculation of R-values for wood construction:",null,"Climate Zone",null,null,null,null,null,null,"0A",0]
[null,"Framing factor, 2x4 16 in. on ctr",0.25,{"$f":"Checklist!T10","v":"5A"},{"$f":"VLOOKUP(D4, A48:D67, 4, FALSE)","v":"NR"},null,null,null,null,null,"0B",0]
[null,"Framing factor, 2x6 24 in. on ctr",0.22,null,null,null,null,null,null,null,"1A",0]
[null,null,null,null,null,null,null,null,null,null,"1B",0]
[5.3,"For effective U-values of attic roofs with wood joists, see ASHRAE 90.1-2019 Table A2.4.3",null,null,null,null,null,null,null,null,"2A",0]
[null,"Alternate: Use the listed framing factors in the calculation of R-values for wood construction:",null,null,null,null,null,null,null,null,"2B",0]
[null,"Framing factor, ceilings below unconditioned space, 24 in. on ctr",7.0000000000000007E-2,null,null,null,null,null,null,null,"3A",0]
[null,"Roof, when insulated at roof, 24 in. on ctr",7.0000000000000007E-2,null,null,null,null,null,null,null,"3B",0]
[null,null,null,null,null,null,null,null,null,null,"3C",0]
[5.4,"For effective U-values of wood-joist floors, see ASHRAE 90.1-2019 Table A5.4.3.1",null,null,null,null,null,null,null,null,"4A",0]
[null,"Alternate: Use the listed framing factors in the calculation of R-values for wood construction:",null,null,null,null,null,null,null,null,"4B",0]
[null,"Framing factor, 2x4 walls below grade, 16 in. on ctr",0.18,null,null,null,null,null,null,null,"4C",-23.5]
[null,"Floor/basement ceiling, 16 in. on ctr",0.13,null,null,null,null,null,null,null,"5A",-23.5]
[null,null,null,null,null,null,null,null,null,null,"5B",-23.5]
[null,"Fenestration Condensation resistance requirement fRsi, is met by one of the following methods.",{"$f":"'Window ISO 13788 Calc'!B42","v":0.64200000000000002},"Function of climate (ISO 13788 low thermal inertia)  set for simple method, high occupancy",null,null,null,{"$f":"VLOOKUP(Checklist!$K$319, Main!$H$18:$J$24, 1, FALSE)","v":"Select"},{"$f":"VLOOKUP(Checklist!$K$319, Main!$H$18:$J$24, 2, FALSE)","v":0},{"$f":"VLOOKUP(Checklist!$K$319, Main!$H$18:$J$24, 3, FALSE)","v":"Pending"},"5C",-23.5]
[null,"Method 1:  By general type",{"$f":"VLOOKUP(Checklist!F321, B20:C24, 2)","v":"YES"},null,null,null,null,"Select",0,"Pending","6A",-23.5]
[null,"Kind","Meets requirement","frame fRsi","U frame Btu/h.ft2.F","frame width in",null,"Method 1: General Frame Type U-Value.",1,{"$f":"C18","v":"YES"},"6B",-23.5]
[null,"double pane metal",{"$f":"IF(D20>=$C$17,\"YES\",\"NO\")","v":"NO"},{"$f":"1-0.74/(0.74+1/E20)","v":0.42080457835381246},1.86,2,null,"Method 2: U-frame inferred from Uw and Ucog",2,"See 6.2.1.2",7,-23.5]
[null,"double pane metal break","NO",0.60562015503875966,0.88,2,null,"Method 3: AAMA 1503 CRF rating",3,{"$f":"C28","v":"NO"},8,-23.5]
[null,"double pane nonmetal","YES",0.71073205401563611,0.55000000000000004,2.5,null,"Method 4: NFRC 500-2020 Condensation Resistance",4,{"$f":"C30","v":"NO"}]
[null,"double pane nonmetal improved","YES",0.80853816300129366,0.32,2.5,null,"Method 5: CAN/CSA A440.2 Temperature Index",5,{"$f":"C32","v":"NO"}]
[null,"triple pane nonmetal improved","YES",0.83864475008386452,0.26,2.5,null,"Method 6: fRSI Method",6,{"$f":"C34","v":"NO"}]
[null,"Method 3: AAMA CRF rating",{"$f":"Checklist!M360/100","v":0}]
[null,"Safety factor on U-value",0.15]
[null,"derated",{"$f":"1-1/(1+C25/((1-C25)*(1+C26)))","v":0}]
[null,"Meets requirement",{"$f":"IF(C27>=C17,\"YES\",\"NO\")","v":"NO"}]
[null,"Method 4: NFRC 500-2020 Condensation Resistance",{"$f":"Checklist!M362","v":0}]
[null,"Meets requirement",{"$f":"IF(C29>=C17,\"YES\",\"NO\")","v":"NO"}]
[null,"Method 5: CAN/CSA A440.2 Temperature Index",{"$f":"Checklist!M364","v":0}]
[null,"Meets requirement",{"$f":"IF(C31>=C17,\"YES\",\"NO\")","v":"NO"}]
[null,"Method 6: fRSI Method",{"$f":"Checklist!M366","v":0}]
[null,"Meets requirement",{"$f":"IF(C33>=C17,\"YES\",\"NO\")","v":"NO"}]
[]
[null,"The length (each) of the ventilation ducts connected to outside is no greater than 0.4*sqrt(iCFA/(stories)).  In feet:"]
[null,{"$f":"IF(ISBLANK(Checklist!N18),\"Missing iCFA input.\",IF(ISBLANK(Checklist!Q18),\"Missing story input.\",0.4*SQRT(Checklist!N18/Checklist!Q18)))","v":"Missing iCFA input."}]
[null,null,"for 'checklist'"]
[null,"ACTIVE SELECTION","HSPF or COP @5F","SEER","Rating","SEER","GSHP: COP","GSHP: EER"]
[null,{"$f":"Checklist!M385","v":"Select"},{"$f":"IF(B40=\"Select\",\"Select System\",IF(B40=\"Air Source Heat Pump\",E40,G40))","v":"Select System"},{"$f":"IF(B40=\"Select\",\"-\",IF(B40=\"Air Source Heat Pump\",F40,H40))","v":"-"},{"$f":"VLOOKUP($B$41, $A$49:$I$67,F47, FALSE)","v":1.75},{"$f":"VLOOKUP($B$41, $A$49:$I$67,G47, FALSE)","v":15},{"$f":"VLOOKUP($B$41, $A$49:$I$67,H47, FALSE)","v":3.1},{"$f":"VLOOKUP($B$41, $A$49:$I$67,I47, FALSE)","v":16.100000000000001}]
[null,{"$f":"Checklist!T10","v":"5A"},{"$f":"IF(B40=\"Select\",\"\",IF(B40=\"Ground Source Heat Pump\",\"Minimum COP\",VLOOKUP($B$41,$A$49:$I$67,E47,FALSE)))","v":""},{"$f":"IF(B40=\"Select\",\"\",IF(B40=\"Ground Source Heat Pump\",\"Minimum EER:\",\"Minimum SEER:\"))","v":""}]
[]
[null,"NEW TABLE - Minimum Values",null,"HSPF","SEER","COP @ 5F","SEER","COP","EER"]
[null,"Air Source Heat Pump","Climate Zones 0-3C, 4C, 5C",9.6,18]
[null,null,"Climate Zones 4A-B, 5A-B, 6-8",null,null,1.75,15]
[null,"Ground Source Heat Pump","All Climate Zones",null,null,null,null,3.1,16.100000000000001]
[1,2,3,4,5,6,7,8,9]
["Zone","Minimum total recovery efficiency, cooling mode","Maximum whole-window SHGC","East WWR Requirement","HSPF or COP @5F","Rating","SEER","GSHP: COP","GSHP: EER","climate zone for window ISO calc"]
["0A",0.6,0.21,0.2,"Minimum HSPF:",9.6,18,3.1,16.100000000000001,0]
["0B",0.6,0.21,0.2,"Minimum HSPF:",9.6,18,3.1,16.100000000000001,0]
["1A",0.6,0.25,0.2,"Minimum HSPF:",9.6,18,3.1,16.100000000000001,1]
["1B",0.6,0.25,0.2,"Minimum HSPF:",9.6,18,3.1,16.100000000000001,1]
["2A",0.6,0.25,0.2,"Minimum HSPF:",9.6,18,3.1,16.100000000000001,2]
["2B",0.6,0.25,0.2,"Minimum HSPF:",9.6,18,3.1,16.100000000000001,2]
["3A",0.6,0.25,0.2,"Minimum HSPF:",9.6,18,3.1,16.100000000000001,3]
["3B","NR",0.25,0.2,"Minimum HSPF:",9.6,18,3.1,16.100000000000001,3]
["3C","NR",0.25,0.2,"Minimum HSPF:",9.6,18,3.1,16.100000000000001,3]
["4A",0.5,0.25,0.2,"Minimum HSPF:",9.6,18,3.1,16.100000000000001,4]
["4B","NR",0.25,0.2,"Minimum HSPF:",9.6,18,3.1,16.100000000000001,4]
["4C","NR",{"$f":"IF(Checklist!$I$385=\"No\",0.33,\"NR\")","v":"NR"},"NR","Minimum HSPF:",9.6,18,3.1,16.100000000000001,4]
["5A","NR",{"$f":"IF(Checklist!$I$385=\"No\",0.33,\"NR\")","v":"NR"},"NR","Minimum COP @ 5°F:",1.75,15,3.1,16.100000000000001,5]
["5B","NR",{"$f":"IF(Checklist!$I$385=\"No\",0.33,\"NR\")","v":"NR"},"NR","Minimum COP @ 5°F:",1.75,15,3.1,16.100000000000001,5]
["5C","NR",{"$f":"IF(Checklist!$I$385=\"No\",0.33,\"NR\")","v":"NR"},"NR","Minimum HSPF:",9.6,18,3.1,16.100000000000001,5]
["6A","NR",{"$f":"IF(Checklist!$I$385=\"No\",0.34,\"NR\")","v":"NR"},"NR","Minimum COP @ 5°F:",1.75,15,3.1,16.100000000000001,6]
["6B","NR",{"$f":"IF(Checklist!$I$385=\"No\",0.34,\"NR\")","v":"NR"},"NR","Minimum COP @ 5°F:",1.75,15,3.1,16.100000000000001,6]
[7,"NR",{"$f":"IF(Checklist!$I$385=\"No\",0.4,\"NR\")","v":"NR"},"NR","Minimum COP @ 5°F:",1.75,15,3.1,16.100000000000001,7]
[8,"NR",{"$f":"IF(Checklist!$I$385=\"No\",0.5,\"NR\")","v":"NR"},"NR","Minimum COP @ 5°F:",1.75,15,3.1,16.100000000000001,8]
[]
["From Building America House Simulation Protocols 2014"]
[null,"Reference Hours Table","Daily HOU per Lamp"]
[null,"Bathroom",1.79]
[null,"Bedroom",1.18]
[null,"Closet",1.05]
[null,"Dining Room",2.52]
[null,"Living Room",2.27]
[null,"Garage",1.98]
[null,"Hall",1.53]
[null,"Kitchen",2.99]
[null,"Office",1.51]
[null,"Exterior",2.91]
[null,"Utility Room",1.72]
[null,"Other",0.8]
[null,"Unfinished Basement",0.98]
[]
[10,"Building installed lighting, appliances, and water heating comply with A or B:","Component Based"]
[null,"A) Listed items all meet their respective reference performance requirements.","Performance Tradeoff","`"]
[]
[null,"B) Performance tradeoff calculation for the proposed design shows energy use no higher than the reference design."]
[null,null,"Bedrooms","Interior conditioned floor area (ft2)","Verdict ","Equipment energy for proposed design, kWh","Equipment energy budget, kWh",null,null,null,null,"Range-limited iCFA","Source factor electricity (Future)","Source factor gas","Source factor biofuel"]
[null,"Performance tradeoff worksheet for builder-installed appliances, lighting, and water heating",{"$f":"Checklist!Q19","v":0},{"$f":"Checklist!N18","v":0},{"$f":"IF(ISNUMBER(F90),IF(F90<=G90,\"YES\",\"NO\"),\"Error, review inputs.\")","v":"Error, review inputs."},{"$f":"IFERROR(ROUND((F106+F114+F109+F112)/250,0)*250,\"Cannot calculate.\")","v":"Cannot calculate."},{"$f":"IFERROR(ROUND((G106+G114+G109+G112)/250,0)*250,\"N/A\")","v":"N/A"},null,null,null,null,{"$f":"MIN(MAX(D90,200),2750)","v":200},null,1.1000000000000001,0.2]
[]
[null,null,"Efficiency Unit","Proposed Efficiency","Number of Devices Planned","kWh/yr, Proposed","kWh/yr, Reference","Reference Efficiency"]
[null,"Clothes Washers","LER (kWh/yr)",{"$f":"Checklist!L464","v":0},{"$f":"Checklist!N464","v":0},{"$f":"IF(D93*E93=0,\"-\",D93*E93)","v":"-"},{"$f":"IF(H93*E93=0,\"-\",H93*E93)","v":"-"},135]
[null,"Clothes Dryers","CEF (lbs/kWh)",{"$f":"Checklist!L465","v":0},{"$f":"Checklist!N465","v":0},{"$f":"IFERROR($L$114*(283/4.5)/D94*8.45,\"-\")","v":"-"},{"$f":"IF(E94=0,\"-\",$L$114*(283/4.5)/H94*8.45)","v":"-"},3.93]
[null,"Dishwashers","LER (kWh/yr)",{"$f":"Checklist!L466","v":0},{"$f":"Checklist!N466","v":0},{"$f":"IF(D95*E95=0,\"-\",D95*E95)","v":"-"},{"$f":"IF(H95*E95=0,\"-\",H95*E95)","v":"-"},239]
[null,"Refrigerator-freezer","LER (kWh/yr)",{"$f":"Checklist!L467","v":0},{"$f":"Checklist!N467","v":0},"-","-",358]
[null,"Compact Refrigerator-Freezer","LER (kWh/yr)",{"$f":"Checklist!L468","v":0},{"$f":"Checklist!N468","v":0},"-","-",218]
[null,"Stand-alone Refrigerator","LER (kWh/yr)",{"$f":"Checklist!L469","v":0},{"$f":"Checklist!N469","v":0},"-","-",374]
[null,"Compact Stand-alone Refrigerator","LER (kWh/yr)",{"$f":"Checklist!L470","v":0},{"$f":"Checklist!N470","v":0},"-","-",216]
[null,"Stand-alone Freezer","LER (kWh/yr)",{"$f":"Checklist!L471","v":0},{"$f":"Checklist!N471","v":0},"-","-",394]
[null,"Compact Stand-alone Freezer","LER (kWh/yr)",{"$f":"Checklist!L472","v":0},{"$f":"Checklist!N472","v":0},"-","-",196]
[null,"Ceiling fans","cfm/w",{"$f":"Checklist!L473","v":0},{"$f":"Checklist!N473","v":0},{"$f":"IFERROR(E102*(84.1*220.1)/D102,\"-\")","v":"-"},{"$f":"IF(E102*84.1=0,\"-\",E102*84.1)","v":"-"},220.1]
[null,"Pool pumps","WEF (kgal/kWh)",{"$f":"Checklist!L474","v":0},{"$f":"Checklist!N474","v":0},{"$f":"IFERROR(E103*158.5*H103/D103,\"-\")","v":"-"},{"$f":"IF(E103*158.5=0,\"-\",E103*158.5)","v":"-"},9.3000000000000007]
[null,"Electric vehicle chargers","Standby power (W)",{"$f":"Checklist!L475","v":0},{"$f":"Checklist!N475","v":0},{"$f":"IF(E104*D104*8760/1000=0,\"-\",E104*D104*8760/1000)","v":"-"},{"$f":"IF(H104*E104=0,\"-\",H104*E104*8760/1000)","v":"-"},1.81,null,null,null,"Interior","Exterior","Garage"]
[null,"Smart home energy management systems (\"Thermostat\")","Standby Power (W)",{"$f":"Checklist!L476","v":0},{"$f":"Checklist!N476","v":0},{"$f":"IF(E105*D105*8760/1000=0,\"-\",E105*D105*8760/1000)","v":"-"},{"$f":"IF(H105*E105=0,\"-\",H105*E105*8760/1000)","v":"-"},0.17,null,null,null,{"$f":"0.8*((4-3*1)/3.7)*(455+0.8*$L$90)+0.2*(455+0.8*$L$90)","v":255.97297297297297},{"$f":"(100+0.05*$L$90)*(1-1)+0.25*(100+0.05*$L$90)*1","v":27.5},{"$f":"100*(1-1)+25*1","v":25}]
[null,null,null,null,"Subtotal Appliances",{"$f":"IF(SUM(F93:F105)=0,\"N/A\",ROUND(SUM(F93:F105),0))","v":"N/A"},{"$f":"ROUND(SUM(G93:G105),0)","v":0}]
[]
[null,null,"iCFA","beds"]
[null,null,{"$f":"Checklist!N18","v":0},{"$f":"Checklist!Q19","v":0},"Subtotal Lighting",{"$f":"Checklist!P458","v":"N/A"},{"$f":"Checklist!Q458","v":"N/A"}]
[null,null,"Fan W/cfm","ASHRAE 62.2 2019 cfm required","kHours"]
[null,null,{"$f":"Checklist!H377","v":0},{"$f":"ROUND(0.03*C109+7.5*(MAX(D109,1)+1),0)","v":15},8.76,{"$f":"IF(C111=0,\"N/A\",ROUND(C111*D111*E111,0))","v":"N/A"},{"$f":"ROUND(0.83*D111*E111,0)","v":109}]
[null,null,null,null,"Subtotal Ventilation Fan",{"$f":"IF(SUM(F111)=0,\"N/A\",SUM(F111))","v":"N/A"},{"$f":"SUM(G111)","v":109}]
[null,"Water heating",null,"Choose water heating type",null,null,null,null,null,null,null,"Occupants","Water heating amenity demand, at fixtures, annual site kWh/person"]
[null,null,null,"Heat Pump Water Heater (choose scenario below)","Water heating",{"$f":"Checklist!P483","v":"-"},{"$f":"Checklist!Q483","v":"-"},null,null,null,null,{"$f":"C90+1","v":1},{"$f":"(6.6*8.345404*1*(140-50)*365.25/3412)*1.25","v":663.32295344885711}]
[]
[]
[]
[]
[]
[]
[]
[]
[]
[]
[]
[]
[]
[]
[]
[]
[]
[]
[]
[]
[]
[]
[]
[]
[]
[]
[]
[]
[]
[]
[]
[]
[]
[]
[]
[]
[]
[]
[]
[]
[]
[]
[]
[]
[]
[]
[]
[]
[]
[]
[]
[]
[]
[]
[]
[]
[]
[]
[]
[]
[]
[]
[]
[]
[]
[]
[]
[]
[]
[]
[]
[]
[]
[]
[]
[]
[]
[]
[]
[]
[]
[]
[]
[]
[]
[]
[]
[]
[]
[]
[]
[]
[]
[]
[]
[]
[]
[]
[]
[]
[]
[]
[]
[]
[]
[]
[]
[]
[]
[]
[]
[]
[]
[]
[]
[]
[]
[]
[]
[]
[]
[]
[]
[]
[]
[]
[]
[]
[]
[]
[]
[]
[]
[]
[]
[]
[]
[]
[]
[]
[]
[]
[]
[]
[]
[]
[]
[]
[]
[]
[]
[]
[]
[]
[]
[]
[]
[]
[]
[]
[]
[]
[]
[]
[]
[]
[]
[]
[]
[]
[]
[]
[]
[]
[]
[]
[]
[]
[]
[]
[]
[]
[]
[]
[]
[]
[]
[]
[]
[]
[]
[]
[]
[]
[]
[]
[]
[]
[]
[]
[]
[]
[]
[]
[]
[]
[]
[]
[]
[]
[]
[]
[]
[]
[]
[]
[]
[]
[]
[]
[]
[]
[]
[]
[]
[]
[]
[]
[]
[]
[]
[]
[]
[]
[]
[]
[]
[]
[]
[]
[]
[]
[]
[]
[]
[]
[]
[]
[]
[]
[]
[]
[]
[]
[]
[]
[]
[]
[null,"NET GAIN COEFFICIENTS - 1-3, 4C, 5C & 8 - no requirement","4A","4B","5A","5B","6A","6B",7]
[null,"k0",-510.5643,842.16548,-50.593159999999997,242.41198,-1017.4930000000001,-631.83889999999997,-676.17719999999997]
[null,"k1",-800.75400000000002,-1515.787,-935.47829999999999,-1148.9459999999999,-863.34450000000004,-795.64430000000004,-751.64329999999995]
[null,"k2",2443.9634999999998,2457.9292,3157.5128,3085.8164000000002,2160.5079000000001,3025.5003999999999,1502.1667]
[null,"k3",-309.48779999999999,-1175.087,-725.14589999999998,-982.49789999999996,0,-268.6123,0]
[null,"k4",-1420.432,-4680.6509999999998,-3526.6889999999999,-4213.4930000000004,0,-1396.972,0]
[null,"Net Gain - Median",-217.7,567.5,216.7,383.5,-672.2,-183.3,-473]
[]
[null,"AED COEFFICIENTS"]
[null,"Term","Intercept","East","West","MaxConc","(East-0.24933)*(West-0.24933)","(North-0.24933)*(MaxConc-0.57133)","Limit mean"]
[null,"Zone","k0","k1","k2","k3","k4","k5"]
[null,"0A",1.581,0.2036558,null,0.16108159999999999,-1.9414359999999999,null,1.776]
[null,"0B",1.7696618,null,null,null,-5.4625490000000001,null,1.9159999999999999]
[null,"1A",1.7719521,null,null,null,-4.7456170000000002,null,1.899]
[null,"1B",1.7889390999999999,null,null,null,-5.7281829999999996,null,1.9430000000000001]
[null,"2A",1.7377996,null,null,null,-4.1943760000000001,null,1.85]
[null,"2B",1.7401104000000001,null,null,null,-4.202674,null,1.853]
[null,"3A",1.7487906,null,null,null,-3.9510540000000001,null,1.855]
[null,"3B",1.9757267000000001,null,-0.57845199999999997,null,-6.7067779999999999,null,2.0110000000000001]
[null,"3C",1.8455022999999999,null,null,null,-5.3814770000000003,null,1.99]
[null,"4A",1.600036,null,null,0.39830870000000002,-3.0024549999999999,-1.099386,1.9079999999999999]
[null,"4B",1.8672287999999999,0.40007700000000002,null,null,-4.5704849999999997,null,2.09]
[null,"4C",1.5817994,null,null,0.49998890000000001,-1.91422,-1.163481,1.919]
[null,"5A",1.4579348000000001,0.53641070000000002,null,0.4625049,-3.150458,null,1.94]
[null,"5B",1.7795084999999999,null,-0.45922200000000002,0.41229399999999999,-4.0134930000000004,-1.1399170000000001,2.008]
[null,"5C",1.6455128000000001,null,null,0.46669850000000002,-1.3633379999999999,-1.509137,1.948]
[null,"6A",1.6245901,null,null,0.46534920000000002,-2.4333269999999998,-1.075091,1.956]
[null,"6B",1.5920004000000001,null,null,0.54568740000000004,-2.5727310000000001,-1.374152,1.9730000000000001]
[null,7,1.5837607,0.4298399,null,0.45018999999999998,-4.6241380000000003,null,2.0720000000000001]
[null,8,1.7478693999999999,null,null,0.65488650000000004,-1.7322169999999999,-2.1245859999999999,2.1680000000000001,null,null,null,null,null,null,"AED Pass?","Net Gain Pass","AED - PASS?","NET GAIN - PASS?"]
[null,null,null,null,null,null,null,null,null,null,null,null,null,null,null,"Score on delta of the range tested <100% is a pass","Score on delta of the range tested >0 is a pass"]
["CZ","N","E","S","W","N","E","S","W","Max Conc over cardinal directions","Zone 0-8 Regression formula ST Pk/Av","AED LIMIT: Using mean for the tested city in each zone","Net Gain: Zones 4-7 (> (median of tested zones) is pass) (not 4C or 5C)","Net Gain Limit Median (kBtu/worst month)","Centered Target (Delta from Target). Positive passes, negative fails"]
[{"$f":"Checklist!T10","v":"5A"},{"$f":"Checklist!K46","v":86.001000000000005},{"$f":"Checklist!L46","v":72},{"$f":"Checklist!M46","v":223.00200000000001},{"$f":"Checklist!N46","v":85.5},{"$f":"IFERROR(B405/SUM($B405:$E405),\"-\")","v":0.18435251220249388},{"$f":"IFERROR(C405/SUM($B405:$E405),\"-\")","v":0.15433984347367541},0.47802908019884116,0.18327856412498952,{"$f":"MAX(F405:I405)","v":0.47802908019884116},{"$f":"IFERROR(VLOOKUP(A405,$B$384:$I$402,2,FALSE)+VLOOKUP(A405,$B$384:$I$402,3,FALSE)*G405+VLOOKUP(A405,$B$384:$I$402,4,FALSE)*I405+VLOOKUP(A405,$B$384:$I$402,5,FALSE)*J405+VLOOKUP(A405,$B$384:$I$402,6,FALSE)*(G405-0.24933)*(I405-0.24933)+VLOOKUP(A405,$B$384:$I$402,7,FALSE)*(F4225-0.24933)*(J405-0.57133),\"-\")","v":1.7420484176773166},{"$f":"IFERROR(VLOOKUP(A405,B383:I402,8,FALSE),\"-\")","v":1.94},{"$f":"IFERROR(IFERROR(F405*HLOOKUP(A405,$B$373:$I$379,3,FALSE)+(HLOOKUP(A405,$B$373:$I$379,2,FALSE)+HLOOKUP(A405,$B$373:$I$379,4,FALSE)*H405+HLOOKUP(A405,$B$373:$I$379,5,FALSE)*J405+HLOOKUP(A405,$B$373:$I$379,6,FALSE)*(H405-0.2493)*(J405-0.5713)),\"NR\"),\"NR\")","v":1014.9287551639341},{"$f":"IFERROR(HLOOKUP(A405,B373:I379,7,FALSE),0)","v":216.7},{"$f":"IF(M405=\"NR\",\"NR\",M405-N405)","v":798.22875516393401},{"$f":"IFERROR((K405-1)/(L405-1),\"-\")","v":0.78941321029501765},{"$f":"IF(O405=\"NR\",\"NR\",ROUND(O405/20,0))","v":40},{"$f":"IF(K405<=L405,\"YES\",\"NO\")","v":"YES"},{"$f":"IF(Q405=\"NR\",\"NR\",IF(Q405>0,\"YES\",\"NO\"))","v":"YES"}]
[]
[]
[null,"Project Types"]
[null,"Single Family Detached - New Construction"]
[null,"Duplex - New Construction"]
[null,"Triplex - New Construction"]
[null,"Townhouse - New Construction"]
[null,"Single Family Detached - Retrofit"]
[null,"Duplex - Retrofit"]
[null,"Triplex - Retrofit"]
[null,"Townhouse - Retrofit"]

{"sheet":"DHW","index":5,"n_rows":95,"n_cols":20,"rows_kept":95,"cut":false,"hidden":true,"merged":[[78,12,78,13],[79,8,79,10],[79,12,79,13],[0,10,0,11]]}
[null,null,null,null,null,null,null,null,null,null,"Source Energy Total"]
["DHW System Type","Rating","Reference Efficiency","Proposed Efficiency","Adj. Reference Efficiency.","Adj. Prop. Efficiency","J463","J465","K465","K466","Reference","Proposed"]
["Solar Water Heater, Electric Backup","Rated SEF",1.9,{"$f":"Checklist!J480","v":0},1.9,{"$f":"D3","v":0},{"$f":"VLOOKUP(Checklist!$F$481,DHW!$A$6:$J$11,7,FALSE)","v":"Heat Pump for Space Heating"},{"$f":"VLOOKUP(Checklist!$F$481,DHW!$A$6:$J$11,8,FALSE)","v":"Input COP at:"},{"$f":"VLOOKUP(Checklist!$F$481,DHW!$A$6:$J$11,9,FALSE)","v":"47F"},{"$f":"VLOOKUP(Checklist!$F$481,DHW!$A$6:$J$11,10,FALSE)","v":"5F"},{"$f":"ROUND(Main!$L$114*Main!$M$114/DHW!E3,0)","v":349},{"$f":"ROUND(Main!$L$114*Main!$M$114/DHW!F3,0)","v":{"$error":"#DIV/0!"}}]
["Heat Pump Water Heater",{"$f":"VLOOKUP(Checklist!F481,DHW!A6:K11,11,FALSE)","v":"Rated UEF"},3,{"$f":"Checklist!J480","v":0},{"$f":"VLOOKUP(Checklist!F481,DHW!A6:F11,5,FALSE)","v":"-"},{"$f":"VLOOKUP(Checklist!F481,DHW!A6:F11,6,FALSE)","v":"-"},{"$f":"VLOOKUP(Checklist!$F$481,DHW!$A$6:$J$11,7,FALSE)","v":"Heat Pump for Space Heating"},{"$f":"VLOOKUP(Checklist!$F$481,DHW!$A$6:$J$11,8,FALSE)","v":"Input COP at:"},{"$f":"VLOOKUP(Checklist!$F$481,DHW!$A$6:$J$11,9,FALSE)","v":"47F"},{"$f":"VLOOKUP(Checklist!$F$481,DHW!$A$6:$J$11,10,FALSE)","v":"5F"},{"$f":"ROUND(Main!$L$114*Main!$M$114/DHW!E4,0)","v":{"$error":"#VALUE!"}},{"$f":"ROUND(Main!$L$114*Main!$M$114/DHW!F4,0)","v":{"$error":"#VALUE!"}}]
[]
[{"$f":"IF(Checklist!F479=DHW!A4,\"V1-Sanden CO2\",\"-\")","v":"V1-Sanden CO2"},"COP",3,{"$f":"Checklist!J480","v":0},{"$f":"C4","v":3},{"$f":"'V1 Sanden CO2'!E4","v":2.8342905982905986},"-","-","-","-","-"]
[{"$f":"IF(Checklist!F479=DHW!A4,\"V2-Sanden CO2 GS3-45HPA\",\"-\")","v":"V2-Sanden CO2 GS3-45HPA"},"COP",3,{"$f":"Checklist!J480","v":0},{"$f":"C4","v":3},{"$f":"'V2-Sanden CO2 GS3-45HPA'!E4","v":4.3601872427983546},"-","-","-","-","-"]
[{"$f":"IF(Checklist!F479=DHW!A4,\"Other HPWH Outside of the Thermal Envelope\",\"-\")","v":"Other HPWH Outside of the Thermal Envelope"},"UEF",3,{"$f":"Checklist!J480","v":0},{"$f":"AVERAGE(C19:N19)","v":2.4572839506172843},{"$f":"AVERAGE(C18:N18)","v":0},"EF = 1 at [°F]","Input","Temp. (F):","-","Rated UEF"]
[{"$f":"IF(Checklist!F479=DHW!A4,\"HPWH Inside, Biofueled Space Heat\",\"-\")","v":"HPWH Inside, Biofueled Space Heat"},"UEF",3,{"$f":"Checklist!J480","v":0},{"$f":"K23","v":{"$error":"#DIV/0!"}},{"$f":"K22","v":{"$error":"#DIV/0!"}},"Stove AFUE [%]","Input","AFUE (%):","-","Rated UEF"]
[{"$f":"IF(Checklist!F479=DHW!A4,\"HPWH Inside, Heat Pump Space Heat\",\"-\")","v":"HPWH Inside, Heat Pump Space Heat"},"UEF",3,{"$f":"Checklist!J480","v":0},{"$f":"C32","v":"-"},{"$f":"C31","v":"-"},"Heat Pump for Space Heating",{"$f":"VLOOKUP(Checklist!$T$10,DHW!$Q$30:$T$47,2,FALSE)","v":"Input COP at:"},{"$f":"VLOOKUP(Checklist!$T$10,DHW!$Q$30:$T$47,3,FALSE)","v":"47F"},{"$f":"VLOOKUP(Checklist!$T$10,DHW!$Q$30:$T$47,4,FALSE)","v":"5F"},"Rated UEF"]
["-","SEF",1.9,{"$f":"Checklist!J480","v":0},1.9,{"$f":"D11","v":0},"-","-","-","-","-"]
[]
["Other HPWH Outside of the Thermal Envelope",null,"EF at 67.5 F air temp","EF=1 at F air temp","slope per F","intercept"]
["Proposed",null,{"$f":"D8","v":0},{"$f":"Checklist!M481","v":0},{"$f":"(C14-1)/(67.5-D14)","v":-1.4814814814814815E-2},{"$f":"C14-E14*67.5","v":1}]
["Reference",null,{"$f":"C8","v":3},{"$f":"D14","v":0},{"$f":"(C15-1)/(67.5-D15)","v":2.9629629629629631E-2},{"$f":"C15-E15*67.5","v":1}]
["Month",null,"Jan","Feb","Mar","Apr","May","Jun","Jul","Aug","Sep","Oct","Nov","Dec"]
["Ambient Temp (°F)",null,{"$f":"'Reference Climate Info_Vals'!K2","v":24.6},{"$f":"'Reference Climate Info_Vals'!L2","v":28.2},{"$f":"'Reference Climate Info_Vals'!M2","v":38.200000000000003},{"$f":"'Reference Climate Info_Vals'!N2","v":49.2},{"$f":"'Reference Climate Info_Vals'!O2","v":59.6},{"$f":"'Reference Climate Info_Vals'!P2","v":69.5},{"$f":"'Reference Climate Info_Vals'!Q2","v":74.2},{"$f":"'Reference Climate Info_Vals'!R2","v":72.7},{"$f":"'Reference Climate Info_Vals'!S2","v":64.900000000000006},{"$f":"'Reference Climate Info_Vals'!T2","v":53.1},{"$f":"'Reference Climate Info_Vals'!U2","v":40.6},{"$f":"'Reference Climate Info_Vals'!V2","v":29.3}]
["Proposed Monthly COPs",null,{"$f":"MIN(MAX($E14*C$17+$F14,1),$C14)","v":0},{"$f":"MIN(MAX($E14*D$17+$F14,1),$C14)","v":0},0,0,0,0,0,0,0,0,0,0]
["Ref Monthly COPs",null,{"$f":"MIN(MAX($E15*C$17+$F15,1),$C15)","v":1.7288888888888889},{"$f":"MIN(MAX($E15*D$17+$F15,1),$C15)","v":1.8355555555555556},2.1318518518518519,2.4577777777777778,2.7659259259259263,3,3,3,2.9229629629629632,2.5733333333333333,2.202962962962963,1.8681481481481481]
[]
["HPWH Inside, Biofueled Space Heat",null,"Stove AFUE","DHW heating season COP","DHW cooling season COP","Length of heating season: months for which HDD50 > CDD50","Heating season, source energy for electricity","Heating season, source energy for fuel","Cooling season, source energy for electricity","Source Energy Sum","Effective UEF"]
["Proposed",null,{"$f":"Checklist!M481/100","v":0},{"$f":"1/(1/E22+(1-1/E22)/C22)","v":{"$error":"#DIV/0!"}},{"$f":"D9","v":0},{"$f":"SUM(C27:N27)","v":6},{"$f":"Main!$L$114*Main!$M$114/(D22)*((1/E22)*F22/12)","v":{"$error":"#DIV/0!"}},{"$f":"Main!$L$114*Main!$M$114/(C22/Main!$O$90)*((1-1/E22)*F22/12)","v":{"$error":"#DIV/0!"}},{"$f":"Main!$L$114*Main!$M$114/(E22)*((12-F22)/12)","v":{"$error":"#DIV/0!"}},{"$f":"SUM(G22:I22)","v":{"$error":"#DIV/0!"}},{"$f":"Main!$L$114*Main!$M$114/J22","v":{"$error":"#DIV/0!"}}]
["Reference",null,{"$f":"Checklist!M481/100","v":0},{"$f":"1/(1/E23+(1-1/E23)/C23)","v":{"$error":"#DIV/0!"}},{"$f":"C9","v":3},{"$f":"SUM(C27:N27)","v":6},{"$f":"Main!$L$114*Main!$M$114/(D23)*((1/E23)*F23/12)","v":{"$error":"#DIV/0!"}},{"$f":"Main!$L$114*Main!$M$114/(C23/Main!$O$90)*((1-1/E23)*F23/12)","v":{"$error":"#DIV/0!"}},{"$f":"Main!$L$114*Main!$M$114/(E23)*((12-F23)/12)","v":110.55382557480952},{"$f":"SUM(G23:I23)","v":{"$error":"#DIV/0!"}},{"$f":"Main!$L$114*Main!$M$114/J23","v":{"$error":"#DIV/0!"}}]
["Month",null,"Jan","Feb","Mar","Apr","May","Jun","Jul","Aug","Sep","Oct","Nov","Dec"]
["HDD50",null,{"$f":"'Reference Climate Info_Vals'!W2","v":788},{"$f":"'Reference Climate Info_Vals'!X2","v":612},{"$f":"'Reference Climate Info_Vals'!Y2","v":397},{"$f":"'Reference Climate Info_Vals'!Z2","v":123},{"$f":"'Reference Climate Info_Vals'!AA2","v":14},{"$f":"'Reference Climate Info_Vals'!AB2","v":0},{"$f":"'Reference Climate Info_Vals'!AC2","v":0},{"$f":"'Reference Climate Info_Vals'!AD2","v":0},{"$f":"'Reference Climate Info_Vals'!AE2","v":2},{"$f":"'Reference Climate Info_Vals'!AF2","v":67},{"$f":"'Reference Climate Info_Vals'!AG2","v":307},{"$f":"'Reference Climate Info_Vals'!AH2","v":645}]
["CDD50",null,{"$f":"'Reference Climate Info_Vals'!AI2","v":0},{"$f":"'Reference Climate Info_Vals'!AJ2","v":2},{"$f":"'Reference Climate Info_Vals'!AK2","v":33},{"$f":"'Reference Climate Info_Vals'!AL2","v":98},{"$f":"'Reference Climate Info_Vals'!AM2","v":310},{"$f":"'Reference Climate Info_Vals'!AN2","v":585},{"$f":"'Reference Climate Info_Vals'!AO2","v":751},{"$f":"'Reference Climate Info_Vals'!AP2","v":704},{"$f":"'Reference Climate Info_Vals'!AQ2","v":448},{"$f":"'Reference Climate Info_Vals'!AR2","v":163},{"$f":"'Reference Climate Info_Vals'!AS2","v":25},{"$f":"'Reference Climate Info_Vals'!AT2","v":3}]
[null,null,{"$f":"IF(C25>C26,1,0)","v":1},{"$f":"IF(D25>D26,1,0)","v":1},1,1,0,0,0,0,0,0,1,1]
[]
["HPWH Inside, Heat Pump Space Heat","Method"]
[null,null,"Adjusted Efficiency",null,null,null,null,null,null,null,null,null,null,null,null,null,"0A","Input","HSPF:","-"]
["Proposed",{"$f":"IF(I10=\"HSPF:\",1,2)","v":2},{"$f":"IFERROR(ROUND(IF(B31=1,F35,I38),2),\"-\")","v":"-"},null,null,null,null,null,null,null,null,null,null,null,null,null,"0B","Input","HSPF:","-"]
["Reference",{"$f":"IF(I10=\"HSPF:\",1,2)","v":2},{"$f":"IFERROR(ROUND(IF(B32=1,F36,I39),2),\"-\")","v":"-"},null,null,null,null,null,null,null,null,null,null,null,null,null,"1A","Input","HSPF:","-"]
[null,null,null,null,null,null,null,null,null,null,null,null,null,null,null,null,"1B","Input","HSPF:","-"]
["Method 1",null,"HSPF","DHW heating season COP","DHW cooling season COP","UEF - Re-Rated",null,null,null,null,null,null,null,null,null,null,"2A","Input","HSPF:","-"]
["Proposed",null,{"$f":"IF(ISBLANK(Checklist!M481),\"-\",Checklist!M481)","v":"-"},{"$f":"IFERROR(C35/3.412,\"-\")","v":"-"},{"$f":"D10","v":0},{"$f":"IFERROR(D35*F22/12+E35*(12-F22)/12,\"-\")","v":"-"},null,null,null,null,null,null,null,null,null,null,"2B","Input","HSPF:","-"]
["Reference",null,9.6,{"$f":"C36/3.412","v":2.8135990621336457},3,{"$f":"D36*F23/12+E36*(12-F23)/12","v":2.9067995310668229},null,null,null,null,null,null,null,null,null,null,"3A","Input","HSPF:","-"]
["Method 2",null,"COP at 47F","COP at 5F","Slope per F","Intercept","DHW heating season COP","DHW cooling season COP","UEF - Re-Rated",null,null,null,null,null,null,null,"3C","Input","HSPF:","-"]
["Proposed",null,{"$f":"IF(ISBLANK(Checklist!M481),\"-\",Checklist!M481)","v":"-"},{"$f":"IF(ISBLANK(Checklist!M482),\"-\",Checklist!M482)","v":"-"},{"$f":"(C38-D38)/(47-5)","v":{"$error":"#VALUE!"}},{"$f":"C38-E38*47","v":{"$error":"#VALUE!"}},{"$f":"1/(1/H38+(1/(O45/O43)*(1-1/H38)))","v":{"$error":"#DIV/0!"}},{"$f":"D10","v":0},{"$f":"G38*F22/12+H38*(12-F22)/12","v":{"$error":"#DIV/0!"}},null,null,null,null,null,null,null,"4A","Input COP at:","47F","5F"]
["Reference",null,{"$f":"C38","v":"-"},1.75,{"$f":"(C39-D39)/(47-5)","v":{"$error":"#VALUE!"}},{"$f":"C39-E39*47","v":{"$error":"#VALUE!"}},{"$f":"1/(1/H39+(1/(O47/O43)*(1-1/H39)))","v":{"$error":"#VALUE!"}},{"$f":"C10","v":3},{"$f":"G39*F23/12+H39*(12-F23)/12","v":{"$error":"#VALUE!"}},null,null,null,null,null,null,null,"4B","Input COP at:","47F","5F"]
[null,null,null,null,null,null,null,null,null,null,null,null,null,null,null,null,"4C","Input","HSPF:","-"]
["Month",null,{"$f":"C24","v":"Jan"},"Feb","Mar","Apr","May","Jun","Jul","Aug","Sep","Oct","Nov","Dec","Total",null,"5A","Input COP at:","47F","5F"]
["Average ambient temperature (F)",null,{"$f":"C17","v":24.6},28.2,38.200000000000003,49.2,59.6,69.5,74.2,72.7,64.900000000000006,53.1,40.6,29.3,null,null,"5B","Input COP at:","47F","5F"]
["HDD50",null,{"$f":"C25","v":788},612,397,123,14,0,0,0,2,67,307,645,{"$f":"SUM(C43:N43)","v":2955},null,"5C","Input","HSPF:","-"]
["Proposed - Monthly average COP (W/W)",null,{"$f":"($E$38*C42)+$F$38","v":{"$error":"#VALUE!"}},{"$f":"($E$38*D42)+$F$38","v":{"$error":"#VALUE!"}},{"$error":"#VALUE!"},{"$error":"#VALUE!"},{"$error":"#VALUE!"},{"$error":"#VALUE!"},{"$error":"#VALUE!"},{"$error":"#VALUE!"},{"$error":"#VALUE!"},{"$error":"#VALUE!"},{"$error":"#VALUE!"},{"$error":"#VALUE!"},null,null,"6A","Input COP at:","47F","5F"]
["Proposed - Monthly weighted COP * HDD",null,{"$f":"C43*C44","v":{"$error":"#VALUE!"}},{"$f":"D43*D44","v":{"$error":"#VALUE!"}},{"$error":"#VALUE!"},{"$error":"#VALUE!"},{"$error":"#VALUE!"},{"$error":"#VALUE!"},{"$error":"#VALUE!"},{"$error":"#VALUE!"},{"$error":"#VALUE!"},{"$error":"#VALUE!"},{"$error":"#VALUE!"},{"$error":"#VALUE!"},{"$f":"SUM(C45:N45)","v":{"$error":"#VALUE!"}},null,"6B","Input COP at:","47F","5F"]
["Reference - Monthly average COP (W/W)",null,{"$f":"($E$39*C42)+$F$39","v":{"$error":"#VALUE!"}},{"$f":"($E$39*D42)+$F$39","v":{"$error":"#VALUE!"}},{"$error":"#VALUE!"},{"$error":"#VALUE!"},{"$error":"#VALUE!"},{"$error":"#VALUE!"},{"$error":"#VALUE!"},{"$error":"#VALUE!"},{"$error":"#VALUE!"},{"$error":"#VALUE!"},{"$error":"#VALUE!"},{"$error":"#VALUE!"},null,null,7,"Input COP at:","47F","5F"]
["Reference - Monthly weighted COP * HDD",null,{"$f":"C43*C46","v":{"$error":"#VALUE!"}},{"$f":"D43*D46","v":{"$error":"#VALUE!"}},{"$error":"#VALUE!"},{"$error":"#VALUE!"},{"$error":"#VALUE!"},{"$error":"#VALUE!"},{"$error":"#VALUE!"},{"$error":"#VALUE!"},{"$error":"#VALUE!"},{"$error":"#VALUE!"},{"$error":"#VALUE!"},{"$error":"#VALUE!"},{"$f":"SUM(C47:N47)","v":{"$error":"#VALUE!"}},null,8,"Input COP at:","47F","5F"]
[]
[]
[]
[]
[]
[]
[]
[]
[]
[]
[]
[]
[]
[]
[]
[]
[]
[]
[]
[]
[]
[]
[]
[]
[]
[]
[]
[]
[]
[]
[]
["Water heating",null,null,"Choose water heating type",null,null,null,"Reference Source UEF","Reference Efficiency Rationale",null,null,"Occupants","Water heating amenity demand, at fixtures, annual site kWh/person"]
[null,null,null,"Heat Pump Water Heater (choose scenario below)","Water heating",{"$f":"IF(VLOOKUP(D80,C83:F84,4,FALSE)=\"0\",\"Incomplete.\",VLOOKUP(D80,C83:F84,4,FALSE))","v":"Incomplete"},{"$f":"IF(VLOOKUP(D80,C83:G84,5,FALSE)=\"0\",\"Incomplete.\",VLOOKUP(D80,C83:G84,5,FALSE))","v":0},null,"SEF=1.975.  Energy Star top quartile for solar with electric backup (2020)",null,null,{"$f":"#REF!+1","v":{"$error":"#REF!"}},{"$f":"(6.6*8.345404*1*(140-50)*365.25/3412)*1.25","v":663.32295344885711}]
[]
[null,null,null,null,"Proposed efficiency","Source kWh/yr, proposed","Source kWh/yr, reference","Reference Efficiency"]
["Solar Water Heater, Electric Backup",null,"Solar Water Heaters, electric backup","Rated SEF",{"$f":"Checklist!H352","v":0},{"$f":"IF(ISBLANK('Compliance Calcs'!#REF!),0,ROUND($M$192*$N$192/(E83),0))","v":{"$error":"#DIV/0!"}},{"$f":"ROUND($M$192*$N$192/(H83),0)","v":0},1.9]
["Heat Pump Water Heater",null,"Heat Pump Water Heater (choose scenario below)","Rated UEF",{"$f":"IF(ISBLANK(Checklist!H352), \"\", Checklist!H352)","v":""},{"$f":"IF(ISNUMBER(F87),ROUND(F87,0),\"Incomplete\")","v":"Incomplete"},{"$f":"ROUND($M$192*$N$192/(H84),0)","v":0},3]
[]
[{"$f":"Checklist!E351","v":0},null,null,"Choose HPWH scenario"]
["Heat pump water heater scenarios:",null,null,{"$f":"Checklist!E353","v":0},null,{"$f":"VLOOKUP(D87,C88:F92,4,FALSE)","v":{"$error":"#N/A"}},"Derated Ref Efficiency"]
[{"$f":"IF($C$196=$C$198,C88,\"-\")","v":"V1-Sanden CO2"},null,{"$f":"C94","v":"V1-Sanden CO2"},"COP Derated",{"$error":"#REF!"},{"$error":"#REF!"},null,null,"-","-","-","-"]
[{"$f":"IF($C$196=$C$198,C89,\"-\")","v":"V2-Sanden CO2 GS3-45HPA"},null,"V2-Sanden CO2 GS3-45HPA","COP Derated",{"$error":"#REF!"},{"$error":"#REF!"},null,null,"-","-","-","-"]
[{"$f":"IF($C$196=$C$198,C90,\"-\")","v":"Other HPWH Outside of the Thermal Envelope"},null,{"$f":"A13","v":"Other HPWH Outside of the Thermal Envelope"},{"$f":"H7","v":"-"},{"$f":"I7","v":"-"},{"$f":"J7","v":"-"},null,null,"EF = 1 at [°F]","Input","-","EF:"]
[{"$f":"IF($C$196=$C$198,C91,\"-\")","v":"HPWH Inside, Biofueled Space Heat"},null,{"$f":"A21","v":"HPWH Inside, Biofueled Space Heat"},{"$f":"K21","v":"Effective UEF"},{"$f":"IFERROR(K22,\"Input stove AFUE.\")","v":"Input stove AFUE."},{"$f":"IFERROR(J22,\"Input AFUE.\")","v":"Input AFUE."},null,null,"Stove AFUE [%]","Input","-","AFUE:"]
[{"$f":"IF($C$196=$C$198,C92,\"-\")","v":"HPWH Inside, Heat Pump Space Heat"},null,{"$f":"A29","v":"HPWH Inside, Heat Pump Space Heat"},{"$f":"#REF!","v":{"$error":"#REF!"}},{"$f":"#REF!","v":{"$error":"#REF!"}},{"$f":"#REF!","v":{"$error":"#REF!"}},null,null,"Heat Pump for Space Heating",{"$f":"VLOOKUP(#REF!, Q30:R47, 3, FALSE)","v":{"$error":"#REF!"}},{"$f":"VLOOKUP(#REF!, Q30:T47, 5, FALSE)","v":{"$error":"#REF!"}},{"$f":"VLOOKUP(#REF!, Q30:T47, 4, FALSE)","v":{"$error":"#REF!"}}]
[]
[null,null,"V1-Sanden CO2","COP Derated",{"$f":"'V1 Sanden CO2'!#REF!","v":{"$error":"#REF!"}},{"$f":"$M$192*$N$192/(E94)","v":{"$error":"#REF!"}}]
[null,null,"V2-Sanden CO2 GS3-45HPA","COP Derated",{"$f":"'V2-Sanden CO2 GS3-45HPA'!#REF!","v":{"$error":"#REF!"}},{"$error":"#REF!"}]

{"sheet":"Update Tracker","index":6,"n_rows":40,"n_cols":4,"rows_kept":40,"cut":false,"hidden":false,"merged":[]}
["Version","Update","Date","Description"]
["v2.9.1",37,"2023-03-09","Endnote 34 updated to align with revised protocol for HVI rated ventilators."]
["v2.9.1",36,"2023-03-09","Heat Pump efficiency criteria for climate zones 4A and 4B revised to align with the warmer and more temperature climates."]
["v2.9",35,"2023-02-02","Revision made to section 4.4.1 to determine the minimum required overhang for south facing windows in climate zones 0-3. Separate calculation used to determine overhangs required when no cooling system provided in climate zones 4-8."]
["v2.9",34,"2023-01-27","Conditional formatting updates made to section 9.1 to improve clarity of which path (component or performance) chosen for compliance."]
["v2.9",33,"2023-01-27","Correction to SHGC requirements for warmer climates to align with ZERH. Additional SHGC limits placed on colder climates when no cooling system is planned."]
["v2.9",32,"2023-01-27","Update to section 8.2.1 and clarification on when a cooling system is required. Related updates to Section 4.1.1 (endnote 8) and 4.4.1 (endnote 16). Added endnotes 41, 42 and 43. Endnotes 44-51 renumbered to keep numerical order of endnotes."]
["v2.8",31,"2023-01-06","40 additional climate data sets added."]
["v2.8",30,"2022-12-20","Added 15 more light fixture lines for the 9.1.1.1b.1 tradeoff path."]
["v2.8",30,"2022-12-20","Corrected Effective R-value calculation in section 5.1.1e."]
["v2.7",29,"2022-11-15","Functionality related to the AED requirement added to section 4.3 which deems these requirements NR for attached dwellings."]
["v2.7",28,"2022-11-15","Submittal' column was removed and deemed unnecessary for certification. All submission files should be available in the project DropBox folder."]
["v2.7",27,"2022-11-15","Added requirement 8.5 and new corresponding endnote 43. Endnotes 44-48 renumbered to keep numerical order of endnotes."]
["v2.7",26,"2022-11-14","Clarified language provided for Endnote 11."]
["v2.7",25,"2022-11-14","Phius developed AED calculation and Net Gain calculation adapted to allow for projects oriented off of 'due south' where the azimuth of the south façade is not 180 degrees."]
["v2.7",24,"2022-10-18","R-value/in inputs in section 5.1.1.1 revised to 'number' entries to allow hygrothermal calculations to function with user-defined materials."]
["v2.7",23,"2022-09-15","Formatting revised to include space for Phius review comments & submitter responses."]
["v2.7",23,"2022-09-15","Expansion of lookup function that didn't include full list of climate data locations. (Gillette, WY through Whitehorse, YT)"]
["v2.7",22,"2022-07-05","Alternate compliance path for section 5.2.2 and revised endnote 28."]
["v2.6",21,"2022-06-28","Revised tradeoff path calculations for DHW. Reference efficiency now includes an adjusted efficiency based on heating system and climate data. Revised the expandable groups of cells associated with section 9.1.2."]
["V2.6",20,"2022-06-24","Update conditional formatting of fenestration pass/fail in section 5.1.2a.1."]
["V2.5",19,"2022-03-25","Upper limit on maximum U-value for UA path revised to evalulate maximums for 16'+, 10'-15.99' and <10' window heights. Aligns with Appendix N-4 in Certification Guidebook."]
["V2.5",18,"2022-03-22","Spelling correction & reorganized 'update tracker' from newest to oldest."]
["V2.4",17,"2022-03-22","Rounded envelope area limit up to nearest 25 square feet."]
["V2.4",16,"2022-03-22","Included maximum U-values for windows dependent on window height for the UA trade-off path."]
["V2.4",15,"2022-03-16","Updates made to curve-fit formulas of R-values for all opaque assemblies. See Phius 2021 Standard Setting Document for Details"]
["V2.4",14,"2022-02-08","Update to endnotes. Formatting removed numbers from first sentence. (11, 13, 36)"]
["V2.3",13,"2021-10-29","Philadelphia updated to climate zone 4A. ASHRAE 169-2020 climate zones used."]
["V2.3",12,"2021-05-27","Section 4 formatting updated with bold fonts."]
["V2.2",11,"2021-05-17","All 'filter' formulas removed for older version of excel support."]
["V2.2",10,"2021-05-17","All 'ifna' formulas updated to 'iferror' for older version of excel support."]
["V2.2",9,"2021-04-15","Updated endnote 15. Corrected date noted for ASHRAE 169 climate zones to 2017 from 2013."]
["V2.2",8,"2021-04-15","Interlinks updated with new format for ease of use."]
["V2.1",7,"2021-03-11","Corrected calculations for electric vehicle chargers & smart home energy management systems within the tradeoff path calculation."]
["V2.1",6,"2021-03-11","Corrected link to tradeoff path calculation for DHW reference energy use."]
["v2.1",5,"2021-03-11","Corrected tradeoff path calculation for appliances, lighting and hot water to include lighting within the calculation."]
["v2.1",4,"2021-03-11","Tradeoff path incorporated for fresh air ventilation system fan efficiency."]
["v2.1",3,"2021-03-10","GSHP cooling requirement corrected from minimum SEER to minimum EER."]
["v2.1",2,"2021-03-08","Corrected R/in for user-defined materials to populate on 'Checklist' tab."]
["v2.1",1,"2021-03-08","Interlinks provided between footnotes and endnotes."]

{"sheet":"Reference Climate Info_Vals","index":7,"n_rows":1242,"n_cols":72,"rows_kept":1242,"cut":false,"hidden":true,"merged":[[2,10,2,21],[2,22,2,33],[2,34,2,45],[2,46,2,57]]}
[null,1,{"$f":"B1+1","v":2},3,4,5,6,7,8,9,10,11,12,13,14,15,16,17,18,19,20,21,22,23,24,25,26,27,28,29,30,31,32,33,34,35,36,37,38,39,40,41,42,43,44,45,46,47,48,49,50,51,52,53,54,55,56,57,58,59,60,61,62,63,64,65,66,67,68,69,70,71]
["ACTIVE DATA SET",{"$f":"Checklist!N10","v":"CHICAGO OHARE INTL AP"},{"$f":"VLOOKUP($B$2, $B$5:$BT$1093, C1, FALSE)","v":"5A"},6190,1380,14.35,80.8,0.1144,"41.995N",4.4000000000000004,24.6,28.2,38.200000000000003,49.2,59.6,69.5,74.2,72.7,64.900000000000006,53.1,40.6,29.3,788,612,397,123,14,0,0,0,2,67,307,645,0,2,33,98,310,585,751,704,448,163,25,3,15.1,17.239999999999998,29.3,39.200000000000003,45,55.4,65.66,61.88,55.2,32.700000000000003,32.700000000000003,18.3,0.81566820276497698,0.1546829848716641,69,38,20,25,"NR","NR",{"$f":"VLOOKUP($B$2, $B$5:$BT$1093, BO1, FALSE)","v":"NR"},"Minimum COP @ 5°F:: 1.75",15,{"$f":"VLOOKUP($B$2, $B$5:$BT$1093, BR1, FALSE)","v":3.1},{"$f":"VLOOKUP($B$2, $B$5:$BT$1093, BS1, FALSE)","v":16.100000000000001},3122]
[null,null,null,null,null,null,null,null,null,null,"Average Ambient Temp (F)",null,null,null,null,null,null,null,null,null,null,null,"HDD50",null,null,null,null,null,null,null,null,null,null,null,"CDD50",null,null,null,null,null,null,null,null,null,null,null,"Monthly Dew Pt Values",null,null,null,null,null,null,null,null,null,null,null,60,"a","c","b","d","e"]
["State","City_WUFIp Data Set","Zone","HDD65 [F.days]","IGA [kWh/m2.yr]","THD [F]","TCD [F]","Marginal Elec Price ($/kWh)","Lat","99% DB","Jan","Feb","Mar","Apr","May","Jun","Jul","Aug","Sep","Oct","Nov","Dec","Jan","Feb","Mar","Apr","May","Jun","Jul","Aug","Sep","Oct","Nov","Dec","Jan","Feb","Mar","Apr","May","Jun","Jul","Aug","Sep","Oct","Nov","Dec","Jan","Feb","Mar","Apr","May","Jun","Jul","Aug","Sep","Nov","Nov","Dec","Min Supply Air Temp SRE","Window Comfort @ 10'","Roof R-Value (Conserverative)","Wall R-value (Conservative)","Slab R-value (Best)","Crawlspace Floor R-Value","Projection Factor","Min TRE","Max SHGC","Heating","SEER","GSHP: COP","GSHP: EER","CDD50"]
["AB","CALGARY INT AP",7,9197,1364,-3.8,69.599999999999994,0.1086,"51.120N",-12.8,18.899999999999999,22.3,28.4,39.5,49,55.9,61.9,60.7,53.1,41.1,28,20,964,776,670,329,114,12,1,6,59,300,661,931,0,1,1,14,84,188,369,337,151,24,1,0,9.1,10.76,15.4,23.36,32.4,43.16,48.56,45.14,36.9,17.600000000000001,17.600000000000001,9.6999999999999993,{"$f":"IF(MIN(K5:V5)>60,\"NR\",IF((60-MIN(K5:V5))/(68-MIN(K5:V5))<0.5,\"NR\",MAX(0.6,(60-MIN(K5:V5))/(68-MIN(K5:V5)))))","v":0.83706720977596738},{"$f":"IF(ISBLANK($J5),\"-\",IF((14.7-(0.742*10))/(0.74*(68-$J5))<0,0.5,MIN((14.7-(0.742*10))/(0.74*(68-$J5)),0.5)))","v":0.12175541878512175},{"$f":"ROUNDDOWN((33.97238548+(2.143484655*3.14219615)+(0.00253108806*D5)+(-0.2767683543*J5)+(66.9384076*H5)+((3.14219615-3.14219615)^2*-1.607593659)+((J5-12.48681818)*(H5-0.2016890909)*-1.8168457)+8.4234),0)","v":78},{"$f":"ROUNDDOWN((2.975122788+(0.003896731237*D5)+(59.88697433*H5)+((D5-5520.854545)*(H5-0.2016890909)*0.01119327314)+5.3792),0)","v":46},{"$f":"ROUNDDOWN(-18.64576148+(5.900367721*3.14219615)+(0.002662134083*D5)+(38.92365332*H5)+((BT5-3890.577273)*(G5-78.59)*0.00005765875867)+((D5-5520.854545)*(H5-0.2016890909)*0.006047043516),0)","v":27},{"$f":"ROUNDDOWN(BK5+5.9089,0)","v":32},{"$f":"IF(OR(C5=\"OA\",C5=\"OB\",C5=\"1B\",C5=\"1A\",C5=\"2A\",C5=\"2B\",C5=\"3A\",C5=\"3B\",C5=\"3C\"),TAN((LEFT(I5, 5)+VLOOKUP(C5,Main!$K$3:$L$21,2,FALSE))*PI()/180),IF(Checklist!$I$385=\"No\",TAN((LEFT(I5, 5)+VLOOKUP(C5,Main!$K$3:$L$21,2,FALSE))*PI()/180),\"NR\"))","v":"NR"},{"$f":"VLOOKUP(C5,Main!$A$49:$I$67,Main!$B$47,FALSE)","v":"NR"},{"$f":"VLOOKUP(C5,Main!$A$49:$I$67,Main!$C$47,FALSE)","v":"NR"},{"$f":"VLOOKUP(C5,Main!$A$49:$I$67,Main!$E$47,FALSE)&\":\"&\" \"&VLOOKUP(C5,Main!$A$49:$I$67,Main!$F$47,FALSE)","v":"Minimum COP @ 5°F:: 1.75"},{"$f":"VLOOKUP(C5,Main!$A$49:$I$67,Main!$G$47,FALSE)","v":15},{"$f":"VLOOKUP(C5,Main!$A$49:$I$67,Main!$H$47,FALSE)","v":3.1},{"$f":"VLOOKUP(C5,Main!$A$49:$I$67,Main!$I$47,FALSE)","v":16.100000000000001},1170]
["AB","COP UPPER",7,9071,1355,-1.4,69.8,0.1086,"51.080N",-11.6,20.5,23.1,28.7,39,48.6,54.8,61.6,60.3,52.8,41.8,29.2,22.7,915,753,660,347,129,20,3,8,71,284,627,848,0,0,1,15,84,165,362,328,155,29,1,0,9,10.4,15.1,22.28,30,40.64,45.5,42.8,35.4,16.5,16.5,10,0.83157894736842108,0.12359092761102811,{"$f":"ROUNDDOWN((33.97238548+(2.143484655*3.14219615)+(0.00253108806*D6)+(-0.2767683543*J6)+(66.9384076*H6)+((3.14219615-3.14219615)^2*-1.607593659)+((J6-12.48681818)*(H6-0.2016890909)*-1.8168457)+8.4234),0)","v":78},{"$f":"ROUNDDOWN((2.975122788+(0.003896731237*D6)+(59.88697433*H6)+((D6-5520.854545)*(H6-0.2016890909)*0.01119327314)+5.3792),0)","v":46},{"$f":"ROUNDDOWN(-18.64576148+(5.900367721*3.14219615)+(0.002662134083*D6)+(38.92365332*H6)+((BT6-3890.577273)*(G6-78.59)*0.00005765875867)+((D6-5520.854545)*(H6-0.2016890909)*0.006047043516),0)","v":27},{"$f":"ROUNDDOWN(BK6+5.9089,0)","v":32},{"$f":"IF(OR(C6=\"OA\",C6=\"OB\",C6=\"1B\",C6=\"1A\",C6=\"2A\",C6=\"2B\",C6=\"3A\",C6=\"3B\",C6=\"3C\"),TAN((LEFT(I6, 5)+VLOOKUP(C6,Main!$K$3:$L$21,2,FALSE))*PI()/180),IF(Checklist!$I$385=\"No\",TAN((LEFT(I6, 5)+VLOOKUP(C6,Main!$K$3:$L$21,2,FALSE))*PI()/180),\"NR\"))","v":"NR"},{"$f":"VLOOKUP(C6,Main!$A$49:$I$67,Main!$B$47,FALSE)","v":"NR"},{"$f":"VLOOKUP(C6,Main!$A$49:$I$67,Main!$C$47,FALSE)","v":"NR"},{"$f":"VLOOKUP(C6,Main!$A$49:$I$67,Main!$E$47,FALSE)&\":\"&\" \"&VLOOKUP(C6,Main!$A$49:$I$67,Main!$F$47,FALSE)","v":"Minimum COP @ 5°F:: 1.75"},{"$f":"VLOOKUP(C6,Main!$A$49:$I$67,Main!$G$47,FALSE)","v":15},{"$f":"VLOOKUP(C6,Main!$A$49:$I$67,Main!$H$47,FALSE)","v":3.1},{"$f":"VLOOKUP(C6,Main!$A$49:$I$67,Main!$I$47,FALSE)","v":16.100000000000001},1140]
["AB","EDMONTON AP",7,10473,1287,-11.55,68.400000000000006,0.1086,"53.310N",-20.6,9.8000000000000007,14.1,22.7,38.5,49.9,57.1,61,59.2,51.1,38.4,22.4,11.7,1246,1007,848,356,100,7,1,7,76,370,829,1188,0,0,0,10,97,219,342,293,109,10,0,0,4.5,6.62,13.5,24.62,32.5,44.42,51.44,48.74,39.4,17.8,17.8,5,0.86254295532646053,0.11103654444512233,83,50,{"$f":"ROUNDDOWN(-18.64576148+(5.900367721*3.14219615)+(0.002662134083*D7)+(38.92365332*H7)+((BT7-3890.577273)*(G7-78.59)*0.00005765875867)+((D7-5520.854545)*(H7-0.2016890909)*0.006047043516),0)","v":30},35,{"$f":"IF(OR(C7=\"OA\",C7=\"OB\",C7=\"1B\",C7=\"1A\",C7=\"2A\",C7=\"2B\",C7=\"3A\",C7=\"3B\",C7=\"3C\"),TAN((LEFT(I7, 5)+VLOOKUP(C7,Main!$K$3:$L$21,2,FALSE))*PI()/180),IF(Checklist!$I$385=\"No\",TAN((LEFT(I7, 5)+VLOOKUP(C7,Main!$K$3:$L$21,2,FALSE))*PI()/180),\"NR\"))","v":"NR"},{"$f":"VLOOKUP(C7,Main!$A$49:$I$67,Main!$B$47,FALSE)","v":"NR"},{"$f":"VLOOKUP(C7,Main!$A$49:$I$67,Main!$C$47,FALSE)","v":"NR"},{"$f":"VLOOKUP(C7,Main!$A$49:$I$67,Main!$E$47,FALSE)&\":\"&\" \"&VLOOKUP(C7,Main!$A$49:$I$67,Main!$F$47,FALSE)","v":"Minimum COP @ 5°F:: 1.75"},{"$f":"VLOOKUP(C7,Main!$A$49:$I$67,Main!$G$47,FALSE)","v":15},{"$f":"VLOOKUP(C7,Main!$A$49:$I$67,Main!$H$47,FALSE)","v":3.1},{"$f":"VLOOKUP(C7,Main!$A$49:$I$67,Main!$I$47,FALSE)","v":16.100000000000001},1080]
["AB","EDMONTON MUN AP",7,9423,1282,-6.7,72.3,0.1086,"53.570N",-14.5,13.3,18.3,26.5,40.799999999999997,52.3,59.7,64.3,62.5,53.9,41.1,25.4,15.1,1137,888,729,298,71,4,0,3,47,295,739,1081,0,0,0,22,141,295,443,391,165,20,0,0,5.5,8.6,13.6,23.54,32.700000000000003,44.96,51.8,49.1,40.299999999999997,18.100000000000001,18.100000000000001,5.4,0.8537477148080439,0.11924651924651924,79,47,{"$f":"ROUNDDOWN(-18.64576148+(5.900367721*3.14219615)+(0.002662134083*D8)+(38.92365332*H8)+((BT8-3890.577273)*(G8-78.59)*0.00005765875867)+((D8-5520.854545)*(H8-0.2016890909)*0.006047043516),0)","v":27},32,{"$f":"IF(OR(C8=\"OA\",C8=\"OB\",C8=\"1B\",C8=\"1A\",C8=\"2A\",C8=\"2B\",C8=\"3A\",C8=\"3B\",C8=\"3C\"),TAN((LEFT(I8, 5)+VLOOKUP(C8,Main!$K$3:$L$21,2,FALSE))*PI()/180),IF(Checklist!$I$385=\"No\",TAN((LEFT(I8, 5)+VLOOKUP(C8,Main!$K$3:$L$21,2,FALSE))*PI()/180),\"NR\"))","v":"NR"},{"$f":"VLOOKUP(C8,Main!$A$49:$I$67,Main!$B$47,FALSE)","v":"NR"},{"$f":"VLOOKUP(C8,Main!$A$49:$I$67,Main!$C$47,FALSE)","v":"NR"},{"$f":"VLOOKUP(C8,Main!$A$49:$I$67,Main!$E$47,FALSE)&\":\"&\" \"&VLOOKUP(C8,Main!$A$49:$I$67,Main!$F$47,FALSE)","v":"Minimum COP @ 5°F:: 1.75"},{"$f":"VLOOKUP(C8,Main!$A$49:$I$67,Main!$G$47,FALSE)","v":15},{"$f":"VLOOKUP(C8,Main!$A$49:$I$67,Main!$H$47,FALSE)","v":3.1},{"$f":"VLOOKUP(C8,Main!$A$49:$I$67,Main!$I$47,FALSE)","v":16.100000000000001},1477]
["AB","EDMONTON NAMAO",7,10060,1277,-9.75,69.400000000000006,0.1086,"53.670N",-16.600000000000001,12.9,15,24.7,38.799999999999997,50.4,57.7,62.1,60.3,52,39.299999999999997,24.1,12.8,1150,981,785,352,93,6,1,6,66,347,778,1152,0,0,0,16,107,237,375,324,126,14,0,0,5,7.7,13.3,23.54,32,44.78,52.16,49.46,40.5,18.3,18.3,5.5,0.85507246376811596,0.11628649926522268,81,49,29,34,{"$f":"IF(OR(C9=\"OA\",C9=\"OB\",C9=\"1B\",C9=\"1A\",C9=\"2A\",C9=\"2B\",C9=\"3A\",C9=\"3B\",C9=\"3C\"),TAN((LEFT(I9, 5)+VLOOKUP(C9,Main!$K$3:$L$21,2,FALSE))*PI()/180),IF(Checklist!$I$385=\"No\",TAN((LEFT(I9, 5)+VLOOKUP(C9,Main!$K$3:$L$21,2,FALSE))*PI()/180),\"NR\"))","v":"NR"},{"$f":"VLOOKUP(C9,Main!$A$49:$I$67,Main!$B$47,FALSE)","v":"NR"},{"$f":"VLOOKUP(C9,Main!$A$49:$I$67,Main!$C$47,FALSE)","v":"NR"},{"$f":"VLOOKUP(C9,Main!$A$49:$I$67,Main!$E$47,FALSE)&\":\"&\" \"&VLOOKUP(C9,Main!$A$49:$I$67,Main!$F$47,FALSE)","v":"Minimum COP @ 5°F:: 1.75"},{"$f":"VLOOKUP(C9,Main!$A$49:$I$67,Main!$G$47,FALSE)","v":15},{"$f":"VLOOKUP(C9,Main!$A$49:$I$67,Main!$H$47,FALSE)","v":3.1},{"$f":"VLOOKUP(C9,Main!$A$49:$I$67,Main!$I$47,FALSE)","v":16.100000000000001},1199]
["AB","FORT MCMURRAY AP",7,11459,1192,-18.05,70.2,0.1086,"56.650N",-28.2,0.6,8.1,20,37,49.3,58.4,62.9,59.9,50.2,36.4,17.600000000000001,4,1533,1174,929,400,118,8,0,7,93,430,971,1425,0,0,0,9,97,260,399,314,98,9,0,0,-4.4000000000000004,-1.1200000000000001,7,20.12,30.7,43.88,51.44,49.28,41.2,14.7,14.7,-2.7,0.88130563798219574,0.1022644265887509,86,53,32,37,{"$f":"IF(OR(C10=\"OA\",C10=\"OB\",C10=\"1B\",C10=\"1A\",C10=\"2A\",C10=\"2B\",C10=\"3A\",C10=\"3B\",C10=\"3C\"),TAN((LEFT(I10, 5)+VLOOKUP(C10,Main!$K$3:$L$21,2,FALSE))*PI()/180),IF(Checklist!$I$385=\"No\",TAN((LEFT(I10, 5)+VLOOKUP(C10,Main!$K$3:$L$21,2,FALSE))*PI()/180),\"NR\"))","v":"NR"},{"$f":"VLOOKUP(C10,Main!$A$49:$I$67,Main!$B$47,FALSE)","v":"NR"},{"$f":"VLOOKUP(C10,Main!$A$49:$I$67,Main!$C$47,FALSE)","v":"NR"},{"$f":"VLOOKUP(C10,Main!$A$49:$I$67,Main!$E$47,FALSE)&\":\"&\" \"&VLOOKUP(C10,Main!$A$49:$I$67,Main!$F$47,FALSE)","v":"Minimum COP @ 5°F:: 1.75"},{"$f":"VLOOKUP(C10,Main!$A$49:$I$67,Main!$G$47,FALSE)","v":15},{"$f":"VLOOKUP(C10,Main!$A$49:$I$67,Main!$H$47,FALSE)","v":3.1},{"$f":"VLOOKUP(C10,Main!$A$49:$I$67,Main!$I$47,FALSE)","v":16.100000000000001},1186]
["AB","GRAND PRAIRIE",7,10674,1201,-16.05,68.400000000000006,0.1086,"55.180N",-24.4,7.2,13.3,22.1,38.5,50,57.5,61.3,59.5,51.2,38.4,20.5,9.6999999999999993,1325,1027,865,350,92,5,1,6,70,370,886,1248,0,0,0,5,91,232,351,299,107,9,0,0,2.5,5.9,11.3,23.18,32,42.26,48.2,46.58,39.4,17.399999999999999,17.399999999999999,4.8,0.86842105263157898,0.10647010647010645,83,51,31,36,{"$f":"IF(OR(C11=\"OA\",C11=\"OB\",C11=\"1B\",C11=\"1A\",C11=\"2A\",C11=\"2B\",C11=\"3A\",C11=\"3B\",C11=\"3C\"),TAN((LEFT(I11, 5)+VLOOKUP(C11,Main!$K$3:$L$21,2,FALSE))*PI()/180),IF(Checklist!$I$385=\"No\",TAN((LEFT(I11, 5)+VLOOKUP(C11,Main!$K$3:$L$21,2,FALSE))*PI()/180),\"NR\"))","v":"NR"},{"$f":"VLOOKUP(C11,Main!$A$49:$I$67,Main!$B$47,FALSE)","v":"NR"},{"$f":"VLOOKUP(C11,Main!$A$49:$I$67,Main!$C$47,FALSE)","v":"NR"},{"$f":"VLOOKUP(C11,Main!$A$49:$I$67,Main!$E$47,FALSE)&\":\"&\" \"&VLOOKUP(C11,Main!$A$49:$I$67,Main!$F$47,FALSE)","v":"Minimum COP @ 5°F:: 1.75"},{"$f":"VLOOKUP(C11,Main!$A$49:$I$67,Main!$G$47,FALSE)","v":15},{"$f":"VLOOKUP(C11,Main!$A$49:$I$67,Main!$H$47,FALSE)","v":3.1},{"$f":"VLOOKUP(C11,Main!$A$49:$I$67,Main!$I$47,FALSE)","v":16.100000000000001},1094]
["AB","LACOMBE",7,10318,1319,-6.9,68.5,0.1086,"52.450N",-19,10.8,15.4,23.9,38.200000000000003,49.1,56.2,60.9,58.9,50.9,39.200000000000003,23.5,13.7,1215,968,808,361,111,10,1,5,78,346,795,1126,0,0,0,7,84,195,340,282,104,10,0,0,7,9.32,16.2,26.24,34.299999999999997,45.5,52.16,49.1,40.6,19,19,7.3,0.8601398601398601,0.11307859583721652,82,50,30,35,{"$f":"IF(OR(C12=\"OA\",C12=\"OB\",C12=\"1B\",C12=\"1A\",C12=\"2A\",C12=\"2B\",C12=\"3A\",C12=\"3B\",C12=\"3C\"),TAN((LEFT(I12, 5)+VLOOKUP(C12,Main!$K$3:$L$21,2,FALSE))*PI()/180),IF(Checklist!$I$385=\"No\",TAN((LEFT(I12, 5)+VLOOKUP(C12,Main!$K$3:$L$21,2,FALSE))*PI()/180),\"NR\"))","v":"NR"},{"$f":"VLOOKUP(C12,Main!$A$49:$I$67,Main!$B$47,FALSE)","v":"NR"},{"$f":"VLOOKUP(C12,Main!$A$49:$I$67,Main!$C$47,FALSE)","v":"NR"},{"$f":"VLOOKUP(C12,Main!$A$49:$I$67,Main!$E$47,FALSE)&\":\"&\" \"&VLOOKUP(C12,Main!$A$49:$I$67,Main!$F$47,FALSE)","v":"Minimum COP @ 5°F:: 1.75"},{"$f":"VLOOKUP(C12,Main!$A$49:$I$67,Main!$G$47,FALSE)","v":15},{"$f":"VLOOKUP(C12,Main!$A$49:$I$67,Main!$H$47,FALSE)","v":3.1},{"$f":"VLOOKUP(C12,Main!$A$49:$I$67,Main!$I$47,FALSE)","v":16.100000000000001},1022]
["AB","LETHBRIDGE","6A",8419,1397,-1.65,74.3,0.1086,"49.630N",-14.6,20.6,24.6,30.6,41.8,50.9,57.9,64,63.9,56,43.5,30.2,22.8,911,712,602,270,81,6,1,3,36,246,596,844,1,1,2,24,109,244,436,434,214,46,3,0,12.2,13.82,18.899999999999999,25.88,32.4,39.74,47.84,45.14,38.799999999999997,20.3,20.3,12.7,0.83122362869198307,0.11910215300045808,77,44,25,30,{"$f":"IF(OR(C13=\"OA\",C13=\"OB\",C13=\"1B\",C13=\"1A\",C13=\"2A\",C13=\"2B\",C13=\"3A\",C13=\"3B\",C13=\"3C\"),TAN((LEFT(I13, 5)+VLOOKUP(C13,Main!$K$3:$L$21,2,FALSE))*PI()/180),IF(Checklist!$I$385=\"No\",TAN((LEFT(I13, 5)+VLOOKUP(C13,Main!$K$3:$L$21,2,FALSE))*PI()/180),\"NR\"))","v":"NR"},{"$f":"VLOOKUP(C13,Main!$A$49:$I$67,Main!$B$47,FALSE)","v":"NR"},{"$f":"VLOOKUP(C13,Main!$A$49:$I$67,Main!$C$47,FALSE)","v":"NR"},{"$f":"VLOOKUP(C13,Main!$A$49:$I$67,Main!$E$47,FALSE)&\":\"&\" \"&VLOOKUP(C13,Main!$A$49:$I$67,Main!$F$47,FALSE)","v":"Minimum COP @ 5°F:: 1.75"},{"$f":"VLOOKUP(C13,Main!$A$49:$I$67,Main!$G$47,FALSE)","v":15},{"$f":"VLOOKUP(C13,Main!$A$49:$I$67,Main!$H$47,FALSE)","v":3.1},{"$f":"VLOOKUP(C13,Main!$A$49:$I$67,Main!$I$47,FALSE)","v":16.100000000000001},1514]
["AB","MEDICINE AP","6B",8434,1426,-4.8,78.099999999999994,0.1086,"50.020N",-15.5,16.5,21.6,31.5,43.3,53.3,60.9,67.599999999999994,66.7,57.3,44.1,29.7,18.899999999999999,1038,794,577,237,57,3,0,1,28,230,614,965,0,0,3,36,159,329,546,520,246,48,3,0,10.4,11.66,18.100000000000001,26.24,35.200000000000003,46.04,50,46.94,40.299999999999997,20.5,20.5,10.199999999999999,0.84466019417475724,0.11781841721961482,77,44,24,29,{"$f":"IF(OR(C14=\"OA\",C14=\"OB\",C14=\"1B\",C14=\"1A\",C14=\"2A\",C14=\"2B\",C14=\"3A\",C14=\"3B\",C14=\"3C\"),TAN((LEFT(I14, 5)+VLOOKUP(C14,Main!$K$3:$L$21,2,FALSE))*PI()/180),IF(Checklist!$I$385=\"No\",TAN((LEFT(I14, 5)+VLOOKUP(C14,Main!$K$3:$L$21,2,FALSE))*PI()/180),\"NR\"))","v":"NR"},{"$f":"VLOOKUP(C14,Main!$A$49:$I$67,Main!$B$47,FALSE)","v":"NR"},{"$f":"VLOOKUP(C14,Main!$A$49:$I$67,Main!$C$47,FALSE)","v":"NR"},{"$f":"VLOOKUP(C14,Main!$A$49:$I$67,Main!$E$47,FALSE)&\":\"&\" \"&VLOOKUP(C14,Main!$A$49:$I$67,Main!$F$47,FALSE)","v":"Minimum COP @ 5°F:: 1.75"},{"$f":"VLOOKUP(C14,Main!$A$49:$I$67,Main!$G$47,FALSE)","v":15},{"$f":"VLOOKUP(C14,Main!$A$49:$I$67,Main!$H$47,FALSE)","v":3.1},{"$f":"VLOOKUP(C14,Main!$A$49:$I$67,Main!$I$47,FALSE)","v":16.100000000000001},1890]
["AB","RED DEER AP",7,10309,1329,-6.8,68.7,0.1086,"52.180N",-18.8,11,15.3,24.4,38.6,49.1,56.4,60.9,59.2,51.2,38.6,23.6,12.8,1208,971,795,350,110,9,1,6,71,364,792,1154,0,0,0,7,82,201,340,293,107,10,0,0,5,6.62,14.2,24.62,32.5,44.06,50.36,47.48,39,16.899999999999999,16.899999999999999,5.5,0.85964912280701755,0.1133391455972101,82,50,30,35,{"$f":"IF(OR(C15=\"OA\",C15=\"OB\",C15=\"1B\",C15=\"1A\",C15=\"2A\",C15=\"2B\",C15=\"3A\",C15=\"3B\",C15=\"3C\"),TAN((LEFT(I15, 5)+VLOOKUP(C15,Main!$K$3:$L$21,2,FALSE))*PI()/180),IF(Checklist!$I$385=\"No\",TAN((LEFT(I15, 5)+VLOOKUP(C15,Main!$K$3:$L$21,2,FALSE))*PI()/180),\"NR\"))","v":"NR"},{"$f":"VLOOKUP(C15,Main!$A$49:$I$67,Main!$B$47,FALSE)","v":"NR"},{"$f":"VLOOKUP(C15,Main!$A$49:$I$67,Main!$C$47,FALSE)","v":"NR"},{"$f":"VLOOKUP(C15,Main!$A$49:$I$67,Main!$E$47,FALSE)&\":\"&\" \"&VLOOKUP(C15,Main!$A$49:$I$67,Main!$F$47,FALSE)","v":"Minimum COP @ 5°F:: 1.75"},{"$f":"VLOOKUP(C15,Main!$A$49:$I$67,Main!$G$47,FALSE)","v":15},{"$f":"VLOOKUP(C15,Main!$A$49:$I$67,Main!$H$47,FALSE)","v":3.1},{"$f":"VLOOKUP(C15,Main!$A$49:$I$67,Main!$I$47,FALSE)","v":16.100000000000001},1040]
["AB","SPRINGBANK",7,10296,1346,-0.85,69.599999999999994,0.1086,"51.100N",-17.899999999999999,15.1,20.8,25.9,37.1,45.7,52.5,57.3,57.3,49.6,38.1,24.8,16.600000000000001,1081,816,747,392,173,33,7,13,94,380,757,1037,0,0,0,5,39,108,231,240,81,12,0,0,9,10.4,15.4,22.82,30.7,41.54,46.4,43.88,36.1,17.100000000000001,17.100000000000001,9.9,0.84877126654064272,0.11452663373501556,82,50,30,35,{"$f":"IF(OR(C16=\"OA\",C16=\"OB\",C16=\"1B\",C16=\"1A\",C16=\"2A\",C16=\"2B\",C16=\"3A\",C16=\"3B\",C16=\"3C\"),TAN((LEFT(I16, 5)+VLOOKUP(C16,Main!$K$3:$L$21,2,FALSE))*PI()/180),IF(Checklist!$I$385=\"No\",TAN((LEFT(I16, 5)+VLOOKUP(C16,Main!$K$3:$L$21,2,FALSE))*PI()/180),\"NR\"))","v":"NR"},{"$f":"VLOOKUP(C16,Main!$A$49:$I$67,Main!$B$47,FALSE)","v":"NR"},{"$f":"VLOOKUP(C16,Main!$A$49:$I$67,Main!$C$47,FALSE)","v":"NR"},{"$f":"VLOOKUP(C16,Main!$A$49:$I$67,Main!$E$47,FALSE)&\":\"&\" \"&VLOOKUP(C16,Main!$A$49:$I$67,Main!$F$47,FALSE)","v":"Minimum COP @ 5°F:: 1.75"},{"$f":"VLOOKUP(C16,Main!$A$49:$I$67,Main!$G$47,FALSE)","v":15},{"$f":"VLOOKUP(C16,Main!$A$49:$I$67,Main!$H$47,FALSE)","v":3.1},{"$f":"VLOOKUP(C16,Main!$A$49:$I$67,Main!$I$47,FALSE)","v":16.100000000000001},716]
["AK","ADAK NAS",7,9017,752,28.2,50.4,0.18920000000000001,"51.883N",22.6,32.299999999999997,33.299999999999997,33.9,36.4,40.299999999999997,45.2,49.1,51.3,47.9,42.3,37.6,33.5,548,468,499,408,299,144,50,19,77,239,373,513,0,0,0,0,0,1,21,58,14,0,0,0,25.9,29.48,30.4,25.88,32.4,36.5,42.98,41.36,34.5,30.6,30.6,27.1,0.77591036414565828,0.21669246338849862,78,54,37,42,{"$f":"IF(OR(C17=\"OA\",C17=\"OB\",C17=\"1B\",C17=\"1A\",C17=\"2A\",C17=\"2B\",C17=\"3A\",C17=\"3B\",C17=\"3C\"),TAN((LEFT(I17, 5)+VLOOKUP(C17,Main!$K$3:$L$21,2,FALSE))*PI()/180),IF(Checklist!$I$385=\"No\",TAN((LEFT(I17, 5)+VLOOKUP(C17,Main!$K$3:$L$21,2,FALSE))*PI()/180),\"NR\"))","v":"NR"},{"$f":"VLOOKUP(C17,Main!$A$49:$I$67,Main!$B$47,FALSE)","v":"NR"},{"$f":"VLOOKUP(C17,Main!$A$49:$I$67,Main!$C$47,FALSE)","v":"NR"},{"$f":"VLOOKUP(C17,Main!$A$49:$I$67,Main!$E$47,FALSE)&\":\"&\" \"&VLOOKUP(C17,Main!$A$49:$I$67,Main!$F$47,FALSE)","v":"Minimum COP @ 5°F:: 1.75"},{"$f":"VLOOKUP(C17,Main!$A$49:$I$67,Main!$G$47,FALSE)","v":15},{"$f":"VLOOKUP(C17,Main!$A$49:$I$67,Main!$H$47,FALSE)","v":3.1},{"$f":"VLOOKUP(C17,Main!$A$49:$I$67,Main!$I$47,FALSE)","v":16.100000000000001},94]
["AK","AMBLER",8,14478,795,-42.05,60.8,0.18920000000000001,"67.100N",-36.5,-3,3.1,5.4,20.9,39.200000000000003,56.3,58.2,52.2,41.1,21.9,7,1.1000000000000001,1642,1312,1381,874,362,22,10,49,278,872,1291,1516,0,0,0,0,27,211,265,116,12,0,0,0,-15.2,-3.46,6.8,15.08,28,35.24,43.7,36.32,29.1,2.5,2.5,-0.8,0.88732394366197187,9.4141988878830976E-2,107,74,48,53,{"$f":"IF(OR(C18=\"OA\",C18=\"OB\",C18=\"1B\",C18=\"1A\",C18=\"2A\",C18=\"2B\",C18=\"3A\",C18=\"3B\",C18=\"3C\"),TAN((LEFT(I18, 5)+VLOOKUP(C18,Main!$K$3:$L$21,2,FALSE))*PI()/180),IF(Checklist!$I$385=\"No\",TAN((LEFT(I18, 5)+VLOOKUP(C18,Main!$K$3:$L$21,2,FALSE))*PI()/180),\"NR\"))","v":"NR"},{"$f":"VLOOKUP(C18,Main!$A$49:$I$67,Main!$B$47,FALSE)","v":"NR"},{"$f":"VLOOKUP(C18,Main!$A$49:$I$67,Main!$C$47,FALSE)","v":"NR"},{"$f":"VLOOKUP(C18,Main!$A$49:$I$67,Main!$E$47,FALSE)&\":\"&\" \"&VLOOKUP(C18,Main!$A$49:$I$67,Main!$F$47,FALSE)","v":"Minimum COP @ 5°F:: 1.75"},{"$f":"VLOOKUP(C18,Main!$A$49:$I$67,Main!$G$47,FALSE)","v":15},{"$f":"VLOOKUP(C18,Main!$A$49:$I$67,Main!$H$47,FALSE)","v":3.1},{"$f":"VLOOKUP(C18,Main!$A$49:$I$67,Main!$I$47,FALSE)","v":16.100000000000001},631]
["AK","ANAKTUVUK PASS",8,17269,756,-22.9,56.1,0.18920000000000001,"68.135N",-33.4,-8.4,-6.2,-4.0999999999999996,10.5,31.6,50,52.7,45.6,34.200000000000003,12.7,-0.7,-7,1810,1575,1678,1185,572,81,43,169,474,1156,1522,1767,0,0,0,0,2,81,126,32,1,0,0,0,-14.8,-11.56,-4.9000000000000004,7.88,27.9,33.979999999999997,37.94,29.12,30,-0.4,-0.4,-7.1,0.89528795811518325,9.7020097020097007E-2,113,85,57,62,{"$f":"IF(OR(C19=\"OA\",C19=\"OB\",C19=\"1B\",C19=\"1A\",C19=\"2A\",C19=\"2B\",C19=\"3A\",C19=\"3B\",C19=\"3C\"),TAN((LEFT(I19, 5)+VLOOKUP(C19,Main!$K$3:$L$21,2,FALSE))*PI()/180),IF(Checklist!$I$385=\"No\",TAN((LEFT(I19, 5)+VLOOKUP(C19,Main!$K$3:$L$21,2,FALSE))*PI()/180),\"NR\"))","v":"NR"},{"$f":"VLOOKUP(C19,Main!$A$49:$I$67,Main!$B$47,FALSE)","v":"NR"},{"$f":"VLOOKUP(C19,Main!$A$49:$I$67,Main!$C$47,FALSE)","v":"NR"},{"$f":"VLOOKUP(C19,Main!$A$49:$I$67,Main!$E$47,FALSE)&\":\"&\" \"&VLOOKUP(C19,Main!$A$49:$I$67,Main!$F$47,FALSE)","v":"Minimum COP @ 5°F:: 1.75"},{"$f":"VLOOKUP(C19,Main!$A$49:$I$67,Main!$G$47,FALSE)","v":15},{"$f":"VLOOKUP(C19,Main!$A$49:$I$67,Main!$H$47,FALSE)","v":3.1},{"$f":"VLOOKUP(C19,Main!$A$49:$I$67,Main!$I$47,FALSE)","v":16.100000000000001},242]
["AK","ANCHORAGE INTL AP",7,10115,894,1.8,58.8,0.18920000000000001,"61.169N",-4.5,17,20.8,25.7,37.299999999999997,48,55.6,59,57.1,49,35.6,22.8,18.7,1024,819,754,383,102,3,0,1,76,448,815,970,0,0,0,0,40,170,279,222,46,1,0,0,10.9,11.48,13.5,25.88,36,43.88,48.74,47.3,42.6,16.5,16.5,15.1,0.84313725490196079,0.13569431500465981,88,58,37,42,{"$f":"IF(OR(C20=\"OA\",C20=\"OB\",C20=\"1B\",C20=\"1A\",C20=\"2A\",C20=\"2B\",C20=\"3A\",C20=\"3B\",C20=\"3C\"),TAN((LEFT(I20, 5)+VLOOKUP(C20,Main!$K$3:$L$21,2,FALSE))*PI()/180),IF(Checklist!$I$385=\"No\",TAN((LEFT(I20, 5)+VLOOKUP(C20,Main!$K$3:$L$21,2,FALSE))*PI()/180),\"NR\"))","v":"NR"},{"$f":"VLOOKUP(C20,Main!$A$49:$I$67,Main!$B$47,FALSE)","v":"NR"},{"$f":"VLOOKUP(C20,Main!$A$49:$I$67,Main!$C$47,FALSE)","v":"NR"},{"$f":"VLOOKUP(C20,Main!$A$49:$I$67,Main!$E$47,FALSE)&\":\"&\" \"&VLOOKUP(C20,Main!$A$49:$I$67,Main!$F$47,FALSE)","v":"Minimum COP @ 5°F:: 1.75"},{"$f":"VLOOKUP(C20,Main!$A$49:$I$67,Main!$G$47,FALSE)","v":15},{"$f":"VLOOKUP(C20,Main!$A$49:$I$67,Main!$H$47,FALSE)","v":3.1},{"$f":"VLOOKUP(C20,Main!$A$49:$I$67,Main!$I$47,FALSE)","v":16.100000000000001},758]
["AK","ANCHORAGE MERRILL FIELD",7,9961,837,10.050000000000001,62.2,0.18920000000000001,"61.217N",-7,15.9,20.100000000000001,25.8,38.6,49.7,57.5,60.6,58.2,49.6,35.799999999999997,22.2,17.7,1056,836,751,342,70,1,0,0,70,441,833,1002,0,0,0,1,59,226,329,255,59,2,0,0,23,15.26,20.7,26.24,32.200000000000003,41.9,48.74,50.36,35.200000000000003,30.2,30.2,20.100000000000001,0.84644913627639151,0.13117117117117116,88,57,36,41,{"$f":"IF(OR(C21=\"OA\",C21=\"OB\",C21=\"1B\",C21=\"1A\",C21=\"2A\",C21=\"2B\",C21=\"3A\",C21=\"3B\",C21=\"3C\"),TAN((LEFT(I21, 5)+VLOOKUP(C21,Main!$K$3:$L$21,2,FALSE))*PI()/180),IF(Checklist!$I$385=\"No\",TAN((LEFT(I21, 5)+VLOOKUP(C21,Main!$K$3:$L$21,2,FALSE))*PI()/180),\"NR\"))","v":"NR"},{"$f":"VLOOKUP(C21,Main!$A$49:$I$67,Main!$B$47,FALSE)","v":"NR"},{"$f":"VLOOKUP(C21,Main!$A$49:$I$67,Main!$C$47,FALSE)","v":"NR"},{"$f":"VLOOKUP(C21,Main!$A$49:$I$67,Main!$E$47,FALSE)&\":\"&\" \"&VLOOKUP(C21,Main!$A$49:$I$67,Main!$F$47,FALSE)","v":"Minimum COP @ 5°F:: 1.75"},{"$f":"VLOOKUP(C21,Main!$A$49:$I$67,Main!$G$47,FALSE)","v":15},{"$f":"VLOOKUP(C21,Main!$A$49:$I$67,Main!$H$47,FALSE)","v":3.1},{"$f":"VLOOKUP(C21,Main!$A$49:$I$67,Main!$I$47,FALSE)","v":16.100000000000001},931]
["AK","ANCHORAGE/ELMENDORF",7,10324,939,6.85,61.2,0.18920000000000001,"61.253N",-10.6,14.6,18.8,25.3,37.6,48.9,56.8,59.9,57.6,48.8,34.5,21.1,15.9,1098,872,766,372,87,2,0,1,85,482,866,1057,0,0,0,1,52,205,306,237,48,1,0,0,24.1,27.86,20.3,27.68,32.4,39.56,51.26,49.1,33.4,31.3,31.3,20.5,0.85018726591760296,0.12516333127020149,90,59,37,42,{"$f":"IF(OR(C22=\"OA\",C22=\"OB\",C22=\"1B\",C22=\"1A\",C22=\"2A\",C22=\"2B\",C22=\"3A\",C22=\"3B\",C22=\"3C\"),TAN((LEFT(I22, 5)+VLOOKUP(C22,Main!$K$3:$L$21,2,FALSE))*PI()/180),IF(Checklist!$I$385=\"No\",TAN((LEFT(I22, 5)+VLOOKUP(C22,Main!$K$3:$L$21,2,FALSE))*PI()/180),\"NR\"))","v":"NR"},{"$f":"VLOOKUP(C22,Main!$A$49:$I$67,Main!$B$47,FALSE)","v":"NR"},{"$f":"VLOOKUP(C22,Main!$A$49:$I$67,Main!$C$47,FALSE)","v":"NR"},{"$f":"VLOOKUP(C22,Main!$A$49:$I$67,Main!$E$47,FALSE)&\":\"&\" \"&VLOOKUP(C22,Main!$A$49:$I$67,Main!$F$47,FALSE)","v":"Minimum COP @ 5°F:: 1.75"},{"$f":"VLOOKUP(C22,Main!$A$49:$I$67,Main!$G$47,FALSE)","v":15},{"$f":"VLOOKUP(C22,Main!$A$49:$I$67,Main!$H$47,FALSE)","v":3.1},{"$f":"VLOOKUP(C22,Main!$A$49:$I$67,Main!$I$47,FALSE)","v":16.100000000000001},850]
["AK","ANIAK AIRPORT",7,12448,930,-12.85,57.2,0.18920000000000001,"61.582N",-30.2,5,13.5,13.7,30.4,44.7,53.9,56.6,53.3,45.2,30.5,15.3,7.8,1396,1022,1124,587,195,17,4,18,164,607,1042,1308,0,0,0,0,30,133,210,121,19,1,0,0,0.9,20.3,13.6,18.5,28,35.96,43.16,41,28.2,20.5,20.5,9.1,0.87301587301587302,0.10018164804315516,100,67,44,49,{"$f":"IF(OR(C23=\"OA\",C23=\"OB\",C23=\"1B\",C23=\"1A\",C23=\"2A\",C23=\"2B\",C23=\"3A\",C23=\"3B\",C23=\"3C\"),TAN((LEFT(I23, 5)+VLOOKUP(C23,Main!$K$3:$L$21,2,FALSE))*PI()/180),IF(Checklist!$I$385=\"No\",TAN((LEFT(I23, 5)+VLOOKUP(C23,Main!$K$3:$L$21,2,FALSE))*PI()/180),\"NR\"))","v":"NR"},{"$f":"VLOOKUP(C23,Main!$A$49:$I$67,Main!$B$47,FALSE)","v":"NR"},{"$f":"VLOOKUP(C23,Main!$A$49:$I$67,Main!$C$47,FALSE)","v":"NR"},{"$f":"VLOOKUP(C23,Main!$A$49:$I$67,Main!$E$47,FALSE)&\":\"&\" \"&VLOOKUP(C23,Main!$A$49:$I$67,Main!$F$47,FALSE)","v":"Minimum COP @ 5°F:: 1.75"},{"$f":"VLOOKUP(C23,Main!$A$49:$I$67,Main!$G$47,FALSE)","v":15},{"$f":"VLOOKUP(C23,Main!$A$49:$I$67,Main!$H$47,FALSE)","v":3.1},{"$f":"VLOOKUP(C23,Main!$A$49:$I$67,Main!$I$47,FALSE)","v":16.100000000000001},514]
["AK","ANNETTE ISLAND AP","5C",6788,926,30.65,65.8,0.18920000000000001,"55.039N",21.6,36.9,37.4,38.6,43.7,49.8,55.2,58.1,58.8,53.8,46.9,40.299999999999997,37.200000000000003,407,353,354,196,61,2,0,0,9,111,293,397,0,0,0,8,56,158,252,273,123,16,2,0,30.7,32.9,29.1,36.32,41.5,46.4,50.54,51.62,49.8,36.700000000000003,36.700000000000003,32.700000000000003,0.74276527331189712,0.21202236719478099,73,45,27,32,{"$f":"IF(OR(C24=\"OA\",C24=\"OB\",C24=\"1B\",C24=\"1A\",C24=\"2A\",C24=\"2B\",C24=\"3A\",C24=\"3B\",C24=\"3C\"),TAN((LEFT(I24, 5)+VLOOKUP(C24,Main!$K$3:$L$21,2,FALSE))*PI()/180),IF(Checklist!$I$385=\"No\",TAN((LEFT(I24, 5)+VLOOKUP(C24,Main!$K$3:$L$21,2,FALSE))*PI()/180),\"NR\"))","v":"NR"},{"$f":"VLOOKUP(C24,Main!$A$49:$I$67,Main!$B$47,FALSE)","v":"NR"},{"$f":"VLOOKUP(C24,Main!$A$49:$I$67,Main!$C$47,FALSE)","v":"NR"},{"$f":"VLOOKUP(C24,Main!$A$49:$I$67,Main!$E$47,FALSE)&\":\"&\" \"&VLOOKUP(C24,Main!$A$49:$I$67,Main!$F$47,FALSE)","v":"Minimum HSPF:: 9.6"},{"$f":"VLOOKUP(C24,Main!$A$49:$I$67,Main!$G$47,FALSE)","v":18},{"$f":"VLOOKUP(C24,Main!$A$49:$I$67,Main!$H$47,FALSE)","v":3.1},{"$f":"VLOOKUP(C24,Main!$A$49:$I$67,Main!$I$47,FALSE)","v":16.100000000000001},888]
["AK","ANVIK",8,12836,941,-5,68,0.18920000000000001,"62.650N",-20.2,4.2,11.1,13,28.8,44.2,54.5,56.5,52.4,45,29.2,12.9,5.4,1419,1090,1148,635,223,21,8,28,165,646,1112,1381,0,0,0,0,41,156,209,104,16,0,0,0,-0.6,12.2,9.1,21.56,27.5,30.74,37.04,33.44,26.6,16.7,16.7,10.4,0.87460815047021945,0.11154011154011152,99,68,42,47,{"$f":"IF(OR(C25=\"OA\",C25=\"OB\",C25=\"1B\",C25=\"1A\",C25=\"2A\",C25=\"2B\",C25=\"3A\",C25=\"3B\",C25=\"3C\"),TAN((LEFT(I25, 5)+VLOOKUP(C25,Main!$K$3:$L$21,2,FALSE))*PI()/180),IF(Checklist!$I$385=\"No\",TAN((LEFT(I25, 5)+VLOOKUP(C25,Main!$K$3:$L$21,2,FALSE))*PI()/180),\"NR\"))","v":"NR"},{"$f":"VLOOKUP(C25,Main!$A$49:$I$67,Main!$B$47,FALSE)","v":"NR"},{"$f":"VLOOKUP(C25,Main!$A$49:$I$67,Main!$C$47,FALSE)","v":"NR"},{"$f":"VLOOKUP(C25,Main!$A$49:$I$67,Main!$E$47,FALSE)&\":\"&\" \"&VLOOKUP(C25,Main!$A$49:$I$67,Main!$F$47,FALSE)","v":"Minimum COP @ 5°F:: 1.75"},{"$f":"VLOOKUP(C25,Main!$A$49:$I$67,Main!$G$47,FALSE)","v":15},{"$f":"VLOOKUP(C25,Main!$A$49:$I$67,Main!$H$47,FALSE)","v":3.1},{"$f":"VLOOKUP(C25,Main!$A$49:$I$67,Main!$I$47,FALSE)","v":16.100000000000001},526]
["AK","BARROW W POST-W ROGERS ARPT [NSA - ARM]",8,19024,712,-24.7,46.8,0.18920000000000001,"71.283N",-34.299999999999997,-13.2,-13.7,-11.9,3.5,22.2,35.799999999999997,41.1,39.6,33.299999999999997,19.899999999999999,3.7,-7.5,1960,1785,1919,1396,861,428,284,329,502,934,1388,1781,0,0,0,0,0,2,9,7,0,0,0,0,-15.7,-20.02,-15.3,-6.52,17.399999999999999,30.38,35.42,35.42,27.9,-9.9,-9.9,-13.7,0.90208078335373321,9.6166547779450995E-2,118,91,63,68,{"$f":"IF(OR(C26=\"OA\",C26=\"OB\",C26=\"1B\",C26=\"1A\",C26=\"2A\",C26=\"2B\",C26=\"3A\",C26=\"3B\",C26=\"3C\"),TAN((LEFT(I26, 5)+VLOOKUP(C26,Main!$K$3:$L$21,2,FALSE))*PI()/180),IF(Checklist!$I$385=\"No\",TAN((LEFT(I26, 5)+VLOOKUP(C26,Main!$K$3:$L$21,2,FALSE))*PI()/180),\"NR\"))","v":"NR"},{"$f":"VLOOKUP(C26,Main!$A$49:$I$67,Main!$B$47,FALSE)","v":"NR"},{"$f":"VLOOKUP(C26,Main!$A$49:$I$67,Main!$C$47,FALSE)","v":"NR"},{"$f":"VLOOKUP(C26,Main!$A$49:$I$67,Main!$E$47,FALSE)&\":\"&\" \"&VLOOKUP(C26,Main!$A$49:$I$67,Main!$F$47,FALSE)","v":"Minimum COP @ 5°F:: 1.75"},{"$f":"VLOOKUP(C26,Main!$A$49:$I$67,Main!$G$47,FALSE)","v":15},{"$f":"VLOOKUP(C26,Main!$A$49:$I$67,Main!$H$47,FALSE)","v":3.1},{"$f":"VLOOKUP(C26,Main!$A$49:$I$67,Main!$I$47,FALSE)","v":16.100000000000001},18]
["AK","BETHEL AIRPORT",7,12543,871,-7,57.9,0.18920000000000001,"60.785N",-22.6,6.1,11.5,13.4,28,42.1,52.6,55.8,53.6,45.7,30.9,17.600000000000001,9.1,1361,1077,1133,660,262,28,7,13,149,591,972,1266,0,0,0,0,19,106,186,126,20,0,0,0,10.6,7.34,9.9,24.08,33.799999999999997,44.24,48.74,49.1,39.200000000000003,13.1,13.1,8.4,0.87075928917609047,0.10858540659865162,99,67,44,49,{"$f":"IF(OR(C27=\"OA\",C27=\"OB\",C27=\"1B\",C27=\"1A\",C27=\"2A\",C27=\"2B\",C27=\"3A\",C27=\"3B\",C27=\"3C\"),TAN((LEFT(I27, 5)+VLOOKUP(C27,Main!$K$3:$L$21,2,FALSE))*PI()/180),IF(Checklist!$I$385=\"No\",TAN((LEFT(I27, 5)+VLOOKUP(C27,Main!$K$3:$L$21,2,FALSE))*PI()/180),\"NR\"))","v":"NR"},{"$f":"VLOOKUP(C27,Main!$A$49:$I$67,Main!$B$47,FALSE)","v":"NR"},{"$f":"VLOOKUP(C27,Main!$A$49:$I$67,Main!$C$47,FALSE)","v":"NR"},{"$f":"VLOOKUP(C27,Main!$A$49:$I$67,Main!$E$47,FALSE)&\":\"&\" \"&VLOOKUP(C27,Main!$A$49:$I$67,Main!$F$47,FALSE)","v":"Minimum COP @ 5°F:: 1.75"},{"$f":"VLOOKUP(C27,Main!$A$49:$I$67,Main!$G$47,FALSE)","v":15},{"$f":"VLOOKUP(C27,Main!$A$49:$I$67,Main!$H$47,FALSE)","v":3.1},{"$f":"VLOOKUP(C27,Main!$A$49:$I$67,Main!$I$47,FALSE)","v":16.100000000000001},457]
["AK","BETTLES FIELD",8,15082,891,-28.2,62.6,0.18920000000000001,"66.914N",-44.9,-11.2,-4.4000000000000004,3.1,24.4,45,58.4,59.4,52.9,41.6,21,-0.2,-6.6,1898,1523,1455,768,214,7,5,39,264,900,1506,1754,0,0,0,0,58,260,296,130,12,0,0,0,-14.3,-14.8,-4.2,12.92,30.4,40.28,47.48,46.04,30.9,-1.3,-1.3,-15.9,0.89898989898989901,8.7137624781557455E-2,111,77,49,54,{"$f":"IF(OR(C28=\"OA\",C28=\"OB\",C28=\"1B\",C28=\"1A\",C28=\"2A\",C28=\"2B\",C28=\"3A\",C28=\"3B\",C28=\"3C\"),TAN((LEFT(I28, 5)+VLOOKUP(C28,Main!$K$3:$L$21,2,FALSE))*PI()/180),IF(Checklist!$I$385=\"No\",TAN((LEFT(I28, 5)+VLOOKUP(C28,Main!$K$3:$L$21,2,FALSE))*PI()/180),\"NR\"))","v":"NR"},{"$f":"VLOOKUP(C28,Main!$A$49:$I$67,Main!$B$47,FALSE)","v":"NR"},{"$f":"VLOOKUP(C28,Main!$A$49:$I$67,Main!$C$47,FALSE)","v":"NR"},{"$f":"VLOOKUP(C28,Main!$A$49:$I$67,Main!$E$47,FALSE)&\":\"&\" \"&VLOOKUP(C28,Main!$A$49:$I$67,Main!$F$47,FALSE)","v":"Minimum COP @ 5°F:: 1.75"},{"$f":"VLOOKUP(C28,Main!$A$49:$I$67,Main!$G$47,FALSE)","v":15},{"$f":"VLOOKUP(C28,Main!$A$49:$I$67,Main!$H$47,FALSE)","v":3.1},{"$f":"VLOOKUP(C28,Main!$A$49:$I$67,Main!$I$47,FALSE)","v":16.100000000000001},756]
["AK","BIG DELTA ALLEN AAF",8,12923,896,-11.95,70.7,0.18920000000000001,"63.994N",-32,-0.4,6.3,14.4,33.299999999999997,47.8,58.1,60.1,55.6,44.5,26.1,7,2,1561,1225,1103,503,140,6,3,18,200,744,1290,1487,0,0,0,1,70,247,316,190,36,2,0,0,-3.3,-3.46,-0.4,16.34,35.4,46.58,44.96,37.94,34.299999999999997,-4.7,-4.7,-2.4,0.88304093567251452,9.8378378378378373E-2,102,69,42,47,{"$f":"IF(OR(C29=\"OA\",C29=\"OB\",C29=\"1B\",C29=\"1A\",C29=\"2A\",C29=\"2B\",C29=\"3A\",C29=\"3B\",C29=\"3C\"),TAN((LEFT(I29, 5)+VLOOKUP(C29,Main!$K$3:$L$21,2,FALSE))*PI()/180),IF(Checklist!$I$385=\"No\",TAN((LEFT(I29, 5)+VLOOKUP(C29,Main!$K$3:$L$21,2,FALSE))*PI()/180),\"NR\"))","v":"NR"},{"$f":"VLOOKUP(C29,Main!$A$49:$I$67,Main!$B$47,FALSE)","v":"NR"},{"$f":"VLOOKUP(C29,Main!$A$49:$I$67,Main!$C$47,FALSE)","v":"NR"},{"$f":"VLOOKUP(C29,Main!$A$49:$I$67,Main!$E$47,FALSE)&\":\"&\" \"&VLOOKUP(C29,Main!$A$49:$I$67,Main!$F$47,FALSE)","v":"Minimum COP @ 5°F:: 1.75"},{"$f":"VLOOKUP(C29,Main!$A$49:$I$67,Main!$G$47,FALSE)","v":15},{"$f":"VLOOKUP(C29,Main!$A$49:$I$67,Main!$H$47,FALSE)","v":3.1},{"$f":"VLOOKUP(C29,Main!$A$49:$I$67,Main!$I$47,FALSE)","v":16.100000000000001},862]
["AK","BIG RIVER LAKE",7,9806,882,6.25,58.6,0.18920000000000001,"60.550N",4.7,22.5,25.6,26.5,35.799999999999997,45.2,49.7,53.9,54.1,49.2,40.1,28.7,25.4,852,683,728,426,161,41,3,1,55,309,639,762,0,0,0,0,13,32,125,128,30,1,0,0,18,13.1,21.6,31.82,33.299999999999997,46.58,50.54,50.18,35.6,14.5,14.5,20.7,0.82417582417582413,0.1554160795866957,85,57,37,42,{"$f":"IF(OR(C30=\"OA\",C30=\"OB\",C30=\"1B\",C30=\"1A\",C30=\"2A\",C30=\"2B\",C30=\"3A\",C30=\"3B\",C30=\"3C\"),TAN((LEFT(I30, 5)+VLOOKUP(C30,Main!$K$3:$L$21,2,FALSE))*PI()/180),IF(Checklist!$I$385=\"No\",TAN((LEFT(I30, 5)+VLOOKUP(C30,Main!$K$3:$L$21,2,FALSE))*PI()/180),\"NR\"))","v":"NR"},{"$f":"VLOOKUP(C30,Main!$A$49:$I$67,Main!$B$47,FALSE)","v":"NR"},{"$f":"VLOOKUP(C30,Main!$A$49:$I$67,Main!$C$47,FALSE)","v":"NR"},{"$f":"VLOOKUP(C30,Main!$A$49:$I$67,Main!$E$47,FALSE)&\":\"&\" \"&VLOOKUP(C30,Main!$A$49:$I$67,Main!$F$47,FALSE)","v":"Minimum COP @ 5°F:: 1.75"},{"$f":"VLOOKUP(C30,Main!$A$49:$I$67,Main!$G$47,FALSE)","v":15},{"$f":"VLOOKUP(C30,Main!$A$49:$I$67,Main!$H$47,FALSE)","v":3.1},{"$f":"VLOOKUP(C30,Main!$A$49:$I$67,Main!$I$47,FALSE)","v":16.100000000000001},329]
["AK","BIRCHWOOD",7,10552,1008,2.75,60.3,0.18920000000000001,"61.416N",-8.5,14.5,19.7,23.9,37,47.6,55.5,58.4,55.9,48.1,34.6,21.1,15.9,1100,850,810,389,109,2,0,2,87,479,866,1058,0,0,0,1,33,166,260,186,30,1,0,0,11.1,24.98,21.2,28.04,32.4,39.380000000000003,47.66,41,34.299999999999997,27.9,27.9,19.8,0.85046728971962615,0.12859918742271684,90,60,38,43,{"$f":"IF(OR(C31=\"OA\",C31=\"OB\",C31=\"1B\",C31=\"1A\",C31=\"2A\",C31=\"2B\",C31=\"3A\",C31=\"3B\",C31=\"3C\"),TAN((LEFT(I31, 5)+VLOOKUP(C31,Main!$K$3:$L$21,2,FALSE))*PI()/180),IF(Checklist!$I$385=\"No\",TAN((LEFT(I31, 5)+VLOOKUP(C31,Main!$K$3:$L$21,2,FALSE))*PI()/180),\"NR\"))","v":"NR"},{"$f":"VLOOKUP(C31,Main!$A$49:$I$67,Main!$B$47,FALSE)","v":"NR"},{"$f":"VLOOKUP(C31,Main!$A$49:$I$67,Main!$C$47,FALSE)","v":"NR"},{"$f":"VLOOKUP(C31,Main!$A$49:$I$67,Main!$E$47,FALSE)&\":\"&\" \"&VLOOKUP(C31,Main!$A$49:$I$67,Main!$F$47,FALSE)","v":"Minimum COP @ 5°F:: 1.75"},{"$f":"VLOOKUP(C31,Main!$A$49:$I$67,Main!$G$47,FALSE)","v":15},{"$f":"VLOOKUP(C31,Main!$A$49:$I$67,Main!$H$47,FALSE)","v":3.1},{"$f":"VLOOKUP(C31,Main!$A$49:$I$67,Main!$I$47,FALSE)","v":16.100000000000001},677]
["AK","COLD BAY ARPT",7,9543,741,21.05,49.5,0.18920000000000001,"55.221N",11.7,28.4,29.3,29.4,34.4,40.4,46.4,50.8,52.1,48,40.700000000000003,34.700000000000003,30.9,669,580,638,469,298,113,23,12,78,288,458,592,0,0,0,0,1,5,49,76,17,1,0,0,26.6,25.52,25.7,27.86,33.799999999999997,41.72,45.5,46.4,44.1,30.4,30.4,28.4,0.79797979797979801,0.17473957083193317,82,56,38,43,{"$f":"IF(OR(C32=\"OA\",C32=\"OB\",C32=\"1B\",C32=\"1A\",C32=\"2A\",C32=\"2B\",C32=\"3A\",C32=\"3B\",C32=\"3C\"),TAN((LEFT(I32, 5)+VLOOKUP(C32,Main!$K$3:$L$21,2,FALSE))*PI()/180),IF(Checklist!$I$385=\"No\",TAN((LEFT(I32, 5)+VLOOKUP(C32,Main!$K$3:$L$21,2,FALSE))*PI()/180),\"NR\"))","v":"NR"},{"$f":"VLOOKUP(C32,Main!$A$49:$I$67,Main!$B$47,FALSE)","v":"NR"},{"$f":"VLOOKUP(C32,Main!$A$49:$I$67,Main!$C$47,FALSE)","v":"NR"},{"$f":"VLOOKUP(C32,Main!$A$49:$I$67,Main!$E$47,FALSE)&\":\"&\" \"&VLOOKUP(C32,Main!$A$49:$I$67,Main!$F$47,FALSE)","v":"Minimum COP @ 5°F:: 1.75"},{"$f":"VLOOKUP(C32,Main!$A$49:$I$67,Main!$G$47,FALSE)","v":15},{"$f":"VLOOKUP(C32,Main!$A$49:$I$67,Main!$H$47,FALSE)","v":3.1},{"$f":"VLOOKUP(C32,Main!$A$49:$I$67,Main!$I$47,FALSE)","v":16.100000000000001},149]
["AK","CORDOVA",7,9182,765,5.45,54.1,0.18920000000000001,"60.49N",1.9,26,28.6,30.9,38.200000000000003,45.5,51.4,54.5,54,48.3,40.200000000000003,31.2,28.6,743,600,593,354,151,24,2,4,76,307,563,662,0,0,0,1,12,66,140,127,24,2,0,0,23.5,26.78,27.1,30.38,35.4,44.42,48.56,46.04,39.6,24.1,24.1,19.8,0.80952380952380953,0.14883264505049679,84,54,36,41,{"$f":"IF(OR(C33=\"OA\",C33=\"OB\",C33=\"1B\",C33=\"1A\",C33=\"2A\",C33=\"2B\",C33=\"3A\",C33=\"3B\",C33=\"3C\"),TAN((LEFT(I33, 5)+VLOOKUP(C33,Main!$K$3:$L$21,2,FALSE))*PI()/180),IF(Checklist!$I$385=\"No\",TAN((LEFT(I33, 5)+VLOOKUP(C33,Main!$K$3:$L$21,2,FALSE))*PI()/180),\"NR\"))","v":"NR"},{"$f":"VLOOKUP(C33,Main!$A$49:$I$67,Main!$B$47,FALSE)","v":"NR"},{"$f":"VLOOKUP(C33,Main!$A$49:$I$67,Main!$C$47,FALSE)","v":"NR"},{"$f":"VLOOKUP(C33,Main!$A$49:$I$67,Main!$E$47,FALSE)&\":\"&\" \"&VLOOKUP(C33,Main!$A$49:$I$67,Main!$F$47,FALSE)","v":"Minimum COP @ 5°F:: 1.75"},{"$f":"VLOOKUP(C33,Main!$A$49:$I$67,Main!$G$47,FALSE)","v":15},{"$f":"VLOOKUP(C33,Main!$A$49:$I$67,Main!$H$47,FALSE)","v":3.1},{"$f":"VLOOKUP(C33,Main!$A$49:$I$67,Main!$I$47,FALSE)","v":16.100000000000001},372]
["AK","DEADHORSE",8,19020,625,-39.299999999999997,57.2,0.18920000000000001,"70.192N",-41.3,-15.9,-16.600000000000001,-14.8,3.2,23.4,40,47.3,43.8,34.5,17.8,0.1,-10,2043,1866,2009,1404,824,318,141,225,467,999,1497,1861,0,0,0,0,0,18,56,33,1,0,0,0,-15.7,-27.76,-23.1,5.18,25.3,35.6,36.86,35.24,32,5.9,5.9,-7.4,0.90543735224586286,9.0007665487994853E-2,120,91,61,66,{"$f":"IF(OR(C34=\"OA\",C34=\"OB\",C34=\"1B\",C34=\"1A\",C34=\"2A\",C34=\"2B\",C34=\"3A\",C34=\"3B\",C34=\"3C\"),TAN((LEFT(I34, 5)+VLOOKUP(C34,Main!$K$3:$L$21,2,FALSE))*PI()/180),IF(Checklist!$I$385=\"No\",TAN((LEFT(I34, 5)+VLOOKUP(C34,Main!$K$3:$L$21,2,FALSE))*PI()/180),\"NR\"))","v":"NR"},{"$f":"VLOOKUP(C34,Main!$A$49:$I$67,Main!$B$47,FALSE)","v":"NR"},{"$f":"VLOOKUP(C34,Main!$A$49:$I$67,Main!$C$47,FALSE)","v":"NR"},{"$f":"VLOOKUP(C34,Main!$A$49:$I$67,Main!$E$47,FALSE)&\":\"&\" \"&VLOOKUP(C34,Main!$A$49:$I$67,Main!$F$47,FALSE)","v":"Minimum COP @ 5°F:: 1.75"},{"$f":"VLOOKUP(C34,Main!$A$49:$I$67,Main!$G$47,FALSE)","v":15},{"$f":"VLOOKUP(C34,Main!$A$49:$I$67,Main!$H$47,FALSE)","v":3.1},{"$f":"VLOOKUP(C34,Main!$A$49:$I$67,Main!$I$47,FALSE)","v":16.100000000000001},108]
["AK","DILLINGHAM (AMOS)",7,11185,799,-2.9,60.8,0.18920000000000001,"59.050N",-14.7,14.5,19.100000000000001,21.3,32.4,43.2,50.8,54.7,53.8,47.1,34.799999999999997,22.4,17.2,1101,864,891,529,227,40,7,11,109,470,827,1016,0,0,0,0,16,63,153,129,22,0,0,0,16.3,28.94,23.9,26.96,29.5,39.200000000000003,45.86,47.66,32.4,18.899999999999999,18.899999999999999,14,0.85046728971962615,0.11895813588679367,93,62,40,45,{"$f":"IF(OR(C35=\"OA\",C35=\"OB\",C35=\"1B\",C35=\"1A\",C35=\"2A\",C35=\"2B\",C35=\"3A\",C35=\"3B\",C35=\"3C\"),TAN((LEFT(I35, 5)+VLOOKUP(C35,Main!$K$3:$L$21,2,FALSE))*PI()/180),IF(Checklist!$I$385=\"No\",TAN((LEFT(I35, 5)+VLOOKUP(C35,Main!$K$3:$L$21,2,FALSE))*PI()/180),\"NR\"))","v":"NR"},{"$f":"VLOOKUP(C35,Main!$A$49:$I$67,Main!$B$47,FALSE)","v":"NR"},{"$f":"VLOOKUP(C35,Main!$A$49:$I$67,Main!$C$47,FALSE)","v":"NR"},{"$f":"VLOOKUP(C35,Main!$A$49:$I$67,Main!$E$47,FALSE)&\":\"&\" \"&VLOOKUP(C35,Main!$A$49:$I$67,Main!$F$47,FALSE)","v":"Minimum COP @ 5°F:: 1.75"},{"$f":"VLOOKUP(C35,Main!$A$49:$I$67,Main!$G$47,FALSE)","v":15},{"$f":"VLOOKUP(C35,Main!$A$49:$I$67,Main!$H$47,FALSE)","v":3.1},{"$f":"VLOOKUP(C35,Main!$A$49:$I$67,Main!$I$47,FALSE)","v":16.100000000000001},383]
["AK","DUTCH HARBOR",7,8665,664,21.65,55.6,0.18920000000000001,"53.895N",21.2,33.299999999999997,33.799999999999997,33.799999999999997,36.6,41.1,46.4,51.1,53,49.1,43,38.200000000000003,35.1,517,453,503,401,274,113,21,8,55,220,353,462,0,0,0,0,0,6,55,100,27,1,0,0,29.7,26.78,23.9,29.66,31.5,36.5,44.42,46.58,38.5,31.1,31.1,24.6,0.76945244956772341,0.21021021021021019,78,53,34,39,{"$f":"IF(OR(C36=\"OA\",C36=\"OB\",C36=\"1B\",C36=\"1A\",C36=\"2A\",C36=\"2B\",C36=\"3A\",C36=\"3B\",C36=\"3C\"),TAN((LEFT(I36, 5)+VLOOKUP(C36,Main!$K$3:$L$21,2,FALSE))*PI()/180),IF(Checklist!$I$385=\"No\",TAN((LEFT(I36, 5)+VLOOKUP(C36,Main!$K$3:$L$21,2,FALSE))*PI()/180),\"NR\"))","v":"NR"},{"$f":"VLOOKUP(C36,Main!$A$49:$I$67,Main!$B$47,FALSE)","v":"NR"},{"$f":"VLOOKUP(C36,Main!$A$49:$I$67,Main!$C$47,FALSE)","v":"NR"},{"$f":"VLOOKUP(C36,Main!$A$49:$I$67,Main!$E$47,FALSE)&\":\"&\" \"&VLOOKUP(C36,Main!$A$49:$I$67,Main!$F$47,FALSE)","v":"Minimum COP @ 5°F:: 1.75"},{"$f":"VLOOKUP(C36,Main!$A$49:$I$67,Main!$G$47,FALSE)","v":15},{"$f":"VLOOKUP(C36,Main!$A$49:$I$67,Main!$H$47,FALSE)","v":3.1},{"$f":"VLOOKUP(C36,Main!$A$49:$I$67,Main!$I$47,FALSE)","v":16.100000000000001},189]
["AK","EMMONAK",8,13152,793,-20.5,59.9,0.18920000000000001,"62.785N",-19.600000000000001,7.6,10.3,10.199999999999999,21.7,36.299999999999997,49.6,53,52.2,44.9,32,19.600000000000001,9.1999999999999993,1315,1113,1234,849,430,71,18,29,162,559,913,1266,0,0,0,0,6,59,111,96,11,0,0,0,4.5999999999999996,8.9600000000000009,18.7,24.98,33.1,40.64,44.24,43.34,34.5,22.1,22.1,14.4,0.86754966887417218,0.11230408490682463,99,69,45,50,{"$f":"IF(OR(C37=\"OA\",C37=\"OB\",C37=\"1B\",C37=\"1A\",C37=\"2A\",C37=\"2B\",C37=\"3A\",C37=\"3B\",C37=\"3C\"),TAN((LEFT(I37, 5)+VLOOKUP(C37,Main!$K$3:$L$21,2,FALSE))*PI()/180),IF(Checklist!$I$385=\"No\",TAN((LEFT(I37, 5)+VLOOKUP(C37,Main!$K$3:$L$21,2,FALSE))*PI()/180),\"NR\"))","v":"NR"},{"$f":"VLOOKUP(C37,Main!$A$49:$I$67,Main!$B$47,FALSE)","v":"NR"},{"$f":"VLOOKUP(C37,Main!$A$49:$I$67,Main!$C$47,FALSE)","v":"NR"},{"$f":"VLOOKUP(C37,Main!$A$49:$I$67,Main!$E$47,FALSE)&\":\"&\" \"&VLOOKUP(C37,Main!$A$49:$I$67,Main!$F$47,FALSE)","v":"Minimum COP @ 5°F:: 1.75"},{"$f":"VLOOKUP(C37,Main!$A$49:$I$67,Main!$G$47,FALSE)","v":15},{"$f":"VLOOKUP(C37,Main!$A$49:$I$67,Main!$H$47,FALSE)","v":3.1},{"$f":"VLOOKUP(C37,Main!$A$49:$I$67,Main!$I$47,FALSE)","v":16.100000000000001},283]
["AK","FAIRBANKS INTL ARPT",8,13577,935,-17.3,64.2,0.18920000000000001,"64.804N",-38.6,-8.5,-0.8,10.6,33.5,50,61,62.6,56.9,45.5,25.3,3.1,-5.0999999999999996,1814,1423,1221,497,101,1,0,9,171,767,1408,1707,0,0,0,2,101,331,392,223,37,1,0,0,-3.8,-2.02,1.2,16.16,29.3,43.52,49.82,45.68,35.200000000000003,-4.5,-4.5,-7.4,0.89542483660130723,9.228740936058008E-2,105,71,45,50,{"$f":"IF(OR(C38=\"OA\",C38=\"OB\",C38=\"1B\",C38=\"1A\",C38=\"2A\",C38=\"2B\",C38=\"3A\",C38=\"3B\",C38=\"3C\"),TAN((LEFT(I38, 5)+VLOOKUP(C38,Main!$K$3:$L$21,2,FALSE))*PI()/180),IF(Checklist!$I$385=\"No\",TAN((LEFT(I38, 5)+VLOOKUP(C38,Main!$K$3:$L$21,2,FALSE))*PI()/180),\"NR\"))","v":"NR"},{"$f":"VLOOKUP(C38,Main!$A$49:$I$67,Main!$B$47,FALSE)","v":"NR"},{"$f":"VLOOKUP(C38,Main!$A$49:$I$67,Main!$C$47,FALSE)","v":"NR"},{"$f":"VLOOKUP(C38,Main!$A$49:$I$67,Main!$E$47,FALSE)&\":\"&\" \"&VLOOKUP(C38,Main!$A$49:$I$67,Main!$F$47,FALSE)","v":"Minimum COP @ 5°F:: 1.75"},{"$f":"VLOOKUP(C38,Main!$A$49:$I$67,Main!$G$47,FALSE)","v":15},{"$f":"VLOOKUP(C38,Main!$A$49:$I$67,Main!$H$47,FALSE)","v":3.1},{"$f":"VLOOKUP(C38,Main!$A$49:$I$67,Main!$I$47,FALSE)","v":16.100000000000001},1087]
["AK","FAIRBANKS/EIELSON A",8,13748,849,-16,63.5,0.18920000000000001,"64.683N",-39.6,-8.1999999999999993,-1.5,12.6,33.9,49.2,59.8,62,56.3,45,23,2.4,-6.5,1804,1441,1158,485,113,1,0,10,186,838,1428,1752,0,0,0,1,90,295,372,206,35,0,0,0,5,9.32,12.4,16.34,28.8,39.74,47.12,44.06,31.3,16,16,-0.9,0.89501312335958005,9.1429719682507779E-2,106,72,45,50,{"$f":"IF(OR(C39=\"OA\",C39=\"OB\",C39=\"1B\",C39=\"1A\",C39=\"2A\",C39=\"2B\",C39=\"3A\",C39=\"3B\",C39=\"3C\"),TAN((LEFT(I39, 5)+VLOOKUP(C39,Main!$K$3:$L$21,2,FALSE))*PI()/180),IF(Checklist!$I$385=\"No\",TAN((LEFT(I39, 5)+VLOOKUP(C39,Main!$K$3:$L$21,2,FALSE))*PI()/180),\"NR\"))","v":"NR"},{"$f":"VLOOKUP(C39,Main!$A$49:$I$67,Main!$B$47,FALSE)","v":"NR"},{"$f":"VLOOKUP(C39,Main!$A$49:$I$67,Main!$C$47,FALSE)","v":"NR"},{"$f":"VLOOKUP(C39,Main!$A$49:$I$67,Main!$E$47,FALSE)&\":\"&\" \"&VLOOKUP(C39,Main!$A$49:$I$67,Main!$F$47,FALSE)","v":"Minimum COP @ 5°F:: 1.75"},{"$f":"VLOOKUP(C39,Main!$A$49:$I$67,Main!$G$47,FALSE)","v":15},{"$f":"VLOOKUP(C39,Main!$A$49:$I$67,Main!$H$47,FALSE)","v":3.1},{"$f":"VLOOKUP(C39,Main!$A$49:$I$67,Main!$I$47,FALSE)","v":16.100000000000001},999]
["AK","FORT YUKON",8,15593,936,-30.75,61.9,0.18920000000000001,"66.567N",-50.7,-17.399999999999999,-11,1,25.5,46.1,59.7,61.8,54.8,42.3,19.7,-5,-11,2090,1707,1518,735,183,4,2,24,247,940,1649,1892,0,0,0,0,61,294,367,174,15,0,0,0,-12.8,-18.760000000000002,-6.2,10.220000000000001,29.8,39.020000000000003,42.44,37.4,30.9,6.1,6.1,-24.2,0.90632318501170961,8.2879846991051692E-2,113,79,50,55,{"$f":"IF(OR(C40=\"OA\",C40=\"OB\",C40=\"1B\",C40=\"1A\",C40=\"2A\",C40=\"2B\",C40=\"3A\",C40=\"3B\",C40=\"3C\"),TAN((LEFT(I40, 5)+VLOOKUP(C40,Main!$K$3:$L$21,2,FALSE))*PI()/180),IF(Checklist!$I$385=\"No\",TAN((LEFT(I40, 5)+VLOOKUP(C40,Main!$K$3:$L$21,2,FALSE))*PI()/180),\"NR\"))","v":"NR"},{"$f":"VLOOKUP(C40,Main!$A$49:$I$67,Main!$B$47,FALSE)","v":"NR"},{"$f":"VLOOKUP(C40,Main!$A$49:$I$67,Main!$C$47,FALSE)","v":"NR"},{"$f":"VLOOKUP(C40,Main!$A$49:$I$67,Main!$E$47,FALSE)&\":\"&\" \"&VLOOKUP(C40,Main!$A$49:$I$67,Main!$F$47,FALSE)","v":"Minimum COP @ 5°F:: 1.75"},{"$f":"VLOOKUP(C40,Main!$A$49:$I$67,Main!$G$47,FALSE)","v":15},{"$f":"VLOOKUP(C40,Main!$A$49:$I$67,Main!$H$47,FALSE)","v":3.1},{"$f":"VLOOKUP(C40,Main!$A$49:$I$67,Main!$I$47,FALSE)","v":16.100000000000001},911]
["AK","GAMBELL",8,14042,680,-4,46,0.18920000000000001,"63.767N",-11.4,6.7,9,8.4,18.5,30.7,39.299999999999997,46.1,46.9,41.8,33.1,25.1,11.6,1343,1148,1289,944,598,321,126,104,248,525,747,1190,0,0,0,0,0,0,5,10,1,0,0,0,7.3,7.34,11.7,2.66,29.5,34.520000000000003,32,34.159999999999997,32.5,21.9,21.9,9.6999999999999993,0.86949429037520387,0.12390223977125739,99,73,51,56,{"$f":"IF(OR(C41=\"OA\",C41=\"OB\",C41=\"1B\",C41=\"1A\",C41=\"2A\",C41=\"2B\",C41=\"3A\",C41=\"3B\",C41=\"3C\"),TAN((LEFT(I41, 5)+VLOOKUP(C41,Main!$K$3:$L$21,2,FALSE))*PI()/180),IF(Checklist!$I$385=\"No\",TAN((LEFT(I41, 5)+VLOOKUP(C41,Main!$K$3:$L$21,2,FALSE))*PI()/180),\"NR\"))","v":"NR"},{"$f":"VLOOKUP(C41,Main!$A$49:$I$67,Main!$B$47,FALSE)","v":"NR"},{"$f":"VLOOKUP(C41,Main!$A$49:$I$67,Main!$C$47,FALSE)","v":"NR"},{"$f":"VLOOKUP(C41,Main!$A$49:$I$67,Main!$E$47,FALSE)&\":\"&\" \"&VLOOKUP(C41,Main!$A$49:$I$67,Main!$F$47,FALSE)","v":"Minimum COP @ 5°F:: 1.75"},{"$f":"VLOOKUP(C41,Main!$A$49:$I$67,Main!$G$47,FALSE)","v":15},{"$f":"VLOOKUP(C41,Main!$A$49:$I$67,Main!$H$47,FALSE)","v":3.1},{"$f":"VLOOKUP(C41,Main!$A$49:$I$67,Main!$I$47,FALSE)","v":16.100000000000001},16]
["AK","GULKANA INTERMEDIATE FIELD",7,13429,922,-22.9,61.9,0.18920000000000001,"62.159N",-33.200000000000003,-1.3,5.7,14.7,32,45.5,54.7,57.3,53.5,43.2,27.3,5.6,-0.8,1590,1242,1095,540,169,14,2,23,217,703,1332,1576,0,0,0,0,28,157,228,131,12,1,0,0,-7.8,-0.04,5.9,17.239999999999998,26.8,39.92,43.88,40.46,32,3.6,3.6,-4,0.88455988455988455,9.721183634227111E-2,103,70,45,50,{"$f":"IF(OR(C42=\"OA\",C42=\"OB\",C42=\"1B\",C42=\"1A\",C42=\"2A\",C42=\"2B\",C42=\"3A\",C42=\"3B\",C42=\"3C\"),TAN((LEFT(I42, 5)+VLOOKUP(C42,Main!$K$3:$L$21,2,FALSE))*PI()/180),IF(Checklist!$I$385=\"No\",TAN((LEFT(I42, 5)+VLOOKUP(C42,Main!$K$3:$L$21,2,FALSE))*PI()/180),\"NR\"))","v":"NR"},{"$f":"VLOOKUP(C42,Main!$A$49:$I$67,Main!$B$47,FALSE)","v":"NR"},{"$f":"VLOOKUP(C42,Main!$A$49:$I$67,Main!$C$47,FALSE)","v":"NR"},{"$f":"VLOOKUP(C42,Main!$A$49:$I$67,Main!$E$47,FALSE)&\":\"&\" \"&VLOOKUP(C42,Main!$A$49:$I$67,Main!$F$47,FALSE)","v":"Minimum COP @ 5°F:: 1.75"},{"$f":"VLOOKUP(C42,Main!$A$49:$I$67,Main!$G$47,FALSE)","v":15},{"$f":"VLOOKUP(C42,Main!$A$49:$I$67,Main!$H$47,FALSE)","v":3.1},{"$f":"VLOOKUP(C42,Main!$A$49:$I$67,Main!$I$47,FALSE)","v":16.100000000000001},557]
["AK","GUSTAVUS","6B",8573,951,-0.5,56.7,0.18920000000000001,"58.411N",5.3,28.1,30.1,32.700000000000003,39.6,46.7,52.7,55.8,55.6,50.1,42.4,33.299999999999997,30.3,678,558,538,312,123,10,0,1,43,237,500,610,0,0,0,1,20,91,179,175,45,2,0,0,27.9,27.5,26.2,28.76,24.1,44.6,49.46,45.32,41,19.8,19.8,18,0.79949874686716793,0.15690331479805161,81,52,34,39,{"$f":"IF(OR(C43=\"OA\",C43=\"OB\",C43=\"1B\",C43=\"1A\",C43=\"2A\",C43=\"2B\",C43=\"3A\",C43=\"3B\",C43=\"3C\"),TAN((LEFT(I43, 5)+VLOOKUP(C43,Main!$K$3:$L$21,2,FALSE))*PI()/180),IF(Checklist!$I$385=\"No\",TAN((LEFT(I43, 5)+VLOOKUP(C43,Main!$K$3:$L$21,2,FALSE))*PI()/180),\"NR\"))","v":"NR"},{"$f":"VLOOKUP(C43,Main!$A$49:$I$67,Main!$B$47,FALSE)","v":"NR"},{"$f":"VLOOKUP(C43,Main!$A$49:$I$67,Main!$C$47,FALSE)","v":"NR"},{"$f":"VLOOKUP(C43,Main!$A$49:$I$67,Main!$E$47,FALSE)&\":\"&\" \"&VLOOKUP(C43,Main!$A$49:$I$67,Main!$F$47,FALSE)","v":"Minimum COP @ 5°F:: 1.75"},{"$f":"VLOOKUP(C43,Main!$A$49:$I$67,Main!$G$47,FALSE)","v":15},{"$f":"VLOOKUP(C43,Main!$A$49:$I$67,Main!$H$47,FALSE)","v":3.1},{"$f":"VLOOKUP(C43,Main!$A$49:$I$67,Main!$I$47,FALSE)","v":16.100000000000001},513]
["AK","HOMER ARPT",7,9502,868,11.9,56.8,0.18920000000000001,"59.642N",4,24.7,26.6,29,37.5,44.8,50.9,54.9,54.2,48.7,39.299999999999997,29.6,26.6,785,654,651,374,171,27,2,5,74,334,613,726,0,0,0,0,9,54,153,134,35,3,0,0,20.5,11.66,20.8,31.46,37.200000000000003,42.98,48.56,49.1,45,17.2,17.2,17.2,0.81524249422632789,0.1537162162162162,84,56,36,41,{"$f":"IF(OR(C44=\"OA\",C44=\"OB\",C44=\"1B\",C44=\"1A\",C44=\"2A\",C44=\"2B\",C44=\"3A\",C44=\"3B\",C44=\"3C\"),TAN((LEFT(I44, 5)+VLOOKUP(C44,Main!$K$3:$L$21,2,FALSE))*PI()/180),IF(Checklist!$I$385=\"No\",TAN((LEFT(I44, 5)+VLOOKUP(C44,Main!$K$3:$L$21,2,FALSE))*PI()/180),\"NR\"))","v":"NR"},{"$f":"VLOOKUP(C44,Main!$A$49:$I$67,Main!$B$47,FALSE)","v":"NR"},{"$f":"VLOOKUP(C44,Main!$A$49:$I$67,Main!$C$47,FALSE)","v":"NR"},{"$f":"VLOOKUP(C44,Main!$A$49:$I$67,Main!$E$47,FALSE)&\":\"&\" \"&VLOOKUP(C44,Main!$A$49:$I$67,Main!$F$47,FALSE)","v":"Minimum COP @ 5°F:: 1.75"},{"$f":"VLOOKUP(C44,Main!$A$49:$I$67,Main!$G$47,FALSE)","v":15},{"$f":"VLOOKUP(C44,Main!$A$49:$I$67,Main!$H$47,FALSE)","v":3.1},{"$f":"VLOOKUP(C44,Main!$A$49:$I$67,Main!$I$47,FALSE)","v":16.100000000000001},388]
["AK","HOOPER BAY",8,12683,851,1.65,52.9,0.18920000000000001,"61.524N",-11.3,11.6,15,12.3,25.1,35,45.7,50.7,51.4,45.7,33.299999999999997,23.4,13.3,1194,981,1169,751,467,153,45,34,152,522,799,1139,3,0,0,3,4,23,66,77,23,3,0,0,4.8,6.08,20.100000000000001,21.38,32.4,35.78,44.06,43.52,36,25.3,25.3,9.1,0.85815602836879434,0.12405848471422241,96,68,45,50,{"$f":"IF(OR(C45=\"OA\",C45=\"OB\",C45=\"1B\",C45=\"1A\",C45=\"2A\",C45=\"2B\",C45=\"3A\",C45=\"3B\",C45=\"3C\"),TAN((LEFT(I45, 5)+VLOOKUP(C45,Main!$K$3:$L$21,2,FALSE))*PI()/180),IF(Checklist!$I$385=\"No\",TAN((LEFT(I45, 5)+VLOOKUP(C45,Main!$K$3:$L$21,2,FALSE))*PI()/180),\"NR\"))","v":"NR"},{"$f":"VLOOKUP(C45,Main!$A$49:$I$67,Main!$B$47,FALSE)","v":"NR"},{"$f":"VLOOKUP(C45,Main!$A$49:$I$67,Main!$C$47,FALSE)","v":"NR"},{"$f":"VLOOKUP(C45,Main!$A$49:$I$67,Main!$E$47,FALSE)&\":\"&\" \"&VLOOKUP(C45,Main!$A$49:$I$67,Main!$F$47,FALSE)","v":"Minimum COP @ 5°F:: 1.75"},{"$f":"VLOOKUP(C45,Main!$A$49:$I$67,Main!$G$47,FALSE)","v":15},{"$f":"VLOOKUP(C45,Main!$A$49:$I$67,Main!$H$47,FALSE)","v":3.1},{"$f":"VLOOKUP(C45,Main!$A$49:$I$67,Main!$I$47,FALSE)","v":16.100000000000001},202]
["AK","HYDABURG SEAPLANE","5C",6984,940,21.1,133.69999999999999,0.18920000000000001,"55.206N",21.3,36.5,37.4,38.4,42.6,47.5,53.1,56.6,57.3,53.3,47.7,41.1,38.299999999999997,417,352,359,227,98,6,0,0,15,104,268,363,0,0,0,4,22,101,206,226,112,33,1,0,27.7,26.96,23.4,32.36,34.299999999999997,42.26,48.74,46.58,39.200000000000003,32.9,32.9,30.2,0.74603174603174605,0.21066033913999652,73,46,15,20,{"$f":"IF(OR(C46=\"OA\",C46=\"OB\",C46=\"1B\",C46=\"1A\",C46=\"2A\",C46=\"2B\",C46=\"3A\",C46=\"3B\",C46=\"3C\"),TAN((LEFT(I46, 5)+VLOOKUP(C46,Main!$K$3:$L$21,2,FALSE))*PI()/180),IF(Checklist!$I$385=\"No\",TAN((LEFT(I46, 5)+VLOOKUP(C46,Main!$K$3:$L$21,2,FALSE))*PI()/180),\"NR\"))","v":"NR"},{"$f":"VLOOKUP(C46,Main!$A$49:$I$67,Main!$B$47,FALSE)","v":"NR"},{"$f":"VLOOKUP(C46,Main!$A$49:$I$67,Main!$C$47,FALSE)","v":"NR"},{"$f":"VLOOKUP(C46,Main!$A$49:$I$67,Main!$E$47,FALSE)&\":\"&\" \"&VLOOKUP(C46,Main!$A$49:$I$67,Main!$F$47,FALSE)","v":"Minimum HSPF:: 9.6"},{"$f":"VLOOKUP(C46,Main!$A$49:$I$67,Main!$G$47,FALSE)","v":18},{"$f":"VLOOKUP(C46,Main!$A$49:$I$67,Main!$H$47,FALSE)","v":3.1},{"$f":"VLOOKUP(C46,Main!$A$49:$I$67,Main!$I$47,FALSE)","v":16.100000000000001},705]
["AK","ILIAMNA ARPT",7,10628,945,3.2,61.9,0.18920000000000001,"59.749N",-14.6,16.8,21.7,21.9,33.6,44.1,51.6,55.7,55,48.5,36.299999999999997,24.8,19.8,1030,792,870,494,196,27,3,5,77,426,757,935,0,0,0,0,15,75,178,161,32,1,0,0,23.2,26.6,24.3,24.26,29.5,40.46,48.2,47.66,36.9,21,21,19.600000000000001,0.84375,0.11910215300045808,92,60,38,43,{"$f":"IF(OR(C47=\"OA\",C47=\"OB\",C47=\"1B\",C47=\"1A\",C47=\"2A\",C47=\"2B\",C47=\"3A\",C47=\"3B\",C47=\"3C\"),TAN((LEFT(I47, 5)+VLOOKUP(C47,Main!$K$3:$L$21,2,FALSE))*PI()/180),IF(Checklist!$I$385=\"No\",TAN((LEFT(I47, 5)+VLOOKUP(C47,Main!$K$3:$L$21,2,FALSE))*PI()/180),\"NR\"))","v":"NR"},{"$f":"VLOOKUP(C47,Main!$A$49:$I$67,Main!$B$47,FALSE)","v":"NR"},{"$f":"VLOOKUP(C47,Main!$A$49:$I$67,Main!$C$47,FALSE)","v":"NR"},{"$f":"VLOOKUP(C47,Main!$A$49:$I$67,Main!$E$47,FALSE)&\":\"&\" \"&VLOOKUP(C47,Main!$A$49:$I$67,Main!$F$47,FALSE)","v":"Minimum COP @ 5°F:: 1.75"},{"$f":"VLOOKUP(C47,Main!$A$49:$I$67,Main!$G$47,FALSE)","v":15},{"$f":"VLOOKUP(C47,Main!$A$49:$I$67,Main!$H$47,FALSE)","v":3.1},{"$f":"VLOOKUP(C47,Main!$A$49:$I$67,Main!$I$47,FALSE)","v":16.100000000000001},462]
["AK","JUNEAU INT ARPT","6A",8377,850,10.95,59.5,0.18920000000000001,"58.357N",8.9,28.1,30.2,33,40.799999999999997,48.7,54.6,56.9,56,50.2,42.2,33.5,29.7,679,554,528,278,86,6,1,1,38,242,496,628,0,0,0,3,44,146,213,188,43,1,0,0,20.5,21.02,23.4,36.5,42.4,48.02,52.16,49.46,47.7,23,23,25.3,0.79949874686716793,0.16646087712077556,80,51,32,37,{"$f":"IF(OR(C48=\"OA\",C48=\"OB\",C48=\"1B\",C48=\"1A\",C48=\"2A\",C48=\"2B\",C48=\"3A\",C48=\"3B\",C48=\"3C\"),TAN((LEFT(I48, 5)+VLOOKUP(C48,Main!$K$3:$L$21,2,FALSE))*PI()/180),IF(Checklist!$I$385=\"No\",TAN((LEFT(I48, 5)+VLOOKUP(C48,Main!$K$3:$L$21,2,FALSE))*PI()/180),\"NR\"))","v":"NR"},{"$f":"VLOOKUP(C48,Main!$A$49:$I$67,Main!$B$47,FALSE)","v":"NR"},{"$f":"VLOOKUP(C48,Main!$A$49:$I$67,Main!$C$47,FALSE)","v":"NR"},{"$f":"VLOOKUP(C48,Main!$A$49:$I$67,Main!$E$47,FALSE)&\":\"&\" \"&VLOOKUP(C48,Main!$A$49:$I$67,Main!$F$47,FALSE)","v":"Minimum COP @ 5°F:: 1.75"},{"$f":"VLOOKUP(C48,Main!$A$49:$I$67,Main!$G$47,FALSE)","v":15},{"$f":"VLOOKUP(C48,Main!$A$49:$I$67,Main!$H$47,FALSE)","v":3.1},{"$f":"VLOOKUP(C48,Main!$A$49:$I$67,Main!$I$47,FALSE)","v":16.100000000000001},638]
["AK","KAKE SEAPLANE BASE",8,8025,910,14.7,60.4,0.18920000000000001,"56.967N",16.3,32.4,33.299999999999997,34.799999999999997,40.5,46.8,52.5,55.7,55.5,50.8,43.6,36.5,33.200000000000003,545,468,472,287,119,11,0,1,29,204,405,520,0,0,0,1,21,85,176,172,54,4,0,0,23.4,27.68,26.2,31.82,34.200000000000003,44.6,46.58,46.94,42.6,28.6,28.6,26.4,0.7752808988764045,0.19028699879763705,77,50,31,36,{"$f":"IF(OR(C49=\"OA\",C49=\"OB\",C49=\"1B\",C49=\"1A\",C49=\"2A\",C49=\"2B\",C49=\"3A\",C49=\"3B\",C49=\"3C\"),TAN((LEFT(I49, 5)+VLOOKUP(C49,Main!$K$3:$L$21,2,FALSE))*PI()/180),IF(Checklist!$I$385=\"No\",TAN((LEFT(I49, 5)+VLOOKUP(C49,Main!$K$3:$L$21,2,FALSE))*PI()/180),\"NR\"))","v":"NR"},{"$f":"VLOOKUP(C49,Main!$A$49:$I$67,Main!$B$47,FALSE)","v":"NR"},{"$f":"VLOOKUP(C49,Main!$A$49:$I$67,Main!$C$47,FALSE)","v":"NR"},{"$f":"VLOOKUP(C49,Main!$A$49:$I$67,Main!$E$47,FALSE)&\":\"&\" \"&VLOOKUP(C49,Main!$A$49:$I$67,Main!$F$47,FALSE)","v":"Minimum COP @ 5°F:: 1.75"},{"$f":"VLOOKUP(C49,Main!$A$49:$I$67,Main!$G$47,FALSE)","v":15},{"$f":"VLOOKUP(C49,Main!$A$49:$I$67,Main!$H$47,FALSE)","v":3.1},{"$f":"VLOOKUP(C49,Main!$A$49:$I$67,Main!$I$47,FALSE)","v":16.100000000000001},513]
["AK","KENAI MUNICIPAL AP",7,10721,957,4.75,55.9,0.18920000000000001,"60.580N",-15.9,15.1,19.5,23.9,36.1,45.6,52.2,55.9,54.7,47.9,35.5,22.4,17.7,1081,855,808,418,152,16,1,5,97,452,827,1001,0,0,0,0,17,80,183,151,33,2,0,0,24.1,27.86,20.8,28.22,31.6,43.16,48.38,44.78,36,16.899999999999999,16.899999999999999,22.6,0.84877126654064272,0.11725670843668458,92,60,39,44,{"$f":"IF(OR(C50=\"OA\",C50=\"OB\",C50=\"1B\",C50=\"1A\",C50=\"2A\",C50=\"2B\",C50=\"3A\",C50=\"3B\",C50=\"3C\"),TAN((LEFT(I50, 5)+VLOOKUP(C50,Main!$K$3:$L$21,2,FALSE))*PI()/180),IF(Checklist!$I$385=\"No\",TAN((LEFT(I50, 5)+VLOOKUP(C50,Main!$K$3:$L$21,2,FALSE))*PI()/180),\"NR\"))","v":"NR"},{"$f":"VLOOKUP(C50,Main!$A$49:$I$67,Main!$B$47,FALSE)","v":"NR"},{"$f":"VLOOKUP(C50,Main!$A$49:$I$67,Main!$C$47,FALSE)","v":"NR"},{"$f":"VLOOKUP(C50,Main!$A$49:$I$67,Main!$E$47,FALSE)&\":\"&\" \"&VLOOKUP(C50,Main!$A$49:$I$67,Main!$F$47,FALSE)","v":"Minimum COP @ 5°F:: 1.75"},{"$f":"VLOOKUP(C50,Main!$A$49:$I$67,Main!$G$47,FALSE)","v":15},{"$f":"VLOOKUP(C50,Main!$A$49:$I$67,Main!$H$47,FALSE)","v":3.1},{"$f":"VLOOKUP(C50,Main!$A$49:$I$67,Main!$I$47,FALSE)","v":16.100000000000001},466]
["AK","KETCHIKAN INTL AP","5C",7133,901,14.65,65.5,0.18920000000000001,"55.357N",18.899999999999999,34.9,35.9,37.5,42.9,49.2,54.7,58.1,58.5,53.2,45.7,39,35.700000000000003,467,395,388,217,72,4,0,0,14,143,331,442,0,0,0,3,46,145,251,262,110,10,0,0,27,24.44,21.4,32.36,39.200000000000003,47.48,51.62,57.02,47.1,27.7,27.7,20.7,0.7583081570996979,0.20036329608631032,74,47,28,33,{"$f":"IF(OR(C51=\"OA\",C51=\"OB\",C51=\"1B\",C51=\"1A\",C51=\"2A\",C51=\"2B\",C51=\"3A\",C51=\"3B\",C51=\"3C\"),TAN((LEFT(I51, 5)+VLOOKUP(C51,Main!$K$3:$L$21,2,FALSE))*PI()/180),IF(Checklist!$I$385=\"No\",TAN((LEFT(I51, 5)+VLOOKUP(C51,Main!$K$3:$L$21,2,FALSE))*PI()/180),\"NR\"))","v":"NR"},{"$f":"VLOOKUP(C51,Main!$A$49:$I$67,Main!$B$47,FALSE)","v":"NR"},{"$f":"VLOOKUP(C51,Main!$A$49:$I$67,Main!$C$47,FALSE)","v":"NR"},{"$f":"VLOOKUP(C51,Main!$A$49:$I$67,Main!$E$47,FALSE)&\":\"&\" \"&VLOOKUP(C51,Main!$A$49:$I$67,Main!$F$47,FALSE)","v":"Minimum HSPF:: 9.6"},{"$f":"VLOOKUP(C51,Main!$A$49:$I$67,Main!$G$47,FALSE)","v":18},{"$f":"VLOOKUP(C51,Main!$A$49:$I$67,Main!$H$47,FALSE)","v":3.1},{"$f":"VLOOKUP(C51,Main!$A$49:$I$67,Main!$I$47,FALSE)","v":16.100000000000001},827]
["AK","KING SALMON ARPT",7,10861,845,-5.65,60.3,0.18920000000000001,"58.683N",-19.100000000000001,15.8,19.8,22.1,34.799999999999997,44.5,51.5,55.4,54.8,47.8,34.700000000000003,23.3,17.399999999999999,1059,844,865,455,185,30,4,7,101,477,802,1011,0,0,0,1,15,76,173,154,36,1,0,0,16.5,12.56,13.3,28.22,34.700000000000003,43.16,49.28,46.94,41.5,18.899999999999999,18.899999999999999,18,0.84674329501915713,0.11294876966518758,93,61,39,44,{"$f":"IF(OR(C52=\"OA\",C52=\"OB\",C52=\"1B\",C52=\"1A\",C52=\"2A\",C52=\"2B\",C52=\"3A\",C52=\"3B\",C52=\"3C\"),TAN((LEFT(I52, 5)+VLOOKUP(C52,Main!$K$3:$L$21,2,FALSE))*PI()/180),IF(Checklist!$I$385=\"No\",TAN((LEFT(I52, 5)+VLOOKUP(C52,Main!$K$3:$L$21,2,FALSE))*PI()/180),\"NR\"))","v":"NR"},{"$f":"VLOOKUP(C52,Main!$A$49:$I$67,Main!$B$47,FALSE)","v":"NR"},{"$f":"VLOOKUP(C52,Main!$A$49:$I$67,Main!$C$47,FALSE)","v":"NR"},{"$f":"VLOOKUP(C52,Main!$A$49:$I$67,Main!$E$47,FALSE)&\":\"&\" \"&VLOOKUP(C52,Main!$A$49:$I$67,Main!$F$47,FALSE)","v":"Minimum COP @ 5°F:: 1.75"},{"$f":"VLOOKUP(C52,Main!$A$49:$I$67,Main!$G$47,FALSE)","v":15},{"$f":"VLOOKUP(C52,Main!$A$49:$I$67,Main!$H$47,FALSE)","v":3.1},{"$f":"VLOOKUP(C52,Main!$A$49:$I$67,Main!$I$47,FALSE)","v":16.100000000000001},456]
["AK","KODIAK AIRPORT","6A",8718,904,22.05,60.4,0.18920000000000001,"57.751N",12.8,30.4,31.1,32,38.1,44.8,50.3,54.7,55.4,49.7,41,34.4,30.8,607,530,557,357,177,45,2,2,52,280,469,594,0,0,0,0,15,54,147,170,44,1,0,0,25.7,26.96,24.8,30.74,35.200000000000003,44.24,48.74,49.46,43.9,25.3,25.3,25.3,0.78723404255319152,0.17822169996083037,80,53,33,38,{"$f":"IF(OR(C53=\"OA\",C53=\"OB\",C53=\"1B\",C53=\"1A\",C53=\"2A\",C53=\"2B\",C53=\"3A\",C53=\"3B\",C53=\"3C\"),TAN((LEFT(I53, 5)+VLOOKUP(C53,Main!$K$3:$L$21,2,FALSE))*PI()/180),IF(Checklist!$I$385=\"No\",TAN((LEFT(I53, 5)+VLOOKUP(C53,Main!$K$3:$L$21,2,FALSE))*PI()/180),\"NR\"))","v":"NR"},{"$f":"VLOOKUP(C53,Main!$A$49:$I$67,Main!$B$47,FALSE)","v":"NR"},{"$f":"VLOOKUP(C53,Main!$A$49:$I$67,Main!$C$47,FALSE)","v":"NR"},{"$f":"VLOOKUP(C53,Main!$A$49:$I$67,Main!$E$47,FALSE)&\":\"&\" \"&VLOOKUP(C53,Main!$A$49:$I$67,Main!$F$47,FALSE)","v":"Minimum COP @ 5°F:: 1.75"},{"$f":"VLOOKUP(C53,Main!$A$49:$I$67,Main!$G$47,FALSE)","v":15},{"$f":"VLOOKUP(C53,Main!$A$49:$I$67,Main!$H$47,FALSE)","v":3.1},{"$f":"VLOOKUP(C53,Main!$A$49:$I$67,Main!$I$47,FALSE)","v":16.100000000000001},431]
["AK","KOTZEBUE RALPH WEIN MEMORIAL",8,15268,836,-20.350000000000001,56.3,0.18920000000000001,"66.886N",-31,-3.3,-0.8,0.8,15.1,32,46.4,54.9,52.1,42.7,25.7,9.6999999999999993,1.3,1652,1421,1525,1048,560,164,21,40,230,753,1210,1509,0,0,0,0,1,56,173,105,11,0,0,0,-5.4,-6.16,-3.1,5.36,27,39.380000000000003,48.56,47.84,38.299999999999997,4.5,4.5,-1.3,0.88779803646563815,9.9372099372099357E-2,108,77,51,56,{"$f":"IF(OR(C54=\"OA\",C54=\"OB\",C54=\"1B\",C54=\"1A\",C54=\"2A\",C54=\"2B\",C54=\"3A\",C54=\"3B\",C54=\"3C\"),TAN((LEFT(I54, 5)+VLOOKUP(C54,Main!$K$3:$L$21,2,FALSE))*PI()/180),IF(Checklist!$I$385=\"No\",TAN((LEFT(I54, 5)+VLOOKUP(C54,Main!$K$3:$L$21,2,FALSE))*PI()/180),\"NR\"))","v":"NR"},{"$f":"VLOOKUP(C54,Main!$A$49:$I$67,Main!$B$47,FALSE)","v":"NR"},{"$f":"VLOOKUP(C54,Main!$A$49:$I$67,Main!$C$47,FALSE)","v":"NR"},{"$f":"VLOOKUP(C54,Main!$A$49:$I$67,Main!$E$47,FALSE)&\":\"&\" \"&VLOOKUP(C54,Main!$A$49:$I$67,Main!$F$47,FALSE)","v":"Minimum COP @ 5°F:: 1.75"},{"$f":"VLOOKUP(C54,Main!$A$49:$I$67,Main!$G$47,FALSE)","v":15},{"$f":"VLOOKUP(C54,Main!$A$49:$I$67,Main!$H$47,FALSE)","v":3.1},{"$f":"VLOOKUP(C54,Main!$A$49:$I$67,Main!$I$47,FALSE)","v":16.100000000000001},346]
["AK","LAKE HOOD SEAPLANE",7,9741,1054,9.0500000000000007,58.3,0.18920000000000001,"61.178N",-3.7,17.5,22.1,25.6,37.700000000000003,49.5,57.5,60.8,58.5,50.3,37.299999999999997,23.4,19,1008,781,756,369,76,1,0,1,57,396,799,960,0,0,0,1,59,227,336,263,65,2,0,0,18.899999999999999,26.06,20.3,24.98,32.9,40.28,46.22,46.58,35.799999999999997,30.9,30.9,20.8,0.84158415841584155,0.13720833804515811,87,57,36,41,{"$f":"IF(OR(C55=\"OA\",C55=\"OB\",C55=\"1B\",C55=\"1A\",C55=\"2A\",C55=\"2B\",C55=\"3A\",C55=\"3B\",C55=\"3C\"),TAN((LEFT(I55, 5)+VLOOKUP(C55,Main!$K$3:$L$21,2,FALSE))*PI()/180),IF(Checklist!$I$385=\"No\",TAN((LEFT(I55, 5)+VLOOKUP(C55,Main!$K$3:$L$21,2,FALSE))*PI()/180),\"NR\"))","v":"NR"},{"$f":"VLOOKUP(C55,Main!$A$49:$I$67,Main!$B$47,FALSE)","v":"NR"},{"$f":"VLOOKUP(C55,Main!$A$49:$I$67,Main!$C$47,FALSE)","v":"NR"},{"$f":"VLOOKUP(C55,Main!$A$49:$I$67,Main!$E$47,FALSE)&\":\"&\" \"&VLOOKUP(C55,Main!$A$49:$I$67,Main!$F$47,FALSE)","v":"Minimum COP @ 5°F:: 1.75"},{"$f":"VLOOKUP(C55,Main!$A$49:$I$67,Main!$G$47,FALSE)","v":15},{"$f":"VLOOKUP(C55,Main!$A$49:$I$67,Main!$H$47,FALSE)","v":3.1},{"$f":"VLOOKUP(C55,Main!$A$49:$I$67,Main!$I$47,FALSE)","v":16.100000000000001},953]
["AK","MCGRATH ARPT",8,13577,902,-33.1,60.3,0.18920000000000001,"62.957N",-41.6,-6.5,2.7,11,31.3,47.3,57.8,59.8,55,45,26.9,6.5,-3.9,1752,1324,1209,562,143,4,1,15,173,718,1304,1672,0,0,0,0,60,237,304,171,24,1,0,0,-5.6,-5.8,0.3,16.34,32.4,42.08,48.74,48.74,34,-1.7,-1.7,-9.8000000000000007,0.89261744966442957,8.9761294140856179E-2,106,71,46,51,{"$f":"IF(OR(C56=\"OA\",C56=\"OB\",C56=\"1B\",C56=\"1A\",C56=\"2A\",C56=\"2B\",C56=\"3A\",C56=\"3B\",C56=\"3C\"),TAN((LEFT(I56, 5)+VLOOKUP(C56,Main!$K$3:$L$21,2,FALSE))*PI()/180),IF(Checklist!$I$385=\"No\",TAN((LEFT(I56, 5)+VLOOKUP(C56,Main!$K$3:$L$21,2,FALSE))*PI()/180),\"NR\"))","v":"NR"},{"$f":"VLOOKUP(C56,Main!$A$49:$I$67,Main!$B$47,FALSE)","v":"NR"},{"$f":"VLOOKUP(C56,Main!$A$49:$I$67,Main!$C$47,FALSE)","v":"NR"},{"$f":"VLOOKUP(C56,Main!$A$49:$I$67,Main!$E$47,FALSE)&\":\"&\" \"&VLOOKUP(C56,Main!$A$49:$I$67,Main!$F$47,FALSE)","v":"Minimum COP @ 5°F:: 1.75"},{"$f":"VLOOKUP(C56,Main!$A$49:$I$67,Main!$G$47,FALSE)","v":15},{"$f":"VLOOKUP(C56,Main!$A$49:$I$67,Main!$H$47,FALSE)","v":3.1},{"$f":"VLOOKUP(C56,Main!$A$49:$I$67,Main!$I$47,FALSE)","v":16.100000000000001},797]
["AK","MEKORYUK",7,12635,720,-2.2000000000000002,49.6,0.18920000000000001,"60.372N",-10.6,10.9,15.2,14.8,24.5,34.700000000000003,43.2,48.5,50.2,45.4,34.299999999999997,25.6,16.3,1211,974,1091,766,475,207,70,40,145,485,731,1045,0,0,0,0,0,3,24,46,8,0,0,0,10.199999999999999,22.64,22.6,24.26,30.7,35.96,42.8,42.44,36.700000000000003,25.5,25.5,21.9,0.85989492119089317,0.12516333127020149,96,67,46,51,{"$f":"IF(OR(C57=\"OA\",C57=\"OB\",C57=\"1B\",C57=\"1A\",C57=\"2A\",C57=\"2B\",C57=\"3A\",C57=\"3B\",C57=\"3C\"),TAN((LEFT(I57, 5)+VLOOKUP(C57,Main!$K$3:$L$21,2,FALSE))*PI()/180),IF(Checklist!$I$385=\"No\",TAN((LEFT(I57, 5)+VLOOKUP(C57,Main!$K$3:$L$21,2,FALSE))*PI()/180),\"NR\"))","v":"NR"},{"$f":"VLOOKUP(C57,Main!$A$49:$I$67,Main!$B$47,FALSE)","v":"NR"},{"$f":"VLOOKUP(C57,Main!$A$49:$I$67,Main!$C$47,FALSE)","v":"NR"},{"$f":"VLOOKUP(C57,Main!$A$49:$I$67,Main!$E$47,FALSE)&\":\"&\" \"&VLOOKUP(C57,Main!$A$49:$I$67,Main!$F$47,FALSE)","v":"Minimum COP @ 5°F:: 1.75"},{"$f":"VLOOKUP(C57,Main!$A$49:$I$67,Main!$G$47,FALSE)","v":15},{"$f":"VLOOKUP(C57,Main!$A$49:$I$67,Main!$H$47,FALSE)","v":3.1},{"$f":"VLOOKUP(C57,Main!$A$49:$I$67,Main!$I$47,FALSE)","v":16.100000000000001},81]
["AK","MIDDLETON ISLAND AUT",7,7760,949,25.85,53.1,0.18920000000000001,"59.433N",23.1,35.5,35.299999999999997,35.799999999999997,40.6,44.8,50.4,54.6,55.3,51.6,44.8,38.799999999999997,36.799999999999997,450,410,442,284,166,28,0,0,16,164,336,410,0,0,0,1,6,41,142,166,65,2,0,0,28.9,30.92,24.8,24.44,30.9,44.06,28.76,37.76,34.9,27.9,27.9,24.6,0.7553516819571866,0.21910551977367121,75,49,32,37,{"$f":"IF(OR(C58=\"OA\",C58=\"OB\",C58=\"1B\",C58=\"1A\",C58=\"2A\",C58=\"2B\",C58=\"3A\",C58=\"3B\",C58=\"3C\"),TAN((LEFT(I58, 5)+VLOOKUP(C58,Main!$K$3:$L$21,2,FALSE))*PI()/180),IF(Checklist!$I$385=\"No\",TAN((LEFT(I58, 5)+VLOOKUP(C58,Main!$K$3:$L$21,2,FALSE))*PI()/180),\"NR\"))","v":"NR"},{"$f":"VLOOKUP(C58,Main!$A$49:$I$67,Main!$B$47,FALSE)","v":"NR"},{"$f":"VLOOKUP(C58,Main!$A$49:$I$67,Main!$C$47,FALSE)","v":"NR"},{"$f":"VLOOKUP(C58,Main!$A$49:$I$67,Main!$E$47,FALSE)&\":\"&\" \"&VLOOKUP(C58,Main!$A$49:$I$67,Main!$F$47,FALSE)","v":"Minimum COP @ 5°F:: 1.75"},{"$f":"VLOOKUP(C58,Main!$A$49:$I$67,Main!$G$47,FALSE)","v":15},{"$f":"VLOOKUP(C58,Main!$A$49:$I$67,Main!$H$47,FALSE)","v":3.1},{"$f":"VLOOKUP(C58,Main!$A$49:$I$67,Main!$I$47,FALSE)","v":16.100000000000001},423]
["AK","NENANA MUNICIPAL AP",8,13573,906,-28.3,62.6,0.18920000000000001,"64.550N",-41,-4.7,1.7,9.9,31.6,48.2,59,60.6,55.6,44.7,25.2,4.2,-2.9,1695,1353,1243,552,129,2,1,16,190,768,1375,1641,0,0,0,1,75,271,329,189,31,0,0,0,5.9,3.02,9.3000000000000007,13.64,29.5,30.02,34.880000000000003,31.1,23.4,13.8,13.8,-15.7,0.88995873452544705,9.0255393007686577E-2,106,71,45,50,{"$f":"IF(OR(C59=\"OA\",C59=\"OB\",C59=\"1B\",C59=\"1A\",C59=\"2A\",C59=\"2B\",C59=\"3A\",C59=\"3B\",C59=\"3C\"),TAN((LEFT(I59, 5)+VLOOKUP(C59,Main!$K$3:$L$21,2,FALSE))*PI()/180),IF(Checklist!$I$385=\"No\",TAN((LEFT(I59, 5)+VLOOKUP(C59,Main!$K$3:$L$21,2,FALSE))*PI()/180),\"NR\"))","v":"NR"},{"$f":"VLOOKUP(C59,Main!$A$49:$I$67,Main!$B$47,FALSE)","v":"NR"},{"$f":"VLOOKUP(C59,Main!$A$49:$I$67,Main!$C$47,FALSE)","v":"NR"},{"$f":"VLOOKUP(C59,Main!$A$49:$I$67,Main!$E$47,FALSE)&\":\"&\" \"&VLOOKUP(C59,Main!$A$49:$I$67,Main!$F$47,FALSE)","v":"Minimum COP @ 5°F:: 1.75"},{"$f":"VLOOKUP(C59,Main!$A$49:$I$67,Main!$G$47,FALSE)","v":15},{"$f":"VLOOKUP(C59,Main!$A$49:$I$67,Main!$H$47,FALSE)","v":3.1},{"$f":"VLOOKUP(C59,Main!$A$49:$I$67,Main!$I$47,FALSE)","v":16.100000000000001},896]
["AK","NOME MUNICIPAL ARPT",8,13702,822,-8.75,60.8,0.18920000000000001,"64.511N",-24.6,4.9000000000000004,7.4,9.3000000000000007,22,36.5,47.6,51.9,50.5,43.1,29.6,17.399999999999999,8.1999999999999993,1398,1192,1263,841,425,123,41,57,220,634,978,1294,0,0,0,0,7,52,100,72,12,0,0,0,8.1999999999999993,-0.22,0.3,10.220000000000001,31.8,40.28,45.68,46.58,36.700000000000003,10.8,10.8,0.9,0.87321711568938198,0.1062401494366937,102,71,46,51,{"$f":"IF(OR(C60=\"OA\",C60=\"OB\",C60=\"1B\",C60=\"1A\",C60=\"2A\",C60=\"2B\",C60=\"3A\",C60=\"3B\",C60=\"3C\"),TAN((LEFT(I60, 5)+VLOOKUP(C60,Main!$K$3:$L$21,2,FALSE))*PI()/180),IF(Checklist!$I$385=\"No\",TAN((LEFT(I60, 5)+VLOOKUP(C60,Main!$K$3:$L$21,2,FALSE))*PI()/180),\"NR\"))","v":"NR"},{"$f":"VLOOKUP(C60,Main!$A$49:$I$67,Main!$B$47,FALSE)","v":"NR"},{"$f":"VLOOKUP(C60,Main!$A$49:$I$67,Main!$C$47,FALSE)","v":"NR"},{"$f":"VLOOKUP(C60,Main!$A$49:$I$67,Main!$E$47,FALSE)&\":\"&\" \"&VLOOKUP(C60,Main!$A$49:$I$67,Main!$F$47,FALSE)","v":"Minimum COP @ 5°F:: 1.75"},{"$f":"VLOOKUP(C60,Main!$A$49:$I$67,Main!$G$47,FALSE)","v":15},{"$f":"VLOOKUP(C60,Main!$A$49:$I$67,Main!$H$47,FALSE)","v":3.1},{"$f":"VLOOKUP(C60,Main!$A$49:$I$67,Main!$I$47,FALSE)","v":16.100000000000001},243]
["AK","NORTHWAY AIRPORT",8,15066,836,-41.25,65.099999999999994,0.18920000000000001,"62.962N",-44.9,-14.5,-4.5999999999999996,6.9,29.6,46.1,56.4,58.8,54.2,42.3,22,-2,-11.8,2000,1530,1336,611,165,10,2,21,241,868,1561,1916,0,0,0,0,44,201,276,153,11,0,0,0,-16.399999999999999,-8.32,2.1,8.42,29.1,37.04,46.94,39.92,29.3,-8.5,-8.5,-13.9,0.90303030303030307,8.7137624781557455E-2,111,77,49,54,{"$f":"IF(OR(C61=\"OA\",C61=\"OB\",C61=\"1B\",C61=\"1A\",C61=\"2A\",C61=\"2B\",C61=\"3A\",C61=\"3B\",C61=\"3C\"),TAN((LEFT(I61, 5)+VLOOKUP(C61,Main!$K$3:$L$21,2,FALSE))*PI()/180),IF(Checklist!$I$385=\"No\",TAN((LEFT(I61, 5)+VLOOKUP(C61,Main!$K$3:$L$21,2,FALSE))*PI()/180),\"NR\"))","v":"NR"},{"$f":"VLOOKUP(C61,Main!$A$49:$I$67,Main!$B$47,FALSE)","v":"NR"},{"$f":"VLOOKUP(C61,Main!$A$49:$I$67,Main!$C$47,FALSE)","v":"NR"},{"$f":"VLOOKUP(C61,Main!$A$49:$I$67,Main!$E$47,FALSE)&\":\"&\" \"&VLOOKUP(C61,Main!$A$49:$I$67,Main!$F$47,FALSE)","v":"Minimum COP @ 5°F:: 1.75"},{"$f":"VLOOKUP(C61,Main!$A$49:$I$67,Main!$G$47,FALSE)","v":15},{"$f":"VLOOKUP(C61,Main!$A$49:$I$67,Main!$H$47,FALSE)","v":3.1},{"$f":"VLOOKUP(C61,Main!$A$49:$I$67,Main!$I$47,FALSE)","v":16.100000000000001},685]
["AK","PALMER MUNICIPAL",7,10221,852,5.85,62.2,0.18920000000000001,"61.596N",-9.3000000000000007,16,21.4,25.5,37.799999999999997,48.7,55.7,58.5,56,48.4,35.700000000000003,21.9,17.7,1054,802,759,368,91,3,0,2,83,447,844,1002,0,0,0,2,50,173,263,188,34,3,0,0,22.6,25.16,19.899999999999999,26.96,34.700000000000003,36.86,47.3,48.38,34.299999999999997,29.8,29.8,19.2,0.84615384615384615,0.12726827733296037,89,58,37,42,{"$f":"IF(OR(C62=\"OA\",C62=\"OB\",C62=\"1B\",C62=\"1A\",C62=\"2A\",C62=\"2B\",C62=\"3A\",C62=\"3B\",C62=\"3C\"),TAN((LEFT(I62, 5)+VLOOKUP(C62,Main!$K$3:$L$21,2,FALSE))*PI()/180),IF(Checklist!$I$385=\"No\",TAN((LEFT(I62, 5)+VLOOKUP(C62,Main!$K$3:$L$21,2,FALSE))*PI()/180),\"NR\"))","v":"NR"},{"$f":"VLOOKUP(C62,Main!$A$49:$I$67,Main!$B$47,FALSE)","v":"NR"},{"$f":"VLOOKUP(C62,Main!$A$49:$I$67,Main!$C$47,FALSE)","v":"NR"},{"$f":"VLOOKUP(C62,Main!$A$49:$I$67,Main!$E$47,FALSE)&\":\"&\" \"&VLOOKUP(C62,Main!$A$49:$I$67,Main!$F$47,FALSE)","v":"Minimum COP @ 5°F:: 1.75"},{"$f":"VLOOKUP(C62,Main!$A$49:$I$67,Main!$G$47,FALSE)","v":15},{"$f":"VLOOKUP(C62,Main!$A$49:$I$67,Main!$H$47,FALSE)","v":3.1},{"$f":"VLOOKUP(C62,Main!$A$49:$I$67,Main!$I$47,FALSE)","v":16.100000000000001},713]
["AK","PETERSBURG","6B",8124,837,8.4499999999999993,64.599999999999994,0.18920000000000001,"56.806N",12.2,30.5,33,34.4,40.6,47.4,53.3,55.9,55.3,50.5,43.4,35.799999999999997,32.200000000000003,604,477,482,284,111,8,1,1,32,209,427,551,0,0,0,1,30,108,182,166,48,4,0,0,23.5,28.4,26.1,32.54,35.4,46.76,50.36,49.46,42.4,30.2,30.2,25.7,0.78666666666666663,0.17630533759566019,78,50,31,36,{"$f":"IF(OR(C63=\"OA\",C63=\"OB\",C63=\"1B\",C63=\"1A\",C63=\"2A\",C63=\"2B\",C63=\"3A\",C63=\"3B\",C63=\"3C\"),TAN((LEFT(I63, 5)+VLOOKUP(C63,Main!$K$3:$L$21,2,FALSE))*PI()/180),IF(Checklist!$I$385=\"No\",TAN((LEFT(I63, 5)+VLOOKUP(C63,Main!$K$3:$L$21,2,FALSE))*PI()/180),\"NR\"))","v":"NR"},{"$f":"VLOOKUP(C63,Main!$A$49:$I$67,Main!$B$47,FALSE)","v":"NR"},{"$f":"VLOOKUP(C63,Main!$A$49:$I$67,Main!$C$47,FALSE)","v":"NR"},{"$f":"VLOOKUP(C63,Main!$A$49:$I$67,Main!$E$47,FALSE)&\":\"&\" \"&VLOOKUP(C63,Main!$A$49:$I$67,Main!$F$47,FALSE)","v":"Minimum COP @ 5°F:: 1.75"},{"$f":"VLOOKUP(C63,Main!$A$49:$I$67,Main!$G$47,FALSE)","v":15},{"$f":"VLOOKUP(C63,Main!$A$49:$I$67,Main!$H$47,FALSE)","v":3.1},{"$f":"VLOOKUP(C63,Main!$A$49:$I$67,Main!$I$47,FALSE)","v":16.100000000000001},539]
["AK","POINT HOPE (AWOS)",8,16233,753,-9.65,47.7,0.18920000000000001,"68.350N",-24.1,-4.2,-3.7,-0.3,10.1,27.8,37.799999999999997,46,46.4,40.299999999999997,26.4,14.8,3.3,1681,1504,1560,1198,689,371,148,127,293,730,1055,1447,0,0,0,0,0,4,23,17,1,0,0,0,3.2,-5.08,1.9,4.82,27.1,30.38,30.38,39.74,30.6,14.2,14.2,8.8000000000000007,0.88919667590027707,0.10681691463450421,108,81,56,61,{"$f":"IF(OR(C64=\"OA\",C64=\"OB\",C64=\"1B\",C64=\"1A\",C64=\"2A\",C64=\"2B\",C64=\"3A\",C64=\"3B\",C64=\"3C\"),TAN((LEFT(I64, 5)+VLOOKUP(C64,Main!$K$3:$L$21,2,FALSE))*PI()/180),IF(Checklist!$I$385=\"No\",TAN((LEFT(I64, 5)+VLOOKUP(C64,Main!$K$3:$L$21,2,FALSE))*PI()/180),\"NR\"))","v":"NR"},{"$f":"VLOOKUP(C64,Main!$A$49:$I$67,Main!$B$47,FALSE)","v":"NR"},{"$f":"VLOOKUP(C64,Main!$A$49:$I$67,Main!$C$47,FALSE)","v":"NR"},{"$f":"VLOOKUP(C64,Main!$A$49:$I$67,Main!$E$47,FALSE)&\":\"&\" \"&VLOOKUP(C64,Main!$A$49:$I$67,Main!$F$47,FALSE)","v":"Minimum COP @ 5°F:: 1.75"},{"$f":"VLOOKUP(C64,Main!$A$49:$I$67,Main!$G$47,FALSE)","v":15},{"$f":"VLOOKUP(C64,Main!$A$49:$I$67,Main!$H$47,FALSE)","v":3.1},{"$f":"VLOOKUP(C64,Main!$A$49:$I$67,Main!$I$47,FALSE)","v":16.100000000000001},45]
["AK","PORT HEIDEN",7,10190,800,12.3,53.4,0.18920000000000001,"56.959N",-1.6,24,24.8,26.3,33.4,40.200000000000003,46.6,51,52.5,47.5,38.4,31.9,27.6,807,706,734,499,306,119,37,15,98,362,542,699,0,0,0,0,4,17,67,92,23,2,1,4,28.8,17.420000000000002,20.8,25.7,27.7,30.74,35.06,36.5,29.7,28.4,28.4,19,0.81818181818181823,0.14134824479652064,87,58,39,44,{"$f":"IF(OR(C65=\"OA\",C65=\"OB\",C65=\"1B\",C65=\"1A\",C65=\"2A\",C65=\"2B\",C65=\"3A\",C65=\"3B\",C65=\"3C\"),TAN((LEFT(I65, 5)+VLOOKUP(C65,Main!$K$3:$L$21,2,FALSE))*PI()/180),IF(Checklist!$I$385=\"No\",TAN((LEFT(I65, 5)+VLOOKUP(C65,Main!$K$3:$L$21,2,FALSE))*PI()/180),\"NR\"))","v":"NR"},{"$f":"VLOOKUP(C65,Main!$A$49:$I$67,Main!$B$47,FALSE)","v":"NR"},{"$f":"VLOOKUP(C65,Main!$A$49:$I$67,Main!$C$47,FALSE)","v":"NR"},{"$f":"VLOOKUP(C65,Main!$A$49:$I$67,Main!$E$47,FALSE)&\":\"&\" \"&VLOOKUP(C65,Main!$A$49:$I$67,Main!$F$47,FALSE)","v":"Minimum COP @ 5°F:: 1.75"},{"$f":"VLOOKUP(C65,Main!$A$49:$I$67,Main!$G$47,FALSE)","v":15},{"$f":"VLOOKUP(C65,Main!$A$49:$I$67,Main!$H$47,FALSE)","v":3.1},{"$f":"VLOOKUP(C65,Main!$A$49:$I$67,Main!$I$47,FALSE)","v":16.100000000000001},210]
["AK","SAINT MARY`S (AWOS)",8,13152,762,-5.2,57,0.18920000000000001,"62.050N",-18.399999999999999,6.3,10.7,11,24.7,39.5,50.1,53.2,51.3,44.1,28.9,17.600000000000001,9.1,1354,1101,1208,760,338,61,22,43,186,653,972,1267,0,0,0,0,11,64,121,83,9,0,0,0,7.3,13.46,17.8,24.98,27,38.840000000000003,44.96,43.88,33.4,19.899999999999999,19.899999999999999,11.8,0.87034035656401942,0.11386386386386385,99,69,46,51,{"$f":"IF(OR(C66=\"OA\",C66=\"OB\",C66=\"1B\",C66=\"1A\",C66=\"2A\",C66=\"2B\",C66=\"3A\",C66=\"3B\",C66=\"3C\"),TAN((LEFT(I66, 5)+VLOOKUP(C66,Main!$K$3:$L$21,2,FALSE))*PI()/180),IF(Checklist!$I$385=\"No\",TAN((LEFT(I66, 5)+VLOOKUP(C66,Main!$K$3:$L$21,2,FALSE))*PI()/180),\"NR\"))","v":"NR"},{"$f":"VLOOKUP(C66,Main!$A$49:$I$67,Main!$B$47,FALSE)","v":"NR"},{"$f":"VLOOKUP(C66,Main!$A$49:$I$67,Main!$C$47,FALSE)","v":"NR"},{"$f":"VLOOKUP(C66,Main!$A$49:$I$67,Main!$E$47,FALSE)&\":\"&\" \"&VLOOKUP(C66,Main!$A$49:$I$67,Main!$F$47,FALSE)","v":"Minimum COP @ 5°F:: 1.75"},{"$f":"VLOOKUP(C66,Main!$A$49:$I$67,Main!$G$47,FALSE)","v":15},{"$f":"VLOOKUP(C66,Main!$A$49:$I$67,Main!$H$47,FALSE)","v":3.1},{"$f":"VLOOKUP(C66,Main!$A$49:$I$67,Main!$I$47,FALSE)","v":16.100000000000001},288]
["AK","SAND POINT",7,8854,828,21.95,53.1,0.18920000000000001,"55.319N",15.5,31.4,32.700000000000003,31.6,35.700000000000003,41.6,47.3,51.6,53.3,49.7,42.4,37.200000000000003,33.700000000000003,575,485,572,429,261,91,23,10,41,235,385,504,0,0,0,0,1,10,74,113,32,1,0,0,28.6,24.62,28.2,27.68,30.4,39.200000000000003,42.98,47.12,38.1,23.9,23.9,23.2,0.78142076502732238,0.18738738738738736,79,53,35,40,{"$f":"IF(OR(C67=\"OA\",C67=\"OB\",C67=\"1B\",C67=\"1A\",C67=\"2A\",C67=\"2B\",C67=\"3A\",C67=\"3B\",C67=\"3C\"),TAN((LEFT(I67, 5)+VLOOKUP(C67,Main!$K$3:$L$21,2,FALSE))*PI()/180),IF(Checklist!$I$385=\"No\",TAN((LEFT(I67, 5)+VLOOKUP(C67,Main!$K$3:$L$21,2,FALSE))*PI()/180),\"NR\"))","v":"NR"},{"$f":"VLOOKUP(C67,Main!$A$49:$I$67,Main!$B$47,FALSE)","v":"NR"},{"$f":"VLOOKUP(C67,Main!$A$49:$I$67,Main!$C$47,FALSE)","v":"NR"},{"$f":"VLOOKUP(C67,Main!$A$49:$I$67,Main!$E$47,FALSE)&\":\"&\" \"&VLOOKUP(C67,Main!$A$49:$I$67,Main!$F$47,FALSE)","v":"Minimum COP @ 5°F:: 1.75"},{"$f":"VLOOKUP(C67,Main!$A$49:$I$67,Main!$G$47,FALSE)","v":15},{"$f":"VLOOKUP(C67,Main!$A$49:$I$67,Main!$H$47,FALSE)","v":3.1},{"$f":"VLOOKUP(C67,Main!$A$49:$I$67,Main!$I$47,FALSE)","v":16.100000000000001},231]
["AK","SAVOONGA",8,14397,711,-4.1500000000000004,54.5,0.18920000000000001,"63.687N",-17.8,3.8,3.5,7.2,16.2,29.6,40,47,46.6,41,32.9,25.4,12.1,1432,1303,1326,1013,633,302,113,118,272,530,739,1175,0,0,0,0,0,2,18,12,0,0,0,0,3.9,9.68,3.2,13.1,28.6,32.36,32.36,33.979999999999997,34,21.7,21.7,13.3,0.87596899224806202,0.11466011466011465,102,74,50,55,{"$f":"IF(OR(C68=\"OA\",C68=\"OB\",C68=\"1B\",C68=\"1A\",C68=\"2A\",C68=\"2B\",C68=\"3A\",C68=\"3B\",C68=\"3C\"),TAN((LEFT(I68, 5)+VLOOKUP(C68,Main!$K$3:$L$21,2,FALSE))*PI()/180),IF(Checklist!$I$385=\"No\",TAN((LEFT(I68, 5)+VLOOKUP(C68,Main!$K$3:$L$21,2,FALSE))*PI()/180),\"NR\"))","v":"NR"},{"$f":"VLOOKUP(C68,Main!$A$49:$I$67,Main!$B$47,FALSE)","v":"NR"},{"$f":"VLOOKUP(C68,Main!$A$49:$I$67,Main!$C$47,FALSE)","v":"NR"},{"$f":"VLOOKUP(C68,Main!$A$49:$I$67,Main!$E$47,FALSE)&\":\"&\" \"&VLOOKUP(C68,Main!$A$49:$I$67,Main!$F$47,FALSE)","v":"Minimum COP @ 5°F:: 1.75"},{"$f":"VLOOKUP(C68,Main!$A$49:$I$67,Main!$G$47,FALSE)","v":15},{"$f":"VLOOKUP(C68,Main!$A$49:$I$67,Main!$H$47,FALSE)","v":3.1},{"$f":"VLOOKUP(C68,Main!$A$49:$I$67,Main!$I$47,FALSE)","v":16.100000000000001},32]
["AK","SELAWIK",8,15196,858,-43.45,59.4,0.18920000000000001,"66.600N",-36.6,-5.0999999999999996,-2.1,1.3,15,34.700000000000003,51.4,57.2,53.7,43.3,24,6.4,-0.9,1708,1458,1509,1049,478,73,8,28,214,806,1308,1578,0,0,0,0,3,115,230,144,12,0,0,0,-14.6,-6.34,8.6,16.52,29.5,38.119999999999997,44.6,41,29.1,4.5999999999999996,4.5999999999999996,5,0.8905608755129959,9.4051986977417179E-2,109,77,50,55,{"$f":"IF(OR(C69=\"OA\",C69=\"OB\",C69=\"1B\",C69=\"1A\",C69=\"2A\",C69=\"2B\",C69=\"3A\",C69=\"3B\",C69=\"3C\"),TAN((LEFT(I69, 5)+VLOOKUP(C69,Main!$K$3:$L$21,2,FALSE))*PI()/180),IF(Checklist!$I$385=\"No\",TAN((LEFT(I69, 5)+VLOOKUP(C69,Main!$K$3:$L$21,2,FALSE))*PI()/180),\"NR\"))","v":"NR"},{"$f":"VLOOKUP(C69,Main!$A$49:$I$67,Main!$B$47,FALSE)","v":"NR"},{"$f":"VLOOKUP(C69,Main!$A$49:$I$67,Main!$C$47,FALSE)","v":"NR"},{"$f":"VLOOKUP(C69,Main!$A$49:$I$67,Main!$E$47,FALSE)&\":\"&\" \"&VLOOKUP(C69,Main!$A$49:$I$67,Main!$F$47,FALSE)","v":"Minimum COP @ 5°F:: 1.75"},{"$f":"VLOOKUP(C69,Main!$A$49:$I$67,Main!$G$47,FALSE)","v":15},{"$f":"VLOOKUP(C69,Main!$A$49:$I$67,Main!$H$47,FALSE)","v":3.1},{"$f":"VLOOKUP(C69,Main!$A$49:$I$67,Main!$I$47,FALSE)","v":16.100000000000001},504]
["AK","SEWARD",7,9156,859,18.149999999999999,58.5,0.18920000000000001,"60.128N",7,25.8,27.4,30.9,38.1,45.8,51.9,55.6,55.2,49.6,39.799999999999997,31.1,27.1,749,634,591,360,154,24,1,2,55,316,567,710,0,0,0,2,23,82,175,164,41,1,0,0,27,23,22.6,31.64,33.6,43.52,49.1,46.4,38.299999999999997,20.100000000000001,20.100000000000001,26.6,0.81042654028436023,0.16127603012848912,{"$f":"ROUNDDOWN((33.97238548+(2.143484655*3.14219615)+(0.00253108806*D70)+(-0.2767683543*J70)+(66.9384076*H70)+((3.14219615-3.14219615)^2*-1.607593659)+((J70-12.48681818)*(H70-0.2016890909)*-1.8168457)+8.4234),0)","v":82},{"$f":"ROUNDDOWN((2.975122788+(0.003896731237*D70)+(59.88697433*H70)+((D70-5520.854545)*(H70-0.2016890909)*0.01119327314)+5.3792),0)","v":54},35,{"$f":"ROUNDDOWN(BK70+5.9089,0)","v":40},{"$f":"IF(OR(C70=\"OA\",C70=\"OB\",C70=\"1B\",C70=\"1A\",C70=\"2A\",C70=\"2B\",C70=\"3A\",C70=\"3B\",C70=\"3C\"),TAN((LEFT(I70, 5)+VLOOKUP(C70,Main!$K$3:$L$21,2,FALSE))*PI()/180),IF(Checklist!$I$385=\"No\",TAN((LEFT(I70, 5)+VLOOKUP(C70,Main!$K$3:$L$21,2,FALSE))*PI()/180),\"NR\"))","v":"NR"},{"$f":"VLOOKUP(C70,Main!$A$49:$I$67,Main!$B$47,FALSE)","v":"NR"},{"$f":"VLOOKUP(C70,Main!$A$49:$I$67,Main!$C$47,FALSE)","v":"NR"},{"$f":"VLOOKUP(C70,Main!$A$49:$I$67,Main!$E$47,FALSE)&\":\"&\" \"&VLOOKUP(C70,Main!$A$49:$I$67,Main!$F$47,FALSE)","v":"Minimum COP @ 5°F:: 1.75"},{"$f":"VLOOKUP(C70,Main!$A$49:$I$67,Main!$G$47,FALSE)","v":15},{"$f":"VLOOKUP(C70,Main!$A$49:$I$67,Main!$H$47,FALSE)","v":3.1},{"$f":"VLOOKUP(C70,Main!$A$49:$I$67,Main!$I$47,FALSE)","v":16.100000000000001},488]
["AK","SHEMYA AFB",7,9322,576,22.55,46.8,0.18920000000000001,"52.717N",23.3,31.1,31.9,32.1,35.4,39,43.3,47.5,50.3,48.6,43.1,37.799999999999997,33,587,506,554,437,340,202,83,22,55,215,367,528,0,0,0,0,0,0,5,31,14,0,0,0,23.9,25.7,24.4,28.04,32.9,37.58,43.7,46.58,43,27.7,27.7,24.3,0.78319783197831983,0.22008585766975025,79,55,38,43,{"$f":"IF(OR(C71=\"OA\",C71=\"OB\",C71=\"1B\",C71=\"1A\",C71=\"2A\",C71=\"2B\",C71=\"3A\",C71=\"3B\",C71=\"3C\"),TAN((LEFT(I71, 5)+VLOOKUP(C71,Main!$K$3:$L$21,2,FALSE))*PI()/180),IF(Checklist!$I$385=\"No\",TAN((LEFT(I71, 5)+VLOOKUP(C71,Main!$K$3:$L$21,2,FALSE))*PI()/180),\"NR\"))","v":"NR"},{"$f":"VLOOKUP(C71,Main!$A$49:$I$67,Main!$B$47,FALSE)","v":"NR"},{"$f":"VLOOKUP(C71,Main!$A$49:$I$67,Main!$C$47,FALSE)","v":"NR"},{"$f":"VLOOKUP(C71,Main!$A$49:$I$67,Main!$E$47,FALSE)&\":\"&\" \"&VLOOKUP(C71,Main!$A$49:$I$67,Main!$F$47,FALSE)","v":"Minimum COP @ 5°F:: 1.75"},{"$f":"VLOOKUP(C71,Main!$A$49:$I$67,Main!$G$47,FALSE)","v":15},{"$f":"VLOOKUP(C71,Main!$A$49:$I$67,Main!$H$47,FALSE)","v":3.1},{"$f":"VLOOKUP(C71,Main!$A$49:$I$67,Main!$I$47,FALSE)","v":16.100000000000001},50]
["AK","SHISHMAREF (AWOS)",8,15512,815,-20.8,50.5,0.18920000000000001,"66.250N",-26.2,-0.2,0.5,-0.7,11.8,28.9,39.1,49.3,48.5,41.8,29.5,16.3,3.8,1556,1387,1573,1147,654,332,69,81,248,636,1011,1432,0,0,0,0,0,4,48,35,3,0,0,0,-0.9,-8.5,1.9,14.54,27.1,33.799999999999997,42.8,41,32,15.6,15.6,7.7,0.88355167394468703,0.10443564583691972,107,78,{"$f":"ROUNDDOWN(-18.64576148+(5.900367721*3.14219615)+(0.002662134083*D72)+(38.92365332*H72)+((BT72-3890.577273)*(G72-78.59)*0.00005765875867)+((D72-5520.854545)*(H72-0.2016890909)*0.006047043516),0)","v":53},58,{"$f":"IF(OR(C72=\"OA\",C72=\"OB\",C72=\"1B\",C72=\"1A\",C72=\"2A\",C72=\"2B\",C72=\"3A\",C72=\"3B\",C72=\"3C\"),TAN((LEFT(I72, 5)+VLOOKUP(C72,Main!$K$3:$L$21,2,FALSE))*PI()/180),IF(Checklist!$I$385=\"No\",TAN((LEFT(I72, 5)+VLOOKUP(C72,Main!$K$3:$L$21,2,FALSE))*PI()/180),\"NR\"))","v":"NR"},{"$f":"VLOOKUP(C72,Main!$A$49:$I$67,Main!$B$47,FALSE)","v":"NR"},{"$f":"VLOOKUP(C72,Main!$A$49:$I$67,Main!$C$47,FALSE)","v":"NR"},{"$f":"VLOOKUP(C72,Main!$A$49:$I$67,Main!$E$47,FALSE)&\":\"&\" \"&VLOOKUP(C72,Main!$A$49:$I$67,Main!$F$47,FALSE)","v":"Minimum COP @ 5°F:: 1.75"},{"$f":"VLOOKUP(C72,Main!$A$49:$I$67,Main!$G$47,FALSE)","v":15},{"$f":"VLOOKUP(C72,Main!$A$49:$I$67,Main!$H$47,FALSE)","v":3.1},{"$f":"VLOOKUP(C72,Main!$A$49:$I$67,Main!$I$47,FALSE)","v":16.100000000000001},90]
["AK","SITKA JAPONSKI AP","5A",7216,925,21.1,54.7,0.18920000000000001,"57.048N",20.9,36,36.6,37.299999999999997,42.5,47.8,52.8,56.1,57.1,53.1,46.1,39.700000000000003,37,433,375,392,229,92,8,0,0,10,131,310,404,0,0,0,4,24,92,189,222,103,12,1,0,24.8,19.04,25.5,27.14,37.4,46.22,50.18,51.08,46.4,26.6,26.6,20.7,0.75,0.20887129167383944,74,47,30,35,{"$f":"IF(OR(C73=\"OA\",C73=\"OB\",C73=\"1B\",C73=\"1A\",C73=\"2A\",C73=\"2B\",C73=\"3A\",C73=\"3B\",C73=\"3C\"),TAN((LEFT(I73, 5)+VLOOKUP(C73,Main!$K$3:$L$21,2,FALSE))*PI()/180),IF(Checklist!$I$385=\"No\",TAN((LEFT(I73, 5)+VLOOKUP(C73,Main!$K$3:$L$21,2,FALSE))*PI()/180),\"NR\"))","v":"NR"},{"$f":"VLOOKUP(C73,Main!$A$49:$I$67,Main!$B$47,FALSE)","v":"NR"},{"$f":"VLOOKUP(C73,Main!$A$49:$I$67,Main!$C$47,FALSE)","v":"NR"},{"$f":"VLOOKUP(C73,Main!$A$49:$I$67,Main!$E$47,FALSE)&\":\"&\" \"&VLOOKUP(C73,Main!$A$49:$I$67,Main!$F$47,FALSE)","v":"Minimum COP @ 5°F:: 1.75"},{"$f":"VLOOKUP(C73,Main!$A$49:$I$67,Main!$G$47,FALSE)","v":15},{"$f":"VLOOKUP(C73,Main!$A$49:$I$67,Main!$H$47,FALSE)","v":3.1},{"$f":"VLOOKUP(C73,Main!$A$49:$I$67,Main!$I$47,FALSE)","v":16.100000000000001},647]
["AK","SKAGWAY AIRPORT","6B",8384,894,3.95,64,0.18920000000000001,"59.456N",5.8,26.5,30.2,32.200000000000003,40.9,49.4,55.3,57.2,56.4,50.7,43,33.1,28.7,727,554,551,279,70,2,0,1,34,218,506,660,0,0,0,6,51,160,224,198,56,2,0,0,21.9,19.22,24.1,27.68,36,45.68,47.66,48.38,40.299999999999997,24.6,24.6,12.9,0.80722891566265065,0.15816459546363082,81,51,32,37,{"$f":"IF(OR(C74=\"OA\",C74=\"OB\",C74=\"1B\",C74=\"1A\",C74=\"2A\",C74=\"2B\",C74=\"3A\",C74=\"3B\",C74=\"3C\"),TAN((LEFT(I74, 5)+VLOOKUP(C74,Main!$K$3:$L$21,2,FALSE))*PI()/180),IF(Checklist!$I$385=\"No\",TAN((LEFT(I74, 5)+VLOOKUP(C74,Main!$K$3:$L$21,2,FALSE))*PI()/180),\"NR\"))","v":"NR"},{"$f":"VLOOKUP(C74,Main!$A$49:$I$67,Main!$B$47,FALSE)","v":"NR"},{"$f":"VLOOKUP(C74,Main!$A$49:$I$67,Main!$C$47,FALSE)","v":"NR"},{"$f":"VLOOKUP(C74,Main!$A$49:$I$67,Main!$E$47,FALSE)&\":\"&\" \"&VLOOKUP(C74,Main!$A$49:$I$67,Main!$F$47,FALSE)","v":"Minimum COP @ 5°F:: 1.75"},{"$f":"VLOOKUP(C74,Main!$A$49:$I$67,Main!$G$47,FALSE)","v":15},{"$f":"VLOOKUP(C74,Main!$A$49:$I$67,Main!$H$47,FALSE)","v":3.1},{"$f":"VLOOKUP(C74,Main!$A$49:$I$67,Main!$I$47,FALSE)","v":16.100000000000001},697]
["AK","SLEETMUTE",7,13125,933,-32.200000000000003,93.2,0.18920000000000001,"61.717N",-32.700000000000003,-2.6,8.6999999999999993,14.2,31.2,45,54.2,56.4,53.5,45.6,28.3,12.6,0.6,1631,1155,1109,565,188,15,3,19,149,673,1124,1532,0,0,0,0,33,140,201,126,15,1,0,0,-9.4,17.600000000000001,7.9,36.32,30.4,38.119999999999997,41.72,39.380000000000003,32.700000000000003,13.5,13.5,5.7,0.88668555240793212,9.7694516761051009E-2,103,69,38,43,{"$f":"IF(OR(C75=\"OA\",C75=\"OB\",C75=\"1B\",C75=\"1A\",C75=\"2A\",C75=\"2B\",C75=\"3A\",C75=\"3B\",C75=\"3C\"),TAN((LEFT(I75, 5)+VLOOKUP(C75,Main!$K$3:$L$21,2,FALSE))*PI()/180),IF(Checklist!$I$385=\"No\",TAN((LEFT(I75, 5)+VLOOKUP(C75,Main!$K$3:$L$21,2,FALSE))*PI()/180),\"NR\"))","v":"NR"},{"$f":"VLOOKUP(C75,Main!$A$49:$I$67,Main!$B$47,FALSE)","v":"NR"},{"$f":"VLOOKUP(C75,Main!$A$49:$I$67,Main!$C$47,FALSE)","v":"NR"},{"$f":"VLOOKUP(C75,Main!$A$49:$I$67,Main!$E$47,FALSE)&\":\"&\" \"&VLOOKUP(C75,Main!$A$49:$I$67,Main!$F$47,FALSE)","v":"Minimum COP @ 5°F:: 1.75"},{"$f":"VLOOKUP(C75,Main!$A$49:$I$67,Main!$G$47,FALSE)","v":15},{"$f":"VLOOKUP(C75,Main!$A$49:$I$67,Main!$H$47,FALSE)","v":3.1},{"$f":"VLOOKUP(C75,Main!$A$49:$I$67,Main!$I$47,FALSE)","v":16.100000000000001},516]
["AK","SOLDOTNA",7,11073,1065,2.25,61.9,0.18920000000000001,"60.476N",-17.899999999999999,12.2,19.5,23.2,35.5,44.6,51.7,55.9,54.6,46.9,34.4,21.2,15.4,1172,854,832,436,176,27,1,5,117,486,865,1074,0,0,0,0,10,78,185,148,24,1,0,0,17.8,26.42,16.3,27.68,32.9,39.56,44.78,39.380000000000003,34.9,14.5,14.5,20.5,0.85663082437275984,0.11452663373501556,94,62,39,44,{"$f":"IF(OR(C76=\"OA\",C76=\"OB\",C76=\"1B\",C76=\"1A\",C76=\"2A\",C76=\"2B\",C76=\"3A\",C76=\"3B\",C76=\"3C\"),TAN((LEFT(I76, 5)+VLOOKUP(C76,Main!$K$3:$L$21,2,FALSE))*PI()/180),IF(Checklist!$I$385=\"No\",TAN((LEFT(I76, 5)+VLOOKUP(C76,Main!$K$3:$L$21,2,FALSE))*PI()/180),\"NR\"))","v":"NR"},{"$f":"VLOOKUP(C76,Main!$A$49:$I$67,Main!$B$47,FALSE)","v":"NR"},{"$f":"VLOOKUP(C76,Main!$A$49:$I$67,Main!$C$47,FALSE)","v":"NR"},{"$f":"VLOOKUP(C76,Main!$A$49:$I$67,Main!$E$47,FALSE)&\":\"&\" \"&VLOOKUP(C76,Main!$A$49:$I$67,Main!$F$47,FALSE)","v":"Minimum COP @ 5°F:: 1.75"},{"$f":"VLOOKUP(C76,Main!$A$49:$I$67,Main!$G$47,FALSE)","v":15},{"$f":"VLOOKUP(C76,Main!$A$49:$I$67,Main!$H$47,FALSE)","v":3.1},{"$f":"VLOOKUP(C76,Main!$A$49:$I$67,Main!$I$47,FALSE)","v":16.100000000000001},446]
["AK","ST PAUL ISLAND ARPT",7,10845,712,15.9,44.8,0.18920000000000001,"57.155N",4.7,24.4,24,24.4,29.1,35.799999999999997,42.2,47.1,48.9,45.5,38.9,33.6,28.7,793,727,794,626,441,233,97,48,137,345,492,661,0,0,0,0,0,0,7,14,2,0,0,0,24.3,22.46,22.3,26.96,32.200000000000003,38.659999999999997,44.42,46.4,42.1,25.7,25.7,26.2,0.81818181818181823,0.1554160795866957,87,61,43,48,{"$f":"IF(OR(C77=\"OA\",C77=\"OB\",C77=\"1B\",C77=\"1A\",C77=\"2A\",C77=\"2B\",C77=\"3A\",C77=\"3B\",C77=\"3C\"),TAN((LEFT(I77, 5)+VLOOKUP(C77,Main!$K$3:$L$21,2,FALSE))*PI()/180),IF(Checklist!$I$385=\"No\",TAN((LEFT(I77, 5)+VLOOKUP(C77,Main!$K$3:$L$21,2,FALSE))*PI()/180),\"NR\"))","v":"NR"},{"$f":"VLOOKUP(C77,Main!$A$49:$I$67,Main!$B$47,FALSE)","v":"NR"},{"$f":"VLOOKUP(C77,Main!$A$49:$I$67,Main!$C$47,FALSE)","v":"NR"},{"$f":"VLOOKUP(C77,Main!$A$49:$I$67,Main!$E$47,FALSE)&\":\"&\" \"&VLOOKUP(C77,Main!$A$49:$I$67,Main!$F$47,FALSE)","v":"Minimum COP @ 5°F:: 1.75"},{"$f":"VLOOKUP(C77,Main!$A$49:$I$67,Main!$G$47,FALSE)","v":15},{"$f":"VLOOKUP(C77,Main!$A$49:$I$67,Main!$H$47,FALSE)","v":3.1},{"$f":"VLOOKUP(C77,Main!$A$49:$I$67,Main!$I$47,FALSE)","v":16.100000000000001},23]
["AK","TALKEETNA STATE ARPT",7,10679,908,-8.5,61.3,0.18920000000000001,"62.320N",-17.600000000000001,13.8,18.3,23.9,36,47.5,56.9,59.6,56.4,47.4,33.700000000000003,19.399999999999999,15.3,1121,888,809,421,123,3,0,3,111,508,918,1075,0,0,0,1,46,211,297,202,33,1,0,0,11.8,6.26,14.9,24.62,34.200000000000003,41,49.28,48.74,42.1,10.4,10.4,7.3,0.85239852398523985,0.11492801212427381,93,60,38,43,{"$f":"IF(OR(C78=\"OA\",C78=\"OB\",C78=\"1B\",C78=\"1A\",C78=\"2A\",C78=\"2B\",C78=\"3A\",C78=\"3B\",C78=\"3C\"),TAN((LEFT(I78, 5)+VLOOKUP(C78,Main!$K$3:$L$21,2,FALSE))*PI()/180),IF(Checklist!$I$385=\"No\",TAN((LEFT(I78, 5)+VLOOKUP(C78,Main!$K$3:$L$21,2,FALSE))*PI()/180),\"NR\"))","v":"NR"},{"$f":"VLOOKUP(C78,Main!$A$49:$I$67,Main!$B$47,FALSE)","v":"NR"},{"$f":"VLOOKUP(C78,Main!$A$49:$I$67,Main!$C$47,FALSE)","v":"NR"},{"$f":"VLOOKUP(C78,Main!$A$49:$I$67,Main!$E$47,FALSE)&\":\"&\" \"&VLOOKUP(C78,Main!$A$49:$I$67,Main!$F$47,FALSE)","v":"Minimum COP @ 5°F:: 1.75"},{"$f":"VLOOKUP(C78,Main!$A$49:$I$67,Main!$G$47,FALSE)","v":15},{"$f":"VLOOKUP(C78,Main!$A$49:$I$67,Main!$H$47,FALSE)","v":3.1},{"$f":"VLOOKUP(C78,Main!$A$49:$I$67,Main!$I$47,FALSE)","v":16.100000000000001},791]
["AK","TANANA RALPH M CALHOUN MEM AP",8,14366,769,-38.549999999999997,61.9,0.18920000000000001,"65.175N",-42.2,-9.1,0.2,5.3,26.9,46,58.3,59.4,53.7,43,25.4,2.6,-5,1831,1395,1386,693,184,4,3,25,226,762,1421,1704,0,0,0,0,61,252,293,139,17,1,0,0,-9.6,3.38,7.2,13.64,24.8,41,48.56,40.28,28.9,3,3,-0.8,0.89623865110246437,8.9272575660960404E-2,108,74,47,52,{"$f":"IF(OR(C79=\"OA\",C79=\"OB\",C79=\"1B\",C79=\"1A\",C79=\"2A\",C79=\"2B\",C79=\"3A\",C79=\"3B\",C79=\"3C\"),TAN((LEFT(I79, 5)+VLOOKUP(C79,Main!$K$3:$L$21,2,FALSE))*PI()/180),IF(Checklist!$I$385=\"No\",TAN((LEFT(I79, 5)+VLOOKUP(C79,Main!$K$3:$L$21,2,FALSE))*PI()/180),\"NR\"))","v":"NR"},{"$f":"VLOOKUP(C79,Main!$A$49:$I$67,Main!$B$47,FALSE)","v":"NR"},{"$f":"VLOOKUP(C79,Main!$A$49:$I$67,Main!$C$47,FALSE)","v":"NR"},{"$f":"VLOOKUP(C79,Main!$A$49:$I$67,Main!$E$47,FALSE)&\":\"&\" \"&VLOOKUP(C79,Main!$A$49:$I$67,Main!$F$47,FALSE)","v":"Minimum COP @ 5°F:: 1.75"},{"$f":"VLOOKUP(C79,Main!$A$49:$I$67,Main!$G$47,FALSE)","v":15},{"$f":"VLOOKUP(C79,Main!$A$49:$I$67,Main!$H$47,FALSE)","v":3.1},{"$f":"VLOOKUP(C79,Main!$A$49:$I$67,Main!$I$47,FALSE)","v":16.100000000000001},763]
["AK","TOGIAK VILLAGE AWOS",7,11313,880,-2.2000000000000002,62.6,0.18920000000000001,"59.067N",-13.6,16.8,19.8,19.100000000000001,31.4,41.6,49.7,53.4,52.6,46.4,34.700000000000003,23.5,18.2,1030,846,958,557,270,61,12,15,124,476,794,986,0,0,0,0,9,51,118,96,17,0,0,0,20.5,30.2,20.3,21.02,28.4,39.200000000000003,47.48,44.96,33.799999999999997,23.9,23.9,17.8,0.84375,0.12056173820879704,93,62,40,45,{"$f":"IF(OR(C80=\"OA\",C80=\"OB\",C80=\"1B\",C80=\"1A\",C80=\"2A\",C80=\"2B\",C80=\"3A\",C80=\"3B\",C80=\"3C\"),TAN((LEFT(I80, 5)+VLOOKUP(C80,Main!$K$3:$L$21,2,FALSE))*PI()/180),IF(Checklist!$I$385=\"No\",TAN((LEFT(I80, 5)+VLOOKUP(C80,Main!$K$3:$L$21,2,FALSE))*PI()/180),\"NR\"))","v":"NR"},{"$f":"VLOOKUP(C80,Main!$A$49:$I$67,Main!$B$47,FALSE)","v":"NR"},{"$f":"VLOOKUP(C80,Main!$A$49:$I$67,Main!$C$47,FALSE)","v":"NR"},{"$f":"VLOOKUP(C80,Main!$A$49:$I$67,Main!$E$47,FALSE)&\":\"&\" \"&VLOOKUP(C80,Main!$A$49:$I$67,Main!$F$47,FALSE)","v":"Minimum COP @ 5°F:: 1.75"},{"$f":"VLOOKUP(C80,Main!$A$49:$I$67,Main!$G$47,FALSE)","v":15},{"$f":"VLOOKUP(C80,Main!$A$49:$I$67,Main!$H$47,FALSE)","v":3.1},{"$f":"VLOOKUP(C80,Main!$A$49:$I$67,Main!$I$47,FALSE)","v":16.100000000000001},291]
["AK","UNALAKLEET FIELD",8,13224,819,-25.55,54.9,0.18920000000000001,"63.883N",-25.2,5.8,10.5,11.4,25,38.299999999999997,49.4,55.3,52.5,44.4,28.2,13.5,9.8000000000000007,1369,1105,1198,751,369,84,8,32,184,675,1094,1247,0,0,0,0,7,67,171,108,18,0,0,0,0.3,6.98,11.3,18.86,29.3,37.22,44.42,40.64,31.6,12.9,12.9,6.6,0.87138263665594851,0.10555619997680082,101,70,46,51,{"$f":"IF(OR(C81=\"OA\",C81=\"OB\",C81=\"1B\",C81=\"1A\",C81=\"2A\",C81=\"2B\",C81=\"3A\",C81=\"3B\",C81=\"3C\"),TAN((LEFT(I81, 5)+VLOOKUP(C81,Main!$K$3:$L$21,2,FALSE))*PI()/180),IF(Checklist!$I$385=\"No\",TAN((LEFT(I81, 5)+VLOOKUP(C81,Main!$K$3:$L$21,2,FALSE))*PI()/180),\"NR\"))","v":"NR"},{"$f":"VLOOKUP(C81,Main!$A$49:$I$67,Main!$B$47,FALSE)","v":"NR"},{"$f":"VLOOKUP(C81,Main!$A$49:$I$67,Main!$C$47,FALSE)","v":"NR"},{"$f":"VLOOKUP(C81,Main!$A$49:$I$67,Main!$E$47,FALSE)&\":\"&\" \"&VLOOKUP(C81,Main!$A$49:$I$67,Main!$F$47,FALSE)","v":"Minimum COP @ 5°F:: 1.75"},{"$f":"VLOOKUP(C81,Main!$A$49:$I$67,Main!$G$47,FALSE)","v":15},{"$f":"VLOOKUP(C81,Main!$A$49:$I$67,Main!$H$47,FALSE)","v":3.1},{"$f":"VLOOKUP(C81,Main!$A$49:$I$67,Main!$I$47,FALSE)","v":16.100000000000001},371]
["AK","VALDEZ PIONEER FIEL",7,9319,783,12.25,55.2,0.18920000000000001,"61.130N",7.1,23.8,26.4,30.7,39.1,47.2,54.2,55.8,54.2,47.4,38.700000000000003,29.4,25.8,813,661,599,328,110,6,0,4,95,349,617,750,0,0,0,2,24,133,178,136,17,0,0,0,28.2,26.06,25.3,23.9,33.4,39.92,48.02,44.24,32.200000000000003,27.5,27.5,24.1,0.8190045248868778,0.1615408511960236,83,55,36,41,{"$f":"IF(OR(C82=\"OA\",C82=\"OB\",C82=\"1B\",C82=\"1A\",C82=\"2A\",C82=\"2B\",C82=\"3A\",C82=\"3B\",C82=\"3C\"),TAN((LEFT(I82, 5)+VLOOKUP(C82,Main!$K$3:$L$21,2,FALSE))*PI()/180),IF(Checklist!$I$385=\"No\",TAN((LEFT(I82, 5)+VLOOKUP(C82,Main!$K$3:$L$21,2,FALSE))*PI()/180),\"NR\"))","v":"NR"},{"$f":"VLOOKUP(C82,Main!$A$49:$I$67,Main!$B$47,FALSE)","v":"NR"},{"$f":"VLOOKUP(C82,Main!$A$49:$I$67,Main!$C$47,FALSE)","v":"NR"},{"$f":"VLOOKUP(C82,Main!$A$49:$I$67,Main!$E$47,FALSE)&\":\"&\" \"&VLOOKUP(C82,Main!$A$49:$I$67,Main!$F$47,FALSE)","v":"Minimum COP @ 5°F:: 1.75"},{"$f":"VLOOKUP(C82,Main!$A$49:$I$67,Main!$G$47,FALSE)","v":15},{"$f":"VLOOKUP(C82,Main!$A$49:$I$67,Main!$H$47,FALSE)","v":3.1},{"$f":"VLOOKUP(C82,Main!$A$49:$I$67,Main!$I$47,FALSE)","v":16.100000000000001},490]
["AK","VALDEZ WSO",7,9882,746,14.35,59.4,0.18920000000000001,"61.132N",5.3,22.3,25.3,28,36.5,45.7,52,54.1,52.6,47.3,38.700000000000003,27.6,24.2,858,691,683,405,153,17,3,6,91,352,673,799,0,0,0,1,21,77,129,86,11,0,0,0,15.3,19.760000000000002,21.2,31.82,39.9,45.32,48.74,48.2,43.7,11.7,11.7,18.7,0.82494529540481398,0.15690331479805161,85,57,37,42,{"$f":"IF(OR(C83=\"OA\",C83=\"OB\",C83=\"1B\",C83=\"1A\",C83=\"2A\",C83=\"2B\",C83=\"3A\",C83=\"3B\",C83=\"3C\"),TAN((LEFT(I83, 5)+VLOOKUP(C83,Main!$K$3:$L$21,2,FALSE))*PI()/180),IF(Checklist!$I$385=\"No\",TAN((LEFT(I83, 5)+VLOOKUP(C83,Main!$K$3:$L$21,2,FALSE))*PI()/180),\"NR\"))","v":"NR"},{"$f":"VLOOKUP(C83,Main!$A$49:$I$67,Main!$B$47,FALSE)","v":"NR"},{"$f":"VLOOKUP(C83,Main!$A$49:$I$67,Main!$C$47,FALSE)","v":"NR"},{"$f":"VLOOKUP(C83,Main!$A$49:$I$67,Main!$E$47,FALSE)&\":\"&\" \"&VLOOKUP(C83,Main!$A$49:$I$67,Main!$F$47,FALSE)","v":"Minimum COP @ 5°F:: 1.75"},{"$f":"VLOOKUP(C83,Main!$A$49:$I$67,Main!$G$47,FALSE)","v":15},{"$f":"VLOOKUP(C83,Main!$A$49:$I$67,Main!$H$47,FALSE)","v":3.1},{"$f":"VLOOKUP(C83,Main!$A$49:$I$67,Main!$I$47,FALSE)","v":16.100000000000001},325]
["AK","WHITTIER",7,8745,803,12.5,59.9,0.18920000000000001,"60.777N",9.8000000000000007,28.4,29.1,32.1,39.1,46.4,54.1,56.7,55.8,48.7,39.799999999999997,32.1,29.7,670,584,554,330,135,14,0,1,72,316,537,630,0,0,0,1,24,136,207,181,32,0,0,0,23.7,26.06,25.2,23.18,35.799999999999997,45.68,49.64,47.84,37.6,21,21,25.5,0.79797979797979801,0.16903501439583909,81,53,33,38,{"$f":"IF(OR(C84=\"OA\",C84=\"OB\",C84=\"1B\",C84=\"1A\",C84=\"2A\",C84=\"2B\",C84=\"3A\",C84=\"3B\",C84=\"3C\"),TAN((LEFT(I84, 5)+VLOOKUP(C84,Main!$K$3:$L$21,2,FALSE))*PI()/180),IF(Checklist!$I$385=\"No\",TAN((LEFT(I84, 5)+VLOOKUP(C84,Main!$K$3:$L$21,2,FALSE))*PI()/180),\"NR\"))","v":"NR"},{"$f":"VLOOKUP(C84,Main!$A$49:$I$67,Main!$B$47,FALSE)","v":"NR"},{"$f":"VLOOKUP(C84,Main!$A$49:$I$67,Main!$C$47,FALSE)","v":"NR"},{"$f":"VLOOKUP(C84,Main!$A$49:$I$67,Main!$E$47,FALSE)&\":\"&\" \"&VLOOKUP(C84,Main!$A$49:$I$67,Main!$F$47,FALSE)","v":"Minimum COP @ 5°F:: 1.75"},{"$f":"VLOOKUP(C84,Main!$A$49:$I$67,Main!$G$47,FALSE)","v":15},{"$f":"VLOOKUP(C84,Main!$A$49:$I$67,Main!$H$47,FALSE)","v":3.1},{"$f":"VLOOKUP(C84,Main!$A$49:$I$67,Main!$I$47,FALSE)","v":16.100000000000001},581]
["AK","WRANGELL","6B",7476,933,13.8,63.5,0.18920000000000001,"56.473N",15.8,32.1,34.299999999999997,36.799999999999997,42.9,49.6,54.6,57,56.9,52.2,45.2,37.9,33.9,554,439,408,215,64,4,0,0,13,156,362,499,0,0,0,4,52,142,218,213,80,7,0,0,21.9,24.62,26.1,30.56,37.799999999999997,46.58,51.44,50.36,44.8,28.9,28.9,25.5,0.77715877437325909,0.18846432639536087,76,48,29,34,{"$f":"IF(OR(C85=\"OA\",C85=\"OB\",C85=\"1B\",C85=\"1A\",C85=\"2A\",C85=\"2B\",C85=\"3A\",C85=\"3B\",C85=\"3C\"),TAN((LEFT(I85, 5)+VLOOKUP(C85,Main!$K$3:$L$21,2,FALSE))*PI()/180),IF(Checklist!$I$385=\"No\",TAN((LEFT(I85, 5)+VLOOKUP(C85,Main!$K$3:$L$21,2,FALSE))*PI()/180),\"NR\"))","v":"NR"},{"$f":"VLOOKUP(C85,Main!$A$49:$I$67,Main!$B$47,FALSE)","v":"NR"},{"$f":"VLOOKUP(C85,Main!$A$49:$I$67,Main!$C$47,FALSE)","v":"NR"},{"$f":"VLOOKUP(C85,Main!$A$49:$I$67,Main!$E$47,FALSE)&\":\"&\" \"&VLOOKUP(C85,Main!$A$49:$I$67,Main!$F$47,FALSE)","v":"Minimum COP @ 5°F:: 1.75"},{"$f":"VLOOKUP(C85,Main!$A$49:$I$67,Main!$G$47,FALSE)","v":15},{"$f":"VLOOKUP(C85,Main!$A$49:$I$67,Main!$H$47,FALSE)","v":3.1},{"$f":"VLOOKUP(C85,Main!$A$49:$I$67,Main!$I$47,FALSE)","v":16.100000000000001},716]
["AK","YAKUTAT STATE ARPT","6A",8981,796,15.35,55.4,0.18920000000000001,"59.512N",7,27.7,29.9,31.3,37.9,44.9,51.3,54.6,54.1,49,41.2,32.6,29.6,690,564,581,362,169,23,1,4,65,274,522,633,0,0,0,0,10,62,143,131,35,1,0,0,23,19.399999999999999,25,33.619999999999997,40.1,45.86,50,50.9,44.8,28,28,26.8,0.80148883374689828,0.16127603012848912,82,54,35,40,{"$f":"IF(OR(C86=\"OA\",C86=\"OB\",C86=\"1B\",C86=\"1A\",C86=\"2A\",C86=\"2B\",C86=\"3A\",C86=\"3B\",C86=\"3C\"),TAN((LEFT(I86, 5)+VLOOKUP(C86,Main!$K$3:$L$21,2,FALSE))*PI()/180),IF(Checklist!$I$385=\"No\",TAN((LEFT(I86, 5)+VLOOKUP(C86,Main!$K$3:$L$21,2,FALSE))*PI()/180),\"NR\"))","v":"NR"},{"$f":"VLOOKUP(C86,Main!$A$49:$I$67,Main!$B$47,FALSE)","v":"NR"},{"$f":"VLOOKUP(C86,Main!$A$49:$I$67,Main!$C$47,FALSE)","v":"NR"},{"$f":"VLOOKUP(C86,Main!$A$49:$I$67,Main!$E$47,FALSE)&\":\"&\" \"&VLOOKUP(C86,Main!$A$49:$I$67,Main!$F$47,FALSE)","v":"Minimum COP @ 5°F:: 1.75"},{"$f":"VLOOKUP(C86,Main!$A$49:$I$67,Main!$G$47,FALSE)","v":15},{"$f":"VLOOKUP(C86,Main!$A$49:$I$67,Main!$H$47,FALSE)","v":3.1},{"$f":"VLOOKUP(C86,Main!$A$49:$I$67,Main!$I$47,FALSE)","v":16.100000000000001},382]
["AL","ANNISTON METROPOLITAN AP","3A",2677,1464,39.75,78.8,0.1114,"33.587N",24.9,44.4,47.9,55,62.4,70.2,77.099999999999994,80,79.7,74,63.2,52.9,46.5,230,135,52,5,0,0,0,0,0,5,64,181,57,76,206,379,627,813,931,920,721,415,152,72,39.6,42.08,41.5,55.4,65.3,64.22,71.239999999999995,67.28,62.4,45.1,45.1,35.799999999999997,0.66101694915254239,0.22825609832570387,58,28,12,17,{"$f":"IF(OR(C87=\"OA\",C87=\"OB\",C87=\"1B\",C87=\"1A\",C87=\"2A\",C87=\"2B\",C87=\"3A\",C87=\"3B\",C87=\"3C\"),TAN((LEFT(I87, 5)+VLOOKUP(C87,Main!$K$3:$L$21,2,FALSE))*PI()/180),IF(Checklist!$I$385=\"No\",TAN((LEFT(I87, 5)+VLOOKUP(C87,Main!$K$3:$L$21,2,FALSE))*PI()/180),\"NR\"))","v":0.66389537582573455},{"$f":"VLOOKUP(C87,Main!$A$49:$I$67,Main!$B$47,FALSE)","v":0.6},{"$f":"VLOOKUP(C87,Main!$A$49:$I$67,Main!$C$47,FALSE)","v":0.25},{"$f":"VLOOKUP(C87,Main!$A$49:$I$67,Main!$E$47,FALSE)&\":\"&\" \"&VLOOKUP(C87,Main!$A$49:$I$67,Main!$F$47,FALSE)","v":"Minimum HSPF:: 9.6"},{"$f":"VLOOKUP(C87,Main!$A$49:$I$67,Main!$G$47,FALSE)","v":18},{"$f":"VLOOKUP(C87,Main!$A$49:$I$67,Main!$H$47,FALSE)","v":3.1},{"$f":"VLOOKUP(C87,Main!$A$49:$I$67,Main!$I$47,FALSE)","v":16.100000000000001},5369]
["AL","AUBURN-OPELIKA APT","3A",2416,1729,30.9,74.8,0.1114,"32.616N",27.5,46.3,49.3,55.8,62.8,71.099999999999994,77.3,79.7,79.3,74.099999999999994,64.5,55,47.5,190,114,45,4,0,0,0,0,0,3,43,154,77,93,223,388,653,820,919,909,723,454,193,76,28.9,34.880000000000003,36.299999999999997,43.7,55,68.540000000000006,69.08,67.28,62.4,43,43,36.1,0.63133640552995396,0.24290957624290957,57,27,11,16,{"$f":"IF(OR(C88=\"OA\",C88=\"OB\",C88=\"1B\",C88=\"1A\",C88=\"2A\",C88=\"2B\",C88=\"3A\",C88=\"3B\",C88=\"3C\"),TAN((LEFT(I88, 5)+VLOOKUP(C88,Main!$K$3:$L$21,2,FALSE))*PI()/180),IF(Checklist!$I$385=\"No\",TAN((LEFT(I88, 5)+VLOOKUP(C88,Main!$K$3:$L$21,2,FALSE))*PI()/180),\"NR\"))","v":0.63977262394683898},{"$f":"VLOOKUP(C88,Main!$A$49:$I$67,Main!$B$47,FALSE)","v":0.6},{"$f":"VLOOKUP(C88,Main!$A$49:$I$67,Main!$C$47,FALSE)","v":0.25},{"$f":"VLOOKUP(C88,Main!$A$49:$I$67,Main!$E$47,FALSE)&\":\"&\" \"&VLOOKUP(C88,Main!$A$49:$I$67,Main!$F$47,FALSE)","v":"Minimum HSPF:: 9.6"},{"$f":"VLOOKUP(C88,Main!$A$49:$I$67,Main!$G$47,FALSE)","v":18},{"$f":"VLOOKUP(C88,Main!$A$49:$I$67,Main!$H$47,FALSE)","v":3.1},{"$f":"VLOOKUP(C88,Main!$A$49:$I$67,Main!$I$47,FALSE)","v":16.100000000000001},5528]
["AL","BIRMINGHAM MUNICIPAL AP","3A",2610,1607,37.299999999999997,80.099999999999994,0.1114,"33.566N",25.1,44.6,48.3,55.4,63.1,70.900000000000006,77.8,80.8,80.599999999999994,74.8,64,53.7,46.8,232,135,55,6,0,0,0,0,0,4,61,180,66,86,223,400,646,834,955,947,744,438,171,80,31.8,32.72,39.6,50,57.6,67.819999999999993,71.42,68.540000000000006,63.3,46.8,46.8,33.4,0.65811965811965811,0.2293202293202293,58,28,12,17,{"$f":"IF(OR(C89=\"OA\",C89=\"OB\",C89=\"1B\",C89=\"1A\",C89=\"2A\",C89=\"2B\",C89=\"3A\",C89=\"3B\",C89=\"3C\"),TAN((LEFT(I89, 5)+VLOOKUP(C89,Main!$K$3:$L$21,2,FALSE))*PI()/180),IF(Checklist!$I$385=\"No\",TAN((LEFT(I89, 5)+VLOOKUP(C89,Main!$K$3:$L$21,2,FALSE))*PI()/180),\"NR\"))","v":0.66339257323452383},{"$f":"VLOOKUP(C89,Main!$A$49:$I$67,Main!$B$47,FALSE)","v":0.6},{"$f":"VLOOKUP(C89,Main!$A$49:$I$67,Main!$C$47,FALSE)","v":0.25},{"$f":"VLOOKUP(C89,Main!$A$49:$I$67,Main!$E$47,FALSE)&\":\"&\" \"&VLOOKUP(C89,Main!$A$49:$I$67,Main!$F$47,FALSE)","v":"Minimum HSPF:: 9.6"},{"$f":"VLOOKUP(C89,Main!$A$49:$I$67,Main!$G$47,FALSE)","v":18},{"$f":"VLOOKUP(C89,Main!$A$49:$I$67,Main!$H$47,FALSE)","v":3.1},{"$f":"VLOOKUP(C89,Main!$A$49:$I$67,Main!$I$47,FALSE)","v":16.100000000000001},5590]
["AL","CAIRNS FIELD FORT RUCKER","2A",1797,1608,38.1,81.5,0.1114,"31.267N",29.8,50.3,53.4,59.4,65.7,73.8,79.5,81.400000000000006,80.400000000000006,76.7,67.400000000000006,57.7,52.4,119,62,21,0,0,0,0,0,0,1,22,82,129,157,314,472,739,885,974,944,801,539,254,155,35.4,41.36,42.8,47.3,68.900000000000006,68.900000000000006,73.760000000000005,70.52,66.599999999999994,45.7,45.7,39.6,0.6,0.25753502193292765,55,25,11,16,{"$f":"IF(OR(C90=\"OA\",C90=\"OB\",C90=\"1B\",C90=\"1A\",C90=\"2A\",C90=\"2B\",C90=\"3A\",C90=\"3B\",C90=\"3C\"),TAN((LEFT(I90, 5)+VLOOKUP(C90,Main!$K$3:$L$21,2,FALSE))*PI()/180),IF(Checklist!$I$385=\"No\",TAN((LEFT(I90, 5)+VLOOKUP(C90,Main!$K$3:$L$21,2,FALSE))*PI()/180),\"NR\"))","v":0.60705372180344996},{"$f":"VLOOKUP(C90,Main!$A$49:$I$67,Main!$B$47,FALSE)","v":0.6},{"$f":"VLOOKUP(C90,Main!$A$49:$I$67,Main!$C$47,FALSE)","v":0.25},{"$f":"VLOOKUP(C90,Main!$A$49:$I$67,Main!$E$47,FALSE)&\":\"&\" \"&VLOOKUP(C90,Main!$A$49:$I$67,Main!$F$47,FALSE)","v":"Minimum HSPF:: 9.6"},{"$f":"VLOOKUP(C90,Main!$A$49:$I$67,Main!$G$47,FALSE)","v":18},{"$f":"VLOOKUP(C90,Main!$A$49:$I$67,Main!$H$47,FALSE)","v":3.1},{"$f":"VLOOKUP(C90,Main!$A$49:$I$67,Main!$I$47,FALSE)","v":16.100000000000001},6363]
["AL","DOTHAN MUNICIPAL AP","2A",1735,1687,41.9,80.400000000000006,0.1114,"31.317N",30.9,50.5,53.8,59.8,66.5,74.8,80.5,82,81.400000000000006,77.3,67.900000000000006,58.1,52.3,114,54,18,1,0,0,0,0,0,0,20,82,130,161,320,495,770,914,993,973,818,556,264,154,29.7,35.24,52.3,49.46,61,68.540000000000006,70.88,72.86,71.599999999999994,47.3,47.3,35.6,0.6,0.26517083120856705,55,25,11,16,{"$f":"IF(OR(C91=\"OA\",C91=\"OB\",C91=\"1B\",C91=\"1A\",C91=\"2A\",C91=\"2B\",C91=\"3A\",C91=\"3B\",C91=\"3C\"),TAN((LEFT(I91, 5)+VLOOKUP(C91,Main!$K$3:$L$21,2,FALSE))*PI()/180),IF(Checklist!$I$385=\"No\",TAN((LEFT(I91, 5)+VLOOKUP(C91,Main!$K$3:$L$21,2,FALSE))*PI()/180),\"NR\"))","v":0.60824860905441602},{"$f":"VLOOKUP(C91,Main!$A$49:$I$67,Main!$B$47,FALSE)","v":0.6},{"$f":"VLOOKUP(C91,Main!$A$49:$I$67,Main!$C$47,FALSE)","v":0.25},{"$f":"VLOOKUP(C91,Main!$A$49:$I$67,Main!$E$47,FALSE)&\":\"&\" \"&VLOOKUP(C91,Main!$A$49:$I$67,Main!$F$47,FALSE)","v":"Minimum HSPF:: 9.6"},{"$f":"VLOOKUP(C91,Main!$A$49:$I$67,Main!$G$47,FALSE)","v":18},{"$f":"VLOOKUP(C91,Main!$A$49:$I$67,Main!$H$47,FALSE)","v":3.1},{"$f":"VLOOKUP(C91,Main!$A$49:$I$67,Main!$I$47,FALSE)","v":16.100000000000001},6548]
["AL","HUNTSVILLE INTL/JONES FIELD","3A",3052,1575,21.55,81.900000000000006,0.1114,"34.644N",22.9,41.8,45.4,53,61.8,69.900000000000006,77.2,79.7,79.3,73.3,62.3,51.5,44.2,296,182,80,9,0,0,0,0,0,7,88,233,41,55,173,363,617,815,921,907,699,389,132,53,26.6,32.54,41,45.86,57.6,65.3,68,68,60.8,44.8,44.8,30.7,0.69465648854961837,0.218133876670462,59,29,13,18,{"$f":"IF(OR(C92=\"OA\",C92=\"OB\",C92=\"1B\",C92=\"1A\",C92=\"2A\",C92=\"2B\",C92=\"3A\",C92=\"3B\",C92=\"3C\"),TAN((LEFT(I92, 5)+VLOOKUP(C92,Main!$K$3:$L$21,2,FALSE))*PI()/180),IF(Checklist!$I$385=\"No\",TAN((LEFT(I92, 5)+VLOOKUP(C92,Main!$K$3:$L$21,2,FALSE))*PI()/180),\"NR\"))","v":0.69088465986307235},{"$f":"VLOOKUP(C92,Main!$A$49:$I$67,Main!$B$47,FALSE)","v":0.6},{"$f":"VLOOKUP(C92,Main!$A$49:$I$67,Main!$C$47,FALSE)","v":0.25},{"$f":"VLOOKUP(C92,Main!$A$49:$I$67,Main!$E$47,FALSE)&\":\"&\" \"&VLOOKUP(C92,Main!$A$49:$I$67,Main!$F$47,FALSE)","v":"Minimum HSPF:: 9.6"},{"$f":"VLOOKUP(C92,Main!$A$49:$I$67,Main!$G$47,FALSE)","v":18},{"$f":"VLOOKUP(C92,Main!$A$49:$I$67,Main!$H$47,FALSE)","v":3.1},{"$f":"VLOOKUP(C92,Main!$A$49:$I$67,Main!$I$47,FALSE)","v":16.100000000000001},5165]
["AL","MAXWELL AFB","2A",1957,1623,38.299999999999997,82.9,0.1114,"32.383N",29.6,48.3,52.6,58.8,65.8,74.099999999999994,81,82.8,82.7,77.8,67.099999999999994,56,51.5,146,66,25,2,0,0,0,0,0,1,30,96,92,139,297,476,747,931,1017,1013,834,531,211,141,32.4,36.5,39.700000000000003,47.84,61.3,69.98,73.58,69.8,64.900000000000006,42.3,42.3,36.1,0.6,0.25619369369369366,56,26,12,17,{"$f":"IF(OR(C93=\"OA\",C93=\"OB\",C93=\"1B\",C93=\"1A\",C93=\"2A\",C93=\"2B\",C93=\"3A\",C93=\"3B\",C93=\"3C\"),TAN((LEFT(I93, 5)+VLOOKUP(C93,Main!$K$3:$L$21,2,FALSE))*PI()/180),IF(Checklist!$I$385=\"No\",TAN((LEFT(I93, 5)+VLOOKUP(C93,Main!$K$3:$L$21,2,FALSE))*PI()/180),\"NR\"))","v":0.63412975676133077},{"$f":"VLOOKUP(C93,Main!$A$49:$I$67,Main!$B$47,FALSE)","v":0.6},{"$f":"VLOOKUP(C93,Main!$A$49:$I$67,Main!$C$47,FALSE)","v":0.25},{"$f":"VLOOKUP(C93,Main!$A$49:$I$67,Main!$E$47,FALSE)&\":\"&\" \"&VLOOKUP(C93,Main!$A$49:$I$67,Main!$F$47,FALSE)","v":"Minimum HSPF:: 9.6"},{"$f":"VLOOKUP(C93,Main!$A$49:$I$67,Main!$G$47,FALSE)","v":18},{"$f":"VLOOKUP(C93,Main!$A$49:$I$67,Main!$H$47,FALSE)","v":3.1},{"$f":"VLOOKUP(C93,Main!$A$49:$I$67,Main!$I$47,FALSE)","v":16.100000000000001},6429]
["AL","MOBILE DOWNTOWN AP","2A",1603,1728,44.5,83.1,0.1114,"30.626N",32.5,51,53.9,60.3,67.099999999999994,74.400000000000006,80.400000000000006,82,82.4,78.8,69.5,59.6,53,103,46,11,0,0,0,0,0,0,0,13,72,135,155,330,512,757,912,993,1003,865,604,302,164,48.2,47.48,47.3,56.48,67.8,66.56,74.12,72.319999999999993,67.5,50.2,50.2,40.299999999999997,0.6,0.27712219261515036,54,25,11,16,{"$f":"IF(OR(C94=\"OA\",C94=\"OB\",C94=\"1B\",C94=\"1A\",C94=\"2A\",C94=\"2B\",C94=\"3A\",C94=\"3B\",C94=\"3C\"),TAN((LEFT(I94, 5)+VLOOKUP(C94,Main!$K$3:$L$21,2,FALSE))*PI()/180),IF(Checklist!$I$385=\"No\",TAN((LEFT(I94, 5)+VLOOKUP(C94,Main!$K$3:$L$21,2,FALSE))*PI()/180),\"NR\"))","v":0.59186960103516895},{"$f":"VLOOKUP(C94,Main!$A$49:$I$67,Main!$B$47,FALSE)","v":0.6},{"$f":"VLOOKUP(C94,Main!$A$49:$I$67,Main!$C$47,FALSE)","v":0.25},{"$f":"VLOOKUP(C94,Main!$A$49:$I$67,Main!$E$47,FALSE)&\":\"&\" \"&VLOOKUP(C94,Main!$A$49:$I$67,Main!$F$47,FALSE)","v":"Minimum HSPF:: 9.6"},{"$f":"VLOOKUP(C94,Main!$A$49:$I$67,Main!$G$47,FALSE)","v":18},{"$f":"VLOOKUP(C94,Main!$A$49:$I$67,Main!$H$47,FALSE)","v":3.1},{"$f":"VLOOKUP(C94,Main!$A$49:$I$67,Main!$I$47,FALSE)","v":16.100000000000001},6732]
["AL","MOBILE REGIONAL AP","2A",1642,1643,43.35,81.3,0.1114,"30.688N",31.1,51.3,54.5,60.3,66.7,74.2,79.900000000000006,81.599999999999994,81.7,77.7,68.3,58.8,53,103,49,16,0,0,0,0,0,0,1,20,79,144,175,336,502,750,896,980,981,830,570,282,171,38.5,44.06,51.3,53.6,65.099999999999994,71.239999999999995,72.319999999999993,71.599999999999994,66.2,50.4,50.4,42.3,0.6,0.26660807148612026,55,25,11,16,{"$f":"IF(OR(C95=\"OA\",C95=\"OB\",C95=\"1B\",C95=\"1A\",C95=\"2A\",C95=\"2B\",C95=\"3A\",C95=\"3B\",C95=\"3C\"),TAN((LEFT(I95, 5)+VLOOKUP(C95,Main!$K$3:$L$21,2,FALSE))*PI()/180),IF(Checklist!$I$385=\"No\",TAN((LEFT(I95, 5)+VLOOKUP(C95,Main!$K$3:$L$21,2,FALSE))*PI()/180),\"NR\"))","v":0.59328451945730787},{"$f":"VLOOKUP(C95,Main!$A$49:$I$67,Main!$B$47,FALSE)","v":0.6},{"$f":"VLOOKUP(C95,Main!$A$49:$I$67,Main!$C$47,FALSE)","v":0.25},{"$f":"VLOOKUP(C95,Main!$A$49:$I$67,Main!$E$47,FALSE)&\":\"&\" \"&VLOOKUP(C95,Main!$A$49:$I$67,Main!$F$47,FALSE)","v":"Minimum HSPF:: 9.6"},{"$f":"VLOOKUP(C95,Main!$A$49:$I$67,Main!$G$47,FALSE)","v":18},{"$f":"VLOOKUP(C95,Main!$A$49:$I$67,Main!$H$47,FALSE)","v":3.1},{"$f":"VLOOKUP(C95,Main!$A$49:$I$67,Main!$I$47,FALSE)","v":16.100000000000001},6617]
["AL","MONTGOMERY DANNELLY FIELD","2A",2109,1688,46.5,83.1,0.1114,"32.300N",27.9,47.7,51.6,58.2,65,72.8,79.5,82,81.8,76.8,66.2,55.9,49.5,161,82,27,1,0,0,0,0,0,2,35,124,91,125,282,452,708,884,992,987,804,504,213,110,34.5,38.119999999999997,48,55.22,61,68.36,71.959999999999994,70.7,64,45.5,45.5,35.200000000000003,0.60591133004926101,0.24533261440992113,56,26,12,17,{"$f":"IF(OR(C96=\"OA\",C96=\"OB\",C96=\"1B\",C96=\"1A\",C96=\"2A\",C96=\"2B\",C96=\"3A\",C96=\"3B\",C96=\"3C\"),TAN((LEFT(I96, 5)+VLOOKUP(C96,Main!$K$3:$L$21,2,FALSE))*PI()/180),IF(Checklist!$I$385=\"No\",TAN((LEFT(I96, 5)+VLOOKUP(C96,Main!$K$3:$L$21,2,FALSE))*PI()/180),\"NR\"))","v":0.63217375774918561},{"$f":"VLOOKUP(C96,Main!$A$49:$I$67,Main!$B$47,FALSE)","v":0.6},{"$f":"VLOOKUP(C96,Main!$A$49:$I$67,Main!$C$47,FALSE)","v":0.25},{"$f":"VLOOKUP(C96,Main!$A$49:$I$67,Main!$E$47,FALSE)&\":\"&\" \"&VLOOKUP(C96,Main!$A$49:$I$67,Main!$F$47,FALSE)","v":"Minimum HSPF:: 9.6"},{"$f":"VLOOKUP(C96,Main!$A$49:$I$67,Main!$G$47,FALSE)","v":18},{"$f":"VLOOKUP(C96,Main!$A$49:$I$67,Main!$H$47,FALSE)","v":3.1},{"$f":"VLOOKUP(C96,Main!$A$49:$I$67,Main!$I$47,FALSE)","v":16.100000000000001},6152]
["AL","MUSCLE SHOALS REGIONAL AP","3A",2997,1404,24,81,0.1114,"34.744N",23.8,42.5,45.8,53.2,62.3,70.099999999999994,77.3,80.3,79.7,73.7,62.4,51.7,44.1,277,172,72,8,0,0,0,0,0,6,85,234,45,54,172,376,622,819,939,922,711,390,134,51,39.200000000000003,32.36,41.5,49.64,60.4,64.760000000000005,73.040000000000006,66.38,61,47.1,47.1,39.9,0.68627450980392157,0.22257551669316375,59,29,13,18,{"$f":"IF(OR(C97=\"OA\",C97=\"OB\",C97=\"1B\",C97=\"1A\",C97=\"2A\",C97=\"2B\",C97=\"3A\",C97=\"3B\",C97=\"3C\"),TAN((LEFT(I97, 5)+VLOOKUP(C97,Main!$K$3:$L$21,2,FALSE))*PI()/180),IF(Checklist!$I$385=\"No\",TAN((LEFT(I97, 5)+VLOOKUP(C97,Main!$K$3:$L$21,2,FALSE))*PI()/180),\"NR\"))","v":0.69346618797185455},{"$f":"VLOOKUP(C97,Main!$A$49:$I$67,Main!$B$47,FALSE)","v":0.6},{"$f":"VLOOKUP(C97,Main!$A$49:$I$67,Main!$C$47,FALSE)","v":0.25},{"$f":"VLOOKUP(C97,Main!$A$49:$I$67,Main!$E$47,FALSE)&\":\"&\" \"&VLOOKUP(C97,Main!$A$49:$I$67,Main!$F$47,FALSE)","v":"Minimum HSPF:: 9.6"},{"$f":"VLOOKUP(C97,Main!$A$49:$I$67,Main!$G$47,FALSE)","v":18},{"$f":"VLOOKUP(C97,Main!$A$49:$I$67,Main!$H$47,FALSE)","v":3.1},{"$f":"VLOOKUP(C97,Main!$A$49:$I$67,Main!$I$47,FALSE)","v":16.100000000000001},5235]
["AL","TUSCALOOSA MUNICIPAL AP","3A",2450,1500,39.200000000000003,81.099999999999994,0.1114,"33.212N",26.6,45.4,49.3,56.4,64.099999999999994,71.900000000000006,78.900000000000006,81.599999999999994,81.3,75.5,64.5,54.1,47.8,209,115,40,3,0,0,0,0,0,3,53,157,66,96,238,424,679,867,979,971,765,454,177,87,39.6,39.020000000000003,37.6,56.66,65.5,65.48,70.7,67.459999999999994,68,52.3,52.3,28.8,0.64601769911504425,0.23762893328110718,57,27,12,17,{"$f":"IF(OR(C98=\"OA\",C98=\"OB\",C98=\"1B\",C98=\"1A\",C98=\"2A\",C98=\"2B\",C98=\"3A\",C98=\"3B\",C98=\"3C\"),TAN((LEFT(I98, 5)+VLOOKUP(C98,Main!$K$3:$L$21,2,FALSE))*PI()/180),IF(Checklist!$I$385=\"No\",TAN((LEFT(I98, 5)+VLOOKUP(C98,Main!$K$3:$L$21,2,FALSE))*PI()/180),\"NR\"))","v":0.65463096269229792},{"$f":"VLOOKUP(C98,Main!$A$49:$I$67,Main!$B$47,FALSE)","v":0.6},{"$f":"VLOOKUP(C98,Main!$A$49:$I$67,Main!$C$47,FALSE)","v":0.25},{"$f":"VLOOKUP(C98,Main!$A$49:$I$67,Main!$E$47,FALSE)&\":\"&\" \"&VLOOKUP(C98,Main!$A$49:$I$67,Main!$F$47,FALSE)","v":"Minimum HSPF:: 9.6"},{"$f":"VLOOKUP(C98,Main!$A$49:$I$67,Main!$G$47,FALSE)","v":18},{"$f":"VLOOKUP(C98,Main!$A$49:$I$67,Main!$H$47,FALSE)","v":3.1},{"$f":"VLOOKUP(C98,Main!$A$49:$I$67,Main!$I$47,FALSE)","v":16.100000000000001},5803]
["AR","BATESVILLE (AWOS)","4A",3450,1599,25.7,82.2,9.1200000000000003E-2,"35.726N",20.2,39.4,42.8,51.1,60.7,68.900000000000006,77.099999999999994,80.7,80,72.099999999999994,61.4,50.4,41.5,359,242,112,13,1,0,0,0,0,10,105,298,30,42,147,334,588,812,953,931,662,362,117,34,33.6,26.6,29.5,39.92,53.1,65.12,65.66,61.16,63,35.6,35.6,32.9,0.72027972027972031,0.20581250706773718,59,29,14,19,{"$f":"IF(OR(C99=\"OA\",C99=\"OB\",C99=\"1B\",C99=\"1A\",C99=\"2A\",C99=\"2B\",C99=\"3A\",C99=\"3B\",C99=\"3C\"),TAN((LEFT(I99, 5)+VLOOKUP(C99,Main!$K$3:$L$21,2,FALSE))*PI()/180),IF(Checklist!$I$385=\"No\",TAN((LEFT(I99, 5)+VLOOKUP(C99,Main!$K$3:$L$21,2,FALSE))*PI()/180),\"NR\"))","v":"NR"},{"$f":"VLOOKUP(C99,Main!$A$49:$I$67,Main!$B$47,FALSE)","v":0.5},{"$f":"VLOOKUP(C99,Main!$A$49:$I$67,Main!$C$47,FALSE)","v":0.25},{"$f":"VLOOKUP(C99,Main!$A$49:$I$67,Main!$E$47,FALSE)&\":\"&\" \"&VLOOKUP(C99,Main!$A$49:$I$67,Main!$F$47,FALSE)","v":"Minimum HSPF:: 9.6"},{"$f":"VLOOKUP(C99,Main!$A$49:$I$67,Main!$G$47,FALSE)","v":18},{"$f":"VLOOKUP(C99,Main!$A$49:$I$67,Main!$H$47,FALSE)","v":3.1},{"$f":"VLOOKUP(C99,Main!$A$49:$I$67,Main!$I$47,FALSE)","v":16.100000000000001},5012]
["AR","BENTONVILLE (AWOS)","4A",4043,1591,28.75,81.3,9.1200000000000003E-2,"36.350N",15.9,36.299999999999997,40.200000000000003,48.4,57.2,65.7,74.3,78.400000000000006,77.900000000000006,69.3,58.8,48.1,38.799999999999997,444,303,155,32,3,0,0,0,0,22,146,370,19,30,104,247,490,729,879,864,579,295,88,22,25.9,33.979999999999997,29.3,43.7,58.8,62.06,66.92,66.2,58.6,32.5,32.5,23.9,0.74763406940063093,0.18882606214659955,61,31,15,20,{"$f":"IF(OR(C100=\"OA\",C100=\"OB\",C100=\"1B\",C100=\"1A\",C100=\"2A\",C100=\"2B\",C100=\"3A\",C100=\"3B\",C100=\"3C\"),TAN((LEFT(I100, 5)+VLOOKUP(C100,Main!$K$3:$L$21,2,FALSE))*PI()/180),IF(Checklist!$I$385=\"No\",TAN((LEFT(I100, 5)+VLOOKUP(C100,Main!$K$3:$L$21,2,FALSE))*PI()/180),\"NR\"))","v":"NR"},{"$f":"VLOOKUP(C100,Main!$A$49:$I$67,Main!$B$47,FALSE)","v":0.5},{"$f":"VLOOKUP(C100,Main!$A$49:$I$67,Main!$C$47,FALSE)","v":0.25},{"$f":"VLOOKUP(C100,Main!$A$49:$I$67,Main!$E$47,FALSE)&\":\"&\" \"&VLOOKUP(C100,Main!$A$49:$I$67,Main!$F$47,FALSE)","v":"Minimum HSPF:: 9.6"},{"$f":"VLOOKUP(C100,Main!$A$49:$I$67,Main!$G$47,FALSE)","v":18},{"$f":"VLOOKUP(C100,Main!$A$49:$I$67,Main!$H$47,FALSE)","v":3.1},{"$f":"VLOOKUP(C100,Main!$A$49:$I$67,Main!$I$47,FALSE)","v":16.100000000000001},4346]
["AR","EL DORADO GOODWIN FIELD","3A",2622,1604,39.200000000000003,87.3,9.1200000000000003E-2,"33.221N",25.3,44.8,48.1,55.8,63.7,71.5,78.8,82,81.8,75,64.099999999999994,53.3,46.4,228,142,50,4,0,0,0,0,0,4,68,192,66,88,229,415,668,864,991,985,749,441,168,79,37.200000000000003,31.46,50.4,52.34,66.900000000000006,69.8,72.14,68.72,69.3,50.7,50.7,35.6,0.65517241379310354,0.23039432875498445,57,27,13,18,{"$f":"IF(OR(C101=\"OA\",C101=\"OB\",C101=\"1B\",C101=\"1A\",C101=\"2A\",C101=\"2B\",C101=\"3A\",C101=\"3B\",C101=\"3C\"),TAN((LEFT(I101, 5)+VLOOKUP(C101,Main!$K$3:$L$21,2,FALSE))*PI()/180),IF(Checklist!$I$385=\"No\",TAN((LEFT(I101, 5)+VLOOKUP(C101,Main!$K$3:$L$21,2,FALSE))*PI()/180),\"NR\"))","v":0.65488031874612207},{"$f":"VLOOKUP(C101,Main!$A$49:$I$67,Main!$B$47,FALSE)","v":0.6},{"$f":"VLOOKUP(C101,Main!$A$49:$I$67,Main!$C$47,FALSE)","v":0.25},{"$f":"VLOOKUP(C101,Main!$A$49:$I$67,Main!$E$47,FALSE)&\":\"&\" \"&VLOOKUP(C101,Main!$A$49:$I$67,Main!$F$47,FALSE)","v":"Minimum HSPF:: 9.6"},{"$f":"VLOOKUP(C101,Main!$A$49:$I$67,Main!$G$47,FALSE)","v":18},{"$f":"VLOOKUP(C101,Main!$A$49:$I$67,Main!$H$47,FALSE)","v":3.1},{"$f":"VLOOKUP(C101,Main!$A$49:$I$67,Main!$I$47,FALSE)","v":16.100000000000001},5743]
["AR","FAYETTEVILLE DRAKE FIELD","4A",3962,1538,21.55,86,9.1200000000000003E-2,"36.010N",16.3,37.200000000000003,41,48.8,57.8,65.900000000000006,74,78.3,77.7,69.3,58.5,47.9,39.1,417,283,148,27,3,0,0,0,0,22,154,362,21,32,111,261,494,720,877,860,578,286,92,23,29.8,25.7,40.1,50.72,53.1,65.48,70.16,66.92,63.5,43.5,43.5,24.4,0.74025974025974028,0.19028699879763705,61,31,15,20,{"$f":"IF(OR(C102=\"OA\",C102=\"OB\",C102=\"1B\",C102=\"1A\",C102=\"2A\",C102=\"2B\",C102=\"3A\",C102=\"3B\",C102=\"3C\"),TAN((LEFT(I102, 5)+VLOOKUP(C102,Main!$K$3:$L$21,2,FALSE))*PI()/180),IF(Checklist!$I$385=\"No\",TAN((LEFT(I102, 5)+VLOOKUP(C102,Main!$K$3:$L$21,2,FALSE))*PI()/180),\"NR\"))","v":"NR"},{"$f":"VLOOKUP(C102,Main!$A$49:$I$67,Main!$B$47,FALSE)","v":0.5},{"$f":"VLOOKUP(C102,Main!$A$49:$I$67,Main!$C$47,FALSE)","v":0.25},{"$f":"VLOOKUP(C102,Main!$A$49:$I$67,Main!$E$47,FALSE)&\":\"&\" \"&VLOOKUP(C102,Main!$A$49:$I$67,Main!$F$47,FALSE)","v":"Minimum HSPF:: 9.6"},{"$f":"VLOOKUP(C102,Main!$A$49:$I$67,Main!$G$47,FALSE)","v":18},{"$f":"VLOOKUP(C102,Main!$A$49:$I$67,Main!$H$47,FALSE)","v":3.1},{"$f":"VLOOKUP(C102,Main!$A$49:$I$67,Main!$I$47,FALSE)","v":16.100000000000001},4355]
["AR","FLIPPIN (AWOS)","4A",3801,1555,28.4,83.3,9.1200000000000003E-2,"36.291N",17.8,37.1,41.1,49.2,59.2,67,75.3,79.2,79.099999999999994,70.400000000000006,60,48.9,39.6,422,285,134,20,1,0,0,0,0,12,130,347,23,36,110,297,528,759,905,901,613,320,98,26,25.7,30.74,30.7,42.62,55.9,60.26,66.739999999999995,61.7,60.8,41.4,41.4,24.6,0.74110032362459544,0.19597286529557442,60,30,14,19,{"$f":"IF(OR(C103=\"OA\",C103=\"OB\",C103=\"1B\",C103=\"1A\",C103=\"2A\",C103=\"2B\",C103=\"3A\",C103=\"3B\",C103=\"3C\"),TAN((LEFT(I103, 5)+VLOOKUP(C103,Main!$K$3:$L$21,2,FALSE))*PI()/180),IF(Checklist!$I$385=\"No\",TAN((LEFT(I103, 5)+VLOOKUP(C103,Main!$K$3:$L$21,2,FALSE))*PI()/180),\"NR\"))","v":"NR"},{"$f":"VLOOKUP(C103,Main!$A$49:$I$67,Main!$B$47,FALSE)","v":0.5},{"$f":"VLOOKUP(C103,Main!$A$49:$I$67,Main!$C$47,FALSE)","v":0.25},{"$f":"VLOOKUP(C103,Main!$A$49:$I$67,Main!$E$47,FALSE)&\":\"&\" \"&VLOOKUP(C103,Main!$A$49:$I$67,Main!$F$47,FALSE)","v":"Minimum HSPF:: 9.6"},{"$f":"VLOOKUP(C103,Main!$A$49:$I$67,Main!$G$47,FALSE)","v":18},{"$f":"VLOOKUP(C103,Main!$A$49:$I$67,Main!$H$47,FALSE)","v":3.1},{"$f":"VLOOKUP(C103,Main!$A$49:$I$67,Main!$I$47,FALSE)","v":16.100000000000001},4616]
["AR","FORT SMITH REGIONAL AP","3A",3122,1678,26.05,83.1,9.1200000000000003E-2,"35.333N",22.4,40.6,44.9,53.3,62.1,70.2,78.5,82.8,82.4,74.2,63.2,51.7,42.4,319,191,76,8,1,0,0,0,0,5,87,270,26,49,176,372,627,856,1015,1005,726,414,138,34,26.1,26.42,39.6,47.84,57.9,67.64,70.7,68.72,64.400000000000006,43.7,43.7,26.1,0.70802919708029199,0.21574205784732098,58,28,13,18,{"$f":"IF(OR(C104=\"OA\",C104=\"OB\",C104=\"1B\",C104=\"1A\",C104=\"2A\",C104=\"2B\",C104=\"3A\",C104=\"3B\",C104=\"3C\"),TAN((LEFT(I104, 5)+VLOOKUP(C104,Main!$K$3:$L$21,2,FALSE))*PI()/180),IF(Checklist!$I$385=\"No\",TAN((LEFT(I104, 5)+VLOOKUP(C104,Main!$K$3:$L$21,2,FALSE))*PI()/180),\"NR\"))","v":0.70882584798838044},{"$f":"VLOOKUP(C104,Main!$A$49:$I$67,Main!$B$47,FALSE)","v":0.6},{"$f":"VLOOKUP(C104,Main!$A$49:$I$67,Main!$C$47,FALSE)","v":0.25},{"$f":"VLOOKUP(C104,Main!$A$49:$I$67,Main!$E$47,FALSE)&\":\"&\" \"&VLOOKUP(C104,Main!$A$49:$I$67,Main!$F$47,FALSE)","v":"Minimum HSPF:: 9.6"},{"$f":"VLOOKUP(C104,Main!$A$49:$I$67,Main!$G$47,FALSE)","v":18},{"$f":"VLOOKUP(C104,Main!$A$49:$I$67,Main!$H$47,FALSE)","v":3.1},{"$f":"VLOOKUP(C104,Main!$A$49:$I$67,Main!$I$47,FALSE)","v":16.100000000000001},5438]
["AR","HARRISON FAA AP","4A",3861,1483,24.45,83.5,9.1200000000000003E-2,"36.267N",16.3,37.5,41.1,49,58.7,66.2,74.400000000000006,78.599999999999994,78,69.7,59.5,48.7,39.4,412,282,150,25,2,0,0,0,0,17,142,355,25,33,121,284,506,732,885,868,590,311,104,26,27.9,28.04,38.5,43.34,54.9,63.86,67.099999999999994,66.2,63.1,39,39,30.9,0.73770491803278693,0.19028699879763705,61,30,14,19,{"$f":"IF(OR(C105=\"OA\",C105=\"OB\",C105=\"1B\",C105=\"1A\",C105=\"2A\",C105=\"2B\",C105=\"3A\",C105=\"3B\",C105=\"3C\"),TAN((LEFT(I105, 5)+VLOOKUP(C105,Main!$K$3:$L$21,2,FALSE))*PI()/180),IF(Checklist!$I$385=\"No\",TAN((LEFT(I105, 5)+VLOOKUP(C105,Main!$K$3:$L$21,2,FALSE))*PI()/180),\"NR\"))","v":"NR"},{"$f":"VLOOKUP(C105,Main!$A$49:$I$67,Main!$B$47,FALSE)","v":0.5},{"$f":"VLOOKUP(C105,Main!$A$49:$I$67,Main!$C$47,FALSE)","v":0.25},{"$f":"VLOOKUP(C105,Main!$A$49:$I$67,Main!$E$47,FALSE)&\":\"&\" \"&VLOOKUP(C105,Main!$A$49:$I$67,Main!$F$47,FALSE)","v":"Minimum HSPF:: 9.6"},{"$f":"VLOOKUP(C105,Main!$A$49:$I$67,Main!$G$47,FALSE)","v":18},{"$f":"VLOOKUP(C105,Main!$A$49:$I$67,Main!$H$47,FALSE)","v":3.1},{"$f":"VLOOKUP(C105,Main!$A$49:$I$67,Main!$I$47,FALSE)","v":16.100000000000001},4485]
["AR","JONESBORO MUNI","3A",3504,1552,27.75,83.7,9.1200000000000003E-2,"35.831N",20.7,38.700000000000003,42.3,50.7,61,69.900000000000006,78.7,81,80.5,73.2,61.7,49.9,40.6,379,251,110,12,1,0,0,0,0,7,110,320,29,34,133,342,618,862,960,945,696,368,106,29,24.1,31.64,40.799999999999997,52.7,57.7,64.58,69.8,66.38,64.599999999999994,37.6,37.6,21.6,0.72696245733788389,0.20798811496485917,60,29,14,19,{"$f":"IF(OR(C106=\"OA\",C106=\"OB\",C106=\"1B\",C106=\"1A\",C106=\"2A\",C106=\"2B\",C106=\"3A\",C106=\"3B\",C106=\"3C\"),TAN((LEFT(I106, 5)+VLOOKUP(C106,Main!$K$3:$L$21,2,FALSE))*PI()/180),IF(Checklist!$I$385=\"No\",TAN((LEFT(I106, 5)+VLOOKUP(C106,Main!$K$3:$L$21,2,FALSE))*PI()/180),\"NR\"))","v":0.72201900219508997},{"$f":"VLOOKUP(C106,Main!$A$49:$I$67,Main!$B$47,FALSE)","v":0.6},{"$f":"VLOOKUP(C106,Main!$A$49:$I$67,Main!$C$47,FALSE)","v":0.25},{"$f":"VLOOKUP(C106,Main!$A$49:$I$67,Main!$E$47,FALSE)&\":\"&\" \"&VLOOKUP(C106,Main!$A$49:$I$67,Main!$F$47,FALSE)","v":"Minimum HSPF:: 9.6"},{"$f":"VLOOKUP(C106,Main!$A$49:$I$67,Main!$G$47,FALSE)","v":18},{"$f":"VLOOKUP(C106,Main!$A$49:$I$67,Main!$H$47,FALSE)","v":3.1},{"$f":"VLOOKUP(C106,Main!$A$49:$I$67,Main!$I$47,FALSE)","v":16.100000000000001},5122]
["AR","LITTLE ROCK ADAMS FIELD","3A",2897,1637,30.45,84,9.1200000000000003E-2,"34.727N",24.5,42.4,46.2,54,63,71.099999999999994,79.3,82.6,82.2,74.900000000000006,63.8,52.6,44.1,279,169,66,5,1,0,0,0,0,3,72,232,42,63,191,394,656,879,1011,999,748,430,150,48,26.6,30.02,41.5,50.36,61.9,68.72,70.88,69.44,64.8,43.5,43.5,30.2,0.6875,0.22615719167443304,58,28,13,18,{"$f":"IF(OR(C107=\"OA\",C107=\"OB\",C107=\"1B\",C107=\"1A\",C107=\"2A\",C107=\"2B\",C107=\"3A\",C107=\"3B\",C107=\"3C\"),TAN((LEFT(I107, 5)+VLOOKUP(C107,Main!$K$3:$L$21,2,FALSE))*PI()/180),IF(Checklist!$I$385=\"No\",TAN((LEFT(I107, 5)+VLOOKUP(C107,Main!$K$3:$L$21,2,FALSE))*PI()/180),\"NR\"))","v":0.69294938305538756},{"$f":"VLOOKUP(C107,Main!$A$49:$I$67,Main!$B$47,FALSE)","v":0.6},{"$f":"VLOOKUP(C107,Main!$A$49:$I$67,Main!$C$47,FALSE)","v":0.25},{"$f":"VLOOKUP(C107,Main!$A$49:$I$67,Main!$E$47,FALSE)&\":\"&\" \"&VLOOKUP(C107,Main!$A$49:$I$67,Main!$F$47,FALSE)","v":"Minimum HSPF:: 9.6"},{"$f":"VLOOKUP(C107,Main!$A$49:$I$67,Main!$G$47,FALSE)","v":18},{"$f":"VLOOKUP(C107,Main!$A$49:$I$67,Main!$H$47,FALSE)","v":3.1},{"$f":"VLOOKUP(C107,Main!$A$49:$I$67,Main!$I$47,FALSE)","v":16.100000000000001},5611]
["AR","LITTLE ROCK AFB","3A",3135,1524,28.15,85.1,9.1200000000000003E-2,"34.917N",22.2,40.799999999999997,46,53.4,62.6,70.099999999999994,79.099999999999994,82.4,81.400000000000006,73.599999999999994,63,49.9,42.5,317,176,75,6,1,0,0,0,0,5,112,274,31,64,182,384,626,872,1005,975,709,407,109,41,31.3,34.340000000000003,33.1,43.7,66.900000000000006,70.34,70.88,70.16,57,36.9,36.9,32.5,0.70588235294117652,0.21479995279121916,58,28,13,18,{"$f":"IF(OR(C108=\"OA\",C108=\"OB\",C108=\"1B\",C108=\"1A\",C108=\"2A\",C108=\"2B\",C108=\"3A\",C108=\"3B\",C108=\"3C\"),TAN((LEFT(I108, 5)+VLOOKUP(C108,Main!$K$3:$L$21,2,FALSE))*PI()/180),IF(Checklist!$I$385=\"No\",TAN((LEFT(I108, 5)+VLOOKUP(C108,Main!$K$3:$L$21,2,FALSE))*PI()/180),\"NR\"))","v":0.69786916522922438},{"$f":"VLOOKUP(C108,Main!$A$49:$I$67,Main!$B$47,FALSE)","v":0.6},{"$f":"VLOOKUP(C108,Main!$A$49:$I$67,Main!$C$47,FALSE)","v":0.25},{"$f":"VLOOKUP(C108,Main!$A$49:$I$67,Main!$E$47,FALSE)&\":\"&\" \"&VLOOKUP(C108,Main!$A$49:$I$67,Main!$F$47,FALSE)","v":"Minimum HSPF:: 9.6"},{"$f":"VLOOKUP(C108,Main!$A$49:$I$67,Main!$G$47,FALSE)","v":18},{"$f":"VLOOKUP(C108,Main!$A$49:$I$67,Main!$H$47,FALSE)","v":3.1},{"$f":"VLOOKUP(C108,Main!$A$49:$I$67,Main!$I$47,FALSE)","v":16.100000000000001},5405]
["AR","PINE BLUFF FAA AP","3A",2745,1559,29.9,87.3,9.1200000000000003E-2,"34.175N",25.8,43.5,47.3,54.8,63.8,72,79.7,82.3,81.5,74.8,64,53,45.3,255,153,59,4,0,0,0,0,0,3,69,208,53,77,207,418,681,890,1000,976,745,439,159,61,31.3,38.840000000000003,35.4,55.22,64.400000000000006,68.36,72.319999999999993,70.16,67.8,40.5,40.5,27,0.67346938775510201,0.23312411938004352,57,27,13,18,{"$f":"IF(OR(C109=\"OA\",C109=\"OB\",C109=\"1B\",C109=\"1A\",C109=\"2A\",C109=\"2B\",C109=\"3A\",C109=\"3B\",C109=\"3C\"),TAN((LEFT(I109, 5)+VLOOKUP(C109,Main!$K$3:$L$21,2,FALSE))*PI()/180),IF(Checklist!$I$385=\"No\",TAN((LEFT(I109, 5)+VLOOKUP(C109,Main!$K$3:$L$21,2,FALSE))*PI()/180),\"NR\"))","v":0.67883414482872673},{"$f":"VLOOKUP(C109,Main!$A$49:$I$67,Main!$B$47,FALSE)","v":0.6},{"$f":"VLOOKUP(C109,Main!$A$49:$I$67,Main!$C$47,FALSE)","v":0.25},{"$f":"VLOOKUP(C109,Main!$A$49:$I$67,Main!$E$47,FALSE)&\":\"&\" \"&VLOOKUP(C109,Main!$A$49:$I$67,Main!$F$47,FALSE)","v":"Minimum HSPF:: 9.6"},{"$f":"VLOOKUP(C109,Main!$A$49:$I$67,Main!$G$47,FALSE)","v":18},{"$f":"VLOOKUP(C109,Main!$A$49:$I$67,Main!$H$47,FALSE)","v":3.1},{"$f":"VLOOKUP(C109,Main!$A$49:$I$67,Main!$I$47,FALSE)","v":16.100000000000001},5706]
["AR","ROGERS (AWOS)","4A",4046,1677,16.8,83.8,9.1200000000000003E-2,"36.372N",15.7,36.6,40.299999999999997,47.8,57,65.3,74.099999999999994,78.3,77.5,69.7,59.1,48.3,38.799999999999997,435,298,168,33,4,0,0,0,1,22,145,371,20,28,98,244,478,723,877,854,592,305,93,23,22.3,24.26,25.2,36.5,53.1,65.48,66.56,64.58,60.1,37.6,37.6,31.6,0.74522292993630568,0.18810397395483436,61,31,15,20,{"$f":"IF(OR(C110=\"OA\",C110=\"OB\",C110=\"1B\",C110=\"1A\",C110=\"2A\",C110=\"2B\",C110=\"3A\",C110=\"3B\",C110=\"3C\"),TAN((LEFT(I110, 5)+VLOOKUP(C110,Main!$K$3:$L$21,2,FALSE))*PI()/180),IF(Checklist!$I$385=\"No\",TAN((LEFT(I110, 5)+VLOOKUP(C110,Main!$K$3:$L$21,2,FALSE))*PI()/180),\"NR\"))","v":"NR"},{"$f":"VLOOKUP(C110,Main!$A$49:$I$67,Main!$B$47,FALSE)","v":0.5},{"$f":"VLOOKUP(C110,Main!$A$49:$I$67,Main!$C$47,FALSE)","v":0.25},{"$f":"VLOOKUP(C110,Main!$A$49:$I$67,Main!$E$47,FALSE)&\":\"&\" \"&VLOOKUP(C110,Main!$A$49:$I$67,Main!$F$47,FALSE)","v":"Minimum HSPF:: 9.6"},{"$f":"VLOOKUP(C110,Main!$A$49:$I$67,Main!$G$47,FALSE)","v":18},{"$f":"VLOOKUP(C110,Main!$A$49:$I$67,Main!$H$47,FALSE)","v":3.1},{"$f":"VLOOKUP(C110,Main!$A$49:$I$67,Main!$I$47,FALSE)","v":16.100000000000001},4335]
["AR","SILOAM SPRING(AWOS)","4A",3954,1609,25.05,85.1,9.1200000000000003E-2,"36.191N",16.100000000000001,36.799999999999997,40.5,48.8,58.1,66.3,73.8,79.099999999999994,78.3,69.599999999999994,59.2,48.4,39,431,299,154,31,2,0,0,0,0,21,144,365,20,34,117,274,508,715,901,877,587,305,96,24,27,33.799999999999997,35.4,44.78,57.2,63.86,67.459999999999994,61.7,58.3,40.5,40.5,26.1,0.74358974358974361,0.18955371556527625,61,31,15,20,{"$f":"IF(OR(C111=\"OA\",C111=\"OB\",C111=\"1B\",C111=\"1A\",C111=\"2A\",C111=\"2B\",C111=\"3A\",C111=\"3B\",C111=\"3C\"),TAN((LEFT(I111, 5)+VLOOKUP(C111,Main!$K$3:$L$21,2,FALSE))*PI()/180),IF(Checklist!$I$385=\"No\",TAN((LEFT(I111, 5)+VLOOKUP(C111,Main!$K$3:$L$21,2,FALSE))*PI()/180),\"NR\"))","v":"NR"},{"$f":"VLOOKUP(C111,Main!$A$49:$I$67,Main!$B$47,FALSE)","v":0.5},{"$f":"VLOOKUP(C111,Main!$A$49:$I$67,Main!$C$47,FALSE)","v":0.25},{"$f":"VLOOKUP(C111,Main!$A$49:$I$67,Main!$E$47,FALSE)&\":\"&\" \"&VLOOKUP(C111,Main!$A$49:$I$67,Main!$F$47,FALSE)","v":"Minimum HSPF:: 9.6"},{"$f":"VLOOKUP(C111,Main!$A$49:$I$67,Main!$G$47,FALSE)","v":18},{"$f":"VLOOKUP(C111,Main!$A$49:$I$67,Main!$H$47,FALSE)","v":3.1},{"$f":"VLOOKUP(C111,Main!$A$49:$I$67,Main!$I$47,FALSE)","v":16.100000000000001},4458]
["AR","SPRINGDALE MUNI","4A",4103,1536,23.35,84,9.1200000000000003E-2,"36.283N",15.6,36.1,38.299999999999997,48.9,57.5,65.5,74.3,78,78.099999999999994,69.400000000000006,58.1,48.1,38.299999999999997,450,350,149,32,4,0,0,0,0,23,146,379,19,23,115,258,485,730,869,871,582,275,88,16,24.8,27.5,36.700000000000003,46.4,54.9,63.32,65.48,67.099999999999994,57.2,37.4,37.4,27.7,0.7492163009404389,0.18774499690530225,61,31,15,20,{"$f":"IF(OR(C112=\"OA\",C112=\"OB\",C112=\"1B\",C112=\"1A\",C112=\"2A\",C112=\"2B\",C112=\"3A\",C112=\"3B\",C112=\"3C\"),TAN((LEFT(I112, 5)+VLOOKUP(C112,Main!$K$3:$L$21,2,FALSE))*PI()/180),IF(Checklist!$I$385=\"No\",TAN((LEFT(I112, 5)+VLOOKUP(C112,Main!$K$3:$L$21,2,FALSE))*PI()/180),\"NR\"))","v":"NR"},{"$f":"VLOOKUP(C112,Main!$A$49:$I$67,Main!$B$47,FALSE)","v":0.5},{"$f":"VLOOKUP(C112,Main!$A$49:$I$67,Main!$C$47,FALSE)","v":0.25},{"$f":"VLOOKUP(C112,Main!$A$49:$I$67,Main!$E$47,FALSE)&\":\"&\" \"&VLOOKUP(C112,Main!$A$49:$I$67,Main!$F$47,FALSE)","v":"Minimum HSPF:: 9.6"},{"$f":"VLOOKUP(C112,Main!$A$49:$I$67,Main!$G$47,FALSE)","v":18},{"$f":"VLOOKUP(C112,Main!$A$49:$I$67,Main!$H$47,FALSE)","v":3.1},{"$f":"VLOOKUP(C112,Main!$A$49:$I$67,Main!$I$47,FALSE)","v":16.100000000000001},4331]
["AR","STUTTGART (AWOS)","3A",2994,1670,32.299999999999997,82.8,9.1200000000000003E-2,"34.600N",25.3,41.7,45.5,53.3,62.9,71.8,79.8,82.2,81.099999999999994,73.599999999999994,63.1,52.1,44.2,294,184,75,7,1,0,0,0,0,5,76,229,37,58,177,393,676,895,998,966,708,411,139,48,36,37.94,38.299999999999997,49.28,61.7,68,72.680000000000007,69.44,65.7,43,43,31.6,0.69581749049429653,0.23039432875498445,58,28,13,18,{"$f":"IF(OR(C113=\"OA\",C113=\"OB\",C113=\"1B\",C113=\"1A\",C113=\"2A\",C113=\"2B\",C113=\"3A\",C113=\"3B\",C113=\"3C\"),TAN((LEFT(I113, 5)+VLOOKUP(C113,Main!$K$3:$L$21,2,FALSE))*PI()/180),IF(Checklist!$I$385=\"No\",TAN((LEFT(I113, 5)+VLOOKUP(C113,Main!$K$3:$L$21,2,FALSE))*PI()/180),\"NR\"))","v":0.68985379186212126},{"$f":"VLOOKUP(C113,Main!$A$49:$I$67,Main!$B$47,FALSE)","v":0.6},{"$f":"VLOOKUP(C113,Main!$A$49:$I$67,Main!$C$47,FALSE)","v":0.25},{"$f":"VLOOKUP(C113,Main!$A$49:$I$67,Main!$E$47,FALSE)&\":\"&\" \"&VLOOKUP(C113,Main!$A$49:$I$67,Main!$F$47,FALSE)","v":"Minimum HSPF:: 9.6"},{"$f":"VLOOKUP(C113,Main!$A$49:$I$67,Main!$G$47,FALSE)","v":18},{"$f":"VLOOKUP(C113,Main!$A$49:$I$67,Main!$H$47,FALSE)","v":3.1},{"$f":"VLOOKUP(C113,Main!$A$49:$I$67,Main!$I$47,FALSE)","v":16.100000000000001},5506]
["AR","TEXARKANA WEBB FIELD","3A",2448,1595,40.35,86.7,9.1200000000000003E-2,"33.454N",27.2,45.6,49.2,56.5,64.400000000000006,72.099999999999994,79.7,83.1,83,75.8,65.400000000000006,54.6,46.9,205,123,44,4,0,0,0,0,0,2,56,176,70,101,245,437,686,891,1025,1022,775,479,195,81,36.299999999999997,41.18,43.3,57.92,60.8,66.739999999999995,71.239999999999995,69.08,69.3,41.2,41.2,37.4,0.64285714285714279,0.24112347641759407,56,27,13,18,{"$f":"IF(OR(C114=\"OA\",C114=\"OB\",C114=\"1B\",C114=\"1A\",C114=\"2A\",C114=\"2B\",C114=\"3A\",C114=\"3B\",C114=\"3C\"),TAN((LEFT(I114, 5)+VLOOKUP(C114,Main!$K$3:$L$21,2,FALSE))*PI()/180),IF(Checklist!$I$385=\"No\",TAN((LEFT(I114, 5)+VLOOKUP(C114,Main!$K$3:$L$21,2,FALSE))*PI()/180),\"NR\"))","v":0.66063131288601373},{"$f":"VLOOKUP(C114,Main!$A$49:$I$67,Main!$B$47,FALSE)","v":0.6},{"$f":"VLOOKUP(C114,Main!$A$49:$I$67,Main!$C$47,FALSE)","v":0.25},{"$f":"VLOOKUP(C114,Main!$A$49:$I$67,Main!$E$47,FALSE)&\":\"&\" \"&VLOOKUP(C114,Main!$A$49:$I$67,Main!$F$47,FALSE)","v":"Minimum HSPF:: 9.6"},{"$f":"VLOOKUP(C114,Main!$A$49:$I$67,Main!$G$47,FALSE)","v":18},{"$f":"VLOOKUP(C114,Main!$A$49:$I$67,Main!$H$47,FALSE)","v":3.1},{"$f":"VLOOKUP(C114,Main!$A$49:$I$67,Main!$I$47,FALSE)","v":16.100000000000001},6007]
["AR","WALNUT RIDGE (AWOS)","4A",3694,1569,29.3,81,9.1200000000000003E-2,"36.125N",19.2,37.6,41.2,50.1,59.9,69.2,77.8,80.3,78.8,70.900000000000006,60.7,48.9,39.799999999999997,404,274,119,14,1,0,0,0,0,10,127,339,20,28,122,312,597,834,939,893,627,343,93,22,28.8,34.520000000000003,32.200000000000003,42.8,54.3,63.14,70.34,66.2,64.2,36.299999999999997,36.299999999999997,27.7,0.73684210526315785,0.20159503766061143,60,30,14,19,{"$f":"IF(OR(C115=\"OA\",C115=\"OB\",C115=\"1B\",C115=\"1A\",C115=\"2A\",C115=\"2B\",C115=\"3A\",C115=\"3B\",C115=\"3C\"),TAN((LEFT(I115, 5)+VLOOKUP(C115,Main!$K$3:$L$21,2,FALSE))*PI()/180),IF(Checklist!$I$385=\"No\",TAN((LEFT(I115, 5)+VLOOKUP(C115,Main!$K$3:$L$21,2,FALSE))*PI()/180),\"NR\"))","v":"NR"},{"$f":"VLOOKUP(C115,Main!$A$49:$I$67,Main!$B$47,FALSE)","v":0.5},{"$f":"VLOOKUP(C115,Main!$A$49:$I$67,Main!$C$47,FALSE)","v":0.25},{"$f":"VLOOKUP(C115,Main!$A$49:$I$67,Main!$E$47,FALSE)&\":\"&\" \"&VLOOKUP(C115,Main!$A$49:$I$67,Main!$F$47,FALSE)","v":"Minimum HSPF:: 9.6"},{"$f":"VLOOKUP(C115,Main!$A$49:$I$67,Main!$G$47,FALSE)","v":18},{"$f":"VLOOKUP(C115,Main!$A$49:$I$67,Main!$H$47,FALSE)","v":3.1},{"$f":"VLOOKUP(C115,Main!$A$49:$I$67,Main!$I$47,FALSE)","v":16.100000000000001},4830]
["AZ","CASA GRANDE (AWOS)","2B",1498,2069,48.2,95,0.1145,"32.950N",34.9,52.6,54.5,61.4,67.599999999999994,77.3,86.2,90.8,89.5,84.1,71.900000000000006,60,51.4,39,18,2,0,0,0,0,0,0,0,7,52,120,145,355,527,845,1085,1264,1225,1022,679,307,95,33.4,32.36,37.4,28.58,29.3,40.64,48.02,51.08,46.9,36.9,36.9,19.399999999999999,0.6,0.29721564464766881,54,24,14,19,{"$f":"IF(OR(C116=\"OA\",C116=\"OB\",C116=\"1B\",C116=\"1A\",C116=\"2A\",C116=\"2B\",C116=\"3A\",C116=\"3B\",C116=\"3C\"),TAN((LEFT(I116, 5)+VLOOKUP(C116,Main!$K$3:$L$21,2,FALSE))*PI()/180),IF(Checklist!$I$385=\"No\",TAN((LEFT(I116, 5)+VLOOKUP(C116,Main!$K$3:$L$21,2,FALSE))*PI()/180),\"NR\"))","v":0.64816760193189427},{"$f":"VLOOKUP(C116,Main!$A$49:$I$67,Main!$B$47,FALSE)","v":0.6},{"$f":"VLOOKUP(C116,Main!$A$49:$I$67,Main!$C$47,FALSE)","v":0.25},{"$f":"VLOOKUP(C116,Main!$A$49:$I$67,Main!$E$47,FALSE)&\":\"&\" \"&VLOOKUP(C116,Main!$A$49:$I$67,Main!$F$47,FALSE)","v":"Minimum HSPF:: 9.6"},{"$f":"VLOOKUP(C116,Main!$A$49:$I$67,Main!$G$47,FALSE)","v":18},{"$f":"VLOOKUP(C116,Main!$A$49:$I$67,Main!$H$47,FALSE)","v":3.1},{"$f":"VLOOKUP(C116,Main!$A$49:$I$67,Main!$I$47,FALSE)","v":16.100000000000001},7669]
["AZ","DAVIS MONTHAN AFB","2B",1457,2007,52.1,91.4,0.1145,"32.167N",35.5,53.1,55.2,60.8,67,76.099999999999994,85.2,86.9,85.6,82.2,71.900000000000006,60.8,52.4,42,23,7,1,0,0,0,0,0,0,8,52,139,168,340,510,808,1057,1143,1104,965,679,333,127,30.6,43.34,35.4,24.62,23.2,32.36,49.82,51.98,52.5,34.700000000000003,34.700000000000003,21.4,"NR",0.30270270270270266,54,24,12,17,{"$f":"IF(OR(C117=\"OA\",C117=\"OB\",C117=\"1B\",C117=\"1A\",C117=\"2A\",C117=\"2B\",C117=\"3A\",C117=\"3B\",C117=\"3C\"),TAN((LEFT(I117, 5)+VLOOKUP(C117,Main!$K$3:$L$21,2,FALSE))*PI()/180),IF(Checklist!$I$385=\"No\",TAN((LEFT(I117, 5)+VLOOKUP(C117,Main!$K$3:$L$21,2,FALSE))*PI()/180),\"NR\"))","v":0.62875905099218787},{"$f":"VLOOKUP(C117,Main!$A$49:$I$67,Main!$B$47,FALSE)","v":0.6},{"$f":"VLOOKUP(C117,Main!$A$49:$I$67,Main!$C$47,FALSE)","v":0.25},{"$f":"VLOOKUP(C117,Main!$A$49:$I$67,Main!$E$47,FALSE)&\":\"&\" \"&VLOOKUP(C117,Main!$A$49:$I$67,Main!$F$47,FALSE)","v":"Minimum HSPF:: 9.6"},{"$f":"VLOOKUP(C117,Main!$A$49:$I$67,Main!$G$47,FALSE)","v":18},{"$f":"VLOOKUP(C117,Main!$A$49:$I$67,Main!$H$47,FALSE)","v":3.1},{"$f":"VLOOKUP(C117,Main!$A$49:$I$67,Main!$I$47,FALSE)","v":16.100000000000001},7373]
["AZ","DEER VALLEY/PHOENIX","1B",1187,2045,50.1,97.9,0.1145,"33.688N",39.299999999999997,55.1,56.8,63,69.400000000000006,79.3,88.3,92.8,91.2,86.4,74.599999999999994,63,53.6,23,9,2,0,0,0,0,0,0,0,3,30,182,199,404,583,908,1148,1327,1276,1093,762,393,140,36.700000000000003,36.86,35.1,32.72,30.2,42.8,57.92,50,48.9,33.4,33.4,19.8,"NR",0.34278180619644028,53,24,14,19,{"$f":"IF(OR(C118=\"OA\",C118=\"OB\",C118=\"1B\",C118=\"1A\",C118=\"2A\",C118=\"2B\",C118=\"3A\",C118=\"3B\",C118=\"3C\"),TAN((LEFT(I118, 5)+VLOOKUP(C118,Main!$K$3:$L$21,2,FALSE))*PI()/180),IF(Checklist!$I$385=\"No\",TAN((LEFT(I118, 5)+VLOOKUP(C118,Main!$K$3:$L$21,2,FALSE))*PI()/180),\"NR\"))","v":0.66641289092643863},{"$f":"VLOOKUP(C118,Main!$A$49:$I$67,Main!$B$47,FALSE)","v":0.6},{"$f":"VLOOKUP(C118,Main!$A$49:$I$67,Main!$C$47,FALSE)","v":0.25},{"$f":"VLOOKUP(C118,Main!$A$49:$I$67,Main!$E$47,FALSE)&\":\"&\" \"&VLOOKUP(C118,Main!$A$49:$I$67,Main!$F$47,FALSE)","v":"Minimum HSPF:: 9.6"},{"$f":"VLOOKUP(C118,Main!$A$49:$I$67,Main!$G$47,FALSE)","v":18},{"$f":"VLOOKUP(C118,Main!$A$49:$I$67,Main!$H$47,FALSE)","v":3.1},{"$f":"VLOOKUP(C118,Main!$A$49:$I$67,Main!$I$47,FALSE)","v":16.100000000000001},8415]
["AZ","DOUGLAS BISBEE-DOUGLAS INTL A","3B",2473,2064,49.55,83.8,0.1145,"31.458N",25.3,46.4,49.5,55,61.6,70.2,78.900000000000006,80.099999999999994,78.099999999999994,74.599999999999994,64.8,53.8,46.1,140,73,26,3,0,0,0,0,0,2,37,151,28,58,181,352,626,868,932,872,739,460,150,29,27,25.16,34.5,22.1,27.3,35.96,58.28,57.56,45.7,28.8,28.8,24.3,0.63470319634703198,0.23039432875498445,58,27,12,17,{"$f":"IF(OR(C119=\"OA\",C119=\"OB\",C119=\"1B\",C119=\"1A\",C119=\"2A\",C119=\"2B\",C119=\"3A\",C119=\"3B\",C119=\"3C\"),TAN((LEFT(I119, 5)+VLOOKUP(C119,Main!$K$3:$L$21,2,FALSE))*PI()/180),IF(Checklist!$I$385=\"No\",TAN((LEFT(I119, 5)+VLOOKUP(C119,Main!$K$3:$L$21,2,FALSE))*PI()/180),\"NR\"))","v":0.61160105757445238},{"$f":"VLOOKUP(C119,Main!$A$49:$I$67,Main!$B$47,FALSE)","v":"NR"},{"$f":"VLOOKUP(C119,Main!$A$49:$I$67,Main!$C$47,FALSE)","v":0.25},{"$f":"VLOOKUP(C119,Main!$A$49:$I$67,Main!$E$47,FALSE)&\":\"&\" \"&VLOOKUP(C119,Main!$A$49:$I$67,Main!$F$47,FALSE)","v":"Minimum HSPF:: 9.6"},{"$f":"VLOOKUP(C119,Main!$A$49:$I$67,Main!$G$47,FALSE)","v":18},{"$f":"VLOOKUP(C119,Main!$A$49:$I$67,Main!$H$47,FALSE)","v":3.1},{"$f":"VLOOKUP(C119,Main!$A$49:$I$67,Main!$I$47,FALSE)","v":16.100000000000001},5295]
["AZ","FLAGSTAFF PULLIAM ARPT","5B",6801,1900,25.1,70.2,0.1145,"35.144N",9.4,30.3,32.299999999999997,37.799999999999997,43.4,51.8,60.8,66.5,64.400000000000006,58.1,47.3,37.4,29.7,611,496,379,211,52,4,0,0,3,123,378,630,0,0,0,12,107,328,511,447,246,38,0,0,16.7,13.46,19.899999999999999,24.8,21.4,32.54,38.659999999999997,41.36,37.4,19,19,15.4,0.79112271540469981,0.16788119177197675,70,40,22,27,{"$f":"IF(OR(C120=\"OA\",C120=\"OB\",C120=\"1B\",C120=\"1A\",C120=\"2A\",C120=\"2B\",C120=\"3A\",C120=\"3B\",C120=\"3C\"),TAN((LEFT(I120, 5)+VLOOKUP(C120,Main!$K$3:$L$21,2,FALSE))*PI()/180),IF(Checklist!$I$385=\"No\",TAN((LEFT(I120, 5)+VLOOKUP(C120,Main!$K$3:$L$21,2,FALSE))*PI()/180),\"NR\"))","v":"NR"},{"$f":"VLOOKUP(C120,Main!$A$49:$I$67,Main!$B$47,FALSE)","v":"NR"},{"$f":"VLOOKUP(C120,Main!$A$49:$I$67,Main!$C$47,FALSE)","v":"NR"},{"$f":"VLOOKUP(C120,Main!$A$49:$I$67,Main!$E$47,FALSE)&\":\"&\" \"&VLOOKUP(C120,Main!$A$49:$I$67,Main!$F$47,FALSE)","v":"Minimum COP @ 5°F:: 1.75"},{"$f":"VLOOKUP(C120,Main!$A$49:$I$67,Main!$G$47,FALSE)","v":15},{"$f":"VLOOKUP(C120,Main!$A$49:$I$67,Main!$H$47,FALSE)","v":3.1},{"$f":"VLOOKUP(C120,Main!$A$49:$I$67,Main!$I$47,FALSE)","v":16.100000000000001},1689]
["AZ","GRAND CANYON NATL P","5B",6901,1907,31.9,69.8,0.1145,"35.946N",4.9000000000000004,29.4,31.5,37.799999999999997,42.7,51.4,60.1,67.2,65.5,58.4,46.8,37.1,29,639,517,380,228,60,4,0,0,6,134,389,650,0,0,1,9,103,306,535,480,257,35,1,0,14.2,20.12,23.2,17.96,20.5,21.74,35.42,42.8,46.9,16.2,16.2,16,0.79487179487179482,0.15590868205765193,71,40,23,28,{"$f":"IF(OR(C121=\"OA\",C121=\"OB\",C121=\"1B\",C121=\"1A\",C121=\"2A\",C121=\"2B\",C121=\"3A\",C121=\"3B\",C121=\"3C\"),TAN((LEFT(I121, 5)+VLOOKUP(C121,Main!$K$3:$L$21,2,FALSE))*PI()/180),IF(Checklist!$I$385=\"No\",TAN((LEFT(I121, 5)+VLOOKUP(C121,Main!$K$3:$L$21,2,FALSE))*PI()/180),\"NR\"))","v":"NR"},{"$f":"VLOOKUP(C121,Main!$A$49:$I$67,Main!$B$47,FALSE)","v":"NR"},{"$f":"VLOOKUP(C121,Main!$A$49:$I$67,Main!$C$47,FALSE)","v":"NR"},{"$f":"VLOOKUP(C121,Main!$A$49:$I$67,Main!$E$47,FALSE)&\":\"&\" \"&VLOOKUP(C121,Main!$A$49:$I$67,Main!$F$47,FALSE)","v":"Minimum COP @ 5°F:: 1.75"},{"$f":"VLOOKUP(C121,Main!$A$49:$I$67,Main!$G$47,FALSE)","v":15},{"$f":"VLOOKUP(C121,Main!$A$49:$I$67,Main!$H$47,FALSE)","v":3.1},{"$f":"VLOOKUP(C121,Main!$A$49:$I$67,Main!$I$47,FALSE)","v":16.100000000000001},1727]
["AZ","KINGMAN (AMOS)","3B",3037,2084,39.200000000000003,89.6,0.1145,"35.258N",26.9,44,47,52.6,58.7,68.599999999999994,78,83.6,82.2,75.400000000000006,63.2,51.4,42.7,197,118,52,16,0,0,0,0,0,5,70,239,12,34,134,275,578,840,1041,999,763,414,111,11,18.3,26.24,30.4,23.54,27.7,28.94,45.5,47.48,41.7,33.4,33.4,28.2,0.68379446640316199,0.23936345104228313,59,29,14,19,{"$f":"IF(OR(C122=\"OA\",C122=\"OB\",C122=\"1B\",C122=\"1A\",C122=\"2A\",C122=\"2B\",C122=\"3A\",C122=\"3B\",C122=\"3C\"),TAN((LEFT(I122, 5)+VLOOKUP(C122,Main!$K$3:$L$21,2,FALSE))*PI()/180),IF(Checklist!$I$385=\"No\",TAN((LEFT(I122, 5)+VLOOKUP(C122,Main!$K$3:$L$21,2,FALSE))*PI()/180),\"NR\"))","v":0.70673012705429883},{"$f":"VLOOKUP(C122,Main!$A$49:$I$67,Main!$B$47,FALSE)","v":"NR"},{"$f":"VLOOKUP(C122,Main!$A$49:$I$67,Main!$C$47,FALSE)","v":0.25},{"$f":"VLOOKUP(C122,Main!$A$49:$I$67,Main!$E$47,FALSE)&\":\"&\" \"&VLOOKUP(C122,Main!$A$49:$I$67,Main!$F$47,FALSE)","v":"Minimum HSPF:: 9.6"},{"$f":"VLOOKUP(C122,Main!$A$49:$I$67,Main!$G$47,FALSE)","v":18},{"$f":"VLOOKUP(C122,Main!$A$49:$I$67,Main!$H$47,FALSE)","v":3.1},{"$f":"VLOOKUP(C122,Main!$A$49:$I$67,Main!$I$47,FALSE)","v":16.100000000000001},5212]
["AZ","LUKE AFB","1B",1222,2043,50.55,102,0.1145,"33.550N",37.299999999999997,53.8,57.1,63.5,70.2,79.099999999999994,88,93.4,92.5,86.4,73.400000000000006,61.6,52.7,20,9,0,0,0,0,0,0,0,0,2,34,137,207,418,608,903,1140,1346,1316,1092,725,352,117,46.4,38.840000000000003,40.6,31.28,33.1,28.76,47.48,47.12,50,31.3,31.3,33.299999999999997,"NR",0.32045074390351258,53,24,15,20,{"$f":"IF(OR(C123=\"OA\",C123=\"OB\",C123=\"1B\",C123=\"1A\",C123=\"2A\",C123=\"2B\",C123=\"3A\",C123=\"3B\",C123=\"3C\"),TAN((LEFT(I123, 5)+VLOOKUP(C123,Main!$K$3:$L$21,2,FALSE))*PI()/180),IF(Checklist!$I$385=\"No\",TAN((LEFT(I123, 5)+VLOOKUP(C123,Main!$K$3:$L$21,2,FALSE))*PI()/180),\"NR\"))","v":0.66314125926109369},{"$f":"VLOOKUP(C123,Main!$A$49:$I$67,Main!$B$47,FALSE)","v":0.6},{"$f":"VLOOKUP(C123,Main!$A$49:$I$67,Main!$C$47,FALSE)","v":0.25},{"$f":"VLOOKUP(C123,Main!$A$49:$I$67,Main!$E$47,FALSE)&\":\"&\" \"&VLOOKUP(C123,Main!$A$49:$I$67,Main!$F$47,FALSE)","v":"Minimum HSPF:: 9.6"},{"$f":"VLOOKUP(C123,Main!$A$49:$I$67,Main!$G$47,FALSE)","v":18},{"$f":"VLOOKUP(C123,Main!$A$49:$I$67,Main!$H$47,FALSE)","v":3.1},{"$f":"VLOOKUP(C123,Main!$A$49:$I$67,Main!$I$47,FALSE)","v":16.100000000000001},8361]
["AZ","PAGE MUNI (AMOS)","5B",3861,1964,38.299999999999997,85.3,0.1145,"36.926N",24.8,37.1,42.3,50.8,58.1,68.7,78.599999999999994,84.4,81,73.7,60.2,46.3,36.299999999999997,399,222,73,19,0,0,0,0,0,9,148,424,0,7,97,263,579,859,1068,962,711,325,38,1,20.7,24.62,28.2,22.82,22.1,32,38.479999999999997,50.36,39.700000000000003,30.4,30.4,19,0.74763406940063093,0.2277277277277277,61,31,15,20,{"$f":"IF(OR(C124=\"OA\",C124=\"OB\",C124=\"1B\",C124=\"1A\",C124=\"2A\",C124=\"2B\",C124=\"3A\",C124=\"3B\",C124=\"3C\"),TAN((LEFT(I124, 5)+VLOOKUP(C124,Main!$K$3:$L$21,2,FALSE))*PI()/180),IF(Checklist!$I$385=\"No\",TAN((LEFT(I124, 5)+VLOOKUP(C124,Main!$K$3:$L$21,2,FALSE))*PI()/180),\"NR\"))","v":"NR"},{"$f":"VLOOKUP(C124,Main!$A$49:$I$67,Main!$B$47,FALSE)","v":"NR"},{"$f":"VLOOKUP(C124,Main!$A$49:$I$67,Main!$C$47,FALSE)","v":"NR"},{"$f":"VLOOKUP(C124,Main!$A$49:$I$67,Main!$E$47,FALSE)&\":\"&\" \"&VLOOKUP(C124,Main!$A$49:$I$67,Main!$F$47,FALSE)","v":"Minimum COP @ 5°F:: 1.75"},{"$f":"VLOOKUP(C124,Main!$A$49:$I$67,Main!$G$47,FALSE)","v":15},{"$f":"VLOOKUP(C124,Main!$A$49:$I$67,Main!$H$47,FALSE)","v":3.1},{"$f":"VLOOKUP(C124,Main!$A$49:$I$67,Main!$I$47,FALSE)","v":16.100000000000001},4910]
["AZ","PHOENIX SKY HARBOR INTL AP","1B",912,2094,47.75,97,0.1145,"33.428N",41.8,56.7,59.5,65.599999999999994,72.599999999999994,81.900000000000006,90.9,94.8,93.6,88.8,76.900000000000006,64.599999999999994,55.6,9,3,0,0,0,0,0,0,0,0,1,14,216,268,484,677,989,1226,1390,1352,1165,835,440,187,28,39.380000000000003,36.5,29.12,36.1,42.62,56.48,56.3,48,35.4,35.4,32.9,"NR",0.37548999381060444,52,23,14,19,{"$f":"IF(OR(C125=\"OA\",C125=\"OB\",C125=\"1B\",C125=\"1A\",C125=\"2A\",C125=\"2B\",C125=\"3A\",C125=\"3B\",C125=\"3C\"),TAN((LEFT(I125, 5)+VLOOKUP(C125,Main!$K$3:$L$21,2,FALSE))*PI()/180),IF(Checklist!$I$385=\"No\",TAN((LEFT(I125, 5)+VLOOKUP(C125,Main!$K$3:$L$21,2,FALSE))*PI()/180),\"NR\"))","v":0.65987945794517411},{"$f":"VLOOKUP(C125,Main!$A$49:$I$67,Main!$B$47,FALSE)","v":0.6},{"$f":"VLOOKUP(C125,Main!$A$49:$I$67,Main!$C$47,FALSE)","v":0.25},{"$f":"VLOOKUP(C125,Main!$A$49:$I$67,Main!$E$47,FALSE)&\":\"&\" \"&VLOOKUP(C125,Main!$A$49:$I$67,Main!$F$47,FALSE)","v":"Minimum HSPF:: 9.6"},{"$f":"VLOOKUP(C125,Main!$A$49:$I$67,Main!$G$47,FALSE)","v":18},{"$f":"VLOOKUP(C125,Main!$A$49:$I$67,Main!$H$47,FALSE)","v":3.1},{"$f":"VLOOKUP(C125,Main!$A$49:$I$67,Main!$I$47,FALSE)","v":16.100000000000001},9229]
["AZ","PRESCOTT LOVE FIELD","4B",4145,1954,33.799999999999997,77.2,0.1145,"34.652N",20.8,39.200000000000003,41.8,47.3,53.2,62.2,71.3,76.2,74.2,68.599999999999994,57.4,46.6,38.299999999999997,337,236,129,47,4,0,0,0,0,21,142,362,1,5,45,143,380,639,814,751,559,250,39,1,24.8,23.54,25,24.44,27,33.799999999999997,48.74,53.42,38.299999999999997,25,25,17.399999999999999,0.73063973063973064,0.2084287677508016,62,32,16,21,{"$f":"IF(OR(C126=\"OA\",C126=\"OB\",C126=\"1B\",C126=\"1A\",C126=\"2A\",C126=\"2B\",C126=\"3A\",C126=\"3B\",C126=\"3C\"),TAN((LEFT(I126, 5)+VLOOKUP(C126,Main!$K$3:$L$21,2,FALSE))*PI()/180),IF(Checklist!$I$385=\"No\",TAN((LEFT(I126, 5)+VLOOKUP(C126,Main!$K$3:$L$21,2,FALSE))*PI()/180),\"NR\"))","v":"NR"},{"$f":"VLOOKUP(C126,Main!$A$49:$I$67,Main!$B$47,FALSE)","v":"NR"},{"$f":"VLOOKUP(C126,Main!$A$49:$I$67,Main!$C$47,FALSE)","v":0.25},{"$f":"VLOOKUP(C126,Main!$A$49:$I$67,Main!$E$47,FALSE)&\":\"&\" \"&VLOOKUP(C126,Main!$A$49:$I$67,Main!$F$47,FALSE)","v":"Minimum HSPF:: 9.6"},{"$f":"VLOOKUP(C126,Main!$A$49:$I$67,Main!$G$47,FALSE)","v":18},{"$f":"VLOOKUP(C126,Main!$A$49:$I$67,Main!$H$47,FALSE)","v":3.1},{"$f":"VLOOKUP(C126,Main!$A$49:$I$67,Main!$I$47,FALSE)","v":16.100000000000001},3627]
["AZ","SAFFORD (AMOS)","3B",2220,2083,45.3,88,0.1145,"32.855N",28.5,47.3,50.9,57,64.5,73.5,83.1,85.3,83.4,78.8,67.3,55,46.6,118,58,15,1,0,0,0,0,0,1,34,137,33,83,232,436,730,994,1096,1035,863,538,186,31,19.8,21.2,36.1,28.94,30.6,33.799999999999997,46.4,56.3,43.3,27,27,27,0.62616822429906538,0.2490591857680465,57,27,13,18,{"$f":"IF(OR(C127=\"OA\",C127=\"OB\",C127=\"1B\",C127=\"1A\",C127=\"2A\",C127=\"2B\",C127=\"3A\",C127=\"3B\",C127=\"3C\"),TAN((LEFT(I127, 5)+VLOOKUP(C127,Main!$K$3:$L$21,2,FALSE))*PI()/180),IF(Checklist!$I$385=\"No\",TAN((LEFT(I127, 5)+VLOOKUP(C127,Main!$K$3:$L$21,2,FALSE))*PI()/180),\"NR\"))","v":0.64569182104255407},{"$f":"VLOOKUP(C127,Main!$A$49:$I$67,Main!$B$47,FALSE)","v":"NR"},{"$f":"VLOOKUP(C127,Main!$A$49:$I$67,Main!$C$47,FALSE)","v":0.25},{"$f":"VLOOKUP(C127,Main!$A$49:$I$67,Main!$E$47,FALSE)&\":\"&\" \"&VLOOKUP(C127,Main!$A$49:$I$67,Main!$F$47,FALSE)","v":"Minimum HSPF:: 9.6"},{"$f":"VLOOKUP(C127,Main!$A$49:$I$67,Main!$G$47,FALSE)","v":18},{"$f":"VLOOKUP(C127,Main!$A$49:$I$67,Main!$H$47,FALSE)","v":3.1},{"$f":"VLOOKUP(C127,Main!$A$49:$I$67,Main!$I$47,FALSE)","v":16.100000000000001},6257]
["AZ","SCOTTSDALE MUNI","1B",1139,2063,49.9,100,0.1145,"33.623N",38.700000000000003,55,56.7,63.9,70.5,79.7,89.3,93.5,91.8,86.6,74.7,63.4,53.4,21,9,1,0,0,0,0,0,0,0,3,31,177,198,431,614,919,1179,1349,1295,1097,764,405,136,29.1,33.619999999999997,31.1,35.06,37.4,37.94,57.2,61.7,50.4,37,37,30,"NR",0.33576238354395349,53,23,15,20,{"$f":"IF(OR(C128=\"OA\",C128=\"OB\",C128=\"1B\",C128=\"1A\",C128=\"2A\",C128=\"2B\",C128=\"3A\",C128=\"3B\",C128=\"3C\"),TAN((LEFT(I128, 5)+VLOOKUP(C128,Main!$K$3:$L$21,2,FALSE))*PI()/180),IF(Checklist!$I$385=\"No\",TAN((LEFT(I128, 5)+VLOOKUP(C128,Main!$K$3:$L$21,2,FALSE))*PI()/180),\"NR\"))","v":0.6649016805815432},{"$f":"VLOOKUP(C128,Main!$A$49:$I$67,Main!$B$47,FALSE)","v":0.6},{"$f":"VLOOKUP(C128,Main!$A$49:$I$67,Main!$C$47,FALSE)","v":0.25},{"$f":"VLOOKUP(C128,Main!$A$49:$I$67,Main!$E$47,FALSE)&\":\"&\" \"&VLOOKUP(C128,Main!$A$49:$I$67,Main!$F$47,FALSE)","v":"Minimum HSPF:: 9.6"},{"$f":"VLOOKUP(C128,Main!$A$49:$I$67,Main!$G$47,FALSE)","v":18},{"$f":"VLOOKUP(C128,Main!$A$49:$I$67,Main!$H$47,FALSE)","v":3.1},{"$f":"VLOOKUP(C128,Main!$A$49:$I$67,Main!$I$47,FALSE)","v":16.100000000000001},8564]
["AZ","TUCSON INTERNATIONAL AP","2B",1401,2065,46.3,89.6,0.1145,"32.131N",34.4,53.3,55.6,61.3,67.599999999999994,76.7,85.8,87.5,86,82.4,72.099999999999994,61,52.5,37,19,6,1,0,0,0,0,0,0,8,48,140,175,357,529,828,1073,1164,1115,973,684,337,127,22.3,35.42,29.1,30.2,28.8,39.56,57.02,57.56,52.3,31.6,31.6,30.2,"NR",0.29279279279279274,54,24,12,17,{"$f":"IF(OR(C129=\"OA\",C129=\"OB\",C129=\"1B\",C129=\"1A\",C129=\"2A\",C129=\"2B\",C129=\"3A\",C129=\"3B\",C129=\"3C\"),TAN((LEFT(I129, 5)+VLOOKUP(C129,Main!$K$3:$L$21,2,FALSE))*PI()/180),IF(Checklist!$I$385=\"No\",TAN((LEFT(I129, 5)+VLOOKUP(C129,Main!$K$3:$L$21,2,FALSE))*PI()/180),\"NR\"))","v":0.62802869413254969},{"$f":"VLOOKUP(C129,Main!$A$49:$I$67,Main!$B$47,FALSE)","v":0.6},{"$f":"VLOOKUP(C129,Main!$A$49:$I$67,Main!$C$47,FALSE)","v":0.25},{"$f":"VLOOKUP(C129,Main!$A$49:$I$67,Main!$E$47,FALSE)&\":\"&\" \"&VLOOKUP(C129,Main!$A$49:$I$67,Main!$F$47,FALSE)","v":"Minimum HSPF:: 9.6"},{"$f":"VLOOKUP(C129,Main!$A$49:$I$67,Main!$G$47,FALSE)","v":18},{"$f":"VLOOKUP(C129,Main!$A$49:$I$67,Main!$H$47,FALSE)","v":3.1},{"$f":"VLOOKUP(C129,Main!$A$49:$I$67,Main!$I$47,FALSE)","v":16.100000000000001},7502]
["AZ","WINSLOW MUNICIPAL AP","3B",4489,2003,29.5,81.7,0.1145,"35.028N",15,35.6,40.1,47.4,54,63.3,72.7,78.2,75.900000000000006,69,56.3,43.7,34.4,447,281,130,40,3,0,0,0,0,27,212,484,1,5,49,161,415,680,875,803,569,224,23,1,20.7,21.38,21.4,23.18,30.6,30.56,49.28,53.78,46.8,25,25,16.2,0.76190476190476186,0.18561958184599692,64,33,16,21,{"$f":"IF(OR(C130=\"OA\",C130=\"OB\",C130=\"1B\",C130=\"1A\",C130=\"2A\",C130=\"2B\",C130=\"3A\",C130=\"3B\",C130=\"3C\"),TAN((LEFT(I130, 5)+VLOOKUP(C130,Main!$K$3:$L$21,2,FALSE))*PI()/180),IF(Checklist!$I$385=\"No\",TAN((LEFT(I130, 5)+VLOOKUP(C130,Main!$K$3:$L$21,2,FALSE))*PI()/180),\"NR\"))","v":0.70072787496522526},{"$f":"VLOOKUP(C130,Main!$A$49:$I$67,Main!$B$47,FALSE)","v":"NR"},{"$f":"VLOOKUP(C130,Main!$A$49:$I$67,Main!$C$47,FALSE)","v":0.25},{"$f":"VLOOKUP(C130,Main!$A$49:$I$67,Main!$E$47,FALSE)&\":\"&\" \"&VLOOKUP(C130,Main!$A$49:$I$67,Main!$F$47,FALSE)","v":"Minimum HSPF:: 9.6"},{"$f":"VLOOKUP(C130,Main!$A$49:$I$67,Main!$G$47,FALSE)","v":18},{"$f":"VLOOKUP(C130,Main!$A$49:$I$67,Main!$H$47,FALSE)","v":3.1},{"$f":"VLOOKUP(C130,Main!$A$49:$I$67,Main!$I$47,FALSE)","v":16.100000000000001},3806]
["AZ","YUMA INTL ARPT","1B",657,1982,57.85,97.2,0.1145,"32.650N",44.8,59.2,61.8,67.599999999999994,73.2,81.2,89.4,94.8,94.6,89.8,78.099999999999994,66.3,57.7,3,1,0,0,0,0,0,0,0,0,0,4,288,332,546,695,966,1181,1388,1383,1195,871,489,242,33.4,29.84,34.5,31.28,35.6,40.64,61.34,59.36,53.1,35.6,35.6,32.9,"NR",0.42404473438956186,51,22,14,19,{"$f":"IF(OR(C131=\"OA\",C131=\"OB\",C131=\"1B\",C131=\"1A\",C131=\"2A\",C131=\"2B\",C131=\"3A\",C131=\"3B\",C131=\"3C\"),TAN((LEFT(I131, 5)+VLOOKUP(C131,Main!$K$3:$L$21,2,FALSE))*PI()/180),IF(Checklist!$I$385=\"No\",TAN((LEFT(I131, 5)+VLOOKUP(C131,Main!$K$3:$L$21,2,FALSE))*PI()/180),\"NR\"))","v":0.64075694704663344},{"$f":"VLOOKUP(C131,Main!$A$49:$I$67,Main!$B$47,FALSE)","v":0.6},{"$f":"VLOOKUP(C131,Main!$A$49:$I$67,Main!$C$47,FALSE)","v":0.25},{"$f":"VLOOKUP(C131,Main!$A$49:$I$67,Main!$E$47,FALSE)&\":\"&\" \"&VLOOKUP(C131,Main!$A$49:$I$67,Main!$F$47,FALSE)","v":"Minimum HSPF:: 9.6"},{"$f":"VLOOKUP(C131,Main!$A$49:$I$67,Main!$G$47,FALSE)","v":18},{"$f":"VLOOKUP(C131,Main!$A$49:$I$67,Main!$H$47,FALSE)","v":3.1},{"$f":"VLOOKUP(C131,Main!$A$49:$I$67,Main!$I$47,FALSE)","v":16.100000000000001},9576]
["AZ","YUMA MCAS","1B",665,1944,55.4,98.6,0.1145,"32.62N",44.7,58.9,62.1,67.599999999999994,73.599999999999994,81.2,89.3,94.7,94.3,89.2,78,66,57.5,3,1,0,0,0,0,0,0,0,0,0,6,278,339,544,708,967,1178,1384,1374,1176,869,481,238,32.200000000000003,29.84,34.5,37.58,38.5,40.46,54.68,66.739999999999995,52.9,38.5,38.5,40.299999999999997,"NR",0.42222479990720335,51,22,15,20,{"$f":"IF(OR(C132=\"OA\",C132=\"OB\",C132=\"1B\",C132=\"1A\",C132=\"2A\",C132=\"2B\",C132=\"3A\",C132=\"3B\",C132=\"3C\"),TAN((LEFT(I132, 5)+VLOOKUP(C132,Main!$K$3:$L$21,2,FALSE))*PI()/180),IF(Checklist!$I$385=\"No\",TAN((LEFT(I132, 5)+VLOOKUP(C132,Main!$K$3:$L$21,2,FALSE))*PI()/180),\"NR\"))","v":0.64001862224193418},{"$f":"VLOOKUP(C132,Main!$A$49:$I$67,Main!$B$47,FALSE)","v":0.6},{"$f":"VLOOKUP(C132,Main!$A$49:$I$67,Main!$C$47,FALSE)","v":0.25},{"$f":"VLOOKUP(C132,Main!$A$49:$I$67,Main!$E$47,FALSE)&\":\"&\" \"&VLOOKUP(C132,Main!$A$49:$I$67,Main!$F$47,FALSE)","v":"Minimum HSPF:: 9.6"},{"$f":"VLOOKUP(C132,Main!$A$49:$I$67,Main!$G$47,FALSE)","v":18},{"$f":"VLOOKUP(C132,Main!$A$49:$I$67,Main!$H$47,FALSE)","v":3.1},{"$f":"VLOOKUP(C132,Main!$A$49:$I$67,Main!$I$47,FALSE)","v":16.100000000000001},9536]
["BC","ABBOTSFORD AP","4C",5240,1156,29.95,72.099999999999994,0.1183,"49.030N",22.9,38.4,41.2,44.6,49.6,55.6,60.1,65.099999999999994,65.2,60.1,51.1,43.1,37.799999999999997,361,249,178,64,9,0,0,0,0,46,216,380,1,1,10,52,182,304,467,471,304,81,9,1,32.4,32.18,35.4,38.479999999999997,44.2,49.1,53.06,53.06,49.8,37.4,37.4,31.5,0.73509933774834435,0.218133876670462,65,36,19,24,{"$f":"IF(OR(C133=\"OA\",C133=\"OB\",C133=\"1B\",C133=\"1A\",C133=\"2A\",C133=\"2B\",C133=\"3A\",C133=\"3B\",C133=\"3C\"),TAN((LEFT(I133, 5)+VLOOKUP(C133,Main!$K$3:$L$21,2,FALSE))*PI()/180),IF(Checklist!$I$385=\"No\",TAN((LEFT(I133, 5)+VLOOKUP(C133,Main!$K$3:$L$21,2,FALSE))*PI()/180),\"NR\"))","v":"NR"},{"$f":"VLOOKUP(C133,Main!$A$49:$I$67,Main!$B$47,FALSE)","v":"NR"},{"$f":"VLOOKUP(C133,Main!$A$49:$I$67,Main!$C$47,FALSE)","v":"NR"},{"$f":"VLOOKUP(C133,Main!$A$49:$I$67,Main!$E$47,FALSE)&\":\"&\" \"&VLOOKUP(C133,Main!$A$49:$I$67,Main!$F$47,FALSE)","v":"Minimum HSPF:: 9.6"},{"$f":"VLOOKUP(C133,Main!$A$49:$I$67,Main!$G$47,FALSE)","v":18},{"$f":"VLOOKUP(C133,Main!$A$49:$I$67,Main!$H$47,FALSE)","v":3.1},{"$f":"VLOOKUP(C133,Main!$A$49:$I$67,Main!$I$47,FALSE)","v":16.100000000000001},1883]
["BC","AGASSIZ CDA","4C",5142,1185,23.65,74.099999999999994,0.1183,"49.240N",23.1,38,41.4,44.5,50.2,56.7,60.8,65.8,65.7,61.1,51.9,42.9,38.299999999999997,374,244,184,61,9,0,0,0,0,33,220,364,0,2,14,66,215,323,489,488,333,93,7,0,28.2,31.64,36.9,41.18,47.8,53.42,57.74,57.38,53.1,37.9,37.9,28.8,0.73333333333333328,0.21910551977367121,{"$f":"ROUNDDOWN((33.97238548+(2.143484655*3.14219615)+(0.00253108806*D134)+(-0.2767683543*J134)+(66.9384076*H134)+((3.14219615-3.14219615)^2*-1.607593659)+((J134-12.48681818)*(H134-0.2016890909)*-1.8168457)+8.4234),0)","v":65},{"$f":"ROUNDDOWN((2.975122788+(0.003896731237*D134)+(59.88697433*H134)+((D134-5520.854545)*(H134-0.2016890909)*0.01119327314)+5.3792),0)","v":35},18,{"$f":"ROUNDDOWN(BK134+5.9089,0)","v":23},{"$f":"IF(OR(C134=\"OA\",C134=\"OB\",C134=\"1B\",C134=\"1A\",C134=\"2A\",C134=\"2B\",C134=\"3A\",C134=\"3B\",C134=\"3C\"),TAN((LEFT(I134, 5)+VLOOKUP(C134,Main!$K$3:$L$21,2,FALSE))*PI()/180),IF(Checklist!$I$385=\"No\",TAN((LEFT(I134, 5)+VLOOKUP(C134,Main!$K$3:$L$21,2,FALSE))*PI()/180),\"NR\"))","v":"NR"},{"$f":"VLOOKUP(C134,Main!$A$49:$I$67,Main!$B$47,FALSE)","v":"NR"},{"$f":"VLOOKUP(C134,Main!$A$49:$I$67,Main!$C$47,FALSE)","v":"NR"},{"$f":"VLOOKUP(C134,Main!$A$49:$I$67,Main!$E$47,FALSE)&\":\"&\" \"&VLOOKUP(C134,Main!$A$49:$I$67,Main!$F$47,FALSE)","v":"Minimum HSPF:: 9.6"},{"$f":"VLOOKUP(C134,Main!$A$49:$I$67,Main!$G$47,FALSE)","v":18},{"$f":"VLOOKUP(C134,Main!$A$49:$I$67,Main!$H$47,FALSE)","v":3.1},{"$f":"VLOOKUP(C134,Main!$A$49:$I$67,Main!$I$47,FALSE)","v":16.100000000000001},2030]
["BC","BALLENAS ISLAND","4C",4772,1222,28.9,74.8,0.1183,"49.350N",32.9,42.3,42.6,45.2,49.1,55.3,60.2,64.8,64.900000000000006,60,52.4,45.8,43,239,207,151,59,6,0,0,0,0,17,137,219,2,0,4,32,170,307,460,461,301,92,11,1,34.700000000000003,33.799999999999997,36.1,39.200000000000003,44.6,49.28,53.78,53.78,50.2,38.799999999999997,38.799999999999997,34,0.68871595330739299,0.28028028028028024,63,34,18,23,{"$f":"IF(OR(C135=\"OA\",C135=\"OB\",C135=\"1B\",C135=\"1A\",C135=\"2A\",C135=\"2B\",C135=\"3A\",C135=\"3B\",C135=\"3C\"),TAN((LEFT(I135, 5)+VLOOKUP(C135,Main!$K$3:$L$21,2,FALSE))*PI()/180),IF(Checklist!$I$385=\"No\",TAN((LEFT(I135, 5)+VLOOKUP(C135,Main!$K$3:$L$21,2,FALSE))*PI()/180),\"NR\"))","v":"NR"},{"$f":"VLOOKUP(C135,Main!$A$49:$I$67,Main!$B$47,FALSE)","v":"NR"},{"$f":"VLOOKUP(C135,Main!$A$49:$I$67,Main!$C$47,FALSE)","v":"NR"},{"$f":"VLOOKUP(C135,Main!$A$49:$I$67,Main!$E$47,FALSE)&\":\"&\" \"&VLOOKUP(C135,Main!$A$49:$I$67,Main!$F$47,FALSE)","v":"Minimum HSPF:: 9.6"},{"$f":"VLOOKUP(C135,Main!$A$49:$I$67,Main!$G$47,FALSE)","v":18},{"$f":"VLOOKUP(C135,Main!$A$49:$I$67,Main!$H$47,FALSE)","v":3.1},{"$f":"VLOOKUP(C135,Main!$A$49:$I$67,Main!$I$47,FALSE)","v":16.100000000000001},1841]
["BC","COMOX AP","5C",5561,1200,32.9,69.3,0.1183,"49.720N",27.1,38.799999999999997,39.5,42.6,47.7,54.2,59.6,64.7,64.400000000000006,58.4,49,42.4,38.5,348,294,231,92,14,0,0,0,1,69,230,357,1,0,1,22,144,289,454,446,253,39,3,0,35.799999999999997,34.340000000000003,36.1,38.840000000000003,44.2,49.1,53.06,53.42,49.8,39,39,35.200000000000003,0.72881355932203384,0.24053393246547281,65,37,{"$f":"ROUNDDOWN(-18.64576148+(5.900367721*3.14219615)+(0.002662134083*D136)+(38.92365332*H136)+((BT136-3890.577273)*(G136-78.59)*0.00005765875867)+((D136-5520.854545)*(H136-0.2016890909)*0.006047043516),0)","v":20},25,{"$f":"IF(OR(C136=\"OA\",C136=\"OB\",C136=\"1B\",C136=\"1A\",C136=\"2A\",C136=\"2B\",C136=\"3A\",C136=\"3B\",C136=\"3C\"),TAN((LEFT(I136, 5)+VLOOKUP(C136,Main!$K$3:$L$21,2,FALSE))*PI()/180),IF(Checklist!$I$385=\"No\",TAN((LEFT(I136, 5)+VLOOKUP(C136,Main!$K$3:$L$21,2,FALSE))*PI()/180),\"NR\"))","v":"NR"},{"$f":"VLOOKUP(C136,Main!$A$49:$I$67,Main!$B$47,FALSE)","v":"NR"},{"$f":"VLOOKUP(C136,Main!$A$49:$I$67,Main!$C$47,FALSE)","v":"NR"},{"$f":"VLOOKUP(C136,Main!$A$49:$I$67,Main!$E$47,FALSE)&\":\"&\" \"&VLOOKUP(C136,Main!$A$49:$I$67,Main!$F$47,FALSE)","v":"Minimum HSPF:: 9.6"},{"$f":"VLOOKUP(C136,Main!$A$49:$I$67,Main!$G$47,FALSE)","v":18},{"$f":"VLOOKUP(C136,Main!$A$49:$I$67,Main!$H$47,FALSE)","v":3.1},{"$f":"VLOOKUP(C136,Main!$A$49:$I$67,Main!$I$47,FALSE)","v":16.100000000000001},1652]
["BC","CRANBROOK AP","6A",8209,1363,4.9000000000000004,75.400000000000006,0.1183,"49.610N",-4.0999999999999996,21.3,26.2,35.200000000000003,43.4,52.1,58.3,66.400000000000006,65.099999999999994,55.9,42.2,29.7,20,889,668,460,213,57,6,0,1,25,260,608,930,0,0,0,16,124,256,509,470,202,18,0,0,16,17.78,23,27.86,35.4,42.08,44.96,43.34,39.200000000000003,23.5,23.5,14.7,0.83333333333333337,0.13644712673838888,76,44,25,30,{"$f":"IF(OR(C137=\"OA\",C137=\"OB\",C137=\"1B\",C137=\"1A\",C137=\"2A\",C137=\"2B\",C137=\"3A\",C137=\"3B\",C137=\"3C\"),TAN((LEFT(I137, 5)+VLOOKUP(C137,Main!$K$3:$L$21,2,FALSE))*PI()/180),IF(Checklist!$I$385=\"No\",TAN((LEFT(I137, 5)+VLOOKUP(C137,Main!$K$3:$L$21,2,FALSE))*PI()/180),\"NR\"))","v":"NR"},{"$f":"VLOOKUP(C137,Main!$A$49:$I$67,Main!$B$47,FALSE)","v":"NR"},{"$f":"VLOOKUP(C137,Main!$A$49:$I$67,Main!$C$47,FALSE)","v":"NR"},{"$f":"VLOOKUP(C137,Main!$A$49:$I$67,Main!$E$47,FALSE)&\":\"&\" \"&VLOOKUP(C137,Main!$A$49:$I$67,Main!$F$47,FALSE)","v":"Minimum COP @ 5°F:: 1.75"},{"$f":"VLOOKUP(C137,Main!$A$49:$I$67,Main!$G$47,FALSE)","v":15},{"$f":"VLOOKUP(C137,Main!$A$49:$I$67,Main!$H$47,FALSE)","v":3.1},{"$f":"VLOOKUP(C137,Main!$A$49:$I$67,Main!$I$47,FALSE)","v":16.100000000000001},1595]
["BC","DISCOVERY ISLAND","4C",4995,1112,32.35,67.599999999999994,0.1183,"48.420N",34.1,44.1,44.6,46.1,49.5,53.5,56.9,59.3,59.7,58,52.5,47.5,44.2,186,152,126,48,7,0,0,0,0,12,91,183,3,1,6,33,116,208,288,300,241,88,15,3,36.299999999999997,35.96,38.5,40.46,45.1,49.1,52.7,53.24,50.7,41,41,36,0.66527196652719667,0.29020170613090968,63,35,19,24,{"$f":"IF(OR(C138=\"OA\",C138=\"OB\",C138=\"1B\",C138=\"1A\",C138=\"2A\",C138=\"2B\",C138=\"3A\",C138=\"3B\",C138=\"3C\"),TAN((LEFT(I138, 5)+VLOOKUP(C138,Main!$K$3:$L$21,2,FALSE))*PI()/180),IF(Checklist!$I$385=\"No\",TAN((LEFT(I138, 5)+VLOOKUP(C138,Main!$K$3:$L$21,2,FALSE))*PI()/180),\"NR\"))","v":"NR"},{"$f":"VLOOKUP(C138,Main!$A$49:$I$67,Main!$B$47,FALSE)","v":"NR"},{"$f":"VLOOKUP(C138,Main!$A$49:$I$67,Main!$C$47,FALSE)","v":"NR"},{"$f":"VLOOKUP(C138,Main!$A$49:$I$67,Main!$E$47,FALSE)&\":\"&\" \"&VLOOKUP(C138,Main!$A$49:$I$67,Main!$F$47,FALSE)","v":"Minimum HSPF:: 9.6"},{"$f":"VLOOKUP(C138,Main!$A$49:$I$67,Main!$G$47,FALSE)","v":18},{"$f":"VLOOKUP(C138,Main!$A$49:$I$67,Main!$H$47,FALSE)","v":3.1},{"$f":"VLOOKUP(C138,Main!$A$49:$I$67,Main!$I$47,FALSE)","v":16.100000000000001},1302]
["BC","ENTRANCE ISLAND","4C",4848,1220,29,75,0.1183,"49.210N",32.299999999999997,42.1,42.8,45.1,49.3,54.9,60,64.599999999999994,64.8,60,51.8,45.8,42.2,245,203,155,54,6,0,0,0,0,21,136,242,1,0,4,31,157,299,454,460,299,77,9,2,34.9,33.979999999999997,36.5,39.380000000000003,44.8,49.46,53.78,53.78,50.2,38.799999999999997,38.799999999999997,34.299999999999997,0.69111969111969107,0.27556968733439319,63,34,18,23,{"$f":"IF(OR(C139=\"OA\",C139=\"OB\",C139=\"1B\",C139=\"1A\",C139=\"2A\",C139=\"2B\",C139=\"3A\",C139=\"3B\",C139=\"3C\"),TAN((LEFT(I139, 5)+VLOOKUP(C139,Main!$K$3:$L$21,2,FALSE))*PI()/180),IF(Checklist!$I$385=\"No\",TAN((LEFT(I139, 5)+VLOOKUP(C139,Main!$K$3:$L$21,2,FALSE))*PI()/180),\"NR\"))","v":"NR"},{"$f":"VLOOKUP(C139,Main!$A$49:$I$67,Main!$B$47,FALSE)","v":"NR"},{"$f":"VLOOKUP(C139,Main!$A$49:$I$67,Main!$C$47,FALSE)","v":"NR"},{"$f":"VLOOKUP(C139,Main!$A$49:$I$67,Main!$E$47,FALSE)&\":\"&\" \"&VLOOKUP(C139,Main!$A$49:$I$67,Main!$F$47,FALSE)","v":"Minimum HSPF:: 9.6"},{"$f":"VLOOKUP(C139,Main!$A$49:$I$67,Main!$G$47,FALSE)","v":18},{"$f":"VLOOKUP(C139,Main!$A$49:$I$67,Main!$H$47,FALSE)","v":3.1},{"$f":"VLOOKUP(C139,Main!$A$49:$I$67,Main!$I$47,FALSE)","v":16.100000000000001},1793]
["BC","ESQUIMALT HARBOUR","5C",5475,1183,33,66.7,0.1183,"48.430N",30.7,41.6,42.3,44.4,48.1,52.9,56.9,60.3,60.1,56.6,50.3,44.9,41.4,262,216,177,81,18,1,0,0,1,40,160,269,1,0,4,23,109,208,320,314,199,48,6,1,36.5,36.14,38.799999999999997,40.82,45.5,49.46,52.7,53.42,51.1,41.4,41.4,36,0.6992481203007519,0.2637490036953844,65,36,20,25,{"$f":"IF(OR(C140=\"OA\",C140=\"OB\",C140=\"1B\",C140=\"1A\",C140=\"2A\",C140=\"2B\",C140=\"3A\",C140=\"3B\",C140=\"3C\"),TAN((LEFT(I140, 5)+VLOOKUP(C140,Main!$K$3:$L$21,2,FALSE))*PI()/180),IF(Checklist!$I$385=\"No\",TAN((LEFT(I140, 5)+VLOOKUP(C140,Main!$K$3:$L$21,2,FALSE))*PI()/180),\"NR\"))","v":"NR"},{"$f":"VLOOKUP(C140,Main!$A$49:$I$67,Main!$B$47,FALSE)","v":"NR"},{"$f":"VLOOKUP(C140,Main!$A$49:$I$67,Main!$C$47,FALSE)","v":"NR"},{"$f":"VLOOKUP(C140,Main!$A$49:$I$67,Main!$E$47,FALSE)&\":\"&\" \"&VLOOKUP(C140,Main!$A$49:$I$67,Main!$F$47,FALSE)","v":"Minimum HSPF:: 9.6"},{"$f":"VLOOKUP(C140,Main!$A$49:$I$67,Main!$G$47,FALSE)","v":18},{"$f":"VLOOKUP(C140,Main!$A$49:$I$67,Main!$H$47,FALSE)","v":3.1},{"$f":"VLOOKUP(C140,Main!$A$49:$I$67,Main!$I$47,FALSE)","v":16.100000000000001},1233]
["BC","FORT NELSON",7,12340,1068,-23.1,67.5,0.1183,"58.840N",-28.3,-4.5999999999999996,5.2,17.5,37,49.3,58.7,62.7,59.2,49,33.200000000000003,9.8000000000000007,-2.2999999999999998,1693,1253,1006,393,106,6,1,10,103,523,1207,1622,0,0,0,3,85,269,395,296,73,4,0,0,-10.1,-1.3,4.8,21.02,31.6,44.78,51.62,48.38,39.700000000000003,8.6,8.6,-6.5,0.88980716253443526,0.10215823299935449,89,57,35,40,{"$f":"IF(OR(C141=\"OA\",C141=\"OB\",C141=\"1B\",C141=\"1A\",C141=\"2A\",C141=\"2B\",C141=\"3A\",C141=\"3B\",C141=\"3C\"),TAN((LEFT(I141, 5)+VLOOKUP(C141,Main!$K$3:$L$21,2,FALSE))*PI()/180),IF(Checklist!$I$385=\"No\",TAN((LEFT(I141, 5)+VLOOKUP(C141,Main!$K$3:$L$21,2,FALSE))*PI()/180),\"NR\"))","v":"NR"},{"$f":"VLOOKUP(C141,Main!$A$49:$I$67,Main!$B$47,FALSE)","v":"NR"},{"$f":"VLOOKUP(C141,Main!$A$49:$I$67,Main!$C$47,FALSE)","v":"NR"},{"$f":"VLOOKUP(C141,Main!$A$49:$I$67,Main!$E$47,FALSE)&\":\"&\" \"&VLOOKUP(C141,Main!$A$49:$I$67,Main!$F$47,FALSE)","v":"Minimum COP @ 5°F:: 1.75"},{"$f":"VLOOKUP(C141,Main!$A$49:$I$67,Main!$G$47,FALSE)","v":15},{"$f":"VLOOKUP(C141,Main!$A$49:$I$67,Main!$H$47,FALSE)","v":3.1},{"$f":"VLOOKUP(C141,Main!$A$49:$I$67,Main!$I$47,FALSE)","v":16.100000000000001},1125]
["BC","FORT SAINT JOHN",7,10620,1185,-14.85,66.7,0.1183,"56.240N",-21.2,8.6,15,22.7,38.200000000000003,49.4,57.2,61,58.9,51,38,20.3,10.9,1283,980,846,362,106,9,2,9,80,383,892,1212,0,0,0,6,86,225,342,286,109,11,0,0,1.4,5.54,8.8000000000000007,21.56,30.2,41.36,47.48,45.5,38.5,16.2,16.2,4.5999999999999996,0.86531986531986527,0.11028966185916858,84,52,32,37,{"$f":"IF(OR(C142=\"OA\",C142=\"OB\",C142=\"1B\",C142=\"1A\",C142=\"2A\",C142=\"2B\",C142=\"3A\",C142=\"3B\",C142=\"3C\"),TAN((LEFT(I142, 5)+VLOOKUP(C142,Main!$K$3:$L$21,2,FALSE))*PI()/180),IF(Checklist!$I$385=\"No\",TAN((LEFT(I142, 5)+VLOOKUP(C142,Main!$K$3:$L$21,2,FALSE))*PI()/180),\"NR\"))","v":"NR"},{"$f":"VLOOKUP(C142,Main!$A$49:$I$67,Main!$B$47,FALSE)","v":"NR"},{"$f":"VLOOKUP(C142,Main!$A$49:$I$67,Main!$C$47,FALSE)","v":"NR"},{"$f":"VLOOKUP(C142,Main!$A$49:$I$67,Main!$E$47,FALSE)&\":\"&\" \"&VLOOKUP(C142,Main!$A$49:$I$67,Main!$F$47,FALSE)","v":"Minimum COP @ 5°F:: 1.75"},{"$f":"VLOOKUP(C142,Main!$A$49:$I$67,Main!$G$47,FALSE)","v":15},{"$f":"VLOOKUP(C142,Main!$A$49:$I$67,Main!$H$47,FALSE)","v":3.1},{"$f":"VLOOKUP(C142,Main!$A$49:$I$67,Main!$I$47,FALSE)","v":16.100000000000001},1065]
["BC","KAMLOOPS AP","5B",6359,1366,12.9,78.8,0.1183,"50.700N",4,26.9,32.1,40.9,49.7,58.3,64.599999999999994,71.400000000000006,70.099999999999994,60.9,47.5,35.9,27.9,717,502,287,75,7,0,0,0,3,129,426,684,0,0,5,67,265,437,664,625,331,50,2,0,21.2,23,25.5,29.84,37.799999999999997,44.24,47.3,46.94,43.5,28.8,28.8,21.2,0.805352798053528,0.1537162162162162,70,39,20,25,{"$f":"IF(OR(C143=\"OA\",C143=\"OB\",C143=\"1B\",C143=\"1A\",C143=\"2A\",C143=\"2B\",C143=\"3A\",C143=\"3B\",C143=\"3C\"),TAN((LEFT(I143, 5)+VLOOKUP(C143,Main!$K$3:$L$21,2,FALSE))*PI()/180),IF(Checklist!$I$385=\"No\",TAN((LEFT(I143, 5)+VLOOKUP(C143,Main!$K$3:$L$21,2,FALSE))*PI()/180),\"NR\"))","v":"NR"},{"$f":"VLOOKUP(C143,Main!$A$49:$I$67,Main!$B$47,FALSE)","v":"NR"},{"$f":"VLOOKUP(C143,Main!$A$49:$I$67,Main!$C$47,FALSE)","v":"NR"},{"$f":"VLOOKUP(C143,Main!$A$49:$I$67,Main!$E$47,FALSE)&\":\"&\" \"&VLOOKUP(C143,Main!$A$49:$I$67,Main!$F$47,FALSE)","v":"Minimum COP @ 5°F:: 1.75"},{"$f":"VLOOKUP(C143,Main!$A$49:$I$67,Main!$G$47,FALSE)","v":15},{"$f":"VLOOKUP(C143,Main!$A$49:$I$67,Main!$H$47,FALSE)","v":3.1},{"$f":"VLOOKUP(C143,Main!$A$49:$I$67,Main!$I$47,FALSE)","v":16.100000000000001},2446]
["BC","KELOWNA AP","5A",7009,1297,14.1,75.2,0.1183,"49.960N",7.3,27.3,30.4,38.700000000000003,46.3,54.6,61.1,67.8,66.400000000000006,57.3,44.8,34.6,27.3,705,549,352,136,22,1,0,0,9,184,462,702,0,0,1,24,167,335,551,508,229,22,0,0,21.4,21.38,25.3,29.66,38.5,44.6,47.48,46.58,42.6,28.6,28.6,21.9,0.80343980343980348,0.16207311100227079,71,41,22,27,{"$f":"IF(OR(C144=\"OA\",C144=\"OB\",C144=\"1B\",C144=\"1A\",C144=\"2A\",C144=\"2B\",C144=\"3A\",C144=\"3B\",C144=\"3C\"),TAN((LEFT(I144, 5)+VLOOKUP(C144,Main!$K$3:$L$21,2,FALSE))*PI()/180),IF(Checklist!$I$385=\"No\",TAN((LEFT(I144, 5)+VLOOKUP(C144,Main!$K$3:$L$21,2,FALSE))*PI()/180),\"NR\"))","v":"NR"},{"$f":"VLOOKUP(C144,Main!$A$49:$I$67,Main!$B$47,FALSE)","v":"NR"},{"$f":"VLOOKUP(C144,Main!$A$49:$I$67,Main!$C$47,FALSE)","v":"NR"},{"$f":"VLOOKUP(C144,Main!$A$49:$I$67,Main!$E$47,FALSE)&\":\"&\" \"&VLOOKUP(C144,Main!$A$49:$I$67,Main!$F$47,FALSE)","v":"Minimum COP @ 5°F:: 1.75"},{"$f":"VLOOKUP(C144,Main!$A$49:$I$67,Main!$G$47,FALSE)","v":15},{"$f":"VLOOKUP(C144,Main!$A$49:$I$67,Main!$H$47,FALSE)","v":3.1},{"$f":"VLOOKUP(C144,Main!$A$49:$I$67,Main!$I$47,FALSE)","v":16.100000000000001},1837]
["BC","MALAHAT","5C",5857,1173,30.4,68,0.1183,"48.570N",25.6,38.1,38.799999999999997,41.8,46.2,53.1,58.2,64.400000000000006,64.599999999999994,59.1,49.2,41.4,37.6,370,315,260,140,38,3,0,0,2,74,261,386,0,1,4,26,133,248,446,452,275,50,2,0,36,35.96,38.299999999999997,40.46,45.1,49.28,52.7,53.42,50.5,41,41,35.4,0.73684210526315785,0.23202447730749617,66,37,21,26,{"$f":"IF(OR(C145=\"OA\",C145=\"OB\",C145=\"1B\",C145=\"1A\",C145=\"2A\",C145=\"2B\",C145=\"3A\",C145=\"3B\",C145=\"3C\"),TAN((LEFT(I145, 5)+VLOOKUP(C145,Main!$K$3:$L$21,2,FALSE))*PI()/180),IF(Checklist!$I$385=\"No\",TAN((LEFT(I145, 5)+VLOOKUP(C145,Main!$K$3:$L$21,2,FALSE))*PI()/180),\"NR\"))","v":"NR"},{"$f":"VLOOKUP(C145,Main!$A$49:$I$67,Main!$B$47,FALSE)","v":"NR"},{"$f":"VLOOKUP(C145,Main!$A$49:$I$67,Main!$C$47,FALSE)","v":"NR"},{"$f":"VLOOKUP(C145,Main!$A$49:$I$67,Main!$E$47,FALSE)&\":\"&\" \"&VLOOKUP(C145,Main!$A$49:$I$67,Main!$F$47,FALSE)","v":"Minimum HSPF:: 9.6"},{"$f":"VLOOKUP(C145,Main!$A$49:$I$67,Main!$G$47,FALSE)","v":18},{"$f":"VLOOKUP(C145,Main!$A$49:$I$67,Main!$H$47,FALSE)","v":3.1},{"$f":"VLOOKUP(C145,Main!$A$49:$I$67,Main!$I$47,FALSE)","v":16.100000000000001},1637]
["BC","NORTH VANCOUVER","4C",4829,1197,25.6,69.099999999999994,0.1183,"49.300N",30.5,41.1,42.3,45.2,50.1,56.1,60.9,65.7,65.5,60.2,51.7,45,41,276,216,156,48,4,0,0,0,0,27,160,280,1,0,6,50,193,328,486,481,306,79,10,1,32.200000000000003,33.26,36.700000000000003,39.56,45.3,50.36,54.5,54.68,51.4,38.799999999999997,38.799999999999997,31.5,0.70370370370370372,0.26234234234234233,63,34,18,23,{"$f":"IF(OR(C146=\"OA\",C146=\"OB\",C146=\"1B\",C146=\"1A\",C146=\"2A\",C146=\"2B\",C146=\"3A\",C146=\"3B\",C146=\"3C\"),TAN((LEFT(I146, 5)+VLOOKUP(C146,Main!$K$3:$L$21,2,FALSE))*PI()/180),IF(Checklist!$I$385=\"No\",TAN((LEFT(I146, 5)+VLOOKUP(C146,Main!$K$3:$L$21,2,FALSE))*PI()/180),\"NR\"))","v":"NR"},{"$f":"VLOOKUP(C146,Main!$A$49:$I$67,Main!$B$47,FALSE)","v":"NR"},{"$f":"VLOOKUP(C146,Main!$A$49:$I$67,Main!$C$47,FALSE)","v":"NR"},{"$f":"VLOOKUP(C146,Main!$A$49:$I$67,Main!$E$47,FALSE)&\":\"&\" \"&VLOOKUP(C146,Main!$A$49:$I$67,Main!$F$47,FALSE)","v":"Minimum HSPF:: 9.6"},{"$f":"VLOOKUP(C146,Main!$A$49:$I$67,Main!$G$47,FALSE)","v":18},{"$f":"VLOOKUP(C146,Main!$A$49:$I$67,Main!$H$47,FALSE)","v":3.1},{"$f":"VLOOKUP(C146,Main!$A$49:$I$67,Main!$I$47,FALSE)","v":16.100000000000001},1941]
["BC","PENTICTON AP","5B",6166,1386,19.7,78.099999999999994,0.1183,"49.460N",12.7,30.8,33.6,40.6,48.1,56.9,63.3,70.5,69.099999999999994,60,48.1,37.700000000000003,30.9,597,459,293,98,11,0,0,0,2,112,371,592,0,0,3,41,225,399,635,592,302,51,3,0,24.6,25.52,27.9,31.82,38.799999999999997,45.32,48.2,48.02,43.5,30.6,30.6,24.8,0.78494623655913975,0.17789941840574752,69,38,20,25,{"$f":"IF(OR(C147=\"OA\",C147=\"OB\",C147=\"1B\",C147=\"1A\",C147=\"2A\",C147=\"2B\",C147=\"3A\",C147=\"3B\",C147=\"3C\"),TAN((LEFT(I147, 5)+VLOOKUP(C147,Main!$K$3:$L$21,2,FALSE))*PI()/180),IF(Checklist!$I$385=\"No\",TAN((LEFT(I147, 5)+VLOOKUP(C147,Main!$K$3:$L$21,2,FALSE))*PI()/180),\"NR\"))","v":"NR"},{"$f":"VLOOKUP(C147,Main!$A$49:$I$67,Main!$B$47,FALSE)","v":"NR"},{"$f":"VLOOKUP(C147,Main!$A$49:$I$67,Main!$C$47,FALSE)","v":"NR"},{"$f":"VLOOKUP(C147,Main!$A$49:$I$67,Main!$E$47,FALSE)&\":\"&\" \"&VLOOKUP(C147,Main!$A$49:$I$67,Main!$F$47,FALSE)","v":"Minimum COP @ 5°F:: 1.75"},{"$f":"VLOOKUP(C147,Main!$A$49:$I$67,Main!$G$47,FALSE)","v":15},{"$f":"VLOOKUP(C147,Main!$A$49:$I$67,Main!$H$47,FALSE)","v":3.1},{"$f":"VLOOKUP(C147,Main!$A$49:$I$67,Main!$I$47,FALSE)","v":16.100000000000001},2251]
["BC","PITT MEADOWS","4C",5382,1181,20.9,71.2,0.1183,"49.210N",23.5,38.200000000000003,40.299999999999997,43.8,48.8,55,60.1,65.3,65.099999999999994,59.9,50.5,42.5,37.4,365,272,198,76,13,0,0,0,0,51,231,392,1,0,6,40,169,303,474,469,297,66,7,1,31.5,33.26,37.200000000000003,40.1,46.4,51.44,55.58,55.94,52.3,39.4,39.4,31.3,0.73856209150326801,0.22107500759186149,65,36,19,24,{"$f":"IF(OR(C148=\"OA\",C148=\"OB\",C148=\"1B\",C148=\"1A\",C148=\"2A\",C148=\"2B\",C148=\"3A\",C148=\"3B\",C148=\"3C\"),TAN((LEFT(I148, 5)+VLOOKUP(C148,Main!$K$3:$L$21,2,FALSE))*PI()/180),IF(Checklist!$I$385=\"No\",TAN((LEFT(I148, 5)+VLOOKUP(C148,Main!$K$3:$L$21,2,FALSE))*PI()/180),\"NR\"))","v":"NR"},{"$f":"VLOOKUP(C148,Main!$A$49:$I$67,Main!$B$47,FALSE)","v":"NR"},{"$f":"VLOOKUP(C148,Main!$A$49:$I$67,Main!$C$47,FALSE)","v":"NR"},{"$f":"VLOOKUP(C148,Main!$A$49:$I$67,Main!$E$47,FALSE)&\":\"&\" \"&VLOOKUP(C148,Main!$A$49:$I$67,Main!$F$47,FALSE)","v":"Minimum HSPF:: 9.6"},{"$f":"VLOOKUP(C148,Main!$A$49:$I$67,Main!$G$47,FALSE)","v":18},{"$f":"VLOOKUP(C148,Main!$A$49:$I$67,Main!$H$47,FALSE)","v":3.1},{"$f":"VLOOKUP(C148,Main!$A$49:$I$67,Main!$I$47,FALSE)","v":16.100000000000001},1833]
["BC","PRINCE GEORGE",7,9244,1142,-4.7,68.2,0.1183,"53.880N",-13.7,17.7,23.5,30.7,40.6,49.8,56.6,60.4,59,50.9,39.700000000000003,27.8,19.7,1003,743,597,290,85,6,0,3,63,328,666,939,0,0,0,7,80,203,323,282,91,8,0,0,14.4,15.8,20.3,25.7,33.6,42.8,48.02,46.76,41.5,24.6,24.6,14.9,0.84095427435387671,0.12041417182176055,80,47,28,33,{"$f":"IF(OR(C149=\"OA\",C149=\"OB\",C149=\"1B\",C149=\"1A\",C149=\"2A\",C149=\"2B\",C149=\"3A\",C149=\"3B\",C149=\"3C\"),TAN((LEFT(I149, 5)+VLOOKUP(C149,Main!$K$3:$L$21,2,FALSE))*PI()/180),IF(Checklist!$I$385=\"No\",TAN((LEFT(I149, 5)+VLOOKUP(C149,Main!$K$3:$L$21,2,FALSE))*PI()/180),\"NR\"))","v":"NR"},{"$f":"VLOOKUP(C149,Main!$A$49:$I$67,Main!$B$47,FALSE)","v":"NR"},{"$f":"VLOOKUP(C149,Main!$A$49:$I$67,Main!$C$47,FALSE)","v":"NR"},{"$f":"VLOOKUP(C149,Main!$A$49:$I$67,Main!$E$47,FALSE)&\":\"&\" \"&VLOOKUP(C149,Main!$A$49:$I$67,Main!$F$47,FALSE)","v":"Minimum COP @ 5°F:: 1.75"},{"$f":"VLOOKUP(C149,Main!$A$49:$I$67,Main!$G$47,FALSE)","v":15},{"$f":"VLOOKUP(C149,Main!$A$49:$I$67,Main!$H$47,FALSE)","v":3.1},{"$f":"VLOOKUP(C149,Main!$A$49:$I$67,Main!$I$47,FALSE)","v":16.100000000000001},994]
["BC","SMITHERS AP",7,9276,1058,-0.05,66.2,0.1183,"54.830N",-8.6,18.8,24.4,31.3,40.5,48.9,55.3,59.2,58.2,50.4,39.6,28.3,20.2,968,717,581,287,94,10,1,2,61,325,652,924,0,0,0,3,59,170,288,257,74,3,0,0,15.6,17.420000000000002,20.8,26.24,34.200000000000003,43.16,48.74,47.48,42.3,25.2,25.2,15.6,0.83739837398373984,0.1284313033660292,79,48,29,34,{"$f":"IF(OR(C150=\"OA\",C150=\"OB\",C150=\"1B\",C150=\"1A\",C150=\"2A\",C150=\"2B\",C150=\"3A\",C150=\"3B\",C150=\"3C\"),TAN((LEFT(I150, 5)+VLOOKUP(C150,Main!$K$3:$L$21,2,FALSE))*PI()/180),IF(Checklist!$I$385=\"No\",TAN((LEFT(I150, 5)+VLOOKUP(C150,Main!$K$3:$L$21,2,FALSE))*PI()/180),\"NR\"))","v":"NR"},{"$f":"VLOOKUP(C150,Main!$A$49:$I$67,Main!$B$47,FALSE)","v":"NR"},{"$f":"VLOOKUP(C150,Main!$A$49:$I$67,Main!$C$47,FALSE)","v":"NR"},{"$f":"VLOOKUP(C150,Main!$A$49:$I$67,Main!$E$47,FALSE)&\":\"&\" \"&VLOOKUP(C150,Main!$A$49:$I$67,Main!$F$47,FALSE)","v":"Minimum COP @ 5°F:: 1.75"},{"$f":"VLOOKUP(C150,Main!$A$49:$I$67,Main!$G$47,FALSE)","v":15},{"$f":"VLOOKUP(C150,Main!$A$49:$I$67,Main!$H$47,FALSE)","v":3.1},{"$f":"VLOOKUP(C150,Main!$A$49:$I$67,Main!$I$47,FALSE)","v":16.100000000000001},854]
["BC","SUMMERLAND","5B",6306,1399,12.2,79.3,0.1183,"49.560N",12.6,29.6,32.799999999999997,40.4,48,56.6,63.1,70.900000000000006,69.7,60.8,48.1,36.6,30.2,634,482,301,106,15,0,0,0,2,107,405,614,0,0,3,45,219,393,647,611,325,47,2,0,19.600000000000001,23,27.1,30.38,37.6,43.34,45.86,45.5,41,28.2,28.2,19.399999999999999,0.79166666666666663,0.17757830032198263,69,39,20,25,{"$f":"IF(OR(C151=\"OA\",C151=\"OB\",C151=\"1B\",C151=\"1A\",C151=\"2A\",C151=\"2B\",C151=\"3A\",C151=\"3B\",C151=\"3C\"),TAN((LEFT(I151, 5)+VLOOKUP(C151,Main!$K$3:$L$21,2,FALSE))*PI()/180),IF(Checklist!$I$385=\"No\",TAN((LEFT(I151, 5)+VLOOKUP(C151,Main!$K$3:$L$21,2,FALSE))*PI()/180),\"NR\"))","v":"NR"},{"$f":"VLOOKUP(C151,Main!$A$49:$I$67,Main!$B$47,FALSE)","v":"NR"},{"$f":"VLOOKUP(C151,Main!$A$49:$I$67,Main!$C$47,FALSE)","v":"NR"},{"$f":"VLOOKUP(C151,Main!$A$49:$I$67,Main!$E$47,FALSE)&\":\"&\" \"&VLOOKUP(C151,Main!$A$49:$I$67,Main!$F$47,FALSE)","v":"Minimum COP @ 5°F:: 1.75"},{"$f":"VLOOKUP(C151,Main!$A$49:$I$67,Main!$G$47,FALSE)","v":15},{"$f":"VLOOKUP(C151,Main!$A$49:$I$67,Main!$H$47,FALSE)","v":3.1},{"$f":"VLOOKUP(C151,Main!$A$49:$I$67,Main!$I$47,FALSE)","v":16.100000000000001},2292]
["BC","VANCOUVER","4C",5240,1268,28.95,69.400000000000006,0.1183,"49.190N",25.8,39.4,40.799999999999997,44.2,48.9,55.1,60,64.5,64.599999999999994,59.2,50.7,43.6,38.799999999999997,331,258,185,66,6,0,0,0,0,45,201,346,1,0,4,34,163,300,449,452,277,67,8,1,35.4,35.06,36.9,40.28,45.9,50.36,54.86,55.22,51.8,39.200000000000003,39.200000000000003,34.5,0.72602739726027399,0.23312411938004352,65,36,19,24,{"$f":"IF(OR(C152=\"OA\",C152=\"OB\",C152=\"1B\",C152=\"1A\",C152=\"2A\",C152=\"2B\",C152=\"3A\",C152=\"3B\",C152=\"3C\"),TAN((LEFT(I152, 5)+VLOOKUP(C152,Main!$K$3:$L$21,2,FALSE))*PI()/180),IF(Checklist!$I$385=\"No\",TAN((LEFT(I152, 5)+VLOOKUP(C152,Main!$K$3:$L$21,2,FALSE))*PI()/180),\"NR\"))","v":"NR"},{"$f":"VLOOKUP(C152,Main!$A$49:$I$67,Main!$B$47,FALSE)","v":"NR"},{"$f":"VLOOKUP(C152,Main!$A$49:$I$67,Main!$C$47,FALSE)","v":"NR"},{"$f":"VLOOKUP(C152,Main!$A$49:$I$67,Main!$E$47,FALSE)&\":\"&\" \"&VLOOKUP(C152,Main!$A$49:$I$67,Main!$F$47,FALSE)","v":"Minimum HSPF:: 9.6"},{"$f":"VLOOKUP(C152,Main!$A$49:$I$67,Main!$G$47,FALSE)","v":18},{"$f":"VLOOKUP(C152,Main!$A$49:$I$67,Main!$H$47,FALSE)","v":3.1},{"$f":"VLOOKUP(C152,Main!$A$49:$I$67,Main!$I$47,FALSE)","v":16.100000000000001},1756]
["BC","VERNON","5A",6787,1333,7.4,75.400000000000006,0.1183,"50.220N",8.1999999999999993,26.8,30.7,39.4,47.4,56.5,62.6,69.099999999999994,68.099999999999994,59.2,46,34.700000000000003,27.2,720,541,330,112,16,1,0,0,6,156,458,706,0,0,1,35,218,378,592,562,283,32,0,0,20.100000000000001,23.9,28.9,33.44,41.9,48.2,50.72,49.82,46.4,31.3,31.3,20.3,0.80582524271844658,0.1645123384253819,71,40,22,27,{"$f":"IF(OR(C153=\"OA\",C153=\"OB\",C153=\"1B\",C153=\"1A\",C153=\"2A\",C153=\"2B\",C153=\"3A\",C153=\"3B\",C153=\"3C\"),TAN((LEFT(I153, 5)+VLOOKUP(C153,Main!$K$3:$L$21,2,FALSE))*PI()/180),IF(Checklist!$I$385=\"No\",TAN((LEFT(I153, 5)+VLOOKUP(C153,Main!$K$3:$L$21,2,FALSE))*PI()/180),\"NR\"))","v":"NR"},{"$f":"VLOOKUP(C153,Main!$A$49:$I$67,Main!$B$47,FALSE)","v":"NR"},{"$f":"VLOOKUP(C153,Main!$A$49:$I$67,Main!$C$47,FALSE)","v":"NR"},{"$f":"VLOOKUP(C153,Main!$A$49:$I$67,Main!$E$47,FALSE)&\":\"&\" \"&VLOOKUP(C153,Main!$A$49:$I$67,Main!$F$47,FALSE)","v":"Minimum COP @ 5°F:: 1.75"},{"$f":"VLOOKUP(C153,Main!$A$49:$I$67,Main!$G$47,FALSE)","v":15},{"$f":"VLOOKUP(C153,Main!$A$49:$I$67,Main!$H$47,FALSE)","v":3.1},{"$f":"VLOOKUP(C153,Main!$A$49:$I$67,Main!$I$47,FALSE)","v":16.100000000000001},2101]
["BC","VICTORIA AP","5C",5413,1209,33.25,68.7,0.1183,"48.650N",27.9,40.200000000000003,41.2,44.1,48.2,53.9,58.8,62.7,62.4,57.9,50.2,43.7,39.799999999999997,305,248,187,83,13,0,0,0,1,51,196,317,1,0,3,28,135,263,393,383,238,56,8,1,35.1,36.14,39.9,41.9,46.4,50.36,53.6,54.5,52.2,42.3,42.3,34.9,0.71631205673758869,0.24533261440992113,65,36,20,25,{"$f":"IF(OR(C154=\"OA\",C154=\"OB\",C154=\"1B\",C154=\"1A\",C154=\"2A\",C154=\"2B\",C154=\"3A\",C154=\"3B\",C154=\"3C\"),TAN((LEFT(I154, 5)+VLOOKUP(C154,Main!$K$3:$L$21,2,FALSE))*PI()/180),IF(Checklist!$I$385=\"No\",TAN((LEFT(I154, 5)+VLOOKUP(C154,Main!$K$3:$L$21,2,FALSE))*PI()/180),\"NR\"))","v":"NR"},{"$f":"VLOOKUP(C154,Main!$A$49:$I$67,Main!$B$47,FALSE)","v":"NR"},{"$f":"VLOOKUP(C154,Main!$A$49:$I$67,Main!$C$47,FALSE)","v":"NR"},{"$f":"VLOOKUP(C154,Main!$A$49:$I$67,Main!$E$47,FALSE)&\":\"&\" \"&VLOOKUP(C154,Main!$A$49:$I$67,Main!$F$47,FALSE)","v":"Minimum HSPF:: 9.6"},{"$f":"VLOOKUP(C154,Main!$A$49:$I$67,Main!$G$47,FALSE)","v":18},{"$f":"VLOOKUP(C154,Main!$A$49:$I$67,Main!$H$47,FALSE)","v":3.1},{"$f":"VLOOKUP(C154,Main!$A$49:$I$67,Main!$I$47,FALSE)","v":16.100000000000001},1509]
["BC","VICTORIA","5C",5142,1191,27.15,65.3,0.1183,"48.530N",29.1,41.2,42.4,44.3,48.5,54.3,59.8,65,64.599999999999994,60.1,51.1,44.4,40.4,275,214,186,91,20,1,0,0,1,39,179,299,3,2,9,45,153,293,464,453,303,72,10,1,36,34.880000000000003,36.5,39.200000000000003,44.1,47.84,51.44,52.16,49.1,39.6,39.6,35.200000000000003,0.71014492753623193,0.25290071562565136,64,35,19,24,{"$f":"IF(OR(C155=\"OA\",C155=\"OB\",C155=\"1B\",C155=\"1A\",C155=\"2A\",C155=\"2B\",C155=\"3A\",C155=\"3B\",C155=\"3C\"),TAN((LEFT(I155, 5)+VLOOKUP(C155,Main!$K$3:$L$21,2,FALSE))*PI()/180),IF(Checklist!$I$385=\"No\",TAN((LEFT(I155, 5)+VLOOKUP(C155,Main!$K$3:$L$21,2,FALSE))*PI()/180),\"NR\"))","v":"NR"},{"$f":"VLOOKUP(C155,Main!$A$49:$I$67,Main!$B$47,FALSE)","v":"NR"},{"$f":"VLOOKUP(C155,Main!$A$49:$I$67,Main!$C$47,FALSE)","v":"NR"},{"$f":"VLOOKUP(C155,Main!$A$49:$I$67,Main!$E$47,FALSE)&\":\"&\" \"&VLOOKUP(C155,Main!$A$49:$I$67,Main!$F$47,FALSE)","v":"Minimum HSPF:: 9.6"},{"$f":"VLOOKUP(C155,Main!$A$49:$I$67,Main!$G$47,FALSE)","v":18},{"$f":"VLOOKUP(C155,Main!$A$49:$I$67,Main!$H$47,FALSE)","v":3.1},{"$f":"VLOOKUP(C155,Main!$A$49:$I$67,Main!$I$47,FALSE)","v":16.100000000000001},1808]
["BC","VICTORIA UNIV","5C",4990,1195,28.2,69.099999999999994,0.1183,"48.460N",30.9,42.3,42.8,45.3,49.1,54.5,59.1,63.3,63.2,58.9,51.3,45.5,42.2,240,202,154,62,10,0,0,0,0,31,147,246,3,1,7,35,151,273,412,410,267,71,11,3,35.6,36.68,39.9,42.08,46.8,50.9,54.5,55.04,52.2,42.6,42.6,35.4,0.68992248062015504,0.26517083120856705,63,35,19,24,{"$f":"IF(OR(C156=\"OA\",C156=\"OB\",C156=\"1B\",C156=\"1A\",C156=\"2A\",C156=\"2B\",C156=\"3A\",C156=\"3B\",C156=\"3C\"),TAN((LEFT(I156, 5)+VLOOKUP(C156,Main!$K$3:$L$21,2,FALSE))*PI()/180),IF(Checklist!$I$385=\"No\",TAN((LEFT(I156, 5)+VLOOKUP(C156,Main!$K$3:$L$21,2,FALSE))*PI()/180),\"NR\"))","v":"NR"},{"$f":"VLOOKUP(C156,Main!$A$49:$I$67,Main!$B$47,FALSE)","v":"NR"},{"$f":"VLOOKUP(C156,Main!$A$49:$I$67,Main!$C$47,FALSE)","v":"NR"},{"$f":"VLOOKUP(C156,Main!$A$49:$I$67,Main!$E$47,FALSE)&\":\"&\" \"&VLOOKUP(C156,Main!$A$49:$I$67,Main!$F$47,FALSE)","v":"Minimum HSPF:: 9.6"},{"$f":"VLOOKUP(C156,Main!$A$49:$I$67,Main!$G$47,FALSE)","v":18},{"$f":"VLOOKUP(C156,Main!$A$49:$I$67,Main!$H$47,FALSE)","v":3.1},{"$f":"VLOOKUP(C156,Main!$A$49:$I$67,Main!$I$47,FALSE)","v":16.100000000000001},1644]
["BC","W VANCOUVER","4C",5398,1204,25.25,69.599999999999994,0.1183,"49.350N",26.2,39.200000000000003,40.9,43.6,48.2,54.5,59.2,64.099999999999994,64.8,59.9,50.7,42.9,38.4,337,257,204,90,18,1,0,0,1,50,219,361,1,1,6,36,157,278,439,458,298,71,7,1,31.5,32.9,36.9,39.020000000000003,45,50.18,53.96,54.32,51.1,38.700000000000003,38.700000000000003,30.6,0.72972972972972971,0.23535497219707746,65,36,20,25,{"$f":"IF(OR(C157=\"OA\",C157=\"OB\",C157=\"1B\",C157=\"1A\",C157=\"2A\",C157=\"2B\",C157=\"3A\",C157=\"3B\",C157=\"3C\"),TAN((LEFT(I157, 5)+VLOOKUP(C157,Main!$K$3:$L$21,2,FALSE))*PI()/180),IF(Checklist!$I$385=\"No\",TAN((LEFT(I157, 5)+VLOOKUP(C157,Main!$K$3:$L$21,2,FALSE))*PI()/180),\"NR\"))","v":"NR"},{"$f":"VLOOKUP(C157,Main!$A$49:$I$67,Main!$B$47,FALSE)","v":"NR"},{"$f":"VLOOKUP(C157,Main!$A$49:$I$67,Main!$C$47,FALSE)","v":"NR"},{"$f":"VLOOKUP(C157,Main!$A$49:$I$67,Main!$E$47,FALSE)&\":\"&\" \"&VLOOKUP(C157,Main!$A$49:$I$67,Main!$F$47,FALSE)","v":"Minimum HSPF:: 9.6"},{"$f":"VLOOKUP(C157,Main!$A$49:$I$67,Main!$G$47,FALSE)","v":18},{"$f":"VLOOKUP(C157,Main!$A$49:$I$67,Main!$H$47,FALSE)","v":3.1},{"$f":"VLOOKUP(C157,Main!$A$49:$I$67,Main!$I$47,FALSE)","v":16.100000000000001},1753]
["BC","WHISTLER","6A",7798,1226,12.95,74.8,0.1183,"50.130N",10,28.6,31.1,35,41,50,55.3,62.7,62.1,55.4,43.9,33.299999999999997,27.3,664,529,464,277,72,8,0,0,20,201,500,704,0,0,0,7,71,167,393,376,181,11,0,0,20.8,23.54,28.2,32,38.700000000000003,44.96,48.56,48.2,44.1,30,30,20.7,0.80343980343980348,0.16961789375582476,73,43,24,29,{"$f":"IF(OR(C158=\"OA\",C158=\"OB\",C158=\"1B\",C158=\"1A\",C158=\"2A\",C158=\"2B\",C158=\"3A\",C158=\"3B\",C158=\"3C\"),TAN((LEFT(I158, 5)+VLOOKUP(C158,Main!$K$3:$L$21,2,FALSE))*PI()/180),IF(Checklist!$I$385=\"No\",TAN((LEFT(I158, 5)+VLOOKUP(C158,Main!$K$3:$L$21,2,FALSE))*PI()/180),\"NR\"))","v":"NR"},{"$f":"VLOOKUP(C158,Main!$A$49:$I$67,Main!$B$47,FALSE)","v":"NR"},{"$f":"VLOOKUP(C158,Main!$A$49:$I$67,Main!$C$47,FALSE)","v":"NR"},{"$f":"VLOOKUP(C158,Main!$A$49:$I$67,Main!$E$47,FALSE)&\":\"&\" \"&VLOOKUP(C158,Main!$A$49:$I$67,Main!$F$47,FALSE)","v":"Minimum COP @ 5°F:: 1.75"},{"$f":"VLOOKUP(C158,Main!$A$49:$I$67,Main!$G$47,FALSE)","v":15},{"$f":"VLOOKUP(C158,Main!$A$49:$I$67,Main!$H$47,FALSE)","v":3.1},{"$f":"VLOOKUP(C158,Main!$A$49:$I$67,Main!$I$47,FALSE)","v":16.100000000000001},1206]
["BC","WHITE ROCK","4C",5018,1185,25.6,67.8,0.1183,"49.020N",26.7,41,42.2,45.4,49.7,55.2,59.7,63.6,63.7,59.1,51.6,44.7,40.299999999999997,283,218,154,52,6,0,0,0,0,32,173,301,3,1,10,43,166,292,422,423,274,83,15,2,33.1,34.700000000000003,39,42.08,48,52.52,56.12,56.66,53.2,40.799999999999997,40.799999999999997,32.4,0.71119133574007221,0.23820430600091616,64,35,19,24,{"$f":"IF(OR(C159=\"OA\",C159=\"OB\",C159=\"1B\",C159=\"1A\",C159=\"2A\",C159=\"2B\",C159=\"3A\",C159=\"3B\",C159=\"3C\"),TAN((LEFT(I159, 5)+VLOOKUP(C159,Main!$K$3:$L$21,2,FALSE))*PI()/180),IF(Checklist!$I$385=\"No\",TAN((LEFT(I159, 5)+VLOOKUP(C159,Main!$K$3:$L$21,2,FALSE))*PI()/180),\"NR\"))","v":"NR"},{"$f":"VLOOKUP(C159,Main!$A$49:$I$67,Main!$B$47,FALSE)","v":"NR"},{"$f":"VLOOKUP(C159,Main!$A$49:$I$67,Main!$C$47,FALSE)","v":"NR"},{"$f":"VLOOKUP(C159,Main!$A$49:$I$67,Main!$E$47,FALSE)&\":\"&\" \"&VLOOKUP(C159,Main!$A$49:$I$67,Main!$F$47,FALSE)","v":"Minimum HSPF:: 9.6"},{"$f":"VLOOKUP(C159,Main!$A$49:$I$67,Main!$G$47,FALSE)","v":18},{"$f":"VLOOKUP(C159,Main!$A$49:$I$67,Main!$H$47,FALSE)","v":3.1},{"$f":"VLOOKUP(C159,Main!$A$49:$I$67,Main!$I$47,FALSE)","v":16.100000000000001},1734]
["CA","ALTURAS","5B",6670,1775,18.25,78.8,0.15659999999999999,"41.491N",9.6999999999999993,31.1,33.9,38.700000000000003,43.3,51.8,59.9,68.400000000000006,65.5,58.5,47.4,37.700000000000003,30.8,584,451,352,218,65,8,0,0,10,125,371,595,0,0,1,17,122,305,569,480,266,45,3,0,26.1,25.52,30.2,30.38,32,37.04,41.18,36.5,41.5,29.5,29.5,24.1,0.78494623655913975,0.16874507440545178,73,43,23,28,{"$f":"IF(OR(C160=\"OA\",C160=\"OB\",C160=\"1B\",C160=\"1A\",C160=\"2A\",C160=\"2B\",C160=\"3A\",C160=\"3B\",C160=\"3C\"),TAN((LEFT(I160, 5)+VLOOKUP(C160,Main!$K$3:$L$21,2,FALSE))*PI()/180),IF(Checklist!$I$385=\"No\",TAN((LEFT(I160, 5)+VLOOKUP(C160,Main!$K$3:$L$21,2,FALSE))*PI()/180),\"NR\"))","v":"NR"},{"$f":"VLOOKUP(C160,Main!$A$49:$I$67,Main!$B$47,FALSE)","v":"NR"},{"$f":"VLOOKUP(C160,Main!$A$49:$I$67,Main!$C$47,FALSE)","v":"NR"},{"$f":"VLOOKUP(C160,Main!$A$49:$I$67,Main!$E$47,FALSE)&\":\"&\" \"&VLOOKUP(C160,Main!$A$49:$I$67,Main!$F$47,FALSE)","v":"Minimum COP @ 5°F:: 1.75"},{"$f":"VLOOKUP(C160,Main!$A$49:$I$67,Main!$G$47,FALSE)","v":15},{"$f":"VLOOKUP(C160,Main!$A$49:$I$67,Main!$H$47,FALSE)","v":3.1},{"$f":"VLOOKUP(C160,Main!$A$49:$I$67,Main!$I$47,FALSE)","v":16.100000000000001},1808]
["CA","ARCATA AIRPORT","4C",4818,1412,47.3,58.8,0.15659999999999999,"40.978N",32.9,47.6,48,48.4,49.4,52.3,54.9,56.7,57.2,56.1,53.6,50.1,47.1,111,89,82,54,17,2,0,0,1,15,59,125,37,32,31,38,89,147,209,225,184,128,63,34,41.2,37.76,43.9,44.24,46.4,49.46,51.8,52.7,50.5,45.7,45.7,40.6,0.61722488038277512,0.28028028028028024,64,36,22,27,{"$f":"IF(OR(C161=\"OA\",C161=\"OB\",C161=\"1B\",C161=\"1A\",C161=\"2A\",C161=\"2B\",C161=\"3A\",C161=\"3B\",C161=\"3C\"),TAN((LEFT(I161, 5)+VLOOKUP(C161,Main!$K$3:$L$21,2,FALSE))*PI()/180),IF(Checklist!$I$385=\"No\",TAN((LEFT(I161, 5)+VLOOKUP(C161,Main!$K$3:$L$21,2,FALSE))*PI()/180),\"NR\"))","v":"NR"},{"$f":"VLOOKUP(C161,Main!$A$49:$I$67,Main!$B$47,FALSE)","v":"NR"},{"$f":"VLOOKUP(C161,Main!$A$49:$I$67,Main!$C$47,FALSE)","v":"NR"},{"$f":"VLOOKUP(C161,Main!$A$49:$I$67,Main!$E$47,FALSE)&\":\"&\" \"&VLOOKUP(C161,Main!$A$49:$I$67,Main!$F$47,FALSE)","v":"Minimum HSPF:: 9.6"},{"$f":"VLOOKUP(C161,Main!$A$49:$I$67,Main!$G$47,FALSE)","v":18},{"$f":"VLOOKUP(C161,Main!$A$49:$I$67,Main!$H$47,FALSE)","v":3.1},{"$f":"VLOOKUP(C161,Main!$A$49:$I$67,Main!$I$47,FALSE)","v":16.100000000000001},1217]
["CA","BAKERSFIELD MEADOWS FIELD","3B",2050,1896,47.55,86.7,0.15659999999999999,"35.434N",35.299999999999997,48.9,53.3,58.2,62.6,70.7,77.7,84.1,82.7,77.8,67.5,55.9,48.5,87,20,6,1,0,0,0,0,0,0,16,100,53,112,261,381,642,830,1059,1014,835,543,194,53,39.700000000000003,40.46,40.5,42.62,43.7,48.2,55.76,55.58,52.9,40.6,40.6,41.5,0.6,0.30085131002562193,56,27,13,18,{"$f":"IF(OR(C162=\"OA\",C162=\"OB\",C162=\"1B\",C162=\"1A\",C162=\"2A\",C162=\"2B\",C162=\"3A\",C162=\"3B\",C162=\"3C\"),TAN((LEFT(I162, 5)+VLOOKUP(C162,Main!$K$3:$L$21,2,FALSE))*PI()/180),IF(Checklist!$I$385=\"No\",TAN((LEFT(I162, 5)+VLOOKUP(C162,Main!$K$3:$L$21,2,FALSE))*PI()/180),\"NR\"))","v":0.71145134089596851},{"$f":"VLOOKUP(C162,Main!$A$49:$I$67,Main!$B$47,FALSE)","v":"NR"},{"$f":"VLOOKUP(C162,Main!$A$49:$I$67,Main!$C$47,FALSE)","v":0.25},{"$f":"VLOOKUP(C162,Main!$A$49:$I$67,Main!$E$47,FALSE)&\":\"&\" \"&VLOOKUP(C162,Main!$A$49:$I$67,Main!$F$47,FALSE)","v":"Minimum HSPF:: 9.6"},{"$f":"VLOOKUP(C162,Main!$A$49:$I$67,Main!$G$47,FALSE)","v":18},{"$f":"VLOOKUP(C162,Main!$A$49:$I$67,Main!$H$47,FALSE)","v":3.1},{"$f":"VLOOKUP(C162,Main!$A$49:$I$67,Main!$I$47,FALSE)","v":16.100000000000001},5977]
["CA","BEALE AFB","3B",2398,1710,39.299999999999997,88.3,0.15659999999999999,"39.133N",33.9,47.5,51.7,55.4,60.1,66.8,73.3,78.5,77.400000000000006,74.3,64.8,54.6,46.9,108,34,11,3,0,0,0,0,0,0,17,128,30,81,179,306,520,698,885,851,730,459,155,32,36,40.1,43.5,42.98,47.8,46.94,53.78,54.86,52,37.200000000000003,37.200000000000003,39,0.62085308056872035,0.28849964333835298,58,28,13,18,{"$f":"IF(OR(C163=\"OA\",C163=\"OB\",C163=\"1B\",C163=\"1A\",C163=\"2A\",C163=\"2B\",C163=\"3A\",C163=\"3B\",C163=\"3C\"),TAN((LEFT(I163, 5)+VLOOKUP(C163,Main!$K$3:$L$21,2,FALSE))*PI()/180),IF(Checklist!$I$385=\"No\",TAN((LEFT(I163, 5)+VLOOKUP(C163,Main!$K$3:$L$21,2,FALSE))*PI()/180),\"NR\"))","v":0.8135477328468782},{"$f":"VLOOKUP(C163,Main!$A$49:$I$67,Main!$B$47,FALSE)","v":"NR"},{"$f":"VLOOKUP(C163,Main!$A$49:$I$67,Main!$C$47,FALSE)","v":0.25},{"$f":"VLOOKUP(C163,Main!$A$49:$I$67,Main!$E$47,FALSE)&\":\"&\" \"&VLOOKUP(C163,Main!$A$49:$I$67,Main!$F$47,FALSE)","v":"Minimum HSPF:: 9.6"},{"$f":"VLOOKUP(C163,Main!$A$49:$I$67,Main!$G$47,FALSE)","v":18},{"$f":"VLOOKUP(C163,Main!$A$49:$I$67,Main!$H$47,FALSE)","v":3.1},{"$f":"VLOOKUP(C163,Main!$A$49:$I$67,Main!$I$47,FALSE)","v":16.100000000000001},4926]
["CA","BISHOP AIRPORT","4B",4130,1972,39.65,82.6,0.15659999999999999,"37.371N",18.899999999999999,39.299999999999997,42.1,48.6,54.3,62.9,71.5,77.7,75.3,68.099999999999994,56.9,45.4,37.799999999999997,333,228,105,40,3,0,0,0,0,21,165,380,2,6,63,170,404,647,859,783,542,234,28,1,18.5,29.66,10.4,18.86,27.3,31.82,38.119999999999997,39.200000000000003,31.3,20.8,20.8,26.6,0.73509933774834435,0.20036329608631032,65,34,17,22,{"$f":"IF(OR(C164=\"OA\",C164=\"OB\",C164=\"1B\",C164=\"1A\",C164=\"2A\",C164=\"2B\",C164=\"3A\",C164=\"3B\",C164=\"3C\"),TAN((LEFT(I164, 5)+VLOOKUP(C164,Main!$K$3:$L$21,2,FALSE))*PI()/180),IF(Checklist!$I$385=\"No\",TAN((LEFT(I164, 5)+VLOOKUP(C164,Main!$K$3:$L$21,2,FALSE))*PI()/180),\"NR\"))","v":"NR"},{"$f":"VLOOKUP(C164,Main!$A$49:$I$67,Main!$B$47,FALSE)","v":"NR"},{"$f":"VLOOKUP(C164,Main!$A$49:$I$67,Main!$C$47,FALSE)","v":0.25},{"$f":"VLOOKUP(C164,Main!$A$49:$I$67,Main!$E$47,FALSE)&\":\"&\" \"&VLOOKUP(C164,Main!$A$49:$I$67,Main!$F$47,FALSE)","v":"Minimum HSPF:: 9.6"},{"$f":"VLOOKUP(C164,Main!$A$49:$I$67,Main!$G$47,FALSE)","v":18},{"$f":"VLOOKUP(C164,Main!$A$49:$I$67,Main!$H$47,FALSE)","v":3.1},{"$f":"VLOOKUP(C164,Main!$A$49:$I$67,Main!$I$47,FALSE)","v":16.100000000000001},3739]
["CA","BLUE CANYON AP","3B",5375,1823,30,75.2,0.15659999999999999,"39.277N",23.7,40,38.5,41.2,44.3,52.6,60.9,69.599999999999994,68.7,64.5,54.7,44.7,38.6,327,332,296,226,94,19,0,0,6,65,211,362,16,11,23,55,176,346,607,581,442,210,51,9,23.4,21.2,31.1,28.4,32.9,38.840000000000003,40.64,40.82,50.7,28,28,19,0.72881355932203384,0.22207308889024466,67,38,20,25,{"$f":"IF(OR(C165=\"OA\",C165=\"OB\",C165=\"1B\",C165=\"1A\",C165=\"2A\",C165=\"2B\",C165=\"3A\",C165=\"3B\",C165=\"3C\"),TAN((LEFT(I165, 5)+VLOOKUP(C165,Main!$K$3:$L$21,2,FALSE))*PI()/180),IF(Checklist!$I$385=\"No\",TAN((LEFT(I165, 5)+VLOOKUP(C165,Main!$K$3:$L$21,2,FALSE))*PI()/180),\"NR\"))","v":0.81761651897889531},{"$f":"VLOOKUP(C165,Main!$A$49:$I$67,Main!$B$47,FALSE)","v":"NR"},{"$f":"VLOOKUP(C165,Main!$A$49:$I$67,Main!$C$47,FALSE)","v":0.25},{"$f":"VLOOKUP(C165,Main!$A$49:$I$67,Main!$E$47,FALSE)&\":\"&\" \"&VLOOKUP(C165,Main!$A$49:$I$67,Main!$F$47,FALSE)","v":"Minimum HSPF:: 9.6"},{"$f":"VLOOKUP(C165,Main!$A$49:$I$67,Main!$G$47,FALSE)","v":18},{"$f":"VLOOKUP(C165,Main!$A$49:$I$67,Main!$H$47,FALSE)","v":3.1},{"$f":"VLOOKUP(C165,Main!$A$49:$I$67,Main!$I$47,FALSE)","v":16.100000000000001},2527]
["CA","BLYTHE RIVERSIDE CO ARPT","3B",1012,2081,50.9,100,0.15659999999999999,"33.619N",39.299999999999997,55.7,59,65.400000000000006,71.900000000000006,80.8,88.8,94.7,94.1,87.9,75.3,63,54.1,11,3,0,0,0,0,0,0,0,0,1,20,187,256,477,656,955,1164,1386,1368,1138,785,391,146,24.3,32.18,35.200000000000003,31.28,37.9,39.200000000000003,49.46,59.9,54.1,28.2,28.2,18,"NR",0.34278180619644028,53,23,16,21,{"$f":"IF(OR(C166=\"OA\",C166=\"OB\",C166=\"1B\",C166=\"1A\",C166=\"2A\",C166=\"2B\",C166=\"3A\",C166=\"3B\",C166=\"3C\"),TAN((LEFT(I166, 5)+VLOOKUP(C166,Main!$K$3:$L$21,2,FALSE))*PI()/180),IF(Checklist!$I$385=\"No\",TAN((LEFT(I166, 5)+VLOOKUP(C166,Main!$K$3:$L$21,2,FALSE))*PI()/180),\"NR\"))","v":0.66465001685690228},{"$f":"VLOOKUP(C166,Main!$A$49:$I$67,Main!$B$47,FALSE)","v":"NR"},{"$f":"VLOOKUP(C166,Main!$A$49:$I$67,Main!$C$47,FALSE)","v":0.25},{"$f":"VLOOKUP(C166,Main!$A$49:$I$67,Main!$E$47,FALSE)&\":\"&\" \"&VLOOKUP(C166,Main!$A$49:$I$67,Main!$F$47,FALSE)","v":"Minimum HSPF:: 9.6"},{"$f":"VLOOKUP(C166,Main!$A$49:$I$67,Main!$G$47,FALSE)","v":18},{"$f":"VLOOKUP(C166,Main!$A$49:$I$67,Main!$H$47,FALSE)","v":3.1},{"$f":"VLOOKUP(C166,Main!$A$49:$I$67,Main!$I$47,FALSE)","v":16.100000000000001},8909]
["CA","BURBANK-GLENDALE-PASADENA AP","3B",1381,1905,50.45,83.1,0.15659999999999999,"34.201N",41.1,56.4,56.5,59.4,62.3,66.2,70.099999999999994,75.3,76.7,74.7,67.900000000000006,61,55.2,9,7,3,1,0,0,0,0,0,0,1,12,207,190,292,370,503,603,783,828,741,555,331,173,36.1,35.6,49.6,46.4,50.2,58.46,58.28,57.2,57.6,43.3,43.3,35.6,"NR",0.36571887873003112,54,25,11,16,{"$f":"IF(OR(C167=\"OA\",C167=\"OB\",C167=\"1B\",C167=\"1A\",C167=\"2A\",C167=\"2B\",C167=\"3A\",C167=\"3B\",C167=\"3C\"),TAN((LEFT(I167, 5)+VLOOKUP(C167,Main!$K$3:$L$21,2,FALSE))*PI()/180),IF(Checklist!$I$385=\"No\",TAN((LEFT(I167, 5)+VLOOKUP(C167,Main!$K$3:$L$21,2,FALSE))*PI()/180),\"NR\"))","v":0.67959929822452658},{"$f":"VLOOKUP(C167,Main!$A$49:$I$67,Main!$B$47,FALSE)","v":"NR"},{"$f":"VLOOKUP(C167,Main!$A$49:$I$67,Main!$C$47,FALSE)","v":0.25},{"$f":"VLOOKUP(C167,Main!$A$49:$I$67,Main!$E$47,FALSE)&\":\"&\" \"&VLOOKUP(C167,Main!$A$49:$I$67,Main!$F$47,FALSE)","v":"Minimum HSPF:: 9.6"},{"$f":"VLOOKUP(C167,Main!$A$49:$I$67,Main!$G$47,FALSE)","v":18},{"$f":"VLOOKUP(C167,Main!$A$49:$I$67,Main!$H$47,FALSE)","v":3.1},{"$f":"VLOOKUP(C167,Main!$A$49:$I$67,Main!$I$47,FALSE)","v":16.100000000000001},5576]
["CA","CAMARILLO (AWOS)","3C",1819,1819,49.55,73.400000000000006,0.15659999999999999,"34.217N",39.700000000000003,55.5,55.1,57,58.5,61.8,64.7,67.7,68.2,67.3,63.9,59.3,54.7,10,6,2,1,0,0,0,0,0,0,1,11,180,149,219,255,367,440,549,563,519,430,281,157,38.799999999999997,38.299999999999997,38.5,44.6,53.1,53.78,56.3,58.82,55,43.7,43.7,42.4,"NR",0.34762677872218511,55,26,11,16,{"$f":"IF(OR(C168=\"OA\",C168=\"OB\",C168=\"1B\",C168=\"1A\",C168=\"2A\",C168=\"2B\",C168=\"3A\",C168=\"3B\",C168=\"3C\"),TAN((LEFT(I168, 5)+VLOOKUP(C168,Main!$K$3:$L$21,2,FALSE))*PI()/180),IF(Checklist!$I$385=\"No\",TAN((LEFT(I168, 5)+VLOOKUP(C168,Main!$K$3:$L$21,2,FALSE))*PI()/180),\"NR\"))","v":0.67985447035905722},{"$f":"VLOOKUP(C168,Main!$A$49:$I$67,Main!$B$47,FALSE)","v":"NR"},{"$f":"VLOOKUP(C168,Main!$A$49:$I$67,Main!$C$47,FALSE)","v":0.25},{"$f":"VLOOKUP(C168,Main!$A$49:$I$67,Main!$E$47,FALSE)&\":\"&\" \"&VLOOKUP(C168,Main!$A$49:$I$67,Main!$F$47,FALSE)","v":"Minimum HSPF:: 9.6"},{"$f":"VLOOKUP(C168,Main!$A$49:$I$67,Main!$G$47,FALSE)","v":18},{"$f":"VLOOKUP(C168,Main!$A$49:$I$67,Main!$H$47,FALSE)","v":3.1},{"$f":"VLOOKUP(C168,Main!$A$49:$I$67,Main!$I$47,FALSE)","v":16.100000000000001},4109]
["CA","CAMP PENDLETON MCAS","3B",1818,1845,52.15,71.400000000000006,0.15659999999999999,"33.300N",34.700000000000003,54.4,54.4,56.9,59.1,63.2,66.400000000000006,70.099999999999994,71.400000000000006,69.8,64.400000000000006,58.6,53.5,15,12,3,1,0,0,0,0,0,0,3,21,153,137,215,273,409,491,623,663,594,445,260,129,41.4,48.02,42.3,49.1,54.7,55.76,59.36,59.36,56.8,44.2,44.2,39.700000000000003,"NR",0.29543056570083598,56,26,11,16,{"$f":"IF(OR(C169=\"OA\",C169=\"OB\",C169=\"1B\",C169=\"1A\",C169=\"2A\",C169=\"2B\",C169=\"3A\",C169=\"3B\",C169=\"3C\"),TAN((LEFT(I169, 5)+VLOOKUP(C169,Main!$K$3:$L$21,2,FALSE))*PI()/180),IF(Checklist!$I$385=\"No\",TAN((LEFT(I169, 5)+VLOOKUP(C169,Main!$K$3:$L$21,2,FALSE))*PI()/180),\"NR\"))","v":0.65687722240127921},{"$f":"VLOOKUP(C169,Main!$A$49:$I$67,Main!$B$47,FALSE)","v":"NR"},{"$f":"VLOOKUP(C169,Main!$A$49:$I$67,Main!$C$47,FALSE)","v":0.25},{"$f":"VLOOKUP(C169,Main!$A$49:$I$67,Main!$E$47,FALSE)&\":\"&\" \"&VLOOKUP(C169,Main!$A$49:$I$67,Main!$F$47,FALSE)","v":"Minimum HSPF:: 9.6"},{"$f":"VLOOKUP(C169,Main!$A$49:$I$67,Main!$G$47,FALSE)","v":18},{"$f":"VLOOKUP(C169,Main!$A$49:$I$67,Main!$H$47,FALSE)","v":3.1},{"$f":"VLOOKUP(C169,Main!$A$49:$I$67,Main!$I$47,FALSE)","v":16.100000000000001},4392]
["CA","CARLSBAD/PALOMAR","3B",1623,1843,56.15,66.2,0.15659999999999999,"33.128N",44.8,56.4,55.6,57.1,58.8,62.3,64.7,68.900000000000006,69.900000000000006,68.900000000000006,65.099999999999994,60.4,55.8,5,2,0,0,0,0,0,0,0,0,0,2,204,160,222,264,382,441,585,615,566,470,312,181,46,46.76,47.8,48.74,52.2,56.12,60.8,61.88,59.9,44.1,44.1,41.7,"NR",0.42404473438956186,53,26,11,16,{"$f":"IF(OR(C170=\"OA\",C170=\"OB\",C170=\"1B\",C170=\"1A\",C170=\"2A\",C170=\"2B\",C170=\"3A\",C170=\"3B\",C170=\"3C\"),TAN((LEFT(I170, 5)+VLOOKUP(C170,Main!$K$3:$L$21,2,FALSE))*PI()/180),IF(Checklist!$I$385=\"No\",TAN((LEFT(I170, 5)+VLOOKUP(C170,Main!$K$3:$L$21,2,FALSE))*PI()/180),\"NR\"))","v":0.65238931786304888},{"$f":"VLOOKUP(C170,Main!$A$49:$I$67,Main!$B$47,FALSE)","v":"NR"},{"$f":"VLOOKUP(C170,Main!$A$49:$I$67,Main!$C$47,FALSE)","v":0.25},{"$f":"VLOOKUP(C170,Main!$A$49:$I$67,Main!$E$47,FALSE)&\":\"&\" \"&VLOOKUP(C170,Main!$A$49:$I$67,Main!$F$47,FALSE)","v":"Minimum HSPF:: 9.6"},{"$f":"VLOOKUP(C170,Main!$A$49:$I$67,Main!$G$47,FALSE)","v":18},{"$f":"VLOOKUP(C170,Main!$A$49:$I$67,Main!$H$47,FALSE)","v":3.1},{"$f":"VLOOKUP(C170,Main!$A$49:$I$67,Main!$I$47,FALSE)","v":16.100000000000001},4402]
["CA","CHINO AIRPORT","3B",1667,1876,48.6,79,0.15659999999999999,"33.975N",36.299999999999997,54.5,54.4,57.6,60.4,66.5,70.7,76.599999999999994,77,74.400000000000006,66.7,59.3,53.4,20,13,6,2,0,0,0,0,0,0,3,25,159,135,240,313,512,621,825,838,733,518,281,129,37,39.200000000000003,46.8,49.28,52.3,54.86,58.46,58.1,52.5,44.2,44.2,38.5,"NR",0.31034188762895382,55,26,11,16,{"$f":"IF(OR(C171=\"OA\",C171=\"OB\",C171=\"1B\",C171=\"1A\",C171=\"2A\",C171=\"2B\",C171=\"3A\",C171=\"3B\",C171=\"3C\"),TAN((LEFT(I171, 5)+VLOOKUP(C171,Main!$K$3:$L$21,2,FALSE))*PI()/180),IF(Checklist!$I$385=\"No\",TAN((LEFT(I171, 5)+VLOOKUP(C171,Main!$K$3:$L$21,2,FALSE))*PI()/180),\"NR\"))","v":0.67374696954465174},{"$f":"VLOOKUP(C171,Main!$A$49:$I$67,Main!$B$47,FALSE)","v":"NR"},{"$f":"VLOOKUP(C171,Main!$A$49:$I$67,Main!$C$47,FALSE)","v":0.25},{"$f":"VLOOKUP(C171,Main!$A$49:$I$67,Main!$E$47,FALSE)&\":\"&\" \"&VLOOKUP(C171,Main!$A$49:$I$67,Main!$F$47,FALSE)","v":"Minimum HSPF:: 9.6"},{"$f":"VLOOKUP(C171,Main!$A$49:$I$67,Main!$G$47,FALSE)","v":18},{"$f":"VLOOKUP(C171,Main!$A$49:$I$67,Main!$H$47,FALSE)","v":3.1},{"$f":"VLOOKUP(C171,Main!$A$49:$I$67,Main!$I$47,FALSE)","v":16.100000000000001},5304]
["CA","CHULA VISTA BROWN FIELD NAAS","3B",1647,1928,54.8,75,0.15659999999999999,"32.572N",41.5,55.9,54.9,57.2,59.2,63,65.599999999999994,69.5,70.8,70.099999999999994,65.599999999999994,60.3,55.3,9,6,1,1,0,0,0,0,0,0,1,7,192,144,223,277,404,468,604,644,604,482,309,172,42.8,44.6,48.2,51.08,51.1,55.4,59.54,60.62,56.7,43.2,43.2,37.799999999999997,"NR",0.37123916369199383,54,26,11,16,{"$f":"IF(OR(C172=\"OA\",C172=\"OB\",C172=\"1B\",C172=\"1A\",C172=\"2A\",C172=\"2B\",C172=\"3A\",C172=\"3B\",C172=\"3C\"),TAN((LEFT(I172, 5)+VLOOKUP(C172,Main!$K$3:$L$21,2,FALSE))*PI()/180),IF(Checklist!$I$385=\"No\",TAN((LEFT(I172, 5)+VLOOKUP(C172,Main!$K$3:$L$21,2,FALSE))*PI()/180),\"NR\"))","v":0.63878917974169758},{"$f":"VLOOKUP(C172,Main!$A$49:$I$67,Main!$B$47,FALSE)","v":"NR"},{"$f":"VLOOKUP(C172,Main!$A$49:$I$67,Main!$C$47,FALSE)","v":0.25},{"$f":"VLOOKUP(C172,Main!$A$49:$I$67,Main!$E$47,FALSE)&\":\"&\" \"&VLOOKUP(C172,Main!$A$49:$I$67,Main!$F$47,FALSE)","v":"Minimum HSPF:: 9.6"},{"$f":"VLOOKUP(C172,Main!$A$49:$I$67,Main!$G$47,FALSE)","v":18},{"$f":"VLOOKUP(C172,Main!$A$49:$I$67,Main!$H$47,FALSE)","v":3.1},{"$f":"VLOOKUP(C172,Main!$A$49:$I$67,Main!$I$47,FALSE)","v":16.100000000000001},4523]
["CA","CONCORD CONCORD-BUCHANAN FIEL","3B",2389,1777,47.2,79.7,0.15659999999999999,"37.992N",35,48.3,51.6,55.8,58.5,64.8,69.599999999999994,72.099999999999994,71.900000000000006,70.2,63.7,54.8,48.8,82,27,7,1,0,0,0,0,0,0,15,82,30,72,187,257,457,588,684,678,605,425,159,45,41.2,40.1,42.6,46.04,49.3,51.08,50.72,52.7,52.5,47.3,47.3,41.2,0.6,0.29811629811629814,57,28,13,18,{"$f":"IF(OR(C173=\"OA\",C173=\"OB\",C173=\"1B\",C173=\"1A\",C173=\"2A\",C173=\"2B\",C173=\"3A\",C173=\"3B\",C173=\"3C\"),TAN((LEFT(I173, 5)+VLOOKUP(C173,Main!$K$3:$L$21,2,FALSE))*PI()/180),IF(Checklist!$I$385=\"No\",TAN((LEFT(I173, 5)+VLOOKUP(C173,Main!$K$3:$L$21,2,FALSE))*PI()/180),\"NR\"))","v":0.781004595740591},{"$f":"VLOOKUP(C173,Main!$A$49:$I$67,Main!$B$47,FALSE)","v":"NR"},{"$f":"VLOOKUP(C173,Main!$A$49:$I$67,Main!$C$47,FALSE)","v":0.25},{"$f":"VLOOKUP(C173,Main!$A$49:$I$67,Main!$E$47,FALSE)&\":\"&\" \"&VLOOKUP(C173,Main!$A$49:$I$67,Main!$F$47,FALSE)","v":"Minimum HSPF:: 9.6"},{"$f":"VLOOKUP(C173,Main!$A$49:$I$67,Main!$G$47,FALSE)","v":18},{"$f":"VLOOKUP(C173,Main!$A$49:$I$67,Main!$H$47,FALSE)","v":3.1},{"$f":"VLOOKUP(C173,Main!$A$49:$I$67,Main!$I$47,FALSE)","v":16.100000000000001},4187]
["CA","CRESCENT CITY FAA AI","4C",4754,1446,46.3,55.6,0.15659999999999999,"41.780N",36.6,48,48,48.5,49.5,52.6,54.5,56.4,57.4,56.2,53.7,50.7,47.9,91,78,71,44,9,1,0,0,0,9,39,97,31,22,26,30,88,136,198,228,187,125,61,30,38.700000000000003,39.74,41.2,42.26,46.2,50,53.06,54.86,51.8,45.1,45.1,41.4,0.60199004975124382,0.31330693751075916,63,36,22,27,{"$f":"IF(OR(C174=\"OA\",C174=\"OB\",C174=\"1B\",C174=\"1A\",C174=\"2A\",C174=\"2B\",C174=\"3A\",C174=\"3B\",C174=\"3C\"),TAN((LEFT(I174, 5)+VLOOKUP(C174,Main!$K$3:$L$21,2,FALSE))*PI()/180),IF(Checklist!$I$385=\"No\",TAN((LEFT(I174, 5)+VLOOKUP(C174,Main!$K$3:$L$21,2,FALSE))*PI()/180),\"NR\"))","v":"NR"},{"$f":"VLOOKUP(C174,Main!$A$49:$I$67,Main!$B$47,FALSE)","v":"NR"},{"$f":"VLOOKUP(C174,Main!$A$49:$I$67,Main!$C$47,FALSE)","v":"NR"},{"$f":"VLOOKUP(C174,Main!$A$49:$I$67,Main!$E$47,FALSE)&\":\"&\" \"&VLOOKUP(C174,Main!$A$49:$I$67,Main!$F$47,FALSE)","v":"Minimum HSPF:: 9.6"},{"$f":"VLOOKUP(C174,Main!$A$49:$I$67,Main!$G$47,FALSE)","v":18},{"$f":"VLOOKUP(C174,Main!$A$49:$I$67,Main!$H$47,FALSE)","v":3.1},{"$f":"VLOOKUP(C174,Main!$A$49:$I$67,Main!$I$47,FALSE)","v":16.100000000000001},1162]
["CA","DAGGETT BARSTOW-DAGGETT AP","3B",1984,2090,45.45,94.5,0.15659999999999999,"34.854N",32,49.2,52.7,59.3,65.3,74.7,83.2,89.5,88.3,81.3,69.099999999999994,56.3,47.7,85,37,7,1,0,0,0,0,0,0,24,114,59,114,296,461,764,996,1224,1186,940,593,214,43,26.4,26.42,31.3,33.799999999999997,38.299999999999997,42.08,45.14,46.4,43.5,27.3,27.3,29.7,0.60591133004926101,0.27327327327327322,57,27,14,19,{"$f":"IF(OR(C175=\"OA\",C175=\"OB\",C175=\"1B\",C175=\"1A\",C175=\"2A\",C175=\"2B\",C175=\"3A\",C175=\"3B\",C175=\"3C\"),TAN((LEFT(I175, 5)+VLOOKUP(C175,Main!$K$3:$L$21,2,FALSE))*PI()/180),IF(Checklist!$I$385=\"No\",TAN((LEFT(I175, 5)+VLOOKUP(C175,Main!$K$3:$L$21,2,FALSE))*PI()/180),\"NR\"))","v":0.69631309670689834},{"$f":"VLOOKUP(C175,Main!$A$49:$I$67,Main!$B$47,FALSE)","v":"NR"},{"$f":"VLOOKUP(C175,Main!$A$49:$I$67,Main!$C$47,FALSE)","v":0.25},{"$f":"VLOOKUP(C175,Main!$A$49:$I$67,Main!$E$47,FALSE)&\":\"&\" \"&VLOOKUP(C175,Main!$A$49:$I$67,Main!$F$47,FALSE)","v":"Minimum HSPF:: 9.6"},{"$f":"VLOOKUP(C175,Main!$A$49:$I$67,Main!$G$47,FALSE)","v":18},{"$f":"VLOOKUP(C175,Main!$A$49:$I$67,Main!$H$47,FALSE)","v":3.1},{"$f":"VLOOKUP(C175,Main!$A$49:$I$67,Main!$I$47,FALSE)","v":16.100000000000001},6890]
["CA","EDWARDS AFB","3B",2839,1990,40.299999999999997,85.8,0.15659999999999999,"34.900N",25.1,45.1,48.3,54.5,60,68,76.400000000000006,83.1,82.4,75.599999999999994,63,52,43.6,172,90,27,10,0,0,0,0,0,3,52,214,19,43,167,311,559,792,1027,1005,767,407,111,15,29.5,30.02,32,31.1,34.9,38.659999999999997,41.9,37.22,33.4,30.9,30.9,28.6,0.67213114754098358,0.2293202293202293,60,30,14,19,{"$f":"IF(OR(C176=\"OA\",C176=\"OB\",C176=\"1B\",C176=\"1A\",C176=\"2A\",C176=\"2B\",C176=\"3A\",C176=\"3B\",C176=\"3C\"),TAN((LEFT(I176, 5)+VLOOKUP(C176,Main!$K$3:$L$21,2,FALSE))*PI()/180),IF(Checklist!$I$385=\"No\",TAN((LEFT(I176, 5)+VLOOKUP(C176,Main!$K$3:$L$21,2,FALSE))*PI()/180),\"NR\"))","v":0.69760966264445146},{"$f":"VLOOKUP(C176,Main!$A$49:$I$67,Main!$B$47,FALSE)","v":"NR"},{"$f":"VLOOKUP(C176,Main!$A$49:$I$67,Main!$C$47,FALSE)","v":0.25},{"$f":"VLOOKUP(C176,Main!$A$49:$I$67,Main!$E$47,FALSE)&\":\"&\" \"&VLOOKUP(C176,Main!$A$49:$I$67,Main!$F$47,FALSE)","v":"Minimum HSPF:: 9.6"},{"$f":"VLOOKUP(C176,Main!$A$49:$I$67,Main!$G$47,FALSE)","v":18},{"$f":"VLOOKUP(C176,Main!$A$49:$I$67,Main!$H$47,FALSE)","v":3.1},{"$f":"VLOOKUP(C176,Main!$A$49:$I$67,Main!$I$47,FALSE)","v":16.100000000000001},5223]
["CA","FRESNO YOSEMITE INTL AP","3B",2216,1883,42.15,85.5,0.15659999999999999,"36.780N",34.1,47.7,52,57.3,62.1,70.099999999999994,77,83.3,81.900000000000006,77,66.7,55,47.3,106,29,9,2,0,0,0,0,0,0,19,117,35,86,236,364,624,809,1032,988,810,518,171,35,39.9,42.44,43.7,44.06,48.7,46.4,53.96,52.16,52.7,44.4,44.4,39.700000000000003,0.61352657004830924,0.29020170613090968,57,28,13,18,{"$f":"IF(OR(C177=\"OA\",C177=\"OB\",C177=\"1B\",C177=\"1A\",C177=\"2A\",C177=\"2B\",C177=\"3A\",C177=\"3B\",C177=\"3C\"),TAN((LEFT(I177, 5)+VLOOKUP(C177,Main!$K$3:$L$21,2,FALSE))*PI()/180),IF(Checklist!$I$385=\"No\",TAN((LEFT(I177, 5)+VLOOKUP(C177,Main!$K$3:$L$21,2,FALSE))*PI()/180),\"NR\"))","v":0.7475513015307117},{"$f":"VLOOKUP(C177,Main!$A$49:$I$67,Main!$B$47,FALSE)","v":"NR"},{"$f":"VLOOKUP(C177,Main!$A$49:$I$67,Main!$C$47,FALSE)","v":0.25},{"$f":"VLOOKUP(C177,Main!$A$49:$I$67,Main!$E$47,FALSE)&\":\"&\" \"&VLOOKUP(C177,Main!$A$49:$I$67,Main!$F$47,FALSE)","v":"Minimum HSPF:: 9.6"},{"$f":"VLOOKUP(C177,Main!$A$49:$I$67,Main!$G$47,FALSE)","v":18},{"$f":"VLOOKUP(C177,Main!$A$49:$I$67,Main!$H$47,FALSE)","v":3.1},{"$f":"VLOOKUP(C177,Main!$A$49:$I$67,Main!$I$47,FALSE)","v":16.100000000000001},5708]
["CA","FULLERTON MUNICIPAL","3B",1113,1846,55.75,77.900000000000006,0.15659999999999999,"33.872N",42.8,57.7,57.7,60.6,62.8,67.099999999999994,70.099999999999994,74.5,75.5,74,68.400000000000006,62.2,56.6,3,1,0,0,0,0,0,0,0,0,0,4,242,218,328,385,531,602,759,792,720,571,367,209,40.799999999999997,45.32,46.4,47.3,53.4,57.56,61.34,62.96,56.1,44.6,44.6,41.5,"NR",0.39039039039039031,53,24,10,15,{"$f":"IF(OR(C178=\"OA\",C178=\"OB\",C178=\"1B\",C178=\"1A\",C178=\"2A\",C178=\"2B\",C178=\"3A\",C178=\"3B\",C178=\"3C\"),TAN((LEFT(I178, 5)+VLOOKUP(C178,Main!$K$3:$L$21,2,FALSE))*PI()/180),IF(Checklist!$I$385=\"No\",TAN((LEFT(I178, 5)+VLOOKUP(C178,Main!$K$3:$L$21,2,FALSE))*PI()/180),\"NR\"))","v":0.67121235220435005},{"$f":"VLOOKUP(C178,Main!$A$49:$I$67,Main!$B$47,FALSE)","v":"NR"},{"$f":"VLOOKUP(C178,Main!$A$49:$I$67,Main!$C$47,FALSE)","v":0.25},{"$f":"VLOOKUP(C178,Main!$A$49:$I$67,Main!$E$47,FALSE)&\":\"&\" \"&VLOOKUP(C178,Main!$A$49:$I$67,Main!$F$47,FALSE)","v":"Minimum HSPF:: 9.6"},{"$f":"VLOOKUP(C178,Main!$A$49:$I$67,Main!$G$47,FALSE)","v":18},{"$f":"VLOOKUP(C178,Main!$A$49:$I$67,Main!$H$47,FALSE)","v":3.1},{"$f":"VLOOKUP(C178,Main!$A$49:$I$67,Main!$I$47,FALSE)","v":16.100000000000001},5724]
["CA","HAYWARD AIR TERM","3C",2542,1783,47,75,0.15659999999999999,"37.654N",38.9,50.4,52.4,55.1,56.9,60.4,63.3,65.599999999999994,66,66.3,62.6,55.8,50.9,45,18,6,2,0,0,0,0,0,0,6,44,57,86,164,208,323,400,485,496,490,389,180,71,40.299999999999997,43.16,47.5,47.3,52.2,53.24,55.04,55.94,55.4,45,45,42.1,0.6,0.33807002879167819,57,29,13,18,{"$f":"IF(OR(C179=\"OA\",C179=\"OB\",C179=\"1B\",C179=\"1A\",C179=\"2A\",C179=\"2B\",C179=\"3A\",C179=\"3B\",C179=\"3C\"),TAN((LEFT(I179, 5)+VLOOKUP(C179,Main!$K$3:$L$21,2,FALSE))*PI()/180),IF(Checklist!$I$385=\"No\",TAN((LEFT(I179, 5)+VLOOKUP(C179,Main!$K$3:$L$21,2,FALSE))*PI()/180),\"NR\"))","v":0.7714948144126792},{"$f":"VLOOKUP(C179,Main!$A$49:$I$67,Main!$B$47,FALSE)","v":"NR"},{"$f":"VLOOKUP(C179,Main!$A$49:$I$67,Main!$C$47,FALSE)","v":0.25},{"$f":"VLOOKUP(C179,Main!$A$49:$I$67,Main!$E$47,FALSE)&\":\"&\" \"&VLOOKUP(C179,Main!$A$49:$I$67,Main!$F$47,FALSE)","v":"Minimum HSPF:: 9.6"},{"$f":"VLOOKUP(C179,Main!$A$49:$I$67,Main!$G$47,FALSE)","v":18},{"$f":"VLOOKUP(C179,Main!$A$49:$I$67,Main!$H$47,FALSE)","v":3.1},{"$f":"VLOOKUP(C179,Main!$A$49:$I$67,Main!$I$47,FALSE)","v":16.100000000000001},3349]
["CA","IMPERIAL","2B",937,2111,56.4,93.6,0.15659999999999999,"32.834N",37.9,56.3,59.4,65.400000000000006,70.8,78.900000000000006,86.8,92.9,93,87.5,75.3,63.6,55.1,9,2,0,0,0,0,0,0,0,0,1,13,205,266,477,625,896,1105,1329,1332,1126,785,409,170,33.299999999999997,43.16,44.2,42.8,43.2,50.72,54.5,60.8,56.1,33.299999999999997,33.299999999999997,27.1,"NR",0.32683846637335007,53,23,13,18,{"$f":"IF(OR(C180=\"OA\",C180=\"OB\",C180=\"1B\",C180=\"1A\",C180=\"2A\",C180=\"2B\",C180=\"3A\",C180=\"3B\",C180=\"3C\"),TAN((LEFT(I180, 5)+VLOOKUP(C180,Main!$K$3:$L$21,2,FALSE))*PI()/180),IF(Checklist!$I$385=\"No\",TAN((LEFT(I180, 5)+VLOOKUP(C180,Main!$K$3:$L$21,2,FALSE))*PI()/180),\"NR\"))","v":0.64519733481281005},{"$f":"VLOOKUP(C180,Main!$A$49:$I$67,Main!$B$47,FALSE)","v":0.6},{"$f":"VLOOKUP(C180,Main!$A$49:$I$67,Main!$C$47,FALSE)","v":0.25},{"$f":"VLOOKUP(C180,Main!$A$49:$I$67,Main!$E$47,FALSE)&\":\"&\" \"&VLOOKUP(C180,Main!$A$49:$I$67,Main!$F$47,FALSE)","v":"Minimum HSPF:: 9.6"},{"$f":"VLOOKUP(C180,Main!$A$49:$I$67,Main!$G$47,FALSE)","v":18},{"$f":"VLOOKUP(C180,Main!$A$49:$I$67,Main!$H$47,FALSE)","v":3.1},{"$f":"VLOOKUP(C180,Main!$A$49:$I$67,Main!$I$47,FALSE)","v":16.100000000000001},8725]
["CA","JACK NORTHROP FLD H","3B",1105,1835,55.65,73.900000000000006,0.15659999999999999,"33.923N",45.8,58.6,58.3,60.1,61.5,64.8,67,70.3,70.8,70.5,67.5,63,57.8,2,1,0,0,0,0,0,0,0,0,0,1,269,232,314,346,460,509,630,645,615,543,389,244,45,45.68,49.8,46.58,52.2,56.3,59.9,58.82,57.9,44.4,44.4,40.5,"NR",0.44314584855125388,52,24,9,14,{"$f":"IF(OR(C181=\"OA\",C181=\"OB\",C181=\"1B\",C181=\"1A\",C181=\"2A\",C181=\"2B\",C181=\"3A\",C181=\"3B\",C181=\"3C\"),TAN((LEFT(I181, 5)+VLOOKUP(C181,Main!$K$3:$L$21,2,FALSE))*PI()/180),IF(Checklist!$I$385=\"No\",TAN((LEFT(I181, 5)+VLOOKUP(C181,Main!$K$3:$L$21,2,FALSE))*PI()/180),\"NR\"))","v":0.67247891715604058},{"$f":"VLOOKUP(C181,Main!$A$49:$I$67,Main!$B$47,FALSE)","v":"NR"},{"$f":"VLOOKUP(C181,Main!$A$49:$I$67,Main!$C$47,FALSE)","v":0.25},{"$f":"VLOOKUP(C181,Main!$A$49:$I$67,Main!$E$47,FALSE)&\":\"&\" \"&VLOOKUP(C181,Main!$A$49:$I$67,Main!$F$47,FALSE)","v":"Minimum HSPF:: 9.6"},{"$f":"VLOOKUP(C181,Main!$A$49:$I$67,Main!$G$47,FALSE)","v":18},{"$f":"VLOOKUP(C181,Main!$A$49:$I$67,Main!$H$47,FALSE)","v":3.1},{"$f":"VLOOKUP(C181,Main!$A$49:$I$67,Main!$I$47,FALSE)","v":16.100000000000001},5196]
["CA","LANCASTER GEN WM FOX FIELD","3B",2937,2090,43.95,84.9,0.15659999999999999,"34.741N",24.7,45,47.7,53.9,58.9,67.8,75.8,82.5,81.099999999999994,74.2,62.8,51.2,43.7,173,100,33,11,0,0,0,0,0,2,62,208,18,36,152,278,550,774,1006,964,727,398,99,14,25.5,27.14,38.799999999999997,35.42,38.700000000000003,39.92,42.26,42.08,39.700000000000003,24.6,24.6,31.1,0.67078189300411517,0.22720179764059673,61,30,14,19,{"$f":"IF(OR(C182=\"OA\",C182=\"OB\",C182=\"1B\",C182=\"1A\",C182=\"2A\",C182=\"2B\",C182=\"3A\",C182=\"3B\",C182=\"3C\"),TAN((LEFT(I182, 5)+VLOOKUP(C182,Main!$K$3:$L$21,2,FALSE))*PI()/180),IF(Checklist!$I$385=\"No\",TAN((LEFT(I182, 5)+VLOOKUP(C182,Main!$K$3:$L$21,2,FALSE))*PI()/180),\"NR\"))","v":0.69346618797185455},{"$f":"VLOOKUP(C182,Main!$A$49:$I$67,Main!$B$47,FALSE)","v":"NR"},{"$f":"VLOOKUP(C182,Main!$A$49:$I$67,Main!$C$47,FALSE)","v":0.25},{"$f":"VLOOKUP(C182,Main!$A$49:$I$67,Main!$E$47,FALSE)&\":\"&\" \"&VLOOKUP(C182,Main!$A$49:$I$67,Main!$F$47,FALSE)","v":"Minimum HSPF:: 9.6"},{"$f":"VLOOKUP(C182,Main!$A$49:$I$67,Main!$G$47,FALSE)","v":18},{"$f":"VLOOKUP(C182,Main!$A$49:$I$67,Main!$H$47,FALSE)","v":3.1},{"$f":"VLOOKUP(C182,Main!$A$49:$I$67,Main!$I$47,FALSE)","v":16.100000000000001},5016]
["CA","LEMOORE REEVES NAS","3B",2296,1575,36.5,85.6,0.15659999999999999,"36.333N",31,47.4,52,57.4,61.8,68.8,74.7,80.599999999999994,79.3,75.2,66,54.6,46.2,114,34,8,2,0,0,0,0,0,0,22,147,35,91,239,355,583,742,949,908,755,495,159,30,39.4,43.34,38.1,40.82,43.2,49.1,56.12,55.58,45.7,40.1,40.1,39,0.6330275229357798,0.26588750913075238,58,28,13,18,{"$f":"IF(OR(C183=\"OA\",C183=\"OB\",C183=\"1B\",C183=\"1A\",C183=\"2A\",C183=\"2B\",C183=\"3A\",C183=\"3B\",C183=\"3C\"),TAN((LEFT(I183, 5)+VLOOKUP(C183,Main!$K$3:$L$21,2,FALSE))*PI()/180),IF(Checklist!$I$385=\"No\",TAN((LEFT(I183, 5)+VLOOKUP(C183,Main!$K$3:$L$21,2,FALSE))*PI()/180),\"NR\"))","v":0.73537946982702052},{"$f":"VLOOKUP(C183,Main!$A$49:$I$67,Main!$B$47,FALSE)","v":"NR"},{"$f":"VLOOKUP(C183,Main!$A$49:$I$67,Main!$C$47,FALSE)","v":0.25},{"$f":"VLOOKUP(C183,Main!$A$49:$I$67,Main!$E$47,FALSE)&\":\"&\" \"&VLOOKUP(C183,Main!$A$49:$I$67,Main!$F$47,FALSE)","v":"Minimum HSPF:: 9.6"},{"$f":"VLOOKUP(C183,Main!$A$49:$I$67,Main!$G$47,FALSE)","v":18},{"$f":"VLOOKUP(C183,Main!$A$49:$I$67,Main!$H$47,FALSE)","v":3.1},{"$f":"VLOOKUP(C183,Main!$A$49:$I$67,Main!$I$47,FALSE)","v":16.100000000000001},5341]
["CA","LIVERMORE MUNICIPAL","3C",2671,1829,40.75,78.3,0.15659999999999999,"37.693N",33.1,47.7,50.2,53.9,56.8,62.4,67.900000000000006,72.099999999999994,72,70.2,63.3,54.1,48.4,102,46,19,5,0,0,0,0,0,0,22,94,31,52,139,209,385,537,684,682,607,412,145,43,38.799999999999997,41.72,46.6,43.34,47.5,49.46,53.42,51.44,50.9,40.6,40.6,39.700000000000003,0.60591133004926101,0.28188647099821884,58,29,13,18,{"$f":"IF(OR(C184=\"OA\",C184=\"OB\",C184=\"1B\",C184=\"1A\",C184=\"2A\",C184=\"2B\",C184=\"3A\",C184=\"3B\",C184=\"3C\"),TAN((LEFT(I184, 5)+VLOOKUP(C184,Main!$K$3:$L$21,2,FALSE))*PI()/180),IF(Checklist!$I$385=\"No\",TAN((LEFT(I184, 5)+VLOOKUP(C184,Main!$K$3:$L$21,2,FALSE))*PI()/180),\"NR\"))","v":0.77260907739654583},{"$f":"VLOOKUP(C184,Main!$A$49:$I$67,Main!$B$47,FALSE)","v":"NR"},{"$f":"VLOOKUP(C184,Main!$A$49:$I$67,Main!$C$47,FALSE)","v":0.25},{"$f":"VLOOKUP(C184,Main!$A$49:$I$67,Main!$E$47,FALSE)&\":\"&\" \"&VLOOKUP(C184,Main!$A$49:$I$67,Main!$F$47,FALSE)","v":"Minimum HSPF:: 9.6"},{"$f":"VLOOKUP(C184,Main!$A$49:$I$67,Main!$G$47,FALSE)","v":18},{"$f":"VLOOKUP(C184,Main!$A$49:$I$67,Main!$H$47,FALSE)","v":3.1},{"$f":"VLOOKUP(C184,Main!$A$49:$I$67,Main!$I$47,FALSE)","v":16.100000000000001},3926]
["CA","LOMPOC (AWOS)","3C",2809,1720,46.95,62.6,0.15659999999999999,"34.667N",35.5,52.2,53,54.5,55.5,58.1,60.1,62.2,62.8,62.4,60.2,56.6,51.8,30,17,9,3,0,0,0,0,0,0,6,34,99,102,149,167,250,304,378,397,371,315,205,89,35.799999999999997,15.08,25.5,37.04,19.899999999999999,50.54,51.8,50.9,52.5,14.4,14.4,40.5,0.6,0.30270270270270266,58,30,15,20,{"$f":"IF(OR(C185=\"OA\",C185=\"OB\",C185=\"1B\",C185=\"1A\",C185=\"2A\",C185=\"2B\",C185=\"3A\",C185=\"3B\",C185=\"3C\"),TAN((LEFT(I185, 5)+VLOOKUP(C185,Main!$K$3:$L$21,2,FALSE))*PI()/180),IF(Checklist!$I$385=\"No\",TAN((LEFT(I185, 5)+VLOOKUP(C185,Main!$K$3:$L$21,2,FALSE))*PI()/180),\"NR\"))","v":0.6914004668034478},{"$f":"VLOOKUP(C185,Main!$A$49:$I$67,Main!$B$47,FALSE)","v":"NR"},{"$f":"VLOOKUP(C185,Main!$A$49:$I$67,Main!$C$47,FALSE)","v":0.25},{"$f":"VLOOKUP(C185,Main!$A$49:$I$67,Main!$E$47,FALSE)&\":\"&\" \"&VLOOKUP(C185,Main!$A$49:$I$67,Main!$F$47,FALSE)","v":"Minimum HSPF:: 9.6"},{"$f":"VLOOKUP(C185,Main!$A$49:$I$67,Main!$G$47,FALSE)","v":18},{"$f":"VLOOKUP(C185,Main!$A$49:$I$67,Main!$H$47,FALSE)","v":3.1},{"$f":"VLOOKUP(C185,Main!$A$49:$I$67,Main!$I$47,FALSE)","v":16.100000000000001},2826]
["CA","LONG BEACH DAUGHERTY FLD","3B",1188,1817,52.95,73.599999999999994,0.15659999999999999,"33.812N",43.7,57.2,57.4,59.8,62.4,65.7,68.7,72.599999999999994,73.900000000000006,72.7,67.8,61.9,56.5,4,2,0,0,0,0,0,0,0,0,0,3,228,208,303,371,486,561,700,742,680,551,358,206,45.1,45.32,47.7,51.08,52.7,57.56,60.98,59.36,60.3,48,48,41.4,"NR",0.40484929373818263,53,24,9,14,{"$f":"IF(OR(C186=\"OA\",C186=\"OB\",C186=\"1B\",C186=\"1A\",C186=\"2A\",C186=\"2B\",C186=\"3A\",C186=\"3B\",C186=\"3C\"),TAN((LEFT(I186, 5)+VLOOKUP(C186,Main!$K$3:$L$21,2,FALSE))*PI()/180),IF(Checklist!$I$385=\"No\",TAN((LEFT(I186, 5)+VLOOKUP(C186,Main!$K$3:$L$21,2,FALSE))*PI()/180),\"NR\"))","v":0.66969443128592909},{"$f":"VLOOKUP(C186,Main!$A$49:$I$67,Main!$B$47,FALSE)","v":"NR"},{"$f":"VLOOKUP(C186,Main!$A$49:$I$67,Main!$C$47,FALSE)","v":0.25},{"$f":"VLOOKUP(C186,Main!$A$49:$I$67,Main!$E$47,FALSE)&\":\"&\" \"&VLOOKUP(C186,Main!$A$49:$I$67,Main!$F$47,FALSE)","v":"Minimum HSPF:: 9.6"},{"$f":"VLOOKUP(C186,Main!$A$49:$I$67,Main!$G$47,FALSE)","v":18},{"$f":"VLOOKUP(C186,Main!$A$49:$I$67,Main!$H$47,FALSE)","v":3.1},{"$f":"VLOOKUP(C186,Main!$A$49:$I$67,Main!$I$47,FALSE)","v":16.100000000000001},5394]
["CA","LOS ANGELES INTL ARPT","3B",1287,1827,52.45,66.599999999999994,0.15659999999999999,"33.938N",46.8,57.7,57.5,58.6,60.6,63.4,66,69,69.900000000000006,69.2,66.3,62,57.3,1,1,0,0,0,0,0,0,0,0,0,2,241,210,267,317,417,481,589,616,577,505,359,227,46.9,48.56,45.5,50,53.6,57.74,59.9,60.08,61.3,48,48,45.3,"NR",0.46404895461499224,52,24,9,14,{"$f":"IF(OR(C187=\"OA\",C187=\"OB\",C187=\"1B\",C187=\"1A\",C187=\"2A\",C187=\"2B\",C187=\"3A\",C187=\"3B\",C187=\"3C\"),TAN((LEFT(I187, 5)+VLOOKUP(C187,Main!$K$3:$L$21,2,FALSE))*PI()/180),IF(Checklist!$I$385=\"No\",TAN((LEFT(I187, 5)+VLOOKUP(C187,Main!$K$3:$L$21,2,FALSE))*PI()/180),\"NR\"))","v":0.67273240849321936},{"$f":"VLOOKUP(C187,Main!$A$49:$I$67,Main!$B$47,FALSE)","v":"NR"},{"$f":"VLOOKUP(C187,Main!$A$49:$I$67,Main!$C$47,FALSE)","v":0.25},{"$f":"VLOOKUP(C187,Main!$A$49:$I$67,Main!$E$47,FALSE)&\":\"&\" \"&VLOOKUP(C187,Main!$A$49:$I$67,Main!$F$47,FALSE)","v":"Minimum HSPF:: 9.6"},{"$f":"VLOOKUP(C187,Main!$A$49:$I$67,Main!$G$47,FALSE)","v":18},{"$f":"VLOOKUP(C187,Main!$A$49:$I$67,Main!$H$47,FALSE)","v":3.1},{"$f":"VLOOKUP(C187,Main!$A$49:$I$67,Main!$I$47,FALSE)","v":16.100000000000001},4806]
["CA","MARCH AFB","3B",1895,1948,43.5,82.2,0.15659999999999999,"33.900N",35,53.1,53.3,56.5,60.2,65.900000000000006,71.400000000000006,77.400000000000006,78.900000000000006,75.599999999999994,66.7,58.2,51.9,33,28,10,5,0,0,0,0,0,0,8,45,129,121,211,310,493,642,848,897,767,517,253,105,31.6,26.96,35.1,38.840000000000003,50.9,48.38,53.06,49.28,50.5,31.5,31.5,25.9,0.6,0.29811629811629814,56,26,12,17,{"$f":"IF(OR(C188=\"OA\",C188=\"OB\",C188=\"1B\",C188=\"1A\",C188=\"2A\",C188=\"2B\",C188=\"3A\",C188=\"3B\",C188=\"3C\"),TAN((LEFT(I188, 5)+VLOOKUP(C188,Main!$K$3:$L$21,2,FALSE))*PI()/180),IF(Checklist!$I$385=\"No\",TAN((LEFT(I188, 5)+VLOOKUP(C188,Main!$K$3:$L$21,2,FALSE))*PI()/180),\"NR\"))","v":0.67197211293758841},{"$f":"VLOOKUP(C188,Main!$A$49:$I$67,Main!$B$47,FALSE)","v":"NR"},{"$f":"VLOOKUP(C188,Main!$A$49:$I$67,Main!$C$47,FALSE)","v":0.25},{"$f":"VLOOKUP(C188,Main!$A$49:$I$67,Main!$E$47,FALSE)&\":\"&\" \"&VLOOKUP(C188,Main!$A$49:$I$67,Main!$F$47,FALSE)","v":"Minimum HSPF:: 9.6"},{"$f":"VLOOKUP(C188,Main!$A$49:$I$67,Main!$G$47,FALSE)","v":18},{"$f":"VLOOKUP(C188,Main!$A$49:$I$67,Main!$H$47,FALSE)","v":3.1},{"$f":"VLOOKUP(C188,Main!$A$49:$I$67,Main!$I$47,FALSE)","v":16.100000000000001},5293]
["CA","MERCED/MACREADY FLD","3B",2613,1877,44.45,83.8,0.15659999999999999,"37.285N",31.9,45.7,49.8,54.9,59.2,67.8,74.2,79.2,77.400000000000006,73.400000000000006,63.9,53.3,46.3,147,50,17,5,0,0,0,0,0,0,29,141,14,45,169,282,551,726,906,849,702,431,127,26,37.9,46.4,48.4,41.18,44.1,52.52,53.78,54.68,48.9,43.2,43.2,41.9,0.64125560538116588,0.27251628359661595,58,29,14,19,{"$f":"IF(OR(C189=\"OA\",C189=\"OB\",C189=\"1B\",C189=\"1A\",C189=\"2A\",C189=\"2B\",C189=\"3A\",C189=\"3B\",C189=\"3C\"),TAN((LEFT(I189, 5)+VLOOKUP(C189,Main!$K$3:$L$21,2,FALSE))*PI()/180),IF(Checklist!$I$385=\"No\",TAN((LEFT(I189, 5)+VLOOKUP(C189,Main!$K$3:$L$21,2,FALSE))*PI()/180),\"NR\"))","v":0.76124436110648508},{"$f":"VLOOKUP(C189,Main!$A$49:$I$67,Main!$B$47,FALSE)","v":"NR"},{"$f":"VLOOKUP(C189,Main!$A$49:$I$67,Main!$C$47,FALSE)","v":0.25},{"$f":"VLOOKUP(C189,Main!$A$49:$I$67,Main!$E$47,FALSE)&\":\"&\" \"&VLOOKUP(C189,Main!$A$49:$I$67,Main!$F$47,FALSE)","v":"Minimum HSPF:: 9.6"},{"$f":"VLOOKUP(C189,Main!$A$49:$I$67,Main!$G$47,FALSE)","v":18},{"$f":"VLOOKUP(C189,Main!$A$49:$I$67,Main!$H$47,FALSE)","v":3.1},{"$f":"VLOOKUP(C189,Main!$A$49:$I$67,Main!$I$47,FALSE)","v":16.100000000000001},4828]
["CA","MODESTO CITY-COUNTY AP","3B",2362,1843,44.7,86.2,0.15659999999999999,"37.624N",33.299999999999997,47,51.4,56.4,60.6,68.599999999999994,74.5,79.099999999999994,77.7,73.900000000000006,64.5,54.2,47.4,113,30,8,3,0,0,0,0,0,0,18,113,20,69,207,321,577,737,902,858,716,449,144,33,41.4,39.92,46.6,42.62,42.8,50.72,51.44,52.16,50.2,44.2,44.2,42.1,0.61904761904761907,0.28351117688293476,58,28,13,18,{"$f":"IF(OR(C190=\"OA\",C190=\"OB\",C190=\"1B\",C190=\"1A\",C190=\"2A\",C190=\"2B\",C190=\"3A\",C190=\"3B\",C190=\"3C\"),TAN((LEFT(I190, 5)+VLOOKUP(C190,Main!$K$3:$L$21,2,FALSE))*PI()/180),IF(Checklist!$I$385=\"No\",TAN((LEFT(I190, 5)+VLOOKUP(C190,Main!$K$3:$L$21,2,FALSE))*PI()/180),\"NR\"))","v":0.77065990460988765},{"$f":"VLOOKUP(C190,Main!$A$49:$I$67,Main!$B$47,FALSE)","v":"NR"},{"$f":"VLOOKUP(C190,Main!$A$49:$I$67,Main!$C$47,FALSE)","v":0.25},{"$f":"VLOOKUP(C190,Main!$A$49:$I$67,Main!$E$47,FALSE)&\":\"&\" \"&VLOOKUP(C190,Main!$A$49:$I$67,Main!$F$47,FALSE)","v":"Minimum HSPF:: 9.6"},{"$f":"VLOOKUP(C190,Main!$A$49:$I$67,Main!$G$47,FALSE)","v":18},{"$f":"VLOOKUP(C190,Main!$A$49:$I$67,Main!$H$47,FALSE)","v":3.1},{"$f":"VLOOKUP(C190,Main!$A$49:$I$67,Main!$I$47,FALSE)","v":16.100000000000001},5033]
["CA","MONTAGUE SISKIYOU COUNTY AP","4C",5339,1753,33.700000000000003,77.2,0.15659999999999999,"41.781N",19.100000000000001,36.1,39.299999999999997,43.5,48.3,55.9,63.4,73.3,71.2,64.3,52.2,41,35.1,432,301,212,113,25,2,0,0,1,49,280,462,1,1,11,61,207,404,723,657,431,118,9,1,30.9,28.04,26.1,35.96,39.9,39.74,45.14,43.7,37,32.9,32.9,26.4,0.75683890577507595,0.20118277786989441,68,38,20,25,{"$f":"IF(OR(C191=\"OA\",C191=\"OB\",C191=\"1B\",C191=\"1A\",C191=\"2A\",C191=\"2B\",C191=\"3A\",C191=\"3B\",C191=\"3C\"),TAN((LEFT(I191, 5)+VLOOKUP(C191,Main!$K$3:$L$21,2,FALSE))*PI()/180),IF(Checklist!$I$385=\"No\",TAN((LEFT(I191, 5)+VLOOKUP(C191,Main!$K$3:$L$21,2,FALSE))*PI()/180),\"NR\"))","v":"NR"},{"$f":"VLOOKUP(C191,Main!$A$49:$I$67,Main!$B$47,FALSE)","v":"NR"},{"$f":"VLOOKUP(C191,Main!$A$49:$I$67,Main!$C$47,FALSE)","v":"NR"},{"$f":"VLOOKUP(C191,Main!$A$49:$I$67,Main!$E$47,FALSE)&\":\"&\" \"&VLOOKUP(C191,Main!$A$49:$I$67,Main!$F$47,FALSE)","v":"Minimum HSPF:: 9.6"},{"$f":"VLOOKUP(C191,Main!$A$49:$I$67,Main!$G$47,FALSE)","v":18},{"$f":"VLOOKUP(C191,Main!$A$49:$I$67,Main!$H$47,FALSE)","v":3.1},{"$f":"VLOOKUP(C191,Main!$A$49:$I$67,Main!$I$47,FALSE)","v":16.100000000000001},2624]
["CA","MONTEREY NAF","3C",3231,1726,52.55,72.7,0.15659999999999999,"36.588N",38.799999999999997,51.6,52.2,53.3,54.2,56.7,59.2,60.3,61,61.1,59,55,51.4,35,18,11,4,0,0,0,0,0,0,6,36,85,79,113,130,208,276,321,341,334,280,157,81,40.5,42.26,48,43.16,48,50.9,54.14,53.24,52.9,44.1,44.1,43.2,0.6,0.33691225472047387,59,31,15,20,{"$f":"IF(OR(C192=\"OA\",C192=\"OB\",C192=\"1B\",C192=\"1A\",C192=\"2A\",C192=\"2B\",C192=\"3A\",C192=\"3B\",C192=\"3C\"),TAN((LEFT(I192, 5)+VLOOKUP(C192,Main!$K$3:$L$21,2,FALSE))*PI()/180),IF(Checklist!$I$385=\"No\",TAN((LEFT(I192, 5)+VLOOKUP(C192,Main!$K$3:$L$21,2,FALSE))*PI()/180),\"NR\"))","v":0.74212408802226082},{"$f":"VLOOKUP(C192,Main!$A$49:$I$67,Main!$B$47,FALSE)","v":"NR"},{"$f":"VLOOKUP(C192,Main!$A$49:$I$67,Main!$C$47,FALSE)","v":0.25},{"$f":"VLOOKUP(C192,Main!$A$49:$I$67,Main!$E$47,FALSE)&\":\"&\" \"&VLOOKUP(C192,Main!$A$49:$I$67,Main!$F$47,FALSE)","v":"Minimum HSPF:: 9.6"},{"$f":"VLOOKUP(C192,Main!$A$49:$I$67,Main!$G$47,FALSE)","v":18},{"$f":"VLOOKUP(C192,Main!$A$49:$I$67,Main!$H$47,FALSE)","v":3.1},{"$f":"VLOOKUP(C192,Main!$A$49:$I$67,Main!$I$47,FALSE)","v":16.100000000000001},2405]
["CA","MOUNTAIN VIEW MOFFETT FLD NAS","3C",2190,1513,46.85,74.5,0.15659999999999999,"37.406N",38.5,51,53.2,56,58.9,62.5,65.900000000000006,68,68.3,67.8,63.8,56.7,50.7,39,15,5,1,0,0,0,0,0,0,5,50,70,105,191,267,386,477,559,567,534,429,207,73,43.7,41.72,47.8,41.54,45.5,50.72,55.4,56.66,55.2,43.7,43.7,42.6,0.6,0.33348602840128261,56,27,12,17,{"$f":"IF(OR(C193=\"OA\",C193=\"OB\",C193=\"1B\",C193=\"1A\",C193=\"2A\",C193=\"2B\",C193=\"3A\",C193=\"3B\",C193=\"3C\"),TAN((LEFT(I193, 5)+VLOOKUP(C193,Main!$K$3:$L$21,2,FALSE))*PI()/180),IF(Checklist!$I$385=\"No\",TAN((LEFT(I193, 5)+VLOOKUP(C193,Main!$K$3:$L$21,2,FALSE))*PI()/180),\"NR\"))","v":0.76455773096664392},{"$f":"VLOOKUP(C193,Main!$A$49:$I$67,Main!$B$47,FALSE)","v":"NR"},{"$f":"VLOOKUP(C193,Main!$A$49:$I$67,Main!$C$47,FALSE)","v":0.25},{"$f":"VLOOKUP(C193,Main!$A$49:$I$67,Main!$E$47,FALSE)&\":\"&\" \"&VLOOKUP(C193,Main!$A$49:$I$67,Main!$F$47,FALSE)","v":"Minimum HSPF:: 9.6"},{"$f":"VLOOKUP(C193,Main!$A$49:$I$67,Main!$G$47,FALSE)","v":18},{"$f":"VLOOKUP(C193,Main!$A$49:$I$67,Main!$H$47,FALSE)","v":3.1},{"$f":"VLOOKUP(C193,Main!$A$49:$I$67,Main!$I$47,FALSE)","v":16.100000000000001},3865]
["CA","NAPA CO. AIRPORT","3C",3182,1774,44.6,72.3,0.15659999999999999,"38.210N",31.8,46.8,49.4,52.5,54.7,59.7,64.2,65.7,65.900000000000006,65,59.7,52.4,47,117,56,27,12,0,0,0,0,0,0,33,123,18,40,103,153,300,426,487,492,449,301,105,31,38.1,44.06,47.3,44.96,49.5,51.44,55.04,55.76,52.2,46.4,46.4,43.5,0.62264150943396235,0.27176347618336566,60,31,15,20,{"$f":"IF(OR(C194=\"OA\",C194=\"OB\",C194=\"1B\",C194=\"1A\",C194=\"2A\",C194=\"2B\",C194=\"3A\",C194=\"3B\",C194=\"3C\"),TAN((LEFT(I194, 5)+VLOOKUP(C194,Main!$K$3:$L$21,2,FALSE))*PI()/180),IF(Checklist!$I$385=\"No\",TAN((LEFT(I194, 5)+VLOOKUP(C194,Main!$K$3:$L$21,2,FALSE))*PI()/180),\"NR\"))","v":0.78720505443600808},{"$f":"VLOOKUP(C194,Main!$A$49:$I$67,Main!$B$47,FALSE)","v":"NR"},{"$f":"VLOOKUP(C194,Main!$A$49:$I$67,Main!$C$47,FALSE)","v":0.25},{"$f":"VLOOKUP(C194,Main!$A$49:$I$67,Main!$E$47,FALSE)&\":\"&\" \"&VLOOKUP(C194,Main!$A$49:$I$67,Main!$F$47,FALSE)","v":"Minimum HSPF:: 9.6"},{"$f":"VLOOKUP(C194,Main!$A$49:$I$67,Main!$G$47,FALSE)","v":18},{"$f":"VLOOKUP(C194,Main!$A$49:$I$67,Main!$H$47,FALSE)","v":3.1},{"$f":"VLOOKUP(C194,Main!$A$49:$I$67,Main!$I$47,FALSE)","v":16.100000000000001},2905]
["CA","NEEDLES AIRPORT","3B",1061,2038,48.55,99.9,0.15659999999999999,"34.768N",39.799999999999997,55.2,58.1,65.7,72.599999999999994,83,92.4,98,95.7,89.1,75.900000000000006,63.6,53.6,22,4,0,0,0,0,0,0,0,0,2,30,184,231,487,677,1023,1273,1488,1416,1172,802,410,141,32,32.54,26.2,35.42,33.299999999999997,38.299999999999997,51.08,54.32,45.1,33.299999999999997,33.299999999999997,28.6,"NR",0.34885949779566794,53,24,16,21,{"$f":"IF(OR(C195=\"OA\",C195=\"OB\",C195=\"1B\",C195=\"1A\",C195=\"2A\",C195=\"2B\",C195=\"3A\",C195=\"3B\",C195=\"3C\"),TAN((LEFT(I195, 5)+VLOOKUP(C195,Main!$K$3:$L$21,2,FALSE))*PI()/180),IF(Checklist!$I$385=\"No\",TAN((LEFT(I195, 5)+VLOOKUP(C195,Main!$K$3:$L$21,2,FALSE))*PI()/180),\"NR\"))","v":0.69398324315005222},{"$f":"VLOOKUP(C195,Main!$A$49:$I$67,Main!$B$47,FALSE)","v":"NR"},{"$f":"VLOOKUP(C195,Main!$A$49:$I$67,Main!$C$47,FALSE)","v":0.25},{"$f":"VLOOKUP(C195,Main!$A$49:$I$67,Main!$E$47,FALSE)&\":\"&\" \"&VLOOKUP(C195,Main!$A$49:$I$67,Main!$F$47,FALSE)","v":"Minimum HSPF:: 9.6"},{"$f":"VLOOKUP(C195,Main!$A$49:$I$67,Main!$G$47,FALSE)","v":18},{"$f":"VLOOKUP(C195,Main!$A$49:$I$67,Main!$H$47,FALSE)","v":3.1},{"$f":"VLOOKUP(C195,Main!$A$49:$I$67,Main!$I$47,FALSE)","v":16.100000000000001},9304]
["CA","OAKLAND METROPOLITAN ARPT","3C",2692,1695,48.65,68.900000000000006,0.15659999999999999,"37.721N",38.9,49.9,52.4,55.1,57.1,59.8,62.2,63.6,64.400000000000006,64.599999999999994,61.9,55.4,50.2,51,18,5,1,0,0,0,0,0,0,8,55,49,85,162,215,305,366,420,446,439,369,170,60,41.5,43.34,48,47.3,51.3,51.8,54.14,54.5,54.5,46.4,46.4,43.9,0.6,0.33807002879167819,57,29,14,19,{"$f":"IF(OR(C196=\"OA\",C196=\"OB\",C196=\"1B\",C196=\"1A\",C196=\"2A\",C196=\"2B\",C196=\"3A\",C196=\"3B\",C196=\"3C\"),TAN((LEFT(I196, 5)+VLOOKUP(C196,Main!$K$3:$L$21,2,FALSE))*PI()/180),IF(Checklist!$I$385=\"No\",TAN((LEFT(I196, 5)+VLOOKUP(C196,Main!$K$3:$L$21,2,FALSE))*PI()/180),\"NR\"))","v":0.77344556372571915},{"$f":"VLOOKUP(C196,Main!$A$49:$I$67,Main!$B$47,FALSE)","v":"NR"},{"$f":"VLOOKUP(C196,Main!$A$49:$I$67,Main!$C$47,FALSE)","v":0.25},{"$f":"VLOOKUP(C196,Main!$A$49:$I$67,Main!$E$47,FALSE)&\":\"&\" \"&VLOOKUP(C196,Main!$A$49:$I$67,Main!$F$47,FALSE)","v":"Minimum HSPF:: 9.6"},{"$f":"VLOOKUP(C196,Main!$A$49:$I$67,Main!$G$47,FALSE)","v":18},{"$f":"VLOOKUP(C196,Main!$A$49:$I$67,Main!$H$47,FALSE)","v":3.1},{"$f":"VLOOKUP(C196,Main!$A$49:$I$67,Main!$I$47,FALSE)","v":16.100000000000001},3086]
["CA","OXNARD AIRPORT","3C",2026,1873,55,72.3,0.15659999999999999,"34.201N",42.7,55.8,55,56.1,57.1,60.2,62.9,65.7,65.5,64.900000000000006,62.5,58.8,55.1,8,5,2,1,0,0,0,0,0,0,0,8,187,143,192,215,317,387,486,482,447,388,265,166,41.2,40.82,50.4,48.74,55.2,52.34,57.74,56.12,57,42.8,42.8,40.799999999999997,"NR",0.3888473453690845,55,27,12,17,{"$f":"IF(OR(C197=\"OA\",C197=\"OB\",C197=\"1B\",C197=\"1A\",C197=\"2A\",C197=\"2B\",C197=\"3A\",C197=\"3B\",C197=\"3C\"),TAN((LEFT(I197, 5)+VLOOKUP(C197,Main!$K$3:$L$21,2,FALSE))*PI()/180),IF(Checklist!$I$385=\"No\",TAN((LEFT(I197, 5)+VLOOKUP(C197,Main!$K$3:$L$21,2,FALSE))*PI()/180),\"NR\"))","v":0.67959929822452658},{"$f":"VLOOKUP(C197,Main!$A$49:$I$67,Main!$B$47,FALSE)","v":"NR"},{"$f":"VLOOKUP(C197,Main!$A$49:$I$67,Main!$C$47,FALSE)","v":0.25},{"$f":"VLOOKUP(C197,Main!$A$49:$I$67,Main!$E$47,FALSE)&\":\"&\" \"&VLOOKUP(C197,Main!$A$49:$I$67,Main!$F$47,FALSE)","v":"Minimum HSPF:: 9.6"},{"$f":"VLOOKUP(C197,Main!$A$49:$I$67,Main!$G$47,FALSE)","v":18},{"$f":"VLOOKUP(C197,Main!$A$49:$I$67,Main!$H$47,FALSE)","v":3.1},{"$f":"VLOOKUP(C197,Main!$A$49:$I$67,Main!$I$47,FALSE)","v":16.100000000000001},3675]
["CA","PALM SPRINGS INTL","3B",757,2051,54.2,97.2,0.15659999999999999,"33.822N",43.5,59.1,60.4,66.7,71.3,80,87.3,93.6,92.6,87.7,76.7,65.900000000000006,57.3,6,1,0,0,0,0,0,0,0,0,0,6,288,293,517,639,930,1118,1353,1320,1131,827,476,234,30,35.96,41.7,44.78,49.1,50.9,56.12,55.94,48.7,32.4,32.4,23.2,"NR",0.40154440154440152,{"$f":"ROUNDDOWN((33.97238548+(2.143484655*3.14219615)+(0.00253108806*D198)+(-0.2767683543*J198)+(66.9384076*H198)+((3.14219615-3.14219615)^2*-1.607593659)+((J198-12.48681818)*(H198-0.2016890909)*-1.8168457)+8.4234),0)","v":52},{"$f":"ROUNDDOWN((2.975122788+(0.003896731237*D198)+(59.88697433*H198)+((D198-5520.854545)*(H198-0.2016890909)*0.01119327314)+5.3792),0)","v":23},14,{"$f":"ROUNDDOWN(BK198+5.9089,0)","v":19},{"$f":"IF(OR(C198=\"OA\",C198=\"OB\",C198=\"1B\",C198=\"1A\",C198=\"2A\",C198=\"2B\",C198=\"3A\",C198=\"3B\",C198=\"3C\"),TAN((LEFT(I198, 5)+VLOOKUP(C198,Main!$K$3:$L$21,2,FALSE))*PI()/180),IF(Checklist!$I$385=\"No\",TAN((LEFT(I198, 5)+VLOOKUP(C198,Main!$K$3:$L$21,2,FALSE))*PI()/180),\"NR\"))","v":0.66994727014824917},{"$f":"VLOOKUP(C198,Main!$A$49:$I$67,Main!$B$47,FALSE)","v":"NR"},{"$f":"VLOOKUP(C198,Main!$A$49:$I$67,Main!$C$47,FALSE)","v":0.25},{"$f":"VLOOKUP(C198,Main!$A$49:$I$67,Main!$E$47,FALSE)&\":\"&\" \"&VLOOKUP(C198,Main!$A$49:$I$67,Main!$F$47,FALSE)","v":"Minimum HSPF:: 9.6"},{"$f":"VLOOKUP(C198,Main!$A$49:$I$67,Main!$G$47,FALSE)","v":18},{"$f":"VLOOKUP(C198,Main!$A$49:$I$67,Main!$H$47,FALSE)","v":3.1},{"$f":"VLOOKUP(C198,Main!$A$49:$I$67,Main!$I$47,FALSE)","v":16.100000000000001},9126]
["CA","PALM SPRINGS THERMAL AP","3B",1092,2101,47.75,95.5,0.15659999999999999,"33.627N",34.4,55.2,58.5,65.2,71.099999999999994,79.2,86.1,91.6,90.6,85.3,73.8,61.8,53.5,15,5,0,0,0,0,0,0,0,0,3,25,176,242,472,634,907,1083,1289,1257,1058,737,357,134,36.700000000000003,42.26,44.4,37.4,45.7,52.88,57.92,60.26,58.3,36.9,36.9,32,"NR",0.29279279279279274,54,24,14,19,{"$f":"IF(OR(C199=\"OA\",C199=\"OB\",C199=\"1B\",C199=\"1A\",C199=\"2A\",C199=\"2B\",C199=\"3A\",C199=\"3B\",C199=\"3C\"),TAN((LEFT(I199, 5)+VLOOKUP(C199,Main!$K$3:$L$21,2,FALSE))*PI()/180),IF(Checklist!$I$385=\"No\",TAN((LEFT(I199, 5)+VLOOKUP(C199,Main!$K$3:$L$21,2,FALSE))*PI()/180),\"NR\"))","v":0.6649016805815432},{"$f":"VLOOKUP(C199,Main!$A$49:$I$67,Main!$B$47,FALSE)","v":"NR"},{"$f":"VLOOKUP(C199,Main!$A$49:$I$67,Main!$C$47,FALSE)","v":0.25},{"$f":"VLOOKUP(C199,Main!$A$49:$I$67,Main!$E$47,FALSE)&\":\"&\" \"&VLOOKUP(C199,Main!$A$49:$I$67,Main!$F$47,FALSE)","v":"Minimum HSPF:: 9.6"},{"$f":"VLOOKUP(C199,Main!$A$49:$I$67,Main!$G$47,FALSE)","v":18},{"$f":"VLOOKUP(C199,Main!$A$49:$I$67,Main!$H$47,FALSE)","v":3.1},{"$f":"VLOOKUP(C199,Main!$A$49:$I$67,Main!$I$47,FALSE)","v":16.100000000000001},8346]
["CA","PALMDALE AIRPORT","3B",2808,2115,40.35,85.5,0.15659999999999999,"34.629N",27.7,45.8,48.1,53.9,58.8,67.900000000000006,75.2,82.3,81.599999999999994,75.099999999999994,63.6,52.4,44.8,153,91,33,12,0,0,0,0,0,1,48,179,23,39,155,276,556,756,1001,980,754,421,119,18,25.2,25.52,25.3,32.18,38.799999999999997,42.26,46.94,42.26,43.2,30.2,30.2,19.899999999999999,0.65517241379310354,0.24411508282476022,60,30,{"$f":"ROUNDDOWN(-18.64576148+(5.900367721*3.14219615)+(0.002662134083*D200)+(38.92365332*H200)+((BT200-3890.577273)*(G200-78.59)*0.00005765875867)+((D200-5520.854545)*(H200-0.2016890909)*0.006047043516),0)","v":14},19,{"$f":"IF(OR(C200=\"OA\",C200=\"OB\",C200=\"1B\",C200=\"1A\",C200=\"2A\",C200=\"2B\",C200=\"3A\",C200=\"3B\",C200=\"3C\"),TAN((LEFT(I200, 5)+VLOOKUP(C200,Main!$K$3:$L$21,2,FALSE))*PI()/180),IF(Checklist!$I$385=\"No\",TAN((LEFT(I200, 5)+VLOOKUP(C200,Main!$K$3:$L$21,2,FALSE))*PI()/180),\"NR\"))","v":0.69036910165110155},{"$f":"VLOOKUP(C200,Main!$A$49:$I$67,Main!$B$47,FALSE)","v":"NR"},{"$f":"VLOOKUP(C200,Main!$A$49:$I$67,Main!$C$47,FALSE)","v":0.25},{"$f":"VLOOKUP(C200,Main!$A$49:$I$67,Main!$E$47,FALSE)&\":\"&\" \"&VLOOKUP(C200,Main!$A$49:$I$67,Main!$F$47,FALSE)","v":"Minimum HSPF:: 9.6"},{"$f":"VLOOKUP(C200,Main!$A$49:$I$67,Main!$G$47,FALSE)","v":18},{"$f":"VLOOKUP(C200,Main!$A$49:$I$67,Main!$H$47,FALSE)","v":3.1},{"$f":"VLOOKUP(C200,Main!$A$49:$I$67,Main!$I$47,FALSE)","v":16.100000000000001},5098]
["CA","PASO ROBLES MUNICIPAL ARPT","3C",2666,1999,44.85,81.900000000000006,0.15659999999999999,"35.670N",29.1,48.4,50.5,54,57.4,63.9,69.2,73.7,73.8,70.3,62.5,53.3,47.2,87,49,21,9,0,0,0,0,0,1,31,116,36,63,144,232,430,575,735,738,610,389,131,31,38.5,39.200000000000003,46,39.92,43,46.22,48.74,48.02,48.2,41,41,36.9,0.61538461538461531,0.25290071562565136,59,29,13,18,{"$f":"IF(OR(C201=\"OA\",C201=\"OB\",C201=\"1B\",C201=\"1A\",C201=\"2A\",C201=\"2B\",C201=\"3A\",C201=\"3B\",C201=\"3C\"),TAN((LEFT(I201, 5)+VLOOKUP(C201,Main!$K$3:$L$21,2,FALSE))*PI()/180),IF(Checklist!$I$385=\"No\",TAN((LEFT(I201, 5)+VLOOKUP(C201,Main!$K$3:$L$21,2,FALSE))*PI()/180),\"NR\"))","v":0.71777923666203702},{"$f":"VLOOKUP(C201,Main!$A$49:$I$67,Main!$B$47,FALSE)","v":"NR"},{"$f":"VLOOKUP(C201,Main!$A$49:$I$67,Main!$C$47,FALSE)","v":0.25},{"$f":"VLOOKUP(C201,Main!$A$49:$I$67,Main!$E$47,FALSE)&\":\"&\" \"&VLOOKUP(C201,Main!$A$49:$I$67,Main!$F$47,FALSE)","v":"Minimum HSPF:: 9.6"},{"$f":"VLOOKUP(C201,Main!$A$49:$I$67,Main!$G$47,FALSE)","v":18},{"$f":"VLOOKUP(C201,Main!$A$49:$I$67,Main!$H$47,FALSE)","v":3.1},{"$f":"VLOOKUP(C201,Main!$A$49:$I$67,Main!$I$47,FALSE)","v":16.100000000000001},4114]
["CA","POINT MUGU NF","3C",2078,1832,53.45,64.8,0.15659999999999999,"34.117N",41,55.6,55,55.9,57,59.3,62.1,65.099999999999994,65.8,65.3,63,59.4,54.9,8,7,3,2,0,0,0,0,0,0,1,11,181,148,185,210,289,364,469,490,459,402,282,162,42.6,43.7,48.6,49.64,55,53.78,58.28,58.46,57.4,47.3,47.3,40.299999999999997,"NR",0.36436436436436431,55,27,12,17,{"$f":"IF(OR(C202=\"OA\",C202=\"OB\",C202=\"1B\",C202=\"1A\",C202=\"2A\",C202=\"2B\",C202=\"3A\",C202=\"3B\",C202=\"3C\"),TAN((LEFT(I202, 5)+VLOOKUP(C202,Main!$K$3:$L$21,2,FALSE))*PI()/180),IF(Checklist!$I$385=\"No\",TAN((LEFT(I202, 5)+VLOOKUP(C202,Main!$K$3:$L$21,2,FALSE))*PI()/180),\"NR\"))","v":0.67730546824102433},{"$f":"VLOOKUP(C202,Main!$A$49:$I$67,Main!$B$47,FALSE)","v":"NR"},{"$f":"VLOOKUP(C202,Main!$A$49:$I$67,Main!$C$47,FALSE)","v":0.25},{"$f":"VLOOKUP(C202,Main!$A$49:$I$67,Main!$E$47,FALSE)&\":\"&\" \"&VLOOKUP(C202,Main!$A$49:$I$67,Main!$F$47,FALSE)","v":"Minimum HSPF:: 9.6"},{"$f":"VLOOKUP(C202,Main!$A$49:$I$67,Main!$G$47,FALSE)","v":18},{"$f":"VLOOKUP(C202,Main!$A$49:$I$67,Main!$H$47,FALSE)","v":3.1},{"$f":"VLOOKUP(C202,Main!$A$49:$I$67,Main!$I$47,FALSE)","v":16.100000000000001},3641]
["CA","PORTERVILLE (AWOS)","3B",2520,1882,43.35,88.2,0.15659999999999999,"36.029N",33.5,47.2,50.6,55.2,59.5,67.599999999999994,74.5,80.2,78.900000000000006,74.3,64.2,53.3,46.7,114,40,16,5,0,0,0,0,0,0,29,132,29,57,177,290,546,736,935,896,728,441,127,31,32,37.4,41,37.4,42.3,37.94,47.66,51.44,49.5,41.2,41.2,41.5,0.62441314553990601,0.2851547199373286,58,29,14,19,{"$f":"IF(OR(C203=\"OA\",C203=\"OB\",C203=\"1B\",C203=\"1A\",C203=\"2A\",C203=\"2B\",C203=\"3A\",C203=\"3B\",C203=\"3C\"),TAN((LEFT(I203, 5)+VLOOKUP(C203,Main!$K$3:$L$21,2,FALSE))*PI()/180),IF(Checklist!$I$385=\"No\",TAN((LEFT(I203, 5)+VLOOKUP(C203,Main!$K$3:$L$21,2,FALSE))*PI()/180),\"NR\"))","v":0.72707598848073307},{"$f":"VLOOKUP(C203,Main!$A$49:$I$67,Main!$B$47,FALSE)","v":"NR"},{"$f":"VLOOKUP(C203,Main!$A$49:$I$67,Main!$C$47,FALSE)","v":0.25},{"$f":"VLOOKUP(C203,Main!$A$49:$I$67,Main!$E$47,FALSE)&\":\"&\" \"&VLOOKUP(C203,Main!$A$49:$I$67,Main!$F$47,FALSE)","v":"Minimum HSPF:: 9.6"},{"$f":"VLOOKUP(C203,Main!$A$49:$I$67,Main!$G$47,FALSE)","v":18},{"$f":"VLOOKUP(C203,Main!$A$49:$I$67,Main!$H$47,FALSE)","v":3.1},{"$f":"VLOOKUP(C203,Main!$A$49:$I$67,Main!$I$47,FALSE)","v":16.100000000000001},4993]
["CA","RED BLUFF MUNICIPAL ARPT","3B",2550,1781,42.8,87.8,0.15659999999999999,"40.152N",32.6,47,50.5,54.9,59.3,67.900000000000006,75.900000000000006,81.8,79.8,75,64.900000000000006,53.4,46.7,123,53,23,6,0,0,0,0,0,0,33,130,31,67,173,285,554,778,986,924,751,462,135,29,40.1,35.6,38.1,42.44,45,48.38,52.88,49.28,45.9,39,39,38.299999999999997,0.62441314553990601,0.27790502366773551,58,29,14,19,{"$f":"IF(OR(C204=\"OA\",C204=\"OB\",C204=\"1B\",C204=\"1A\",C204=\"2A\",C204=\"2B\",C204=\"3A\",C204=\"3B\",C204=\"3C\"),TAN((LEFT(I204, 5)+VLOOKUP(C204,Main!$K$3:$L$21,2,FALSE))*PI()/180),IF(Checklist!$I$385=\"No\",TAN((LEFT(I204, 5)+VLOOKUP(C204,Main!$K$3:$L$21,2,FALSE))*PI()/180),\"NR\"))","v":0.84357075582133612},{"$f":"VLOOKUP(C204,Main!$A$49:$I$67,Main!$B$47,FALSE)","v":"NR"},{"$f":"VLOOKUP(C204,Main!$A$49:$I$67,Main!$C$47,FALSE)","v":0.25},{"$f":"VLOOKUP(C204,Main!$A$49:$I$67,Main!$E$47,FALSE)&\":\"&\" \"&VLOOKUP(C204,Main!$A$49:$I$67,Main!$F$47,FALSE)","v":"Minimum HSPF:: 9.6"},{"$f":"VLOOKUP(C204,Main!$A$49:$I$67,Main!$G$47,FALSE)","v":18},{"$f":"VLOOKUP(C204,Main!$A$49:$I$67,Main!$H$47,FALSE)","v":3.1},{"$f":"VLOOKUP(C204,Main!$A$49:$I$67,Main!$I$47,FALSE)","v":16.100000000000001},5175]
["CA","REDDING MUNICIPAL ARPT","3B",2702,1730,43.35,84.9,0.15659999999999999,"40.518N",30.9,46.7,49.7,54.1,58.7,67.3,75.599999999999994,82.6,80,74.900000000000006,64.3,52.4,46,135,68,31,9,0,0,0,0,0,0,46,151,31,60,158,269,536,769,1011,931,748,443,118,26,38.5,33.979999999999997,41.5,42.26,43.9,48.2,52.7,42.98,45.7,39,39,37,0.63636363636363635,0.26517083120856705,59,29,14,19,{"$f":"IF(OR(C205=\"OA\",C205=\"OB\",C205=\"1B\",C205=\"1A\",C205=\"2A\",C205=\"2B\",C205=\"3A\",C205=\"3B\",C205=\"3C\"),TAN((LEFT(I205, 5)+VLOOKUP(C205,Main!$K$3:$L$21,2,FALSE))*PI()/180),IF(Checklist!$I$385=\"No\",TAN((LEFT(I205, 5)+VLOOKUP(C205,Main!$K$3:$L$21,2,FALSE))*PI()/180),\"NR\"))","v":0.85438257710179699},{"$f":"VLOOKUP(C205,Main!$A$49:$I$67,Main!$B$47,FALSE)","v":"NR"},{"$f":"VLOOKUP(C205,Main!$A$49:$I$67,Main!$C$47,FALSE)","v":0.25},{"$f":"VLOOKUP(C205,Main!$A$49:$I$67,Main!$E$47,FALSE)&\":\"&\" \"&VLOOKUP(C205,Main!$A$49:$I$67,Main!$F$47,FALSE)","v":"Minimum HSPF:: 9.6"},{"$f":"VLOOKUP(C205,Main!$A$49:$I$67,Main!$G$47,FALSE)","v":18},{"$f":"VLOOKUP(C205,Main!$A$49:$I$67,Main!$H$47,FALSE)","v":3.1},{"$f":"VLOOKUP(C205,Main!$A$49:$I$67,Main!$I$47,FALSE)","v":16.100000000000001},5100]
["CA","RIVERSIDE MUNI","3B",1448,1904,52.05,82.2,0.15659999999999999,"33.952N",38.700000000000003,56.2,55.7,58.8,61.5,67.7,71.900000000000006,78,78.7,76.099999999999994,68.099999999999994,60.6,54.8,16,9,4,2,0,0,0,0,0,0,2,19,207,169,277,346,550,658,869,890,784,560,319,168,34.700000000000003,37.58,49.1,42.98,51.4,54.5,56.12,57.38,54.3,41.9,41.9,28.9,"NR",0.33576238354395349,54,25,11,16,{"$f":"IF(OR(C206=\"OA\",C206=\"OB\",C206=\"1B\",C206=\"1A\",C206=\"2A\",C206=\"2B\",C206=\"3A\",C206=\"3B\",C206=\"3C\"),TAN((LEFT(I206, 5)+VLOOKUP(C206,Main!$K$3:$L$21,2,FALSE))*PI()/180),IF(Checklist!$I$385=\"No\",TAN((LEFT(I206, 5)+VLOOKUP(C206,Main!$K$3:$L$21,2,FALSE))*PI()/180),\"NR\"))","v":0.67323956980549982},{"$f":"VLOOKUP(C206,Main!$A$49:$I$67,Main!$B$47,FALSE)","v":"NR"},{"$f":"VLOOKUP(C206,Main!$A$49:$I$67,Main!$C$47,FALSE)","v":0.25},{"$f":"VLOOKUP(C206,Main!$A$49:$I$67,Main!$E$47,FALSE)&\":\"&\" \"&VLOOKUP(C206,Main!$A$49:$I$67,Main!$F$47,FALSE)","v":"Minimum HSPF:: 9.6"},{"$f":"VLOOKUP(C206,Main!$A$49:$I$67,Main!$G$47,FALSE)","v":18},{"$f":"VLOOKUP(C206,Main!$A$49:$I$67,Main!$H$47,FALSE)","v":3.1},{"$f":"VLOOKUP(C206,Main!$A$49:$I$67,Main!$I$47,FALSE)","v":16.100000000000001},5797]
["CA","SACRAMENTO EXECUTIVE ARPT","3B",2491,1804,44.05,79.2,0.15659999999999999,"38.507N",33.6,47.2,51.1,55.2,59.1,65.8,71.400000000000006,75.5,74.900000000000006,72.2,64.3,53.8,47,111,35,12,3,0,0,0,0,0,0,24,123,25,66,173,277,489,643,790,773,666,442,138,31,41.5,41.18,42.6,47.3,47.8,51.08,53.42,54.86,51.1,43.3,43.3,39,0.61904761904761907,0.2859836580766813,58,28,13,18,{"$f":"IF(OR(C207=\"OA\",C207=\"OB\",C207=\"1B\",C207=\"1A\",C207=\"2A\",C207=\"2B\",C207=\"3A\",C207=\"3B\",C207=\"3C\"),TAN((LEFT(I207, 5)+VLOOKUP(C207,Main!$K$3:$L$21,2,FALSE))*PI()/180),IF(Checklist!$I$385=\"No\",TAN((LEFT(I207, 5)+VLOOKUP(C207,Main!$K$3:$L$21,2,FALSE))*PI()/180),\"NR\"))","v":0.79543591666782854},{"$f":"VLOOKUP(C207,Main!$A$49:$I$67,Main!$B$47,FALSE)","v":"NR"},{"$f":"VLOOKUP(C207,Main!$A$49:$I$67,Main!$C$47,FALSE)","v":0.25},{"$f":"VLOOKUP(C207,Main!$A$49:$I$67,Main!$E$47,FALSE)&\":\"&\" \"&VLOOKUP(C207,Main!$A$49:$I$67,Main!$F$47,FALSE)","v":"Minimum HSPF:: 9.6"},{"$f":"VLOOKUP(C207,Main!$A$49:$I$67,Main!$G$47,FALSE)","v":18},{"$f":"VLOOKUP(C207,Main!$A$49:$I$67,Main!$H$47,FALSE)","v":3.1},{"$f":"VLOOKUP(C207,Main!$A$49:$I$67,Main!$I$47,FALSE)","v":16.100000000000001},4513]
["CA","SACRAMENTO METROPOLITAN AP","3B",2496,1812,44.7,84.6,0.15659999999999999,"38.696N",33.200000000000003,47,50.8,55.2,59.5,66.7,72.8,76.8,75.8,72.599999999999994,64.3,53.7,46.8,118,40,13,3,0,0,0,0,0,0,26,131,25,64,175,288,518,683,830,801,678,443,138,33,41,42.08,46.2,44.78,46.8,53.42,55.04,55.04,51.6,42.4,42.4,41,0.62264150943396235,0.28269648959304128,58,28,13,18,{"$f":"IF(OR(C208=\"OA\",C208=\"OB\",C208=\"1B\",C208=\"1A\",C208=\"2A\",C208=\"2B\",C208=\"3A\",C208=\"3B\",C208=\"3C\"),TAN((LEFT(I208, 5)+VLOOKUP(C208,Main!$K$3:$L$21,2,FALSE))*PI()/180),IF(Checklist!$I$385=\"No\",TAN((LEFT(I208, 5)+VLOOKUP(C208,Main!$K$3:$L$21,2,FALSE))*PI()/180),\"NR\"))","v":0.80086455495041298},{"$f":"VLOOKUP(C208,Main!$A$49:$I$67,Main!$B$47,FALSE)","v":"NR"},{"$f":"VLOOKUP(C208,Main!$A$49:$I$67,Main!$C$47,FALSE)","v":0.25},{"$f":"VLOOKUP(C208,Main!$A$49:$I$67,Main!$E$47,FALSE)&\":\"&\" \"&VLOOKUP(C208,Main!$A$49:$I$67,Main!$F$47,FALSE)","v":"Minimum HSPF:: 9.6"},{"$f":"VLOOKUP(C208,Main!$A$49:$I$67,Main!$G$47,FALSE)","v":18},{"$f":"VLOOKUP(C208,Main!$A$49:$I$67,Main!$H$47,FALSE)","v":3.1},{"$f":"VLOOKUP(C208,Main!$A$49:$I$67,Main!$I$47,FALSE)","v":16.100000000000001},4676]
["CA","SALINAS MUNICIPAL AP","3C",2707,1772,50,67.3,0.15659999999999999,"36.664N",36.4,51.7,52.8,54.8,56.4,59.1,61.1,62.7,63.6,63.7,61.3,56.2,51.1,38,20,10,3,0,0,0,0,0,0,8,46,92,99,158,196,281,333,392,421,410,349,193,79,40.1,46.58,43.5,44.06,48.9,52.52,52.52,55.4,54.3,42.8,42.8,41.4,0.6,0.31132398221005814,58,29,14,19,{"$f":"IF(OR(C209=\"OA\",C209=\"OB\",C209=\"1B\",C209=\"1A\",C209=\"2A\",C209=\"2B\",C209=\"3A\",C209=\"3B\",C209=\"3C\"),TAN((LEFT(I209, 5)+VLOOKUP(C209,Main!$K$3:$L$21,2,FALSE))*PI()/180),IF(Checklist!$I$385=\"No\",TAN((LEFT(I209, 5)+VLOOKUP(C209,Main!$K$3:$L$21,2,FALSE))*PI()/180),\"NR\"))","v":0.74429158829984865},{"$f":"VLOOKUP(C209,Main!$A$49:$I$67,Main!$B$47,FALSE)","v":"NR"},{"$f":"VLOOKUP(C209,Main!$A$49:$I$67,Main!$C$47,FALSE)","v":0.25},{"$f":"VLOOKUP(C209,Main!$A$49:$I$67,Main!$E$47,FALSE)&\":\"&\" \"&VLOOKUP(C209,Main!$A$49:$I$67,Main!$F$47,FALSE)","v":"Minimum HSPF:: 9.6"},{"$f":"VLOOKUP(C209,Main!$A$49:$I$67,Main!$G$47,FALSE)","v":18},{"$f":"VLOOKUP(C209,Main!$A$49:$I$67,Main!$H$47,FALSE)","v":3.1},{"$f":"VLOOKUP(C209,Main!$A$49:$I$67,Main!$I$47,FALSE)","v":16.100000000000001},3003]
["CA","SAN DIEGO LINDBERGH FIELD","3B",1171,1878,58.35,71.8,0.15659999999999999,"32.734N",46.9,57.5,57.9,59.6,61.7,64.2,66.3,69.7,71.3,70.599999999999994,66.900000000000006,61.8,57.1,1,0,0,0,0,0,0,0,0,0,0,0,235,222,298,351,439,489,610,660,619,523,354,219,46.4,50,49.5,50.72,54,57.92,61.7,63.14,62.2,45.9,45.9,39.6,"NR",0.46624823876008703,52,24,9,14,{"$f":"IF(OR(C210=\"OA\",C210=\"OB\",C210=\"1B\",C210=\"1A\",C210=\"2A\",C210=\"2B\",C210=\"3A\",C210=\"3B\",C210=\"3C\"),TAN((LEFT(I210, 5)+VLOOKUP(C210,Main!$K$3:$L$21,2,FALSE))*PI()/180),IF(Checklist!$I$385=\"No\",TAN((LEFT(I210, 5)+VLOOKUP(C210,Main!$K$3:$L$21,2,FALSE))*PI()/180),\"NR\"))","v":0.64272823849372696},{"$f":"VLOOKUP(C210,Main!$A$49:$I$67,Main!$B$47,FALSE)","v":"NR"},{"$f":"VLOOKUP(C210,Main!$A$49:$I$67,Main!$C$47,FALSE)","v":0.25},{"$f":"VLOOKUP(C210,Main!$A$49:$I$67,Main!$E$47,FALSE)&\":\"&\" \"&VLOOKUP(C210,Main!$A$49:$I$67,Main!$F$47,FALSE)","v":"Minimum HSPF:: 9.6"},{"$f":"VLOOKUP(C210,Main!$A$49:$I$67,Main!$G$47,FALSE)","v":18},{"$f":"VLOOKUP(C210,Main!$A$49:$I$67,Main!$H$47,FALSE)","v":3.1},{"$f":"VLOOKUP(C210,Main!$A$49:$I$67,Main!$I$47,FALSE)","v":16.100000000000001},5019]
["CA","SAN DIEGO MIRAMAR NAS","3B",1489,1937,53.8,76.5,0.15659999999999999,"32.867N",41.4,56.5,56.6,57.6,60.2,63.4,66.7,71,72.5,71.2,66.2,60.7,55.7,5,4,1,1,0,0,0,0,0,0,1,5,208,189,238,306,416,502,650,698,635,503,323,181,44.4,43.16,45.3,48.2,53.6,58.64,62.42,61.88,60.4,46.8,46.8,37.200000000000003,"NR",0.36984352773826451,54,25,10,15,{"$f":"IF(OR(C211=\"OA\",C211=\"OB\",C211=\"1B\",C211=\"1A\",C211=\"2A\",C211=\"2B\",C211=\"3A\",C211=\"3B\",C211=\"3C\"),TAN((LEFT(I211, 5)+VLOOKUP(C211,Main!$K$3:$L$21,2,FALSE))*PI()/180),IF(Checklist!$I$385=\"No\",TAN((LEFT(I211, 5)+VLOOKUP(C211,Main!$K$3:$L$21,2,FALSE))*PI()/180),\"NR\"))","v":0.64593914774812},{"$f":"VLOOKUP(C211,Main!$A$49:$I$67,Main!$B$47,FALSE)","v":"NR"},{"$f":"VLOOKUP(C211,Main!$A$49:$I$67,Main!$C$47,FALSE)","v":0.25},{"$f":"VLOOKUP(C211,Main!$A$49:$I$67,Main!$E$47,FALSE)&\":\"&\" \"&VLOOKUP(C211,Main!$A$49:$I$67,Main!$F$47,FALSE)","v":"Minimum HSPF:: 9.6"},{"$f":"VLOOKUP(C211,Main!$A$49:$I$67,Main!$G$47,FALSE)","v":18},{"$f":"VLOOKUP(C211,Main!$A$49:$I$67,Main!$H$47,FALSE)","v":3.1},{"$f":"VLOOKUP(C211,Main!$A$49:$I$67,Main!$I$47,FALSE)","v":16.100000000000001},4849]
["CA","SAN DIEGO NORTH ISLAND NAS","3B",1118,1894,53.5,68.7,0.15659999999999999,"32.700N",46.2,57.9,58.2,59.8,62,64.5,66.7,69.900000000000006,71.400000000000006,70.900000000000006,67.3,62.4,57.6,1,1,0,0,0,0,0,0,0,0,0,1,246,232,304,359,451,501,617,664,628,537,371,236,47.1,50,47.8,51.08,54.5,58.46,63.5,64.22,63,51.6,51.6,51.4,"NR",0.45127696503843295,52,24,9,14,{"$f":"IF(OR(C212=\"OA\",C212=\"OB\",C212=\"1B\",C212=\"1A\",C212=\"2A\",C212=\"2B\",C212=\"3A\",C212=\"3B\",C212=\"3C\"),TAN((LEFT(I212, 5)+VLOOKUP(C212,Main!$K$3:$L$21,2,FALSE))*PI()/180),IF(Checklist!$I$385=\"No\",TAN((LEFT(I212, 5)+VLOOKUP(C212,Main!$K$3:$L$21,2,FALSE))*PI()/180),\"NR\"))","v":0.64198859012690324},{"$f":"VLOOKUP(C212,Main!$A$49:$I$67,Main!$B$47,FALSE)","v":"NR"},{"$f":"VLOOKUP(C212,Main!$A$49:$I$67,Main!$C$47,FALSE)","v":0.25},{"$f":"VLOOKUP(C212,Main!$A$49:$I$67,Main!$E$47,FALSE)&\":\"&\" \"&VLOOKUP(C212,Main!$A$49:$I$67,Main!$F$47,FALSE)","v":"Minimum HSPF:: 9.6"},{"$f":"VLOOKUP(C212,Main!$A$49:$I$67,Main!$G$47,FALSE)","v":18},{"$f":"VLOOKUP(C212,Main!$A$49:$I$67,Main!$H$47,FALSE)","v":3.1},{"$f":"VLOOKUP(C212,Main!$A$49:$I$67,Main!$I$47,FALSE)","v":16.100000000000001},5146]
["CA","SAN DIEGO/MONTGOMER","3B",1465,1896,51.45,75.400000000000006,0.15659999999999999,"32.816N",43,56.5,56.1,58.2,60.1,63.7,66.5,71,72.599999999999994,71.5,66.5,60.9,55.8,5,3,0,0,0,0,0,0,0,0,0,4,207,172,255,302,426,496,652,701,644,511,328,184,43.2,45.14,48,47.12,52.7,56.66,59.9,59.72,55.9,44.2,44.2,40.6,"NR",0.39351351351351349,53,25,10,15,{"$f":"IF(OR(C213=\"OA\",C213=\"OB\",C213=\"1B\",C213=\"1A\",C213=\"2A\",C213=\"2B\",C213=\"3A\",C213=\"3B\",C213=\"3C\"),TAN((LEFT(I213, 5)+VLOOKUP(C213,Main!$K$3:$L$21,2,FALSE))*PI()/180),IF(Checklist!$I$385=\"No\",TAN((LEFT(I213, 5)+VLOOKUP(C213,Main!$K$3:$L$21,2,FALSE))*PI()/180),\"NR\"))","v":0.64470307126569726},{"$f":"VLOOKUP(C213,Main!$A$49:$I$67,Main!$B$47,FALSE)","v":"NR"},{"$f":"VLOOKUP(C213,Main!$A$49:$I$67,Main!$C$47,FALSE)","v":0.25},{"$f":"VLOOKUP(C213,Main!$A$49:$I$67,Main!$E$47,FALSE)&\":\"&\" \"&VLOOKUP(C213,Main!$A$49:$I$67,Main!$F$47,FALSE)","v":"Minimum HSPF:: 9.6"},{"$f":"VLOOKUP(C213,Main!$A$49:$I$67,Main!$G$47,FALSE)","v":18},{"$f":"VLOOKUP(C213,Main!$A$49:$I$67,Main!$H$47,FALSE)","v":3.1},{"$f":"VLOOKUP(C213,Main!$A$49:$I$67,Main!$I$47,FALSE)","v":16.100000000000001},4878]
["CA","SAN FRANCISCO INTL AP","4C",2679,1718,51.95,64.8,0.15659999999999999,"37.620N",41.6,50.7,52.7,54.8,56.7,59.3,61.7,63.3,64.099999999999994,64.5,62.1,56.1,51,36,14,5,1,0,0,0,0,0,0,4,38,57,89,155,201,288,351,411,437,434,375,187,68,43.5,43.88,46.6,46.76,48.9,50,51.26,52.7,54.5,46.9,46.9,43,0.6,0.37264537264537267,57,29,14,19,{"$f":"IF(OR(C214=\"OA\",C214=\"OB\",C214=\"1B\",C214=\"1A\",C214=\"2A\",C214=\"2B\",C214=\"3A\",C214=\"3B\",C214=\"3C\"),TAN((LEFT(I214, 5)+VLOOKUP(C214,Main!$K$3:$L$21,2,FALSE))*PI()/180),IF(Checklist!$I$385=\"No\",TAN((LEFT(I214, 5)+VLOOKUP(C214,Main!$K$3:$L$21,2,FALSE))*PI()/180),\"NR\"))","v":"NR"},{"$f":"VLOOKUP(C214,Main!$A$49:$I$67,Main!$B$47,FALSE)","v":"NR"},{"$f":"VLOOKUP(C214,Main!$A$49:$I$67,Main!$C$47,FALSE)","v":"NR"},{"$f":"VLOOKUP(C214,Main!$A$49:$I$67,Main!$E$47,FALSE)&\":\"&\" \"&VLOOKUP(C214,Main!$A$49:$I$67,Main!$F$47,FALSE)","v":"Minimum HSPF:: 9.6"},{"$f":"VLOOKUP(C214,Main!$A$49:$I$67,Main!$G$47,FALSE)","v":18},{"$f":"VLOOKUP(C214,Main!$A$49:$I$67,Main!$H$47,FALSE)","v":3.1},{"$f":"VLOOKUP(C214,Main!$A$49:$I$67,Main!$I$47,FALSE)","v":16.100000000000001},3053]
["CA","SAN JOSE INTL AP","3C",2143,1815,48.75,70,0.15659999999999999,"37.359N",37.700000000000003,51.1,53.4,56.5,58.7,63.1,66.900000000000006,69.599999999999994,69.8,68.900000000000006,64.2,56.6,50.9,42,17,5,1,0,0,0,0,0,0,5,47,76,112,206,262,405,508,606,614,567,441,203,73,41.4,41.9,46.2,44.78,48.2,51.08,54.5,55.22,52.9,41.5,41.5,41,0.6,0.32468111676032468,56,27,12,17,{"$f":"IF(OR(C215=\"OA\",C215=\"OB\",C215=\"1B\",C215=\"1A\",C215=\"2A\",C215=\"2B\",C215=\"3A\",C215=\"3B\",C215=\"3C\"),TAN((LEFT(I215, 5)+VLOOKUP(C215,Main!$K$3:$L$21,2,FALSE))*PI()/180),IF(Checklist!$I$385=\"No\",TAN((LEFT(I215, 5)+VLOOKUP(C215,Main!$K$3:$L$21,2,FALSE))*PI()/180),\"NR\"))","v":0.76317587314977919},{"$f":"VLOOKUP(C215,Main!$A$49:$I$67,Main!$B$47,FALSE)","v":"NR"},{"$f":"VLOOKUP(C215,Main!$A$49:$I$67,Main!$C$47,FALSE)","v":0.25},{"$f":"VLOOKUP(C215,Main!$A$49:$I$67,Main!$E$47,FALSE)&\":\"&\" \"&VLOOKUP(C215,Main!$A$49:$I$67,Main!$F$47,FALSE)","v":"Minimum HSPF:: 9.6"},{"$f":"VLOOKUP(C215,Main!$A$49:$I$67,Main!$G$47,FALSE)","v":18},{"$f":"VLOOKUP(C215,Main!$A$49:$I$67,Main!$H$47,FALSE)","v":3.1},{"$f":"VLOOKUP(C215,Main!$A$49:$I$67,Main!$I$47,FALSE)","v":16.100000000000001},4073]
["CA","SAN LUIS CO RGNL","3C",2223,1868,48.55,71.099999999999994,0.15659999999999999,"35.237N",36.299999999999997,53.4,53.9,55.8,57.3,60.4,62.9,65.900000000000006,66.5,66,63.4,58,52.7,21,17,9,5,0,0,0,0,0,0,5,26,127,126,189,223,323,387,491,511,481,417,245,109,40.299999999999997,41.72,48.7,46.22,47.8,50.54,52.88,53.96,49.8,43,43,39.6,"NR",0.31034188762895382,57,28,12,17,{"$f":"IF(OR(C216=\"OA\",C216=\"OB\",C216=\"1B\",C216=\"1A\",C216=\"2A\",C216=\"2B\",C216=\"3A\",C216=\"3B\",C216=\"3C\"),TAN((LEFT(I216, 5)+VLOOKUP(C216,Main!$K$3:$L$21,2,FALSE))*PI()/180),IF(Checklist!$I$385=\"No\",TAN((LEFT(I216, 5)+VLOOKUP(C216,Main!$K$3:$L$21,2,FALSE))*PI()/180),\"NR\"))","v":0.70620684323630256},{"$f":"VLOOKUP(C216,Main!$A$49:$I$67,Main!$B$47,FALSE)","v":"NR"},{"$f":"VLOOKUP(C216,Main!$A$49:$I$67,Main!$C$47,FALSE)","v":0.25},{"$f":"VLOOKUP(C216,Main!$A$49:$I$67,Main!$E$47,FALSE)&\":\"&\" \"&VLOOKUP(C216,Main!$A$49:$I$67,Main!$F$47,FALSE)","v":"Minimum HSPF:: 9.6"},{"$f":"VLOOKUP(C216,Main!$A$49:$I$67,Main!$G$47,FALSE)","v":18},{"$f":"VLOOKUP(C216,Main!$A$49:$I$67,Main!$H$47,FALSE)","v":3.1},{"$f":"VLOOKUP(C216,Main!$A$49:$I$67,Main!$I$47,FALSE)","v":16.100000000000001},3629]
["CA","SANDBERG","3B",3906,2089,34.6,81.900000000000006,0.15659999999999999,"34.744N",28,44.1,43.8,48,50.8,58.6,66.900000000000006,74.900000000000006,75.099999999999994,70.8,60.4,50.4,43.2,212,207,147,109,29,3,0,0,1,25,103,235,30,34,85,134,297,510,771,777,624,348,115,24,22.3,17.96,36.1,32,34.299999999999997,37.76,39.020000000000003,40.28,36.299999999999997,23.2,23.2,28.2,0.67741935483870963,0.2459459459459459,63,33,16,21,{"$f":"IF(OR(C217=\"OA\",C217=\"OB\",C217=\"1B\",C217=\"1A\",C217=\"2A\",C217=\"2B\",C217=\"3A\",C217=\"3B\",C217=\"3C\"),TAN((LEFT(I217, 5)+VLOOKUP(C217,Main!$K$3:$L$21,2,FALSE))*PI()/180),IF(Checklist!$I$385=\"No\",TAN((LEFT(I217, 5)+VLOOKUP(C217,Main!$K$3:$L$21,2,FALSE))*PI()/180),\"NR\"))","v":0.69346618797185455},{"$f":"VLOOKUP(C217,Main!$A$49:$I$67,Main!$B$47,FALSE)","v":"NR"},{"$f":"VLOOKUP(C217,Main!$A$49:$I$67,Main!$C$47,FALSE)","v":0.25},{"$f":"VLOOKUP(C217,Main!$A$49:$I$67,Main!$E$47,FALSE)&\":\"&\" \"&VLOOKUP(C217,Main!$A$49:$I$67,Main!$F$47,FALSE)","v":"Minimum HSPF:: 9.6"},{"$f":"VLOOKUP(C217,Main!$A$49:$I$67,Main!$G$47,FALSE)","v":18},{"$f":"VLOOKUP(C217,Main!$A$49:$I$67,Main!$H$47,FALSE)","v":3.1},{"$f":"VLOOKUP(C217,Main!$A$49:$I$67,Main!$I$47,FALSE)","v":16.100000000000001},3749]
["CA","SANTA BARBARA MUNICIPAL AP","3C",2224,1861,51.85,67.5,0.15659999999999999,"34.426N",37,53,54,55.9,58,60.8,62.8,65.7,66.2,65.400000000000006,62.1,57.3,52.5,17,10,3,1,0,0,0,0,0,0,3,21,109,122,186,240,334,385,487,502,461,375,222,99,46,42.98,49.3,46.76,50.2,55.94,58.64,59.18,57.9,44.4,44.4,40.299999999999997,"NR",0.31734960767218828,57,28,13,18,{"$f":"IF(OR(C218=\"OA\",C218=\"OB\",C218=\"1B\",C218=\"1A\",C218=\"2A\",C218=\"2B\",C218=\"3A\",C218=\"3B\",C218=\"3C\"),TAN((LEFT(I218, 5)+VLOOKUP(C218,Main!$K$3:$L$21,2,FALSE))*PI()/180),IF(Checklist!$I$385=\"No\",TAN((LEFT(I218, 5)+VLOOKUP(C218,Main!$K$3:$L$21,2,FALSE))*PI()/180),\"NR\"))","v":0.68522713260751311},{"$f":"VLOOKUP(C218,Main!$A$49:$I$67,Main!$B$47,FALSE)","v":"NR"},{"$f":"VLOOKUP(C218,Main!$A$49:$I$67,Main!$C$47,FALSE)","v":0.25},{"$f":"VLOOKUP(C218,Main!$A$49:$I$67,Main!$E$47,FALSE)&\":\"&\" \"&VLOOKUP(C218,Main!$A$49:$I$67,Main!$F$47,FALSE)","v":"Minimum HSPF:: 9.6"},{"$f":"VLOOKUP(C218,Main!$A$49:$I$67,Main!$G$47,FALSE)","v":18},{"$f":"VLOOKUP(C218,Main!$A$49:$I$67,Main!$H$47,FALSE)","v":3.1},{"$f":"VLOOKUP(C218,Main!$A$49:$I$67,Main!$I$47,FALSE)","v":16.100000000000001},3522]
["CA","SANTA MARIA PUBLIC ARPT","3C",2668,1893,49.4,64,0.15659999999999999,"34.899N",35.5,52.4,53.1,54.8,56,58.5,60.6,63.2,63.6,63.5,61.4,56.7,51.8,29,20,11,6,0,0,0,0,0,0,6,37,103,107,158,187,264,319,411,422,405,353,208,94,40.6,41.72,46.9,46.22,48.6,51.8,53.6,54.14,54.3,45.9,45.9,37.4,0.6,0.30270270270270266,58,29,14,19,{"$f":"IF(OR(C219=\"OA\",C219=\"OB\",C219=\"1B\",C219=\"1A\",C219=\"2A\",C219=\"2B\",C219=\"3A\",C219=\"3B\",C219=\"3C\"),TAN((LEFT(I219, 5)+VLOOKUP(C219,Main!$K$3:$L$21,2,FALSE))*PI()/180),IF(Checklist!$I$385=\"No\",TAN((LEFT(I219, 5)+VLOOKUP(C219,Main!$K$3:$L$21,2,FALSE))*PI()/180),\"NR\"))","v":0.69735022324390439},{"$f":"VLOOKUP(C219,Main!$A$49:$I$67,Main!$B$47,FALSE)","v":"NR"},{"$f":"VLOOKUP(C219,Main!$A$49:$I$67,Main!$C$47,FALSE)","v":0.25},{"$f":"VLOOKUP(C219,Main!$A$49:$I$67,Main!$E$47,FALSE)&\":\"&\" \"&VLOOKUP(C219,Main!$A$49:$I$67,Main!$F$47,FALSE)","v":"Minimum HSPF:: 9.6"},{"$f":"VLOOKUP(C219,Main!$A$49:$I$67,Main!$G$47,FALSE)","v":18},{"$f":"VLOOKUP(C219,Main!$A$49:$I$67,Main!$H$47,FALSE)","v":3.1},{"$f":"VLOOKUP(C219,Main!$A$49:$I$67,Main!$I$47,FALSE)","v":16.100000000000001},3031]
["CA","SANTA MONICA MUNI","3B",1460,1831,55.5,69.599999999999994,0.15659999999999999,"34.016N",45,57.5,56.5,58.5,59.7,63.2,65.599999999999994,68.5,68.7,68.3,65,61.1,56.4,3,2,0,0,0,0,0,0,0,0,0,2,237,183,263,292,410,467,575,580,550,464,332,202,44.6,43.88,50.9,48.02,53.6,55.58,61.34,59.72,61.9,44.1,44.1,43,"NR",0.42773207990599293,53,25,10,15,{"$f":"IF(OR(C220=\"OA\",C220=\"OB\",C220=\"1B\",C220=\"1A\",C220=\"2A\",C220=\"2B\",C220=\"3A\",C220=\"3B\",C220=\"3C\"),TAN((LEFT(I220, 5)+VLOOKUP(C220,Main!$K$3:$L$21,2,FALSE))*PI()/180),IF(Checklist!$I$385=\"No\",TAN((LEFT(I220, 5)+VLOOKUP(C220,Main!$K$3:$L$21,2,FALSE))*PI()/180),\"NR\"))","v":0.67476248547160611},{"$f":"VLOOKUP(C220,Main!$A$49:$I$67,Main!$B$47,FALSE)","v":"NR"},{"$f":"VLOOKUP(C220,Main!$A$49:$I$67,Main!$C$47,FALSE)","v":0.25},{"$f":"VLOOKUP(C220,Main!$A$49:$I$67,Main!$E$47,FALSE)&\":\"&\" \"&VLOOKUP(C220,Main!$A$49:$I$67,Main!$F$47,FALSE)","v":"Minimum HSPF:: 9.6"},{"$f":"VLOOKUP(C220,Main!$A$49:$I$67,Main!$G$47,FALSE)","v":18},{"$f":"VLOOKUP(C220,Main!$A$49:$I$67,Main!$H$47,FALSE)","v":3.1},{"$f":"VLOOKUP(C220,Main!$A$49:$I$67,Main!$I$47,FALSE)","v":16.100000000000001},4555]
["CA","SANTA ROSA (AWOS)","3C",2986,1695,47.75,71.400000000000006,0.15659999999999999,"38.504N",31.2,47.2,49.8,53,55.5,60.9,65.5,67.2,67.400000000000006,65.900000000000006,60.7,52.9,47.4,107,50,26,11,0,0,0,0,0,0,27,114,21,45,119,175,339,466,532,539,478,333,114,32,42.4,45.14,44.6,45.68,48.7,52.34,52.34,54.32,51.6,42.6,42.6,43.9,0.61538461538461531,0.26733254994124556,60,30,14,19,{"$f":"IF(OR(C221=\"OA\",C221=\"OB\",C221=\"1B\",C221=\"1A\",C221=\"2A\",C221=\"2B\",C221=\"3A\",C221=\"3B\",C221=\"3C\"),TAN((LEFT(I221, 5)+VLOOKUP(C221,Main!$K$3:$L$21,2,FALSE))*PI()/180),IF(Checklist!$I$385=\"No\",TAN((LEFT(I221, 5)+VLOOKUP(C221,Main!$K$3:$L$21,2,FALSE))*PI()/180),\"NR\"))","v":0.79543591666782854},{"$f":"VLOOKUP(C221,Main!$A$49:$I$67,Main!$B$47,FALSE)","v":"NR"},{"$f":"VLOOKUP(C221,Main!$A$49:$I$67,Main!$C$47,FALSE)","v":0.25},{"$f":"VLOOKUP(C221,Main!$A$49:$I$67,Main!$E$47,FALSE)&\":\"&\" \"&VLOOKUP(C221,Main!$A$49:$I$67,Main!$F$47,FALSE)","v":"Minimum HSPF:: 9.6"},{"$f":"VLOOKUP(C221,Main!$A$49:$I$67,Main!$G$47,FALSE)","v":18},{"$f":"VLOOKUP(C221,Main!$A$49:$I$67,Main!$H$47,FALSE)","v":3.1},{"$f":"VLOOKUP(C221,Main!$A$49:$I$67,Main!$I$47,FALSE)","v":16.100000000000001},3193]
["CA","STOCKTON METROPOLITAN ARPT","3B",2448,1839,44.25,84.4,0.15659999999999999,"37.889N",32.700000000000003,47,50.9,55.7,59.9,66.7,72.7,77.099999999999994,76.400000000000006,73,64.5,53.9,46.7,118,39,10,2,0,0,0,0,0,0,23,133,25,63,185,299,519,680,840,818,691,451,139,32,41.7,42.62,48.2,47.3,45.5,52.88,52.16,52.7,54.1,43.7,43.7,41.2,0.62441314553990601,0.2786922900237348,58,28,13,18,{"$f":"IF(OR(C222=\"OA\",C222=\"OB\",C222=\"1B\",C222=\"1A\",C222=\"2A\",C222=\"2B\",C222=\"3A\",C222=\"3B\",C222=\"3C\"),TAN((LEFT(I222, 5)+VLOOKUP(C222,Main!$K$3:$L$21,2,FALSE))*PI()/180),IF(Checklist!$I$385=\"No\",TAN((LEFT(I222, 5)+VLOOKUP(C222,Main!$K$3:$L$21,2,FALSE))*PI()/180),\"NR\"))","v":0.77791830258950867},{"$f":"VLOOKUP(C222,Main!$A$49:$I$67,Main!$B$47,FALSE)","v":"NR"},{"$f":"VLOOKUP(C222,Main!$A$49:$I$67,Main!$C$47,FALSE)","v":0.25},{"$f":"VLOOKUP(C222,Main!$A$49:$I$67,Main!$E$47,FALSE)&\":\"&\" \"&VLOOKUP(C222,Main!$A$49:$I$67,Main!$F$47,FALSE)","v":"Minimum HSPF:: 9.6"},{"$f":"VLOOKUP(C222,Main!$A$49:$I$67,Main!$G$47,FALSE)","v":18},{"$f":"VLOOKUP(C222,Main!$A$49:$I$67,Main!$H$47,FALSE)","v":3.1},{"$f":"VLOOKUP(C222,Main!$A$49:$I$67,Main!$I$47,FALSE)","v":16.100000000000001},4742]
["CA","TRAVIS FIELD AFB","3B",2516,1781,45.05,80.099999999999994,0.15659999999999999,"38.267N",33,47.2,50.9,55.2,58.7,64.3,69.599999999999994,72.599999999999994,73,71.5,64.7,54.4,47.2,116,37,11,3,0,0,0,0,0,0,22,122,27,61,172,264,444,588,702,713,646,457,155,35,35.799999999999997,39.56,41.9,42.8,45.9,50.72,52.88,51.44,50,36.700000000000003,36.700000000000003,37.6,0.61538461538461531,0.2810810810810811,58,29,13,18,{"$f":"IF(OR(C223=\"OA\",C223=\"OB\",C223=\"1B\",C223=\"1A\",C223=\"2A\",C223=\"2B\",C223=\"3A\",C223=\"3B\",C223=\"3C\"),TAN((LEFT(I223, 5)+VLOOKUP(C223,Main!$K$3:$L$21,2,FALSE))*PI()/180),IF(Checklist!$I$385=\"No\",TAN((LEFT(I223, 5)+VLOOKUP(C223,Main!$K$3:$L$21,2,FALSE))*PI()/180),\"NR\"))","v":0.78861947419023892},{"$f":"VLOOKUP(C223,Main!$A$49:$I$67,Main!$B$47,FALSE)","v":"NR"},{"$f":"VLOOKUP(C223,Main!$A$49:$I$67,Main!$C$47,FALSE)","v":0.25},{"$f":"VLOOKUP(C223,Main!$A$49:$I$67,Main!$E$47,FALSE)&\":\"&\" \"&VLOOKUP(C223,Main!$A$49:$I$67,Main!$F$47,FALSE)","v":"Minimum HSPF:: 9.6"},{"$f":"VLOOKUP(C223,Main!$A$49:$I$67,Main!$G$47,FALSE)","v":18},{"$f":"VLOOKUP(C223,Main!$A$49:$I$67,Main!$H$47,FALSE)","v":3.1},{"$f":"VLOOKUP(C223,Main!$A$49:$I$67,Main!$I$47,FALSE)","v":16.100000000000001},4264]
["CA","TRUCKEE-TAHOE","4B",7798,1711,8.25,68,0.15659999999999999,"39.32N",6.6,27.9,30.7,34.799999999999997,39.6,48,54.9,62.8,60.9,54.3,44.8,36.6,29,684,542,471,314,123,28,0,2,25,184,403,652,0,0,0,3,61,174,397,339,154,24,0,0,25.2,25.52,25.7,24.44,32,36.5,41,32.36,32.200000000000003,22.3,22.3,22.3,0.80049875311720697,0.16022537195175629,77,46,27,32,{"$f":"IF(OR(C224=\"OA\",C224=\"OB\",C224=\"1B\",C224=\"1A\",C224=\"2A\",C224=\"2B\",C224=\"3A\",C224=\"3B\",C224=\"3C\"),TAN((LEFT(I224, 5)+VLOOKUP(C224,Main!$K$3:$L$21,2,FALSE))*PI()/180),IF(Checklist!$I$385=\"No\",TAN((LEFT(I224, 5)+VLOOKUP(C224,Main!$K$3:$L$21,2,FALSE))*PI()/180),\"NR\"))","v":"NR"},{"$f":"VLOOKUP(C224,Main!$A$49:$I$67,Main!$B$47,FALSE)","v":"NR"},{"$f":"VLOOKUP(C224,Main!$A$49:$I$67,Main!$C$47,FALSE)","v":0.25},{"$f":"VLOOKUP(C224,Main!$A$49:$I$67,Main!$E$47,FALSE)&\":\"&\" \"&VLOOKUP(C224,Main!$A$49:$I$67,Main!$F$47,FALSE)","v":"Minimum HSPF:: 9.6"},{"$f":"VLOOKUP(C224,Main!$A$49:$I$67,Main!$G$47,FALSE)","v":18},{"$f":"VLOOKUP(C224,Main!$A$49:$I$67,Main!$H$47,FALSE)","v":3.1},{"$f":"VLOOKUP(C224,Main!$A$49:$I$67,Main!$I$47,FALSE)","v":16.100000000000001},1152]
["CA","UKIAH MUNICIPAL AP","3A",3022,1777,43.35,79.900000000000006,0.15659999999999999,"39.126N",30.4,47,48.9,52.6,55.2,61.9,68.2,74.3,73.3,69.599999999999994,61.1,51.6,46.1,114,72,40,19,1,0,0,0,0,1,44,142,22,42,120,176,369,546,754,722,589,344,93,23,40.6,42.44,38.799999999999997,41.9,43.3,46.4,52.34,52.34,47.5,40.299999999999997,40.299999999999997,40.299999999999997,0.63470319634703198,0.26164462334675098,60,30,14,19,{"$f":"IF(OR(C225=\"OA\",C225=\"OB\",C225=\"1B\",C225=\"1A\",C225=\"2A\",C225=\"2B\",C225=\"3A\",C225=\"3B\",C225=\"3C\"),TAN((LEFT(I225, 5)+VLOOKUP(C225,Main!$K$3:$L$21,2,FALSE))*PI()/180),IF(Checklist!$I$385=\"No\",TAN((LEFT(I225, 5)+VLOOKUP(C225,Main!$K$3:$L$21,2,FALSE))*PI()/180),\"NR\"))","v":0.81325772475043812},{"$f":"VLOOKUP(C225,Main!$A$49:$I$67,Main!$B$47,FALSE)","v":0.6},{"$f":"VLOOKUP(C225,Main!$A$49:$I$67,Main!$C$47,FALSE)","v":0.25},{"$f":"VLOOKUP(C225,Main!$A$49:$I$67,Main!$E$47,FALSE)&\":\"&\" \"&VLOOKUP(C225,Main!$A$49:$I$67,Main!$F$47,FALSE)","v":"Minimum HSPF:: 9.6"},{"$f":"VLOOKUP(C225,Main!$A$49:$I$67,Main!$G$47,FALSE)","v":18},{"$f":"VLOOKUP(C225,Main!$A$49:$I$67,Main!$H$47,FALSE)","v":3.1},{"$f":"VLOOKUP(C225,Main!$A$49:$I$67,Main!$I$47,FALSE)","v":16.100000000000001},3800]
["CA","VAN NUYS AIRPORT","3B",1404,1917,52.8,83.5,0.15659999999999999,"34.210N",40.6,56.9,55.9,59.6,61.7,67.2,70.8,76.8,77.7,75.2,67.900000000000006,61.1,55.5,14,11,4,1,0,0,0,0,0,0,1,15,226,175,300,351,534,624,832,859,756,556,335,185,32.200000000000003,45.32,50.7,48.02,52.2,55.04,57.56,58.1,53.6,42.3,42.3,35.799999999999997,"NR",0.35904517656342472,54,25,11,16,{"$f":"IF(OR(C226=\"OA\",C226=\"OB\",C226=\"1B\",C226=\"1A\",C226=\"2A\",C226=\"2B\",C226=\"3A\",C226=\"3B\",C226=\"3C\"),TAN((LEFT(I226, 5)+VLOOKUP(C226,Main!$K$3:$L$21,2,FALSE))*PI()/180),IF(Checklist!$I$385=\"No\",TAN((LEFT(I226, 5)+VLOOKUP(C226,Main!$K$3:$L$21,2,FALSE))*PI()/180),\"NR\"))","v":0.67985447035905722},{"$f":"VLOOKUP(C226,Main!$A$49:$I$67,Main!$B$47,FALSE)","v":"NR"},{"$f":"VLOOKUP(C226,Main!$A$49:$I$67,Main!$C$47,FALSE)","v":0.25},{"$f":"VLOOKUP(C226,Main!$A$49:$I$67,Main!$E$47,FALSE)&\":\"&\" \"&VLOOKUP(C226,Main!$A$49:$I$67,Main!$F$47,FALSE)","v":"Minimum HSPF:: 9.6"},{"$f":"VLOOKUP(C226,Main!$A$49:$I$67,Main!$G$47,FALSE)","v":18},{"$f":"VLOOKUP(C226,Main!$A$49:$I$67,Main!$H$47,FALSE)","v":3.1},{"$f":"VLOOKUP(C226,Main!$A$49:$I$67,Main!$I$47,FALSE)","v":16.100000000000001},5733]
["CA","VISALIA MUNI (AWOS)","3B",2509,1899,38.15,87.3,0.15659999999999999,"36.317N",32.4,46.6,50.4,56.2,60.3,68.400000000000006,74.8,79.7,78,73.400000000000006,63.8,53.1,46,131,44,10,3,0,0,0,0,0,0,30,149,26,55,201,313,572,744,921,867,702,427,122,24,38.5,30.74,43,41.54,44.6,48.56,58.1,54.5,52.2,37.6,37.6,34.9,0.63636363636363635,0.27634375948982687,58,29,14,19,{"$f":"IF(OR(C227=\"OA\",C227=\"OB\",C227=\"1B\",C227=\"1A\",C227=\"2A\",C227=\"2B\",C227=\"3A\",C227=\"3B\",C227=\"3C\"),TAN((LEFT(I227, 5)+VLOOKUP(C227,Main!$K$3:$L$21,2,FALSE))*PI()/180),IF(Checklist!$I$385=\"No\",TAN((LEFT(I227, 5)+VLOOKUP(C227,Main!$K$3:$L$21,2,FALSE))*PI()/180),\"NR\"))","v":0.73484177311386867},{"$f":"VLOOKUP(C227,Main!$A$49:$I$67,Main!$B$47,FALSE)","v":"NR"},{"$f":"VLOOKUP(C227,Main!$A$49:$I$67,Main!$C$47,FALSE)","v":0.25},{"$f":"VLOOKUP(C227,Main!$A$49:$I$67,Main!$E$47,FALSE)&\":\"&\" \"&VLOOKUP(C227,Main!$A$49:$I$67,Main!$F$47,FALSE)","v":"Minimum HSPF:: 9.6"},{"$f":"VLOOKUP(C227,Main!$A$49:$I$67,Main!$G$47,FALSE)","v":18},{"$f":"VLOOKUP(C227,Main!$A$49:$I$67,Main!$H$47,FALSE)","v":3.1},{"$f":"VLOOKUP(C227,Main!$A$49:$I$67,Main!$I$47,FALSE)","v":16.100000000000001},4974]
["CA","YUBA CO","3B",2549,1805,42.45,84,0.15659999999999999,"39.102N",33,46.7,50.5,55.2,58.8,67.5,73.900000000000006,78.7,76.599999999999994,72.8,63.7,53.2,47.1,122,41,14,4,0,0,0,0,0,0,32,121,18,56,176,267,543,718,888,826,684,424,127,31,42.8,39.020000000000003,46,43.52,46.8,51.62,55.22,54.14,50.7,43.2,43.2,41.9,0.62441314553990601,0.2810810810810811,58,29,13,18,{"$f":"IF(OR(C228=\"OA\",C228=\"OB\",C228=\"1B\",C228=\"1A\",C228=\"2A\",C228=\"2B\",C228=\"3A\",C228=\"3B\",C228=\"3C\"),TAN((LEFT(I228, 5)+VLOOKUP(C228,Main!$K$3:$L$21,2,FALSE))*PI()/180),IF(Checklist!$I$385=\"No\",TAN((LEFT(I228, 5)+VLOOKUP(C228,Main!$K$3:$L$21,2,FALSE))*PI()/180),\"NR\"))","v":0.81267795545274102},{"$f":"VLOOKUP(C228,Main!$A$49:$I$67,Main!$B$47,FALSE)","v":"NR"},{"$f":"VLOOKUP(C228,Main!$A$49:$I$67,Main!$C$47,FALSE)","v":0.25},{"$f":"VLOOKUP(C228,Main!$A$49:$I$67,Main!$E$47,FALSE)&\":\"&\" \"&VLOOKUP(C228,Main!$A$49:$I$67,Main!$F$47,FALSE)","v":"Minimum HSPF:: 9.6"},{"$f":"VLOOKUP(C228,Main!$A$49:$I$67,Main!$G$47,FALSE)","v":18},{"$f":"VLOOKUP(C228,Main!$A$49:$I$67,Main!$H$47,FALSE)","v":3.1},{"$f":"VLOOKUP(C228,Main!$A$49:$I$67,Main!$I$47,FALSE)","v":16.100000000000001},4758]
["CO","AKRON WASHINGTON CO AP","5B",6176,1693,18.399999999999999,79,0.108,"40.167N",4.0999999999999996,29.3,31.5,40.200000000000003,47.3,57.5,67.900000000000006,74.3,72.400000000000006,63.7,50.6,38.200000000000003,29.2,642,519,330,163,33,1,0,0,10,119,375,645,1,1,25,81,265,537,754,694,423,136,20,1,14.7,20.12,24.6,31.28,40.1,54.32,57.2,51.8,44.1,26.1,26.1,17.100000000000001,0.79381443298969079,0.15395677367508351,69,38,20,25,{"$f":"IF(OR(C229=\"OA\",C229=\"OB\",C229=\"1B\",C229=\"1A\",C229=\"2A\",C229=\"2B\",C229=\"3A\",C229=\"3B\",C229=\"3C\"),TAN((LEFT(I229, 5)+VLOOKUP(C229,Main!$K$3:$L$21,2,FALSE))*PI()/180),IF(Checklist!$I$385=\"No\",TAN((LEFT(I229, 5)+VLOOKUP(C229,Main!$K$3:$L$21,2,FALSE))*PI()/180),\"NR\"))","v":"NR"},{"$f":"VLOOKUP(C229,Main!$A$49:$I$67,Main!$B$47,FALSE)","v":"NR"},{"$f":"VLOOKUP(C229,Main!$A$49:$I$67,Main!$C$47,FALSE)","v":"NR"},{"$f":"VLOOKUP(C229,Main!$A$49:$I$67,Main!$E$47,FALSE)&\":\"&\" \"&VLOOKUP(C229,Main!$A$49:$I$67,Main!$F$47,FALSE)","v":"Minimum COP @ 5°F:: 1.75"},{"$f":"VLOOKUP(C229,Main!$A$49:$I$67,Main!$G$47,FALSE)","v":15},{"$f":"VLOOKUP(C229,Main!$A$49:$I$67,Main!$H$47,FALSE)","v":3.1},{"$f":"VLOOKUP(C229,Main!$A$49:$I$67,Main!$I$47,FALSE)","v":16.100000000000001},2938]
["CO","ALAMOSA SAN LUIS VALLEY RGNL","6B",8422,1889,4.25,63.9,0.108,"37.439N",-10,16.8,23.7,34.6,42.4,51.7,60.3,64.900000000000006,62.9,55.5,43.7,29.8,17.8,1028,735,476,238,58,1,0,0,15,209,607,1000,0,0,0,8,111,310,462,399,180,13,0,0,5.2,10.58,16.3,18.68,28.2,34.700000000000003,44.42,43.7,37.200000000000003,16.5,16.5,10.9,0.84375,0.12612612612612611,76,44,26,31,{"$f":"IF(OR(C230=\"OA\",C230=\"OB\",C230=\"1B\",C230=\"1A\",C230=\"2A\",C230=\"2B\",C230=\"3A\",C230=\"3B\",C230=\"3C\"),TAN((LEFT(I230, 5)+VLOOKUP(C230,Main!$K$3:$L$21,2,FALSE))*PI()/180),IF(Checklist!$I$385=\"No\",TAN((LEFT(I230, 5)+VLOOKUP(C230,Main!$K$3:$L$21,2,FALSE))*PI()/180),\"NR\"))","v":"NR"},{"$f":"VLOOKUP(C230,Main!$A$49:$I$67,Main!$B$47,FALSE)","v":"NR"},{"$f":"VLOOKUP(C230,Main!$A$49:$I$67,Main!$C$47,FALSE)","v":"NR"},{"$f":"VLOOKUP(C230,Main!$A$49:$I$67,Main!$E$47,FALSE)&\":\"&\" \"&VLOOKUP(C230,Main!$A$49:$I$67,Main!$F$47,FALSE)","v":"Minimum COP @ 5°F:: 1.75"},{"$f":"VLOOKUP(C230,Main!$A$49:$I$67,Main!$G$47,FALSE)","v":15},{"$f":"VLOOKUP(C230,Main!$A$49:$I$67,Main!$H$47,FALSE)","v":3.1},{"$f":"VLOOKUP(C230,Main!$A$49:$I$67,Main!$I$47,FALSE)","v":16.100000000000001},1483]
["CO","ASPEN PITKIN CO SAR","6B",8553,1733,15.2,67.3,0.108,"39.230N",0.2,20.399999999999999,23,32.200000000000003,40.299999999999997,48.9,58.2,64.8,61.8,54.7,43.2,31.2,20.7,916,756,553,295,110,11,0,0,26,225,564,907,0,0,0,5,76,256,459,367,168,16,0,0,14.9,13.28,21.9,22.1,22.6,33.26,43.52,35.06,32.700000000000003,18.100000000000001,18.100000000000001,12.6,0.83193277310924374,0.14510085306545484,75,44,26,31,{"$f":"IF(OR(C231=\"OA\",C231=\"OB\",C231=\"1B\",C231=\"1A\",C231=\"2A\",C231=\"2B\",C231=\"3A\",C231=\"3B\",C231=\"3C\"),TAN((LEFT(I231, 5)+VLOOKUP(C231,Main!$K$3:$L$21,2,FALSE))*PI()/180),IF(Checklist!$I$385=\"No\",TAN((LEFT(I231, 5)+VLOOKUP(C231,Main!$K$3:$L$21,2,FALSE))*PI()/180),\"NR\"))","v":"NR"},{"$f":"VLOOKUP(C231,Main!$A$49:$I$67,Main!$B$47,FALSE)","v":"NR"},{"$f":"VLOOKUP(C231,Main!$A$49:$I$67,Main!$C$47,FALSE)","v":"NR"},{"$f":"VLOOKUP(C231,Main!$A$49:$I$67,Main!$E$47,FALSE)&\":\"&\" \"&VLOOKUP(C231,Main!$A$49:$I$67,Main!$F$47,FALSE)","v":"Minimum COP @ 5°F:: 1.75"},{"$f":"VLOOKUP(C231,Main!$A$49:$I$67,Main!$G$47,FALSE)","v":15},{"$f":"VLOOKUP(C231,Main!$A$49:$I$67,Main!$H$47,FALSE)","v":3.1},{"$f":"VLOOKUP(C231,Main!$A$49:$I$67,Main!$I$47,FALSE)","v":16.100000000000001},1347]
["CO","AURORA BUCKLEY FIELD ANGB","5B",5798,1665,2.6,78.400000000000006,0.108,"39.717N",7.2,32.4,34.6,41.2,47.6,57.5,66.8,73.2,71.2,63.4,51.3,38.6,33,548,434,300,153,30,2,0,0,13,103,366,530,3,3,27,80,261,507,721,658,414,143,25,3,23.9,21.02,22.1,28.4,35.200000000000003,41.18,43.52,43.16,34.299999999999997,26.8,26.8,14.9,0.7752808988764045,0.16180654338549075,68,37,19,24,{"$f":"IF(OR(C232=\"OA\",C232=\"OB\",C232=\"1B\",C232=\"1A\",C232=\"2A\",C232=\"2B\",C232=\"3A\",C232=\"3B\",C232=\"3C\"),TAN((LEFT(I232, 5)+VLOOKUP(C232,Main!$K$3:$L$21,2,FALSE))*PI()/180),IF(Checklist!$I$385=\"No\",TAN((LEFT(I232, 5)+VLOOKUP(C232,Main!$K$3:$L$21,2,FALSE))*PI()/180),\"NR\"))","v":"NR"},{"$f":"VLOOKUP(C232,Main!$A$49:$I$67,Main!$B$47,FALSE)","v":"NR"},{"$f":"VLOOKUP(C232,Main!$A$49:$I$67,Main!$C$47,FALSE)","v":"NR"},{"$f":"VLOOKUP(C232,Main!$A$49:$I$67,Main!$E$47,FALSE)&\":\"&\" \"&VLOOKUP(C232,Main!$A$49:$I$67,Main!$F$47,FALSE)","v":"Minimum COP @ 5°F:: 1.75"},{"$f":"VLOOKUP(C232,Main!$A$49:$I$67,Main!$G$47,FALSE)","v":15},{"$f":"VLOOKUP(C232,Main!$A$49:$I$67,Main!$H$47,FALSE)","v":3.1},{"$f":"VLOOKUP(C232,Main!$A$49:$I$67,Main!$I$47,FALSE)","v":16.100000000000001},2845]
["CO","BROOMFIELD/JEFFCO [BOULDER - SURFRAD]","5B",5751,1639,14.65,75.599999999999994,0.108,"40.1167N",-2.2000000000000002,31.64,33.08,40.82,49.64,57.02,66.2,73.400000000000006,71.06,62.24,50.9,40.28,29.12,568.79999999999995,475.2,288,93.6,18,5.4,0,0,9,113.4,315,648,0,0,7.2,84.6,234,491.4,723.6,653.4,372.6,140.4,25.2,0,15.4,18.14,24.3,30.02,36.5,42.8,45.32,48.92,37.9,20.3,20.3,12.9,{"$f":"IF(MIN(K233:V233)>60,\"NR\",IF((60-MIN(K233:V233))/(68-MIN(K233:V233))<0.5,\"NR\",MAX(0.6,(60-MIN(K233:V233))/(68-MIN(K233:V233)))))","v":0.79423868312757206},0.14014014014014012,69,36,19,24,{"$f":"IF(OR(C233=\"OA\",C233=\"OB\",C233=\"1B\",C233=\"1A\",C233=\"2A\",C233=\"2B\",C233=\"3A\",C233=\"3B\",C233=\"3C\"),TAN((LEFT(I233, 5)+VLOOKUP(C233,Main!$K$3:$L$21,2,FALSE))*PI()/180),IF(Checklist!$I$385=\"No\",TAN((LEFT(I233, 5)+VLOOKUP(C233,Main!$K$3:$L$21,2,FALSE))*PI()/180),\"NR\"))","v":"NR"},{"$f":"VLOOKUP(C233,Main!$A$49:$I$67,Main!$B$47,FALSE)","v":"NR"},{"$f":"VLOOKUP(C233,Main!$A$49:$I$67,Main!$C$47,FALSE)","v":"NR"},{"$f":"VLOOKUP(C233,Main!$A$49:$I$67,Main!$E$47,FALSE)&\":\"&\" \"&VLOOKUP(C233,Main!$A$49:$I$67,Main!$F$47,FALSE)","v":"Minimum COP @ 5°F:: 1.75"},{"$f":"VLOOKUP(C233,Main!$A$49:$I$67,Main!$G$47,FALSE)","v":15},{"$f":"VLOOKUP(C233,Main!$A$49:$I$67,Main!$H$47,FALSE)","v":3.1},{"$f":"VLOOKUP(C233,Main!$A$49:$I$67,Main!$I$47,FALSE)","v":16.100000000000001},2732.4]
["CO","COLORADO SPRINGS MUNI AP","5B",6117,1675,21.83,77,0.108,"38.810N",7,31.1,32.6,40.1,46.7,56.3,66.2,71.2,69.099999999999994,61.7,50,38.700000000000003,30.7,588,487,326,165,35,1,0,0,11,114,355,600,1,1,18,66,231,487,656,592,362,113,15,1,11.48,13.82,18.5,26.06,35.24,43.88,47.66,47.3,40.64,19.760000000000002,19.760000000000002,10.039999999999999,0.78552278820375343,0.16127603012848912,68,38,20,25,{"$f":"IF(OR(C234=\"OA\",C234=\"OB\",C234=\"1B\",C234=\"1A\",C234=\"2A\",C234=\"2B\",C234=\"3A\",C234=\"3B\",C234=\"3C\"),TAN((LEFT(I234, 5)+VLOOKUP(C234,Main!$K$3:$L$21,2,FALSE))*PI()/180),IF(Checklist!$I$385=\"No\",TAN((LEFT(I234, 5)+VLOOKUP(C234,Main!$K$3:$L$21,2,FALSE))*PI()/180),\"NR\"))","v":"NR"},{"$f":"VLOOKUP(C234,Main!$A$49:$I$67,Main!$B$47,FALSE)","v":"NR"},{"$f":"VLOOKUP(C234,Main!$A$49:$I$67,Main!$C$47,FALSE)","v":"NR"},{"$f":"VLOOKUP(C234,Main!$A$49:$I$67,Main!$E$47,FALSE)&\":\"&\" \"&VLOOKUP(C234,Main!$A$49:$I$67,Main!$F$47,FALSE)","v":"Minimum COP @ 5°F:: 1.75"},{"$f":"VLOOKUP(C234,Main!$A$49:$I$67,Main!$G$47,FALSE)","v":15},{"$f":"VLOOKUP(C234,Main!$A$49:$I$67,Main!$H$47,FALSE)","v":3.1},{"$f":"VLOOKUP(C234,Main!$A$49:$I$67,Main!$I$47,FALSE)","v":16.100000000000001},2543]
["CO","CORTEZ/MONTEZUMA","5B",6283,2480,26.7,76.3,0.108,"37.307N",6.5,28.1,32.299999999999997,40.1,46.7,56.3,65.599999999999994,72.900000000000006,69.900000000000006,61.7,49,37.799999999999997,28.6,679,495,310,136,24,1,0,0,4,96,367,663,0,0,3,37,220,470,711,618,354,65,2,0,21.7,22.28,24.6,25.7,31.1,32,47.48,53.42,44.8,22.3,22.3,18,0.79949874686716793,0.15996484289167215,69,38,{"$f":"ROUNDDOWN(-18.64576148+(5.900367721*3.14219615)+(0.002662134083*D235)+(38.92365332*H235)+((BT235-3890.577273)*(G235-78.59)*0.00005765875867)+((D235-5520.854545)*(H235-0.2016890909)*0.006047043516),0)","v":20},{"$f":"ROUNDDOWN(BK235+5.9089,0)","v":25},{"$f":"IF(OR(C235=\"OA\",C235=\"OB\",C235=\"1B\",C235=\"1A\",C235=\"2A\",C235=\"2B\",C235=\"3A\",C235=\"3B\",C235=\"3C\"),TAN((LEFT(I235, 5)+VLOOKUP(C235,Main!$K$3:$L$21,2,FALSE))*PI()/180),IF(Checklist!$I$385=\"No\",TAN((LEFT(I235, 5)+VLOOKUP(C235,Main!$K$3:$L$21,2,FALSE))*PI()/180),\"NR\"))","v":"NR"},{"$f":"VLOOKUP(C235,Main!$A$49:$I$67,Main!$B$47,FALSE)","v":"NR"},{"$f":"VLOOKUP(C235,Main!$A$49:$I$67,Main!$C$47,FALSE)","v":"NR"},{"$f":"VLOOKUP(C235,Main!$A$49:$I$67,Main!$E$47,FALSE)&\":\"&\" \"&VLOOKUP(C235,Main!$A$49:$I$67,Main!$F$47,FALSE)","v":"Minimum COP @ 5°F:: 1.75"},{"$f":"VLOOKUP(C235,Main!$A$49:$I$67,Main!$G$47,FALSE)","v":15},{"$f":"VLOOKUP(C235,Main!$A$49:$I$67,Main!$H$47,FALSE)","v":3.1},{"$f":"VLOOKUP(C235,Main!$A$49:$I$67,Main!$I$47,FALSE)","v":16.100000000000001},2544]
["CO","CRAIG-MOFFAT","6B",8516,1669,5.3,67.3,0.108,"40.493N",-8.6,15.8,21.4,33.200000000000003,42.1,51.2,59.8,67.099999999999994,65.2,56.2,43.9,30.3,18,1060,802,520,245,69,6,0,0,19,211,592,992,0,0,0,10,105,299,531,470,205,20,0,0,3.9,15.8,15.6,29.66,26.8,37.4,40.82,48.02,40.6,18.3,18.3,14.5,0.84674329501915713,0.1284313033660292,76,44,26,31,{"$f":"IF(OR(C236=\"OA\",C236=\"OB\",C236=\"1B\",C236=\"1A\",C236=\"2A\",C236=\"2B\",C236=\"3A\",C236=\"3B\",C236=\"3C\"),TAN((LEFT(I236, 5)+VLOOKUP(C236,Main!$K$3:$L$21,2,FALSE))*PI()/180),IF(Checklist!$I$385=\"No\",TAN((LEFT(I236, 5)+VLOOKUP(C236,Main!$K$3:$L$21,2,FALSE))*PI()/180),\"NR\"))","v":"NR"},{"$f":"VLOOKUP(C236,Main!$A$49:$I$67,Main!$B$47,FALSE)","v":"NR"},{"$f":"VLOOKUP(C236,Main!$A$49:$I$67,Main!$C$47,FALSE)","v":"NR"},{"$f":"VLOOKUP(C236,Main!$A$49:$I$67,Main!$E$47,FALSE)&\":\"&\" \"&VLOOKUP(C236,Main!$A$49:$I$67,Main!$F$47,FALSE)","v":"Minimum COP @ 5°F:: 1.75"},{"$f":"VLOOKUP(C236,Main!$A$49:$I$67,Main!$G$47,FALSE)","v":15},{"$f":"VLOOKUP(C236,Main!$A$49:$I$67,Main!$H$47,FALSE)","v":3.1},{"$f":"VLOOKUP(C236,Main!$A$49:$I$67,Main!$I$47,FALSE)","v":16.100000000000001},1640]
["CO","DENVER INTL AP","5B",5935,1674,26.5,77.900000000000006,0.108,"39.833N",5.3,31.6,32.299999999999997,41,47.3,57.1,67.5,74.900000000000006,72.8,63.8,51,40.1,30.9,572,498,309,160,37,1,0,0,11,109,324,595,3,3,30,78,257,526,773,706,425,139,26,2,13.3,15.98,17.8,27.5,38.799999999999997,43.88,49.1,46.94,37.4,19.399999999999999,19.399999999999999,15.6,0.78436657681940702,0.15690331479805161,68,37,19,24,{"$f":"IF(OR(C237=\"OA\",C237=\"OB\",C237=\"1B\",C237=\"1A\",C237=\"2A\",C237=\"2B\",C237=\"3A\",C237=\"3B\",C237=\"3C\"),TAN((LEFT(I237, 5)+VLOOKUP(C237,Main!$K$3:$L$21,2,FALSE))*PI()/180),IF(Checklist!$I$385=\"No\",TAN((LEFT(I237, 5)+VLOOKUP(C237,Main!$K$3:$L$21,2,FALSE))*PI()/180),\"NR\"))","v":"NR"},{"$f":"VLOOKUP(C237,Main!$A$49:$I$67,Main!$B$47,FALSE)","v":"NR"},{"$f":"VLOOKUP(C237,Main!$A$49:$I$67,Main!$C$47,FALSE)","v":"NR"},{"$f":"VLOOKUP(C237,Main!$A$49:$I$67,Main!$E$47,FALSE)&\":\"&\" \"&VLOOKUP(C237,Main!$A$49:$I$67,Main!$F$47,FALSE)","v":"Minimum COP @ 5°F:: 1.75"},{"$f":"VLOOKUP(C237,Main!$A$49:$I$67,Main!$G$47,FALSE)","v":15},{"$f":"VLOOKUP(C237,Main!$A$49:$I$67,Main!$H$47,FALSE)","v":3.1},{"$f":"VLOOKUP(C237,Main!$A$49:$I$67,Main!$I$47,FALSE)","v":16.100000000000001},2968]
["CO","DENVER/CENTENNIAL [GOLDEN - NREL]","5B",6052,1620,14,76.3,0.108,"39.570N",5.8,31.7,32.799999999999997,40.4,46.3,56.2,66.599999999999994,72.7,70.7,62.4,50,39.5,31.2,569,484,322,176,42,1,0,0,13,117,336,586,2,1,24,64,233,500,705,641,384,118,22,2,16,17.96,25,29.3,32.5,46.4,47.84,46.4,39.4,22.8,22.8,13.8,0.78260869565217395,0.15816459546363082,68,37,20,25,{"$f":"IF(OR(C238=\"OA\",C238=\"OB\",C238=\"1B\",C238=\"1A\",C238=\"2A\",C238=\"2B\",C238=\"3A\",C238=\"3B\",C238=\"3C\"),TAN((LEFT(I238, 5)+VLOOKUP(C238,Main!$K$3:$L$21,2,FALSE))*PI()/180),IF(Checklist!$I$385=\"No\",TAN((LEFT(I238, 5)+VLOOKUP(C238,Main!$K$3:$L$21,2,FALSE))*PI()/180),\"NR\"))","v":"NR"},{"$f":"VLOOKUP(C238,Main!$A$49:$I$67,Main!$B$47,FALSE)","v":"NR"},{"$f":"VLOOKUP(C238,Main!$A$49:$I$67,Main!$C$47,FALSE)","v":"NR"},{"$f":"VLOOKUP(C238,Main!$A$49:$I$67,Main!$E$47,FALSE)&\":\"&\" \"&VLOOKUP(C238,Main!$A$49:$I$67,Main!$F$47,FALSE)","v":"Minimum COP @ 5°F:: 1.75"},{"$f":"VLOOKUP(C238,Main!$A$49:$I$67,Main!$G$47,FALSE)","v":15},{"$f":"VLOOKUP(C238,Main!$A$49:$I$67,Main!$H$47,FALSE)","v":3.1},{"$f":"VLOOKUP(C238,Main!$A$49:$I$67,Main!$I$47,FALSE)","v":16.100000000000001},2696]
["CO","DURANGO/LA PLATA CO","5B",6875,1867,18.399999999999999,70.7,0.108,"37.143N",4.5999999999999996,24.8,29.2,38.1,45,53.8,63.5,70.400000000000006,67.7,59.9,47.8,36.5,26.4,780,582,370,165,36,0,0,0,5,112,404,730,0,0,1,16,155,406,633,547,302,44,0,0,19.399999999999999,20.3,15.6,21.38,29.1,33.619999999999997,48.56,48.92,46.8,21.6,21.6,10.8,0.81481481481481488,0.15517094381447694,71,40,22,27,{"$f":"IF(OR(C239=\"OA\",C239=\"OB\",C239=\"1B\",C239=\"1A\",C239=\"2A\",C239=\"2B\",C239=\"3A\",C239=\"3B\",C239=\"3C\"),TAN((LEFT(I239, 5)+VLOOKUP(C239,Main!$K$3:$L$21,2,FALSE))*PI()/180),IF(Checklist!$I$385=\"No\",TAN((LEFT(I239, 5)+VLOOKUP(C239,Main!$K$3:$L$21,2,FALSE))*PI()/180),\"NR\"))","v":"NR"},{"$f":"VLOOKUP(C239,Main!$A$49:$I$67,Main!$B$47,FALSE)","v":"NR"},{"$f":"VLOOKUP(C239,Main!$A$49:$I$67,Main!$C$47,FALSE)","v":"NR"},{"$f":"VLOOKUP(C239,Main!$A$49:$I$67,Main!$E$47,FALSE)&\":\"&\" \"&VLOOKUP(C239,Main!$A$49:$I$67,Main!$F$47,FALSE)","v":"Minimum COP @ 5°F:: 1.75"},{"$f":"VLOOKUP(C239,Main!$A$49:$I$67,Main!$G$47,FALSE)","v":15},{"$f":"VLOOKUP(C239,Main!$A$49:$I$67,Main!$H$47,FALSE)","v":3.1},{"$f":"VLOOKUP(C239,Main!$A$49:$I$67,Main!$I$47,FALSE)","v":16.100000000000001},2104]
["CO","EAGLE COUNTY AP","6B",7782,1700,2.0499999999999998,69.400000000000006,0.108,"39.650N",0.2,22.8,27.1,36.1,42.9,52.6,60.3,66.7,64.8,56.5,45.4,31.1,21.4,842,643,430,221,51,4,0,0,14,168,566,886,0,0,0,7,130,314,519,459,209,25,0,0,9.9,13.82,21.6,24.62,28.4,31.82,47.12,41.18,33.1,22.1,22.1,12,0.8283261802575107,0.14510085306545484,73,42,24,29,{"$f":"IF(OR(C240=\"OA\",C240=\"OB\",C240=\"1B\",C240=\"1A\",C240=\"2A\",C240=\"2B\",C240=\"3A\",C240=\"3B\",C240=\"3C\"),TAN((LEFT(I240, 5)+VLOOKUP(C240,Main!$K$3:$L$21,2,FALSE))*PI()/180),IF(Checklist!$I$385=\"No\",TAN((LEFT(I240, 5)+VLOOKUP(C240,Main!$K$3:$L$21,2,FALSE))*PI()/180),\"NR\"))","v":"NR"},{"$f":"VLOOKUP(C240,Main!$A$49:$I$67,Main!$B$47,FALSE)","v":"NR"},{"$f":"VLOOKUP(C240,Main!$A$49:$I$67,Main!$C$47,FALSE)","v":"NR"},{"$f":"VLOOKUP(C240,Main!$A$49:$I$67,Main!$E$47,FALSE)&\":\"&\" \"&VLOOKUP(C240,Main!$A$49:$I$67,Main!$F$47,FALSE)","v":"Minimum COP @ 5°F:: 1.75"},{"$f":"VLOOKUP(C240,Main!$A$49:$I$67,Main!$G$47,FALSE)","v":15},{"$f":"VLOOKUP(C240,Main!$A$49:$I$67,Main!$H$47,FALSE)","v":3.1},{"$f":"VLOOKUP(C240,Main!$A$49:$I$67,Main!$I$47,FALSE)","v":16.100000000000001},1663]
["CO","FORT COLLINS (AWOS)","5B",6196,1691,1.05,79.3,0.108,"40.450N",5.5,29.6,31.4,40.700000000000003,47.1,57.3,66.400000000000006,72.8,70.599999999999994,62.8,49.7,37.4,29.7,633,521,308,154,27,2,0,0,10,113,388,630,0,1,21,68,254,495,708,639,393,102,9,0,14,14.72,22.6,28.22,38.299999999999997,43.34,48.92,42.08,36.5,23.4,23.4,14.2,0.79166666666666663,0.1574054054054054,69,38,20,25,{"$f":"IF(OR(C241=\"OA\",C241=\"OB\",C241=\"1B\",C241=\"1A\",C241=\"2A\",C241=\"2B\",C241=\"3A\",C241=\"3B\",C241=\"3C\"),TAN((LEFT(I241, 5)+VLOOKUP(C241,Main!$K$3:$L$21,2,FALSE))*PI()/180),IF(Checklist!$I$385=\"No\",TAN((LEFT(I241, 5)+VLOOKUP(C241,Main!$K$3:$L$21,2,FALSE))*PI()/180),\"NR\"))","v":"NR"},{"$f":"VLOOKUP(C241,Main!$A$49:$I$67,Main!$B$47,FALSE)","v":"NR"},{"$f":"VLOOKUP(C241,Main!$A$49:$I$67,Main!$C$47,FALSE)","v":"NR"},{"$f":"VLOOKUP(C241,Main!$A$49:$I$67,Main!$E$47,FALSE)&\":\"&\" \"&VLOOKUP(C241,Main!$A$49:$I$67,Main!$F$47,FALSE)","v":"Minimum COP @ 5°F:: 1.75"},{"$f":"VLOOKUP(C241,Main!$A$49:$I$67,Main!$G$47,FALSE)","v":15},{"$f":"VLOOKUP(C241,Main!$A$49:$I$67,Main!$H$47,FALSE)","v":3.1},{"$f":"VLOOKUP(C241,Main!$A$49:$I$67,Main!$I$47,FALSE)","v":16.100000000000001},2690]
["CO","GRAND JUNCTION WALKER FIELD","5B",5481,1815,27.05,80.099999999999994,0.108,"39.134N",9.3000000000000007,27.8,35.299999999999997,44.9,52.1,62.4,72.900000000000006,79.3,76.099999999999994,67,53.5,39.5,28.2,687,411,191,71,8,0,0,0,1,53,323,676,0,0,34,133,391,688,908,810,511,163,7,0,17.100000000000001,21.38,23.2,26.96,32.9,34.520000000000003,44.42,44.6,37,24.4,24.4,18,0.80099502487562191,0.16759519314885582,67,36,18,23,{"$f":"IF(OR(C242=\"OA\",C242=\"OB\",C242=\"1B\",C242=\"1A\",C242=\"2A\",C242=\"2B\",C242=\"3A\",C242=\"3B\",C242=\"3C\"),TAN((LEFT(I242, 5)+VLOOKUP(C242,Main!$K$3:$L$21,2,FALSE))*PI()/180),IF(Checklist!$I$385=\"No\",TAN((LEFT(I242, 5)+VLOOKUP(C242,Main!$K$3:$L$21,2,FALSE))*PI()/180),\"NR\"))","v":"NR"},{"$f":"VLOOKUP(C242,Main!$A$49:$I$67,Main!$B$47,FALSE)","v":"NR"},{"$f":"VLOOKUP(C242,Main!$A$49:$I$67,Main!$C$47,FALSE)","v":"NR"},{"$f":"VLOOKUP(C242,Main!$A$49:$I$67,Main!$E$47,FALSE)&\":\"&\" \"&VLOOKUP(C242,Main!$A$49:$I$67,Main!$F$47,FALSE)","v":"Minimum COP @ 5°F:: 1.75"},{"$f":"VLOOKUP(C242,Main!$A$49:$I$67,Main!$G$47,FALSE)","v":15},{"$f":"VLOOKUP(C242,Main!$A$49:$I$67,Main!$H$47,FALSE)","v":3.1},{"$f":"VLOOKUP(C242,Main!$A$49:$I$67,Main!$I$47,FALSE)","v":16.100000000000001},3645]
["CO","GREELEY/WELD (AWOS)","5B",6579,1688,7,73.2,0.108,"40.436N",0,25.7,29.3,39.9,47.2,57.4,67.400000000000006,73.5,70.7,61.9,48.7,35.799999999999997,26.1,753,581,325,144,26,1,0,0,8,120,429,741,0,0,11,61,256,524,727,643,365,80,2,0,19.899999999999999,12.74,22.3,23.9,35.200000000000003,43.16,46.58,48.38,43.3,22.1,22.1,16.5,0.81087470449172572,0.14467408585055644,70,39,21,26,{"$f":"IF(OR(C243=\"OA\",C243=\"OB\",C243=\"1B\",C243=\"1A\",C243=\"2A\",C243=\"2B\",C243=\"3A\",C243=\"3B\",C243=\"3C\"),TAN((LEFT(I243, 5)+VLOOKUP(C243,Main!$K$3:$L$21,2,FALSE))*PI()/180),IF(Checklist!$I$385=\"No\",TAN((LEFT(I243, 5)+VLOOKUP(C243,Main!$K$3:$L$21,2,FALSE))*PI()/180),\"NR\"))","v":"NR"},{"$f":"VLOOKUP(C243,Main!$A$49:$I$67,Main!$B$47,FALSE)","v":"NR"},{"$f":"VLOOKUP(C243,Main!$A$49:$I$67,Main!$C$47,FALSE)","v":"NR"},{"$f":"VLOOKUP(C243,Main!$A$49:$I$67,Main!$E$47,FALSE)&\":\"&\" \"&VLOOKUP(C243,Main!$A$49:$I$67,Main!$F$47,FALSE)","v":"Minimum COP @ 5°F:: 1.75"},{"$f":"VLOOKUP(C243,Main!$A$49:$I$67,Main!$G$47,FALSE)","v":15},{"$f":"VLOOKUP(C243,Main!$A$49:$I$67,Main!$H$47,FALSE)","v":3.1},{"$f":"VLOOKUP(C243,Main!$A$49:$I$67,Main!$I$47,FALSE)","v":16.100000000000001},2669]
["CO","GUNNISON CO. (AWOS)",7,9591,1839,6.25,64.599999999999994,0.108,"38.533N",-10.9,12.1,16.399999999999999,29.5,39.299999999999997,48.6,57,63.1,60.8,52.9,41.8,28.1,14.3,1175,940,637,323,95,6,0,0,31,258,656,1106,0,0,0,1,53,216,407,335,117,4,0,0,10.4,9.86,14.7,19.399999999999999,16.5,29.84,39.020000000000003,41,23.2,12.4,12.4,2.7,0.85688729874776381,0.12468742506765319,79,47,29,34,{"$f":"IF(OR(C244=\"OA\",C244=\"OB\",C244=\"1B\",C244=\"1A\",C244=\"2A\",C244=\"2B\",C244=\"3A\",C244=\"3B\",C244=\"3C\"),TAN((LEFT(I244, 5)+VLOOKUP(C244,Main!$K$3:$L$21,2,FALSE))*PI()/180),IF(Checklist!$I$385=\"No\",TAN((LEFT(I244, 5)+VLOOKUP(C244,Main!$K$3:$L$21,2,FALSE))*PI()/180),\"NR\"))","v":"NR"},{"$f":"VLOOKUP(C244,Main!$A$49:$I$67,Main!$B$47,FALSE)","v":"NR"},{"$f":"VLOOKUP(C244,Main!$A$49:$I$67,Main!$C$47,FALSE)","v":"NR"},{"$f":"VLOOKUP(C244,Main!$A$49:$I$67,Main!$E$47,FALSE)&\":\"&\" \"&VLOOKUP(C244,Main!$A$49:$I$67,Main!$F$47,FALSE)","v":"Minimum COP @ 5°F:: 1.75"},{"$f":"VLOOKUP(C244,Main!$A$49:$I$67,Main!$G$47,FALSE)","v":15},{"$f":"VLOOKUP(C244,Main!$A$49:$I$67,Main!$H$47,FALSE)","v":3.1},{"$f":"VLOOKUP(C244,Main!$A$49:$I$67,Main!$I$47,FALSE)","v":16.100000000000001},1133]
["CO","HAYDEN/YAMPA (AWOS)","6B",8200,1677,14.55,70,0.108,"40.481N",0.3,19.5,22.8,32.4,41.5,51.1,60.2,67.8,65.7,57.3,45.1,31.9,20.6,946,763,546,269,77,7,0,0,19,190,543,912,0,0,1,13,112,312,550,486,238,39,0,0,13.6,16.88,18,24.8,32,38.119999999999997,37.4,35.24,32.4,20.5,20.5,12.9,0.83505154639175261,0.1453151822428041,74,43,25,30,{"$f":"IF(OR(C245=\"OA\",C245=\"OB\",C245=\"1B\",C245=\"1A\",C245=\"2A\",C245=\"2B\",C245=\"3A\",C245=\"3B\",C245=\"3C\"),TAN((LEFT(I245, 5)+VLOOKUP(C245,Main!$K$3:$L$21,2,FALSE))*PI()/180),IF(Checklist!$I$385=\"No\",TAN((LEFT(I245, 5)+VLOOKUP(C245,Main!$K$3:$L$21,2,FALSE))*PI()/180),\"NR\"))","v":"NR"},{"$f":"VLOOKUP(C245,Main!$A$49:$I$67,Main!$B$47,FALSE)","v":"NR"},{"$f":"VLOOKUP(C245,Main!$A$49:$I$67,Main!$C$47,FALSE)","v":"NR"},{"$f":"VLOOKUP(C245,Main!$A$49:$I$67,Main!$E$47,FALSE)&\":\"&\" \"&VLOOKUP(C245,Main!$A$49:$I$67,Main!$F$47,FALSE)","v":"Minimum COP @ 5°F:: 1.75"},{"$f":"VLOOKUP(C245,Main!$A$49:$I$67,Main!$G$47,FALSE)","v":15},{"$f":"VLOOKUP(C245,Main!$A$49:$I$67,Main!$H$47,FALSE)","v":3.1},{"$f":"VLOOKUP(C245,Main!$A$49:$I$67,Main!$I$47,FALSE)","v":16.100000000000001},1751]
["CO","LA JUNTA MUNICIPAL AP","4B",5117,1759,25.8,82.8,0.108,"38.049N",8.1999999999999993,31.9,35.5,45,53,63.3,73.7,78.5,76.5,67.900000000000006,54.6,41.5,31.7,563,411,209,72,9,0,0,0,3,57,284,569,1,6,53,160,420,711,882,821,539,200,29,2,16.7,20.84,29.3,32.9,45.5,48.02,53.42,51.62,45.5,19.8,19.8,20.5,0.77961432506887063,0.1645123384253819,66,35,17,22,{"$f":"IF(OR(C246=\"OA\",C246=\"OB\",C246=\"1B\",C246=\"1A\",C246=\"2A\",C246=\"2B\",C246=\"3A\",C246=\"3B\",C246=\"3C\"),TAN((LEFT(I246, 5)+VLOOKUP(C246,Main!$K$3:$L$21,2,FALSE))*PI()/180),IF(Checklist!$I$385=\"No\",TAN((LEFT(I246, 5)+VLOOKUP(C246,Main!$K$3:$L$21,2,FALSE))*PI()/180),\"NR\"))","v":"NR"},{"$f":"VLOOKUP(C246,Main!$A$49:$I$67,Main!$B$47,FALSE)","v":"NR"},{"$f":"VLOOKUP(C246,Main!$A$49:$I$67,Main!$C$47,FALSE)","v":0.25},{"$f":"VLOOKUP(C246,Main!$A$49:$I$67,Main!$E$47,FALSE)&\":\"&\" \"&VLOOKUP(C246,Main!$A$49:$I$67,Main!$F$47,FALSE)","v":"Minimum HSPF:: 9.6"},{"$f":"VLOOKUP(C246,Main!$A$49:$I$67,Main!$G$47,FALSE)","v":18},{"$f":"VLOOKUP(C246,Main!$A$49:$I$67,Main!$H$47,FALSE)","v":3.1},{"$f":"VLOOKUP(C246,Main!$A$49:$I$67,Main!$I$47,FALSE)","v":16.100000000000001},3824]
["CO","LAMAR MUNICIPAL","4B",5379,1791,22.15,83.1,0.108,"38.070N",5.7,30.1,33.700000000000003,43.4,52.4,62.9,73.400000000000006,79,76.3,67.599999999999994,53.7,41,30.5,618,459,247,79,8,0,0,0,2,59,291,606,0,3,42,151,408,701,900,814,529,175,20,1,23.9,26.06,15.3,28.76,45,51.98,60.62,55.94,53.1,24.4,24.4,15.6,0.78891820580474936,0.15791071970847251,67,35,18,23,{"$f":"IF(OR(C247=\"OA\",C247=\"OB\",C247=\"1B\",C247=\"1A\",C247=\"2A\",C247=\"2B\",C247=\"3A\",C247=\"3B\",C247=\"3C\"),TAN((LEFT(I247, 5)+VLOOKUP(C247,Main!$K$3:$L$21,2,FALSE))*PI()/180),IF(Checklist!$I$385=\"No\",TAN((LEFT(I247, 5)+VLOOKUP(C247,Main!$K$3:$L$21,2,FALSE))*PI()/180),\"NR\"))","v":"NR"},{"$f":"VLOOKUP(C247,Main!$A$49:$I$67,Main!$B$47,FALSE)","v":"NR"},{"$f":"VLOOKUP(C247,Main!$A$49:$I$67,Main!$C$47,FALSE)","v":0.25},{"$f":"VLOOKUP(C247,Main!$A$49:$I$67,Main!$E$47,FALSE)&\":\"&\" \"&VLOOKUP(C247,Main!$A$49:$I$67,Main!$F$47,FALSE)","v":"Minimum HSPF:: 9.6"},{"$f":"VLOOKUP(C247,Main!$A$49:$I$67,Main!$G$47,FALSE)","v":18},{"$f":"VLOOKUP(C247,Main!$A$49:$I$67,Main!$H$47,FALSE)","v":3.1},{"$f":"VLOOKUP(C247,Main!$A$49:$I$67,Main!$I$47,FALSE)","v":16.100000000000001},3744]
["CO","LEADVILLE/LAKE CO.",7,10905,1675,6.15,57.6,0.108,"39.229N",-3.4,17.399999999999999,17.399999999999999,24.4,31.6,41.3,50.8,56.3,53.6,47.2,37,25.8,17.399999999999999,1009,913,793,553,277,51,1,8,107,405,725,1011,0,0,0,0,7,75,198,121,22,0,0,0,8.4,8.06,12.9,15.44,18.3,27.68,38.840000000000003,28.76,37.200000000000003,10.199999999999999,10.199999999999999,5.7,0.84189723320158105,0.13778484366719659,82,51,34,39,{"$f":"IF(OR(C248=\"OA\",C248=\"OB\",C248=\"1B\",C248=\"1A\",C248=\"2A\",C248=\"2B\",C248=\"3A\",C248=\"3B\",C248=\"3C\"),TAN((LEFT(I248, 5)+VLOOKUP(C248,Main!$K$3:$L$21,2,FALSE))*PI()/180),IF(Checklist!$I$385=\"No\",TAN((LEFT(I248, 5)+VLOOKUP(C248,Main!$K$3:$L$21,2,FALSE))*PI()/180),\"NR\"))","v":"NR"},{"$f":"VLOOKUP(C248,Main!$A$49:$I$67,Main!$B$47,FALSE)","v":"NR"},{"$f":"VLOOKUP(C248,Main!$A$49:$I$67,Main!$C$47,FALSE)","v":"NR"},{"$f":"VLOOKUP(C248,Main!$A$49:$I$67,Main!$E$47,FALSE)&\":\"&\" \"&VLOOKUP(C248,Main!$A$49:$I$67,Main!$F$47,FALSE)","v":"Minimum COP @ 5°F:: 1.75"},{"$f":"VLOOKUP(C248,Main!$A$49:$I$67,Main!$G$47,FALSE)","v":15},{"$f":"VLOOKUP(C248,Main!$A$49:$I$67,Main!$H$47,FALSE)","v":3.1},{"$f":"VLOOKUP(C248,Main!$A$49:$I$67,Main!$I$47,FALSE)","v":16.100000000000001},423]
["CO","LIMON","5B",6866,1708,10.95,72.3,0.108,"39.189N",1.2,26.9,28.7,37.6,44.9,54.9,64.900000000000006,70.900000000000006,68.7,60.2,47.7,35.4,26.4,715,596,389,192,43,1,0,0,11,148,443,732,0,0,6,38,195,447,648,581,318,77,4,0,16.2,16.34,20.100000000000001,29.12,43,49.64,53.96,51.44,38.700000000000003,20.7,20.7,12.4,0.80769230769230771,0.14727302152451854,71,40,22,27,{"$f":"IF(OR(C249=\"OA\",C249=\"OB\",C249=\"1B\",C249=\"1A\",C249=\"2A\",C249=\"2B\",C249=\"3A\",C249=\"3B\",C249=\"3C\"),TAN((LEFT(I249, 5)+VLOOKUP(C249,Main!$K$3:$L$21,2,FALSE))*PI()/180),IF(Checklist!$I$385=\"No\",TAN((LEFT(I249, 5)+VLOOKUP(C249,Main!$K$3:$L$21,2,FALSE))*PI()/180),\"NR\"))","v":"NR"},{"$f":"VLOOKUP(C249,Main!$A$49:$I$67,Main!$B$47,FALSE)","v":"NR"},{"$f":"VLOOKUP(C249,Main!$A$49:$I$67,Main!$C$47,FALSE)","v":"NR"},{"$f":"VLOOKUP(C249,Main!$A$49:$I$67,Main!$E$47,FALSE)&\":\"&\" \"&VLOOKUP(C249,Main!$A$49:$I$67,Main!$F$47,FALSE)","v":"Minimum COP @ 5°F:: 1.75"},{"$f":"VLOOKUP(C249,Main!$A$49:$I$67,Main!$G$47,FALSE)","v":15},{"$f":"VLOOKUP(C249,Main!$A$49:$I$67,Main!$H$47,FALSE)","v":3.1},{"$f":"VLOOKUP(C249,Main!$A$49:$I$67,Main!$I$47,FALSE)","v":16.100000000000001},2314]
["CO","MONTROSE CO. ARPT","5B",6010,1674,21.8,76.3,0.108,"38.506N",8.1999999999999993,27.7,33.299999999999997,42.1,49,58.7,68.599999999999994,74.3,71.3,62.8,50.6,38.299999999999997,27.5,690,467,262,109,19,0,0,0,5,81,355,697,0,0,17,79,289,558,754,662,390,98,5,0,15.8,20.66,25.9,24.8,29.7,32.9,51.08,46.58,42.8,17.600000000000001,17.600000000000001,16.7,0.80246913580246915,0.1645123384253819,68,37,19,24,{"$f":"IF(OR(C250=\"OA\",C250=\"OB\",C250=\"1B\",C250=\"1A\",C250=\"2A\",C250=\"2B\",C250=\"3A\",C250=\"3B\",C250=\"3C\"),TAN((LEFT(I250, 5)+VLOOKUP(C250,Main!$K$3:$L$21,2,FALSE))*PI()/180),IF(Checklist!$I$385=\"No\",TAN((LEFT(I250, 5)+VLOOKUP(C250,Main!$K$3:$L$21,2,FALSE))*PI()/180),\"NR\"))","v":"NR"},{"$f":"VLOOKUP(C250,Main!$A$49:$I$67,Main!$B$47,FALSE)","v":"NR"},{"$f":"VLOOKUP(C250,Main!$A$49:$I$67,Main!$C$47,FALSE)","v":"NR"},{"$f":"VLOOKUP(C250,Main!$A$49:$I$67,Main!$E$47,FALSE)&\":\"&\" \"&VLOOKUP(C250,Main!$A$49:$I$67,Main!$F$47,FALSE)","v":"Minimum COP @ 5°F:: 1.75"},{"$f":"VLOOKUP(C250,Main!$A$49:$I$67,Main!$G$47,FALSE)","v":15},{"$f":"VLOOKUP(C250,Main!$A$49:$I$67,Main!$H$47,FALSE)","v":3.1},{"$f":"VLOOKUP(C250,Main!$A$49:$I$67,Main!$I$47,FALSE)","v":16.100000000000001},2852]
["CO","PUEBLO MEMORIAL AP","5B",5488,1846,21.4,78.599999999999994,0.108,"38.290N",6.5,31.4,34.299999999999997,43.1,50.7,60.8,70.900000000000006,76.099999999999994,73.8,65.5,52.3,39.799999999999997,30.9,578,442,244,91,12,0,0,0,4,73,322,595,2,3,30,113,347,627,808,738,468,146,15,1,17.399999999999999,18.68,24.6,35.06,39.6,47.84,51.98,50.36,42.1,24.4,24.4,18.899999999999999,0.78436657681940702,0.15996484289167215,67,36,18,23,{"$f":"IF(OR(C251=\"OA\",C251=\"OB\",C251=\"1B\",C251=\"1A\",C251=\"2A\",C251=\"2B\",C251=\"3A\",C251=\"3B\",C251=\"3C\"),TAN((LEFT(I251, 5)+VLOOKUP(C251,Main!$K$3:$L$21,2,FALSE))*PI()/180),IF(Checklist!$I$385=\"No\",TAN((LEFT(I251, 5)+VLOOKUP(C251,Main!$K$3:$L$21,2,FALSE))*PI()/180),\"NR\"))","v":"NR"},{"$f":"VLOOKUP(C251,Main!$A$49:$I$67,Main!$B$47,FALSE)","v":"NR"},{"$f":"VLOOKUP(C251,Main!$A$49:$I$67,Main!$C$47,FALSE)","v":"NR"},{"$f":"VLOOKUP(C251,Main!$A$49:$I$67,Main!$E$47,FALSE)&\":\"&\" \"&VLOOKUP(C251,Main!$A$49:$I$67,Main!$F$47,FALSE)","v":"Minimum COP @ 5°F:: 1.75"},{"$f":"VLOOKUP(C251,Main!$A$49:$I$67,Main!$G$47,FALSE)","v":15},{"$f":"VLOOKUP(C251,Main!$A$49:$I$67,Main!$H$47,FALSE)","v":3.1},{"$f":"VLOOKUP(C251,Main!$A$49:$I$67,Main!$I$47,FALSE)","v":16.100000000000001},3298]
["CO","RIFLE/GARFIELD RGNL","5B",6494,1696,11.95,76.599999999999994,0.108,"39.528N",4.5999999999999996,25.1,31,40.4,47.2,57,66.7,73.900000000000006,70.7,62.3,49.4,36.5,24.8,772,533,305,130,24,1,0,0,4,93,406,781,0,0,8,47,241,503,740,640,372,76,2,0,14.7,24.44,19.600000000000001,23.18,33.1,33.799999999999997,47.12,46.04,41.2,24.6,24.6,11.3,0.81481481481481488,0.15517094381447694,70,39,20,25,{"$f":"IF(OR(C252=\"OA\",C252=\"OB\",C252=\"1B\",C252=\"1A\",C252=\"2A\",C252=\"2B\",C252=\"3A\",C252=\"3B\",C252=\"3C\"),TAN((LEFT(I252, 5)+VLOOKUP(C252,Main!$K$3:$L$21,2,FALSE))*PI()/180),IF(Checklist!$I$385=\"No\",TAN((LEFT(I252, 5)+VLOOKUP(C252,Main!$K$3:$L$21,2,FALSE))*PI()/180),\"NR\"))","v":"NR"},{"$f":"VLOOKUP(C252,Main!$A$49:$I$67,Main!$B$47,FALSE)","v":"NR"},{"$f":"VLOOKUP(C252,Main!$A$49:$I$67,Main!$C$47,FALSE)","v":"NR"},{"$f":"VLOOKUP(C252,Main!$A$49:$I$67,Main!$E$47,FALSE)&\":\"&\" \"&VLOOKUP(C252,Main!$A$49:$I$67,Main!$F$47,FALSE)","v":"Minimum COP @ 5°F:: 1.75"},{"$f":"VLOOKUP(C252,Main!$A$49:$I$67,Main!$G$47,FALSE)","v":15},{"$f":"VLOOKUP(C252,Main!$A$49:$I$67,Main!$H$47,FALSE)","v":3.1},{"$f":"VLOOKUP(C252,Main!$A$49:$I$67,Main!$I$47,FALSE)","v":16.100000000000001},2629]
["CO","TRINIDAD LAS ANIMAS COUNTY AP","4B",5374,1835,9.6,75.599999999999994,0.108,"37.262N",8.9,33.200000000000003,35.6,43.1,50,59.7,69.599999999999994,73.900000000000006,71.900000000000006,64.900000000000006,53.1,41,32.299999999999997,522,407,249,113,18,0,0,0,6,72,297,551,2,4,36,114,319,590,742,679,452,167,28,2,14.4,22.1,25.2,26.78,32.4,42.98,49.64,46.94,39.700000000000003,24.6,24.6,15.4,0.77591036414565828,0.16646087712077556,66,35,18,23,{"$f":"IF(OR(C253=\"OA\",C253=\"OB\",C253=\"1B\",C253=\"1A\",C253=\"2A\",C253=\"2B\",C253=\"3A\",C253=\"3B\",C253=\"3C\"),TAN((LEFT(I253, 5)+VLOOKUP(C253,Main!$K$3:$L$21,2,FALSE))*PI()/180),IF(Checklist!$I$385=\"No\",TAN((LEFT(I253, 5)+VLOOKUP(C253,Main!$K$3:$L$21,2,FALSE))*PI()/180),\"NR\"))","v":"NR"},{"$f":"VLOOKUP(C253,Main!$A$49:$I$67,Main!$B$47,FALSE)","v":"NR"},{"$f":"VLOOKUP(C253,Main!$A$49:$I$67,Main!$C$47,FALSE)","v":0.25},{"$f":"VLOOKUP(C253,Main!$A$49:$I$67,Main!$E$47,FALSE)&\":\"&\" \"&VLOOKUP(C253,Main!$A$49:$I$67,Main!$F$47,FALSE)","v":"Minimum HSPF:: 9.6"},{"$f":"VLOOKUP(C253,Main!$A$49:$I$67,Main!$G$47,FALSE)","v":18},{"$f":"VLOOKUP(C253,Main!$A$49:$I$67,Main!$H$47,FALSE)","v":3.1},{"$f":"VLOOKUP(C253,Main!$A$49:$I$67,Main!$I$47,FALSE)","v":16.100000000000001},3135]
["CT","BRIDGEPORT SIKORSKY MEMORIAL","5A",5230,1419,29.5,77,0.1981,"41.158N",15.6,30.8,33.200000000000003,39.799999999999997,49.7,59.3,68.900000000000006,74.599999999999994,73.7,67,55.7,45.7,36.6,596,471,327,82,2,0,0,0,0,27,169,419,1,0,10,74,289,567,762,734,509,205,39,5,15.4,22.1,24.4,37.04,46.4,56.66,62.96,61.88,58.8,36.5,36.5,23.9,0.78494623655913975,0.18774499690530225,71,40,21,26,{"$f":"IF(OR(C254=\"OA\",C254=\"OB\",C254=\"1B\",C254=\"1A\",C254=\"2A\",C254=\"2B\",C254=\"3A\",C254=\"3B\",C254=\"3C\"),TAN((LEFT(I254, 5)+VLOOKUP(C254,Main!$K$3:$L$21,2,FALSE))*PI()/180),IF(Checklist!$I$385=\"No\",TAN((LEFT(I254, 5)+VLOOKUP(C254,Main!$K$3:$L$21,2,FALSE))*PI()/180),\"NR\"))","v":"NR"},{"$f":"VLOOKUP(C254,Main!$A$49:$I$67,Main!$B$47,FALSE)","v":"NR"},{"$f":"VLOOKUP(C254,Main!$A$49:$I$67,Main!$C$47,FALSE)","v":"NR"},{"$f":"VLOOKUP(C254,Main!$A$49:$I$67,Main!$E$47,FALSE)&\":\"&\" \"&VLOOKUP(C254,Main!$A$49:$I$67,Main!$F$47,FALSE)","v":"Minimum COP @ 5°F:: 1.75"},{"$f":"VLOOKUP(C254,Main!$A$49:$I$67,Main!$G$47,FALSE)","v":15},{"$f":"VLOOKUP(C254,Main!$A$49:$I$67,Main!$H$47,FALSE)","v":3.1},{"$f":"VLOOKUP(C254,Main!$A$49:$I$67,Main!$I$47,FALSE)","v":16.100000000000001},3195]
["CT","DANBURY MUNICIPAL","5A",6036,1397,13.9,78.8,0.1981,"41.371N",9.5,26.8,29.4,37.6,48.9,58.1,67,71.7,70.2,63.4,51.9,42.2,32.6,721,576,396,113,10,0,0,0,0,70,256,544,1,0,11,79,260,509,674,627,402,128,23,4,16,15.08,31.5,35.42,43.3,59,61.52,59.9,54.7,36,36,27.7,0.80582524271844658,0.16816816816816815,75,43,23,28,{"$f":"IF(OR(C255=\"OA\",C255=\"OB\",C255=\"1B\",C255=\"1A\",C255=\"2A\",C255=\"2B\",C255=\"3A\",C255=\"3B\",C255=\"3C\"),TAN((LEFT(I255, 5)+VLOOKUP(C255,Main!$K$3:$L$21,2,FALSE))*PI()/180),IF(Checklist!$I$385=\"No\",TAN((LEFT(I255, 5)+VLOOKUP(C255,Main!$K$3:$L$21,2,FALSE))*PI()/180),\"NR\"))","v":"NR"},{"$f":"VLOOKUP(C255,Main!$A$49:$I$67,Main!$B$47,FALSE)","v":"NR"},{"$f":"VLOOKUP(C255,Main!$A$49:$I$67,Main!$C$47,FALSE)","v":"NR"},{"$f":"VLOOKUP(C255,Main!$A$49:$I$67,Main!$E$47,FALSE)&\":\"&\" \"&VLOOKUP(C255,Main!$A$49:$I$67,Main!$F$47,FALSE)","v":"Minimum COP @ 5°F:: 1.75"},{"$f":"VLOOKUP(C255,Main!$A$49:$I$67,Main!$G$47,FALSE)","v":15},{"$f":"VLOOKUP(C255,Main!$A$49:$I$67,Main!$H$47,FALSE)","v":3.1},{"$f":"VLOOKUP(C255,Main!$A$49:$I$67,Main!$I$47,FALSE)","v":16.100000000000001},2718]
["CT","GROTON NEW LONDON AP","5A",5619,1260,19.5,74.8,0.1981,"41.328N",14.3,30.1,31.9,38.5,47.7,56.4,65.5,71.400000000000006,70.900000000000006,64.599999999999994,54.1,45.1,35.6,617,506,361,113,10,0,0,0,0,43,182,451,1,0,4,44,207,466,663,648,437,171,36,3,20.100000000000001,19.760000000000002,32.5,38.299999999999997,47.8,57.92,59.54,64.58,58.8,34,34,25.5,0.78891820580474936,0.18319995973627257,72,42,22,27,{"$f":"IF(OR(C256=\"OA\",C256=\"OB\",C256=\"1B\",C256=\"1A\",C256=\"2A\",C256=\"2B\",C256=\"3A\",C256=\"3B\",C256=\"3C\"),TAN((LEFT(I256, 5)+VLOOKUP(C256,Main!$K$3:$L$21,2,FALSE))*PI()/180),IF(Checklist!$I$385=\"No\",TAN((LEFT(I256, 5)+VLOOKUP(C256,Main!$K$3:$L$21,2,FALSE))*PI()/180),\"NR\"))","v":"NR"},{"$f":"VLOOKUP(C256,Main!$A$49:$I$67,Main!$B$47,FALSE)","v":"NR"},{"$f":"VLOOKUP(C256,Main!$A$49:$I$67,Main!$C$47,FALSE)","v":"NR"},{"$f":"VLOOKUP(C256,Main!$A$49:$I$67,Main!$E$47,FALSE)&\":\"&\" \"&VLOOKUP(C256,Main!$A$49:$I$67,Main!$F$47,FALSE)","v":"Minimum COP @ 5°F:: 1.75"},{"$f":"VLOOKUP(C256,Main!$A$49:$I$67,Main!$G$47,FALSE)","v":15},{"$f":"VLOOKUP(C256,Main!$A$49:$I$67,Main!$H$47,FALSE)","v":3.1},{"$f":"VLOOKUP(C256,Main!$A$49:$I$67,Main!$I$47,FALSE)","v":16.100000000000001},2680]
["CT","HARTFORD BRADLEY INTL AP","5A",5843,1370,25.5,79.2,0.1981,"41.938N",9.8000000000000007,27.4,29.7,38,49.8,59.7,68.900000000000006,74,72.2,64.400000000000006,53,42.6,32.799999999999997,703,569,387,100,6,0,0,0,1,56,251,536,1,1,16,94,307,566,743,687,434,150,28,4,12.7,17.600000000000001,24.8,31.82,44.1,57.02,62.78,60.08,52.5,28.2,28.2,19.399999999999999,0.80295566502463056,0.16903501439583909,74,42,23,28,{"$f":"IF(OR(C257=\"OA\",C257=\"OB\",C257=\"1B\",C257=\"1A\",C257=\"2A\",C257=\"2B\",C257=\"3A\",C257=\"3B\",C257=\"3C\"),TAN((LEFT(I257, 5)+VLOOKUP(C257,Main!$K$3:$L$21,2,FALSE))*PI()/180),IF(Checklist!$I$385=\"No\",TAN((LEFT(I257, 5)+VLOOKUP(C257,Main!$K$3:$L$21,2,FALSE))*PI()/180),\"NR\"))","v":"NR"},{"$f":"VLOOKUP(C257,Main!$A$49:$I$67,Main!$B$47,FALSE)","v":"NR"},{"$f":"VLOOKUP(C257,Main!$A$49:$I$67,Main!$C$47,FALSE)","v":"NR"},{"$f":"VLOOKUP(C257,Main!$A$49:$I$67,Main!$E$47,FALSE)&\":\"&\" \"&VLOOKUP(C257,Main!$A$49:$I$67,Main!$F$47,FALSE)","v":"Minimum COP @ 5°F:: 1.75"},{"$f":"VLOOKUP(C257,Main!$A$49:$I$67,Main!$G$47,FALSE)","v":15},{"$f":"VLOOKUP(C257,Main!$A$49:$I$67,Main!$H$47,FALSE)","v":3.1},{"$f":"VLOOKUP(C257,Main!$A$49:$I$67,Main!$I$47,FALSE)","v":16.100000000000001},3031]
["CT","HARTFORD BRAINARD FD","5A",5500,1339,25.35,75.7,0.1981,"41.736N",12.2,29.2,31.5,39.200000000000003,50.4,60.2,69.400000000000006,74.8,73.2,65.7,54.2,44.1,34.200000000000003,646,518,350,86,3,0,0,0,0,41,210,497,3,1,16,97,320,582,770,719,471,170,34,6,15.6,18.86,30.6,34.700000000000003,47.7,54.5,60.62,56.48,57.4,38.799999999999997,38.799999999999997,30.7,0.79381443298969079,0.17630533759566019,72,41,22,27,{"$f":"IF(OR(C258=\"OA\",C258=\"OB\",C258=\"1B\",C258=\"1A\",C258=\"2A\",C258=\"2B\",C258=\"3A\",C258=\"3B\",C258=\"3C\"),TAN((LEFT(I258, 5)+VLOOKUP(C258,Main!$K$3:$L$21,2,FALSE))*PI()/180),IF(Checklist!$I$385=\"No\",TAN((LEFT(I258, 5)+VLOOKUP(C258,Main!$K$3:$L$21,2,FALSE))*PI()/180),\"NR\"))","v":"NR"},{"$f":"VLOOKUP(C258,Main!$A$49:$I$67,Main!$B$47,FALSE)","v":"NR"},{"$f":"VLOOKUP(C258,Main!$A$49:$I$67,Main!$C$47,FALSE)","v":"NR"},{"$f":"VLOOKUP(C258,Main!$A$49:$I$67,Main!$E$47,FALSE)&\":\"&\" \"&VLOOKUP(C258,Main!$A$49:$I$67,Main!$F$47,FALSE)","v":"Minimum COP @ 5°F:: 1.75"},{"$f":"VLOOKUP(C258,Main!$A$49:$I$67,Main!$G$47,FALSE)","v":15},{"$f":"VLOOKUP(C258,Main!$A$49:$I$67,Main!$H$47,FALSE)","v":3.1},{"$f":"VLOOKUP(C258,Main!$A$49:$I$67,Main!$I$47,FALSE)","v":16.100000000000001},3189]
["CT","NEW HAVEN TWEED AIRPORT","5A",5381,1371,18.2,76.5,0.1981,"41.264N",14.8,30.5,32,39,49.4,58.6,68.2,74.400000000000006,72.8,66.400000000000006,55.1,45.2,36.299999999999997,606,505,349,89,5,0,0,0,0,37,177,429,1,0,7,72,271,547,755,708,491,195,34,3,19.399999999999999,18.32,28.4,34.340000000000003,48,57.56,63.32,63.5,57.6,41,41,22.6,0.78666666666666663,0.18492176386913226,71,41,22,27,{"$f":"IF(OR(C259=\"OA\",C259=\"OB\",C259=\"1B\",C259=\"1A\",C259=\"2A\",C259=\"2B\",C259=\"3A\",C259=\"3B\",C259=\"3C\"),TAN((LEFT(I259, 5)+VLOOKUP(C259,Main!$K$3:$L$21,2,FALSE))*PI()/180),IF(Checklist!$I$385=\"No\",TAN((LEFT(I259, 5)+VLOOKUP(C259,Main!$K$3:$L$21,2,FALSE))*PI()/180),\"NR\"))","v":"NR"},{"$f":"VLOOKUP(C259,Main!$A$49:$I$67,Main!$B$47,FALSE)","v":"NR"},{"$f":"VLOOKUP(C259,Main!$A$49:$I$67,Main!$C$47,FALSE)","v":"NR"},{"$f":"VLOOKUP(C259,Main!$A$49:$I$67,Main!$E$47,FALSE)&\":\"&\" \"&VLOOKUP(C259,Main!$A$49:$I$67,Main!$F$47,FALSE)","v":"Minimum COP @ 5°F:: 1.75"},{"$f":"VLOOKUP(C259,Main!$A$49:$I$67,Main!$G$47,FALSE)","v":15},{"$f":"VLOOKUP(C259,Main!$A$49:$I$67,Main!$H$47,FALSE)","v":3.1},{"$f":"VLOOKUP(C259,Main!$A$49:$I$67,Main!$I$47,FALSE)","v":16.100000000000001},3084]
["CT","OXFORD (AWOS)","5A",6416,1353,18.25,80.2,0.1981,"41.483N",8.8000000000000007,26.3,28.5,35.9,46.9,55.9,65.900000000000006,70.2,68.8,61.6,50.3,41.3,31.4,737,602,445,148,16,0,0,0,3,91,283,579,2,1,9,56,200,477,626,581,352,101,22,3,14.7,22.1,20.5,35.6,45.1,57.38,61.88,61.16,57.9,30.9,30.9,22.3,0.80815347721822539,{"$f":"IF(ISBLANK($J260),\"-\",IF((14.7-(0.742*10))/(0.74*(68-$J260))<0,0.5,MIN((14.7-(0.742*10))/(0.74*(68-$J260)),0.5)))","v":0.16617969320672021},76,45,24,29,{"$f":"IF(OR(C260=\"OA\",C260=\"OB\",C260=\"1B\",C260=\"1A\",C260=\"2A\",C260=\"2B\",C260=\"3A\",C260=\"3B\",C260=\"3C\"),TAN((LEFT(I260, 5)+VLOOKUP(C260,Main!$K$3:$L$21,2,FALSE))*PI()/180),IF(Checklist!$I$385=\"No\",TAN((LEFT(I260, 5)+VLOOKUP(C260,Main!$K$3:$L$21,2,FALSE))*PI()/180),\"NR\"))","v":"NR"},{"$f":"VLOOKUP(C260,Main!$A$49:$I$67,Main!$B$47,FALSE)","v":"NR"},{"$f":"VLOOKUP(C260,Main!$A$49:$I$67,Main!$C$47,FALSE)","v":"NR"},{"$f":"VLOOKUP(C260,Main!$A$49:$I$67,Main!$E$47,FALSE)&\":\"&\" \"&VLOOKUP(C260,Main!$A$49:$I$67,Main!$F$47,FALSE)","v":"Minimum COP @ 5°F:: 1.75"},{"$f":"VLOOKUP(C260,Main!$A$49:$I$67,Main!$G$47,FALSE)","v":15},{"$f":"VLOOKUP(C260,Main!$A$49:$I$67,Main!$H$47,FALSE)","v":3.1},{"$f":"VLOOKUP(C260,Main!$A$49:$I$67,Main!$I$47,FALSE)","v":16.100000000000001},2430]
["DE","DOVER AFB","4A",4461,1408,20,81.7,0.12609999999999999,"39.133N",18.7,34.9,37,44.2,53.9,63.2,72.400000000000006,77.2,75.3,68.599999999999994,57.8,47.5,39.4,479,374,228,49,1,0,0,0,0,17,143,349,13,10,48,166,411,671,844,784,558,257,69,20,25.7,24.62,26.4,38.299999999999997,45.5,61.34,68.540000000000006,65.12,56.5,32.5,32.5,28.9,{"$f":"IF(MIN(K261:V261)>60,\"NR\",IF((60-MIN(K261:V261))/(68-MIN(K261:V261))<0.5,\"NR\",MAX(0.6,(60-MIN(K261:V261))/(68-MIN(K261:V261)))))","v":0.7583081570996979},0.19955046324214679,64,34,17,22,{"$f":"IF(OR(C261=\"OA\",C261=\"OB\",C261=\"1B\",C261=\"1A\",C261=\"2A\",C261=\"2B\",C261=\"3A\",C261=\"3B\",C261=\"3C\"),TAN((LEFT(I261, 5)+VLOOKUP(C261,Main!$K$3:$L$21,2,FALSE))*PI()/180),IF(Checklist!$I$385=\"No\",TAN((LEFT(I261, 5)+VLOOKUP(C261,Main!$K$3:$L$21,2,FALSE))*PI()/180),\"NR\"))","v":"NR"},{"$f":"VLOOKUP(C261,Main!$A$49:$I$67,Main!$B$47,FALSE)","v":0.5},{"$f":"VLOOKUP(C261,Main!$A$49:$I$67,Main!$C$47,FALSE)","v":0.25},{"$f":"VLOOKUP(C261,Main!$A$49:$I$67,Main!$E$47,FALSE)&\":\"&\" \"&VLOOKUP(C261,Main!$A$49:$I$67,Main!$F$47,FALSE)","v":"Minimum HSPF:: 9.6"},{"$f":"VLOOKUP(C261,Main!$A$49:$I$67,Main!$G$47,FALSE)","v":18},{"$f":"VLOOKUP(C261,Main!$A$49:$I$67,Main!$H$47,FALSE)","v":3.1},{"$f":"VLOOKUP(C261,Main!$A$49:$I$67,Main!$I$47,FALSE)","v":16.100000000000001},3851]
["DE","WILMINGTON NEW CASTLE CNTY AP","4A",4684,1479,19.899999999999999,78.8,0.12609999999999999,"39.673N",17.7,33.6,35.4,43.2,53.7,63,72.3,77,75.2,68.099999999999994,56.7,46.6,37.9,513,413,250,47,1,0,0,0,0,22,159,387,6,5,39,157,404,669,836,782,544,231,57,11,18.5,25.7,31.3,41.36,52.7,60.26,65.84,64.040000000000006,56.7,31.6,31.6,21.4,0.76744186046511631,0.19558325721347591,{"$f":"ROUNDDOWN((33.97238548+(2.143484655*3.14219615)+(0.00253108806*D262)+(-0.2767683543*J262)+(66.9384076*H262)+((3.14219615-3.14219615)^2*-1.607593659)+((J262-12.48681818)*(H262-0.2016890909)*-1.8168457)+8.4234),0)","v":65},{"$f":"ROUNDDOWN((2.975122788+(0.003896731237*D262)+(59.88697433*H262)+((D262-5520.854545)*(H262-0.2016890909)*0.01119327314)+5.3792),0)","v":34},17,{"$f":"ROUNDDOWN(BK262+5.9089,0)","v":22},{"$f":"IF(OR(C262=\"OA\",C262=\"OB\",C262=\"1B\",C262=\"1A\",C262=\"2A\",C262=\"2B\",C262=\"3A\",C262=\"3B\",C262=\"3C\"),TAN((LEFT(I262, 5)+VLOOKUP(C262,Main!$K$3:$L$21,2,FALSE))*PI()/180),IF(Checklist!$I$385=\"No\",TAN((LEFT(I262, 5)+VLOOKUP(C262,Main!$K$3:$L$21,2,FALSE))*PI()/180),\"NR\"))","v":"NR"},{"$f":"VLOOKUP(C262,Main!$A$49:$I$67,Main!$B$47,FALSE)","v":0.5},{"$f":"VLOOKUP(C262,Main!$A$49:$I$67,Main!$C$47,FALSE)","v":0.25},{"$f":"VLOOKUP(C262,Main!$A$49:$I$67,Main!$E$47,FALSE)&\":\"&\" \"&VLOOKUP(C262,Main!$A$49:$I$67,Main!$F$47,FALSE)","v":"Minimum HSPF:: 9.6"},{"$f":"VLOOKUP(C262,Main!$A$49:$I$67,Main!$G$47,FALSE)","v":18},{"$f":"VLOOKUP(C262,Main!$A$49:$I$67,Main!$H$47,FALSE)","v":3.1},{"$f":"VLOOKUP(C262,Main!$A$49:$I$67,Main!$I$47,FALSE)","v":16.100000000000001},3741]
["FL","CRESTVIEW BOB SIKES AP","2A",1883,1543,39.049999999999997,81.5,0.1104,"30.780N",27.4,50.1,52.6,58.7,65.7,73.099999999999994,79.900000000000006,80.900000000000006,80.900000000000006,76.8,67.3,57.3,51.6,131,64,20,1,0,0,0,0,0,1,25,95,133,137,290,471,716,897,959,958,805,536,246,144,44.2,47.66,44.4,54.5,61.3,69.98,72.5,69.62,71.599999999999994,54.7,54.7,44.8,0.6,0.24231127679403539,56,26,11,16,{"$f":"IF(OR(C263=\"OA\",C263=\"OB\",C263=\"1B\",C263=\"1A\",C263=\"2A\",C263=\"2B\",C263=\"3A\",C263=\"3B\",C263=\"3C\"),TAN((LEFT(I263, 5)+VLOOKUP(C263,Main!$K$3:$L$21,2,FALSE))*PI()/180),IF(Checklist!$I$385=\"No\",TAN((LEFT(I263, 5)+VLOOKUP(C263,Main!$K$3:$L$21,2,FALSE))*PI()/180),\"NR\"))","v":0.59564662938932256},{"$f":"VLOOKUP(C263,Main!$A$49:$I$67,Main!$B$47,FALSE)","v":0.6},{"$f":"VLOOKUP(C263,Main!$A$49:$I$67,Main!$C$47,FALSE)","v":0.25},{"$f":"VLOOKUP(C263,Main!$A$49:$I$67,Main!$E$47,FALSE)&\":\"&\" \"&VLOOKUP(C263,Main!$A$49:$I$67,Main!$F$47,FALSE)","v":"Minimum HSPF:: 9.6"},{"$f":"VLOOKUP(C263,Main!$A$49:$I$67,Main!$G$47,FALSE)","v":18},{"$f":"VLOOKUP(C263,Main!$A$49:$I$67,Main!$H$47,FALSE)","v":3.1},{"$f":"VLOOKUP(C263,Main!$A$49:$I$67,Main!$I$47,FALSE)","v":16.100000000000001},6292]
["FL","DAYTONA BEACH INTL AP","2A",728,1774,54,80.8,0.1104,"29.183N",39.6,59,61.1,64.7,69.7,75.5,79.900000000000006,81.5,81.599999999999994,79.8,74.099999999999994,66.5,61.4,24,11,3,0,0,0,0,0,0,0,1,12,302,320,459,590,791,897,978,979,893,747,495,365,47.3,50,55.9,58.1,65.8,71.239999999999995,72.319999999999993,73.22,71.2,58.5,58.5,52.7,"NR",0.34640274076893796,51,22,9,14,{"$f":"IF(OR(C264=\"OA\",C264=\"OB\",C264=\"1B\",C264=\"1A\",C264=\"2A\",C264=\"2B\",C264=\"3A\",C264=\"3B\",C264=\"3C\"),TAN((LEFT(I264, 5)+VLOOKUP(C264,Main!$K$3:$L$21,2,FALSE))*PI()/180),IF(Checklist!$I$385=\"No\",TAN((LEFT(I264, 5)+VLOOKUP(C264,Main!$K$3:$L$21,2,FALSE))*PI()/180),\"NR\"))","v":0.55842310302834719},{"$f":"VLOOKUP(C264,Main!$A$49:$I$67,Main!$B$47,FALSE)","v":0.6},{"$f":"VLOOKUP(C264,Main!$A$49:$I$67,Main!$C$47,FALSE)","v":0.25},{"$f":"VLOOKUP(C264,Main!$A$49:$I$67,Main!$E$47,FALSE)&\":\"&\" \"&VLOOKUP(C264,Main!$A$49:$I$67,Main!$F$47,FALSE)","v":"Minimum HSPF:: 9.6"},{"$f":"VLOOKUP(C264,Main!$A$49:$I$67,Main!$G$47,FALSE)","v":18},{"$f":"VLOOKUP(C264,Main!$A$49:$I$67,Main!$H$47,FALSE)","v":3.1},{"$f":"VLOOKUP(C264,Main!$A$49:$I$67,Main!$I$47,FALSE)","v":16.100000000000001},7816]
["FL","FORT LAUDERDALE","1A",170,1625,58.9,83.1,0.1104,"26.197N",49.8,67,69.5,71.7,75.400000000000006,79.099999999999994,82.1,83.4,83.9,82.4,79.099999999999994,73.099999999999994,69.8,2,0,0,0,0,0,0,0,0,0,0,1,528,547,672,762,901,962,1035,1052,971,902,693,616,56.3,57.2,65.099999999999994,63.32,64.400000000000006,73.040000000000006,74.3,72.319999999999993,72.3,63.3,63.3,56.3,"NR",0.5,49,21,{"$f":"ROUNDDOWN(-18.64576148+(5.900367721*3.14219615)+(0.002662134083*D265)+(38.92365332*H265)+((BT265-3890.577273)*(G265-78.59)*0.00005765875867)+((D265-5520.854545)*(H265-0.2016890909)*0.006047043516),0)","v":9},14,{"$f":"IF(OR(C265=\"OA\",C265=\"OB\",C265=\"1B\",C265=\"1A\",C265=\"2A\",C265=\"2B\",C265=\"3A\",C265=\"3B\",C265=\"3C\"),TAN((LEFT(I265, 5)+VLOOKUP(C265,Main!$K$3:$L$21,2,FALSE))*PI()/180),IF(Checklist!$I$385=\"No\",TAN((LEFT(I265, 5)+VLOOKUP(C265,Main!$K$3:$L$21,2,FALSE))*PI()/180),\"NR\"))","v":0.49184422947178774},{"$f":"VLOOKUP(C265,Main!$A$49:$I$67,Main!$B$47,FALSE)","v":0.6},{"$f":"VLOOKUP(C265,Main!$A$49:$I$67,Main!$C$47,FALSE)","v":0.25},{"$f":"VLOOKUP(C265,Main!$A$49:$I$67,Main!$E$47,FALSE)&\":\"&\" \"&VLOOKUP(C265,Main!$A$49:$I$67,Main!$F$47,FALSE)","v":"Minimum HSPF:: 9.6"},{"$f":"VLOOKUP(C265,Main!$A$49:$I$67,Main!$G$47,FALSE)","v":18},{"$f":"VLOOKUP(C265,Main!$A$49:$I$67,Main!$H$47,FALSE)","v":3.1},{"$f":"VLOOKUP(C265,Main!$A$49:$I$67,Main!$I$47,FALSE)","v":16.100000000000001},9641]
["FL","FORT LAUDERDALE HOLLYWOOD INT","1A",124,1793,63.7,82.9,0.1104,"26.072N",52,68.8,70.400000000000006,72.7,76.2,80,82.7,83.9,84.2,82.8,79.900000000000006,74.400000000000006,71,1,0,0,0,0,0,0,0,0,0,0,1,582,572,704,785,929,981,1052,1059,985,928,733,651,63,63.86,59.5,64.94,71.099999999999994,74.66,74.84,74.48,72.900000000000006,61.7,61.7,57.6,"NR",0.5,48,20,9,14,{"$f":"IF(OR(C266=\"OA\",C266=\"OB\",C266=\"1B\",C266=\"1A\",C266=\"2A\",C266=\"2B\",C266=\"3A\",C266=\"3B\",C266=\"3C\"),TAN((LEFT(I266, 5)+VLOOKUP(C266,Main!$K$3:$L$21,2,FALSE))*PI()/180),IF(Checklist!$I$385=\"No\",TAN((LEFT(I266, 5)+VLOOKUP(C266,Main!$K$3:$L$21,2,FALSE))*PI()/180),\"NR\"))","v":0.48924585052047354},{"$f":"VLOOKUP(C266,Main!$A$49:$I$67,Main!$B$47,FALSE)","v":0.6},{"$f":"VLOOKUP(C266,Main!$A$49:$I$67,Main!$C$47,FALSE)","v":0.25},{"$f":"VLOOKUP(C266,Main!$A$49:$I$67,Main!$E$47,FALSE)&\":\"&\" \"&VLOOKUP(C266,Main!$A$49:$I$67,Main!$F$47,FALSE)","v":"Minimum HSPF:: 9.6"},{"$f":"VLOOKUP(C266,Main!$A$49:$I$67,Main!$G$47,FALSE)","v":18},{"$f":"VLOOKUP(C266,Main!$A$49:$I$67,Main!$H$47,FALSE)","v":3.1},{"$f":"VLOOKUP(C266,Main!$A$49:$I$67,Main!$I$47,FALSE)","v":16.100000000000001},9961]
["FL","FORT MYERS PAGE FIELD","1A",267,1757,54.5,81.900000000000006,0.1104,"26.585N",46.6,64.900000000000006,66.900000000000006,69.8,74.099999999999994,79,82.1,82.9,83.2,82,77.599999999999994,71,66.8,4,1,0,0,0,0,0,0,0,0,0,1,464,475,615,723,900,962,1020,1030,960,857,629,523,54.5,56.48,59.7,63.86,68,73.22,73.760000000000005,74.66,73.900000000000006,66.7,66.7,56.8,"NR",0.45971204849709524,49,21,8,13,{"$f":"IF(OR(C267=\"OA\",C267=\"OB\",C267=\"1B\",C267=\"1A\",C267=\"2A\",C267=\"2B\",C267=\"3A\",C267=\"3B\",C267=\"3C\"),TAN((LEFT(I267, 5)+VLOOKUP(C267,Main!$K$3:$L$21,2,FALSE))*PI()/180),IF(Checklist!$I$385=\"No\",TAN((LEFT(I267, 5)+VLOOKUP(C267,Main!$K$3:$L$21,2,FALSE))*PI()/180),\"NR\"))","v":0.50032617528208279},{"$f":"VLOOKUP(C267,Main!$A$49:$I$67,Main!$B$47,FALSE)","v":0.6},{"$f":"VLOOKUP(C267,Main!$A$49:$I$67,Main!$C$47,FALSE)","v":0.25},{"$f":"VLOOKUP(C267,Main!$A$49:$I$67,Main!$E$47,FALSE)&\":\"&\" \"&VLOOKUP(C267,Main!$A$49:$I$67,Main!$F$47,FALSE)","v":"Minimum HSPF:: 9.6"},{"$f":"VLOOKUP(C267,Main!$A$49:$I$67,Main!$G$47,FALSE)","v":18},{"$f":"VLOOKUP(C267,Main!$A$49:$I$67,Main!$H$47,FALSE)","v":3.1},{"$f":"VLOOKUP(C267,Main!$A$49:$I$67,Main!$I$47,FALSE)","v":16.100000000000001},9158]
["FL","GAINESVILLE REGIONAL AP","2A",1148,1652,46.5,81,0.1104,"29.692N",33.200000000000003,55.3,58.2,62.6,68.2,74.900000000000006,79.5,81.099999999999994,81,78.3,71,62.3,56.9,54,24,8,0,0,0,0,0,0,0,7,35,218,252,398,546,773,886,965,961,850,651,375,249,47.1,48.56,53.8,57.2,65.7,69.62,72.680000000000007,73.94,69.099999999999994,52.7,52.7,44.2,"NR",0.28269648959304128,53,23,10,15,{"$f":"IF(OR(C268=\"OA\",C268=\"OB\",C268=\"1B\",C268=\"1A\",C268=\"2A\",C268=\"2B\",C268=\"3A\",C268=\"3B\",C268=\"3C\"),TAN((LEFT(I268, 5)+VLOOKUP(C268,Main!$K$3:$L$21,2,FALSE))*PI()/180),IF(Checklist!$I$385=\"No\",TAN((LEFT(I268, 5)+VLOOKUP(C268,Main!$K$3:$L$21,2,FALSE))*PI()/180),\"NR\"))","v":0.57015863641413245},{"$f":"VLOOKUP(C268,Main!$A$49:$I$67,Main!$B$47,FALSE)","v":0.6},{"$f":"VLOOKUP(C268,Main!$A$49:$I$67,Main!$C$47,FALSE)","v":0.25},{"$f":"VLOOKUP(C268,Main!$A$49:$I$67,Main!$E$47,FALSE)&\":\"&\" \"&VLOOKUP(C268,Main!$A$49:$I$67,Main!$F$47,FALSE)","v":"Minimum HSPF:: 9.6"},{"$f":"VLOOKUP(C268,Main!$A$49:$I$67,Main!$G$47,FALSE)","v":18},{"$f":"VLOOKUP(C268,Main!$A$49:$I$67,Main!$H$47,FALSE)","v":3.1},{"$f":"VLOOKUP(C268,Main!$A$49:$I$67,Main!$I$47,FALSE)","v":16.100000000000001},7124]
["FL","HOMESTEAD AFB","1A",144,1834,59.1,81.900000000000006,0.1104,"25.483N",50.2,67.400000000000006,69.5,71.900000000000006,75.099999999999994,78.599999999999994,81.599999999999994,82.8,83.1,81.900000000000006,78.8,73.099999999999994,70,1,0,0,0,0,0,0,0,0,0,0,1,539,547,678,752,887,949,1016,1026,958,891,694,622,50,55.22,63.5,62.24,71.2,73.760000000000005,75.2,73.760000000000005,74.8,62.6,62.6,60.4,"NR",0.5,49,21,8,13,{"$f":"IF(OR(C269=\"OA\",C269=\"OB\",C269=\"1B\",C269=\"1A\",C269=\"2A\",C269=\"2B\",C269=\"3A\",C269=\"3B\",C269=\"3C\"),TAN((LEFT(I269, 5)+VLOOKUP(C269,Main!$K$3:$L$21,2,FALSE))*PI()/180),IF(Checklist!$I$385=\"No\",TAN((LEFT(I269, 5)+VLOOKUP(C269,Main!$K$3:$L$21,2,FALSE))*PI()/180),\"NR\"))","v":0.47654712370243257},{"$f":"VLOOKUP(C269,Main!$A$49:$I$67,Main!$B$47,FALSE)","v":0.6},{"$f":"VLOOKUP(C269,Main!$A$49:$I$67,Main!$C$47,FALSE)","v":0.25},{"$f":"VLOOKUP(C269,Main!$A$49:$I$67,Main!$E$47,FALSE)&\":\"&\" \"&VLOOKUP(C269,Main!$A$49:$I$67,Main!$F$47,FALSE)","v":"Minimum HSPF:: 9.6"},{"$f":"VLOOKUP(C269,Main!$A$49:$I$67,Main!$G$47,FALSE)","v":18},{"$f":"VLOOKUP(C269,Main!$A$49:$I$67,Main!$H$47,FALSE)","v":3.1},{"$f":"VLOOKUP(C269,Main!$A$49:$I$67,Main!$I$47,FALSE)","v":16.100000000000001},9559]
["FL","JACKSONVILLE INTL ARPT","2A",1303,1658,46.3,81,0.1104,"30.495N",32.799999999999997,54,56.9,61.7,67.3,74.2,79.7,82,81.5,78,70.3,61.4,55.9,67,29,10,0,0,0,0,0,0,0,8,44,191,222,372,520,751,890,991,976,841,630,350,226,42.3,46.4,53.8,57.2,61.3,71.06,73.58,72.86,70.2,56.7,56.7,48.7,"NR",0.27948402948402945,54,24,10,15,{"$f":"IF(OR(C270=\"OA\",C270=\"OB\",C270=\"1B\",C270=\"1A\",C270=\"2A\",C270=\"2B\",C270=\"3A\",C270=\"3B\",C270=\"3C\"),TAN((LEFT(I270, 5)+VLOOKUP(C270,Main!$K$3:$L$21,2,FALSE))*PI()/180),IF(Checklist!$I$385=\"No\",TAN((LEFT(I270, 5)+VLOOKUP(C270,Main!$K$3:$L$21,2,FALSE))*PI()/180),\"NR\"))","v":0.58880994926702657},{"$f":"VLOOKUP(C270,Main!$A$49:$I$67,Main!$B$47,FALSE)","v":0.6},{"$f":"VLOOKUP(C270,Main!$A$49:$I$67,Main!$C$47,FALSE)","v":0.25},{"$f":"VLOOKUP(C270,Main!$A$49:$I$67,Main!$E$47,FALSE)&\":\"&\" \"&VLOOKUP(C270,Main!$A$49:$I$67,Main!$F$47,FALSE)","v":"Minimum HSPF:: 9.6"},{"$f":"VLOOKUP(C270,Main!$A$49:$I$67,Main!$G$47,FALSE)","v":18},{"$f":"VLOOKUP(C270,Main!$A$49:$I$67,Main!$H$47,FALSE)","v":3.1},{"$f":"VLOOKUP(C270,Main!$A$49:$I$67,Main!$I$47,FALSE)","v":16.100000000000001},6960]
["FL","JACKSONVILLE NAS","2A",946,1663,48.3,83.7,0.1104,"30.233N",37.5,56.5,59.5,64.400000000000006,70.5,77.3,81.900000000000006,83.9,83.6,80.8,73.400000000000006,64.599999999999994,58.8,42,15,5,0,0,0,0,0,0,0,3,24,244,281,452,616,847,957,1050,1042,924,726,440,297,49.8,49.1,57.2,57.2,66.400000000000006,71.959999999999994,73.760000000000005,73.400000000000006,69.599999999999994,50.9,50.9,46.9,"NR",0.32255206025697825,52,23,10,15,{"$f":"IF(OR(C271=\"OA\",C271=\"OB\",C271=\"1B\",C271=\"1A\",C271=\"2A\",C271=\"2B\",C271=\"3A\",C271=\"3B\",C271=\"3C\"),TAN((LEFT(I271, 5)+VLOOKUP(C271,Main!$K$3:$L$21,2,FALSE))*PI()/180),IF(Checklist!$I$385=\"No\",TAN((LEFT(I271, 5)+VLOOKUP(C271,Main!$K$3:$L$21,2,FALSE))*PI()/180),\"NR\"))","v":0.58271507469343664},{"$f":"VLOOKUP(C271,Main!$A$49:$I$67,Main!$B$47,FALSE)","v":0.6},{"$f":"VLOOKUP(C271,Main!$A$49:$I$67,Main!$C$47,FALSE)","v":0.25},{"$f":"VLOOKUP(C271,Main!$A$49:$I$67,Main!$E$47,FALSE)&\":\"&\" \"&VLOOKUP(C271,Main!$A$49:$I$67,Main!$F$47,FALSE)","v":"Minimum HSPF:: 9.6"},{"$f":"VLOOKUP(C271,Main!$A$49:$I$67,Main!$G$47,FALSE)","v":18},{"$f":"VLOOKUP(C271,Main!$A$49:$I$67,Main!$H$47,FALSE)","v":3.1},{"$f":"VLOOKUP(C271,Main!$A$49:$I$67,Main!$I$47,FALSE)","v":16.100000000000001},7876]
["FL","JACKSONVILLE/CRAIG","2A",1158,1555,51.65,84.4,0.1104,"30.336N",36.1,55,57.5,62,68,74.599999999999994,80,82.2,81.8,78.599999999999994,71.599999999999994,62.9,57.2,54,25,8,0,0,0,0,0,0,0,5,31,208,235,380,540,764,901,997,984,859,670,392,254,49.1,52.34,53.6,55.4,65.5,71.06,75.02,71.959999999999994,69.8,60.4,60.4,47.5,"NR",0.30839617046513595,53,23,10,15,{"$f":"IF(OR(C272=\"OA\",C272=\"OB\",C272=\"1B\",C272=\"1A\",C272=\"2A\",C272=\"2B\",C272=\"3A\",C272=\"3B\",C272=\"3C\"),TAN((LEFT(I272, 5)+VLOOKUP(C272,Main!$K$3:$L$21,2,FALSE))*PI()/180),IF(Checklist!$I$385=\"No\",TAN((LEFT(I272, 5)+VLOOKUP(C272,Main!$K$3:$L$21,2,FALSE))*PI()/180),\"NR\"))","v":0.58505542504500052},{"$f":"VLOOKUP(C272,Main!$A$49:$I$67,Main!$B$47,FALSE)","v":0.6},{"$f":"VLOOKUP(C272,Main!$A$49:$I$67,Main!$C$47,FALSE)","v":0.25},{"$f":"VLOOKUP(C272,Main!$A$49:$I$67,Main!$E$47,FALSE)&\":\"&\" \"&VLOOKUP(C272,Main!$A$49:$I$67,Main!$F$47,FALSE)","v":"Minimum HSPF:: 9.6"},{"$f":"VLOOKUP(C272,Main!$A$49:$I$67,Main!$G$47,FALSE)","v":18},{"$f":"VLOOKUP(C272,Main!$A$49:$I$67,Main!$H$47,FALSE)","v":3.1},{"$f":"VLOOKUP(C272,Main!$A$49:$I$67,Main!$I$47,FALSE)","v":16.100000000000001},7184]
["FL","KEY WEST INTL ARPT","1A",62,1320,62.4,82.9,0.1104,"24.555N",57.8,69.900000000000006,71.5,73.5,76.900000000000006,80.5,83.5,84.8,84.9,83.5,80.5,75.599999999999994,72,0,0,0,0,0,0,0,0,0,0,0,0,618,602,728,808,947,1004,1078,1083,1005,945,767,681,56.7,57.56,64.8,66.56,69.599999999999994,73.760000000000005,74.48,74.66,75.2,69.099999999999994,69.099999999999994,63.9,"NR",0.5,48,20,8,13,{"$f":"IF(OR(C273=\"OA\",C273=\"OB\",C273=\"1B\",C273=\"1A\",C273=\"2A\",C273=\"2B\",C273=\"3A\",C273=\"3B\",C273=\"3C\"),TAN((LEFT(I273, 5)+VLOOKUP(C273,Main!$K$3:$L$21,2,FALSE))*PI()/180),IF(Checklist!$I$385=\"No\",TAN((LEFT(I273, 5)+VLOOKUP(C273,Main!$K$3:$L$21,2,FALSE))*PI()/180),\"NR\"))","v":0.45678058031918056},{"$f":"VLOOKUP(C273,Main!$A$49:$I$67,Main!$B$47,FALSE)","v":0.6},{"$f":"VLOOKUP(C273,Main!$A$49:$I$67,Main!$C$47,FALSE)","v":0.25},{"$f":"VLOOKUP(C273,Main!$A$49:$I$67,Main!$E$47,FALSE)&\":\"&\" \"&VLOOKUP(C273,Main!$A$49:$I$67,Main!$F$47,FALSE)","v":"Minimum HSPF:: 9.6"},{"$f":"VLOOKUP(C273,Main!$A$49:$I$67,Main!$G$47,FALSE)","v":18},{"$f":"VLOOKUP(C273,Main!$A$49:$I$67,Main!$H$47,FALSE)","v":3.1},{"$f":"VLOOKUP(C273,Main!$A$49:$I$67,Main!$I$47,FALSE)","v":16.100000000000001},10266]
["FL","KEY WEST NAS","1A",60,1879,65.55,82.9,0.1104,"24.583N",57.6,70.099999999999994,72,73.8,77.3,80.7,83.6,84.7,84.9,83.6,80.599999999999994,75.400000000000006,72.400000000000006,0,0,0,0,0,0,0,0,0,0,0,0,622,615,738,820,951,1008,1077,1082,1009,947,762,695,59.2,61.52,63.9,65.12,73.2,73.400000000000006,74.48,76.099999999999994,75,67.3,67.3,63.9,"NR",0.5,48,20,8,13,{"$f":"IF(OR(C274=\"OA\",C274=\"OB\",C274=\"1B\",C274=\"1A\",C274=\"2A\",C274=\"2B\",C274=\"3A\",C274=\"3B\",C274=\"3C\"),TAN((LEFT(I274, 5)+VLOOKUP(C274,Main!$K$3:$L$21,2,FALSE))*PI()/180),IF(Checklist!$I$385=\"No\",TAN((LEFT(I274, 5)+VLOOKUP(C274,Main!$K$3:$L$21,2,FALSE))*PI()/180),\"NR\"))","v":0.45741357864505322},{"$f":"VLOOKUP(C274,Main!$A$49:$I$67,Main!$B$47,FALSE)","v":0.6},{"$f":"VLOOKUP(C274,Main!$A$49:$I$67,Main!$C$47,FALSE)","v":0.25},{"$f":"VLOOKUP(C274,Main!$A$49:$I$67,Main!$E$47,FALSE)&\":\"&\" \"&VLOOKUP(C274,Main!$A$49:$I$67,Main!$F$47,FALSE)","v":"Minimum HSPF:: 9.6"},{"$f":"VLOOKUP(C274,Main!$A$49:$I$67,Main!$G$47,FALSE)","v":18},{"$f":"VLOOKUP(C274,Main!$A$49:$I$67,Main!$H$47,FALSE)","v":3.1},{"$f":"VLOOKUP(C274,Main!$A$49:$I$67,Main!$I$47,FALSE)","v":16.100000000000001},10326]
["FL","MACDILL AFB","2A",491,1770,52.7,84.6,0.1104,"27.850N",43,61.2,64,67.900000000000006,72.8,78.5,82.2,82.9,83.2,81.900000000000006,76.3,68.400000000000006,64,16,3,0,0,0,0,0,0,0,0,0,6,362,395,554,683,884,967,1021,1030,957,816,551,441,47.5,50.72,51.3,59.36,70,70.88,73.94,72.5,72,54.7,54.7,50.9,"NR",0.39351351351351349,50,22,9,14,{"$f":"IF(OR(C275=\"OA\",C275=\"OB\",C275=\"1B\",C275=\"1A\",C275=\"2A\",C275=\"2B\",C275=\"3A\",C275=\"3B\",C275=\"3C\"),TAN((LEFT(I275, 5)+VLOOKUP(C275,Main!$K$3:$L$21,2,FALSE))*PI()/180),IF(Checklist!$I$385=\"No\",TAN((LEFT(I275, 5)+VLOOKUP(C275,Main!$K$3:$L$21,2,FALSE))*PI()/180),\"NR\"))","v":0.52835595227665333},{"$f":"VLOOKUP(C275,Main!$A$49:$I$67,Main!$B$47,FALSE)","v":0.6},{"$f":"VLOOKUP(C275,Main!$A$49:$I$67,Main!$C$47,FALSE)","v":0.25},{"$f":"VLOOKUP(C275,Main!$A$49:$I$67,Main!$E$47,FALSE)&\":\"&\" \"&VLOOKUP(C275,Main!$A$49:$I$67,Main!$F$47,FALSE)","v":"Minimum HSPF:: 9.6"},{"$f":"VLOOKUP(C275,Main!$A$49:$I$67,Main!$G$47,FALSE)","v":18},{"$f":"VLOOKUP(C275,Main!$A$49:$I$67,Main!$H$47,FALSE)","v":3.1},{"$f":"VLOOKUP(C275,Main!$A$49:$I$67,Main!$I$47,FALSE)","v":16.100000000000001},8661]
["FL","MARATHON AIRPORT","1A",84,1795,62.5,87.1,0.1104,"24.726N",55.9,69.7,72.099999999999994,74.599999999999994,78,81.5,84.4,85.2,85.6,84.2,81,75.099999999999994,72.099999999999994,1,0,0,0,0,0,0,0,0,0,0,0,612,620,762,841,977,1031,1090,1102,1025,962,753,685,62.1,57.38,70,67.099999999999994,71.599999999999994,74.12,78.8,77.36,74.3,69.599999999999994,69.599999999999994,63.5,"NR",0.5,48,20,10,15,{"$f":"IF(OR(C276=\"OA\",C276=\"OB\",C276=\"1B\",C276=\"1A\",C276=\"2A\",C276=\"2B\",C276=\"3A\",C276=\"3B\",C276=\"3C\"),TAN((LEFT(I276, 5)+VLOOKUP(C276,Main!$K$3:$L$21,2,FALSE))*PI()/180),IF(Checklist!$I$385=\"No\",TAN((LEFT(I276, 5)+VLOOKUP(C276,Main!$K$3:$L$21,2,FALSE))*PI()/180),\"NR\"))","v":0.46037159002122841},{"$f":"VLOOKUP(C276,Main!$A$49:$I$67,Main!$B$47,FALSE)","v":0.6},{"$f":"VLOOKUP(C276,Main!$A$49:$I$67,Main!$C$47,FALSE)","v":0.25},{"$f":"VLOOKUP(C276,Main!$A$49:$I$67,Main!$E$47,FALSE)&\":\"&\" \"&VLOOKUP(C276,Main!$A$49:$I$67,Main!$F$47,FALSE)","v":"Minimum HSPF:: 9.6"},{"$f":"VLOOKUP(C276,Main!$A$49:$I$67,Main!$G$47,FALSE)","v":18},{"$f":"VLOOKUP(C276,Main!$A$49:$I$67,Main!$H$47,FALSE)","v":3.1},{"$f":"VLOOKUP(C276,Main!$A$49:$I$67,Main!$I$47,FALSE)","v":16.100000000000001},10460]
["FL","MAYPORT NS","2A",1007,1687,54.05,81.900000000000006,0.1104,"30.400N",39,56,58.4,62.9,68.900000000000006,75.8,80.8,82.7,82.5,79.8,73.3,63.7,58.4,38,20,7,0,0,0,0,0,0,0,3,21,225,255,408,567,799,925,1014,1007,895,723,415,283,42.3,46.94,58.5,56.3,67.099999999999994,70.52,72.680000000000007,71.959999999999994,70.5,56.3,56.3,44.8,"NR",0.33923578751164951,52,23,10,15,{"$f":"IF(OR(C277=\"OA\",C277=\"OB\",C277=\"1B\",C277=\"1A\",C277=\"2A\",C277=\"2B\",C277=\"3A\",C277=\"3B\",C277=\"3C\"),TAN((LEFT(I277, 5)+VLOOKUP(C277,Main!$K$3:$L$21,2,FALSE))*PI()/180),IF(Checklist!$I$385=\"No\",TAN((LEFT(I277, 5)+VLOOKUP(C277,Main!$K$3:$L$21,2,FALSE))*PI()/180),\"NR\"))","v":0.58669651529843359},{"$f":"VLOOKUP(C277,Main!$A$49:$I$67,Main!$B$47,FALSE)","v":0.6},{"$f":"VLOOKUP(C277,Main!$A$49:$I$67,Main!$C$47,FALSE)","v":0.25},{"$f":"VLOOKUP(C277,Main!$A$49:$I$67,Main!$E$47,FALSE)&\":\"&\" \"&VLOOKUP(C277,Main!$A$49:$I$67,Main!$F$47,FALSE)","v":"Minimum HSPF:: 9.6"},{"$f":"VLOOKUP(C277,Main!$A$49:$I$67,Main!$G$47,FALSE)","v":18},{"$f":"VLOOKUP(C277,Main!$A$49:$I$67,Main!$H$47,FALSE)","v":3.1},{"$f":"VLOOKUP(C277,Main!$A$49:$I$67,Main!$I$47,FALSE)","v":16.100000000000001},7516]
["FL","MELBOURNE REGIONAL AP","2A",462,1722,58.95,80.400000000000006,0.1104,"28.101N",43,62.3,64.400000000000006,67.599999999999994,71.8,77.099999999999994,80.599999999999994,81.900000000000006,82,80.900000000000006,76.2,69.2,64.599999999999994,12,4,1,0,0,0,0,0,0,0,0,5,392,406,546,655,841,918,989,991,926,811,575,458,57.4,53.24,60.8,65.3,65.7,72.319999999999993,73.22,74.12,71.8,57.7,57.7,56.5,"NR",0.39351351351351349,50,21,8,13,{"$f":"IF(OR(C278=\"OA\",C278=\"OB\",C278=\"1B\",C278=\"1A\",C278=\"2A\",C278=\"2B\",C278=\"3A\",C278=\"3B\",C278=\"3C\"),TAN((LEFT(I278, 5)+VLOOKUP(C278,Main!$K$3:$L$21,2,FALSE))*PI()/180),IF(Checklist!$I$385=\"No\",TAN((LEFT(I278, 5)+VLOOKUP(C278,Main!$K$3:$L$21,2,FALSE))*PI()/180),\"NR\"))","v":0.53395027332721134},{"$f":"VLOOKUP(C278,Main!$A$49:$I$67,Main!$B$47,FALSE)","v":0.6},{"$f":"VLOOKUP(C278,Main!$A$49:$I$67,Main!$C$47,FALSE)","v":0.25},{"$f":"VLOOKUP(C278,Main!$A$49:$I$67,Main!$E$47,FALSE)&\":\"&\" \"&VLOOKUP(C278,Main!$A$49:$I$67,Main!$F$47,FALSE)","v":"Minimum HSPF:: 9.6"},{"$f":"VLOOKUP(C278,Main!$A$49:$I$67,Main!$G$47,FALSE)","v":18},{"$f":"VLOOKUP(C278,Main!$A$49:$I$67,Main!$H$47,FALSE)","v":3.1},{"$f":"VLOOKUP(C278,Main!$A$49:$I$67,Main!$I$47,FALSE)","v":16.100000000000001},8508]
["FL","MIAMI INTL AP","1A",113,1754,65.05,82.2,0.1104,"25.791N",52.6,68.8,70.5,72.7,76.2,80.099999999999994,82.5,83.9,84.1,82.8,79.7,74.400000000000006,70.8,1,0,0,0,0,0,0,0,0,0,0,0,582,573,704,786,932,976,1050,1056,983,922,732,646,56.5,57.02,59.2,63.32,69.3,72.86,73.040000000000006,73.400000000000006,72.7,65.3,65.3,60.3,"NR",0.5,48,20,8,13,{"$f":"IF(OR(C279=\"OA\",C279=\"OB\",C279=\"1B\",C279=\"1A\",C279=\"2A\",C279=\"2B\",C279=\"3A\",C279=\"3B\",C279=\"3C\"),TAN((LEFT(I279, 5)+VLOOKUP(C279,Main!$K$3:$L$21,2,FALSE))*PI()/180),IF(Checklist!$I$385=\"No\",TAN((LEFT(I279, 5)+VLOOKUP(C279,Main!$K$3:$L$21,2,FALSE))*PI()/180),\"NR\"))","v":0.48320358603365254},{"$f":"VLOOKUP(C279,Main!$A$49:$I$67,Main!$B$47,FALSE)","v":0.6},{"$f":"VLOOKUP(C279,Main!$A$49:$I$67,Main!$C$47,FALSE)","v":0.25},{"$f":"VLOOKUP(C279,Main!$A$49:$I$67,Main!$E$47,FALSE)&\":\"&\" \"&VLOOKUP(C279,Main!$A$49:$I$67,Main!$F$47,FALSE)","v":"Minimum HSPF:: 9.6"},{"$f":"VLOOKUP(C279,Main!$A$49:$I$67,Main!$G$47,FALSE)","v":18},{"$f":"VLOOKUP(C279,Main!$A$49:$I$67,Main!$H$47,FALSE)","v":3.1},{"$f":"VLOOKUP(C279,Main!$A$49:$I$67,Main!$I$47,FALSE)","v":16.100000000000001},9942]
["FL","MIAMI/KENDALL-TAMIA","1A",164,1729,58.4,80.599999999999994,0.1104,"25.648N",49.6,67.099999999999994,69,71.099999999999994,74.8,78.7,81.7,82.8,83.1,81.8,78.7,72.8,69.099999999999994,2,0,0,0,0,0,0,0,0,0,0,1,532,532,654,743,889,950,1017,1025,954,891,683,592,56.7,60.8,58.1,62.96,67.5,72.680000000000007,73.760000000000005,73.58,73,63.5,63.5,58.1,"NR",0.5,49,21,8,13,{"$f":"IF(OR(C280=\"OA\",C280=\"OB\",C280=\"1B\",C280=\"1A\",C280=\"2A\",C280=\"2B\",C280=\"3A\",C280=\"3B\",C280=\"3C\"),TAN((LEFT(I280, 5)+VLOOKUP(C280,Main!$K$3:$L$21,2,FALSE))*PI()/180),IF(Checklist!$I$385=\"No\",TAN((LEFT(I280, 5)+VLOOKUP(C280,Main!$K$3:$L$21,2,FALSE))*PI()/180),\"NR\"))","v":0.47997840057666102},{"$f":"VLOOKUP(C280,Main!$A$49:$I$67,Main!$B$47,FALSE)","v":0.6},{"$f":"VLOOKUP(C280,Main!$A$49:$I$67,Main!$C$47,FALSE)","v":0.25},{"$f":"VLOOKUP(C280,Main!$A$49:$I$67,Main!$E$47,FALSE)&\":\"&\" \"&VLOOKUP(C280,Main!$A$49:$I$67,Main!$F$47,FALSE)","v":"Minimum HSPF:: 9.6"},{"$f":"VLOOKUP(C280,Main!$A$49:$I$67,Main!$G$47,FALSE)","v":18},{"$f":"VLOOKUP(C280,Main!$A$49:$I$67,Main!$H$47,FALSE)","v":3.1},{"$f":"VLOOKUP(C280,Main!$A$49:$I$67,Main!$I$47,FALSE)","v":16.100000000000001},9462]
["FL","MIAMI/OPA LOCKA","1A",146,1791,63.6,91,0.1104,"25.907N",50.6,66.900000000000006,69.7,72,75.5,79.2,82.2,83.2,83.9,82.4,79.400000000000006,73.099999999999994,70,2,0,0,0,0,0,0,0,0,0,0,1,525,552,681,764,906,967,1030,1052,971,910,693,620,56.8,58.1,60.4,60.44,67.8,73.040000000000006,77.36,73.58,75,63.7,63.7,57.9,"NR",0.5,49,21,11,16,{"$f":"IF(OR(C281=\"OA\",C281=\"OB\",C281=\"1B\",C281=\"1A\",C281=\"2A\",C281=\"2B\",C281=\"3A\",C281=\"3B\",C281=\"3C\"),TAN((LEFT(I281, 5)+VLOOKUP(C281,Main!$K$3:$L$21,2,FALSE))*PI()/180),IF(Checklist!$I$385=\"No\",TAN((LEFT(I281, 5)+VLOOKUP(C281,Main!$K$3:$L$21,2,FALSE))*PI()/180),\"NR\"))","v":0.48557391041077913},{"$f":"VLOOKUP(C281,Main!$A$49:$I$67,Main!$B$47,FALSE)","v":0.6},{"$f":"VLOOKUP(C281,Main!$A$49:$I$67,Main!$C$47,FALSE)","v":0.25},{"$f":"VLOOKUP(C281,Main!$A$49:$I$67,Main!$E$47,FALSE)&\":\"&\" \"&VLOOKUP(C281,Main!$A$49:$I$67,Main!$F$47,FALSE)","v":"Minimum HSPF:: 9.6"},{"$f":"VLOOKUP(C281,Main!$A$49:$I$67,Main!$G$47,FALSE)","v":18},{"$f":"VLOOKUP(C281,Main!$A$49:$I$67,Main!$H$47,FALSE)","v":3.1},{"$f":"VLOOKUP(C281,Main!$A$49:$I$67,Main!$I$47,FALSE)","v":16.100000000000001},9671]
["FL","NAPLES MUNICIPAL","1A",273,1875,60.1,80.8,0.1104,"26.152N",47.5,64.5,66.400000000000006,69.599999999999994,73.5,78.099999999999994,81.3,82.2,82.6,81.7,78,71.099999999999994,66.7,4,1,0,0,0,0,0,0,0,0,0,2,454,460,608,704,872,938,998,1009,951,868,634,519,52,51.08,61,57.92,64.400000000000006,71.42,73.94,74.84,71.400000000000006,59.9,59.9,55.6,"NR",0.47989452867501642,49,21,8,13,{"$f":"IF(OR(C282=\"OA\",C282=\"OB\",C282=\"1B\",C282=\"1A\",C282=\"2A\",C282=\"2B\",C282=\"3A\",C282=\"3B\",C282=\"3C\"),TAN((LEFT(I282, 5)+VLOOKUP(C282,Main!$K$3:$L$21,2,FALSE))*PI()/180),IF(Checklist!$I$385=\"No\",TAN((LEFT(I282, 5)+VLOOKUP(C282,Main!$K$3:$L$21,2,FALSE))*PI()/180),\"NR\"))","v":0.49097750967694026},{"$f":"VLOOKUP(C282,Main!$A$49:$I$67,Main!$B$47,FALSE)","v":0.6},{"$f":"VLOOKUP(C282,Main!$A$49:$I$67,Main!$C$47,FALSE)","v":0.25},{"$f":"VLOOKUP(C282,Main!$A$49:$I$67,Main!$E$47,FALSE)&\":\"&\" \"&VLOOKUP(C282,Main!$A$49:$I$67,Main!$F$47,FALSE)","v":"Minimum HSPF:: 9.6"},{"$f":"VLOOKUP(C282,Main!$A$49:$I$67,Main!$G$47,FALSE)","v":18},{"$f":"VLOOKUP(C282,Main!$A$49:$I$67,Main!$H$47,FALSE)","v":3.1},{"$f":"VLOOKUP(C282,Main!$A$49:$I$67,Main!$I$47,FALSE)","v":16.100000000000001},9015]
["FL","NASA SHUTTLE FCLTY","2A",525,1722,55.3,79.900000000000006,0.1104,"28.617N",43.1,61.4,63.5,66.2,70.3,75.900000000000006,79.7,81.3,81.2,79.900000000000006,75.099999999999994,68.7,63.3,11,4,1,0,0,0,0,0,0,0,0,4,365,382,504,609,803,891,971,968,897,779,560,417,44.8,50.72,55.4,59.9,66.2,73.040000000000006,74.3,72.319999999999993,71.599999999999994,63.5,63.5,56.1,"NR",0.3950938890697927,50,22,8,13,{"$f":"IF(OR(C283=\"OA\",C283=\"OB\",C283=\"1B\",C283=\"1A\",C283=\"2A\",C283=\"2B\",C283=\"3A\",C283=\"3B\",C283=\"3C\"),TAN((LEFT(I283, 5)+VLOOKUP(C283,Main!$K$3:$L$21,2,FALSE))*PI()/180),IF(Checklist!$I$385=\"No\",TAN((LEFT(I283, 5)+VLOOKUP(C283,Main!$K$3:$L$21,2,FALSE))*PI()/180),\"NR\"))","v":0.54544413590113283},{"$f":"VLOOKUP(C283,Main!$A$49:$I$67,Main!$B$47,FALSE)","v":0.6},{"$f":"VLOOKUP(C283,Main!$A$49:$I$67,Main!$C$47,FALSE)","v":0.25},{"$f":"VLOOKUP(C283,Main!$A$49:$I$67,Main!$E$47,FALSE)&\":\"&\" \"&VLOOKUP(C283,Main!$A$49:$I$67,Main!$F$47,FALSE)","v":"Minimum HSPF:: 9.6"},{"$f":"VLOOKUP(C283,Main!$A$49:$I$67,Main!$G$47,FALSE)","v":18},{"$f":"VLOOKUP(C283,Main!$A$49:$I$67,Main!$H$47,FALSE)","v":3.1},{"$f":"VLOOKUP(C283,Main!$A$49:$I$67,Main!$I$47,FALSE)","v":16.100000000000001},8146]
["FL","OCALA MUNI (AWOS)","2A",1043,1822,38.35,79.5,0.1104,"29.167N",33.9,56.7,58.4,63.1,68.2,75.2,79.7,81,80.7,79,71.900000000000006,63.7,58.1,45,23,8,0,0,0,0,0,0,0,4,30,252,257,415,546,781,890,961,951,869,680,417,279,47.7,45.68,59.5,54.68,61.2,69.260000000000005,71.239999999999995,71.06,68,50.7,50.7,38.299999999999997,"NR",0.28849964333835298,53,23,9,14,{"$f":"IF(OR(C284=\"OA\",C284=\"OB\",C284=\"1B\",C284=\"1A\",C284=\"2A\",C284=\"2B\",C284=\"3A\",C284=\"3B\",C284=\"3C\"),TAN((LEFT(I284, 5)+VLOOKUP(C284,Main!$K$3:$L$21,2,FALSE))*PI()/180),IF(Checklist!$I$385=\"No\",TAN((LEFT(I284, 5)+VLOOKUP(C284,Main!$K$3:$L$21,2,FALSE))*PI()/180),\"NR\"))","v":0.55796527497725779},{"$f":"VLOOKUP(C284,Main!$A$49:$I$67,Main!$B$47,FALSE)","v":0.6},{"$f":"VLOOKUP(C284,Main!$A$49:$I$67,Main!$C$47,FALSE)","v":0.25},{"$f":"VLOOKUP(C284,Main!$A$49:$I$67,Main!$E$47,FALSE)&\":\"&\" \"&VLOOKUP(C284,Main!$A$49:$I$67,Main!$F$47,FALSE)","v":"Minimum HSPF:: 9.6"},{"$f":"VLOOKUP(C284,Main!$A$49:$I$67,Main!$G$47,FALSE)","v":18},{"$f":"VLOOKUP(C284,Main!$A$49:$I$67,Main!$H$47,FALSE)","v":3.1},{"$f":"VLOOKUP(C284,Main!$A$49:$I$67,Main!$I$47,FALSE)","v":16.100000000000001},7298]
["FL","ORLANDO EXECUTIVE AP","2A",505,1694,53,81.900000000000006,0.1104,"28.545N",43.2,61.4,63.9,67.400000000000006,72.2,77.900000000000006,81.5,83.1,83.1,81.3,75.900000000000006,68.3,63.4,14,5,1,0,0,0,0,0,0,0,0,7,367,393,539,665,866,944,1026,1025,939,804,549,422,42.8,52.34,58.5,62.96,66.900000000000006,70.52,72.5,72.680000000000007,70.900000000000006,55,55,48.9,"NR",0.39668700959023545,50,22,9,14,{"$f":"IF(OR(C285=\"OA\",C285=\"OB\",C285=\"1B\",C285=\"1A\",C285=\"2A\",C285=\"2B\",C285=\"3A\",C285=\"3B\",C285=\"3C\"),TAN((LEFT(I285, 5)+VLOOKUP(C285,Main!$K$3:$L$21,2,FALSE))*PI()/180),IF(Checklist!$I$385=\"No\",TAN((LEFT(I285, 5)+VLOOKUP(C285,Main!$K$3:$L$21,2,FALSE))*PI()/180),\"NR\"))","v":0.54385998410728997},{"$f":"VLOOKUP(C285,Main!$A$49:$I$67,Main!$B$47,FALSE)","v":0.6},{"$f":"VLOOKUP(C285,Main!$A$49:$I$67,Main!$C$47,FALSE)","v":0.25},{"$f":"VLOOKUP(C285,Main!$A$49:$I$67,Main!$E$47,FALSE)&\":\"&\" \"&VLOOKUP(C285,Main!$A$49:$I$67,Main!$F$47,FALSE)","v":"Minimum HSPF:: 9.6"},{"$f":"VLOOKUP(C285,Main!$A$49:$I$67,Main!$G$47,FALSE)","v":18},{"$f":"VLOOKUP(C285,Main!$A$49:$I$67,Main!$H$47,FALSE)","v":3.1},{"$f":"VLOOKUP(C285,Main!$A$49:$I$67,Main!$I$47,FALSE)","v":16.100000000000001},8539]
["FL","ORLANDO INTL ARPT","2A",529,1645,50.35,81,0.1104,"28.434N",42.3,61,63.5,67.099999999999994,71.8,77.400000000000006,81,82.5,82.6,80.8,75.2,67.900000000000006,63.1,14,5,1,0,0,0,0,0,0,0,0,7,356,384,531,655,851,930,1007,1010,925,780,537,414,51.1,50.9,53.4,59.36,66,72.5,73.58,74.12,71.400000000000006,61.2,61.2,53.8,"NR",0.38279524660847614,51,22,8,13,{"$f":"IF(OR(C286=\"OA\",C286=\"OB\",C286=\"1B\",C286=\"1A\",C286=\"2A\",C286=\"2B\",C286=\"3A\",C286=\"3B\",C286=\"3C\"),TAN((LEFT(I286, 5)+VLOOKUP(C286,Main!$K$3:$L$21,2,FALSE))*PI()/180),IF(Checklist!$I$385=\"No\",TAN((LEFT(I286, 5)+VLOOKUP(C286,Main!$K$3:$L$21,2,FALSE))*PI()/180),\"NR\"))","v":0.54137484979123063},{"$f":"VLOOKUP(C286,Main!$A$49:$I$67,Main!$B$47,FALSE)","v":0.6},{"$f":"VLOOKUP(C286,Main!$A$49:$I$67,Main!$C$47,FALSE)","v":0.25},{"$f":"VLOOKUP(C286,Main!$A$49:$I$67,Main!$E$47,FALSE)&\":\"&\" \"&VLOOKUP(C286,Main!$A$49:$I$67,Main!$F$47,FALSE)","v":"Minimum HSPF:: 9.6"},{"$f":"VLOOKUP(C286,Main!$A$49:$I$67,Main!$G$47,FALSE)","v":18},{"$f":"VLOOKUP(C286,Main!$A$49:$I$67,Main!$H$47,FALSE)","v":3.1},{"$f":"VLOOKUP(C286,Main!$A$49:$I$67,Main!$I$47,FALSE)","v":16.100000000000001},8380]
["FL","ORLANDO SANFORD AIRPORT","2A",617,1829,53.05,82.8,0.1104,"28.780N",40.9,60,62.4,66.2,71.5,77.2,81.2,82.8,82.8,80.599999999999994,74.8,67.400000000000006,62.2,19,8,2,0,0,0,0,0,0,0,0,10,328,354,504,644,844,936,1017,1018,918,768,522,387,51.1,52.7,47.7,55.4,63.1,68.72,73.040000000000006,72.680000000000007,69.099999999999994,54.9,54.9,50,"NR",0.36301984641468027,51,22,9,14,{"$f":"IF(OR(C287=\"OA\",C287=\"OB\",C287=\"1B\",C287=\"1A\",C287=\"2A\",C287=\"2B\",C287=\"3A\",C287=\"3B\",C287=\"3C\"),TAN((LEFT(I287, 5)+VLOOKUP(C287,Main!$K$3:$L$21,2,FALSE))*PI()/180),IF(Checklist!$I$385=\"No\",TAN((LEFT(I287, 5)+VLOOKUP(C287,Main!$K$3:$L$21,2,FALSE))*PI()/180),\"NR\"))","v":0.54930017530432573},{"$f":"VLOOKUP(C287,Main!$A$49:$I$67,Main!$B$47,FALSE)","v":0.6},{"$f":"VLOOKUP(C287,Main!$A$49:$I$67,Main!$C$47,FALSE)","v":0.25},{"$f":"VLOOKUP(C287,Main!$A$49:$I$67,Main!$E$47,FALSE)&\":\"&\" \"&VLOOKUP(C287,Main!$A$49:$I$67,Main!$F$47,FALSE)","v":"Minimum HSPF:: 9.6"},{"$f":"VLOOKUP(C287,Main!$A$49:$I$67,Main!$G$47,FALSE)","v":18},{"$f":"VLOOKUP(C287,Main!$A$49:$I$67,Main!$H$47,FALSE)","v":3.1},{"$f":"VLOOKUP(C287,Main!$A$49:$I$67,Main!$I$47,FALSE)","v":16.100000000000001},8240]
["FL","PANAMA CITY BAY CO","2A",1242,1704,45.4,83.1,0.1104,"30.212N",35.700000000000003,54,56,62.1,68.2,75.7,81.099999999999994,82.8,82.5,79.5,71.8,62.6,55.7,74,26,4,0,0,0,0,0,0,0,5,39,197,194,379,546,796,933,1015,1008,885,675,381,217,48.2,49.64,48.9,54.5,70.3,70.88,74.3,74.66,72.5,57.2,57.2,44.2,"NR",0.3045770228432767,53,24,10,15,{"$f":"IF(OR(C288=\"OA\",C288=\"OB\",C288=\"1B\",C288=\"1A\",C288=\"2A\",C288=\"2B\",C288=\"3A\",C288=\"3B\",C288=\"3C\"),TAN((LEFT(I288, 5)+VLOOKUP(C288,Main!$K$3:$L$21,2,FALSE))*PI()/180),IF(Checklist!$I$385=\"No\",TAN((LEFT(I288, 5)+VLOOKUP(C288,Main!$K$3:$L$21,2,FALSE))*PI()/180),\"NR\"))","v":0.5822475762125221},{"$f":"VLOOKUP(C288,Main!$A$49:$I$67,Main!$B$47,FALSE)","v":0.6},{"$f":"VLOOKUP(C288,Main!$A$49:$I$67,Main!$C$47,FALSE)","v":0.25},{"$f":"VLOOKUP(C288,Main!$A$49:$I$67,Main!$E$47,FALSE)&\":\"&\" \"&VLOOKUP(C288,Main!$A$49:$I$67,Main!$F$47,FALSE)","v":"Minimum HSPF:: 9.6"},{"$f":"VLOOKUP(C288,Main!$A$49:$I$67,Main!$G$47,FALSE)","v":18},{"$f":"VLOOKUP(C288,Main!$A$49:$I$67,Main!$H$47,FALSE)","v":3.1},{"$f":"VLOOKUP(C288,Main!$A$49:$I$67,Main!$I$47,FALSE)","v":16.100000000000001},7226]
["FL","PENSACOLA FOREST SHERMAN NAS","2A",1474,1764,48.3,83.1,0.1104,"30.350N",33.1,52.3,55.4,60.4,66.7,74.400000000000006,80.400000000000006,82.1,81.900000000000006,78.7,69.599999999999994,60,55.1,83,38,12,0,0,0,0,0,0,1,14,52,153,188,334,501,756,911,995,988,860,607,314,211,41.7,42.26,52,62.06,68.2,70.88,74.66,73.760000000000005,69.3,49.1,49.1,43,"NR",0.28188647099821884,54,24,11,16,{"$f":"IF(OR(C289=\"OA\",C289=\"OB\",C289=\"1B\",C289=\"1A\",C289=\"2A\",C289=\"2B\",C289=\"3A\",C289=\"3B\",C289=\"3C\"),TAN((LEFT(I289, 5)+VLOOKUP(C289,Main!$K$3:$L$21,2,FALSE))*PI()/180),IF(Checklist!$I$385=\"No\",TAN((LEFT(I289, 5)+VLOOKUP(C289,Main!$K$3:$L$21,2,FALSE))*PI()/180),\"NR\"))","v":0.58552406831981207},{"$f":"VLOOKUP(C289,Main!$A$49:$I$67,Main!$B$47,FALSE)","v":0.6},{"$f":"VLOOKUP(C289,Main!$A$49:$I$67,Main!$C$47,FALSE)","v":0.25},{"$f":"VLOOKUP(C289,Main!$A$49:$I$67,Main!$E$47,FALSE)&\":\"&\" \"&VLOOKUP(C289,Main!$A$49:$I$67,Main!$F$47,FALSE)","v":"Minimum HSPF:: 9.6"},{"$f":"VLOOKUP(C289,Main!$A$49:$I$67,Main!$G$47,FALSE)","v":18},{"$f":"VLOOKUP(C289,Main!$A$49:$I$67,Main!$H$47,FALSE)","v":3.1},{"$f":"VLOOKUP(C289,Main!$A$49:$I$67,Main!$I$47,FALSE)","v":16.100000000000001},6818]
["FL","PENSACOLA REGIONAL AP","2A",1422,1620,47.3,81.3,0.1104,"30.478N",33.799999999999997,52.6,55.6,61.3,67.400000000000006,75.2,81,82.4,82.2,78.900000000000006,70,60.4,54.4,81,37,10,0,0,0,0,0,0,0,11,55,161,193,360,522,780,931,1005,998,866,621,323,193,43,48.38,53.2,62.42,70.7,70.34,74.12,73.22,64.8,55.9,55.9,50.4,"NR",0.28765607712976127,54,24,10,15,{"$f":"IF(OR(C290=\"OA\",C290=\"OB\",C290=\"1B\",C290=\"1A\",C290=\"2A\",C290=\"2B\",C290=\"3A\",C290=\"3B\",C290=\"3C\"),TAN((LEFT(I290, 5)+VLOOKUP(C290,Main!$K$3:$L$21,2,FALSE))*PI()/180),IF(Checklist!$I$385=\"No\",TAN((LEFT(I290, 5)+VLOOKUP(C290,Main!$K$3:$L$21,2,FALSE))*PI()/180),\"NR\"))","v":0.58833995985836718},{"$f":"VLOOKUP(C290,Main!$A$49:$I$67,Main!$B$47,FALSE)","v":0.6},{"$f":"VLOOKUP(C290,Main!$A$49:$I$67,Main!$C$47,FALSE)","v":0.25},{"$f":"VLOOKUP(C290,Main!$A$49:$I$67,Main!$E$47,FALSE)&\":\"&\" \"&VLOOKUP(C290,Main!$A$49:$I$67,Main!$F$47,FALSE)","v":"Minimum HSPF:: 9.6"},{"$f":"VLOOKUP(C290,Main!$A$49:$I$67,Main!$G$47,FALSE)","v":18},{"$f":"VLOOKUP(C290,Main!$A$49:$I$67,Main!$H$47,FALSE)","v":3.1},{"$f":"VLOOKUP(C290,Main!$A$49:$I$67,Main!$I$47,FALSE)","v":16.100000000000001},6953]
["FL","SARASOTA BRADENTON","2A",456,1774,57.65,79.7,0.1104,"27.401N",44.1,61.9,63.9,67.2,71.599999999999994,77.2,81,82.5,82.7,81.400000000000006,76.3,69,64.2,11,3,0,0,0,0,0,0,0,0,0,4,378,393,533,648,842,930,1006,1013,942,817,570,445,47.5,53.24,59.7,60.44,67.099999999999994,71.42,75.02,73.94,72.7,59.7,59.7,58.6,"NR",0.41162501413547437,50,21,8,13,{"$f":"IF(OR(C291=\"OA\",C291=\"OB\",C291=\"1B\",C291=\"1A\",C291=\"2A\",C291=\"2B\",C291=\"3A\",C291=\"3B\",C291=\"3C\"),TAN((LEFT(I291, 5)+VLOOKUP(C291,Main!$K$3:$L$21,2,FALSE))*PI()/180),IF(Checklist!$I$385=\"No\",TAN((LEFT(I291, 5)+VLOOKUP(C291,Main!$K$3:$L$21,2,FALSE))*PI()/180),\"NR\"))","v":0.51835076581056072},{"$f":"VLOOKUP(C291,Main!$A$49:$I$67,Main!$B$47,FALSE)","v":0.6},{"$f":"VLOOKUP(C291,Main!$A$49:$I$67,Main!$C$47,FALSE)","v":0.25},{"$f":"VLOOKUP(C291,Main!$A$49:$I$67,Main!$E$47,FALSE)&\":\"&\" \"&VLOOKUP(C291,Main!$A$49:$I$67,Main!$F$47,FALSE)","v":"Minimum HSPF:: 9.6"},{"$f":"VLOOKUP(C291,Main!$A$49:$I$67,Main!$G$47,FALSE)","v":18},{"$f":"VLOOKUP(C291,Main!$A$49:$I$67,Main!$H$47,FALSE)","v":3.1},{"$f":"VLOOKUP(C291,Main!$A$49:$I$67,Main!$I$47,FALSE)","v":16.100000000000001},8517]
["FL","SOUTHWEST FLORIDA I","1A",306,1701,61.25,80.400000000000006,0.1104,"26.536N",45.4,64.099999999999994,66.2,68.8,73.099999999999994,77.8,81.3,82.5,82.9,81.7,77.3,70.5,66.3,5,1,0,0,0,0,0,0,0,0,0,2,442,456,584,693,861,938,1007,1020,951,846,615,507,56.8,60.98,59.4,64.760000000000005,63.9,73.94,73.94,74.84,74.099999999999994,58.3,58.3,56.1,"NR",0.43530255919636446,50,21,8,13,{"$f":"IF(OR(C292=\"OA\",C292=\"OB\",C292=\"1B\",C292=\"1A\",C292=\"2A\",C292=\"2B\",C292=\"3A\",C292=\"3B\",C292=\"3C\"),TAN((LEFT(I292, 5)+VLOOKUP(C292,Main!$K$3:$L$21,2,FALSE))*PI()/180),IF(Checklist!$I$385=\"No\",TAN((LEFT(I292, 5)+VLOOKUP(C292,Main!$K$3:$L$21,2,FALSE))*PI()/180),\"NR\"))","v":0.49923553567999784},{"$f":"VLOOKUP(C292,Main!$A$49:$I$67,Main!$B$47,FALSE)","v":0.6},{"$f":"VLOOKUP(C292,Main!$A$49:$I$67,Main!$C$47,FALSE)","v":0.25},{"$f":"VLOOKUP(C292,Main!$A$49:$I$67,Main!$E$47,FALSE)&\":\"&\" \"&VLOOKUP(C292,Main!$A$49:$I$67,Main!$F$47,FALSE)","v":"Minimum HSPF:: 9.6"},{"$f":"VLOOKUP(C292,Main!$A$49:$I$67,Main!$G$47,FALSE)","v":18},{"$f":"VLOOKUP(C292,Main!$A$49:$I$67,Main!$H$47,FALSE)","v":3.1},{"$f":"VLOOKUP(C292,Main!$A$49:$I$67,Main!$I$47,FALSE)","v":16.100000000000001},8920]
["FL","ST LUCIE CO INTL","2A",449,1587,57.9,80.599999999999994,0.1104,"27.498N",41.9,61.5,64.599999999999994,67.5,71.400000000000006,76.3,79.900000000000006,81.099999999999994,81.599999999999994,80.099999999999994,75.8,69.2,65.3,12,3,0,0,0,0,0,0,0,0,0,6,370,413,543,643,816,898,966,980,902,801,576,482,47.1,57.38,55.4,56.3,65.8,73.22,73.760000000000005,74.3,71.099999999999994,59,59,56.1,"NR",0.37692865279072174,50,21,8,13,{"$f":"IF(OR(C293=\"OA\",C293=\"OB\",C293=\"1B\",C293=\"1A\",C293=\"2A\",C293=\"2B\",C293=\"3A\",C293=\"3B\",C293=\"3C\"),TAN((LEFT(I293, 5)+VLOOKUP(C293,Main!$K$3:$L$21,2,FALSE))*PI()/180),IF(Checklist!$I$385=\"No\",TAN((LEFT(I293, 5)+VLOOKUP(C293,Main!$K$3:$L$21,2,FALSE))*PI()/180),\"NR\"))","v":0.52034524109018943},{"$f":"VLOOKUP(C293,Main!$A$49:$I$67,Main!$B$47,FALSE)","v":0.6},{"$f":"VLOOKUP(C293,Main!$A$49:$I$67,Main!$C$47,FALSE)","v":0.25},{"$f":"VLOOKUP(C293,Main!$A$49:$I$67,Main!$E$47,FALSE)&\":\"&\" \"&VLOOKUP(C293,Main!$A$49:$I$67,Main!$F$47,FALSE)","v":"Minimum HSPF:: 9.6"},{"$f":"VLOOKUP(C293,Main!$A$49:$I$67,Main!$G$47,FALSE)","v":18},{"$f":"VLOOKUP(C293,Main!$A$49:$I$67,Main!$H$47,FALSE)","v":3.1},{"$f":"VLOOKUP(C293,Main!$A$49:$I$67,Main!$I$47,FALSE)","v":16.100000000000001},8390]
["FL","ST PETERSBURG ALBERT WHITTED","2A",374,1807,58.2,82.4,0.1104,"27.765N",47.7,61.9,64.5,68.8,74,79.3,82.9,83.9,84.4,82.5,77.599999999999994,69.8,64.900000000000006,9,1,0,0,0,0,0,0,0,0,0,2,377,408,583,720,908,986,1051,1066,975,857,594,463,54,55.76,53.6,58.1,68.2,73.040000000000006,76.099999999999994,74.84,73.400000000000006,56.3,56.3,62.1,"NR",0.48462255358807083,50,21,9,14,{"$f":"IF(OR(C294=\"OA\",C294=\"OB\",C294=\"1B\",C294=\"1A\",C294=\"2A\",C294=\"2B\",C294=\"3A\",C294=\"3B\",C294=\"3C\"),TAN((LEFT(I294, 5)+VLOOKUP(C294,Main!$K$3:$L$21,2,FALSE))*PI()/180),IF(Checklist!$I$385=\"No\",TAN((LEFT(I294, 5)+VLOOKUP(C294,Main!$K$3:$L$21,2,FALSE))*PI()/180),\"NR\"))","v":0.52634831699272833},{"$f":"VLOOKUP(C294,Main!$A$49:$I$67,Main!$B$47,FALSE)","v":0.6},{"$f":"VLOOKUP(C294,Main!$A$49:$I$67,Main!$C$47,FALSE)","v":0.25},{"$f":"VLOOKUP(C294,Main!$A$49:$I$67,Main!$E$47,FALSE)&\":\"&\" \"&VLOOKUP(C294,Main!$A$49:$I$67,Main!$F$47,FALSE)","v":"Minimum HSPF:: 9.6"},{"$f":"VLOOKUP(C294,Main!$A$49:$I$67,Main!$G$47,FALSE)","v":18},{"$f":"VLOOKUP(C294,Main!$A$49:$I$67,Main!$H$47,FALSE)","v":3.1},{"$f":"VLOOKUP(C294,Main!$A$49:$I$67,Main!$I$47,FALSE)","v":16.100000000000001},8988]
["FL","ST PETERSBURG CLEAR","2A",369,1787,51.05,83.3,0.1104,"27.750N",47.8,62.2,63.8,68.400000000000006,73.3,78.099999999999994,81.7,82.9,83.8,81.900000000000006,76.900000000000006,68.7,65.599999999999994,5,2,0,0,0,0,0,0,0,0,0,3,383,387,570,698,870,950,1019,1049,957,834,561,486,43.9,52.34,53.1,58.82,69.400000000000006,72.86,75.2,74.66,73.599999999999994,61,61,54.7,"NR",0.48702167514048689,50,21,9,14,{"$f":"IF(OR(C295=\"OA\",C295=\"OB\",C295=\"1B\",C295=\"1A\",C295=\"2A\",C295=\"2B\",C295=\"3A\",C295=\"3B\",C295=\"3C\"),TAN((LEFT(I295, 5)+VLOOKUP(C295,Main!$K$3:$L$21,2,FALSE))*PI()/180),IF(Checklist!$I$385=\"No\",TAN((LEFT(I295, 5)+VLOOKUP(C295,Main!$K$3:$L$21,2,FALSE))*PI()/180),\"NR\"))","v":0.52612545149203405},{"$f":"VLOOKUP(C295,Main!$A$49:$I$67,Main!$B$47,FALSE)","v":0.6},{"$f":"VLOOKUP(C295,Main!$A$49:$I$67,Main!$C$47,FALSE)","v":0.25},{"$f":"VLOOKUP(C295,Main!$A$49:$I$67,Main!$E$47,FALSE)&\":\"&\" \"&VLOOKUP(C295,Main!$A$49:$I$67,Main!$F$47,FALSE)","v":"Minimum HSPF:: 9.6"},{"$f":"VLOOKUP(C295,Main!$A$49:$I$67,Main!$G$47,FALSE)","v":18},{"$f":"VLOOKUP(C295,Main!$A$49:$I$67,Main!$H$47,FALSE)","v":3.1},{"$f":"VLOOKUP(C295,Main!$A$49:$I$67,Main!$I$47,FALSE)","v":16.100000000000001},8764]
["FL","TALLAHASSEE REGIONAL AP [ISIS]","2A",1493,1667,50.45,83.3,0.1104,"30.393N",29.7,52.4,55.3,61,67,74.900000000000006,80.5,82.2,82.1,78.7,69.599999999999994,59.9,54.1,86,40,12,0,0,0,0,0,0,1,13,61,160,189,354,510,771,916,997,995,860,609,309,190,40.6,42.08,50.4,53.96,63.9,71.599999999999994,73.760000000000005,71.06,67.5,53.4,53.4,42.4,"NR",0.25686260673205841,54,24,11,16,{"$f":"IF(OR(C296=\"OA\",C296=\"OB\",C296=\"1B\",C296=\"1A\",C296=\"2A\",C296=\"2B\",C296=\"3A\",C296=\"3B\",C296=\"3C\"),TAN((LEFT(I296, 5)+VLOOKUP(C296,Main!$K$3:$L$21,2,FALSE))*PI()/180),IF(Checklist!$I$385=\"No\",TAN((LEFT(I296, 5)+VLOOKUP(C296,Main!$K$3:$L$21,2,FALSE))*PI()/180),\"NR\"))","v":0.58646192992483148},{"$f":"VLOOKUP(C296,Main!$A$49:$I$67,Main!$B$47,FALSE)","v":0.6},{"$f":"VLOOKUP(C296,Main!$A$49:$I$67,Main!$C$47,FALSE)","v":0.25},{"$f":"VLOOKUP(C296,Main!$A$49:$I$67,Main!$E$47,FALSE)&\":\"&\" \"&VLOOKUP(C296,Main!$A$49:$I$67,Main!$F$47,FALSE)","v":"Minimum HSPF:: 9.6"},{"$f":"VLOOKUP(C296,Main!$A$49:$I$67,Main!$G$47,FALSE)","v":18},{"$f":"VLOOKUP(C296,Main!$A$49:$I$67,Main!$H$47,FALSE)","v":3.1},{"$f":"VLOOKUP(C296,Main!$A$49:$I$67,Main!$I$47,FALSE)","v":16.100000000000001},6860]
["FL","TAMPA INTERNATIONAL AP","2A",505,1814,52.8,82.8,0.1104,"27.962N",43.4,61.4,63.6,67.400000000000006,72.599999999999994,78.599999999999994,82,82.9,83.1,81.599999999999994,76.099999999999994,68.5,63.7,13,4,1,0,0,0,0,0,0,0,0,6,366,385,540,677,886,959,1019,1027,948,808,556,430,50.2,53.6,59.7,60.26,67.099999999999994,71.42,73.760000000000005,73.58,72.7,57.9,57.9,50.2,"NR",0.39991210722918036,50,22,9,14,{"$f":"IF(OR(C297=\"OA\",C297=\"OB\",C297=\"1B\",C297=\"1A\",C297=\"2A\",C297=\"2B\",C297=\"3A\",C297=\"3B\",C297=\"3C\"),TAN((LEFT(I297, 5)+VLOOKUP(C297,Main!$K$3:$L$21,2,FALSE))*PI()/180),IF(Checklist!$I$385=\"No\",TAN((LEFT(I297, 5)+VLOOKUP(C297,Main!$K$3:$L$21,2,FALSE))*PI()/180),\"NR\"))","v":0.53081425985815245},{"$f":"VLOOKUP(C297,Main!$A$49:$I$67,Main!$B$47,FALSE)","v":0.6},{"$f":"VLOOKUP(C297,Main!$A$49:$I$67,Main!$C$47,FALSE)","v":0.25},{"$f":"VLOOKUP(C297,Main!$A$49:$I$67,Main!$E$47,FALSE)&\":\"&\" \"&VLOOKUP(C297,Main!$A$49:$I$67,Main!$F$47,FALSE)","v":"Minimum HSPF:: 9.6"},{"$f":"VLOOKUP(C297,Main!$A$49:$I$67,Main!$G$47,FALSE)","v":18},{"$f":"VLOOKUP(C297,Main!$A$49:$I$67,Main!$H$47,FALSE)","v":3.1},{"$f":"VLOOKUP(C297,Main!$A$49:$I$67,Main!$I$47,FALSE)","v":16.100000000000001},8601]
["FL","TYNDALL AFB","2A",1324,1707,42.5,80.099999999999994,0.1104,"30.067N",35.5,53.1,56.2,61,67.2,74.5,79.900000000000006,81.900000000000006,81.8,79,70.900000000000006,61.4,55.6,69,29,9,0,0,0,0,0,0,0,6,40,165,202,351,515,759,898,990,987,871,647,350,214,39.4,46.22,46.9,55.22,63.3,69.62,73.58,72.86,70.2,48.7,48.7,43.2,"NR",0.30270270270270266,53,24,10,15,{"$f":"IF(OR(C298=\"OA\",C298=\"OB\",C298=\"1B\",C298=\"1A\",C298=\"2A\",C298=\"2B\",C298=\"3A\",C298=\"3B\",C298=\"3C\"),TAN((LEFT(I298, 5)+VLOOKUP(C298,Main!$K$3:$L$21,2,FALSE))*PI()/180),IF(Checklist!$I$385=\"No\",TAN((LEFT(I298, 5)+VLOOKUP(C298,Main!$K$3:$L$21,2,FALSE))*PI()/180),\"NR\"))","v":0.57874737779348739},{"$f":"VLOOKUP(C298,Main!$A$49:$I$67,Main!$B$47,FALSE)","v":0.6},{"$f":"VLOOKUP(C298,Main!$A$49:$I$67,Main!$C$47,FALSE)","v":0.25},{"$f":"VLOOKUP(C298,Main!$A$49:$I$67,Main!$E$47,FALSE)&\":\"&\" \"&VLOOKUP(C298,Main!$A$49:$I$67,Main!$F$47,FALSE)","v":"Minimum HSPF:: 9.6"},{"$f":"VLOOKUP(C298,Main!$A$49:$I$67,Main!$G$47,FALSE)","v":18},{"$f":"VLOOKUP(C298,Main!$A$49:$I$67,Main!$H$47,FALSE)","v":3.1},{"$f":"VLOOKUP(C298,Main!$A$49:$I$67,Main!$I$47,FALSE)","v":16.100000000000001},6949]
["FL","VALPARAISO EGLIN AFB","2A",1537,1693,38.9,82.2,0.1104,"30.483N",32,51.5,55.1,60.1,66.5,74.400000000000006,80.099999999999994,81.8,81.599999999999994,78.5,69.599999999999994,59.8,53.8,96,40,14,0,0,0,0,0,0,1,14,62,143,183,328,495,755,902,986,980,856,610,309,180,37.6,44.42,45.1,53.24,66.599999999999994,71.06,73.400000000000006,70.88,68.400000000000006,47.3,47.3,37.200000000000003,0.6,0.27327327327327322,54,25,11,16,{"$f":"IF(OR(C299=\"OA\",C299=\"OB\",C299=\"1B\",C299=\"1A\",C299=\"2A\",C299=\"2B\",C299=\"3A\",C299=\"3B\",C299=\"3C\"),TAN((LEFT(I299, 5)+VLOOKUP(C299,Main!$K$3:$L$21,2,FALSE))*PI()/180),IF(Checklist!$I$385=\"No\",TAN((LEFT(I299, 5)+VLOOKUP(C299,Main!$K$3:$L$21,2,FALSE))*PI()/180),\"NR\"))","v":0.58857493042270015},{"$f":"VLOOKUP(C299,Main!$A$49:$I$67,Main!$B$47,FALSE)","v":0.6},{"$f":"VLOOKUP(C299,Main!$A$49:$I$67,Main!$C$47,FALSE)","v":0.25},{"$f":"VLOOKUP(C299,Main!$A$49:$I$67,Main!$E$47,FALSE)&\":\"&\" \"&VLOOKUP(C299,Main!$A$49:$I$67,Main!$F$47,FALSE)","v":"Minimum HSPF:: 9.6"},{"$f":"VLOOKUP(C299,Main!$A$49:$I$67,Main!$G$47,FALSE)","v":18},{"$f":"VLOOKUP(C299,Main!$A$49:$I$67,Main!$H$47,FALSE)","v":3.1},{"$f":"VLOOKUP(C299,Main!$A$49:$I$67,Main!$I$47,FALSE)","v":16.100000000000001},6727]
["FL","VALPARAISO HURLBURT","2A",1525,1753,46.05,82.6,0.1104,"30.417N",32.200000000000003,52.2,54.8,59.7,66,73.599999999999994,79.8,81.7,81.400000000000006,78,69.3,59.4,54.9,86,42,13,0,0,0,0,0,0,1,15,53,156,177,313,482,732,895,984,973,841,598,297,205,39.700000000000003,45.32,45.3,59.18,67.3,70.7,75.56,71.959999999999994,68.900000000000006,46.9,46.9,43.5,"NR",0.2747999396044089,54,24,11,16,{"$f":"IF(OR(C300=\"OA\",C300=\"OB\",C300=\"1B\",C300=\"1A\",C300=\"2A\",C300=\"2B\",C300=\"3A\",C300=\"3B\",C300=\"3C\"),TAN((LEFT(I300, 5)+VLOOKUP(C300,Main!$K$3:$L$21,2,FALSE))*PI()/180),IF(Checklist!$I$385=\"No\",TAN((LEFT(I300, 5)+VLOOKUP(C300,Main!$K$3:$L$21,2,FALSE))*PI()/180),\"NR\"))","v":0.58693114871903596},{"$f":"VLOOKUP(C300,Main!$A$49:$I$67,Main!$B$47,FALSE)","v":0.6},{"$f":"VLOOKUP(C300,Main!$A$49:$I$67,Main!$C$47,FALSE)","v":0.25},{"$f":"VLOOKUP(C300,Main!$A$49:$I$67,Main!$E$47,FALSE)&\":\"&\" \"&VLOOKUP(C300,Main!$A$49:$I$67,Main!$F$47,FALSE)","v":"Minimum HSPF:: 9.6"},{"$f":"VLOOKUP(C300,Main!$A$49:$I$67,Main!$G$47,FALSE)","v":18},{"$f":"VLOOKUP(C300,Main!$A$49:$I$67,Main!$H$47,FALSE)","v":3.1},{"$f":"VLOOKUP(C300,Main!$A$49:$I$67,Main!$I$47,FALSE)","v":16.100000000000001},6653]
["FL","VERO BEACH MUNICIPAL ARPT","2A",414,1637,57.65,80.099999999999994,0.1104,"27.651N",43.2,62.8,64.8,67.8,71.7,76.599999999999994,80.3,81.5,81.8,80.599999999999994,76.400000000000006,69.900000000000006,65.3,9,3,1,0,0,0,0,0,0,0,0,4,407,419,551,652,826,908,978,985,918,819,596,478,58.5,54.68,58.5,66.38,68.400000000000006,70.88,73.400000000000006,73.22,72.3,62.1,62.1,58.1,"NR",0.39668700959023545,50,21,8,13,{"$f":"IF(OR(C301=\"OA\",C301=\"OB\",C301=\"1B\",C301=\"1A\",C301=\"2A\",C301=\"2B\",C301=\"3A\",C301=\"3B\",C301=\"3C\"),TAN((LEFT(I301, 5)+VLOOKUP(C301,Main!$K$3:$L$21,2,FALSE))*PI()/180),IF(Checklist!$I$385=\"No\",TAN((LEFT(I301, 5)+VLOOKUP(C301,Main!$K$3:$L$21,2,FALSE))*PI()/180),\"NR\"))","v":0.52389904332232762},{"$f":"VLOOKUP(C301,Main!$A$49:$I$67,Main!$B$47,FALSE)","v":0.6},{"$f":"VLOOKUP(C301,Main!$A$49:$I$67,Main!$C$47,FALSE)","v":0.25},{"$f":"VLOOKUP(C301,Main!$A$49:$I$67,Main!$E$47,FALSE)&\":\"&\" \"&VLOOKUP(C301,Main!$A$49:$I$67,Main!$F$47,FALSE)","v":"Minimum HSPF:: 9.6"},{"$f":"VLOOKUP(C301,Main!$A$49:$I$67,Main!$G$47,FALSE)","v":18},{"$f":"VLOOKUP(C301,Main!$A$49:$I$67,Main!$H$47,FALSE)","v":3.1},{"$f":"VLOOKUP(C301,Main!$A$49:$I$67,Main!$I$47,FALSE)","v":16.100000000000001},8537]
["FL","WHITING FIELD NAAS","2A",1580,1599,41.6,82.6,0.1104,"30.717N",31.6,51.6,55.2,60.7,66.5,74.400000000000006,80.599999999999994,81.900000000000006,81.8,78.2,68.5,58.3,54.2,92,44,16,0,0,0,0,0,0,1,20,63,143,191,348,496,757,919,990,986,845,576,269,193,45.9,45.32,44.4,55.22,64.400000000000006,69.98,73.58,71.599999999999994,67.3,53.8,53.8,41.2,0.6,0.27027027027027023,54,25,11,16,{"$f":"IF(OR(C302=\"OA\",C302=\"OB\",C302=\"1B\",C302=\"1A\",C302=\"2A\",C302=\"2B\",C302=\"3A\",C302=\"3B\",C302=\"3C\"),TAN((LEFT(I302, 5)+VLOOKUP(C302,Main!$K$3:$L$21,2,FALSE))*PI()/180),IF(Checklist!$I$385=\"No\",TAN((LEFT(I302, 5)+VLOOKUP(C302,Main!$K$3:$L$21,2,FALSE))*PI()/180),\"NR\"))","v":0.59399263798115165},{"$f":"VLOOKUP(C302,Main!$A$49:$I$67,Main!$B$47,FALSE)","v":0.6},{"$f":"VLOOKUP(C302,Main!$A$49:$I$67,Main!$C$47,FALSE)","v":0.25},{"$f":"VLOOKUP(C302,Main!$A$49:$I$67,Main!$E$47,FALSE)&\":\"&\" \"&VLOOKUP(C302,Main!$A$49:$I$67,Main!$F$47,FALSE)","v":"Minimum HSPF:: 9.6"},{"$f":"VLOOKUP(C302,Main!$A$49:$I$67,Main!$G$47,FALSE)","v":18},{"$f":"VLOOKUP(C302,Main!$A$49:$I$67,Main!$H$47,FALSE)","v":3.1},{"$f":"VLOOKUP(C302,Main!$A$49:$I$67,Main!$I$47,FALSE)","v":16.100000000000001},6713]
["GA","ALBANY DOUGHERTY COUNTY AP","2A",1746,1595,43.6,81.900000000000006,0.10780000000000001,"31.536N",29.6,50.5,53.5,59.7,66.400000000000006,74.599999999999994,80.3,82.4,81.8,77.7,68.099999999999994,58.3,52.1,113,55,18,1,0,0,0,0,0,1,19,83,128,154,320,493,761,910,1004,986,831,562,268,149,46,46.76,43.5,55.4,59,69.08,71.599999999999994,70.16,66.2,48.7,48.7,37.799999999999997,0.6,0.25619369369369366,55,25,11,16,{"$f":"IF(OR(C303=\"OA\",C303=\"OB\",C303=\"1B\",C303=\"1A\",C303=\"2A\",C303=\"2B\",C303=\"3A\",C303=\"3B\",C303=\"3C\"),TAN((LEFT(I303, 5)+VLOOKUP(C303,Main!$K$3:$L$21,2,FALSE))*PI()/180),IF(Checklist!$I$385=\"No\",TAN((LEFT(I303, 5)+VLOOKUP(C303,Main!$K$3:$L$21,2,FALSE))*PI()/180),\"NR\"))","v":0.61352124247620243},{"$f":"VLOOKUP(C303,Main!$A$49:$I$67,Main!$B$47,FALSE)","v":0.6},{"$f":"VLOOKUP(C303,Main!$A$49:$I$67,Main!$C$47,FALSE)","v":0.25},{"$f":"VLOOKUP(C303,Main!$A$49:$I$67,Main!$E$47,FALSE)&\":\"&\" \"&VLOOKUP(C303,Main!$A$49:$I$67,Main!$F$47,FALSE)","v":"Minimum HSPF:: 9.6"},{"$f":"VLOOKUP(C303,Main!$A$49:$I$67,Main!$G$47,FALSE)","v":18},{"$f":"VLOOKUP(C303,Main!$A$49:$I$67,Main!$H$47,FALSE)","v":3.1},{"$f":"VLOOKUP(C303,Main!$A$49:$I$67,Main!$I$47,FALSE)","v":16.100000000000001},6566]
["GA","ALMA BACON COUNTY AP","2A",1751,1715,42.25,84.2,0.10780000000000001,"31.536N",29.8,50.5,53,59.5,66.3,73.7,79.8,81.599999999999994,81.599999999999994,77.3,68,58.3,52.4,118,55,18,1,0,0,0,0,0,1,18,80,133,138,312,491,734,895,979,980,819,559,269,153,38.5,42.8,41.7,55.4,63,69.260000000000005,72.680000000000007,73.400000000000006,66.2,49.1,49.1,37.6,0.6,0.25753502193292765,55,25,11,16,{"$f":"IF(OR(C304=\"OA\",C304=\"OB\",C304=\"1B\",C304=\"1A\",C304=\"2A\",C304=\"2B\",C304=\"3A\",C304=\"3B\",C304=\"3C\"),TAN((LEFT(I304, 5)+VLOOKUP(C304,Main!$K$3:$L$21,2,FALSE))*PI()/180),IF(Checklist!$I$385=\"No\",TAN((LEFT(I304, 5)+VLOOKUP(C304,Main!$K$3:$L$21,2,FALSE))*PI()/180),\"NR\"))","v":0.61352124247620243},{"$f":"VLOOKUP(C304,Main!$A$49:$I$67,Main!$B$47,FALSE)","v":0.6},{"$f":"VLOOKUP(C304,Main!$A$49:$I$67,Main!$C$47,FALSE)","v":0.25},{"$f":"VLOOKUP(C304,Main!$A$49:$I$67,Main!$E$47,FALSE)&\":\"&\" \"&VLOOKUP(C304,Main!$A$49:$I$67,Main!$F$47,FALSE)","v":"Minimum HSPF:: 9.6"},{"$f":"VLOOKUP(C304,Main!$A$49:$I$67,Main!$G$47,FALSE)","v":18},{"$f":"VLOOKUP(C304,Main!$A$49:$I$67,Main!$H$47,FALSE)","v":3.1},{"$f":"VLOOKUP(C304,Main!$A$49:$I$67,Main!$I$47,FALSE)","v":16.100000000000001},6462]
["GA","ATHENS BEN EPPS AP","3A",2755,1651,30.6,80.8,0.10780000000000001,"33.948N",26.5,44.1,47.3,54.2,61.8,69.7,76.900000000000006,80.099999999999994,79.099999999999994,73.099999999999994,62.7,52.8,45.9,228,136,58,6,0,0,0,0,0,4,58,182,46,61,189,360,610,808,932,901,694,396,143,56,26.2,35.6,38.1,47.48,56.7,65.66,67.459999999999994,69.98,63.5,45.1,45.1,32.9,0.66527196652719667,0.23705633344187557,58,28,13,18,{"$f":"IF(OR(C305=\"OA\",C305=\"OB\",C305=\"1B\",C305=\"1A\",C305=\"2A\",C305=\"2B\",C305=\"3A\",C305=\"3B\",C305=\"3C\"),TAN((LEFT(I305, 5)+VLOOKUP(C305,Main!$K$3:$L$21,2,FALSE))*PI()/180),IF(Checklist!$I$385=\"No\",TAN((LEFT(I305, 5)+VLOOKUP(C305,Main!$K$3:$L$21,2,FALSE))*PI()/180),\"NR\"))","v":0.67298595936422967},{"$f":"VLOOKUP(C305,Main!$A$49:$I$67,Main!$B$47,FALSE)","v":0.6},{"$f":"VLOOKUP(C305,Main!$A$49:$I$67,Main!$C$47,FALSE)","v":0.25},{"$f":"VLOOKUP(C305,Main!$A$49:$I$67,Main!$E$47,FALSE)&\":\"&\" \"&VLOOKUP(C305,Main!$A$49:$I$67,Main!$F$47,FALSE)","v":"Minimum HSPF:: 9.6"},{"$f":"VLOOKUP(C305,Main!$A$49:$I$67,Main!$G$47,FALSE)","v":18},{"$f":"VLOOKUP(C305,Main!$A$49:$I$67,Main!$H$47,FALSE)","v":3.1},{"$f":"VLOOKUP(C305,Main!$A$49:$I$67,Main!$I$47,FALSE)","v":16.100000000000001},5196]
["GA","ATLANTA HARTSFIELD INTL AP","3A",2640,1687,30.2,81.5,0.10780000000000001,"33.640N",26.5,44.5,48,54.9,62.6,70.5,77.3,80.099999999999994,79.5,73.900000000000006,63.6,53.5,46.4,224,132,55,6,0,0,0,0,0,4,56,176,54,76,205,385,636,819,933,914,717,425,161,66,26.6,29.66,38.799999999999997,47.84,56.7,61.7,67.64,69.260000000000005,62.2,39.6,39.6,32.5,0.65957446808510634,0.23705633344187557,58,28,13,18,{"$f":"IF(OR(C306=\"OA\",C306=\"OB\",C306=\"1B\",C306=\"1A\",C306=\"2A\",C306=\"2B\",C306=\"3A\",C306=\"3B\",C306=\"3C\"),TAN((LEFT(I306, 5)+VLOOKUP(C306,Main!$K$3:$L$21,2,FALSE))*PI()/180),IF(Checklist!$I$385=\"No\",TAN((LEFT(I306, 5)+VLOOKUP(C306,Main!$K$3:$L$21,2,FALSE))*PI()/180),\"NR\"))","v":0.66540518331612453},{"$f":"VLOOKUP(C306,Main!$A$49:$I$67,Main!$B$47,FALSE)","v":0.6},{"$f":"VLOOKUP(C306,Main!$A$49:$I$67,Main!$C$47,FALSE)","v":0.25},{"$f":"VLOOKUP(C306,Main!$A$49:$I$67,Main!$E$47,FALSE)&\":\"&\" \"&VLOOKUP(C306,Main!$A$49:$I$67,Main!$F$47,FALSE)","v":"Minimum HSPF:: 9.6"},{"$f":"VLOOKUP(C306,Main!$A$49:$I$67,Main!$G$47,FALSE)","v":18},{"$f":"VLOOKUP(C306,Main!$A$49:$I$67,Main!$H$47,FALSE)","v":3.1},{"$f":"VLOOKUP(C306,Main!$A$49:$I$67,Main!$I$47,FALSE)","v":16.100000000000001},5391]
["GA","AUGUSTA BUSH FIELD","3A",2384,1694,42.8,80.599999999999994,0.10780000000000001,"33.364N",26.1,46.5,49.5,56.3,63.4,71.3,78.3,81.3,80.400000000000006,74.8,64.400000000000006,54.5,48,179,103,37,2,0,0,0,0,0,2,44,145,72,90,232,403,661,850,972,943,744,449,178,83,35.200000000000003,33.44,42.3,49.28,58.6,66.739999999999995,68.36,69.44,65.8,48,48,34.9,0.62790697674418605,0.23479326581951879,57,27,12,17,{"$f":"IF(OR(C307=\"OA\",C307=\"OB\",C307=\"1B\",C307=\"1A\",C307=\"2A\",C307=\"2B\",C307=\"3A\",C307=\"3B\",C307=\"3C\"),TAN((LEFT(I307, 5)+VLOOKUP(C307,Main!$K$3:$L$21,2,FALSE))*PI()/180),IF(Checklist!$I$385=\"No\",TAN((LEFT(I307, 5)+VLOOKUP(C307,Main!$K$3:$L$21,2,FALSE))*PI()/180),\"NR\"))","v":0.65837730522554661},{"$f":"VLOOKUP(C307,Main!$A$49:$I$67,Main!$B$47,FALSE)","v":0.6},{"$f":"VLOOKUP(C307,Main!$A$49:$I$67,Main!$C$47,FALSE)","v":0.25},{"$f":"VLOOKUP(C307,Main!$A$49:$I$67,Main!$E$47,FALSE)&\":\"&\" \"&VLOOKUP(C307,Main!$A$49:$I$67,Main!$F$47,FALSE)","v":"Minimum HSPF:: 9.6"},{"$f":"VLOOKUP(C307,Main!$A$49:$I$67,Main!$G$47,FALSE)","v":18},{"$f":"VLOOKUP(C307,Main!$A$49:$I$67,Main!$H$47,FALSE)","v":3.1},{"$f":"VLOOKUP(C307,Main!$A$49:$I$67,Main!$I$47,FALSE)","v":16.100000000000001},5677]
["GA","BRUNSWICK GOLDEN IS","2A",1554,1683,41.8,81.900000000000006,0.10780000000000001,"31.259N",31.6,52.1,54.3,60.4,67.2,74.3,80.5,82.8,82.1,77.900000000000006,69.3,60,54,95,46,14,1,0,0,0,0,0,0,12,59,159,165,336,517,752,916,1017,994,836,599,311,184,35.4,47.66,46.6,53.24,71.400000000000006,72.680000000000007,75.92,71.78,68.900000000000006,48.2,48.2,44.2,"NR",0.27027027027027023,54,25,11,16,{"$f":"IF(OR(C308=\"OA\",C308=\"OB\",C308=\"1B\",C308=\"1A\",C308=\"2A\",C308=\"2B\",C308=\"3A\",C308=\"3B\",C308=\"3C\"),TAN((LEFT(I308, 5)+VLOOKUP(C308,Main!$K$3:$L$21,2,FALSE))*PI()/180),IF(Checklist!$I$385=\"No\",TAN((LEFT(I308, 5)+VLOOKUP(C308,Main!$K$3:$L$21,2,FALSE))*PI()/180),\"NR\"))","v":0.60681489631459595},{"$f":"VLOOKUP(C308,Main!$A$49:$I$67,Main!$B$47,FALSE)","v":0.6},{"$f":"VLOOKUP(C308,Main!$A$49:$I$67,Main!$C$47,FALSE)","v":0.25},{"$f":"VLOOKUP(C308,Main!$A$49:$I$67,Main!$E$47,FALSE)&\":\"&\" \"&VLOOKUP(C308,Main!$A$49:$I$67,Main!$F$47,FALSE)","v":"Minimum HSPF:: 9.6"},{"$f":"VLOOKUP(C308,Main!$A$49:$I$67,Main!$G$47,FALSE)","v":18},{"$f":"VLOOKUP(C308,Main!$A$49:$I$67,Main!$H$47,FALSE)","v":3.1},{"$f":"VLOOKUP(C308,Main!$A$49:$I$67,Main!$I$47,FALSE)","v":16.100000000000001},6786]
["GA","BRUNSWICK MALCOLM MCKINNON AP","2A",1476,1623,42.6,81.900000000000006,0.10780000000000001,"31.152N",34.6,52.1,54.7,60.2,66.599999999999994,74.400000000000006,79.900000000000006,82.2,81.400000000000006,78,69.900000000000006,60.7,54.5,80,39,15,0,0,0,0,0,0,0,9,49,145,169,332,500,757,896,998,974,839,616,331,188,46.6,52.34,54.7,64.400000000000006,67.099999999999994,69.8,73.040000000000006,73.040000000000006,71.2,54.7,54.7,51.3,"NR",0.29454604304903709,54,24,10,15,{"$f":"IF(OR(C309=\"OA\",C309=\"OB\",C309=\"1B\",C309=\"1A\",C309=\"2A\",C309=\"2B\",C309=\"3A\",C309=\"3B\",C309=\"3C\"),TAN((LEFT(I309, 5)+VLOOKUP(C309,Main!$K$3:$L$21,2,FALSE))*PI()/180),IF(Checklist!$I$385=\"No\",TAN((LEFT(I309, 5)+VLOOKUP(C309,Main!$K$3:$L$21,2,FALSE))*PI()/180),\"NR\"))","v":0.60442941840629261},{"$f":"VLOOKUP(C309,Main!$A$49:$I$67,Main!$B$47,FALSE)","v":0.6},{"$f":"VLOOKUP(C309,Main!$A$49:$I$67,Main!$C$47,FALSE)","v":0.25},{"$f":"VLOOKUP(C309,Main!$A$49:$I$67,Main!$E$47,FALSE)&\":\"&\" \"&VLOOKUP(C309,Main!$A$49:$I$67,Main!$F$47,FALSE)","v":"Minimum HSPF:: 9.6"},{"$f":"VLOOKUP(C309,Main!$A$49:$I$67,Main!$G$47,FALSE)","v":18},{"$f":"VLOOKUP(C309,Main!$A$49:$I$67,Main!$H$47,FALSE)","v":3.1},{"$f":"VLOOKUP(C309,Main!$A$49:$I$67,Main!$I$47,FALSE)","v":16.100000000000001},6745]
["GA","COLUMBUS METROPOLITAN ARPT","3A",2047,1659,45.05,85.8,0.10780000000000001,"32.516N",29.6,48,51.6,58.1,65.2,73.2,79.599999999999994,82.3,81.7,76.7,66.5,56.6,49.8,148,77,24,1,0,0,0,0,0,1,26,111,87,121,276,457,720,889,1001,983,800,513,225,105,33.299999999999997,39.020000000000003,49.3,50.9,60.4,68.72,70.88,68,68.400000000000006,48.7,48.7,37.799999999999997,0.6,0.25619369369369366,56,26,12,17,{"$f":"IF(OR(C310=\"OA\",C310=\"OB\",C310=\"1B\",C310=\"1A\",C310=\"2A\",C310=\"2B\",C310=\"3A\",C310=\"3B\",C310=\"3C\"),TAN((LEFT(I310, 5)+VLOOKUP(C310,Main!$K$3:$L$21,2,FALSE))*PI()/180),IF(Checklist!$I$385=\"No\",TAN((LEFT(I310, 5)+VLOOKUP(C310,Main!$K$3:$L$21,2,FALSE))*PI()/180),\"NR\"))","v":0.63731565669491319},{"$f":"VLOOKUP(C310,Main!$A$49:$I$67,Main!$B$47,FALSE)","v":0.6},{"$f":"VLOOKUP(C310,Main!$A$49:$I$67,Main!$C$47,FALSE)","v":0.25},{"$f":"VLOOKUP(C310,Main!$A$49:$I$67,Main!$E$47,FALSE)&\":\"&\" \"&VLOOKUP(C310,Main!$A$49:$I$67,Main!$F$47,FALSE)","v":"Minimum HSPF:: 9.6"},{"$f":"VLOOKUP(C310,Main!$A$49:$I$67,Main!$G$47,FALSE)","v":18},{"$f":"VLOOKUP(C310,Main!$A$49:$I$67,Main!$H$47,FALSE)","v":3.1},{"$f":"VLOOKUP(C310,Main!$A$49:$I$67,Main!$I$47,FALSE)","v":16.100000000000001},6177]
["GA","DEKALB PEACHTREE","3A",2867,1438,33.200000000000003,86.2,0.10780000000000001,"33.875N",25.5,42.9,46.4,53.6,61.9,69.900000000000006,77.2,79.7,79.5,73.2,62.6,52.6,45,264,155,61,6,0,0,0,0,0,6,60,206,46,53,175,362,616,817,919,914,697,395,138,51,26.4,33.979999999999997,35.200000000000003,44.24,58.5,65.12,69.62,68.72,65.099999999999994,36.9,36.9,31.1,0.68127490039840644,0.23147853736089027,58,28,13,18,{"$f":"IF(OR(C311=\"OA\",C311=\"OB\",C311=\"1B\",C311=\"1A\",C311=\"2A\",C311=\"2B\",C311=\"3A\",C311=\"3B\",C311=\"3C\"),TAN((LEFT(I311, 5)+VLOOKUP(C311,Main!$K$3:$L$21,2,FALSE))*PI()/180),IF(Checklist!$I$385=\"No\",TAN((LEFT(I311, 5)+VLOOKUP(C311,Main!$K$3:$L$21,2,FALSE))*PI()/180),\"NR\"))","v":0.67121235220435005},{"$f":"VLOOKUP(C311,Main!$A$49:$I$67,Main!$B$47,FALSE)","v":0.6},{"$f":"VLOOKUP(C311,Main!$A$49:$I$67,Main!$C$47,FALSE)","v":0.25},{"$f":"VLOOKUP(C311,Main!$A$49:$I$67,Main!$E$47,FALSE)&\":\"&\" \"&VLOOKUP(C311,Main!$A$49:$I$67,Main!$F$47,FALSE)","v":"Minimum HSPF:: 9.6"},{"$f":"VLOOKUP(C311,Main!$A$49:$I$67,Main!$G$47,FALSE)","v":18},{"$f":"VLOOKUP(C311,Main!$A$49:$I$67,Main!$H$47,FALSE)","v":3.1},{"$f":"VLOOKUP(C311,Main!$A$49:$I$67,Main!$I$47,FALSE)","v":16.100000000000001},5183]
["GA","FORT BENNING LAWSON","3A",2312,1621,39.200000000000003,78.400000000000006,0.10780000000000001,"32.332N",25.9,46.6,50.6,56.7,63.1,71.7,78.400000000000006,80.900000000000006,80.2,75.099999999999994,64.8,54.9,48.3,175,92,30,3,0,0,0,0,0,2,41,140,69,109,237,396,672,851,959,936,754,462,189,86,31.6,36.5,38.5,46.76,63.1,66.2,68,69.260000000000005,64.400000000000006,41.4,41.4,32.700000000000003,0.62616822429906538,0.23367785838094624,57,27,12,17,{"$f":"IF(OR(C312=\"OA\",C312=\"OB\",C312=\"1B\",C312=\"1A\",C312=\"2A\",C312=\"2B\",C312=\"3A\",C312=\"3B\",C312=\"3C\"),TAN((LEFT(I312, 5)+VLOOKUP(C312,Main!$K$3:$L$21,2,FALSE))*PI()/180),IF(Checklist!$I$385=\"No\",TAN((LEFT(I312, 5)+VLOOKUP(C312,Main!$K$3:$L$21,2,FALSE))*PI()/180),\"NR\"))","v":0.63290685218104237},{"$f":"VLOOKUP(C312,Main!$A$49:$I$67,Main!$B$47,FALSE)","v":0.6},{"$f":"VLOOKUP(C312,Main!$A$49:$I$67,Main!$C$47,FALSE)","v":0.25},{"$f":"VLOOKUP(C312,Main!$A$49:$I$67,Main!$E$47,FALSE)&\":\"&\" \"&VLOOKUP(C312,Main!$A$49:$I$67,Main!$F$47,FALSE)","v":"Minimum HSPF:: 9.6"},{"$f":"VLOOKUP(C312,Main!$A$49:$I$67,Main!$G$47,FALSE)","v":18},{"$f":"VLOOKUP(C312,Main!$A$49:$I$67,Main!$H$47,FALSE)","v":3.1},{"$f":"VLOOKUP(C312,Main!$A$49:$I$67,Main!$I$47,FALSE)","v":16.100000000000001},5720]
["GA","FULTON CO ARPT BROW","3A",2807,1428,37.299999999999997,84,0.10780000000000001,"33.779N",25.7,43.9,47.2,53.9,61.6,69.5,76.7,79.599999999999994,78.900000000000006,73,62.5,52.3,45.7,235,140,58,6,0,0,0,0,0,5,65,190,44,62,180,355,604,800,919,897,690,392,133,56,31.5,38.479999999999997,45,55.94,60.8,65.84,68.72,69.08,64.900000000000006,38.1,38.1,29.3,0.6680497925311204,0.23257299853044536,58,28,13,18,{"$f":"IF(OR(C313=\"OA\",C313=\"OB\",C313=\"1B\",C313=\"1A\",C313=\"2A\",C313=\"2B\",C313=\"3A\",C313=\"3B\",C313=\"3C\"),TAN((LEFT(I313, 5)+VLOOKUP(C313,Main!$K$3:$L$21,2,FALSE))*PI()/180),IF(Checklist!$I$385=\"No\",TAN((LEFT(I313, 5)+VLOOKUP(C313,Main!$K$3:$L$21,2,FALSE))*PI()/180),\"NR\"))","v":0.66868366646154531},{"$f":"VLOOKUP(C313,Main!$A$49:$I$67,Main!$B$47,FALSE)","v":0.6},{"$f":"VLOOKUP(C313,Main!$A$49:$I$67,Main!$C$47,FALSE)","v":0.25},{"$f":"VLOOKUP(C313,Main!$A$49:$I$67,Main!$E$47,FALSE)&\":\"&\" \"&VLOOKUP(C313,Main!$A$49:$I$67,Main!$F$47,FALSE)","v":"Minimum HSPF:: 9.6"},{"$f":"VLOOKUP(C313,Main!$A$49:$I$67,Main!$G$47,FALSE)","v":18},{"$f":"VLOOKUP(C313,Main!$A$49:$I$67,Main!$H$47,FALSE)","v":3.1},{"$f":"VLOOKUP(C313,Main!$A$49:$I$67,Main!$I$47,FALSE)","v":16.100000000000001},5132]
["GA","HUNTER AAF","2A",1610,1667,39.049999999999997,81.7,0.10780000000000001,"32.017N",31.7,51,54.6,60.4,66.7,74.400000000000006,80.099999999999994,82.8,81.7,77.599999999999994,68.7,59.6,53.5,100,45,15,1,0,0,0,0,0,0,15,62,133,173,336,502,756,902,1018,982,827,579,302,171,36.1,40.82,43.3,48.56,65.099999999999994,69.08,73.760000000000005,71.06,68.5,47.1,47.1,34.299999999999997,0.6,0.27101481646936193,54,25,11,16,{"$f":"IF(OR(C314=\"OA\",C314=\"OB\",C314=\"1B\",C314=\"1A\",C314=\"2A\",C314=\"2B\",C314=\"3A\",C314=\"3B\",C314=\"3C\"),TAN((LEFT(I314, 5)+VLOOKUP(C314,Main!$K$3:$L$21,2,FALSE))*PI()/180),IF(Checklist!$I$385=\"No\",TAN((LEFT(I314, 5)+VLOOKUP(C314,Main!$K$3:$L$21,2,FALSE))*PI()/180),\"NR\"))","v":0.62511205973066641},{"$f":"VLOOKUP(C314,Main!$A$49:$I$67,Main!$B$47,FALSE)","v":0.6},{"$f":"VLOOKUP(C314,Main!$A$49:$I$67,Main!$C$47,FALSE)","v":0.25},{"$f":"VLOOKUP(C314,Main!$A$49:$I$67,Main!$E$47,FALSE)&\":\"&\" \"&VLOOKUP(C314,Main!$A$49:$I$67,Main!$F$47,FALSE)","v":"Minimum HSPF:: 9.6"},{"$f":"VLOOKUP(C314,Main!$A$49:$I$67,Main!$G$47,FALSE)","v":18},{"$f":"VLOOKUP(C314,Main!$A$49:$I$67,Main!$H$47,FALSE)","v":3.1},{"$f":"VLOOKUP(C314,Main!$A$49:$I$67,Main!$I$47,FALSE)","v":16.100000000000001},6681]
["GA","MACON MIDDLE GA REGIONAL AP","3A",2265,1683,41,84.4,0.10780000000000001,"32.685N",27.4,47.2,50.5,57,63.8,72,78.8,81.599999999999994,80.7,75.2,64.900000000000006,55.1,48.6,165,90,30,2,0,0,0,0,0,2,39,132,80,103,247,416,682,864,979,952,757,463,190,90,33.799999999999997,35.96,45,49.46,59.2,69.260000000000005,68.900000000000006,69.62,68.5,48.2,48.2,34.700000000000003,0.61538461538461531,0.24231127679403539,57,27,12,17,{"$f":"IF(OR(C315=\"OA\",C315=\"OB\",C315=\"1B\",C315=\"1A\",C315=\"2A\",C315=\"2B\",C315=\"3A\",C315=\"3B\",C315=\"3C\"),TAN((LEFT(I315, 5)+VLOOKUP(C315,Main!$K$3:$L$21,2,FALSE))*PI()/180),IF(Checklist!$I$385=\"No\",TAN((LEFT(I315, 5)+VLOOKUP(C315,Main!$K$3:$L$21,2,FALSE))*PI()/180),\"NR\"))","v":0.64149576743292902},{"$f":"VLOOKUP(C315,Main!$A$49:$I$67,Main!$B$47,FALSE)","v":0.6},{"$f":"VLOOKUP(C315,Main!$A$49:$I$67,Main!$C$47,FALSE)","v":0.25},{"$f":"VLOOKUP(C315,Main!$A$49:$I$67,Main!$E$47,FALSE)&\":\"&\" \"&VLOOKUP(C315,Main!$A$49:$I$67,Main!$F$47,FALSE)","v":"Minimum HSPF:: 9.6"},{"$f":"VLOOKUP(C315,Main!$A$49:$I$67,Main!$G$47,FALSE)","v":18},{"$f":"VLOOKUP(C315,Main!$A$49:$I$67,Main!$H$47,FALSE)","v":3.1},{"$f":"VLOOKUP(C315,Main!$A$49:$I$67,Main!$I$47,FALSE)","v":16.100000000000001},5823]
["GA","MARIETTA DOBBINS AFB","3A",2924,1496,31.1,80.2,0.10780000000000001,"33.917N",24.5,42.6,46.4,53.1,62.1,69.5,77,79.7,78.400000000000006,73,61.6,51.9,45.5,258,161,75,6,0,0,0,0,0,6,71,196,29,60,170,370,606,809,919,882,689,366,127,55,26.8,32,33.299999999999997,41.18,50.5,66.56,71.06,68.180000000000007,61.5,36.299999999999997,36.299999999999997,30.2,0.68503937007874016,0.22615719167443304,59,28,13,18,{"$f":"IF(OR(C316=\"OA\",C316=\"OB\",C316=\"1B\",C316=\"1A\",C316=\"2A\",C316=\"2B\",C316=\"3A\",C316=\"3B\",C316=\"3C\"),TAN((LEFT(I316, 5)+VLOOKUP(C316,Main!$K$3:$L$21,2,FALSE))*PI()/180),IF(Checklist!$I$385=\"No\",TAN((LEFT(I316, 5)+VLOOKUP(C316,Main!$K$3:$L$21,2,FALSE))*PI()/180),\"NR\"))","v":0.67222548531628989},{"$f":"VLOOKUP(C316,Main!$A$49:$I$67,Main!$B$47,FALSE)","v":0.6},{"$f":"VLOOKUP(C316,Main!$A$49:$I$67,Main!$C$47,FALSE)","v":0.25},{"$f":"VLOOKUP(C316,Main!$A$49:$I$67,Main!$E$47,FALSE)&\":\"&\" \"&VLOOKUP(C316,Main!$A$49:$I$67,Main!$F$47,FALSE)","v":"Minimum HSPF:: 9.6"},{"$f":"VLOOKUP(C316,Main!$A$49:$I$67,Main!$G$47,FALSE)","v":18},{"$f":"VLOOKUP(C316,Main!$A$49:$I$67,Main!$H$47,FALSE)","v":3.1},{"$f":"VLOOKUP(C316,Main!$A$49:$I$67,Main!$I$47,FALSE)","v":16.100000000000001},5082]
["GA","MOODY AFB/VALDOSTA","2A",1433,1631,47.1,82.6,0.10780000000000001,"30.967N",32.6,52.6,56.1,61.3,67.400000000000006,75.3,80.8,82.5,81.900000000000006,78,69.2,59.5,55,80,38,13,0,0,0,0,0,0,1,13,49,160,210,363,523,783,924,1009,990,841,597,298,205,33.4,42.44,44.1,50.54,59.4,69.44,72.86,69.44,66,46,46,38.1,"NR",0.27790502366773551,54,24,10,15,{"$f":"IF(OR(C317=\"OA\",C317=\"OB\",C317=\"1B\",C317=\"1A\",C317=\"2A\",C317=\"2B\",C317=\"3A\",C317=\"3B\",C317=\"3C\"),TAN((LEFT(I317, 5)+VLOOKUP(C317,Main!$K$3:$L$21,2,FALSE))*PI()/180),IF(Checklist!$I$385=\"No\",TAN((LEFT(I317, 5)+VLOOKUP(C317,Main!$K$3:$L$21,2,FALSE))*PI()/180),\"NR\"))","v":0.59991083666713718},{"$f":"VLOOKUP(C317,Main!$A$49:$I$67,Main!$B$47,FALSE)","v":0.6},{"$f":"VLOOKUP(C317,Main!$A$49:$I$67,Main!$C$47,FALSE)","v":0.25},{"$f":"VLOOKUP(C317,Main!$A$49:$I$67,Main!$E$47,FALSE)&\":\"&\" \"&VLOOKUP(C317,Main!$A$49:$I$67,Main!$F$47,FALSE)","v":"Minimum HSPF:: 9.6"},{"$f":"VLOOKUP(C317,Main!$A$49:$I$67,Main!$G$47,FALSE)","v":18},{"$f":"VLOOKUP(C317,Main!$A$49:$I$67,Main!$H$47,FALSE)","v":3.1},{"$f":"VLOOKUP(C317,Main!$A$49:$I$67,Main!$I$47,FALSE)","v":16.100000000000001},6903]
["GA","ROME R B RUSSELL AP","3A",3030,1545,35.9,79.900000000000006,0.10780000000000001,"34.348N",23.4,42.2,45.7,53.1,61.2,69.2,76.7,79.8,79.5,73,61.8,51.1,44.5,281,167,64,7,0,0,0,0,0,7,82,217,37,48,160,343,596,800,923,915,690,374,116,45,31.5,36.32,31.3,49.1,56.7,65.84,67.64,64.94,64.8,33.6,33.6,28.9,0.68992248062015504,0.22057932371833716,59,29,13,18,{"$f":"IF(OR(C318=\"OA\",C318=\"OB\",C318=\"1B\",C318=\"1A\",C318=\"2A\",C318=\"2B\",C318=\"3A\",C318=\"3B\",C318=\"3C\"),TAN((LEFT(I318, 5)+VLOOKUP(C318,Main!$K$3:$L$21,2,FALSE))*PI()/180),IF(Checklist!$I$385=\"No\",TAN((LEFT(I318, 5)+VLOOKUP(C318,Main!$K$3:$L$21,2,FALSE))*PI()/180),\"NR\"))","v":0.68317723288659538},{"$f":"VLOOKUP(C318,Main!$A$49:$I$67,Main!$B$47,FALSE)","v":0.6},{"$f":"VLOOKUP(C318,Main!$A$49:$I$67,Main!$C$47,FALSE)","v":0.25},{"$f":"VLOOKUP(C318,Main!$A$49:$I$67,Main!$E$47,FALSE)&\":\"&\" \"&VLOOKUP(C318,Main!$A$49:$I$67,Main!$F$47,FALSE)","v":"Minimum HSPF:: 9.6"},{"$f":"VLOOKUP(C318,Main!$A$49:$I$67,Main!$G$47,FALSE)","v":18},{"$f":"VLOOKUP(C318,Main!$A$49:$I$67,Main!$H$47,FALSE)","v":3.1},{"$f":"VLOOKUP(C318,Main!$A$49:$I$67,Main!$I$47,FALSE)","v":16.100000000000001},5047]
["GA","SAVANNAH INTL AP","2A",1723,1677,37.549999999999997,82.6,0.10780000000000001,"32.130N",30.8,50.7,53.6,59.5,66.2,73.5,79.599999999999994,82.4,81.5,77.099999999999994,68.099999999999994,58.7,52.6,106,52,18,1,0,0,0,0,0,0,17,75,127,152,313,485,730,889,1005,977,812,560,278,156,38.799999999999997,41.18,50.4,50.9,60.1,70.7,72.680000000000007,71.599999999999994,69.099999999999994,51.6,51.6,39.6,0.6,0.26445800639349021,55,25,11,16,{"$f":"IF(OR(C319=\"OA\",C319=\"OB\",C319=\"1B\",C319=\"1A\",C319=\"2A\",C319=\"2B\",C319=\"3A\",C319=\"3B\",C319=\"3C\"),TAN((LEFT(I319, 5)+VLOOKUP(C319,Main!$K$3:$L$21,2,FALSE))*PI()/180),IF(Checklist!$I$385=\"No\",TAN((LEFT(I319, 5)+VLOOKUP(C319,Main!$K$3:$L$21,2,FALSE))*PI()/180),\"NR\"))","v":0.62802869413254969},{"$f":"VLOOKUP(C319,Main!$A$49:$I$67,Main!$B$47,FALSE)","v":0.6},{"$f":"VLOOKUP(C319,Main!$A$49:$I$67,Main!$C$47,FALSE)","v":0.25},{"$f":"VLOOKUP(C319,Main!$A$49:$I$67,Main!$E$47,FALSE)&\":\"&\" \"&VLOOKUP(C319,Main!$A$49:$I$67,Main!$F$47,FALSE)","v":"Minimum HSPF:: 9.6"},{"$f":"VLOOKUP(C319,Main!$A$49:$I$67,Main!$G$47,FALSE)","v":18},{"$f":"VLOOKUP(C319,Main!$A$49:$I$67,Main!$H$47,FALSE)","v":3.1},{"$f":"VLOOKUP(C319,Main!$A$49:$I$67,Main!$I$47,FALSE)","v":16.100000000000001},6484]
["GA","VALDOSTA WB AIRPORT","2A",1477,1611,46.95,85.5,0.10780000000000001,"30.783N",30.8,52.5,55.7,61.2,67,74.7,80.3,82.3,81.900000000000006,78,69.2,59.8,54.4,85,38,13,1,0,0,0,0,0,1,13,61,161,196,361,512,766,908,1001,990,840,595,308,197,50.5,39.74,50.5,62.06,64,71.78,73.94,74.66,67.5,50.5,50.5,41.5,"NR",0.26445800639349021,54,24,11,16,{"$f":"IF(OR(C320=\"OA\",C320=\"OB\",C320=\"1B\",C320=\"1A\",C320=\"2A\",C320=\"2B\",C320=\"3A\",C320=\"3B\",C320=\"3C\"),TAN((LEFT(I320, 5)+VLOOKUP(C320,Main!$K$3:$L$21,2,FALSE))*PI()/180),IF(Checklist!$I$385=\"No\",TAN((LEFT(I320, 5)+VLOOKUP(C320,Main!$K$3:$L$21,2,FALSE))*PI()/180),\"NR\"))","v":0.59564662938932256},{"$f":"VLOOKUP(C320,Main!$A$49:$I$67,Main!$B$47,FALSE)","v":0.6},{"$f":"VLOOKUP(C320,Main!$A$49:$I$67,Main!$C$47,FALSE)","v":0.25},{"$f":"VLOOKUP(C320,Main!$A$49:$I$67,Main!$E$47,FALSE)&\":\"&\" \"&VLOOKUP(C320,Main!$A$49:$I$67,Main!$F$47,FALSE)","v":"Minimum HSPF:: 9.6"},{"$f":"VLOOKUP(C320,Main!$A$49:$I$67,Main!$G$47,FALSE)","v":18},{"$f":"VLOOKUP(C320,Main!$A$49:$I$67,Main!$H$47,FALSE)","v":3.1},{"$f":"VLOOKUP(C320,Main!$A$49:$I$67,Main!$I$47,FALSE)","v":16.100000000000001},6835]
["GA","WARNER ROBINS AFB","3A",2135,1628,37.5,83.3,0.10780000000000001,"32.633N",28,47.5,51.2,58,64.599999999999994,72.8,79.099999999999994,82,80.900000000000006,75.5,65,55.6,50,159,81,26,2,0,0,0,0,0,2,33,108,81,115,274,441,707,873,991,957,764,466,202,107,31.8,37.22,36.1,44.42,66.900000000000006,67.819999999999993,73.040000000000006,69.8,64.8,42.4,42.4,30.7,0.6097560975609756,0.2459459459459459,56,26,12,17,{"$f":"IF(OR(C321=\"OA\",C321=\"OB\",C321=\"1B\",C321=\"1A\",C321=\"2A\",C321=\"2B\",C321=\"3A\",C321=\"3B\",C321=\"3C\"),TAN((LEFT(I321, 5)+VLOOKUP(C321,Main!$K$3:$L$21,2,FALSE))*PI()/180),IF(Checklist!$I$385=\"No\",TAN((LEFT(I321, 5)+VLOOKUP(C321,Main!$K$3:$L$21,2,FALSE))*PI()/180),\"NR\"))","v":0.64026467550131583},{"$f":"VLOOKUP(C321,Main!$A$49:$I$67,Main!$B$47,FALSE)","v":0.6},{"$f":"VLOOKUP(C321,Main!$A$49:$I$67,Main!$C$47,FALSE)","v":0.25},{"$f":"VLOOKUP(C321,Main!$A$49:$I$67,Main!$E$47,FALSE)&\":\"&\" \"&VLOOKUP(C321,Main!$A$49:$I$67,Main!$F$47,FALSE)","v":"Minimum HSPF:: 9.6"},{"$f":"VLOOKUP(C321,Main!$A$49:$I$67,Main!$G$47,FALSE)","v":18},{"$f":"VLOOKUP(C321,Main!$A$49:$I$67,Main!$H$47,FALSE)","v":3.1},{"$f":"VLOOKUP(C321,Main!$A$49:$I$67,Main!$I$47,FALSE)","v":16.100000000000001},5978]
["HI","BARBERS POINT NAS","1A",0,1934,70.95,80.8,0.28339999999999999,"21.317N",62.5,72.7,72.7,73.5,75,76.400000000000006,78.7,79.900000000000006,80.400000000000006,79.900000000000006,78.599999999999994,76.400000000000006,74.2,0,0,0,0,0,0,0,0,0,0,0,0,703,635,729,749,819,861,926,941,897,887,792,750,59.9,58.64,63.7,59.9,62.4,62.96,63.32,68.180000000000007,69.400000000000006,66.599999999999994,66.599999999999994,63.7,"NR",0.5,43,20,8,13,{"$f":"IF(OR(C322=\"OA\",C322=\"OB\",C322=\"1B\",C322=\"1A\",C322=\"2A\",C322=\"2B\",C322=\"3A\",C322=\"3B\",C322=\"3C\"),TAN((LEFT(I322, 5)+VLOOKUP(C322,Main!$K$3:$L$21,2,FALSE))*PI()/180),IF(Checklist!$I$385=\"No\",TAN((LEFT(I322, 5)+VLOOKUP(C322,Main!$K$3:$L$21,2,FALSE))*PI()/180),\"NR\"))","v":0.39008478518608797},{"$f":"VLOOKUP(C322,Main!$A$49:$I$67,Main!$B$47,FALSE)","v":0.6},{"$f":"VLOOKUP(C322,Main!$A$49:$I$67,Main!$C$47,FALSE)","v":0.25},{"$f":"VLOOKUP(C322,Main!$A$49:$I$67,Main!$E$47,FALSE)&\":\"&\" \"&VLOOKUP(C322,Main!$A$49:$I$67,Main!$F$47,FALSE)","v":"Minimum HSPF:: 9.6"},{"$f":"VLOOKUP(C322,Main!$A$49:$I$67,Main!$G$47,FALSE)","v":18},{"$f":"VLOOKUP(C322,Main!$A$49:$I$67,Main!$H$47,FALSE)","v":3.1},{"$f":"VLOOKUP(C322,Main!$A$49:$I$67,Main!$I$47,FALSE)","v":16.100000000000001},9689]
["HI","HILO INTERNATIONAL AP","1A",0,1169,70.3,74.8,0.28339999999999999,"19.719N",62.8,71.400000000000006,71.099999999999994,71.7,72.400000000000006,74,75,76,76.5,76.400000000000006,75.7,74,72.3,0,0,0,0,0,0,0,0,0,0,0,0,663,592,674,673,743,750,806,821,791,796,720,691,62.6,64.22,63.7,65.3,67.099999999999994,67.459999999999994,69.08,68.540000000000006,68.5,67.599999999999994,67.599999999999994,64.400000000000006,"NR",0.5,43,20,7,12,{"$f":"IF(OR(C323=\"OA\",C323=\"OB\",C323=\"1B\",C323=\"1A\",C323=\"2A\",C323=\"2B\",C323=\"3A\",C323=\"3B\",C323=\"3C\"),TAN((LEFT(I323, 5)+VLOOKUP(C323,Main!$K$3:$L$21,2,FALSE))*PI()/180),IF(Checklist!$I$385=\"No\",TAN((LEFT(I323, 5)+VLOOKUP(C323,Main!$K$3:$L$21,2,FALSE))*PI()/180),\"NR\"))","v":0.35824875794416094},{"$f":"VLOOKUP(C323,Main!$A$49:$I$67,Main!$B$47,FALSE)","v":0.6},{"$f":"VLOOKUP(C323,Main!$A$49:$I$67,Main!$C$47,FALSE)","v":0.25},{"$f":"VLOOKUP(C323,Main!$A$49:$I$67,Main!$E$47,FALSE)&\":\"&\" \"&VLOOKUP(C323,Main!$A$49:$I$67,Main!$F$47,FALSE)","v":"Minimum HSPF:: 9.6"},{"$f":"VLOOKUP(C323,Main!$A$49:$I$67,Main!$G$47,FALSE)","v":18},{"$f":"VLOOKUP(C323,Main!$A$49:$I$67,Main!$H$47,FALSE)","v":3.1},{"$f":"VLOOKUP(C323,Main!$A$49:$I$67,Main!$I$47,FALSE)","v":16.100000000000001},8720]
["HI","HONOLULU INTL ARPT","1A",0,1925,72.400000000000006,80.400000000000006,0.28339999999999999,"21.324N",64.5,73.400000000000006,73.599999999999994,74.400000000000006,76.3,77.900000000000006,80.099999999999994,81.099999999999994,81.900000000000006,81.400000000000006,80.099999999999994,77.599999999999994,75.2,0,0,0,0,0,0,0,0,0,0,0,0,725,660,757,788,864,902,964,988,941,933,828,781,60.6,64.760000000000005,62.2,61.7,64.8,65.66,67.099999999999994,67.28,68.7,65.5,65.5,63.9,"NR",0.5,42,20,8,13,{"$f":"IF(OR(C324=\"OA\",C324=\"OB\",C324=\"1B\",C324=\"1A\",C324=\"2A\",C324=\"2B\",C324=\"3A\",C324=\"3B\",C324=\"3C\"),TAN((LEFT(I324, 5)+VLOOKUP(C324,Main!$K$3:$L$21,2,FALSE))*PI()/180),IF(Checklist!$I$385=\"No\",TAN((LEFT(I324, 5)+VLOOKUP(C324,Main!$K$3:$L$21,2,FALSE))*PI()/180),\"NR\"))","v":0.39028588980652923},{"$f":"VLOOKUP(C324,Main!$A$49:$I$67,Main!$B$47,FALSE)","v":0.6},{"$f":"VLOOKUP(C324,Main!$A$49:$I$67,Main!$C$47,FALSE)","v":0.25},{"$f":"VLOOKUP(C324,Main!$A$49:$I$67,Main!$E$47,FALSE)&\":\"&\" \"&VLOOKUP(C324,Main!$A$49:$I$67,Main!$F$47,FALSE)","v":"Minimum HSPF:: 9.6"},{"$f":"VLOOKUP(C324,Main!$A$49:$I$67,Main!$G$47,FALSE)","v":18},{"$f":"VLOOKUP(C324,Main!$A$49:$I$67,Main!$H$47,FALSE)","v":3.1},{"$f":"VLOOKUP(C324,Main!$A$49:$I$67,Main!$I$47,FALSE)","v":16.100000000000001},10131]
["HI","KAHULUI AIRPORT","1A",0,1991,71.900000000000006,77.2,0.28339999999999999,"20.900N",60.7,72,71.900000000000006,72.7,74.099999999999994,75.900000000000006,77.900000000000006,78.900000000000006,79.5,79.099999999999994,78.099999999999994,75.7,73.400000000000006,0,0,0,0,0,0,0,0,0,0,0,0,681,613,705,724,803,837,896,916,873,870,772,727,64.2,64.040000000000006,62.8,65.66,64.8,65.66,67.28,67.28,69.3,66,66,65.5,"NR",0.5,44,20,7,12,{"$f":"IF(OR(C325=\"OA\",C325=\"OB\",C325=\"1B\",C325=\"1A\",C325=\"2A\",C325=\"2B\",C325=\"3A\",C325=\"3B\",C325=\"3C\"),TAN((LEFT(I325, 5)+VLOOKUP(C325,Main!$K$3:$L$21,2,FALSE))*PI()/180),IF(Checklist!$I$385=\"No\",TAN((LEFT(I325, 5)+VLOOKUP(C325,Main!$K$3:$L$21,2,FALSE))*PI()/180),\"NR\"))","v":0.38186286741871883},{"$f":"VLOOKUP(C325,Main!$A$49:$I$67,Main!$B$47,FALSE)","v":0.6},{"$f":"VLOOKUP(C325,Main!$A$49:$I$67,Main!$C$47,FALSE)","v":0.25},{"$f":"VLOOKUP(C325,Main!$A$49:$I$67,Main!$E$47,FALSE)&\":\"&\" \"&VLOOKUP(C325,Main!$A$49:$I$67,Main!$F$47,FALSE)","v":"Minimum HSPF:: 9.6"},{"$f":"VLOOKUP(C325,Main!$A$49:$I$67,Main!$G$47,FALSE)","v":18},{"$f":"VLOOKUP(C325,Main!$A$49:$I$67,Main!$H$47,FALSE)","v":3.1},{"$f":"VLOOKUP(C325,Main!$A$49:$I$67,Main!$I$47,FALSE)","v":16.100000000000001},9417]
["HI","KANEOHE BAY MCAS","1A",0,1813,71.150000000000006,79.3,0.28339999999999999,"21.450N",65.900000000000006,73.3,73.099999999999994,73.599999999999994,74.8,76.3,77.900000000000006,78.8,79.599999999999994,79.7,78.900000000000006,76.900000000000006,74.7,0,0,0,0,0,0,0,0,0,0,0,0,723,647,733,743,815,837,892,917,890,897,806,765,62.1,63.86,63,64.400000000000006,65.7,68,68.36,68.72,69.400000000000006,67.599999999999994,67.599999999999994,62.4,"NR",0.5,{"$f":"ROUNDDOWN((33.97238548+(2.143484655*3.14219615)+(0.00253108806*D326)+(-0.2767683543*J326)+(66.9384076*H326)+((3.14219615-3.14219615)^2*-1.607593659)+((J326-12.48681818)*(H326-0.2016890909)*-1.8168457)+8.4234),0)","v":41},{"$f":"ROUNDDOWN((2.975122788+(0.003896731237*D326)+(59.88697433*H326)+((D326-5520.854545)*(H326-0.2016890909)*0.01119327314)+5.3792),0)","v":20},8,{"$f":"ROUNDDOWN(BK326+5.9089,0)","v":13},{"$f":"IF(OR(C326=\"OA\",C326=\"OB\",C326=\"1B\",C326=\"1A\",C326=\"2A\",C326=\"2B\",C326=\"3A\",C326=\"3B\",C326=\"3C\"),TAN((LEFT(I326, 5)+VLOOKUP(C326,Main!$K$3:$L$21,2,FALSE))*PI()/180),IF(Checklist!$I$385=\"No\",TAN((LEFT(I326, 5)+VLOOKUP(C326,Main!$K$3:$L$21,2,FALSE))*PI()/180),\"NR\"))","v":0.39290274973009909},{"$f":"VLOOKUP(C326,Main!$A$49:$I$67,Main!$B$47,FALSE)","v":0.6},{"$f":"VLOOKUP(C326,Main!$A$49:$I$67,Main!$C$47,FALSE)","v":0.25},{"$f":"VLOOKUP(C326,Main!$A$49:$I$67,Main!$E$47,FALSE)&\":\"&\" \"&VLOOKUP(C326,Main!$A$49:$I$67,Main!$F$47,FALSE)","v":"Minimum HSPF:: 9.6"},{"$f":"VLOOKUP(C326,Main!$A$49:$I$67,Main!$G$47,FALSE)","v":18},{"$f":"VLOOKUP(C326,Main!$A$49:$I$67,Main!$H$47,FALSE)","v":3.1},{"$f":"VLOOKUP(C326,Main!$A$49:$I$67,Main!$I$47,FALSE)","v":16.100000000000001},9665]
["HI","KONA INTL AT KEAHOL","1A",2,1917,74.400000000000006,79.3,0.28339999999999999,"19.736N",67.599999999999994,74.7,74.7,75.599999999999994,76.599999999999994,77.8,78.599999999999994,79.599999999999994,80.599999999999994,80.2,79.599999999999994,77.7,75.900000000000006,0,0,0,0,0,0,0,0,0,0,0,0,766,691,792,799,861,859,919,950,907,917,831,801,64.900000000000006,60.08,63.1,65.84,64.900000000000006,69.62,69.260000000000005,67.099999999999994,68.7,65.3,65.3,62.6,"NR",0.5,41,20,8,13,{"$f":"IF(OR(C327=\"OA\",C327=\"OB\",C327=\"1B\",C327=\"1A\",C327=\"2A\",C327=\"2B\",C327=\"3A\",C327=\"3B\",C327=\"3C\"),TAN((LEFT(I327, 5)+VLOOKUP(C327,Main!$K$3:$L$21,2,FALSE))*PI()/180),IF(Checklist!$I$385=\"No\",TAN((LEFT(I327, 5)+VLOOKUP(C327,Main!$K$3:$L$21,2,FALSE))*PI()/180),\"NR\"))","v":0.35864267294018715},{"$f":"VLOOKUP(C327,Main!$A$49:$I$67,Main!$B$47,FALSE)","v":0.6},{"$f":"VLOOKUP(C327,Main!$A$49:$I$67,Main!$C$47,FALSE)","v":0.25},{"$f":"VLOOKUP(C327,Main!$A$49:$I$67,Main!$E$47,FALSE)&\":\"&\" \"&VLOOKUP(C327,Main!$A$49:$I$67,Main!$F$47,FALSE)","v":"Minimum HSPF:: 9.6"},{"$f":"VLOOKUP(C327,Main!$A$49:$I$67,Main!$G$47,FALSE)","v":18},{"$f":"VLOOKUP(C327,Main!$A$49:$I$67,Main!$H$47,FALSE)","v":3.1},{"$f":"VLOOKUP(C327,Main!$A$49:$I$67,Main!$I$47,FALSE)","v":16.100000000000001},10093]
["HI","LIHUE AIRPORT","1A",0,823,70.45,77.5,0.28339999999999999,"21.984N",62.5,71.7,71.5,72.3,73.900000000000006,75.7,77.900000000000006,78.900000000000006,79.5,79.400000000000006,78.3,75.7,73.400000000000006,0,0,0,0,0,0,0,0,0,0,0,0,671,602,692,717,796,837,896,915,883,877,770,726,61.3,64.400000000000006,65.3,65.84,67.099999999999994,67.28,71.239999999999995,70.88,71.2,67.5,67.5,63.5,"NR",0.5,43,20,7,12,{"$f":"IF(OR(C328=\"OA\",C328=\"OB\",C328=\"1B\",C328=\"1A\",C328=\"2A\",C328=\"2B\",C328=\"3A\",C328=\"3B\",C328=\"3C\"),TAN((LEFT(I328, 5)+VLOOKUP(C328,Main!$K$3:$L$21,2,FALSE))*PI()/180),IF(Checklist!$I$385=\"No\",TAN((LEFT(I328, 5)+VLOOKUP(C328,Main!$K$3:$L$21,2,FALSE))*PI()/180),\"NR\"))","v":0.40362023669668051},{"$f":"VLOOKUP(C328,Main!$A$49:$I$67,Main!$B$47,FALSE)","v":0.6},{"$f":"VLOOKUP(C328,Main!$A$49:$I$67,Main!$C$47,FALSE)","v":0.25},{"$f":"VLOOKUP(C328,Main!$A$49:$I$67,Main!$E$47,FALSE)&\":\"&\" \"&VLOOKUP(C328,Main!$A$49:$I$67,Main!$F$47,FALSE)","v":"Minimum HSPF:: 9.6"},{"$f":"VLOOKUP(C328,Main!$A$49:$I$67,Main!$G$47,FALSE)","v":18},{"$f":"VLOOKUP(C328,Main!$A$49:$I$67,Main!$H$47,FALSE)","v":3.1},{"$f":"VLOOKUP(C328,Main!$A$49:$I$67,Main!$I$47,FALSE)","v":16.100000000000001},9382]
["HI","MOLOKAI (AMOS)","1A",1,1961,66.400000000000006,77.900000000000006,0.28339999999999999,"21.155N",61.7,71.2,71,71.599999999999994,73,74.8,76.900000000000006,77.8,78.7,78.400000000000006,77.400000000000006,75.099999999999994,72.8,0,0,0,0,0,0,0,0,0,0,0,0,656,587,669,691,769,807,862,888,853,848,753,708,62.6,60.8,60.3,38.479999999999997,49.6,64.760000000000005,66.02,69.98,70,66.400000000000006,66.400000000000006,62.4,"NR",0.5,43,20,{"$f":"ROUNDDOWN(-18.64576148+(5.900367721*3.14219615)+(0.002662134083*D329)+(38.92365332*H329)+((BT329-3890.577273)*(G329-78.59)*0.00005765875867)+((D329-5520.854545)*(H329-0.2016890909)*0.006047043516),0)","v":7},12,{"$f":"IF(OR(C329=\"OA\",C329=\"OB\",C329=\"1B\",C329=\"1A\",C329=\"2A\",C329=\"2B\",C329=\"3A\",C329=\"3B\",C329=\"3C\"),TAN((LEFT(I329, 5)+VLOOKUP(C329,Main!$K$3:$L$21,2,FALSE))*PI()/180),IF(Checklist!$I$385=\"No\",TAN((LEFT(I329, 5)+VLOOKUP(C329,Main!$K$3:$L$21,2,FALSE))*PI()/180),\"NR\"))","v":0.3868708230454162},{"$f":"VLOOKUP(C329,Main!$A$49:$I$67,Main!$B$47,FALSE)","v":0.6},{"$f":"VLOOKUP(C329,Main!$A$49:$I$67,Main!$C$47,FALSE)","v":0.25},{"$f":"VLOOKUP(C329,Main!$A$49:$I$67,Main!$E$47,FALSE)&\":\"&\" \"&VLOOKUP(C329,Main!$A$49:$I$67,Main!$F$47,FALSE)","v":"Minimum HSPF:: 9.6"},{"$f":"VLOOKUP(C329,Main!$A$49:$I$67,Main!$G$47,FALSE)","v":18},{"$f":"VLOOKUP(C329,Main!$A$49:$I$67,Main!$H$47,FALSE)","v":3.1},{"$f":"VLOOKUP(C329,Main!$A$49:$I$67,Main!$I$47,FALSE)","v":16.100000000000001},9091]
["IA","ALGONA","5A",7154,1342,6.75,78.599999999999994,0.10970000000000001,"43.078N",-4.2,18.2,22.5,33.9,47.6,59.7,69.8,73.2,71,62.9,50.4,36.4,23.1,987,770,520,172,17,0,0,0,5,118,426,835,0,0,23,99,318,594,718,651,392,129,18,0,11.5,8.06,29.7,31.1,44.2,57.56,64.040000000000006,61.16,52,21.7,21.7,23.2,0.8393574297188755,0.13625814179830797,72,41,22,27,{"$f":"IF(OR(C330=\"OA\",C330=\"OB\",C330=\"1B\",C330=\"1A\",C330=\"2A\",C330=\"2B\",C330=\"3A\",C330=\"3B\",C330=\"3C\"),TAN((LEFT(I330, 5)+VLOOKUP(C330,Main!$K$3:$L$21,2,FALSE))*PI()/180),IF(Checklist!$I$385=\"No\",TAN((LEFT(I330, 5)+VLOOKUP(C330,Main!$K$3:$L$21,2,FALSE))*PI()/180),\"NR\"))","v":"NR"},{"$f":"VLOOKUP(C330,Main!$A$49:$I$67,Main!$B$47,FALSE)","v":"NR"},{"$f":"VLOOKUP(C330,Main!$A$49:$I$67,Main!$C$47,FALSE)","v":"NR"},{"$f":"VLOOKUP(C330,Main!$A$49:$I$67,Main!$E$47,FALSE)&\":\"&\" \"&VLOOKUP(C330,Main!$A$49:$I$67,Main!$F$47,FALSE)","v":"Minimum COP @ 5°F:: 1.75"},{"$f":"VLOOKUP(C330,Main!$A$49:$I$67,Main!$G$47,FALSE)","v":15},{"$f":"VLOOKUP(C330,Main!$A$49:$I$67,Main!$H$47,FALSE)","v":3.1},{"$f":"VLOOKUP(C330,Main!$A$49:$I$67,Main!$I$47,FALSE)","v":16.100000000000001},2942]
["IA","ATLANTIC","5A",6406,1350,9.4,79.7,0.10970000000000001,"41.407N",0,22.8,27,38.299999999999997,50.5,61.8,71.7,75.5,72.400000000000006,64.099999999999994,51.9,38.1,26.1,842,645,402,117,10,0,0,0,4,96,374,744,0,1,41,131,374,651,792,693,428,154,16,1,19,12.02,27,42.26,52.9,61.34,66.2,66.739999999999995,54.1,26.8,26.8,16.3,0.82300884955752218,0.14467408585055644,70,38,20,25,{"$f":"IF(OR(C331=\"OA\",C331=\"OB\",C331=\"1B\",C331=\"1A\",C331=\"2A\",C331=\"2B\",C331=\"3A\",C331=\"3B\",C331=\"3C\"),TAN((LEFT(I331, 5)+VLOOKUP(C331,Main!$K$3:$L$21,2,FALSE))*PI()/180),IF(Checklist!$I$385=\"No\",TAN((LEFT(I331, 5)+VLOOKUP(C331,Main!$K$3:$L$21,2,FALSE))*PI()/180),\"NR\"))","v":"NR"},{"$f":"VLOOKUP(C331,Main!$A$49:$I$67,Main!$B$47,FALSE)","v":"NR"},{"$f":"VLOOKUP(C331,Main!$A$49:$I$67,Main!$C$47,FALSE)","v":"NR"},{"$f":"VLOOKUP(C331,Main!$A$49:$I$67,Main!$E$47,FALSE)&\":\"&\" \"&VLOOKUP(C331,Main!$A$49:$I$67,Main!$F$47,FALSE)","v":"Minimum COP @ 5°F:: 1.75"},{"$f":"VLOOKUP(C331,Main!$A$49:$I$67,Main!$G$47,FALSE)","v":15},{"$f":"VLOOKUP(C331,Main!$A$49:$I$67,Main!$H$47,FALSE)","v":3.1},{"$f":"VLOOKUP(C331,Main!$A$49:$I$67,Main!$I$47,FALSE)","v":16.100000000000001},3282]
["IA","BOONE MUNI","5A",6484,1279,11.75,82.9,0.10970000000000001,"42.049N",0.2,21.8,26.5,36.799999999999997,49.9,60.9,70.2,74.099999999999994,72.8,63.8,52.3,38.700000000000003,26.6,876,658,445,115,13,0,0,0,4,90,365,728,0,1,35,112,351,605,747,707,418,161,27,2,19.2,28.22,20.3,43.7,48.6,62.96,63.14,63.86,52.3,27.7,27.7,17.2,0.82683982683982682,0.14510085306545484,70,39,20,25,{"$f":"IF(OR(C332=\"OA\",C332=\"OB\",C332=\"1B\",C332=\"1A\",C332=\"2A\",C332=\"2B\",C332=\"3A\",C332=\"3B\",C332=\"3C\"),TAN((LEFT(I332, 5)+VLOOKUP(C332,Main!$K$3:$L$21,2,FALSE))*PI()/180),IF(Checklist!$I$385=\"No\",TAN((LEFT(I332, 5)+VLOOKUP(C332,Main!$K$3:$L$21,2,FALSE))*PI()/180),\"NR\"))","v":"NR"},{"$f":"VLOOKUP(C332,Main!$A$49:$I$67,Main!$B$47,FALSE)","v":"NR"},{"$f":"VLOOKUP(C332,Main!$A$49:$I$67,Main!$C$47,FALSE)","v":"NR"},{"$f":"VLOOKUP(C332,Main!$A$49:$I$67,Main!$E$47,FALSE)&\":\"&\" \"&VLOOKUP(C332,Main!$A$49:$I$67,Main!$F$47,FALSE)","v":"Minimum COP @ 5°F:: 1.75"},{"$f":"VLOOKUP(C332,Main!$A$49:$I$67,Main!$G$47,FALSE)","v":15},{"$f":"VLOOKUP(C332,Main!$A$49:$I$67,Main!$H$47,FALSE)","v":3.1},{"$f":"VLOOKUP(C332,Main!$A$49:$I$67,Main!$I$47,FALSE)","v":16.100000000000001},3166]
["IA","BURLINGTON MUNICIPAL AP","5A",5744,1488,16.7,86,0.10970000000000001,"40.783N",2.9,24.8,29.5,40.9,52.9,63.2,72.5,75.900000000000006,74.3,66.400000000000006,54.7,41.6,29.7,781,577,332,77,5,0,0,0,2,58,290,633,0,3,49,164,414,674,801,755,493,204,38,3,15.1,15.98,31.8,42.8,53.2,64.400000000000006,68.72,66.56,58.3,36.9,36.9,18.899999999999999,0.81481481481481488,0.15111886079628017,68,37,19,24,{"$f":"IF(OR(C333=\"OA\",C333=\"OB\",C333=\"1B\",C333=\"1A\",C333=\"2A\",C333=\"2B\",C333=\"3A\",C333=\"3B\",C333=\"3C\"),TAN((LEFT(I333, 5)+VLOOKUP(C333,Main!$K$3:$L$21,2,FALSE))*PI()/180),IF(Checklist!$I$385=\"No\",TAN((LEFT(I333, 5)+VLOOKUP(C333,Main!$K$3:$L$21,2,FALSE))*PI()/180),\"NR\"))","v":"NR"},{"$f":"VLOOKUP(C333,Main!$A$49:$I$67,Main!$B$47,FALSE)","v":"NR"},{"$f":"VLOOKUP(C333,Main!$A$49:$I$67,Main!$C$47,FALSE)","v":"NR"},{"$f":"VLOOKUP(C333,Main!$A$49:$I$67,Main!$E$47,FALSE)&\":\"&\" \"&VLOOKUP(C333,Main!$A$49:$I$67,Main!$F$47,FALSE)","v":"Minimum COP @ 5°F:: 1.75"},{"$f":"VLOOKUP(C333,Main!$A$49:$I$67,Main!$G$47,FALSE)","v":15},{"$f":"VLOOKUP(C333,Main!$A$49:$I$67,Main!$H$47,FALSE)","v":3.1},{"$f":"VLOOKUP(C333,Main!$A$49:$I$67,Main!$I$47,FALSE)","v":16.100000000000001},3598]
["IA","CARROLL","5A",6619,1393,8.15,93.4,0.10970000000000001,"42.046N",-1.1000000000000001,21.6,24.5,36.700000000000003,50,61.5,71.099999999999994,74.2,71.900000000000006,64,52.1,38.200000000000003,24.8,881,716,446,119,13,0,0,0,4,97,376,782,0,1,35,120,368,634,749,679,423,160,24,1,14,13.1,32,41.36,47.8,61.16,64.760000000000005,63.32,53.6,25.5,25.5,14.2,0.82758620689655171,0.14237102514960692,71,39,20,25,{"$f":"IF(OR(C334=\"OA\",C334=\"OB\",C334=\"1B\",C334=\"1A\",C334=\"2A\",C334=\"2B\",C334=\"3A\",C334=\"3B\",C334=\"3C\"),TAN((LEFT(I334, 5)+VLOOKUP(C334,Main!$K$3:$L$21,2,FALSE))*PI()/180),IF(Checklist!$I$385=\"No\",TAN((LEFT(I334, 5)+VLOOKUP(C334,Main!$K$3:$L$21,2,FALSE))*PI()/180),\"NR\"))","v":"NR"},{"$f":"VLOOKUP(C334,Main!$A$49:$I$67,Main!$B$47,FALSE)","v":"NR"},{"$f":"VLOOKUP(C334,Main!$A$49:$I$67,Main!$C$47,FALSE)","v":"NR"},{"$f":"VLOOKUP(C334,Main!$A$49:$I$67,Main!$E$47,FALSE)&\":\"&\" \"&VLOOKUP(C334,Main!$A$49:$I$67,Main!$F$47,FALSE)","v":"Minimum COP @ 5°F:: 1.75"},{"$f":"VLOOKUP(C334,Main!$A$49:$I$67,Main!$G$47,FALSE)","v":15},{"$f":"VLOOKUP(C334,Main!$A$49:$I$67,Main!$H$47,FALSE)","v":3.1},{"$f":"VLOOKUP(C334,Main!$A$49:$I$67,Main!$I$47,FALSE)","v":16.100000000000001},3194]
["IA","CEDAR RAPIDS MUNICIPAL AP","5A",6755,1300,3.55,78.099999999999994,0.10970000000000001,"41.883N",-2.6,20.2,24.8,36.700000000000003,49.3,60.3,69.8,73,71.2,63.1,51.2,37.4,24.8,923,707,438,125,12,0,0,0,5,102,395,783,0,0,27,104,331,595,712,658,397,140,18,2,13.5,22.28,30.2,41,49.1,62.6,65.66,63.14,55.4,30.4,30.4,6.6,0.83263598326359833,0.1393461450118674,71,39,21,26,{"$f":"IF(OR(C335=\"OA\",C335=\"OB\",C335=\"1B\",C335=\"1A\",C335=\"2A\",C335=\"2B\",C335=\"3A\",C335=\"3B\",C335=\"3C\"),TAN((LEFT(I335, 5)+VLOOKUP(C335,Main!$K$3:$L$21,2,FALSE))*PI()/180),IF(Checklist!$I$385=\"No\",TAN((LEFT(I335, 5)+VLOOKUP(C335,Main!$K$3:$L$21,2,FALSE))*PI()/180),\"NR\"))","v":"NR"},{"$f":"VLOOKUP(C335,Main!$A$49:$I$67,Main!$B$47,FALSE)","v":"NR"},{"$f":"VLOOKUP(C335,Main!$A$49:$I$67,Main!$C$47,FALSE)","v":"NR"},{"$f":"VLOOKUP(C335,Main!$A$49:$I$67,Main!$E$47,FALSE)&\":\"&\" \"&VLOOKUP(C335,Main!$A$49:$I$67,Main!$F$47,FALSE)","v":"Minimum COP @ 5°F:: 1.75"},{"$f":"VLOOKUP(C335,Main!$A$49:$I$67,Main!$G$47,FALSE)","v":15},{"$f":"VLOOKUP(C335,Main!$A$49:$I$67,Main!$H$47,FALSE)","v":3.1},{"$f":"VLOOKUP(C335,Main!$A$49:$I$67,Main!$I$47,FALSE)","v":16.100000000000001},2984]
["IA","CHARITON","5A",5871,1340,16.399999999999999,82.4,0.10970000000000001,"41.019N",2.6,25.5,28.9,39.5,52.5,62.4,71.599999999999994,76.5,74,65.7,54,41.6,28.3,760,592,367,80,5,0,0,0,1,67,290,675,0,3,42,155,391,647,823,745,473,190,38,3,14,16.52,36.299999999999997,44.42,54,65.12,69.44,66.92,54.3,28,28,21.7,0.81176470588235294,0.15042565501281097,68,37,19,24,{"$f":"IF(OR(C336=\"OA\",C336=\"OB\",C336=\"1B\",C336=\"1A\",C336=\"2A\",C336=\"2B\",C336=\"3A\",C336=\"3B\",C336=\"3C\"),TAN((LEFT(I336, 5)+VLOOKUP(C336,Main!$K$3:$L$21,2,FALSE))*PI()/180),IF(Checklist!$I$385=\"No\",TAN((LEFT(I336, 5)+VLOOKUP(C336,Main!$K$3:$L$21,2,FALSE))*PI()/180),\"NR\"))","v":"NR"},{"$f":"VLOOKUP(C336,Main!$A$49:$I$67,Main!$B$47,FALSE)","v":"NR"},{"$f":"VLOOKUP(C336,Main!$A$49:$I$67,Main!$C$47,FALSE)","v":"NR"},{"$f":"VLOOKUP(C336,Main!$A$49:$I$67,Main!$E$47,FALSE)&\":\"&\" \"&VLOOKUP(C336,Main!$A$49:$I$67,Main!$F$47,FALSE)","v":"Minimum COP @ 5°F:: 1.75"},{"$f":"VLOOKUP(C336,Main!$A$49:$I$67,Main!$G$47,FALSE)","v":15},{"$f":"VLOOKUP(C336,Main!$A$49:$I$67,Main!$H$47,FALSE)","v":3.1},{"$f":"VLOOKUP(C336,Main!$A$49:$I$67,Main!$I$47,FALSE)","v":16.100000000000001},3510]
["IA","CHARLES CITY","5A",7138,1251,-14.9,76.5,0.10970000000000001,"43.073N",-4.0999999999999996,18.600000000000001,23.2,34.1,48.2,59.5,69.2,72.3,70.2,62.4,50.5,35.700000000000003,22.6,972,752,521,147,17,0,0,0,6,112,440,850,0,0,29,94,311,575,690,627,378,127,13,1,19,12.92,34,42.44,46.9,55.22,64.58,69.260000000000005,59.9,28.4,28.4,21.6,0.83805668016194335,0.13644712673838888,72,41,22,27,{"$f":"IF(OR(C337=\"OA\",C337=\"OB\",C337=\"1B\",C337=\"1A\",C337=\"2A\",C337=\"2B\",C337=\"3A\",C337=\"3B\",C337=\"3C\"),TAN((LEFT(I337, 5)+VLOOKUP(C337,Main!$K$3:$L$21,2,FALSE))*PI()/180),IF(Checklist!$I$385=\"No\",TAN((LEFT(I337, 5)+VLOOKUP(C337,Main!$K$3:$L$21,2,FALSE))*PI()/180),\"NR\"))","v":"NR"},{"$f":"VLOOKUP(C337,Main!$A$49:$I$67,Main!$B$47,FALSE)","v":"NR"},{"$f":"VLOOKUP(C337,Main!$A$49:$I$67,Main!$C$47,FALSE)","v":"NR"},{"$f":"VLOOKUP(C337,Main!$A$49:$I$67,Main!$E$47,FALSE)&\":\"&\" \"&VLOOKUP(C337,Main!$A$49:$I$67,Main!$F$47,FALSE)","v":"Minimum COP @ 5°F:: 1.75"},{"$f":"VLOOKUP(C337,Main!$A$49:$I$67,Main!$G$47,FALSE)","v":15},{"$f":"VLOOKUP(C337,Main!$A$49:$I$67,Main!$H$47,FALSE)","v":3.1},{"$f":"VLOOKUP(C337,Main!$A$49:$I$67,Main!$I$47,FALSE)","v":16.100000000000001},2845]
["IA","CLARINDA","5A",5993,1439,12.55,83.7,0.10970000000000001,"40.722N",1.1000000000000001,24.5,28.1,40.4,51.8,62.7,71.900000000000006,75.8,74.099999999999994,65.2,53.5,39.9,28.6,790,614,350,96,9,0,0,0,3,75,330,673,0,1,52,150,402,657,801,746,460,185,26,9,14.7,27.86,30.2,44.24,57.7,64.58,69.44,69.44,61.7,30.6,30.6,19,0.81609195402298851,0.14705288247889142,69,37,19,24,{"$f":"IF(OR(C338=\"OA\",C338=\"OB\",C338=\"1B\",C338=\"1A\",C338=\"2A\",C338=\"2B\",C338=\"3A\",C338=\"3B\",C338=\"3C\"),TAN((LEFT(I338, 5)+VLOOKUP(C338,Main!$K$3:$L$21,2,FALSE))*PI()/180),IF(Checklist!$I$385=\"No\",TAN((LEFT(I338, 5)+VLOOKUP(C338,Main!$K$3:$L$21,2,FALSE))*PI()/180),\"NR\"))","v":"NR"},{"$f":"VLOOKUP(C338,Main!$A$49:$I$67,Main!$B$47,FALSE)","v":"NR"},{"$f":"VLOOKUP(C338,Main!$A$49:$I$67,Main!$C$47,FALSE)","v":"NR"},{"$f":"VLOOKUP(C338,Main!$A$49:$I$67,Main!$E$47,FALSE)&\":\"&\" \"&VLOOKUP(C338,Main!$A$49:$I$67,Main!$F$47,FALSE)","v":"Minimum COP @ 5°F:: 1.75"},{"$f":"VLOOKUP(C338,Main!$A$49:$I$67,Main!$G$47,FALSE)","v":15},{"$f":"VLOOKUP(C338,Main!$A$49:$I$67,Main!$H$47,FALSE)","v":3.1},{"$f":"VLOOKUP(C338,Main!$A$49:$I$67,Main!$I$47,FALSE)","v":16.100000000000001},3489]
["IA","CLINTON MUNI (AWOS)","5A",6619,1386,6.95,78.400000000000006,0.10970000000000001,"41.833N",-1,20.9,25,36.9,49.1,60.7,69.900000000000006,73.2,70.900000000000006,63.3,51.3,38.799999999999997,26.4,903,700,437,123,10,0,0,0,4,98,356,734,0,1,30,97,342,597,718,647,404,139,20,3,14.7,25.7,26.8,37.94,44.8,58.82,63.5,67.819999999999993,57.2,26.8,26.8,8.8000000000000007,0.83014861995753719,0.1425773599686643,71,39,21,26,{"$f":"IF(OR(C339=\"OA\",C339=\"OB\",C339=\"1B\",C339=\"1A\",C339=\"2A\",C339=\"2B\",C339=\"3A\",C339=\"3B\",C339=\"3C\"),TAN((LEFT(I339, 5)+VLOOKUP(C339,Main!$K$3:$L$21,2,FALSE))*PI()/180),IF(Checklist!$I$385=\"No\",TAN((LEFT(I339, 5)+VLOOKUP(C339,Main!$K$3:$L$21,2,FALSE))*PI()/180),\"NR\"))","v":"NR"},{"$f":"VLOOKUP(C339,Main!$A$49:$I$67,Main!$B$47,FALSE)","v":"NR"},{"$f":"VLOOKUP(C339,Main!$A$49:$I$67,Main!$C$47,FALSE)","v":"NR"},{"$f":"VLOOKUP(C339,Main!$A$49:$I$67,Main!$E$47,FALSE)&\":\"&\" \"&VLOOKUP(C339,Main!$A$49:$I$67,Main!$F$47,FALSE)","v":"Minimum COP @ 5°F:: 1.75"},{"$f":"VLOOKUP(C339,Main!$A$49:$I$67,Main!$G$47,FALSE)","v":15},{"$f":"VLOOKUP(C339,Main!$A$49:$I$67,Main!$H$47,FALSE)","v":3.1},{"$f":"VLOOKUP(C339,Main!$A$49:$I$67,Main!$I$47,FALSE)","v":16.100000000000001},2998]
["IA","COUNCIL BLUFFS","5A",5839,1381,17.350000000000001,78.599999999999994,0.10970000000000001,"41.259N",2.6,25.2,29.5,40.200000000000003,52.8,63.4,72.8,76,75.099999999999994,66.599999999999994,54.6,40.1,28.3,769,577,355,83,7,0,0,0,2,61,328,679,1,2,52,168,422,685,807,777,500,204,30,7,17.399999999999999,15.44,35.200000000000003,44.24,46.9,65.3,65.48,68,56.3,24.4,24.4,26.8,0.81308411214953269,0.15042565501281097,68,37,19,24,{"$f":"IF(OR(C340=\"OA\",C340=\"OB\",C340=\"1B\",C340=\"1A\",C340=\"2A\",C340=\"2B\",C340=\"3A\",C340=\"3B\",C340=\"3C\"),TAN((LEFT(I340, 5)+VLOOKUP(C340,Main!$K$3:$L$21,2,FALSE))*PI()/180),IF(Checklist!$I$385=\"No\",TAN((LEFT(I340, 5)+VLOOKUP(C340,Main!$K$3:$L$21,2,FALSE))*PI()/180),\"NR\"))","v":"NR"},{"$f":"VLOOKUP(C340,Main!$A$49:$I$67,Main!$B$47,FALSE)","v":"NR"},{"$f":"VLOOKUP(C340,Main!$A$49:$I$67,Main!$C$47,FALSE)","v":"NR"},{"$f":"VLOOKUP(C340,Main!$A$49:$I$67,Main!$E$47,FALSE)&\":\"&\" \"&VLOOKUP(C340,Main!$A$49:$I$67,Main!$F$47,FALSE)","v":"Minimum COP @ 5°F:: 1.75"},{"$f":"VLOOKUP(C340,Main!$A$49:$I$67,Main!$G$47,FALSE)","v":15},{"$f":"VLOOKUP(C340,Main!$A$49:$I$67,Main!$H$47,FALSE)","v":3.1},{"$f":"VLOOKUP(C340,Main!$A$49:$I$67,Main!$I$47,FALSE)","v":16.100000000000001},3655]
["IA","CRESTON","5A",6238,1416,8.0500000000000007,78.599999999999994,0.10970000000000001,"41.007N",0.5,23.9,27.3,38.5,51.2,62.1,70.599999999999994,75.3,73.400000000000006,64.3,52.5,39.6,26.2,810,638,395,96,7,0,0,0,4,86,339,742,0,1,39,132,381,619,784,725,434,165,25,3,12.2,22.28,33.299999999999997,45.32,51.6,63.32,66.02,67.819999999999993,53.4,29.7,29.7,20.100000000000001,0.81859410430839008,0.14574574574574573,70,38,20,25,{"$f":"IF(OR(C341=\"OA\",C341=\"OB\",C341=\"1B\",C341=\"1A\",C341=\"2A\",C341=\"2B\",C341=\"3A\",C341=\"3B\",C341=\"3C\"),TAN((LEFT(I341, 5)+VLOOKUP(C341,Main!$K$3:$L$21,2,FALSE))*PI()/180),IF(Checklist!$I$385=\"No\",TAN((LEFT(I341, 5)+VLOOKUP(C341,Main!$K$3:$L$21,2,FALSE))*PI()/180),\"NR\"))","v":"NR"},{"$f":"VLOOKUP(C341,Main!$A$49:$I$67,Main!$B$47,FALSE)","v":"NR"},{"$f":"VLOOKUP(C341,Main!$A$49:$I$67,Main!$C$47,FALSE)","v":"NR"},{"$f":"VLOOKUP(C341,Main!$A$49:$I$67,Main!$E$47,FALSE)&\":\"&\" \"&VLOOKUP(C341,Main!$A$49:$I$67,Main!$F$47,FALSE)","v":"Minimum COP @ 5°F:: 1.75"},{"$f":"VLOOKUP(C341,Main!$A$49:$I$67,Main!$G$47,FALSE)","v":15},{"$f":"VLOOKUP(C341,Main!$A$49:$I$67,Main!$H$47,FALSE)","v":3.1},{"$f":"VLOOKUP(C341,Main!$A$49:$I$67,Main!$I$47,FALSE)","v":16.100000000000001},3308]
["IA","DECORAH","5A",6953,1392,15.1,79.5,0.10970000000000001,"43.275N",-3.6,19.899999999999999,23.1,35.4,48.8,59.5,69.099999999999994,72.900000000000006,69.8,62.3,50.9,37.6,23.8,934,753,483,138,17,0,0,0,6,106,392,813,0,1,31,102,310,572,711,614,375,133,19,1,13.1,22.82,33.799999999999997,40.46,50.7,59.9,63.32,66.02,55.2,27.5,27.5,18.5,0.83367983367983367,0.13739996980220445,72,40,21,26,{"$f":"IF(OR(C342=\"OA\",C342=\"OB\",C342=\"1B\",C342=\"1A\",C342=\"2A\",C342=\"2B\",C342=\"3A\",C342=\"3B\",C342=\"3C\"),TAN((LEFT(I342, 5)+VLOOKUP(C342,Main!$K$3:$L$21,2,FALSE))*PI()/180),IF(Checklist!$I$385=\"No\",TAN((LEFT(I342, 5)+VLOOKUP(C342,Main!$K$3:$L$21,2,FALSE))*PI()/180),\"NR\"))","v":"NR"},{"$f":"VLOOKUP(C342,Main!$A$49:$I$67,Main!$B$47,FALSE)","v":"NR"},{"$f":"VLOOKUP(C342,Main!$A$49:$I$67,Main!$C$47,FALSE)","v":"NR"},{"$f":"VLOOKUP(C342,Main!$A$49:$I$67,Main!$E$47,FALSE)&\":\"&\" \"&VLOOKUP(C342,Main!$A$49:$I$67,Main!$F$47,FALSE)","v":"Minimum COP @ 5°F:: 1.75"},{"$f":"VLOOKUP(C342,Main!$A$49:$I$67,Main!$G$47,FALSE)","v":15},{"$f":"VLOOKUP(C342,Main!$A$49:$I$67,Main!$H$47,FALSE)","v":3.1},{"$f":"VLOOKUP(C342,Main!$A$49:$I$67,Main!$I$47,FALSE)","v":16.100000000000001},2869]
["IA","DENISON","5A",6518,1400,6.35,82.9,0.10970000000000001,"41.986N",0.1,22.8,26.1,37.4,50.2,60.5,71,75.2,72.3,64.599999999999994,51.7,38.5,25.1,842,670,425,115,13,0,0,0,5,104,370,772,0,1,33,120,337,629,782,693,444,158,24,1,17.8,14.36,27.3,38.479999999999997,49.5,58.82,67.819999999999993,62.06,59.9,27.5,27.5,19.899999999999999,0.82300884955752218,0.14488715519643353,70,39,20,25,{"$f":"IF(OR(C343=\"OA\",C343=\"OB\",C343=\"1B\",C343=\"1A\",C343=\"2A\",C343=\"2B\",C343=\"3A\",C343=\"3B\",C343=\"3C\"),TAN((LEFT(I343, 5)+VLOOKUP(C343,Main!$K$3:$L$21,2,FALSE))*PI()/180),IF(Checklist!$I$385=\"No\",TAN((LEFT(I343, 5)+VLOOKUP(C343,Main!$K$3:$L$21,2,FALSE))*PI()/180),\"NR\"))","v":"NR"},{"$f":"VLOOKUP(C343,Main!$A$49:$I$67,Main!$B$47,FALSE)","v":"NR"},{"$f":"VLOOKUP(C343,Main!$A$49:$I$67,Main!$C$47,FALSE)","v":"NR"},{"$f":"VLOOKUP(C343,Main!$A$49:$I$67,Main!$E$47,FALSE)&\":\"&\" \"&VLOOKUP(C343,Main!$A$49:$I$67,Main!$F$47,FALSE)","v":"Minimum COP @ 5°F:: 1.75"},{"$f":"VLOOKUP(C343,Main!$A$49:$I$67,Main!$G$47,FALSE)","v":15},{"$f":"VLOOKUP(C343,Main!$A$49:$I$67,Main!$H$47,FALSE)","v":3.1},{"$f":"VLOOKUP(C343,Main!$A$49:$I$67,Main!$I$47,FALSE)","v":16.100000000000001},3222]
["IA","DES MOINES INTL AP","5A",6147,1531,8.9499999999999993,80.400000000000006,0.10970000000000001,"41.534N",0.6,22.7,27.6,39.4,51.5,62.2,71.8,76,74.2,65.8,53.6,39.5,27.3,847,629,373,96,7,0,0,0,2,72,340,706,0,2,44,141,384,654,805,751,475,183,26,2,9.6999999999999993,13.82,26.2,34.520000000000003,45.1,58.46,66.02,65.3,53.8,30.2,30.2,16.7,0.82339955849889623,0.14596198572459698,69,38,20,25,{"$f":"IF(OR(C344=\"OA\",C344=\"OB\",C344=\"1B\",C344=\"1A\",C344=\"2A\",C344=\"2B\",C344=\"3A\",C344=\"3B\",C344=\"3C\"),TAN((LEFT(I344, 5)+VLOOKUP(C344,Main!$K$3:$L$21,2,FALSE))*PI()/180),IF(Checklist!$I$385=\"No\",TAN((LEFT(I344, 5)+VLOOKUP(C344,Main!$K$3:$L$21,2,FALSE))*PI()/180),\"NR\"))","v":"NR"},{"$f":"VLOOKUP(C344,Main!$A$49:$I$67,Main!$B$47,FALSE)","v":"NR"},{"$f":"VLOOKUP(C344,Main!$A$49:$I$67,Main!$C$47,FALSE)","v":"NR"},{"$f":"VLOOKUP(C344,Main!$A$49:$I$67,Main!$E$47,FALSE)&\":\"&\" \"&VLOOKUP(C344,Main!$A$49:$I$67,Main!$F$47,FALSE)","v":"Minimum COP @ 5°F:: 1.75"},{"$f":"VLOOKUP(C344,Main!$A$49:$I$67,Main!$G$47,FALSE)","v":15},{"$f":"VLOOKUP(C344,Main!$A$49:$I$67,Main!$H$47,FALSE)","v":3.1},{"$f":"VLOOKUP(C344,Main!$A$49:$I$67,Main!$I$47,FALSE)","v":16.100000000000001},3467]
["IA","DUBUQUE REGIONAL AP","5A",7042,1356,5.0999999999999996,74.3,0.10970000000000001,"42.398N",-2.7,19.2,23.7,35.5,47.8,58.8,68.400000000000006,71.7,70.099999999999994,62,50.1,36.700000000000003,24.1,955,737,472,147,18,0,0,0,6,114,410,806,0,0,23,82,290,552,672,622,366,117,13,2,10.9,15.26,27.5,33.799999999999997,46.4,58.28,62.6,62.24,55.8,21.6,21.6,15.3,0.83606557377049184,0.13914905004013911,72,40,22,27,{"$f":"IF(OR(C345=\"OA\",C345=\"OB\",C345=\"1B\",C345=\"1A\",C345=\"2A\",C345=\"2B\",C345=\"3A\",C345=\"3B\",C345=\"3C\"),TAN((LEFT(I345, 5)+VLOOKUP(C345,Main!$K$3:$L$21,2,FALSE))*PI()/180),IF(Checklist!$I$385=\"No\",TAN((LEFT(I345, 5)+VLOOKUP(C345,Main!$K$3:$L$21,2,FALSE))*PI()/180),\"NR\"))","v":"NR"},{"$f":"VLOOKUP(C345,Main!$A$49:$I$67,Main!$B$47,FALSE)","v":"NR"},{"$f":"VLOOKUP(C345,Main!$A$49:$I$67,Main!$C$47,FALSE)","v":"NR"},{"$f":"VLOOKUP(C345,Main!$A$49:$I$67,Main!$E$47,FALSE)&\":\"&\" \"&VLOOKUP(C345,Main!$A$49:$I$67,Main!$F$47,FALSE)","v":"Minimum COP @ 5°F:: 1.75"},{"$f":"VLOOKUP(C345,Main!$A$49:$I$67,Main!$G$47,FALSE)","v":15},{"$f":"VLOOKUP(C345,Main!$A$49:$I$67,Main!$H$47,FALSE)","v":3.1},{"$f":"VLOOKUP(C345,Main!$A$49:$I$67,Main!$I$47,FALSE)","v":16.100000000000001},2739]
["IA","ESTHERVILLE MUNI","6A",7576,1344,4.3,84.6,0.10970000000000001,"43.401N",-7,15.9,20.3,32.700000000000003,47,58.7,68.099999999999994,72.3,69,61.7,49,34.6,20.8,1057,831,554,168,26,0,0,0,8,139,473,906,0,0,17,76,295,545,691,588,358,108,12,0,7,10.220000000000001,17.2,38.299999999999997,48.4,56.84,62.24,61.34,53.1,24.3,24.3,2.7,0.84644913627639151,0.13117117117117116,74,42,22,27,{"$f":"IF(OR(C346=\"OA\",C346=\"OB\",C346=\"1B\",C346=\"1A\",C346=\"2A\",C346=\"2B\",C346=\"3A\",C346=\"3B\",C346=\"3C\"),TAN((LEFT(I346, 5)+VLOOKUP(C346,Main!$K$3:$L$21,2,FALSE))*PI()/180),IF(Checklist!$I$385=\"No\",TAN((LEFT(I346, 5)+VLOOKUP(C346,Main!$K$3:$L$21,2,FALSE))*PI()/180),\"NR\"))","v":"NR"},{"$f":"VLOOKUP(C346,Main!$A$49:$I$67,Main!$B$47,FALSE)","v":"NR"},{"$f":"VLOOKUP(C346,Main!$A$49:$I$67,Main!$C$47,FALSE)","v":"NR"},{"$f":"VLOOKUP(C346,Main!$A$49:$I$67,Main!$E$47,FALSE)&\":\"&\" \"&VLOOKUP(C346,Main!$A$49:$I$67,Main!$F$47,FALSE)","v":"Minimum COP @ 5°F:: 1.75"},{"$f":"VLOOKUP(C346,Main!$A$49:$I$67,Main!$G$47,FALSE)","v":15},{"$f":"VLOOKUP(C346,Main!$A$49:$I$67,Main!$H$47,FALSE)","v":3.1},{"$f":"VLOOKUP(C346,Main!$A$49:$I$67,Main!$I$47,FALSE)","v":16.100000000000001},2690]
["IA","FAIR FIELD","5A",5951,1376,14.2,81.3,0.10970000000000001,"41.053N",1.3,24.5,27.2,40.1,52.7,63,72.400000000000006,76.099999999999994,74,65.3,53.6,41.6,28.2,792,641,353,85,6,0,0,0,3,69,292,680,1,1,47,166,410,671,809,745,463,182,39,4,19.600000000000001,15.08,36.700000000000003,47.3,53.4,61.7,68.72,63.86,56.5,27.5,27.5,20.5,0.81609195402298851,0.14749382065723893,69,37,19,24,{"$f":"IF(OR(C347=\"OA\",C347=\"OB\",C347=\"1B\",C347=\"1A\",C347=\"2A\",C347=\"2B\",C347=\"3A\",C347=\"3B\",C347=\"3C\"),TAN((LEFT(I347, 5)+VLOOKUP(C347,Main!$K$3:$L$21,2,FALSE))*PI()/180),IF(Checklist!$I$385=\"No\",TAN((LEFT(I347, 5)+VLOOKUP(C347,Main!$K$3:$L$21,2,FALSE))*PI()/180),\"NR\"))","v":"NR"},{"$f":"VLOOKUP(C347,Main!$A$49:$I$67,Main!$B$47,FALSE)","v":"NR"},{"$f":"VLOOKUP(C347,Main!$A$49:$I$67,Main!$C$47,FALSE)","v":"NR"},{"$f":"VLOOKUP(C347,Main!$A$49:$I$67,Main!$E$47,FALSE)&\":\"&\" \"&VLOOKUP(C347,Main!$A$49:$I$67,Main!$F$47,FALSE)","v":"Minimum COP @ 5°F:: 1.75"},{"$f":"VLOOKUP(C347,Main!$A$49:$I$67,Main!$G$47,FALSE)","v":15},{"$f":"VLOOKUP(C347,Main!$A$49:$I$67,Main!$H$47,FALSE)","v":3.1},{"$f":"VLOOKUP(C347,Main!$A$49:$I$67,Main!$I$47,FALSE)","v":16.100000000000001},3538]
["IA","FORT DODGE (AWOS)","5A",7143,1413,2.95,80.2,0.10970000000000001,"42.550N",-5.5,17.7,22.4,34.9,47.9,59.6,69.2,73.099999999999994,70.8,62.6,50.7,36.4,22.9,1001,774,493,155,16,0,0,0,7,113,425,840,0,0,25,92,312,577,717,644,386,134,16,0,12.2,22.82,23.7,38.659999999999997,48.6,60.08,64.58,61.7,52.9,26.8,26.8,11.8,0.84095427435387671,0.13384813384813382,73,41,22,27,{"$f":"IF(OR(C348=\"OA\",C348=\"OB\",C348=\"1B\",C348=\"1A\",C348=\"2A\",C348=\"2B\",C348=\"3A\",C348=\"3B\",C348=\"3C\"),TAN((LEFT(I348, 5)+VLOOKUP(C348,Main!$K$3:$L$21,2,FALSE))*PI()/180),IF(Checklist!$I$385=\"No\",TAN((LEFT(I348, 5)+VLOOKUP(C348,Main!$K$3:$L$21,2,FALSE))*PI()/180),\"NR\"))","v":"NR"},{"$f":"VLOOKUP(C348,Main!$A$49:$I$67,Main!$B$47,FALSE)","v":"NR"},{"$f":"VLOOKUP(C348,Main!$A$49:$I$67,Main!$C$47,FALSE)","v":"NR"},{"$f":"VLOOKUP(C348,Main!$A$49:$I$67,Main!$E$47,FALSE)&\":\"&\" \"&VLOOKUP(C348,Main!$A$49:$I$67,Main!$F$47,FALSE)","v":"Minimum COP @ 5°F:: 1.75"},{"$f":"VLOOKUP(C348,Main!$A$49:$I$67,Main!$G$47,FALSE)","v":15},{"$f":"VLOOKUP(C348,Main!$A$49:$I$67,Main!$H$47,FALSE)","v":3.1},{"$f":"VLOOKUP(C348,Main!$A$49:$I$67,Main!$I$47,FALSE)","v":16.100000000000001},2903]
["IA","FORT MADISON","4A",5508,1422,20.399999999999999,81.099999999999994,0.10970000000000001,"40.659N",5.5,26,30,42.1,53.5,64.400000000000006,72.599999999999994,76.599999999999994,75.599999999999994,67.2,55.8,42.2,31.3,744,562,309,75,4,0,0,0,1,50,270,583,1,3,64,179,449,678,823,793,516,229,37,3,19.899999999999999,24.62,36,47.3,52.3,60.62,69.08,64.760000000000005,61.7,32.200000000000003,32.200000000000003,27.1,0.80952380952380953,0.1574054054054054,67,36,18,23,{"$f":"IF(OR(C349=\"OA\",C349=\"OB\",C349=\"1B\",C349=\"1A\",C349=\"2A\",C349=\"2B\",C349=\"3A\",C349=\"3B\",C349=\"3C\"),TAN((LEFT(I349, 5)+VLOOKUP(C349,Main!$K$3:$L$21,2,FALSE))*PI()/180),IF(Checklist!$I$385=\"No\",TAN((LEFT(I349, 5)+VLOOKUP(C349,Main!$K$3:$L$21,2,FALSE))*PI()/180),\"NR\"))","v":"NR"},{"$f":"VLOOKUP(C349,Main!$A$49:$I$67,Main!$B$47,FALSE)","v":0.5},{"$f":"VLOOKUP(C349,Main!$A$49:$I$67,Main!$C$47,FALSE)","v":0.25},{"$f":"VLOOKUP(C349,Main!$A$49:$I$67,Main!$E$47,FALSE)&\":\"&\" \"&VLOOKUP(C349,Main!$A$49:$I$67,Main!$F$47,FALSE)","v":"Minimum HSPF:: 9.6"},{"$f":"VLOOKUP(C349,Main!$A$49:$I$67,Main!$G$47,FALSE)","v":18},{"$f":"VLOOKUP(C349,Main!$A$49:$I$67,Main!$H$47,FALSE)","v":3.1},{"$f":"VLOOKUP(C349,Main!$A$49:$I$67,Main!$I$47,FALSE)","v":16.100000000000001},3775]
["IA","KEOKUK MUNI","4A",5377,1534,22.4,83.5,0.10970000000000001,"40.460N",6.8,27.4,30.7,42.5,54.1,64.3,72.900000000000006,77.3,75.8,66.8,55.6,43.5,31.5,704,544,297,63,3,0,0,0,1,48,248,577,2,4,63,185,447,686,847,800,504,221,53,4,11.1,21.38,24.4,46.58,54.9,56.12,67.28,64.58,59,33.1,33.1,24.8,0.80295566502463056,0.16074898427839601,67,36,18,23,{"$f":"IF(OR(C350=\"OA\",C350=\"OB\",C350=\"1B\",C350=\"1A\",C350=\"2A\",C350=\"2B\",C350=\"3A\",C350=\"3B\",C350=\"3C\"),TAN((LEFT(I350, 5)+VLOOKUP(C350,Main!$K$3:$L$21,2,FALSE))*PI()/180),IF(Checklist!$I$385=\"No\",TAN((LEFT(I350, 5)+VLOOKUP(C350,Main!$K$3:$L$21,2,FALSE))*PI()/180),\"NR\"))","v":"NR"},{"$f":"VLOOKUP(C350,Main!$A$49:$I$67,Main!$B$47,FALSE)","v":0.5},{"$f":"VLOOKUP(C350,Main!$A$49:$I$67,Main!$C$47,FALSE)","v":0.25},{"$f":"VLOOKUP(C350,Main!$A$49:$I$67,Main!$E$47,FALSE)&\":\"&\" \"&VLOOKUP(C350,Main!$A$49:$I$67,Main!$F$47,FALSE)","v":"Minimum HSPF:: 9.6"},{"$f":"VLOOKUP(C350,Main!$A$49:$I$67,Main!$G$47,FALSE)","v":18},{"$f":"VLOOKUP(C350,Main!$A$49:$I$67,Main!$H$47,FALSE)","v":3.1},{"$f":"VLOOKUP(C350,Main!$A$49:$I$67,Main!$I$47,FALSE)","v":16.100000000000001},3816]
["IA","KNOXVILLE","5A",5820,1418,12.6,81.5,0.10970000000000001,"41.299N",2.7,25.2,28.3,39.9,52.9,63,72,76.400000000000006,74.7,66.099999999999994,53.8,42.4,29.7,768,611,369,72,6,0,0,0,2,70,283,635,1,2,56,158,408,659,818,766,485,187,55,5,17.100000000000001,14.36,25.7,43.52,52.9,64.040000000000006,62.6,63.68,63.5,30,30,19.899999999999999,0.81308411214953269,0.1506560158933819,68,37,19,24,{"$f":"IF(OR(C351=\"OA\",C351=\"OB\",C351=\"1B\",C351=\"1A\",C351=\"2A\",C351=\"2B\",C351=\"3A\",C351=\"3B\",C351=\"3C\"),TAN((LEFT(I351, 5)+VLOOKUP(C351,Main!$K$3:$L$21,2,FALSE))*PI()/180),IF(Checklist!$I$385=\"No\",TAN((LEFT(I351, 5)+VLOOKUP(C351,Main!$K$3:$L$21,2,FALSE))*PI()/180),\"NR\"))","v":"NR"},{"$f":"VLOOKUP(C351,Main!$A$49:$I$67,Main!$B$47,FALSE)","v":"NR"},{"$f":"VLOOKUP(C351,Main!$A$49:$I$67,Main!$C$47,FALSE)","v":"NR"},{"$f":"VLOOKUP(C351,Main!$A$49:$I$67,Main!$E$47,FALSE)&\":\"&\" \"&VLOOKUP(C351,Main!$A$49:$I$67,Main!$F$47,FALSE)","v":"Minimum COP @ 5°F:: 1.75"},{"$f":"VLOOKUP(C351,Main!$A$49:$I$67,Main!$G$47,FALSE)","v":15},{"$f":"VLOOKUP(C351,Main!$A$49:$I$67,Main!$H$47,FALSE)","v":3.1},{"$f":"VLOOKUP(C351,Main!$A$49:$I$67,Main!$I$47,FALSE)","v":16.100000000000001},3600]
["IA","LE MARS","5A",6750,1424,10.6,94.5,0.10970000000000001,"42.778N",-2,21.1,25,36.799999999999997,49.4,60.6,71.099999999999994,74.900000000000006,72.599999999999994,63.2,51.4,36.5,24.4,896,701,437,130,13,0,0,0,8,98,417,795,0,1,27,112,343,634,772,700,404,141,13,0,16.3,12.74,35.1,41.36,55.9,59,61.88,65.66,55.2,35.6,35.6,20.3,0.82942430703624737,0.14054054054054055,71,39,20,25,{"$f":"IF(OR(C352=\"OA\",C352=\"OB\",C352=\"1B\",C352=\"1A\",C352=\"2A\",C352=\"2B\",C352=\"3A\",C352=\"3B\",C352=\"3C\"),TAN((LEFT(I352, 5)+VLOOKUP(C352,Main!$K$3:$L$21,2,FALSE))*PI()/180),IF(Checklist!$I$385=\"No\",TAN((LEFT(I352, 5)+VLOOKUP(C352,Main!$K$3:$L$21,2,FALSE))*PI()/180),\"NR\"))","v":"NR"},{"$f":"VLOOKUP(C352,Main!$A$49:$I$67,Main!$B$47,FALSE)","v":"NR"},{"$f":"VLOOKUP(C352,Main!$A$49:$I$67,Main!$C$47,FALSE)","v":"NR"},{"$f":"VLOOKUP(C352,Main!$A$49:$I$67,Main!$E$47,FALSE)&\":\"&\" \"&VLOOKUP(C352,Main!$A$49:$I$67,Main!$F$47,FALSE)","v":"Minimum COP @ 5°F:: 1.75"},{"$f":"VLOOKUP(C352,Main!$A$49:$I$67,Main!$G$47,FALSE)","v":15},{"$f":"VLOOKUP(C352,Main!$A$49:$I$67,Main!$H$47,FALSE)","v":3.1},{"$f":"VLOOKUP(C352,Main!$A$49:$I$67,Main!$I$47,FALSE)","v":16.100000000000001},3147]
["IA","MASON CITY MUNICIPAL ARPT","6A",7562,1426,-4.55,77.5,0.10970000000000001,"43.154N",-6.3,16.2,21,33.1,46.5,58.4,68.400000000000006,71.599999999999994,69.400000000000006,61.2,48.9,34.299999999999997,21.2,1047,813,541,177,21,0,0,0,10,141,480,894,0,0,16,73,281,553,671,602,347,106,9,0,6.6,12.38,25.9,35.42,49.1,56.84,62.96,61.7,53.1,27.5,27.5,10.199999999999999,0.84555984555984554,0.13240696955367209,74,42,23,28,{"$f":"IF(OR(C353=\"OA\",C353=\"OB\",C353=\"1B\",C353=\"1A\",C353=\"2A\",C353=\"2B\",C353=\"3A\",C353=\"3B\",C353=\"3C\"),TAN((LEFT(I353, 5)+VLOOKUP(C353,Main!$K$3:$L$21,2,FALSE))*PI()/180),IF(Checklist!$I$385=\"No\",TAN((LEFT(I353, 5)+VLOOKUP(C353,Main!$K$3:$L$21,2,FALSE))*PI()/180),\"NR\"))","v":"NR"},{"$f":"VLOOKUP(C353,Main!$A$49:$I$67,Main!$B$47,FALSE)","v":"NR"},{"$f":"VLOOKUP(C353,Main!$A$49:$I$67,Main!$C$47,FALSE)","v":"NR"},{"$f":"VLOOKUP(C353,Main!$A$49:$I$67,Main!$E$47,FALSE)&\":\"&\" \"&VLOOKUP(C353,Main!$A$49:$I$67,Main!$F$47,FALSE)","v":"Minimum COP @ 5°F:: 1.75"},{"$f":"VLOOKUP(C353,Main!$A$49:$I$67,Main!$G$47,FALSE)","v":15},{"$f":"VLOOKUP(C353,Main!$A$49:$I$67,Main!$H$47,FALSE)","v":3.1},{"$f":"VLOOKUP(C353,Main!$A$49:$I$67,Main!$I$47,FALSE)","v":16.100000000000001},2658]
["IA","MONTICELLO MUNI","5A",6780,1327,-5.95,77.2,0.10970000000000001,"42.224N",-3.5,20.5,23.9,37.299999999999997,48.6,60.4,69.900000000000006,73,71.2,62.3,50.5,38,24.8,915,732,424,136,11,0,0,0,7,108,387,782,0,1,29,94,333,597,712,657,377,124,28,2,11.8,16.52,30.9,42.62,48.6,57.92,62.42,64.400000000000006,55.4,28,28,16.2,0.83157894736842108,0.13759213759213759,71,40,21,26,{"$f":"IF(OR(C354=\"OA\",C354=\"OB\",C354=\"1B\",C354=\"1A\",C354=\"2A\",C354=\"2B\",C354=\"3A\",C354=\"3B\",C354=\"3C\"),TAN((LEFT(I354, 5)+VLOOKUP(C354,Main!$K$3:$L$21,2,FALSE))*PI()/180),IF(Checklist!$I$385=\"No\",TAN((LEFT(I354, 5)+VLOOKUP(C354,Main!$K$3:$L$21,2,FALSE))*PI()/180),\"NR\"))","v":"NR"},{"$f":"VLOOKUP(C354,Main!$A$49:$I$67,Main!$B$47,FALSE)","v":"NR"},{"$f":"VLOOKUP(C354,Main!$A$49:$I$67,Main!$C$47,FALSE)","v":"NR"},{"$f":"VLOOKUP(C354,Main!$A$49:$I$67,Main!$E$47,FALSE)&\":\"&\" \"&VLOOKUP(C354,Main!$A$49:$I$67,Main!$F$47,FALSE)","v":"Minimum COP @ 5°F:: 1.75"},{"$f":"VLOOKUP(C354,Main!$A$49:$I$67,Main!$G$47,FALSE)","v":15},{"$f":"VLOOKUP(C354,Main!$A$49:$I$67,Main!$H$47,FALSE)","v":3.1},{"$f":"VLOOKUP(C354,Main!$A$49:$I$67,Main!$I$47,FALSE)","v":16.100000000000001},2954]
["IA","MUSCATINE","5A",5964,1418,15.25,79.2,0.10970000000000001,"41.367N",2.9,24.4,28.3,39.4,52.2,62.7,72.3,76.599999999999994,74,66,53.6,40.5,28.6,793,610,372,88,6,0,0,0,0,67,317,668,0,1,44,154,399,670,826,743,479,179,32,4,10.8,15.8,29.8,35.96,53.6,59.72,60.62,67.459999999999994,60.1,30.2,30.2,23.5,0.8165137614678899,0.15111886079628017,69,37,19,24,{"$f":"IF(OR(C355=\"OA\",C355=\"OB\",C355=\"1B\",C355=\"1A\",C355=\"2A\",C355=\"2B\",C355=\"3A\",C355=\"3B\",C355=\"3C\"),TAN((LEFT(I355, 5)+VLOOKUP(C355,Main!$K$3:$L$21,2,FALSE))*PI()/180),IF(Checklist!$I$385=\"No\",TAN((LEFT(I355, 5)+VLOOKUP(C355,Main!$K$3:$L$21,2,FALSE))*PI()/180),\"NR\"))","v":"NR"},{"$f":"VLOOKUP(C355,Main!$A$49:$I$67,Main!$B$47,FALSE)","v":"NR"},{"$f":"VLOOKUP(C355,Main!$A$49:$I$67,Main!$C$47,FALSE)","v":"NR"},{"$f":"VLOOKUP(C355,Main!$A$49:$I$67,Main!$E$47,FALSE)&\":\"&\" \"&VLOOKUP(C355,Main!$A$49:$I$67,Main!$F$47,FALSE)","v":"Minimum COP @ 5°F:: 1.75"},{"$f":"VLOOKUP(C355,Main!$A$49:$I$67,Main!$G$47,FALSE)","v":15},{"$f":"VLOOKUP(C355,Main!$A$49:$I$67,Main!$H$47,FALSE)","v":3.1},{"$f":"VLOOKUP(C355,Main!$A$49:$I$67,Main!$I$47,FALSE)","v":16.100000000000001},3531]
["IA","NEWTON MUNI","5A",6384,1265,-7.95,79.2,0.10970000000000001,"41.674N",0.5,22.8,25.7,37.9,50.7,61.3,70.7,75.099999999999994,72.599999999999994,64.2,52.6,38.9,26.4,844,682,414,106,9,0,0,0,3,87,358,734,0,1,40,127,358,621,778,701,427,167,24,1,20.8,17.420000000000002,37.799999999999997,43.88,50.2,62.42,64.22,60.8,52.7,26.8,26.8,18.100000000000001,0.82300884955752218,0.14574574574574573,70,38,20,25,{"$f":"IF(OR(C356=\"OA\",C356=\"OB\",C356=\"1B\",C356=\"1A\",C356=\"2A\",C356=\"2B\",C356=\"3A\",C356=\"3B\",C356=\"3C\"),TAN((LEFT(I356, 5)+VLOOKUP(C356,Main!$K$3:$L$21,2,FALSE))*PI()/180),IF(Checklist!$I$385=\"No\",TAN((LEFT(I356, 5)+VLOOKUP(C356,Main!$K$3:$L$21,2,FALSE))*PI()/180),\"NR\"))","v":"NR"},{"$f":"VLOOKUP(C356,Main!$A$49:$I$67,Main!$B$47,FALSE)","v":"NR"},{"$f":"VLOOKUP(C356,Main!$A$49:$I$67,Main!$C$47,FALSE)","v":"NR"},{"$f":"VLOOKUP(C356,Main!$A$49:$I$67,Main!$E$47,FALSE)&\":\"&\" \"&VLOOKUP(C356,Main!$A$49:$I$67,Main!$F$47,FALSE)","v":"Minimum COP @ 5°F:: 1.75"},{"$f":"VLOOKUP(C356,Main!$A$49:$I$67,Main!$G$47,FALSE)","v":15},{"$f":"VLOOKUP(C356,Main!$A$49:$I$67,Main!$H$47,FALSE)","v":3.1},{"$f":"VLOOKUP(C356,Main!$A$49:$I$67,Main!$I$47,FALSE)","v":16.100000000000001},3245]
["IA","OELWEN","5A",6936,1307,12.75,79.900000000000006,0.10970000000000001,"42.681N",-3.5,19.5,22.7,35.799999999999997,49.1,60.3,69.7,72.099999999999994,70.400000000000006,63.8,49.8,36.5,24.7,944,765,465,128,12,0,0,0,4,124,420,786,0,1,24,100,333,590,685,631,417,120,15,2,18.3,24.08,32.4,39.200000000000003,49.1,60.26,60.26,63.5,50.9,31.1,31.1,19.399999999999999,0.83505154639175261,0.13759213759213759,72,40,21,26,{"$f":"IF(OR(C357=\"OA\",C357=\"OB\",C357=\"1B\",C357=\"1A\",C357=\"2A\",C357=\"2B\",C357=\"3A\",C357=\"3B\",C357=\"3C\"),TAN((LEFT(I357, 5)+VLOOKUP(C357,Main!$K$3:$L$21,2,FALSE))*PI()/180),IF(Checklist!$I$385=\"No\",TAN((LEFT(I357, 5)+VLOOKUP(C357,Main!$K$3:$L$21,2,FALSE))*PI()/180),\"NR\"))","v":"NR"},{"$f":"VLOOKUP(C357,Main!$A$49:$I$67,Main!$B$47,FALSE)","v":"NR"},{"$f":"VLOOKUP(C357,Main!$A$49:$I$67,Main!$C$47,FALSE)","v":"NR"},{"$f":"VLOOKUP(C357,Main!$A$49:$I$67,Main!$E$47,FALSE)&\":\"&\" \"&VLOOKUP(C357,Main!$A$49:$I$67,Main!$F$47,FALSE)","v":"Minimum COP @ 5°F:: 1.75"},{"$f":"VLOOKUP(C357,Main!$A$49:$I$67,Main!$G$47,FALSE)","v":15},{"$f":"VLOOKUP(C357,Main!$A$49:$I$67,Main!$H$47,FALSE)","v":3.1},{"$f":"VLOOKUP(C357,Main!$A$49:$I$67,Main!$I$47,FALSE)","v":16.100000000000001},2918]
["IA","ORANGE CITY","5A",6899,1376,8.25,78.3,0.10970000000000001,"42.990N",-3.7,19.7,24.1,35.700000000000003,49.6,60.7,70.5,74.7,72.400000000000006,64.3,51,36.5,22.5,939,726,473,127,14,0,0,0,4,109,419,851,0,0,29,115,344,615,764,693,432,141,13,0,12.6,18.14,37.200000000000003,37.58,44.4,59,64.94,67.64,52.3,25.3,25.3,21.7,0.83436853002070388,0.13720833804515811,72,40,21,26,{"$f":"IF(OR(C358=\"OA\",C358=\"OB\",C358=\"1B\",C358=\"1A\",C358=\"2A\",C358=\"2B\",C358=\"3A\",C358=\"3B\",C358=\"3C\"),TAN((LEFT(I358, 5)+VLOOKUP(C358,Main!$K$3:$L$21,2,FALSE))*PI()/180),IF(Checklist!$I$385=\"No\",TAN((LEFT(I358, 5)+VLOOKUP(C358,Main!$K$3:$L$21,2,FALSE))*PI()/180),\"NR\"))","v":"NR"},{"$f":"VLOOKUP(C358,Main!$A$49:$I$67,Main!$B$47,FALSE)","v":"NR"},{"$f":"VLOOKUP(C358,Main!$A$49:$I$67,Main!$C$47,FALSE)","v":"NR"},{"$f":"VLOOKUP(C358,Main!$A$49:$I$67,Main!$E$47,FALSE)&\":\"&\" \"&VLOOKUP(C358,Main!$A$49:$I$67,Main!$F$47,FALSE)","v":"Minimum COP @ 5°F:: 1.75"},{"$f":"VLOOKUP(C358,Main!$A$49:$I$67,Main!$G$47,FALSE)","v":15},{"$f":"VLOOKUP(C358,Main!$A$49:$I$67,Main!$H$47,FALSE)","v":3.1},{"$f":"VLOOKUP(C358,Main!$A$49:$I$67,Main!$I$47,FALSE)","v":16.100000000000001},3146]
["IA","OTTUMWA INDUSTRIAL AP","5A",6125,1315,4.55,80.8,0.10970000000000001,"41.108N",0.9,23.4,27.9,39.5,51.3,61.9,71.400000000000006,75.099999999999994,73.3,64.8,53.2,39.799999999999997,27.7,826,620,367,97,8,0,0,0,3,76,333,693,0,2,43,137,377,642,779,723,448,174,28,3,17.2,15.8,30.6,42.44,48,62.96,66.56,59.9,53.4,33.1,33.1,7,0.820627802690583,0.14661457284408103,69,38,20,25,{"$f":"IF(OR(C359=\"OA\",C359=\"OB\",C359=\"1B\",C359=\"1A\",C359=\"2A\",C359=\"2B\",C359=\"3A\",C359=\"3B\",C359=\"3C\"),TAN((LEFT(I359, 5)+VLOOKUP(C359,Main!$K$3:$L$21,2,FALSE))*PI()/180),IF(Checklist!$I$385=\"No\",TAN((LEFT(I359, 5)+VLOOKUP(C359,Main!$K$3:$L$21,2,FALSE))*PI()/180),\"NR\"))","v":"NR"},{"$f":"VLOOKUP(C359,Main!$A$49:$I$67,Main!$B$47,FALSE)","v":"NR"},{"$f":"VLOOKUP(C359,Main!$A$49:$I$67,Main!$C$47,FALSE)","v":"NR"},{"$f":"VLOOKUP(C359,Main!$A$49:$I$67,Main!$E$47,FALSE)&\":\"&\" \"&VLOOKUP(C359,Main!$A$49:$I$67,Main!$F$47,FALSE)","v":"Minimum COP @ 5°F:: 1.75"},{"$f":"VLOOKUP(C359,Main!$A$49:$I$67,Main!$G$47,FALSE)","v":15},{"$f":"VLOOKUP(C359,Main!$A$49:$I$67,Main!$H$47,FALSE)","v":3.1},{"$f":"VLOOKUP(C359,Main!$A$49:$I$67,Main!$I$47,FALSE)","v":16.100000000000001},3356]
["IA","RED OAK","5A",5812,1439,9.4499999999999993,81.099999999999994,0.10970000000000001,"41.010N",2.5,25.2,29.6,40.6,52.9,63.7,72.8,77,74.599999999999994,65.400000000000006,54.2,41,28.9,769,574,341,81,6,0,0,0,2,65,306,657,0,3,49,168,430,684,837,762,464,196,37,2,12.6,14.9,33.299999999999997,45.68,51.6,63.5,65.66,63.86,53.6,25.7,25.7,19.2,0.81308411214953269,0.15019599752424179,68,37,19,24,{"$f":"IF(OR(C360=\"OA\",C360=\"OB\",C360=\"1B\",C360=\"1A\",C360=\"2A\",C360=\"2B\",C360=\"3A\",C360=\"3B\",C360=\"3C\"),TAN((LEFT(I360, 5)+VLOOKUP(C360,Main!$K$3:$L$21,2,FALSE))*PI()/180),IF(Checklist!$I$385=\"No\",TAN((LEFT(I360, 5)+VLOOKUP(C360,Main!$K$3:$L$21,2,FALSE))*PI()/180),\"NR\"))","v":"NR"},{"$f":"VLOOKUP(C360,Main!$A$49:$I$67,Main!$B$47,FALSE)","v":"NR"},{"$f":"VLOOKUP(C360,Main!$A$49:$I$67,Main!$C$47,FALSE)","v":"NR"},{"$f":"VLOOKUP(C360,Main!$A$49:$I$67,Main!$E$47,FALSE)&\":\"&\" \"&VLOOKUP(C360,Main!$A$49:$I$67,Main!$F$47,FALSE)","v":"Minimum COP @ 5°F:: 1.75"},{"$f":"VLOOKUP(C360,Main!$A$49:$I$67,Main!$G$47,FALSE)","v":15},{"$f":"VLOOKUP(C360,Main!$A$49:$I$67,Main!$H$47,FALSE)","v":3.1},{"$f":"VLOOKUP(C360,Main!$A$49:$I$67,Main!$I$47,FALSE)","v":16.100000000000001},3632]
["IA","SHELDON","6A",7220,1313,6.55,80.099999999999994,0.10970000000000001,"43.208N",-4.9000000000000004,18.5,22.5,34.200000000000003,48.1,59.8,69.8,73.400000000000006,70.2,61.6,49.2,35.299999999999997,23.2,976,769,509,150,21,0,0,0,10,138,451,830,0,0,21,94,326,594,724,625,358,115,11,0,13.5,29.48,35.4,41.9,47.8,60.08,68.900000000000006,65.66,52.5,18.100000000000001,18.100000000000001,17.399999999999999,0.83838383838383834,0.13494976457939417,73,41,22,27,{"$f":"IF(OR(C361=\"OA\",C361=\"OB\",C361=\"1B\",C361=\"1A\",C361=\"2A\",C361=\"2B\",C361=\"3A\",C361=\"3B\",C361=\"3C\"),TAN((LEFT(I361, 5)+VLOOKUP(C361,Main!$K$3:$L$21,2,FALSE))*PI()/180),IF(Checklist!$I$385=\"No\",TAN((LEFT(I361, 5)+VLOOKUP(C361,Main!$K$3:$L$21,2,FALSE))*PI()/180),\"NR\"))","v":"NR"},{"$f":"VLOOKUP(C361,Main!$A$49:$I$67,Main!$B$47,FALSE)","v":"NR"},{"$f":"VLOOKUP(C361,Main!$A$49:$I$67,Main!$C$47,FALSE)","v":"NR"},{"$f":"VLOOKUP(C361,Main!$A$49:$I$67,Main!$E$47,FALSE)&\":\"&\" \"&VLOOKUP(C361,Main!$A$49:$I$67,Main!$F$47,FALSE)","v":"Minimum COP @ 5°F:: 1.75"},{"$f":"VLOOKUP(C361,Main!$A$49:$I$67,Main!$G$47,FALSE)","v":15},{"$f":"VLOOKUP(C361,Main!$A$49:$I$67,Main!$H$47,FALSE)","v":3.1},{"$f":"VLOOKUP(C361,Main!$A$49:$I$67,Main!$I$47,FALSE)","v":16.100000000000001},2868]
["IA","SHENANDOAH MUNI","5A",5708,1415,13.45,81.7,0.10970000000000001,"40.751N",2.8,25.9,29.6,41.1,53,64.5,73.099999999999994,77.599999999999994,74.7,66.2,55.1,40.9,29.4,747,576,330,81,5,0,0,0,2,57,303,646,0,3,55,171,454,694,855,765,489,216,29,7,18.7,18.86,28.6,42.26,55,64.58,64.400000000000006,70.52,56.7,28.9,28.9,19.399999999999999,0.80997624703087889,0.1508870834024208,68,36,19,24,{"$f":"IF(OR(C362=\"OA\",C362=\"OB\",C362=\"1B\",C362=\"1A\",C362=\"2A\",C362=\"2B\",C362=\"3A\",C362=\"3B\",C362=\"3C\"),TAN((LEFT(I362, 5)+VLOOKUP(C362,Main!$K$3:$L$21,2,FALSE))*PI()/180),IF(Checklist!$I$385=\"No\",TAN((LEFT(I362, 5)+VLOOKUP(C362,Main!$K$3:$L$21,2,FALSE))*PI()/180),\"NR\"))","v":"NR"},{"$f":"VLOOKUP(C362,Main!$A$49:$I$67,Main!$B$47,FALSE)","v":"NR"},{"$f":"VLOOKUP(C362,Main!$A$49:$I$67,Main!$C$47,FALSE)","v":"NR"},{"$f":"VLOOKUP(C362,Main!$A$49:$I$67,Main!$E$47,FALSE)&\":\"&\" \"&VLOOKUP(C362,Main!$A$49:$I$67,Main!$F$47,FALSE)","v":"Minimum COP @ 5°F:: 1.75"},{"$f":"VLOOKUP(C362,Main!$A$49:$I$67,Main!$G$47,FALSE)","v":15},{"$f":"VLOOKUP(C362,Main!$A$49:$I$67,Main!$H$47,FALSE)","v":3.1},{"$f":"VLOOKUP(C362,Main!$A$49:$I$67,Main!$I$47,FALSE)","v":16.100000000000001},3738]
["IA","SIOUX CITY SIOUX GATEWAY AP","5A",6733,1517,9.4,84.4,0.10970000000000001,"42.391N",-2.5,20.399999999999999,25.5,37,49.6,61.2,70.8,74.5,72.400000000000006,64,51.3,36.4,24.1,917,687,431,126,11,0,0,0,5,102,422,802,0,0,29,113,357,624,760,696,424,142,15,0,7.2,20.48,26.1,38.299999999999997,49.3,56.66,62.42,62.42,53.1,25.2,25.2,12,0.83193277310924374,0.1395437991182672,71,39,21,26,{"$f":"IF(OR(C363=\"OA\",C363=\"OB\",C363=\"1B\",C363=\"1A\",C363=\"2A\",C363=\"2B\",C363=\"3A\",C363=\"3B\",C363=\"3C\"),TAN((LEFT(I363, 5)+VLOOKUP(C363,Main!$K$3:$L$21,2,FALSE))*PI()/180),IF(Checklist!$I$385=\"No\",TAN((LEFT(I363, 5)+VLOOKUP(C363,Main!$K$3:$L$21,2,FALSE))*PI()/180),\"NR\"))","v":"NR"},{"$f":"VLOOKUP(C363,Main!$A$49:$I$67,Main!$B$47,FALSE)","v":"NR"},{"$f":"VLOOKUP(C363,Main!$A$49:$I$67,Main!$C$47,FALSE)","v":"NR"},{"$f":"VLOOKUP(C363,Main!$A$49:$I$67,Main!$E$47,FALSE)&\":\"&\" \"&VLOOKUP(C363,Main!$A$49:$I$67,Main!$F$47,FALSE)","v":"Minimum COP @ 5°F:: 1.75"},{"$f":"VLOOKUP(C363,Main!$A$49:$I$67,Main!$G$47,FALSE)","v":15},{"$f":"VLOOKUP(C363,Main!$A$49:$I$67,Main!$H$47,FALSE)","v":3.1},{"$f":"VLOOKUP(C363,Main!$A$49:$I$67,Main!$I$47,FALSE)","v":16.100000000000001},3160]
["IA","SPENCER","6A",7475,1274,1.3,78.599999999999994,0.10970000000000001,"43.164N",-6.9,17,21.4,33.299999999999997,47,58.8,68.8,72.7,70,62.2,49.1,34.4,21.1,1022,801,535,172,23,1,0,0,9,138,479,895,0,0,17,83,296,566,702,620,374,112,11,0,10.199999999999999,18.32,24.4,39.56,45,54.68,63.5,60.26,50.4,28.8,28.8,3.2,0.84313725490196079,0.13134629957059862,74,42,22,27,{"$f":"IF(OR(C364=\"OA\",C364=\"OB\",C364=\"1B\",C364=\"1A\",C364=\"2A\",C364=\"2B\",C364=\"3A\",C364=\"3B\",C364=\"3C\"),TAN((LEFT(I364, 5)+VLOOKUP(C364,Main!$K$3:$L$21,2,FALSE))*PI()/180),IF(Checklist!$I$385=\"No\",TAN((LEFT(I364, 5)+VLOOKUP(C364,Main!$K$3:$L$21,2,FALSE))*PI()/180),\"NR\"))","v":"NR"},{"$f":"VLOOKUP(C364,Main!$A$49:$I$67,Main!$B$47,FALSE)","v":"NR"},{"$f":"VLOOKUP(C364,Main!$A$49:$I$67,Main!$C$47,FALSE)","v":"NR"},{"$f":"VLOOKUP(C364,Main!$A$49:$I$67,Main!$E$47,FALSE)&\":\"&\" \"&VLOOKUP(C364,Main!$A$49:$I$67,Main!$F$47,FALSE)","v":"Minimum COP @ 5°F:: 1.75"},{"$f":"VLOOKUP(C364,Main!$A$49:$I$67,Main!$G$47,FALSE)","v":15},{"$f":"VLOOKUP(C364,Main!$A$49:$I$67,Main!$H$47,FALSE)","v":3.1},{"$f":"VLOOKUP(C364,Main!$A$49:$I$67,Main!$I$47,FALSE)","v":16.100000000000001},2781]
["IA","STORM LAKE","5A",6820,1368,8.4,79.7,0.10970000000000001,"42.597N",-4,20.3,23.7,35.799999999999997,49.4,61.1,70.7,74.400000000000006,71.599999999999994,64,51.7,37.200000000000003,23.7,922,738,471,133,15,0,0,0,5,102,403,815,0,1,29,115,358,621,756,669,426,154,17,0,17.2,11.12,22.1,39.020000000000003,39.6,55.58,61.88,67.459999999999994,51.8,24.4,24.4,17.2,0.83228511530398319,0.13663663663663661,72,40,21,26,{"$f":"IF(OR(C365=\"OA\",C365=\"OB\",C365=\"1B\",C365=\"1A\",C365=\"2A\",C365=\"2B\",C365=\"3A\",C365=\"3B\",C365=\"3C\"),TAN((LEFT(I365, 5)+VLOOKUP(C365,Main!$K$3:$L$21,2,FALSE))*PI()/180),IF(Checklist!$I$385=\"No\",TAN((LEFT(I365, 5)+VLOOKUP(C365,Main!$K$3:$L$21,2,FALSE))*PI()/180),\"NR\"))","v":"NR"},{"$f":"VLOOKUP(C365,Main!$A$49:$I$67,Main!$B$47,FALSE)","v":"NR"},{"$f":"VLOOKUP(C365,Main!$A$49:$I$67,Main!$C$47,FALSE)","v":"NR"},{"$f":"VLOOKUP(C365,Main!$A$49:$I$67,Main!$E$47,FALSE)&\":\"&\" \"&VLOOKUP(C365,Main!$A$49:$I$67,Main!$F$47,FALSE)","v":"Minimum COP @ 5°F:: 1.75"},{"$f":"VLOOKUP(C365,Main!$A$49:$I$67,Main!$G$47,FALSE)","v":15},{"$f":"VLOOKUP(C365,Main!$A$49:$I$67,Main!$H$47,FALSE)","v":3.1},{"$f":"VLOOKUP(C365,Main!$A$49:$I$67,Main!$I$47,FALSE)","v":16.100000000000001},3146]
["IA","WASHINGTON","5A",5951,1309,14.65,78.599999999999994,0.10970000000000001,"41.276N",2.7,25,28,40,52.5,63.3,72.3,75.5,73.7,64.8,53.8,40.5,28,775,618,357,80,4,0,0,0,4,70,319,685,0,2,46,154,415,668,790,734,449,189,35,3,21.2,17.78,30.2,41.36,51.4,58.64,68.180000000000007,65.66,59.5,27.5,27.5,21.6,0.81395348837209303,0.1506560158933819,69,37,19,24,{"$f":"IF(OR(C366=\"OA\",C366=\"OB\",C366=\"1B\",C366=\"1A\",C366=\"2A\",C366=\"2B\",C366=\"3A\",C366=\"3B\",C366=\"3C\"),TAN((LEFT(I366, 5)+VLOOKUP(C366,Main!$K$3:$L$21,2,FALSE))*PI()/180),IF(Checklist!$I$385=\"No\",TAN((LEFT(I366, 5)+VLOOKUP(C366,Main!$K$3:$L$21,2,FALSE))*PI()/180),\"NR\"))","v":"NR"},{"$f":"VLOOKUP(C366,Main!$A$49:$I$67,Main!$B$47,FALSE)","v":"NR"},{"$f":"VLOOKUP(C366,Main!$A$49:$I$67,Main!$C$47,FALSE)","v":"NR"},{"$f":"VLOOKUP(C366,Main!$A$49:$I$67,Main!$E$47,FALSE)&\":\"&\" \"&VLOOKUP(C366,Main!$A$49:$I$67,Main!$F$47,FALSE)","v":"Minimum COP @ 5°F:: 1.75"},{"$f":"VLOOKUP(C366,Main!$A$49:$I$67,Main!$G$47,FALSE)","v":15},{"$f":"VLOOKUP(C366,Main!$A$49:$I$67,Main!$H$47,FALSE)","v":3.1},{"$f":"VLOOKUP(C366,Main!$A$49:$I$67,Main!$I$47,FALSE)","v":16.100000000000001},3485]
["IA","WATERLOO MUNICIPAL AP","5A",7016,1444,3.35,78.400000000000006,0.10970000000000001,"42.554N",-4.5,18.5,23.3,35.6,48.4,60.1,70,73,70.900000000000006,62.9,50.5,36.4,23.4,977,747,471,139,14,0,0,0,5,113,423,825,0,0,24,92,328,601,712,646,392,130,15,1,9.1,13.82,25,33.44,45.7,56.12,64.22,61.34,50.7,29.7,29.7,16.3,0.83838383838383834,0.13569431500465981,72,40,22,27,{"$f":"IF(OR(C367=\"OA\",C367=\"OB\",C367=\"1B\",C367=\"1A\",C367=\"2A\",C367=\"2B\",C367=\"3A\",C367=\"3B\",C367=\"3C\"),TAN((LEFT(I367, 5)+VLOOKUP(C367,Main!$K$3:$L$21,2,FALSE))*PI()/180),IF(Checklist!$I$385=\"No\",TAN((LEFT(I367, 5)+VLOOKUP(C367,Main!$K$3:$L$21,2,FALSE))*PI()/180),\"NR\"))","v":"NR"},{"$f":"VLOOKUP(C367,Main!$A$49:$I$67,Main!$B$47,FALSE)","v":"NR"},{"$f":"VLOOKUP(C367,Main!$A$49:$I$67,Main!$C$47,FALSE)","v":"NR"},{"$f":"VLOOKUP(C367,Main!$A$49:$I$67,Main!$E$47,FALSE)&\":\"&\" \"&VLOOKUP(C367,Main!$A$49:$I$67,Main!$F$47,FALSE)","v":"Minimum COP @ 5°F:: 1.75"},{"$f":"VLOOKUP(C367,Main!$A$49:$I$67,Main!$G$47,FALSE)","v":15},{"$f":"VLOOKUP(C367,Main!$A$49:$I$67,Main!$H$47,FALSE)","v":3.1},{"$f":"VLOOKUP(C367,Main!$A$49:$I$67,Main!$I$47,FALSE)","v":16.100000000000001},2941]
["IA","WEBSTER CITY","5A",6738,1351,10.25,90.7,0.10970000000000001,"42.436N",-2.2999999999999998,20.9,24.7,36,49.5,61.2,71.099999999999994,74.7,71.8,63.3,51.6,37.6,23.9,902,712,463,125,12,0,0,0,4,100,389,809,0,2,28,109,361,633,765,677,404,149,18,1,14.5,20.48,32,42.08,41.7,60.26,65.66,64.760000000000005,54.9,25.2,25.2,21.2,0.83014861995753719,0.13994079427934333,71,39,20,25,{"$f":"IF(OR(C368=\"OA\",C368=\"OB\",C368=\"1B\",C368=\"1A\",C368=\"2A\",C368=\"2B\",C368=\"3A\",C368=\"3B\",C368=\"3C\"),TAN((LEFT(I368, 5)+VLOOKUP(C368,Main!$K$3:$L$21,2,FALSE))*PI()/180),IF(Checklist!$I$385=\"No\",TAN((LEFT(I368, 5)+VLOOKUP(C368,Main!$K$3:$L$21,2,FALSE))*PI()/180),\"NR\"))","v":"NR"},{"$f":"VLOOKUP(C368,Main!$A$49:$I$67,Main!$B$47,FALSE)","v":"NR"},{"$f":"VLOOKUP(C368,Main!$A$49:$I$67,Main!$C$47,FALSE)","v":"NR"},{"$f":"VLOOKUP(C368,Main!$A$49:$I$67,Main!$E$47,FALSE)&\":\"&\" \"&VLOOKUP(C368,Main!$A$49:$I$67,Main!$F$47,FALSE)","v":"Minimum COP @ 5°F:: 1.75"},{"$f":"VLOOKUP(C368,Main!$A$49:$I$67,Main!$G$47,FALSE)","v":15},{"$f":"VLOOKUP(C368,Main!$A$49:$I$67,Main!$H$47,FALSE)","v":3.1},{"$f":"VLOOKUP(C368,Main!$A$49:$I$67,Main!$I$47,FALSE)","v":16.100000000000001},3147]
["ID","BOISE AIR TERMINAL [UO]","5B",5414,1619,26.7,81.5,9.2399999999999996E-2,"43.567N",15.9,31.9,37.1,44.7,50.5,59.1,67.099999999999994,77,75.400000000000006,66.400000000000006,52.9,40,31.8,560,362,190,81,14,0,0,0,1,58,312,565,0,1,26,95,297,512,837,788,494,149,12,1,24.1,28.04,27.1,34.340000000000003,38.5,39.020000000000003,42.62,39.380000000000003,38.5,28.6,28.6,26.1,0.77900552486187835,0.18882606214659955,65,35,17,22,{"$f":"IF(OR(C369=\"OA\",C369=\"OB\",C369=\"1B\",C369=\"1A\",C369=\"2A\",C369=\"2B\",C369=\"3A\",C369=\"3B\",C369=\"3C\"),TAN((LEFT(I369, 5)+VLOOKUP(C369,Main!$K$3:$L$21,2,FALSE))*PI()/180),IF(Checklist!$I$385=\"No\",TAN((LEFT(I369, 5)+VLOOKUP(C369,Main!$K$3:$L$21,2,FALSE))*PI()/180),\"NR\"))","v":"NR"},{"$f":"VLOOKUP(C369,Main!$A$49:$I$67,Main!$B$47,FALSE)","v":"NR"},{"$f":"VLOOKUP(C369,Main!$A$49:$I$67,Main!$C$47,FALSE)","v":"NR"},{"$f":"VLOOKUP(C369,Main!$A$49:$I$67,Main!$E$47,FALSE)&\":\"&\" \"&VLOOKUP(C369,Main!$A$49:$I$67,Main!$F$47,FALSE)","v":"Minimum COP @ 5°F:: 1.75"},{"$f":"VLOOKUP(C369,Main!$A$49:$I$67,Main!$G$47,FALSE)","v":15},{"$f":"VLOOKUP(C369,Main!$A$49:$I$67,Main!$H$47,FALSE)","v":3.1},{"$f":"VLOOKUP(C369,Main!$A$49:$I$67,Main!$I$47,FALSE)","v":16.100000000000001},3212]
["ID","BURLEY MUNICIPAL ARPT","5B",6292,1695,26.25,76.099999999999994,9.2399999999999996E-2,"42.542N",9.1999999999999993,28.8,33,41.3,47.1,55.4,63.2,72.2,70,61.3,49.6,37.799999999999997,28.9,657,476,278,138,34,3,0,0,5,103,372,653,0,0,10,52,201,400,688,621,345,91,6,0,22.5,19.940000000000001,26.2,30.2,33.4,42.62,51.08,46.76,39.6,27.9,27.9,26.2,0.79591836734693866,0.16731016731016729,68,37,19,24,{"$f":"IF(OR(C370=\"OA\",C370=\"OB\",C370=\"1B\",C370=\"1A\",C370=\"2A\",C370=\"2B\",C370=\"3A\",C370=\"3B\",C370=\"3C\"),TAN((LEFT(I370, 5)+VLOOKUP(C370,Main!$K$3:$L$21,2,FALSE))*PI()/180),IF(Checklist!$I$385=\"No\",TAN((LEFT(I370, 5)+VLOOKUP(C370,Main!$K$3:$L$21,2,FALSE))*PI()/180),\"NR\"))","v":"NR"},{"$f":"VLOOKUP(C370,Main!$A$49:$I$67,Main!$B$47,FALSE)","v":"NR"},{"$f":"VLOOKUP(C370,Main!$A$49:$I$67,Main!$C$47,FALSE)","v":"NR"},{"$f":"VLOOKUP(C370,Main!$A$49:$I$67,Main!$E$47,FALSE)&\":\"&\" \"&VLOOKUP(C370,Main!$A$49:$I$67,Main!$F$47,FALSE)","v":"Minimum COP @ 5°F:: 1.75"},{"$f":"VLOOKUP(C370,Main!$A$49:$I$67,Main!$G$47,FALSE)","v":15},{"$f":"VLOOKUP(C370,Main!$A$49:$I$67,Main!$H$47,FALSE)","v":3.1},{"$f":"VLOOKUP(C370,Main!$A$49:$I$67,Main!$I$47,FALSE)","v":16.100000000000001},2414]
["ID","CALDWELL (AWOS)","5B",5739,1700,22.75,78.3,9.2399999999999996E-2,"43.650N",15.7,30.7,35.9,43.9,49.4,58.2,65.5,74.3,72,63,50.6,38.5,31,597,396,206,86,13,0,0,0,1,71,352,588,0,0,17,69,266,466,754,681,391,88,6,0,28.9,25.34,27.7,33.08,34.700000000000003,43.88,45.32,40.64,37.6,28.6,28.6,20.8,0.78552278820375343,0.18810397395483436,66,35,18,23,{"$f":"IF(OR(C371=\"OA\",C371=\"OB\",C371=\"1B\",C371=\"1A\",C371=\"2A\",C371=\"2B\",C371=\"3A\",C371=\"3B\",C371=\"3C\"),TAN((LEFT(I371, 5)+VLOOKUP(C371,Main!$K$3:$L$21,2,FALSE))*PI()/180),IF(Checklist!$I$385=\"No\",TAN((LEFT(I371, 5)+VLOOKUP(C371,Main!$K$3:$L$21,2,FALSE))*PI()/180),\"NR\"))","v":"NR"},{"$f":"VLOOKUP(C371,Main!$A$49:$I$67,Main!$B$47,FALSE)","v":"NR"},{"$f":"VLOOKUP(C371,Main!$A$49:$I$67,Main!$C$47,FALSE)","v":"NR"},{"$f":"VLOOKUP(C371,Main!$A$49:$I$67,Main!$E$47,FALSE)&\":\"&\" \"&VLOOKUP(C371,Main!$A$49:$I$67,Main!$F$47,FALSE)","v":"Minimum COP @ 5°F:: 1.75"},{"$f":"VLOOKUP(C371,Main!$A$49:$I$67,Main!$G$47,FALSE)","v":15},{"$f":"VLOOKUP(C371,Main!$A$49:$I$67,Main!$H$47,FALSE)","v":3.1},{"$f":"VLOOKUP(C371,Main!$A$49:$I$67,Main!$I$47,FALSE)","v":16.100000000000001},2738]
["ID","COEUR D`ALENE(AWOS)","5B",6875,1387,10.75,77,9.2399999999999996E-2,"47.767N",10.4,29.3,31.5,38.4,45.2,53.7,59.5,68,67.3,59.3,46.6,36,28.6,641,518,362,172,40,5,0,0,8,145,422,664,0,0,1,26,157,288,558,536,285,40,2,0,22.8,24.98,29.3,34.520000000000003,37.9,46.58,49.1,43.7,42.1,31.1,31.1,24.4,0.79695431472081213,0.17079579579579576,69,39,21,26,{"$f":"IF(OR(C372=\"OA\",C372=\"OB\",C372=\"1B\",C372=\"1A\",C372=\"2A\",C372=\"2B\",C372=\"3A\",C372=\"3B\",C372=\"3C\"),TAN((LEFT(I372, 5)+VLOOKUP(C372,Main!$K$3:$L$21,2,FALSE))*PI()/180),IF(Checklist!$I$385=\"No\",TAN((LEFT(I372, 5)+VLOOKUP(C372,Main!$K$3:$L$21,2,FALSE))*PI()/180),\"NR\"))","v":"NR"},{"$f":"VLOOKUP(C372,Main!$A$49:$I$67,Main!$B$47,FALSE)","v":"NR"},{"$f":"VLOOKUP(C372,Main!$A$49:$I$67,Main!$C$47,FALSE)","v":"NR"},{"$f":"VLOOKUP(C372,Main!$A$49:$I$67,Main!$E$47,FALSE)&\":\"&\" \"&VLOOKUP(C372,Main!$A$49:$I$67,Main!$F$47,FALSE)","v":"Minimum COP @ 5°F:: 1.75"},{"$f":"VLOOKUP(C372,Main!$A$49:$I$67,Main!$G$47,FALSE)","v":15},{"$f":"VLOOKUP(C372,Main!$A$49:$I$67,Main!$H$47,FALSE)","v":3.1},{"$f":"VLOOKUP(C372,Main!$A$49:$I$67,Main!$I$47,FALSE)","v":16.100000000000001},1893]
["ID","IDAHO FALLS FANNING FIELD","5B",7672,1622,10.6,71.400000000000006,9.2399999999999996E-2,"43.516N",-0.3,20.5,25,36.5,44.9,53.1,60.5,68.900000000000006,67.099999999999994,58.3,45.8,32.6,22.4,915,699,420,182,53,7,0,0,15,172,521,856,0,0,1,30,150,322,587,532,264,42,1,0,14.9,16.88,28.4,29.48,36,41.36,46.76,41.18,34.700000000000003,24.8,24.8,20.8,0.83157894736842108,0.14403862134462428,72,41,23,28,{"$f":"IF(OR(C373=\"OA\",C373=\"OB\",C373=\"1B\",C373=\"1A\",C373=\"2A\",C373=\"2B\",C373=\"3A\",C373=\"3B\",C373=\"3C\"),TAN((LEFT(I373, 5)+VLOOKUP(C373,Main!$K$3:$L$21,2,FALSE))*PI()/180),IF(Checklist!$I$385=\"No\",TAN((LEFT(I373, 5)+VLOOKUP(C373,Main!$K$3:$L$21,2,FALSE))*PI()/180),\"NR\"))","v":"NR"},{"$f":"VLOOKUP(C373,Main!$A$49:$I$67,Main!$B$47,FALSE)","v":"NR"},{"$f":"VLOOKUP(C373,Main!$A$49:$I$67,Main!$C$47,FALSE)","v":"NR"},{"$f":"VLOOKUP(C373,Main!$A$49:$I$67,Main!$E$47,FALSE)&\":\"&\" \"&VLOOKUP(C373,Main!$A$49:$I$67,Main!$F$47,FALSE)","v":"Minimum COP @ 5°F:: 1.75"},{"$f":"VLOOKUP(C373,Main!$A$49:$I$67,Main!$G$47,FALSE)","v":15},{"$f":"VLOOKUP(C373,Main!$A$49:$I$67,Main!$H$47,FALSE)","v":3.1},{"$f":"VLOOKUP(C373,Main!$A$49:$I$67,Main!$I$47,FALSE)","v":16.100000000000001},1929]
["ID","JOSLIN FLD MAGIC VA [TWIN FALLS - UO]","5B",6029,1731,23.85,77.7,9.2399999999999996E-2,"42.482N",12,30.4,33.700000000000003,41.8,47.2,56.4,64.900000000000006,75.400000000000006,72.900000000000006,63.9,50.8,38.5,30.1,608,457,268,142,35,2,0,0,4,89,355,617,0,0,15,58,233,448,786,709,421,114,11,0,25.3,24.98,33.1,30.02,34.9,40.46,42.26,46.58,33.1,23,23,25.2,0.78891820580474936,0.17567567567567566,67,36,19,24,{"$f":"IF(OR(C374=\"OA\",C374=\"OB\",C374=\"1B\",C374=\"1A\",C374=\"2A\",C374=\"2B\",C374=\"3A\",C374=\"3B\",C374=\"3C\"),TAN((LEFT(I374, 5)+VLOOKUP(C374,Main!$K$3:$L$21,2,FALSE))*PI()/180),IF(Checklist!$I$385=\"No\",TAN((LEFT(I374, 5)+VLOOKUP(C374,Main!$K$3:$L$21,2,FALSE))*PI()/180),\"NR\"))","v":"NR"},{"$f":"VLOOKUP(C374,Main!$A$49:$I$67,Main!$B$47,FALSE)","v":"NR"},{"$f":"VLOOKUP(C374,Main!$A$49:$I$67,Main!$C$47,FALSE)","v":"NR"},{"$f":"VLOOKUP(C374,Main!$A$49:$I$67,Main!$E$47,FALSE)&\":\"&\" \"&VLOOKUP(C374,Main!$A$49:$I$67,Main!$F$47,FALSE)","v":"Minimum COP @ 5°F:: 1.75"},{"$f":"VLOOKUP(C374,Main!$A$49:$I$67,Main!$G$47,FALSE)","v":15},{"$f":"VLOOKUP(C374,Main!$A$49:$I$67,Main!$H$47,FALSE)","v":3.1},{"$f":"VLOOKUP(C374,Main!$A$49:$I$67,Main!$I$47,FALSE)","v":16.100000000000001},2795]
["ID","LEWISTON NEZ PERCE CNTY AP","5B",5044,1428,25.35,82.9,9.2399999999999996E-2,"46.375N",18.8,36.1,39.299999999999997,45.5,51.2,59.2,65.7,75.5,74.7,66.099999999999994,52.2,41.4,34.700000000000003,431,302,163,56,6,0,0,0,0,54,269,475,1,2,22,93,291,471,792,765,483,123,11,1,27.5,29.12,30.6,35.6,39.9,46.4,45.5,48.2,40.1,31.5,31.5,28.2,0.75975975975975973,0.19995605361459018,64,34,17,22,{"$f":"IF(OR(C375=\"OA\",C375=\"OB\",C375=\"1B\",C375=\"1A\",C375=\"2A\",C375=\"2B\",C375=\"3A\",C375=\"3B\",C375=\"3C\"),TAN((LEFT(I375, 5)+VLOOKUP(C375,Main!$K$3:$L$21,2,FALSE))*PI()/180),IF(Checklist!$I$385=\"No\",TAN((LEFT(I375, 5)+VLOOKUP(C375,Main!$K$3:$L$21,2,FALSE))*PI()/180),\"NR\"))","v":"NR"},{"$f":"VLOOKUP(C375,Main!$A$49:$I$67,Main!$B$47,FALSE)","v":"NR"},{"$f":"VLOOKUP(C375,Main!$A$49:$I$67,Main!$C$47,FALSE)","v":"NR"},{"$f":"VLOOKUP(C375,Main!$A$49:$I$67,Main!$E$47,FALSE)&\":\"&\" \"&VLOOKUP(C375,Main!$A$49:$I$67,Main!$F$47,FALSE)","v":"Minimum COP @ 5°F:: 1.75"},{"$f":"VLOOKUP(C375,Main!$A$49:$I$67,Main!$G$47,FALSE)","v":15},{"$f":"VLOOKUP(C375,Main!$A$49:$I$67,Main!$H$47,FALSE)","v":3.1},{"$f":"VLOOKUP(C375,Main!$A$49:$I$67,Main!$I$47,FALSE)","v":16.100000000000001},3055]
["ID","MOUNTAIN HOME AFB","5B",5805,1682,16.899999999999999,81.3,9.2399999999999996E-2,"43.050N",12.3,30.5,35.6,43.2,49.1,58.1,65.900000000000006,75.900000000000006,74.599999999999994,65.2,51,38.4,29.5,603,403,226,106,18,1,0,0,2,83,356,635,0,0,16,78,269,477,802,762,457,116,7,0,28,24.44,29.8,30.38,32.700000000000003,33.44,32.72,35.42,33.4,28.2,28.2,25,0.79220779220779225,0.17662186423407247,66,36,18,23,{"$f":"IF(OR(C376=\"OA\",C376=\"OB\",C376=\"1B\",C376=\"1A\",C376=\"2A\",C376=\"2B\",C376=\"3A\",C376=\"3B\",C376=\"3C\"),TAN((LEFT(I376, 5)+VLOOKUP(C376,Main!$K$3:$L$21,2,FALSE))*PI()/180),IF(Checklist!$I$385=\"No\",TAN((LEFT(I376, 5)+VLOOKUP(C376,Main!$K$3:$L$21,2,FALSE))*PI()/180),\"NR\"))","v":"NR"},{"$f":"VLOOKUP(C376,Main!$A$49:$I$67,Main!$B$47,FALSE)","v":"NR"},{"$f":"VLOOKUP(C376,Main!$A$49:$I$67,Main!$C$47,FALSE)","v":"NR"},{"$f":"VLOOKUP(C376,Main!$A$49:$I$67,Main!$E$47,FALSE)&\":\"&\" \"&VLOOKUP(C376,Main!$A$49:$I$67,Main!$F$47,FALSE)","v":"Minimum COP @ 5°F:: 1.75"},{"$f":"VLOOKUP(C376,Main!$A$49:$I$67,Main!$G$47,FALSE)","v":15},{"$f":"VLOOKUP(C376,Main!$A$49:$I$67,Main!$H$47,FALSE)","v":3.1},{"$f":"VLOOKUP(C376,Main!$A$49:$I$67,Main!$I$47,FALSE)","v":16.100000000000001},2984]
["ID","POCATELLO REGIONAL AP","5B",6941,1641,14.75,73.8,9.2399999999999996E-2,"42.920N",3.8,25.6,29.5,38.9,45.7,54.3,62.1,70.900000000000006,69.5,60.2,47.5,35,25.8,756,574,348,166,43,4,0,0,9,141,454,750,0,0,5,37,176,367,649,604,314,64,3,0,16.7,20.84,23.4,28.94,33.299999999999997,41.54,42.98,39.200000000000003,34.9,29.5,29.5,19.899999999999999,0.81132075471698117,0.15323734949903173,70,39,21,26,{"$f":"IF(OR(C377=\"OA\",C377=\"OB\",C377=\"1B\",C377=\"1A\",C377=\"2A\",C377=\"2B\",C377=\"3A\",C377=\"3B\",C377=\"3C\"),TAN((LEFT(I377, 5)+VLOOKUP(C377,Main!$K$3:$L$21,2,FALSE))*PI()/180),IF(Checklist!$I$385=\"No\",TAN((LEFT(I377, 5)+VLOOKUP(C377,Main!$K$3:$L$21,2,FALSE))*PI()/180),\"NR\"))","v":"NR"},{"$f":"VLOOKUP(C377,Main!$A$49:$I$67,Main!$B$47,FALSE)","v":"NR"},{"$f":"VLOOKUP(C377,Main!$A$49:$I$67,Main!$C$47,FALSE)","v":"NR"},{"$f":"VLOOKUP(C377,Main!$A$49:$I$67,Main!$E$47,FALSE)&\":\"&\" \"&VLOOKUP(C377,Main!$A$49:$I$67,Main!$F$47,FALSE)","v":"Minimum COP @ 5°F:: 1.75"},{"$f":"VLOOKUP(C377,Main!$A$49:$I$67,Main!$G$47,FALSE)","v":15},{"$f":"VLOOKUP(C377,Main!$A$49:$I$67,Main!$H$47,FALSE)","v":3.1},{"$f":"VLOOKUP(C377,Main!$A$49:$I$67,Main!$I$47,FALSE)","v":16.100000000000001},2219]
["ID","SALMON/LEMHI (AWOS)","6B",7981,1548,18.5,75.2,9.2399999999999996E-2,"45.117N",0,20.100000000000001,25.2,37.200000000000003,44,52.7,58.9,67.8,65.5,56.3,44,31.1,20.6,926,694,397,201,52,9,0,1,18,210,568,911,0,0,2,21,135,277,551,480,208,25,1,0,16,19.579999999999998,22.3,29.66,35.1,40.28,45.5,42.26,37.200000000000003,23,23,22.1,0.83298538622129437,0.14467408585055644,73,41,23,28,{"$f":"IF(OR(C378=\"OA\",C378=\"OB\",C378=\"1B\",C378=\"1A\",C378=\"2A\",C378=\"2B\",C378=\"3A\",C378=\"3B\",C378=\"3C\"),TAN((LEFT(I378, 5)+VLOOKUP(C378,Main!$K$3:$L$21,2,FALSE))*PI()/180),IF(Checklist!$I$385=\"No\",TAN((LEFT(I378, 5)+VLOOKUP(C378,Main!$K$3:$L$21,2,FALSE))*PI()/180),\"NR\"))","v":"NR"},{"$f":"VLOOKUP(C378,Main!$A$49:$I$67,Main!$B$47,FALSE)","v":"NR"},{"$f":"VLOOKUP(C378,Main!$A$49:$I$67,Main!$C$47,FALSE)","v":"NR"},{"$f":"VLOOKUP(C378,Main!$A$49:$I$67,Main!$E$47,FALSE)&\":\"&\" \"&VLOOKUP(C378,Main!$A$49:$I$67,Main!$F$47,FALSE)","v":"Minimum COP @ 5°F:: 1.75"},{"$f":"VLOOKUP(C378,Main!$A$49:$I$67,Main!$G$47,FALSE)","v":15},{"$f":"VLOOKUP(C378,Main!$A$49:$I$67,Main!$H$47,FALSE)","v":3.1},{"$f":"VLOOKUP(C378,Main!$A$49:$I$67,Main!$I$47,FALSE)","v":16.100000000000001},1700]
["IL","AURORA MUNICIPAL","5A",6537,1371,4.25,79.3,0.1144,"41.770N",0.7,22.5,25.1,37.6,49.4,60,69.3,72.7,70.400000000000006,63,51.3,39.5,27,853,698,415,119,14,0,0,0,3,97,335,717,1,1,29,100,323,578,703,631,393,137,19,3,16.899999999999999,20.3,32.700000000000003,42.62,48,58.82,61.16,62.6,57.4,34,34,9.6999999999999993,0.82417582417582413,0.14617886831854141,71,39,21,26,{"$f":"IF(OR(C379=\"OA\",C379=\"OB\",C379=\"1B\",C379=\"1A\",C379=\"2A\",C379=\"2B\",C379=\"3A\",C379=\"3B\",C379=\"3C\"),TAN((LEFT(I379, 5)+VLOOKUP(C379,Main!$K$3:$L$21,2,FALSE))*PI()/180),IF(Checklist!$I$385=\"No\",TAN((LEFT(I379, 5)+VLOOKUP(C379,Main!$K$3:$L$21,2,FALSE))*PI()/180),\"NR\"))","v":"NR"},{"$f":"VLOOKUP(C379,Main!$A$49:$I$67,Main!$B$47,FALSE)","v":"NR"},{"$f":"VLOOKUP(C379,Main!$A$49:$I$67,Main!$C$47,FALSE)","v":"NR"},{"$f":"VLOOKUP(C379,Main!$A$49:$I$67,Main!$E$47,FALSE)&\":\"&\" \"&VLOOKUP(C379,Main!$A$49:$I$67,Main!$F$47,FALSE)","v":"Minimum COP @ 5°F:: 1.75"},{"$f":"VLOOKUP(C379,Main!$A$49:$I$67,Main!$G$47,FALSE)","v":15},{"$f":"VLOOKUP(C379,Main!$A$49:$I$67,Main!$H$47,FALSE)","v":3.1},{"$f":"VLOOKUP(C379,Main!$A$49:$I$67,Main!$I$47,FALSE)","v":16.100000000000001},2918]
["IL","BELLEVILLE SCOTT AFB","4A",4617,1483,16.600000000000001,83.3,0.1144,"38.550N",12.1,31.4,37.1,45.9,56.3,65.900000000000006,74.7,78.2,77,68.7,57.7,45.4,35.200000000000003,587,376,212,42,1,0,0,0,0,26,200,467,9,14,85,229,495,742,873,837,561,264,63,10,27,26.42,27,37.22,45.5,65.48,66.2,65.12,53.6,33.299999999999997,33.299999999999997,26.8,0.78142076502732238,0.17598994343180388,65,34,17,22,{"$f":"IF(OR(C380=\"OA\",C380=\"OB\",C380=\"1B\",C380=\"1A\",C380=\"2A\",C380=\"2B\",C380=\"3A\",C380=\"3B\",C380=\"3C\"),TAN((LEFT(I380, 5)+VLOOKUP(C380,Main!$K$3:$L$21,2,FALSE))*PI()/180),IF(Checklist!$I$385=\"No\",TAN((LEFT(I380, 5)+VLOOKUP(C380,Main!$K$3:$L$21,2,FALSE))*PI()/180),\"NR\"))","v":"NR"},{"$f":"VLOOKUP(C380,Main!$A$49:$I$67,Main!$B$47,FALSE)","v":0.5},{"$f":"VLOOKUP(C380,Main!$A$49:$I$67,Main!$C$47,FALSE)","v":0.25},{"$f":"VLOOKUP(C380,Main!$A$49:$I$67,Main!$E$47,FALSE)&\":\"&\" \"&VLOOKUP(C380,Main!$A$49:$I$67,Main!$F$47,FALSE)","v":"Minimum HSPF:: 9.6"},{"$f":"VLOOKUP(C380,Main!$A$49:$I$67,Main!$G$47,FALSE)","v":18},{"$f":"VLOOKUP(C380,Main!$A$49:$I$67,Main!$H$47,FALSE)","v":3.1},{"$f":"VLOOKUP(C380,Main!$A$49:$I$67,Main!$I$47,FALSE)","v":16.100000000000001},4182]
["IL","CAHOKIA/ST. LOUIS","4A",4569,1467,22.3,84.6,0.1144,"38.571N",12.7,32.5,35.799999999999997,46.1,57.2,66.599999999999994,74.5,78.3,77,68.599999999999994,57.5,46.1,35.4,552,411,212,32,1,0,0,0,0,28,185,466,11,13,91,248,514,736,879,836,557,260,69,13,27.5,29.12,37.200000000000003,47.12,46.9,60.98,69.260000000000005,69.08,63.1,39.4,39.4,24.3,0.77464788732394363,0.17789941840574752,64,33,17,22,{"$f":"IF(OR(C381=\"OA\",C381=\"OB\",C381=\"1B\",C381=\"1A\",C381=\"2A\",C381=\"2B\",C381=\"3A\",C381=\"3B\",C381=\"3C\"),TAN((LEFT(I381, 5)+VLOOKUP(C381,Main!$K$3:$L$21,2,FALSE))*PI()/180),IF(Checklist!$I$385=\"No\",TAN((LEFT(I381, 5)+VLOOKUP(C381,Main!$K$3:$L$21,2,FALSE))*PI()/180),\"NR\"))","v":"NR"},{"$f":"VLOOKUP(C381,Main!$A$49:$I$67,Main!$B$47,FALSE)","v":0.5},{"$f":"VLOOKUP(C381,Main!$A$49:$I$67,Main!$C$47,FALSE)","v":0.25},{"$f":"VLOOKUP(C381,Main!$A$49:$I$67,Main!$E$47,FALSE)&\":\"&\" \"&VLOOKUP(C381,Main!$A$49:$I$67,Main!$F$47,FALSE)","v":"Minimum HSPF:: 9.6"},{"$f":"VLOOKUP(C381,Main!$A$49:$I$67,Main!$G$47,FALSE)","v":18},{"$f":"VLOOKUP(C381,Main!$A$49:$I$67,Main!$H$47,FALSE)","v":3.1},{"$f":"VLOOKUP(C381,Main!$A$49:$I$67,Main!$I$47,FALSE)","v":16.100000000000001},4227]
["IL","CENTRAL ILLINOIS RG","4A",5886,1397,9.0500000000000007,80.599999999999994,0.1144,"40.483N",4.4000000000000004,24.6,27.2,40.5,52.6,62.5,71.900000000000006,75,73.3,66.3,53.9,41.6,29.6,790,638,347,81,9,0,0,0,1,64,285,635,2,1,51,158,397,657,774,723,489,186,33,2,25.5,20.84,28.6,31.64,43.5,58.82,63.86,61.16,49.1,31.8,31.8,22.8,0.81566820276497698,0.1546829848716641,69,37,19,24,{"$f":"IF(OR(C382=\"OA\",C382=\"OB\",C382=\"1B\",C382=\"1A\",C382=\"2A\",C382=\"2B\",C382=\"3A\",C382=\"3B\",C382=\"3C\"),TAN((LEFT(I382, 5)+VLOOKUP(C382,Main!$K$3:$L$21,2,FALSE))*PI()/180),IF(Checklist!$I$385=\"No\",TAN((LEFT(I382, 5)+VLOOKUP(C382,Main!$K$3:$L$21,2,FALSE))*PI()/180),\"NR\"))","v":"NR"},{"$f":"VLOOKUP(C382,Main!$A$49:$I$67,Main!$B$47,FALSE)","v":0.5},{"$f":"VLOOKUP(C382,Main!$A$49:$I$67,Main!$C$47,FALSE)","v":0.25},{"$f":"VLOOKUP(C382,Main!$A$49:$I$67,Main!$E$47,FALSE)&\":\"&\" \"&VLOOKUP(C382,Main!$A$49:$I$67,Main!$F$47,FALSE)","v":"Minimum HSPF:: 9.6"},{"$f":"VLOOKUP(C382,Main!$A$49:$I$67,Main!$G$47,FALSE)","v":18},{"$f":"VLOOKUP(C382,Main!$A$49:$I$67,Main!$H$47,FALSE)","v":3.1},{"$f":"VLOOKUP(C382,Main!$A$49:$I$67,Main!$I$47,FALSE)","v":16.100000000000001},3473]
["IL","CHICAGO MIDWAY AP","5A",5850,1366,6.7,83.7,0.1144,"41.786N",6.1,25.9,29.5,39.299999999999997,50.5,61.1,71.099999999999994,75.7,74.099999999999994,66.5,54.6,41.9,30.6,749,576,368,104,10,0,0,0,1,50,276,605,1,2,37,119,355,633,798,748,497,194,33,4,12.6,19.760000000000002,29.8,42.62,44.4,57.02,60.8,62.6,58.6,33.6,33.6,21.2,0.80997624703087889,0.15893114439156442,68,37,19,24,{"$f":"IF(OR(C383=\"OA\",C383=\"OB\",C383=\"1B\",C383=\"1A\",C383=\"2A\",C383=\"2B\",C383=\"3A\",C383=\"3B\",C383=\"3C\"),TAN((LEFT(I383, 5)+VLOOKUP(C383,Main!$K$3:$L$21,2,FALSE))*PI()/180),IF(Checklist!$I$385=\"No\",TAN((LEFT(I383, 5)+VLOOKUP(C383,Main!$K$3:$L$21,2,FALSE))*PI()/180),\"NR\"))","v":"NR"},{"$f":"VLOOKUP(C383,Main!$A$49:$I$67,Main!$B$47,FALSE)","v":"NR"},{"$f":"VLOOKUP(C383,Main!$A$49:$I$67,Main!$C$47,FALSE)","v":"NR"},{"$f":"VLOOKUP(C383,Main!$A$49:$I$67,Main!$E$47,FALSE)&\":\"&\" \"&VLOOKUP(C383,Main!$A$49:$I$67,Main!$F$47,FALSE)","v":"Minimum COP @ 5°F:: 1.75"},{"$f":"VLOOKUP(C383,Main!$A$49:$I$67,Main!$G$47,FALSE)","v":15},{"$f":"VLOOKUP(C383,Main!$A$49:$I$67,Main!$H$47,FALSE)","v":3.1},{"$f":"VLOOKUP(C383,Main!$A$49:$I$67,Main!$I$47,FALSE)","v":16.100000000000001},3421]
["IL","CHICAGO OHARE INTL AP","5A",6190,1380,14.35,80.8,0.1144,"41.995N",4.4000000000000004,24.6,28.2,38.200000000000003,49.2,59.6,69.5,74.2,72.7,64.900000000000006,53.1,40.6,29.3,788,612,397,123,14,0,0,0,2,67,307,645,0,2,33,98,310,585,751,704,448,163,25,3,15.1,17.239999999999998,29.3,39.200000000000003,45,55.4,65.66,61.88,55.2,32.700000000000003,32.700000000000003,18.3,0.81566820276497698,0.1546829848716641,69,38,20,25,{"$f":"IF(OR(C384=\"OA\",C384=\"OB\",C384=\"1B\",C384=\"1A\",C384=\"2A\",C384=\"2B\",C384=\"3A\",C384=\"3B\",C384=\"3C\"),TAN((LEFT(I384, 5)+VLOOKUP(C384,Main!$K$3:$L$21,2,FALSE))*PI()/180),IF(Checklist!$I$385=\"No\",TAN((LEFT(I384, 5)+VLOOKUP(C384,Main!$K$3:$L$21,2,FALSE))*PI()/180),\"NR\"))","v":"NR"},{"$f":"VLOOKUP(C384,Main!$A$49:$I$67,Main!$B$47,FALSE)","v":"NR"},{"$f":"VLOOKUP(C384,Main!$A$49:$I$67,Main!$C$47,FALSE)","v":"NR"},{"$f":"VLOOKUP(C384,Main!$A$49:$I$67,Main!$E$47,FALSE)&\":\"&\" \"&VLOOKUP(C384,Main!$A$49:$I$67,Main!$F$47,FALSE)","v":"Minimum COP @ 5°F:: 1.75"},{"$f":"VLOOKUP(C384,Main!$A$49:$I$67,Main!$G$47,FALSE)","v":15},{"$f":"VLOOKUP(C384,Main!$A$49:$I$67,Main!$H$47,FALSE)","v":3.1},{"$f":"VLOOKUP(C384,Main!$A$49:$I$67,Main!$I$47,FALSE)","v":16.100000000000001},3122]
["IL","CHICAGO/WAUKEGAN","5A",6737,1263,12.8,79.2,0.1144,"42.417N",2.9,23.3,25.3,35.700000000000003,46.6,56.1,66.2,71.5,70.5,62.9,51.5,40.200000000000003,27.7,826,693,467,170,34,0,0,0,2,86,315,692,0,1,23,70,224,486,668,636,388,133,20,2,19.399999999999999,20.12,23.2,38.299999999999997,42.1,57.38,66.92,63.32,52.3,34.5,34.5,17.2,0.82102908277404918,0.15111886079628017,71,40,21,26,{"$f":"IF(OR(C385=\"OA\",C385=\"OB\",C385=\"1B\",C385=\"1A\",C385=\"2A\",C385=\"2B\",C385=\"3A\",C385=\"3B\",C385=\"3C\"),TAN((LEFT(I385, 5)+VLOOKUP(C385,Main!$K$3:$L$21,2,FALSE))*PI()/180),IF(Checklist!$I$385=\"No\",TAN((LEFT(I385, 5)+VLOOKUP(C385,Main!$K$3:$L$21,2,FALSE))*PI()/180),\"NR\"))","v":"NR"},{"$f":"VLOOKUP(C385,Main!$A$49:$I$67,Main!$B$47,FALSE)","v":"NR"},{"$f":"VLOOKUP(C385,Main!$A$49:$I$67,Main!$C$47,FALSE)","v":"NR"},{"$f":"VLOOKUP(C385,Main!$A$49:$I$67,Main!$E$47,FALSE)&\":\"&\" \"&VLOOKUP(C385,Main!$A$49:$I$67,Main!$F$47,FALSE)","v":"Minimum COP @ 5°F:: 1.75"},{"$f":"VLOOKUP(C385,Main!$A$49:$I$67,Main!$G$47,FALSE)","v":15},{"$f":"VLOOKUP(C385,Main!$A$49:$I$67,Main!$H$47,FALSE)","v":3.1},{"$f":"VLOOKUP(C385,Main!$A$49:$I$67,Main!$I$47,FALSE)","v":16.100000000000001},2651]
["IL","DECATUR","4A",5388,1331,18.899999999999999,81,0.1144,"39.834N",7.3,27.8,31.8,42.1,53.4,63.6,72.400000000000006,75.900000000000006,74,66.8,55.2,42.8,32,693,513,300,68,4,0,0,0,1,46,260,564,4,5,55,170,426,671,801,745,506,207,45,6,23.7,28.76,33.799999999999997,47.12,55.4,62.96,62.24,70.88,55.4,30.6,30.6,21.6,0.80099502487562191,0.16207311100227079,67,36,18,23,{"$f":"IF(OR(C386=\"OA\",C386=\"OB\",C386=\"1B\",C386=\"1A\",C386=\"2A\",C386=\"2B\",C386=\"3A\",C386=\"3B\",C386=\"3C\"),TAN((LEFT(I386, 5)+VLOOKUP(C386,Main!$K$3:$L$21,2,FALSE))*PI()/180),IF(Checklist!$I$385=\"No\",TAN((LEFT(I386, 5)+VLOOKUP(C386,Main!$K$3:$L$21,2,FALSE))*PI()/180),\"NR\"))","v":"NR"},{"$f":"VLOOKUP(C386,Main!$A$49:$I$67,Main!$B$47,FALSE)","v":0.5},{"$f":"VLOOKUP(C386,Main!$A$49:$I$67,Main!$C$47,FALSE)","v":0.25},{"$f":"VLOOKUP(C386,Main!$A$49:$I$67,Main!$E$47,FALSE)&\":\"&\" \"&VLOOKUP(C386,Main!$A$49:$I$67,Main!$F$47,FALSE)","v":"Minimum HSPF:: 9.6"},{"$f":"VLOOKUP(C386,Main!$A$49:$I$67,Main!$G$47,FALSE)","v":18},{"$f":"VLOOKUP(C386,Main!$A$49:$I$67,Main!$H$47,FALSE)","v":3.1},{"$f":"VLOOKUP(C386,Main!$A$49:$I$67,Main!$I$47,FALSE)","v":16.100000000000001},3641]
["IL","MARION REGIONAL","4A",4166,1384,30.2,83.1,0.1144,"37.75N",15.8,34.200000000000003,36.299999999999997,48.5,58.6,67.2,75.2,77.8,77.8,70.3,58.7,49.1,37.9,508,396,156,31,0,0,0,0,0,18,128,390,16,13,108,290,533,756,862,863,610,286,99,16,30,28.22,30.6,39.380000000000003,49.8,67.459999999999994,67.64,64.760000000000005,55.9,40.799999999999997,40.799999999999997,26.8,0.76331360946745563,0.18846432639536087,63,32,16,21,{"$f":"IF(OR(C387=\"OA\",C387=\"OB\",C387=\"1B\",C387=\"1A\",C387=\"2A\",C387=\"2B\",C387=\"3A\",C387=\"3B\",C387=\"3C\"),TAN((LEFT(I387, 5)+VLOOKUP(C387,Main!$K$3:$L$21,2,FALSE))*PI()/180),IF(Checklist!$I$385=\"No\",TAN((LEFT(I387, 5)+VLOOKUP(C387,Main!$K$3:$L$21,2,FALSE))*PI()/180),\"NR\"))","v":"NR"},{"$f":"VLOOKUP(C387,Main!$A$49:$I$67,Main!$B$47,FALSE)","v":0.5},{"$f":"VLOOKUP(C387,Main!$A$49:$I$67,Main!$C$47,FALSE)","v":0.25},{"$f":"VLOOKUP(C387,Main!$A$49:$I$67,Main!$E$47,FALSE)&\":\"&\" \"&VLOOKUP(C387,Main!$A$49:$I$67,Main!$F$47,FALSE)","v":"Minimum HSPF:: 9.6"},{"$f":"VLOOKUP(C387,Main!$A$49:$I$67,Main!$G$47,FALSE)","v":18},{"$f":"VLOOKUP(C387,Main!$A$49:$I$67,Main!$H$47,FALSE)","v":3.1},{"$f":"VLOOKUP(C387,Main!$A$49:$I$67,Main!$I$47,FALSE)","v":16.100000000000001},4452]
["IL","MOLINE QUAD CITY INTL AP","5A",6091,1472,13.55,82.4,0.1144,"41.465N",1.8,23.5,27.9,39.5,51.4,62,71.400000000000006,75,73.3,65.2,53.3,40.299999999999997,28,823,620,366,92,7,0,0,0,2,71,320,685,0,2,41,135,378,643,776,722,458,174,28,3,9.9,14.9,27.3,37.94,46.9,57.02,63.68,64.58,55.4,28.6,28.6,17.399999999999999,0.8202247191011236,0.1486078223238344,70,38,20,25,{"$f":"IF(OR(C388=\"OA\",C388=\"OB\",C388=\"1B\",C388=\"1A\",C388=\"2A\",C388=\"2B\",C388=\"3A\",C388=\"3B\",C388=\"3C\"),TAN((LEFT(I388, 5)+VLOOKUP(C388,Main!$K$3:$L$21,2,FALSE))*PI()/180),IF(Checklist!$I$385=\"No\",TAN((LEFT(I388, 5)+VLOOKUP(C388,Main!$K$3:$L$21,2,FALSE))*PI()/180),\"NR\"))","v":"NR"},{"$f":"VLOOKUP(C388,Main!$A$49:$I$67,Main!$B$47,FALSE)","v":"NR"},{"$f":"VLOOKUP(C388,Main!$A$49:$I$67,Main!$C$47,FALSE)","v":"NR"},{"$f":"VLOOKUP(C388,Main!$A$49:$I$67,Main!$E$47,FALSE)&\":\"&\" \"&VLOOKUP(C388,Main!$A$49:$I$67,Main!$F$47,FALSE)","v":"Minimum COP @ 5°F:: 1.75"},{"$f":"VLOOKUP(C388,Main!$A$49:$I$67,Main!$G$47,FALSE)","v":15},{"$f":"VLOOKUP(C388,Main!$A$49:$I$67,Main!$H$47,FALSE)","v":3.1},{"$f":"VLOOKUP(C388,Main!$A$49:$I$67,Main!$I$47,FALSE)","v":16.100000000000001},3360]
["IL","MOUNT VERNON (AWOS)","4A",4863,1484,13.1,79.7,0.1144,"38.323N",11.6,31.3,35.1,44.6,55.6,64.7,73.7,77,75.8,67.5,55.8,44.4,34.799999999999997,590,430,239,46,2,0,0,0,0,41,221,482,11,12,70,212,459,711,837,800,524,221,52,10,25.9,24.26,26.1,36.14,60.4,61.52,60.26,65.48,62.6,37.9,37.9,26.4,0.78201634877384185,0.174429748897834,65,34,17,22,{"$f":"IF(OR(C389=\"OA\",C389=\"OB\",C389=\"1B\",C389=\"1A\",C389=\"2A\",C389=\"2B\",C389=\"3A\",C389=\"3B\",C389=\"3C\"),TAN((LEFT(I389, 5)+VLOOKUP(C389,Main!$K$3:$L$21,2,FALSE))*PI()/180),IF(Checklist!$I$385=\"No\",TAN((LEFT(I389, 5)+VLOOKUP(C389,Main!$K$3:$L$21,2,FALSE))*PI()/180),\"NR\"))","v":"NR"},{"$f":"VLOOKUP(C389,Main!$A$49:$I$67,Main!$B$47,FALSE)","v":0.5},{"$f":"VLOOKUP(C389,Main!$A$49:$I$67,Main!$C$47,FALSE)","v":0.25},{"$f":"VLOOKUP(C389,Main!$A$49:$I$67,Main!$E$47,FALSE)&\":\"&\" \"&VLOOKUP(C389,Main!$A$49:$I$67,Main!$F$47,FALSE)","v":"Minimum HSPF:: 9.6"},{"$f":"VLOOKUP(C389,Main!$A$49:$I$67,Main!$G$47,FALSE)","v":18},{"$f":"VLOOKUP(C389,Main!$A$49:$I$67,Main!$H$47,FALSE)","v":3.1},{"$f":"VLOOKUP(C389,Main!$A$49:$I$67,Main!$I$47,FALSE)","v":16.100000000000001},3919]
["IL","PEORIA GREATER PEORIA AP","5A",5733,1489,9.65,80.099999999999994,0.1144,"40.668N",4.3,25.5,29.9,41,52.5,62.6,71.900000000000006,75.5,74,66.099999999999994,54.2,41.6,30,762,565,327,78,6,0,0,0,2,60,287,624,1,3,48,154,398,658,790,743,486,190,34,3,14.7,17.78,28.8,41.9,48.6,57.92,64.040000000000006,64.22,55,30.4,30.4,22.6,0.81176470588235294,0.15444015444015444,{"$f":"ROUNDDOWN((33.97238548+(2.143484655*3.14219615)+(0.00253108806*D390)+(-0.2767683543*J390)+(66.9384076*H390)+((3.14219615-3.14219615)^2*-1.607593659)+((J390-12.48681818)*(H390-0.2016890909)*-1.8168457)+8.4234),0)","v":68},{"$f":"ROUNDDOWN((2.975122788+(0.003896731237*D390)+(59.88697433*H390)+((D390-5520.854545)*(H390-0.2016890909)*0.01119327314)+5.3792),0)","v":37},19,{"$f":"ROUNDDOWN(BK390+5.9089,0)","v":24},{"$f":"IF(OR(C390=\"OA\",C390=\"OB\",C390=\"1B\",C390=\"1A\",C390=\"2A\",C390=\"2B\",C390=\"3A\",C390=\"3B\",C390=\"3C\"),TAN((LEFT(I390, 5)+VLOOKUP(C390,Main!$K$3:$L$21,2,FALSE))*PI()/180),IF(Checklist!$I$385=\"No\",TAN((LEFT(I390, 5)+VLOOKUP(C390,Main!$K$3:$L$21,2,FALSE))*PI()/180),\"NR\"))","v":"NR"},{"$f":"VLOOKUP(C390,Main!$A$49:$I$67,Main!$B$47,FALSE)","v":"NR"},{"$f":"VLOOKUP(C390,Main!$A$49:$I$67,Main!$C$47,FALSE)","v":"NR"},{"$f":"VLOOKUP(C390,Main!$A$49:$I$67,Main!$E$47,FALSE)&\":\"&\" \"&VLOOKUP(C390,Main!$A$49:$I$67,Main!$F$47,FALSE)","v":"Minimum COP @ 5°F:: 1.75"},{"$f":"VLOOKUP(C390,Main!$A$49:$I$67,Main!$G$47,FALSE)","v":15},{"$f":"VLOOKUP(C390,Main!$A$49:$I$67,Main!$H$47,FALSE)","v":3.1},{"$f":"VLOOKUP(C390,Main!$A$49:$I$67,Main!$I$47,FALSE)","v":16.100000000000001},3508]
["IL","QUINCY MUNI BALDWIN FLD","5A",5497,1363,8.25,78.8,0.1144,"39.937N",5.6,26.9,31.5,42,53.3,63.2,72.3,76,74.7,66.3,55,42.5,31.1,717,525,306,72,5,0,0,0,2,54,270,592,2,6,57,170,414,670,805,764,490,208,45,5,21.4,21.02,35.4,44.42,53.8,59,65.66,66.92,60.4,36.5,36.5,27.3,0.805352798053528,0.15765765765765763,68,36,18,23,{"$f":"IF(OR(C391=\"OA\",C391=\"OB\",C391=\"1B\",C391=\"1A\",C391=\"2A\",C391=\"2B\",C391=\"3A\",C391=\"3B\",C391=\"3C\"),TAN((LEFT(I391, 5)+VLOOKUP(C391,Main!$K$3:$L$21,2,FALSE))*PI()/180),IF(Checklist!$I$385=\"No\",TAN((LEFT(I391, 5)+VLOOKUP(C391,Main!$K$3:$L$21,2,FALSE))*PI()/180),\"NR\"))","v":"NR"},{"$f":"VLOOKUP(C391,Main!$A$49:$I$67,Main!$B$47,FALSE)","v":"NR"},{"$f":"VLOOKUP(C391,Main!$A$49:$I$67,Main!$C$47,FALSE)","v":"NR"},{"$f":"VLOOKUP(C391,Main!$A$49:$I$67,Main!$E$47,FALSE)&\":\"&\" \"&VLOOKUP(C391,Main!$A$49:$I$67,Main!$F$47,FALSE)","v":"Minimum COP @ 5°F:: 1.75"},{"$f":"VLOOKUP(C391,Main!$A$49:$I$67,Main!$G$47,FALSE)","v":15},{"$f":"VLOOKUP(C391,Main!$A$49:$I$67,Main!$H$47,FALSE)","v":3.1},{"$f":"VLOOKUP(C391,Main!$A$49:$I$67,Main!$I$47,FALSE)","v":16.100000000000001},3636]
["IL","ROCKFORD GREATER ROCKFORD AP","5A",6589,1398,-4.3499999999999996,79.2,0.1144,"42.193N",0.3,21.6,25.7,37,49,59.9,69.7,73.099999999999994,71.5,63.6,51.7,38.6,26.4,879,682,429,125,13,0,0,0,3,89,360,734,0,0,28,95,319,590,716,667,410,141,16,2,10,14.36,26.1,37.22,46,57.74,60.8,62.42,53.8,27.3,27.3,17.600000000000001,0.82758620689655171,0.1453151822428041,71,39,21,26,{"$f":"IF(OR(C392=\"OA\",C392=\"OB\",C392=\"1B\",C392=\"1A\",C392=\"2A\",C392=\"2B\",C392=\"3A\",C392=\"3B\",C392=\"3C\"),TAN((LEFT(I392, 5)+VLOOKUP(C392,Main!$K$3:$L$21,2,FALSE))*PI()/180),IF(Checklist!$I$385=\"No\",TAN((LEFT(I392, 5)+VLOOKUP(C392,Main!$K$3:$L$21,2,FALSE))*PI()/180),\"NR\"))","v":"NR"},{"$f":"VLOOKUP(C392,Main!$A$49:$I$67,Main!$B$47,FALSE)","v":"NR"},{"$f":"VLOOKUP(C392,Main!$A$49:$I$67,Main!$C$47,FALSE)","v":"NR"},{"$f":"VLOOKUP(C392,Main!$A$49:$I$67,Main!$E$47,FALSE)&\":\"&\" \"&VLOOKUP(C392,Main!$A$49:$I$67,Main!$F$47,FALSE)","v":"Minimum COP @ 5°F:: 1.75"},{"$f":"VLOOKUP(C392,Main!$A$49:$I$67,Main!$G$47,FALSE)","v":15},{"$f":"VLOOKUP(C392,Main!$A$49:$I$67,Main!$H$47,FALSE)","v":3.1},{"$f":"VLOOKUP(C392,Main!$A$49:$I$67,Main!$I$47,FALSE)","v":16.100000000000001},2984]
["IL","SOUTHERN ILLINOIS","4A",4359,1389,14.7,84,0.1144,"37.780N",15.2,33.9,37.5,46.8,57.8,66.900000000000006,75.3,77.900000000000006,76.900000000000006,68.599999999999994,57.6,46.8,36.5,513,365,191,29,1,0,0,0,0,26,173,435,15,15,93,263,526,758,866,834,558,263,77,15,19,28.94,38.5,41.18,63.5,65.48,68.900000000000006,67.459999999999994,61.5,41.9,41.9,27,0.76539589442815248,0.18632268632268634,64,33,{"$f":"ROUNDDOWN(-18.64576148+(5.900367721*3.14219615)+(0.002662134083*D393)+(38.92365332*H393)+((BT393-3890.577273)*(G393-78.59)*0.00005765875867)+((D393-5520.854545)*(H393-0.2016890909)*0.006047043516),0)","v":16},21,{"$f":"IF(OR(C393=\"OA\",C393=\"OB\",C393=\"1B\",C393=\"1A\",C393=\"2A\",C393=\"2B\",C393=\"3A\",C393=\"3B\",C393=\"3C\"),TAN((LEFT(I393, 5)+VLOOKUP(C393,Main!$K$3:$L$21,2,FALSE))*PI()/180),IF(Checklist!$I$385=\"No\",TAN((LEFT(I393, 5)+VLOOKUP(C393,Main!$K$3:$L$21,2,FALSE))*PI()/180),\"NR\"))","v":"NR"},{"$f":"VLOOKUP(C393,Main!$A$49:$I$67,Main!$B$47,FALSE)","v":0.5},{"$f":"VLOOKUP(C393,Main!$A$49:$I$67,Main!$C$47,FALSE)","v":0.25},{"$f":"VLOOKUP(C393,Main!$A$49:$I$67,Main!$E$47,FALSE)&\":\"&\" \"&VLOOKUP(C393,Main!$A$49:$I$67,Main!$F$47,FALSE)","v":"Minimum HSPF:: 9.6"},{"$f":"VLOOKUP(C393,Main!$A$49:$I$67,Main!$G$47,FALSE)","v":18},{"$f":"VLOOKUP(C393,Main!$A$49:$I$67,Main!$H$47,FALSE)","v":3.1},{"$f":"VLOOKUP(C393,Main!$A$49:$I$67,Main!$I$47,FALSE)","v":16.100000000000001},4283]
["IL","SPRINGFIELD CAPITAL AP","4A",5328,1497,20.2,81.7,0.1144,"39.845N",6.9,27.6,32.200000000000003,42.8,54,64.099999999999994,72.7,75.7,74.5,66.7,55.4,43.3,32.1,697,505,286,63,3,0,0,0,1,50,251,560,4,6,62,182,442,682,798,759,503,217,50,6,14,18.32,36.1,43.88,51.8,60.44,65.66,65.48,55.9,32.9,32.9,23.9,0.80198019801980203,0.16101207590569291,67,36,18,23,{"$f":"IF(OR(C394=\"OA\",C394=\"OB\",C394=\"1B\",C394=\"1A\",C394=\"2A\",C394=\"2B\",C394=\"3A\",C394=\"3B\",C394=\"3C\"),TAN((LEFT(I394, 5)+VLOOKUP(C394,Main!$K$3:$L$21,2,FALSE))*PI()/180),IF(Checklist!$I$385=\"No\",TAN((LEFT(I394, 5)+VLOOKUP(C394,Main!$K$3:$L$21,2,FALSE))*PI()/180),\"NR\"))","v":"NR"},{"$f":"VLOOKUP(C394,Main!$A$49:$I$67,Main!$B$47,FALSE)","v":0.5},{"$f":"VLOOKUP(C394,Main!$A$49:$I$67,Main!$C$47,FALSE)","v":0.25},{"$f":"VLOOKUP(C394,Main!$A$49:$I$67,Main!$E$47,FALSE)&\":\"&\" \"&VLOOKUP(C394,Main!$A$49:$I$67,Main!$F$47,FALSE)","v":"Minimum HSPF:: 9.6"},{"$f":"VLOOKUP(C394,Main!$A$49:$I$67,Main!$G$47,FALSE)","v":18},{"$f":"VLOOKUP(C394,Main!$A$49:$I$67,Main!$H$47,FALSE)","v":3.1},{"$f":"VLOOKUP(C394,Main!$A$49:$I$67,Main!$I$47,FALSE)","v":16.100000000000001},3711]
["IL","STERLING ROCKFALLS","5A",6539,1425,-4.75,79.2,0.1144,"41.743N",-0.1,21.2,25.4,37,49.6,60.8,70.099999999999994,72.8,70.900000000000006,63.2,52,39,26.8,892,689,425,112,9,0,0,0,3,84,349,720,0,1,22,101,344,604,706,649,399,147,19,2,6.4,23.36,28,39.200000000000003,42.3,55.76,64.040000000000006,58.82,54.5,28.9,28.9,23.7,0.829059829059829,0.14446164225899907,71,39,21,26,{"$f":"IF(OR(C395=\"OA\",C395=\"OB\",C395=\"1B\",C395=\"1A\",C395=\"2A\",C395=\"2B\",C395=\"3A\",C395=\"3B\",C395=\"3C\"),TAN((LEFT(I395, 5)+VLOOKUP(C395,Main!$K$3:$L$21,2,FALSE))*PI()/180),IF(Checklist!$I$385=\"No\",TAN((LEFT(I395, 5)+VLOOKUP(C395,Main!$K$3:$L$21,2,FALSE))*PI()/180),\"NR\"))","v":"NR"},{"$f":"VLOOKUP(C395,Main!$A$49:$I$67,Main!$B$47,FALSE)","v":"NR"},{"$f":"VLOOKUP(C395,Main!$A$49:$I$67,Main!$C$47,FALSE)","v":"NR"},{"$f":"VLOOKUP(C395,Main!$A$49:$I$67,Main!$E$47,FALSE)&\":\"&\" \"&VLOOKUP(C395,Main!$A$49:$I$67,Main!$F$47,FALSE)","v":"Minimum COP @ 5°F:: 1.75"},{"$f":"VLOOKUP(C395,Main!$A$49:$I$67,Main!$G$47,FALSE)","v":15},{"$f":"VLOOKUP(C395,Main!$A$49:$I$67,Main!$H$47,FALSE)","v":3.1},{"$f":"VLOOKUP(C395,Main!$A$49:$I$67,Main!$I$47,FALSE)","v":16.100000000000001},2994]
["IL","UNIV OF ILLINOIS WI [BONDVILLE - SURFRAD]","5A",5693,1365,0.9,84.4,0.1144,"40.040N",4.9000000000000004,26,30.3,40.9,52.6,63.2,71.8,74.2,72.3,66.099999999999994,54.2,41.6,30.3,746,555,331,81,6,0,0,0,1,61,289,615,3,3,48,160,415,654,750,693,483,191,37,5,16.3,23,32.4,47.12,51.1,63.68,65.48,66.56,55.2,38.299999999999997,38.299999999999997,20.3,0.80952380952380953,0.15590868205765193,68,37,19,24,{"$f":"IF(OR(C396=\"OA\",C396=\"OB\",C396=\"1B\",C396=\"1A\",C396=\"2A\",C396=\"2B\",C396=\"3A\",C396=\"3B\",C396=\"3C\"),TAN((LEFT(I396, 5)+VLOOKUP(C396,Main!$K$3:$L$21,2,FALSE))*PI()/180),IF(Checklist!$I$385=\"No\",TAN((LEFT(I396, 5)+VLOOKUP(C396,Main!$K$3:$L$21,2,FALSE))*PI()/180),\"NR\"))","v":"NR"},{"$f":"VLOOKUP(C396,Main!$A$49:$I$67,Main!$B$47,FALSE)","v":"NR"},{"$f":"VLOOKUP(C396,Main!$A$49:$I$67,Main!$C$47,FALSE)","v":"NR"},{"$f":"VLOOKUP(C396,Main!$A$49:$I$67,Main!$E$47,FALSE)&\":\"&\" \"&VLOOKUP(C396,Main!$A$49:$I$67,Main!$F$47,FALSE)","v":"Minimum COP @ 5°F:: 1.75"},{"$f":"VLOOKUP(C396,Main!$A$49:$I$67,Main!$G$47,FALSE)","v":15},{"$f":"VLOOKUP(C396,Main!$A$49:$I$67,Main!$H$47,FALSE)","v":3.1},{"$f":"VLOOKUP(C396,Main!$A$49:$I$67,Main!$I$47,FALSE)","v":16.100000000000001},3442]
["IL","W. CHICAGO/DU PAGE","5A",6430,1395,11.75,79.3,0.1144,"41.914N",2.6,23.2,27,37.5,48.9,59.2,68.8,72.900000000000006,71.099999999999994,63.8,51.9,39.5,27.9,832,645,417,126,14,0,0,0,2,82,333,686,0,1,29,93,300,564,711,655,415,142,19,2,22.6,26.06,29.5,39.380000000000003,45.7,60.98,59.36,62.96,53.1,32.5,32.5,17.100000000000001,0.8214285714285714,0.15042565501281097,70,39,20,25,{"$f":"IF(OR(C397=\"OA\",C397=\"OB\",C397=\"1B\",C397=\"1A\",C397=\"2A\",C397=\"2B\",C397=\"3A\",C397=\"3B\",C397=\"3C\"),TAN((LEFT(I397, 5)+VLOOKUP(C397,Main!$K$3:$L$21,2,FALSE))*PI()/180),IF(Checklist!$I$385=\"No\",TAN((LEFT(I397, 5)+VLOOKUP(C397,Main!$K$3:$L$21,2,FALSE))*PI()/180),\"NR\"))","v":"NR"},{"$f":"VLOOKUP(C397,Main!$A$49:$I$67,Main!$B$47,FALSE)","v":"NR"},{"$f":"VLOOKUP(C397,Main!$A$49:$I$67,Main!$C$47,FALSE)","v":"NR"},{"$f":"VLOOKUP(C397,Main!$A$49:$I$67,Main!$E$47,FALSE)&\":\"&\" \"&VLOOKUP(C397,Main!$A$49:$I$67,Main!$F$47,FALSE)","v":"Minimum COP @ 5°F:: 1.75"},{"$f":"VLOOKUP(C397,Main!$A$49:$I$67,Main!$G$47,FALSE)","v":15},{"$f":"VLOOKUP(C397,Main!$A$49:$I$67,Main!$H$47,FALSE)","v":3.1},{"$f":"VLOOKUP(C397,Main!$A$49:$I$67,Main!$I$47,FALSE)","v":16.100000000000001},2931]
["IN","DELAWARE CO JOHNSON","5A",5623,1321,24.1,79.3,0.1041,"40.234N",7.1,27.1,29.3,41,53,62.9,71.400000000000006,73.7,71.8,65.099999999999994,54,43.1,31.4,714,583,332,80,7,0,0,0,1,61,256,581,4,4,52,169,406,642,736,675,455,184,49,6,20.100000000000001,23.18,26.6,40.82,48.7,56.48,63.68,65.48,56.7,36.5,36.5,27,0.80440097799511001,0.1615408511960236,67,36,18,23,{"$f":"IF(OR(C398=\"OA\",C398=\"OB\",C398=\"1B\",C398=\"1A\",C398=\"2A\",C398=\"2B\",C398=\"3A\",C398=\"3B\",C398=\"3C\"),TAN((LEFT(I398, 5)+VLOOKUP(C398,Main!$K$3:$L$21,2,FALSE))*PI()/180),IF(Checklist!$I$385=\"No\",TAN((LEFT(I398, 5)+VLOOKUP(C398,Main!$K$3:$L$21,2,FALSE))*PI()/180),\"NR\"))","v":"NR"},{"$f":"VLOOKUP(C398,Main!$A$49:$I$67,Main!$B$47,FALSE)","v":"NR"},{"$f":"VLOOKUP(C398,Main!$A$49:$I$67,Main!$C$47,FALSE)","v":"NR"},{"$f":"VLOOKUP(C398,Main!$A$49:$I$67,Main!$E$47,FALSE)&\":\"&\" \"&VLOOKUP(C398,Main!$A$49:$I$67,Main!$F$47,FALSE)","v":"Minimum COP @ 5°F:: 1.75"},{"$f":"VLOOKUP(C398,Main!$A$49:$I$67,Main!$G$47,FALSE)","v":15},{"$f":"VLOOKUP(C398,Main!$A$49:$I$67,Main!$H$47,FALSE)","v":3.1},{"$f":"VLOOKUP(C398,Main!$A$49:$I$67,Main!$I$47,FALSE)","v":16.100000000000001},3382]
["IN","EVANSVILLE REGIONAL AP","4A",4388,1524,14.5,82.8,0.1041,"38.044N",14.6,33.700000000000003,37.4,46.5,57,66.400000000000006,75.099999999999994,78.099999999999994,77.099999999999994,69.5,58.1,46.4,37,521,369,195,36,1,0,0,0,0,23,181,418,15,16,88,247,509,752,872,840,584,273,72,15,24.6,24.44,37,43.16,54.3,63.86,65.84,68,56.5,39,39,27.5,0.76676384839650147,0.18422917299321792,63,32,16,21,{"$f":"IF(OR(C399=\"OA\",C399=\"OB\",C399=\"1B\",C399=\"1A\",C399=\"2A\",C399=\"2B\",C399=\"3A\",C399=\"3B\",C399=\"3C\"),TAN((LEFT(I399, 5)+VLOOKUP(C399,Main!$K$3:$L$21,2,FALSE))*PI()/180),IF(Checklist!$I$385=\"No\",TAN((LEFT(I399, 5)+VLOOKUP(C399,Main!$K$3:$L$21,2,FALSE))*PI()/180),\"NR\"))","v":"NR"},{"$f":"VLOOKUP(C399,Main!$A$49:$I$67,Main!$B$47,FALSE)","v":0.5},{"$f":"VLOOKUP(C399,Main!$A$49:$I$67,Main!$C$47,FALSE)","v":0.25},{"$f":"VLOOKUP(C399,Main!$A$49:$I$67,Main!$E$47,FALSE)&\":\"&\" \"&VLOOKUP(C399,Main!$A$49:$I$67,Main!$F$47,FALSE)","v":"Minimum HSPF:: 9.6"},{"$f":"VLOOKUP(C399,Main!$A$49:$I$67,Main!$G$47,FALSE)","v":18},{"$f":"VLOOKUP(C399,Main!$A$49:$I$67,Main!$H$47,FALSE)","v":3.1},{"$f":"VLOOKUP(C399,Main!$A$49:$I$67,Main!$I$47,FALSE)","v":16.100000000000001},4283]
["IN","FORT WAYNE INTL AP","5A",5978,1391,12,79.7,0.1041,"40.971N",5.4,25.6,28.8,38.799999999999997,50.4,61,70.5,73.5,71.5,64.2,53,41.3,30.5,759,596,379,106,8,0,0,0,2,66,291,609,2,2,32,118,349,615,729,666,429,159,29,4,14.4,17.420000000000002,28.9,37.4,51.6,54.32,60.8,62.42,55.9,32.4,32.4,18,0.81132075471698117,0.15715395907089197,68,37,19,24,{"$f":"IF(OR(C400=\"OA\",C400=\"OB\",C400=\"1B\",C400=\"1A\",C400=\"2A\",C400=\"2B\",C400=\"3A\",C400=\"3B\",C400=\"3C\"),TAN((LEFT(I400, 5)+VLOOKUP(C400,Main!$K$3:$L$21,2,FALSE))*PI()/180),IF(Checklist!$I$385=\"No\",TAN((LEFT(I400, 5)+VLOOKUP(C400,Main!$K$3:$L$21,2,FALSE))*PI()/180),\"NR\"))","v":"NR"},{"$f":"VLOOKUP(C400,Main!$A$49:$I$67,Main!$B$47,FALSE)","v":"NR"},{"$f":"VLOOKUP(C400,Main!$A$49:$I$67,Main!$C$47,FALSE)","v":"NR"},{"$f":"VLOOKUP(C400,Main!$A$49:$I$67,Main!$E$47,FALSE)&\":\"&\" \"&VLOOKUP(C400,Main!$A$49:$I$67,Main!$F$47,FALSE)","v":"Minimum COP @ 5°F:: 1.75"},{"$f":"VLOOKUP(C400,Main!$A$49:$I$67,Main!$G$47,FALSE)","v":15},{"$f":"VLOOKUP(C400,Main!$A$49:$I$67,Main!$H$47,FALSE)","v":3.1},{"$f":"VLOOKUP(C400,Main!$A$49:$I$67,Main!$I$47,FALSE)","v":16.100000000000001},3134]
["IN","GRISSOM ARB","5A",5868,1368,13.65,79.7,0.1041,"40.650N",5.5,25,29,40.6,51.5,62.6,71.099999999999994,73.900000000000006,71.900000000000006,64.400000000000006,53.2,41.1,30.7,776,590,336,93,5,0,0,0,2,65,295,600,1,1,46,139,396,634,742,678,436,164,29,3,24.6,23,30.9,35.42,44.1,58.28,63.14,62.6,48.9,32.700000000000003,32.700000000000003,32.4,0.81395348837209303,0.1574054054054054,68,37,19,24,{"$f":"IF(OR(C401=\"OA\",C401=\"OB\",C401=\"1B\",C401=\"1A\",C401=\"2A\",C401=\"2B\",C401=\"3A\",C401=\"3B\",C401=\"3C\"),TAN((LEFT(I401, 5)+VLOOKUP(C401,Main!$K$3:$L$21,2,FALSE))*PI()/180),IF(Checklist!$I$385=\"No\",TAN((LEFT(I401, 5)+VLOOKUP(C401,Main!$K$3:$L$21,2,FALSE))*PI()/180),\"NR\"))","v":"NR"},{"$f":"VLOOKUP(C401,Main!$A$49:$I$67,Main!$B$47,FALSE)","v":"NR"},{"$f":"VLOOKUP(C401,Main!$A$49:$I$67,Main!$C$47,FALSE)","v":"NR"},{"$f":"VLOOKUP(C401,Main!$A$49:$I$67,Main!$E$47,FALSE)&\":\"&\" \"&VLOOKUP(C401,Main!$A$49:$I$67,Main!$F$47,FALSE)","v":"Minimum COP @ 5°F:: 1.75"},{"$f":"VLOOKUP(C401,Main!$A$49:$I$67,Main!$G$47,FALSE)","v":15},{"$f":"VLOOKUP(C401,Main!$A$49:$I$67,Main!$H$47,FALSE)","v":3.1},{"$f":"VLOOKUP(C401,Main!$A$49:$I$67,Main!$I$47,FALSE)","v":16.100000000000001},3269]
["IN","HUNTINGBURG","4A",4572,1541,32.25,79.900000000000006,0.1041,"38.249N",12.5,32.700000000000003,36.299999999999997,45.4,56.2,65,73.2,76.5,75.7,68,57,45.9,37,551,399,223,41,2,0,0,0,0,27,190,420,16,15,81,226,467,696,823,797,541,245,69,16,33.4,30.2,37,36.68,55.9,62.96,66.56,68.900000000000006,55.6,35.4,35.4,28.6,0.77337110481586402,0.17725833942050156,64,33,16,21,{"$f":"IF(OR(C402=\"OA\",C402=\"OB\",C402=\"1B\",C402=\"1A\",C402=\"2A\",C402=\"2B\",C402=\"3A\",C402=\"3B\",C402=\"3C\"),TAN((LEFT(I402, 5)+VLOOKUP(C402,Main!$K$3:$L$21,2,FALSE))*PI()/180),IF(Checklist!$I$385=\"No\",TAN((LEFT(I402, 5)+VLOOKUP(C402,Main!$K$3:$L$21,2,FALSE))*PI()/180),\"NR\"))","v":"NR"},{"$f":"VLOOKUP(C402,Main!$A$49:$I$67,Main!$B$47,FALSE)","v":0.5},{"$f":"VLOOKUP(C402,Main!$A$49:$I$67,Main!$C$47,FALSE)","v":0.25},{"$f":"VLOOKUP(C402,Main!$A$49:$I$67,Main!$E$47,FALSE)&\":\"&\" \"&VLOOKUP(C402,Main!$A$49:$I$67,Main!$F$47,FALSE)","v":"Minimum HSPF:: 9.6"},{"$f":"VLOOKUP(C402,Main!$A$49:$I$67,Main!$G$47,FALSE)","v":18},{"$f":"VLOOKUP(C402,Main!$A$49:$I$67,Main!$H$47,FALSE)","v":3.1},{"$f":"VLOOKUP(C402,Main!$A$49:$I$67,Main!$I$47,FALSE)","v":16.100000000000001},3992]
["IN","INDIANAPOLIS INTL AP","4A",5249,1503,16.7,81.900000000000006,0.1041,"39.732N",8.6,28.8,32.6,42.6,53.7,63.2,72.3,75.5,74.599999999999994,67.2,55.3,43.6,33.1,664,494,289,66,5,0,0,0,1,44,241,531,7,6,61,176,415,668,791,763,515,208,48,8,18.7,18.68,31.5,39.200000000000003,49.1,62.42,65.84,62.78,55.9,32,32,22.3,0.79591836734693866,0.16562016562016563,66,35,18,23,{"$f":"IF(OR(C403=\"OA\",C403=\"OB\",C403=\"1B\",C403=\"1A\",C403=\"2A\",C403=\"2B\",C403=\"3A\",C403=\"3B\",C403=\"3C\"),TAN((LEFT(I403, 5)+VLOOKUP(C403,Main!$K$3:$L$21,2,FALSE))*PI()/180),IF(Checklist!$I$385=\"No\",TAN((LEFT(I403, 5)+VLOOKUP(C403,Main!$K$3:$L$21,2,FALSE))*PI()/180),\"NR\"))","v":"NR"},{"$f":"VLOOKUP(C403,Main!$A$49:$I$67,Main!$B$47,FALSE)","v":0.5},{"$f":"VLOOKUP(C403,Main!$A$49:$I$67,Main!$C$47,FALSE)","v":0.25},{"$f":"VLOOKUP(C403,Main!$A$49:$I$67,Main!$E$47,FALSE)&\":\"&\" \"&VLOOKUP(C403,Main!$A$49:$I$67,Main!$F$47,FALSE)","v":"Minimum HSPF:: 9.6"},{"$f":"VLOOKUP(C403,Main!$A$49:$I$67,Main!$G$47,FALSE)","v":18},{"$f":"VLOOKUP(C403,Main!$A$49:$I$67,Main!$H$47,FALSE)","v":3.1},{"$f":"VLOOKUP(C403,Main!$A$49:$I$67,Main!$I$47,FALSE)","v":16.100000000000001},3666]
["IN","LAFAYETTE PURDUE UNIV AP","5A",5526,1305,11.7,82.6,0.1041,"40.412N",6.3,27.4,31.1,41.3,52.7,62.6,71.7,74.5,73.2,66.099999999999994,54.7,42.7,31.8,704,533,322,78,6,0,0,0,1,51,264,569,4,4,52,159,396,650,760,719,485,196,43,6,19,19.04,35.1,45.86,50.5,60.62,64.760000000000005,65.3,55.4,39.9,39.9,14,0.80295566502463056,0.15944631827938147,67,36,18,23,{"$f":"IF(OR(C404=\"OA\",C404=\"OB\",C404=\"1B\",C404=\"1A\",C404=\"2A\",C404=\"2B\",C404=\"3A\",C404=\"3B\",C404=\"3C\"),TAN((LEFT(I404, 5)+VLOOKUP(C404,Main!$K$3:$L$21,2,FALSE))*PI()/180),IF(Checklist!$I$385=\"No\",TAN((LEFT(I404, 5)+VLOOKUP(C404,Main!$K$3:$L$21,2,FALSE))*PI()/180),\"NR\"))","v":"NR"},{"$f":"VLOOKUP(C404,Main!$A$49:$I$67,Main!$B$47,FALSE)","v":"NR"},{"$f":"VLOOKUP(C404,Main!$A$49:$I$67,Main!$C$47,FALSE)","v":"NR"},{"$f":"VLOOKUP(C404,Main!$A$49:$I$67,Main!$E$47,FALSE)&\":\"&\" \"&VLOOKUP(C404,Main!$A$49:$I$67,Main!$F$47,FALSE)","v":"Minimum COP @ 5°F:: 1.75"},{"$f":"VLOOKUP(C404,Main!$A$49:$I$67,Main!$G$47,FALSE)","v":15},{"$f":"VLOOKUP(C404,Main!$A$49:$I$67,Main!$H$47,FALSE)","v":3.1},{"$f":"VLOOKUP(C404,Main!$A$49:$I$67,Main!$I$47,FALSE)","v":16.100000000000001},3474]
["IN","MONROE CO","4A",5071,1276,12.75,78.400000000000006,0.1041,"39.133N",9.8000000000000007,30.1,33,43.8,55.2,63.8,72,74.5,73.7,66.3,55.1,44.5,33.799999999999997,627,483,260,49,4,0,0,0,1,44,223,515,10,7,67,204,432,660,760,734,490,202,57,12,21.4,24.44,34,45.86,54,62.42,66.92,69.08,57.7,40.299999999999997,40.299999999999997,22.8,0.78891820580474936,0.16903501439583909,65,34,17,22,{"$f":"IF(OR(C405=\"OA\",C405=\"OB\",C405=\"1B\",C405=\"1A\",C405=\"2A\",C405=\"2B\",C405=\"3A\",C405=\"3B\",C405=\"3C\"),TAN((LEFT(I405, 5)+VLOOKUP(C405,Main!$K$3:$L$21,2,FALSE))*PI()/180),IF(Checklist!$I$385=\"No\",TAN((LEFT(I405, 5)+VLOOKUP(C405,Main!$K$3:$L$21,2,FALSE))*PI()/180),\"NR\"))","v":"NR"},{"$f":"VLOOKUP(C405,Main!$A$49:$I$67,Main!$B$47,FALSE)","v":0.5},{"$f":"VLOOKUP(C405,Main!$A$49:$I$67,Main!$C$47,FALSE)","v":0.25},{"$f":"VLOOKUP(C405,Main!$A$49:$I$67,Main!$E$47,FALSE)&\":\"&\" \"&VLOOKUP(C405,Main!$A$49:$I$67,Main!$F$47,FALSE)","v":"Minimum HSPF:: 9.6"},{"$f":"VLOOKUP(C405,Main!$A$49:$I$67,Main!$G$47,FALSE)","v":18},{"$f":"VLOOKUP(C405,Main!$A$49:$I$67,Main!$H$47,FALSE)","v":3.1},{"$f":"VLOOKUP(C405,Main!$A$49:$I$67,Main!$I$47,FALSE)","v":16.100000000000001},3635]
["IN","SOUTH BEND MICHIANA RGNL AP","5A",6160,1378,18.75,84.7,0.1041,"41.707N",6.3,25.3,28.2,37.9,49.3,59.9,69.5,73,71.400000000000006,64,52.7,40.799999999999997,30.2,768,611,409,128,16,0,0,0,2,71,304,617,1,2,35,108,322,587,714,663,422,154,28,4,20.3,20.48,30,35.6,49.6,55.94,64.94,63.86,54.5,34.700000000000003,34.700000000000003,23.5,0.81264637002341922,0.15944631827938147,68,37,19,24,{"$f":"IF(OR(C406=\"OA\",C406=\"OB\",C406=\"1B\",C406=\"1A\",C406=\"2A\",C406=\"2B\",C406=\"3A\",C406=\"3B\",C406=\"3C\"),TAN((LEFT(I406, 5)+VLOOKUP(C406,Main!$K$3:$L$21,2,FALSE))*PI()/180),IF(Checklist!$I$385=\"No\",TAN((LEFT(I406, 5)+VLOOKUP(C406,Main!$K$3:$L$21,2,FALSE))*PI()/180),\"NR\"))","v":"NR"},{"$f":"VLOOKUP(C406,Main!$A$49:$I$67,Main!$B$47,FALSE)","v":"NR"},{"$f":"VLOOKUP(C406,Main!$A$49:$I$67,Main!$C$47,FALSE)","v":"NR"},{"$f":"VLOOKUP(C406,Main!$A$49:$I$67,Main!$E$47,FALSE)&\":\"&\" \"&VLOOKUP(C406,Main!$A$49:$I$67,Main!$F$47,FALSE)","v":"Minimum COP @ 5°F:: 1.75"},{"$f":"VLOOKUP(C406,Main!$A$49:$I$67,Main!$G$47,FALSE)","v":15},{"$f":"VLOOKUP(C406,Main!$A$49:$I$67,Main!$H$47,FALSE)","v":3.1},{"$f":"VLOOKUP(C406,Main!$A$49:$I$67,Main!$I$47,FALSE)","v":16.100000000000001},3040]
["IN","TERRE HAUTE HULMAN REGIONAL A","4A",5170,1298,0.5,83.3,0.1041,"39.452N",8.8000000000000007,29.3,33.200000000000003,43.1,54.2,63.9,72.8,75.5,73.8,66.400000000000006,55.3,43.6,33.299999999999997,648,477,274,58,3,0,0,0,1,43,239,525,7,6,61,185,435,683,789,738,493,206,47,8,17.100000000000001,24.62,33.799999999999997,46.76,47.7,63.14,65.48,71.42,60.3,39.4,39.4,28,0.79328165374676995,0.16617969320672021,66,35,17,22,{"$f":"IF(OR(C407=\"OA\",C407=\"OB\",C407=\"1B\",C407=\"1A\",C407=\"2A\",C407=\"2B\",C407=\"3A\",C407=\"3B\",C407=\"3C\"),TAN((LEFT(I407, 5)+VLOOKUP(C407,Main!$K$3:$L$21,2,FALSE))*PI()/180),IF(Checklist!$I$385=\"No\",TAN((LEFT(I407, 5)+VLOOKUP(C407,Main!$K$3:$L$21,2,FALSE))*PI()/180),\"NR\"))","v":"NR"},{"$f":"VLOOKUP(C407,Main!$A$49:$I$67,Main!$B$47,FALSE)","v":0.5},{"$f":"VLOOKUP(C407,Main!$A$49:$I$67,Main!$C$47,FALSE)","v":0.25},{"$f":"VLOOKUP(C407,Main!$A$49:$I$67,Main!$E$47,FALSE)&\":\"&\" \"&VLOOKUP(C407,Main!$A$49:$I$67,Main!$F$47,FALSE)","v":"Minimum HSPF:: 9.6"},{"$f":"VLOOKUP(C407,Main!$A$49:$I$67,Main!$G$47,FALSE)","v":18},{"$f":"VLOOKUP(C407,Main!$A$49:$I$67,Main!$H$47,FALSE)","v":3.1},{"$f":"VLOOKUP(C407,Main!$A$49:$I$67,Main!$I$47,FALSE)","v":16.100000000000001},3658]
["KS","CHANUTE MARTIN JOHNSON AP","4A",4432,1523,19.2,83.1,0.1145,"37.670N",12,33.1,37.200000000000003,47,57.3,66.3,74.8,79.8,79.3,70.099999999999994,58.2,46.7,35.200000000000003,534,376,188,35,2,0,0,0,0,27,179,468,9,18,95,254,506,743,925,909,602,282,79,10,30.6,25.88,37.9,49.28,59.4,64.040000000000006,68.36,68.900000000000006,65.3,31.8,31.8,15.4,0.77077363896848139,0.17567567567567566,64,33,16,21,{"$f":"IF(OR(C408=\"OA\",C408=\"OB\",C408=\"1B\",C408=\"1A\",C408=\"2A\",C408=\"2B\",C408=\"3A\",C408=\"3B\",C408=\"3C\"),TAN((LEFT(I408, 5)+VLOOKUP(C408,Main!$K$3:$L$21,2,FALSE))*PI()/180),IF(Checklist!$I$385=\"No\",TAN((LEFT(I408, 5)+VLOOKUP(C408,Main!$K$3:$L$21,2,FALSE))*PI()/180),\"NR\"))","v":"NR"},{"$f":"VLOOKUP(C408,Main!$A$49:$I$67,Main!$B$47,FALSE)","v":0.5},{"$f":"VLOOKUP(C408,Main!$A$49:$I$67,Main!$C$47,FALSE)","v":0.25},{"$f":"VLOOKUP(C408,Main!$A$49:$I$67,Main!$E$47,FALSE)&\":\"&\" \"&VLOOKUP(C408,Main!$A$49:$I$67,Main!$F$47,FALSE)","v":"Minimum HSPF:: 9.6"},{"$f":"VLOOKUP(C408,Main!$A$49:$I$67,Main!$G$47,FALSE)","v":18},{"$f":"VLOOKUP(C408,Main!$A$49:$I$67,Main!$H$47,FALSE)","v":3.1},{"$f":"VLOOKUP(C408,Main!$A$49:$I$67,Main!$I$47,FALSE)","v":16.100000000000001},4432]
["KS","CONCORDIA BLOSSER MUNI AP","4A",5308,1589,18.5,88.3,0.1145,"39.551N",6.4,29,33.1,43.3,53.1,63.5,74,79,76.900000000000006,68.2,55.9,42.1,31.1,653,480,271,74,5,0,0,0,2,51,275,587,1,8,63,168,424,720,900,833,547,235,39,2,16.2,17.059999999999999,29.5,43.34,57.7,61.16,62.24,63.14,54,34.700000000000003,34.700000000000003,25.2,0.79487179487179482,0.15970515970515969,67,36,18,23,{"$f":"IF(OR(C409=\"OA\",C409=\"OB\",C409=\"1B\",C409=\"1A\",C409=\"2A\",C409=\"2B\",C409=\"3A\",C409=\"3B\",C409=\"3C\"),TAN((LEFT(I409, 5)+VLOOKUP(C409,Main!$K$3:$L$21,2,FALSE))*PI()/180),IF(Checklist!$I$385=\"No\",TAN((LEFT(I409, 5)+VLOOKUP(C409,Main!$K$3:$L$21,2,FALSE))*PI()/180),\"NR\"))","v":"NR"},{"$f":"VLOOKUP(C409,Main!$A$49:$I$67,Main!$B$47,FALSE)","v":0.5},{"$f":"VLOOKUP(C409,Main!$A$49:$I$67,Main!$C$47,FALSE)","v":0.25},{"$f":"VLOOKUP(C409,Main!$A$49:$I$67,Main!$E$47,FALSE)&\":\"&\" \"&VLOOKUP(C409,Main!$A$49:$I$67,Main!$F$47,FALSE)","v":"Minimum HSPF:: 9.6"},{"$f":"VLOOKUP(C409,Main!$A$49:$I$67,Main!$G$47,FALSE)","v":18},{"$f":"VLOOKUP(C409,Main!$A$49:$I$67,Main!$H$47,FALSE)","v":3.1},{"$f":"VLOOKUP(C409,Main!$A$49:$I$67,Main!$I$47,FALSE)","v":16.100000000000001},3940]
["KS","DODGE CITY REGIONAL AP","4B",4908,1772,19.350000000000001,86.2,0.1145,"37.769N",9.8000000000000007,32.5,36,44.7,53.9,64.5,74.599999999999994,79.599999999999994,77.900000000000006,69.2,56.7,43.3,33.299999999999997,544,405,232,70,5,0,0,0,2,46,248,520,3,12,69,187,456,737,917,863,579,253,47,4,15.8,23,30,40.1,49.1,58.64,60.44,60.62,53.8,27,27,20.100000000000001,0.77464788732394363,0.16903501439583909,66,34,17,22,{"$f":"IF(OR(C410=\"OA\",C410=\"OB\",C410=\"1B\",C410=\"1A\",C410=\"2A\",C410=\"2B\",C410=\"3A\",C410=\"3B\",C410=\"3C\"),TAN((LEFT(I410, 5)+VLOOKUP(C410,Main!$K$3:$L$21,2,FALSE))*PI()/180),IF(Checklist!$I$385=\"No\",TAN((LEFT(I410, 5)+VLOOKUP(C410,Main!$K$3:$L$21,2,FALSE))*PI()/180),\"NR\"))","v":"NR"},{"$f":"VLOOKUP(C410,Main!$A$49:$I$67,Main!$B$47,FALSE)","v":"NR"},{"$f":"VLOOKUP(C410,Main!$A$49:$I$67,Main!$C$47,FALSE)","v":0.25},{"$f":"VLOOKUP(C410,Main!$A$49:$I$67,Main!$E$47,FALSE)&\":\"&\" \"&VLOOKUP(C410,Main!$A$49:$I$67,Main!$F$47,FALSE)","v":"Minimum HSPF:: 9.6"},{"$f":"VLOOKUP(C410,Main!$A$49:$I$67,Main!$G$47,FALSE)","v":18},{"$f":"VLOOKUP(C410,Main!$A$49:$I$67,Main!$H$47,FALSE)","v":3.1},{"$f":"VLOOKUP(C410,Main!$A$49:$I$67,Main!$I$47,FALSE)","v":16.100000000000001},4127]
["KS","EMPORIA MUNICIPAL AP","4A",4760,1485,17.8,85.1,0.1145,"38.329N",9.6,31.5,35.299999999999997,45.2,55.9,65.5,74,79.3,78.3,69.099999999999994,57.5,45.2,33.700000000000003,580,424,227,47,3,0,0,0,0,32,204,514,5,11,78,224,484,720,908,876,572,266,62,8,16.5,24.62,22.5,45.5,57.6,65.48,67.099999999999994,65.84,59.7,31.5,31.5,13.8,0.78082191780821919,0.16845612736023693,65,34,17,22,{"$f":"IF(OR(C411=\"OA\",C411=\"OB\",C411=\"1B\",C411=\"1A\",C411=\"2A\",C411=\"2B\",C411=\"3A\",C411=\"3B\",C411=\"3C\"),TAN((LEFT(I411, 5)+VLOOKUP(C411,Main!$K$3:$L$21,2,FALSE))*PI()/180),IF(Checklist!$I$385=\"No\",TAN((LEFT(I411, 5)+VLOOKUP(C411,Main!$K$3:$L$21,2,FALSE))*PI()/180),\"NR\"))","v":"NR"},{"$f":"VLOOKUP(C411,Main!$A$49:$I$67,Main!$B$47,FALSE)","v":0.5},{"$f":"VLOOKUP(C411,Main!$A$49:$I$67,Main!$C$47,FALSE)","v":0.25},{"$f":"VLOOKUP(C411,Main!$A$49:$I$67,Main!$E$47,FALSE)&\":\"&\" \"&VLOOKUP(C411,Main!$A$49:$I$67,Main!$F$47,FALSE)","v":"Minimum HSPF:: 9.6"},{"$f":"VLOOKUP(C411,Main!$A$49:$I$67,Main!$G$47,FALSE)","v":18},{"$f":"VLOOKUP(C411,Main!$A$49:$I$67,Main!$H$47,FALSE)","v":3.1},{"$f":"VLOOKUP(C411,Main!$A$49:$I$67,Main!$I$47,FALSE)","v":16.100000000000001},4214]
["KS","FORT RILEY MARSHALL AAF","4A",4940,1521,24,83.3,0.1145,"39.050N",9.1999999999999993,30.8,33.9,46.2,54.6,64.8,75.7,80.2,79,69.2,57.1,44,32.799999999999997,599,459,211,60,4,0,0,0,0,40,230,538,2,9,94,199,462,772,937,900,577,262,49,5,20.5,21.2,35.1,42.62,52.7,64.94,65.66,66.56,57.2,31.8,31.8,26.6,0.78494623655913975,0.16731016731016729,66,35,17,22,{"$f":"IF(OR(C412=\"OA\",C412=\"OB\",C412=\"1B\",C412=\"1A\",C412=\"2A\",C412=\"2B\",C412=\"3A\",C412=\"3B\",C412=\"3C\"),TAN((LEFT(I412, 5)+VLOOKUP(C412,Main!$K$3:$L$21,2,FALSE))*PI()/180),IF(Checklist!$I$385=\"No\",TAN((LEFT(I412, 5)+VLOOKUP(C412,Main!$K$3:$L$21,2,FALSE))*PI()/180),\"NR\"))","v":"NR"},{"$f":"VLOOKUP(C412,Main!$A$49:$I$67,Main!$B$47,FALSE)","v":0.5},{"$f":"VLOOKUP(C412,Main!$A$49:$I$67,Main!$C$47,FALSE)","v":0.25},{"$f":"VLOOKUP(C412,Main!$A$49:$I$67,Main!$E$47,FALSE)&\":\"&\" \"&VLOOKUP(C412,Main!$A$49:$I$67,Main!$F$47,FALSE)","v":"Minimum HSPF:: 9.6"},{"$f":"VLOOKUP(C412,Main!$A$49:$I$67,Main!$G$47,FALSE)","v":18},{"$f":"VLOOKUP(C412,Main!$A$49:$I$67,Main!$H$47,FALSE)","v":3.1},{"$f":"VLOOKUP(C412,Main!$A$49:$I$67,Main!$I$47,FALSE)","v":16.100000000000001},4268]
["KS","GARDEN CITY MUNICIPAL AP","4B",5077,1729,25.5,80.400000000000006,0.1145,"37.927N",8.9,31.7,35.4,44.2,53.1,63.9,73.7,78.5,76.8,68.5,55.9,42.2,32.299999999999997,569,418,239,76,7,0,0,0,2,46,270,550,1,9,58,170,437,710,883,830,557,230,36,2,24.4,24.98,20.3,37.58,46.2,59.54,61.88,64.58,52,27.1,27.1,21.2,0.77961432506887063,0.16646087712077556,66,35,18,23,{"$f":"IF(OR(C413=\"OA\",C413=\"OB\",C413=\"1B\",C413=\"1A\",C413=\"2A\",C413=\"2B\",C413=\"3A\",C413=\"3B\",C413=\"3C\"),TAN((LEFT(I413, 5)+VLOOKUP(C413,Main!$K$3:$L$21,2,FALSE))*PI()/180),IF(Checklist!$I$385=\"No\",TAN((LEFT(I413, 5)+VLOOKUP(C413,Main!$K$3:$L$21,2,FALSE))*PI()/180),\"NR\"))","v":"NR"},{"$f":"VLOOKUP(C413,Main!$A$49:$I$67,Main!$B$47,FALSE)","v":"NR"},{"$f":"VLOOKUP(C413,Main!$A$49:$I$67,Main!$C$47,FALSE)","v":0.25},{"$f":"VLOOKUP(C413,Main!$A$49:$I$67,Main!$E$47,FALSE)&\":\"&\" \"&VLOOKUP(C413,Main!$A$49:$I$67,Main!$F$47,FALSE)","v":"Minimum HSPF:: 9.6"},{"$f":"VLOOKUP(C413,Main!$A$49:$I$67,Main!$G$47,FALSE)","v":18},{"$f":"VLOOKUP(C413,Main!$A$49:$I$67,Main!$H$47,FALSE)","v":3.1},{"$f":"VLOOKUP(C413,Main!$A$49:$I$67,Main!$I$47,FALSE)","v":16.100000000000001},3923]
["KS","GOODLAND RENNER FIELD","5B",5810,1746,13.35,80.099999999999994,0.1145,"39.367N",6,30.1,32.4,41.1,49.3,59.7,70.400000000000006,75.8,73.8,65,52.1,39.5,30.5,619,495,308,127,20,1,0,0,6,94,337,605,1,3,33,105,319,612,801,737,456,160,23,1,11.5,19.760000000000002,24.4,33.979999999999997,47.3,54.5,57.56,56.48,48.6,23.9,23.9,17.8,0.78891820580474936,0.15867480383609414,68,37,19,24,{"$f":"IF(OR(C414=\"OA\",C414=\"OB\",C414=\"1B\",C414=\"1A\",C414=\"2A\",C414=\"2B\",C414=\"3A\",C414=\"3B\",C414=\"3C\"),TAN((LEFT(I414, 5)+VLOOKUP(C414,Main!$K$3:$L$21,2,FALSE))*PI()/180),IF(Checklist!$I$385=\"No\",TAN((LEFT(I414, 5)+VLOOKUP(C414,Main!$K$3:$L$21,2,FALSE))*PI()/180),\"NR\"))","v":"NR"},{"$f":"VLOOKUP(C414,Main!$A$49:$I$67,Main!$B$47,FALSE)","v":"NR"},{"$f":"VLOOKUP(C414,Main!$A$49:$I$67,Main!$C$47,FALSE)","v":"NR"},{"$f":"VLOOKUP(C414,Main!$A$49:$I$67,Main!$E$47,FALSE)&\":\"&\" \"&VLOOKUP(C414,Main!$A$49:$I$67,Main!$F$47,FALSE)","v":"Minimum COP @ 5°F:: 1.75"},{"$f":"VLOOKUP(C414,Main!$A$49:$I$67,Main!$G$47,FALSE)","v":15},{"$f":"VLOOKUP(C414,Main!$A$49:$I$67,Main!$H$47,FALSE)","v":3.1},{"$f":"VLOOKUP(C414,Main!$A$49:$I$67,Main!$I$47,FALSE)","v":16.100000000000001},3251]
["KS","GREAT BEND (AWOS)","4A",5132,1737,19.2,84.2,0.1145,"38.350N",8.8000000000000007,30.6,33.9,43.6,53.2,64.400000000000006,74.7,79.599999999999994,77.900000000000006,68.900000000000006,56.5,42.8,32.5,602,461,257,77,5,0,0,0,2,43,253,547,1,9,59,174,451,741,919,864,568,243,38,3,21.2,28.04,19.2,40.82,45.7,60.26,61.34,62.06,52.9,28.6,28.6,21.9,0.78609625668449201,0.16617969320672021,66,35,18,23,{"$f":"IF(OR(C415=\"OA\",C415=\"OB\",C415=\"1B\",C415=\"1A\",C415=\"2A\",C415=\"2B\",C415=\"3A\",C415=\"3B\",C415=\"3C\"),TAN((LEFT(I415, 5)+VLOOKUP(C415,Main!$K$3:$L$21,2,FALSE))*PI()/180),IF(Checklist!$I$385=\"No\",TAN((LEFT(I415, 5)+VLOOKUP(C415,Main!$K$3:$L$21,2,FALSE))*PI()/180),\"NR\"))","v":"NR"},{"$f":"VLOOKUP(C415,Main!$A$49:$I$67,Main!$B$47,FALSE)","v":0.5},{"$f":"VLOOKUP(C415,Main!$A$49:$I$67,Main!$C$47,FALSE)","v":0.25},{"$f":"VLOOKUP(C415,Main!$A$49:$I$67,Main!$E$47,FALSE)&\":\"&\" \"&VLOOKUP(C415,Main!$A$49:$I$67,Main!$F$47,FALSE)","v":"Minimum HSPF:: 9.6"},{"$f":"VLOOKUP(C415,Main!$A$49:$I$67,Main!$G$47,FALSE)","v":18},{"$f":"VLOOKUP(C415,Main!$A$49:$I$67,Main!$H$47,FALSE)","v":3.1},{"$f":"VLOOKUP(C415,Main!$A$49:$I$67,Main!$I$47,FALSE)","v":16.100000000000001},4070]
["KS","HAYS MUNI (AWOS)","4A",5377,1684,17.7,86.7,0.1145,"38.850N",7.4,29.7,32.799999999999997,42.8,52.2,63.2,74,79.2,77.2,68.2,55.3,41.8,31,630,488,275,85,5,0,0,0,2,54,274,591,0,6,52,151,415,719,905,844,548,218,29,2,21.7,24.98,26.2,39.020000000000003,48,54.14,58.28,58.46,56.1,31.8,31.8,18.7,0.79112271540469981,0.16234055838016231,67,36,18,23,{"$f":"IF(OR(C416=\"OA\",C416=\"OB\",C416=\"1B\",C416=\"1A\",C416=\"2A\",C416=\"2B\",C416=\"3A\",C416=\"3B\",C416=\"3C\"),TAN((LEFT(I416, 5)+VLOOKUP(C416,Main!$K$3:$L$21,2,FALSE))*PI()/180),IF(Checklist!$I$385=\"No\",TAN((LEFT(I416, 5)+VLOOKUP(C416,Main!$K$3:$L$21,2,FALSE))*PI()/180),\"NR\"))","v":"NR"},{"$f":"VLOOKUP(C416,Main!$A$49:$I$67,Main!$B$47,FALSE)","v":0.5},{"$f":"VLOOKUP(C416,Main!$A$49:$I$67,Main!$C$47,FALSE)","v":0.25},{"$f":"VLOOKUP(C416,Main!$A$49:$I$67,Main!$E$47,FALSE)&\":\"&\" \"&VLOOKUP(C416,Main!$A$49:$I$67,Main!$F$47,FALSE)","v":"Minimum HSPF:: 9.6"},{"$f":"VLOOKUP(C416,Main!$A$49:$I$67,Main!$G$47,FALSE)","v":18},{"$f":"VLOOKUP(C416,Main!$A$49:$I$67,Main!$H$47,FALSE)","v":3.1},{"$f":"VLOOKUP(C416,Main!$A$49:$I$67,Main!$I$47,FALSE)","v":16.100000000000001},3889]
["KS","HILL CITY MUNICIPAL AP","5B",5347,1586,20.25,87.1,0.1145,"39.376N",7.1,30.6,33.1,42.9,52.4,63.4,73.900000000000006,80.2,77.3,68.099999999999994,54.9,41.7,31,603,479,272,84,6,0,0,0,2,60,281,590,1,5,51,155,422,717,938,845,545,212,32,2,16.899999999999999,16.7,18.5,40.46,46,57.2,66.02,55.58,54.9,26.2,26.2,22.6,0.78609625668449201,0.1615408511960236,67,36,18,23,{"$f":"IF(OR(C417=\"OA\",C417=\"OB\",C417=\"1B\",C417=\"1A\",C417=\"2A\",C417=\"2B\",C417=\"3A\",C417=\"3B\",C417=\"3C\"),TAN((LEFT(I417, 5)+VLOOKUP(C417,Main!$K$3:$L$21,2,FALSE))*PI()/180),IF(Checklist!$I$385=\"No\",TAN((LEFT(I417, 5)+VLOOKUP(C417,Main!$K$3:$L$21,2,FALSE))*PI()/180),\"NR\"))","v":"NR"},{"$f":"VLOOKUP(C417,Main!$A$49:$I$67,Main!$B$47,FALSE)","v":"NR"},{"$f":"VLOOKUP(C417,Main!$A$49:$I$67,Main!$C$47,FALSE)","v":"NR"},{"$f":"VLOOKUP(C417,Main!$A$49:$I$67,Main!$E$47,FALSE)&\":\"&\" \"&VLOOKUP(C417,Main!$A$49:$I$67,Main!$F$47,FALSE)","v":"Minimum COP @ 5°F:: 1.75"},{"$f":"VLOOKUP(C417,Main!$A$49:$I$67,Main!$G$47,FALSE)","v":15},{"$f":"VLOOKUP(C417,Main!$A$49:$I$67,Main!$H$47,FALSE)","v":3.1},{"$f":"VLOOKUP(C417,Main!$A$49:$I$67,Main!$I$47,FALSE)","v":16.100000000000001},3925]
["KS","HUTCHINSON MUNICIPAL AP","4A",4787,1666,11.75,84.4,0.1145,"38.065N",9.9,32,35.299999999999997,45.6,55.6,66,75.5,80.5,79.2,69.8,57.5,44.4,33.1,561,421,213,51,2,0,0,0,1,35,221,529,3,9,76,219,498,765,945,907,596,268,52,5,23.4,29.3,35.799999999999997,41.9,55.2,63.68,64.58,64.58,55.9,34.9,34.9,20.100000000000001,0.77777777777777779,0.16932595245848256,65,34,17,22,{"$f":"IF(OR(C418=\"OA\",C418=\"OB\",C418=\"1B\",C418=\"1A\",C418=\"2A\",C418=\"2B\",C418=\"3A\",C418=\"3B\",C418=\"3C\"),TAN((LEFT(I418, 5)+VLOOKUP(C418,Main!$K$3:$L$21,2,FALSE))*PI()/180),IF(Checklist!$I$385=\"No\",TAN((LEFT(I418, 5)+VLOOKUP(C418,Main!$K$3:$L$21,2,FALSE))*PI()/180),\"NR\"))","v":"NR"},{"$f":"VLOOKUP(C418,Main!$A$49:$I$67,Main!$B$47,FALSE)","v":0.5},{"$f":"VLOOKUP(C418,Main!$A$49:$I$67,Main!$C$47,FALSE)","v":0.25},{"$f":"VLOOKUP(C418,Main!$A$49:$I$67,Main!$E$47,FALSE)&\":\"&\" \"&VLOOKUP(C418,Main!$A$49:$I$67,Main!$F$47,FALSE)","v":"Minimum HSPF:: 9.6"},{"$f":"VLOOKUP(C418,Main!$A$49:$I$67,Main!$G$47,FALSE)","v":18},{"$f":"VLOOKUP(C418,Main!$A$49:$I$67,Main!$H$47,FALSE)","v":3.1},{"$f":"VLOOKUP(C418,Main!$A$49:$I$67,Main!$I$47,FALSE)","v":16.100000000000001},4343]
["KS","LIBERAL MUNI","4B",4727,1803,21,84.6,0.1145,"37.050N",11.5,33.799999999999997,36.5,45.5,54.6,65.099999999999994,75.099999999999994,80,78,69.8,57,43.9,34,504,388,210,61,3,0,0,0,2,35,224,498,3,11,70,199,471,754,929,868,597,253,41,3,26.1,31.46,25.5,36.14,52.5,57.38,60.08,64.22,57.9,32.9,32.9,23.2,0.76608187134502925,0.17412102367854579,65,34,17,22,{"$f":"IF(OR(C419=\"OA\",C419=\"OB\",C419=\"1B\",C419=\"1A\",C419=\"2A\",C419=\"2B\",C419=\"3A\",C419=\"3B\",C419=\"3C\"),TAN((LEFT(I419, 5)+VLOOKUP(C419,Main!$K$3:$L$21,2,FALSE))*PI()/180),IF(Checklist!$I$385=\"No\",TAN((LEFT(I419, 5)+VLOOKUP(C419,Main!$K$3:$L$21,2,FALSE))*PI()/180),\"NR\"))","v":"NR"},{"$f":"VLOOKUP(C419,Main!$A$49:$I$67,Main!$B$47,FALSE)","v":"NR"},{"$f":"VLOOKUP(C419,Main!$A$49:$I$67,Main!$C$47,FALSE)","v":0.25},{"$f":"VLOOKUP(C419,Main!$A$49:$I$67,Main!$E$47,FALSE)&\":\"&\" \"&VLOOKUP(C419,Main!$A$49:$I$67,Main!$F$47,FALSE)","v":"Minimum HSPF:: 9.6"},{"$f":"VLOOKUP(C419,Main!$A$49:$I$67,Main!$G$47,FALSE)","v":18},{"$f":"VLOOKUP(C419,Main!$A$49:$I$67,Main!$H$47,FALSE)","v":3.1},{"$f":"VLOOKUP(C419,Main!$A$49:$I$67,Main!$I$47,FALSE)","v":16.100000000000001},4199]
["KS","MANHATTAN RGNL","4A",5145,1517,20.5,85.5,0.1145,"39.135N",7.5,29.6,33.5,43.8,54.7,65,74.5,79.900000000000006,77.8,68.3,56.3,43.2,31.7,634,472,259,59,3,0,0,0,1,44,248,571,2,9,66,200,468,735,928,863,548,239,44,5,20.7,22.28,33.6,45.32,54.9,65.48,70.16,68.540000000000006,55.9,31.8,31.8,20.8,0.79166666666666663,0.16260888988161715,66,35,18,23,{"$f":"IF(OR(C420=\"OA\",C420=\"OB\",C420=\"1B\",C420=\"1A\",C420=\"2A\",C420=\"2B\",C420=\"3A\",C420=\"3B\",C420=\"3C\"),TAN((LEFT(I420, 5)+VLOOKUP(C420,Main!$K$3:$L$21,2,FALSE))*PI()/180),IF(Checklist!$I$385=\"No\",TAN((LEFT(I420, 5)+VLOOKUP(C420,Main!$K$3:$L$21,2,FALSE))*PI()/180),\"NR\"))","v":"NR"},{"$f":"VLOOKUP(C420,Main!$A$49:$I$67,Main!$B$47,FALSE)","v":0.5},{"$f":"VLOOKUP(C420,Main!$A$49:$I$67,Main!$C$47,FALSE)","v":0.25},{"$f":"VLOOKUP(C420,Main!$A$49:$I$67,Main!$E$47,FALSE)&\":\"&\" \"&VLOOKUP(C420,Main!$A$49:$I$67,Main!$F$47,FALSE)","v":"Minimum HSPF:: 9.6"},{"$f":"VLOOKUP(C420,Main!$A$49:$I$67,Main!$G$47,FALSE)","v":18},{"$f":"VLOOKUP(C420,Main!$A$49:$I$67,Main!$H$47,FALSE)","v":3.1},{"$f":"VLOOKUP(C420,Main!$A$49:$I$67,Main!$I$47,FALSE)","v":16.100000000000001},4107]
["KS","MCCONNELL AFB","4A",4284,1563,24.7,86.9,0.1145,"37.617N",12.8,33.9,38.700000000000003,47.8,56.7,66.900000000000006,76.400000000000006,80.8,80.099999999999994,71.599999999999994,59.6,46.4,36.4,505,338,180,38,1,0,0,0,1,23,179,430,6,22,111,238,525,792,955,933,648,321,72,9,27.9,29.66,32.700000000000003,39.74,56.1,63.14,60.08,61.16,48.6,32.9,32.9,28.4,0.76539589442815248,0.17822169996083037,64,33,16,21,{"$f":"IF(OR(C421=\"OA\",C421=\"OB\",C421=\"1B\",C421=\"1A\",C421=\"2A\",C421=\"2B\",C421=\"3A\",C421=\"3B\",C421=\"3C\"),TAN((LEFT(I421, 5)+VLOOKUP(C421,Main!$K$3:$L$21,2,FALSE))*PI()/180),IF(Checklist!$I$385=\"No\",TAN((LEFT(I421, 5)+VLOOKUP(C421,Main!$K$3:$L$21,2,FALSE))*PI()/180),\"NR\"))","v":"NR"},{"$f":"VLOOKUP(C421,Main!$A$49:$I$67,Main!$B$47,FALSE)","v":0.5},{"$f":"VLOOKUP(C421,Main!$A$49:$I$67,Main!$C$47,FALSE)","v":0.25},{"$f":"VLOOKUP(C421,Main!$A$49:$I$67,Main!$E$47,FALSE)&\":\"&\" \"&VLOOKUP(C421,Main!$A$49:$I$67,Main!$F$47,FALSE)","v":"Minimum HSPF:: 9.6"},{"$f":"VLOOKUP(C421,Main!$A$49:$I$67,Main!$G$47,FALSE)","v":18},{"$f":"VLOOKUP(C421,Main!$A$49:$I$67,Main!$H$47,FALSE)","v":3.1},{"$f":"VLOOKUP(C421,Main!$A$49:$I$67,Main!$I$47,FALSE)","v":16.100000000000001},4632]
["KS","NEWTON (AWOS)","4A",4963,1644,23.55,85.3,0.1145,"38.068N",9.3000000000000007,30.6,35.1,44.3,54.1,64.400000000000006,74.2,79.099999999999994,77.900000000000006,68.400000000000006,57.3,43.9,33.200000000000003,605,428,248,65,3,0,0,0,1,32,231,526,2,10,71,189,448,727,904,864,553,258,50,4,23.2,24.62,22.3,45.14,54.3,57.74,64.58,60.8,60.3,25.5,25.5,25.9,0.78609625668449201,0.16759519314885582,66,35,17,22,{"$f":"IF(OR(C422=\"OA\",C422=\"OB\",C422=\"1B\",C422=\"1A\",C422=\"2A\",C422=\"2B\",C422=\"3A\",C422=\"3B\",C422=\"3C\"),TAN((LEFT(I422, 5)+VLOOKUP(C422,Main!$K$3:$L$21,2,FALSE))*PI()/180),IF(Checklist!$I$385=\"No\",TAN((LEFT(I422, 5)+VLOOKUP(C422,Main!$K$3:$L$21,2,FALSE))*PI()/180),\"NR\"))","v":"NR"},{"$f":"VLOOKUP(C422,Main!$A$49:$I$67,Main!$B$47,FALSE)","v":0.5},{"$f":"VLOOKUP(C422,Main!$A$49:$I$67,Main!$C$47,FALSE)","v":0.25},{"$f":"VLOOKUP(C422,Main!$A$49:$I$67,Main!$E$47,FALSE)&\":\"&\" \"&VLOOKUP(C422,Main!$A$49:$I$67,Main!$F$47,FALSE)","v":"Minimum HSPF:: 9.6"},{"$f":"VLOOKUP(C422,Main!$A$49:$I$67,Main!$G$47,FALSE)","v":18},{"$f":"VLOOKUP(C422,Main!$A$49:$I$67,Main!$H$47,FALSE)","v":3.1},{"$f":"VLOOKUP(C422,Main!$A$49:$I$67,Main!$I$47,FALSE)","v":16.100000000000001},4080]
["KS","OLATHE/JOHNSON CO.","4A",4837,1557,18.350000000000001,82.8,0.1145,"38.850N",9.1999999999999993,30.6,34.700000000000003,45.1,55.6,65,73.8,79,77.8,68.8,57.2,44.9,33.5,607,438,228,49,3,0,0,0,0,32,213,520,6,10,76,215,468,715,898,863,563,257,60,8,22.6,23.72,31.1,46.58,52.5,62.06,66.2,66.38,64.2,36.9,36.9,23.2,0.78609625668449201,0.16731016731016729,65,34,17,22,{"$f":"IF(OR(C423=\"OA\",C423=\"OB\",C423=\"1B\",C423=\"1A\",C423=\"2A\",C423=\"2B\",C423=\"3A\",C423=\"3B\",C423=\"3C\"),TAN((LEFT(I423, 5)+VLOOKUP(C423,Main!$K$3:$L$21,2,FALSE))*PI()/180),IF(Checklist!$I$385=\"No\",TAN((LEFT(I423, 5)+VLOOKUP(C423,Main!$K$3:$L$21,2,FALSE))*PI()/180),\"NR\"))","v":"NR"},{"$f":"VLOOKUP(C423,Main!$A$49:$I$67,Main!$B$47,FALSE)","v":0.5},{"$f":"VLOOKUP(C423,Main!$A$49:$I$67,Main!$C$47,FALSE)","v":0.25},{"$f":"VLOOKUP(C423,Main!$A$49:$I$67,Main!$E$47,FALSE)&\":\"&\" \"&VLOOKUP(C423,Main!$A$49:$I$67,Main!$F$47,FALSE)","v":"Minimum HSPF:: 9.6"},{"$f":"VLOOKUP(C423,Main!$A$49:$I$67,Main!$G$47,FALSE)","v":18},{"$f":"VLOOKUP(C423,Main!$A$49:$I$67,Main!$H$47,FALSE)","v":3.1},{"$f":"VLOOKUP(C423,Main!$A$49:$I$67,Main!$I$47,FALSE)","v":16.100000000000001},4139]
["KS","RUSSELL MUNICIPAL AP","4A",5177,1573,18.05,87.8,0.1145,"38.876N",7.1,30.2,34,43.8,53.4,64,74.7,79.900000000000006,77.8,68.900000000000006,56.2,42.5,31.7,615,455,256,72,5,0,0,0,2,49,264,569,1,8,65,173,438,741,928,861,568,241,39,3,17.100000000000001,17.96,27,41.36,57,56.66,60.8,61.16,54.1,32.200000000000003,32.200000000000003,27.9,0.78835978835978848,0.1615408511960236,67,35,18,23,{"$f":"IF(OR(C424=\"OA\",C424=\"OB\",C424=\"1B\",C424=\"1A\",C424=\"2A\",C424=\"2B\",C424=\"3A\",C424=\"3B\",C424=\"3C\"),TAN((LEFT(I424, 5)+VLOOKUP(C424,Main!$K$3:$L$21,2,FALSE))*PI()/180),IF(Checklist!$I$385=\"No\",TAN((LEFT(I424, 5)+VLOOKUP(C424,Main!$K$3:$L$21,2,FALSE))*PI()/180),\"NR\"))","v":"NR"},{"$f":"VLOOKUP(C424,Main!$A$49:$I$67,Main!$B$47,FALSE)","v":0.5},{"$f":"VLOOKUP(C424,Main!$A$49:$I$67,Main!$C$47,FALSE)","v":0.25},{"$f":"VLOOKUP(C424,Main!$A$49:$I$67,Main!$E$47,FALSE)&\":\"&\" \"&VLOOKUP(C424,Main!$A$49:$I$67,Main!$F$47,FALSE)","v":"Minimum HSPF:: 9.6"},{"$f":"VLOOKUP(C424,Main!$A$49:$I$67,Main!$G$47,FALSE)","v":18},{"$f":"VLOOKUP(C424,Main!$A$49:$I$67,Main!$H$47,FALSE)","v":3.1},{"$f":"VLOOKUP(C424,Main!$A$49:$I$67,Main!$I$47,FALSE)","v":16.100000000000001},4066]
["KS","SALINA MUNICIPAL AP","4A",4799,1595,17,86.4,0.1145,"38.800N",9.1999999999999993,31.5,35.700000000000003,45.5,55.2,65.900000000000006,76.5,81.5,79.7,70.400000000000006,57.9,44.2,33.1,576,413,218,51,2,0,0,0,1,34,226,527,2,12,79,206,494,794,975,920,611,280,52,5,18.100000000000001,21.92,34.200000000000003,38.840000000000003,52.2,63.14,64.58,66.38,55.2,34.200000000000003,34.200000000000003,29.5,0.78082191780821919,0.16731016731016729,65,34,17,22,{"$f":"IF(OR(C425=\"OA\",C425=\"OB\",C425=\"1B\",C425=\"1A\",C425=\"2A\",C425=\"2B\",C425=\"3A\",C425=\"3B\",C425=\"3C\"),TAN((LEFT(I425, 5)+VLOOKUP(C425,Main!$K$3:$L$21,2,FALSE))*PI()/180),IF(Checklist!$I$385=\"No\",TAN((LEFT(I425, 5)+VLOOKUP(C425,Main!$K$3:$L$21,2,FALSE))*PI()/180),\"NR\"))","v":"NR"},{"$f":"VLOOKUP(C425,Main!$A$49:$I$67,Main!$B$47,FALSE)","v":0.5},{"$f":"VLOOKUP(C425,Main!$A$49:$I$67,Main!$C$47,FALSE)","v":0.25},{"$f":"VLOOKUP(C425,Main!$A$49:$I$67,Main!$E$47,FALSE)&\":\"&\" \"&VLOOKUP(C425,Main!$A$49:$I$67,Main!$F$47,FALSE)","v":"Minimum HSPF:: 9.6"},{"$f":"VLOOKUP(C425,Main!$A$49:$I$67,Main!$G$47,FALSE)","v":18},{"$f":"VLOOKUP(C425,Main!$A$49:$I$67,Main!$H$47,FALSE)","v":3.1},{"$f":"VLOOKUP(C425,Main!$A$49:$I$67,Main!$I$47,FALSE)","v":16.100000000000001},4430]
["KS","TOPEKA FORBES FIELD","4A",4977,1573,9.9499999999999993,82.4,0.1145,"38.950N",8.9,30.1,34.200000000000003,45.2,55.1,64.900000000000006,74,79,77.5,68.5,56.4,44,32.9,620,452,227,52,3,0,0,0,0,45,233,538,2,9,77,204,466,720,899,854,555,242,54,7,23.9,19.399999999999999,38.700000000000003,45.14,53.2,66.38,70.34,64.58,62.4,35.799999999999997,35.799999999999997,21.4,0.78891820580474936,0.16646087712077556,66,35,17,22,{"$f":"IF(OR(C426=\"OA\",C426=\"OB\",C426=\"1B\",C426=\"1A\",C426=\"2A\",C426=\"2B\",C426=\"3A\",C426=\"3B\",C426=\"3C\"),TAN((LEFT(I426, 5)+VLOOKUP(C426,Main!$K$3:$L$21,2,FALSE))*PI()/180),IF(Checklist!$I$385=\"No\",TAN((LEFT(I426, 5)+VLOOKUP(C426,Main!$K$3:$L$21,2,FALSE))*PI()/180),\"NR\"))","v":"NR"},{"$f":"VLOOKUP(C426,Main!$A$49:$I$67,Main!$B$47,FALSE)","v":0.5},{"$f":"VLOOKUP(C426,Main!$A$49:$I$67,Main!$C$47,FALSE)","v":0.25},{"$f":"VLOOKUP(C426,Main!$A$49:$I$67,Main!$E$47,FALSE)&\":\"&\" \"&VLOOKUP(C426,Main!$A$49:$I$67,Main!$F$47,FALSE)","v":"Minimum HSPF:: 9.6"},{"$f":"VLOOKUP(C426,Main!$A$49:$I$67,Main!$G$47,FALSE)","v":18},{"$f":"VLOOKUP(C426,Main!$A$49:$I$67,Main!$H$47,FALSE)","v":3.1},{"$f":"VLOOKUP(C426,Main!$A$49:$I$67,Main!$I$47,FALSE)","v":16.100000000000001},4089]
["KS","TOPEKA MUNICIPAL AP","4A",4885,1568,14.5,85.5,0.1145,"39.073N",8.9,30.3,35.1,45.2,55.3,65.5,75,79.599999999999994,78.099999999999994,68.7,57.2,44.2,33.4,613,427,229,51,3,0,0,0,1,37,226,522,3,10,80,211,482,749,917,872,561,260,52,7,18.100000000000001,24.26,32,44.96,55.9,61.7,65.84,64.94,59.2,32.5,32.5,19.399999999999999,0.7877984084880636,0.16646087712077556,66,34,17,22,{"$f":"IF(OR(C427=\"OA\",C427=\"OB\",C427=\"1B\",C427=\"1A\",C427=\"2A\",C427=\"2B\",C427=\"3A\",C427=\"3B\",C427=\"3C\"),TAN((LEFT(I427, 5)+VLOOKUP(C427,Main!$K$3:$L$21,2,FALSE))*PI()/180),IF(Checklist!$I$385=\"No\",TAN((LEFT(I427, 5)+VLOOKUP(C427,Main!$K$3:$L$21,2,FALSE))*PI()/180),\"NR\"))","v":"NR"},{"$f":"VLOOKUP(C427,Main!$A$49:$I$67,Main!$B$47,FALSE)","v":0.5},{"$f":"VLOOKUP(C427,Main!$A$49:$I$67,Main!$C$47,FALSE)","v":0.25},{"$f":"VLOOKUP(C427,Main!$A$49:$I$67,Main!$E$47,FALSE)&\":\"&\" \"&VLOOKUP(C427,Main!$A$49:$I$67,Main!$F$47,FALSE)","v":"Minimum HSPF:: 9.6"},{"$f":"VLOOKUP(C427,Main!$A$49:$I$67,Main!$G$47,FALSE)","v":18},{"$f":"VLOOKUP(C427,Main!$A$49:$I$67,Main!$H$47,FALSE)","v":3.1},{"$f":"VLOOKUP(C427,Main!$A$49:$I$67,Main!$I$47,FALSE)","v":16.100000000000001},4204]
["KS","WICHITA MID-CONTINENT AP","4A",4444,1686,22.45,86.2,0.1145,"37.648N",12.3,33.200000000000003,37.700000000000003,46.9,56.4,66.599999999999994,76.400000000000006,81.3,80.099999999999994,71.3,59,45.8,35,523,360,186,39,1,0,0,0,1,25,189,472,4,16,91,231,516,793,970,934,640,304,63,7,23,26.78,32,41.72,51.8,61.88,63.68,65.12,55.6,36,36,22.3,0.77011494252873558,0.17662186423407247,64,33,17,22,{"$f":"IF(OR(C428=\"OA\",C428=\"OB\",C428=\"1B\",C428=\"1A\",C428=\"2A\",C428=\"2B\",C428=\"3A\",C428=\"3B\",C428=\"3C\"),TAN((LEFT(I428, 5)+VLOOKUP(C428,Main!$K$3:$L$21,2,FALSE))*PI()/180),IF(Checklist!$I$385=\"No\",TAN((LEFT(I428, 5)+VLOOKUP(C428,Main!$K$3:$L$21,2,FALSE))*PI()/180),\"NR\"))","v":"NR"},{"$f":"VLOOKUP(C428,Main!$A$49:$I$67,Main!$B$47,FALSE)","v":0.5},{"$f":"VLOOKUP(C428,Main!$A$49:$I$67,Main!$C$47,FALSE)","v":0.25},{"$f":"VLOOKUP(C428,Main!$A$49:$I$67,Main!$E$47,FALSE)&\":\"&\" \"&VLOOKUP(C428,Main!$A$49:$I$67,Main!$F$47,FALSE)","v":"Minimum HSPF:: 9.6"},{"$f":"VLOOKUP(C428,Main!$A$49:$I$67,Main!$G$47,FALSE)","v":18},{"$f":"VLOOKUP(C428,Main!$A$49:$I$67,Main!$H$47,FALSE)","v":3.1},{"$f":"VLOOKUP(C428,Main!$A$49:$I$67,Main!$I$47,FALSE)","v":16.100000000000001},4569]
["KS","WICHITA/COL. JABARA","4A",4504,1675,23.2,84.9,0.1145,"37.746N",11,33,37.1,46.3,56.6,66.400000000000006,75.099999999999994,80.599999999999994,79.5,70.3,58.7,46.1,34.6,533,379,202,43,2,0,0,0,0,27,189,484,7,17,86,241,509,754,948,915,609,297,71,7,28.6,28.76,39.200000000000003,45.68,48.2,63.5,65.3,66.92,59.4,32,32,16.5,0.77142857142857146,0.17259364627785678,64,33,17,22,{"$f":"IF(OR(C429=\"OA\",C429=\"OB\",C429=\"1B\",C429=\"1A\",C429=\"2A\",C429=\"2B\",C429=\"3A\",C429=\"3B\",C429=\"3C\"),TAN((LEFT(I429, 5)+VLOOKUP(C429,Main!$K$3:$L$21,2,FALSE))*PI()/180),IF(Checklist!$I$385=\"No\",TAN((LEFT(I429, 5)+VLOOKUP(C429,Main!$K$3:$L$21,2,FALSE))*PI()/180),\"NR\"))","v":"NR"},{"$f":"VLOOKUP(C429,Main!$A$49:$I$67,Main!$B$47,FALSE)","v":0.5},{"$f":"VLOOKUP(C429,Main!$A$49:$I$67,Main!$C$47,FALSE)","v":0.25},{"$f":"VLOOKUP(C429,Main!$A$49:$I$67,Main!$E$47,FALSE)&\":\"&\" \"&VLOOKUP(C429,Main!$A$49:$I$67,Main!$F$47,FALSE)","v":"Minimum HSPF:: 9.6"},{"$f":"VLOOKUP(C429,Main!$A$49:$I$67,Main!$G$47,FALSE)","v":18},{"$f":"VLOOKUP(C429,Main!$A$49:$I$67,Main!$H$47,FALSE)","v":3.1},{"$f":"VLOOKUP(C429,Main!$A$49:$I$67,Main!$I$47,FALSE)","v":16.100000000000001},4461]
["KY","BOWLING GREEN WARREN CO AP","4A",3979,1357,9.5,80.400000000000006,9.4100000000000003E-2,"36.965N",17.600000000000001,36.6,40.4,48.4,58,66.599999999999994,74.8,78.3,77.3,70.3,58.7,47.8,39.299999999999997,438,296,157,30,1,0,0,0,0,20,149,355,22,28,106,271,517,743,878,845,609,291,84,24,23.5,32.4,30.4,46.6,58.1,66.400000000000006,66.599999999999994,67.099999999999994,64,35.200000000000003,35.200000000000003,32.200000000000003,0.74522292993630568,0.19519519519519518,61,31,15,20,{"$f":"IF(OR(C430=\"OA\",C430=\"OB\",C430=\"1B\",C430=\"1A\",C430=\"2A\",C430=\"2B\",C430=\"3A\",C430=\"3B\",C430=\"3C\"),TAN((LEFT(I430, 5)+VLOOKUP(C430,Main!$K$3:$L$21,2,FALSE))*PI()/180),IF(Checklist!$I$385=\"No\",TAN((LEFT(I430, 5)+VLOOKUP(C430,Main!$K$3:$L$21,2,FALSE))*PI()/180),\"NR\"))","v":"NR"},{"$f":"VLOOKUP(C430,Main!$A$49:$I$67,Main!$B$47,FALSE)","v":0.5},{"$f":"VLOOKUP(C430,Main!$A$49:$I$67,Main!$C$47,FALSE)","v":0.25},{"$f":"VLOOKUP(C430,Main!$A$49:$I$67,Main!$E$47,FALSE)&\":\"&\" \"&VLOOKUP(C430,Main!$A$49:$I$67,Main!$F$47,FALSE)","v":"Minimum HSPF:: 9.6"},{"$f":"VLOOKUP(C430,Main!$A$49:$I$67,Main!$G$47,FALSE)","v":18},{"$f":"VLOOKUP(C430,Main!$A$49:$I$67,Main!$H$47,FALSE)","v":3.1},{"$f":"VLOOKUP(C430,Main!$A$49:$I$67,Main!$I$47,FALSE)","v":16.100000000000001},4418]
["KY","CINCINNATI NORTHERN KY AP","4A",4918,1455,17.05,78.400000000000006,9.4100000000000003E-2,"39.043N",11.9,31.4,34.700000000000003,43.7,54.6,63.8,72.099999999999994,75.5,74.900000000000006,67.400000000000006,55.8,44.6,35.299999999999997,589,438,261,58,4,0,0,0,1,40,220,467,11,9,66,196,431,664,792,771,524,219,57,12,19.8,20.5,33.6,38.299999999999997,53.2,61.7,63.7,62.8,56.5,36.1,36.1,25.3,0.78142076502732238,0.17536252830370475,64,33,17,22,{"$f":"IF(OR(C431=\"OA\",C431=\"OB\",C431=\"1B\",C431=\"1A\",C431=\"2A\",C431=\"2B\",C431=\"3A\",C431=\"3B\",C431=\"3C\"),TAN((LEFT(I431, 5)+VLOOKUP(C431,Main!$K$3:$L$21,2,FALSE))*PI()/180),IF(Checklist!$I$385=\"No\",TAN((LEFT(I431, 5)+VLOOKUP(C431,Main!$K$3:$L$21,2,FALSE))*PI()/180),\"NR\"))","v":"NR"},{"$f":"VLOOKUP(C431,Main!$A$49:$I$67,Main!$B$47,FALSE)","v":0.5},{"$f":"VLOOKUP(C431,Main!$A$49:$I$67,Main!$C$47,FALSE)","v":0.25},{"$f":"VLOOKUP(C431,Main!$A$49:$I$67,Main!$E$47,FALSE)&\":\"&\" \"&VLOOKUP(C431,Main!$A$49:$I$67,Main!$F$47,FALSE)","v":"Minimum HSPF:: 9.6"},{"$f":"VLOOKUP(C431,Main!$A$49:$I$67,Main!$G$47,FALSE)","v":18},{"$f":"VLOOKUP(C431,Main!$A$49:$I$67,Main!$H$47,FALSE)","v":3.1},{"$f":"VLOOKUP(C431,Main!$A$49:$I$67,Main!$I$47,FALSE)","v":16.100000000000001},3752]
["KY","FORT CAMPBELL AAF","4A",3773,1341,23.7,81.900000000000006,9.4100000000000003E-2,"36.667N",17.7,37.1,41.6,49.7,59.3,68,75.7,78.8,78,71,59.9,48.7,40.200000000000003,426,274,142,26,0,0,0,0,0,14,140,335,26,40,131,304,559,772,893,868,629,321,100,31,24.6,28.8,30.7,40.1,50.4,68.2,68.900000000000006,70.900000000000006,57.2,38.700000000000003,38.700000000000003,32.5,0.74110032362459544,0.19558325721347591,61,30,14,19,{"$f":"IF(OR(C432=\"OA\",C432=\"OB\",C432=\"1B\",C432=\"1A\",C432=\"2A\",C432=\"2B\",C432=\"3A\",C432=\"3B\",C432=\"3C\"),TAN((LEFT(I432, 5)+VLOOKUP(C432,Main!$K$3:$L$21,2,FALSE))*PI()/180),IF(Checklist!$I$385=\"No\",TAN((LEFT(I432, 5)+VLOOKUP(C432,Main!$K$3:$L$21,2,FALSE))*PI()/180),\"NR\"))","v":"NR"},{"$f":"VLOOKUP(C432,Main!$A$49:$I$67,Main!$B$47,FALSE)","v":0.5},{"$f":"VLOOKUP(C432,Main!$A$49:$I$67,Main!$C$47,FALSE)","v":0.25},{"$f":"VLOOKUP(C432,Main!$A$49:$I$67,Main!$E$47,FALSE)&\":\"&\" \"&VLOOKUP(C432,Main!$A$49:$I$67,Main!$F$47,FALSE)","v":"Minimum HSPF:: 9.6"},{"$f":"VLOOKUP(C432,Main!$A$49:$I$67,Main!$G$47,FALSE)","v":18},{"$f":"VLOOKUP(C432,Main!$A$49:$I$67,Main!$H$47,FALSE)","v":3.1},{"$f":"VLOOKUP(C432,Main!$A$49:$I$67,Main!$I$47,FALSE)","v":16.100000000000001},4674]
["KY","FORT KNOX GODMAN AAF","4A",4386,1407,15,81.3,9.4100000000000003E-2,"37.900N",14.2,33.700000000000003,38.4,46.3,56.9,65.7,73.599999999999994,76.5,75.900000000000006,68.8,57.8,46.6,37.200000000000003,522,346,204,38,1,0,0,0,0,26,180,416,17,23,89,245,489,708,823,802,563,268,78,18,29.5,27.1,27.9,37.799999999999997,56.1,63.7,66.900000000000006,63,47.5,33.6,33.6,28.8,0.76676384839650147,0.18285943936501556,62,32,16,21,{"$f":"IF(OR(C433=\"OA\",C433=\"OB\",C433=\"1B\",C433=\"1A\",C433=\"2A\",C433=\"2B\",C433=\"3A\",C433=\"3B\",C433=\"3C\"),TAN((LEFT(I433, 5)+VLOOKUP(C433,Main!$K$3:$L$21,2,FALSE))*PI()/180),IF(Checklist!$I$385=\"No\",TAN((LEFT(I433, 5)+VLOOKUP(C433,Main!$K$3:$L$21,2,FALSE))*PI()/180),\"NR\"))","v":"NR"},{"$f":"VLOOKUP(C433,Main!$A$49:$I$67,Main!$B$47,FALSE)","v":0.5},{"$f":"VLOOKUP(C433,Main!$A$49:$I$67,Main!$C$47,FALSE)","v":0.25},{"$f":"VLOOKUP(C433,Main!$A$49:$I$67,Main!$E$47,FALSE)&\":\"&\" \"&VLOOKUP(C433,Main!$A$49:$I$67,Main!$F$47,FALSE)","v":"Minimum HSPF:: 9.6"},{"$f":"VLOOKUP(C433,Main!$A$49:$I$67,Main!$G$47,FALSE)","v":18},{"$f":"VLOOKUP(C433,Main!$A$49:$I$67,Main!$H$47,FALSE)","v":3.1},{"$f":"VLOOKUP(C433,Main!$A$49:$I$67,Main!$I$47,FALSE)","v":16.100000000000001},4123]
["KY","HENDERSON CITY","4A",4473,1531,22.05,77.900000000000006,9.4100000000000003E-2,"37.800N",14.3,33.200000000000003,36.299999999999997,46.2,57.5,67,74.900000000000006,77.5,76.3,68.7,57.5,46,36.5,535,398,207,34,1,0,0,0,0,25,183,428,15,14,88,259,527,747,852,815,561,259,63,10,27.1,26.6,28.2,39,48,58.3,62.4,56.7,54.3,29.7,29.7,28.9,0.77011494252873558,0.18319995973627257,63,32,16,21,{"$f":"IF(OR(C434=\"OA\",C434=\"OB\",C434=\"1B\",C434=\"1A\",C434=\"2A\",C434=\"2B\",C434=\"3A\",C434=\"3B\",C434=\"3C\"),TAN((LEFT(I434, 5)+VLOOKUP(C434,Main!$K$3:$L$21,2,FALSE))*PI()/180),IF(Checklist!$I$385=\"No\",TAN((LEFT(I434, 5)+VLOOKUP(C434,Main!$K$3:$L$21,2,FALSE))*PI()/180),\"NR\"))","v":"NR"},{"$f":"VLOOKUP(C434,Main!$A$49:$I$67,Main!$B$47,FALSE)","v":0.5},{"$f":"VLOOKUP(C434,Main!$A$49:$I$67,Main!$C$47,FALSE)","v":0.25},{"$f":"VLOOKUP(C434,Main!$A$49:$I$67,Main!$E$47,FALSE)&\":\"&\" \"&VLOOKUP(C434,Main!$A$49:$I$67,Main!$F$47,FALSE)","v":"Minimum HSPF:: 9.6"},{"$f":"VLOOKUP(C434,Main!$A$49:$I$67,Main!$G$47,FALSE)","v":18},{"$f":"VLOOKUP(C434,Main!$A$49:$I$67,Main!$H$47,FALSE)","v":3.1},{"$f":"VLOOKUP(C434,Main!$A$49:$I$67,Main!$I$47,FALSE)","v":16.100000000000001},4210]
["KY","JACKSON JULIAN CARROLL AP","4A",4170,1465,27.3,76.599999999999994,9.4100000000000003E-2,"37.591N",15.9,35.700000000000003,39.200000000000003,47.4,57.8,64.8,72,75,74.3,68.099999999999994,57.9,47.9,39,466,330,193,40,3,0,0,0,0,29,162,366,23,28,111,276,461,660,776,754,543,272,98,27,27.5,28.4,31.1,43.9,54.9,63.1,68.2,64.2,55.8,32.4,32.4,32.700000000000003,0.75232198142414863,0.18882606214659955,62,31,15,20,{"$f":"IF(OR(C435=\"OA\",C435=\"OB\",C435=\"1B\",C435=\"1A\",C435=\"2A\",C435=\"2B\",C435=\"3A\",C435=\"3B\",C435=\"3C\"),TAN((LEFT(I435, 5)+VLOOKUP(C435,Main!$K$3:$L$21,2,FALSE))*PI()/180),IF(Checklist!$I$385=\"No\",TAN((LEFT(I435, 5)+VLOOKUP(C435,Main!$K$3:$L$21,2,FALSE))*PI()/180),\"NR\"))","v":"NR"},{"$f":"VLOOKUP(C435,Main!$A$49:$I$67,Main!$B$47,FALSE)","v":0.5},{"$f":"VLOOKUP(C435,Main!$A$49:$I$67,Main!$C$47,FALSE)","v":0.25},{"$f":"VLOOKUP(C435,Main!$A$49:$I$67,Main!$E$47,FALSE)&\":\"&\" \"&VLOOKUP(C435,Main!$A$49:$I$67,Main!$F$47,FALSE)","v":"Minimum HSPF:: 9.6"},{"$f":"VLOOKUP(C435,Main!$A$49:$I$67,Main!$G$47,FALSE)","v":18},{"$f":"VLOOKUP(C435,Main!$A$49:$I$67,Main!$H$47,FALSE)","v":3.1},{"$f":"VLOOKUP(C435,Main!$A$49:$I$67,Main!$I$47,FALSE)","v":16.100000000000001},4029]
["KY","LEXINGTON BLUEGRASS AP","4A",4535,1475,23.7,78.400000000000006,9.4100000000000003E-2,"38.041N",14.1,33.6,37.1,45.5,55.8,64.599999999999994,72.8,76.099999999999994,75.3,68.3,57.1,45.9,37.1,524,379,220,49,3,0,0,0,0,32,193,417,16,17,80,223,455,683,808,785,550,251,70,16,21.6,23.7,35.4,43.3,55,63.7,67.099999999999994,66.900000000000006,58.6,33.299999999999997,33.299999999999997,25.9,0.76744186046511631,0.18252018252018251,63,32,16,21,{"$f":"IF(OR(C436=\"OA\",C436=\"OB\",C436=\"1B\",C436=\"1A\",C436=\"2A\",C436=\"2B\",C436=\"3A\",C436=\"3B\",C436=\"3C\"),TAN((LEFT(I436, 5)+VLOOKUP(C436,Main!$K$3:$L$21,2,FALSE))*PI()/180),IF(Checklist!$I$385=\"No\",TAN((LEFT(I436, 5)+VLOOKUP(C436,Main!$K$3:$L$21,2,FALSE))*PI()/180),\"NR\"))","v":"NR"},{"$f":"VLOOKUP(C436,Main!$A$49:$I$67,Main!$B$47,FALSE)","v":0.5},{"$f":"VLOOKUP(C436,Main!$A$49:$I$67,Main!$C$47,FALSE)","v":0.25},{"$f":"VLOOKUP(C436,Main!$A$49:$I$67,Main!$E$47,FALSE)&\":\"&\" \"&VLOOKUP(C436,Main!$A$49:$I$67,Main!$F$47,FALSE)","v":"Minimum HSPF:: 9.6"},{"$f":"VLOOKUP(C436,Main!$A$49:$I$67,Main!$G$47,FALSE)","v":18},{"$f":"VLOOKUP(C436,Main!$A$49:$I$67,Main!$H$47,FALSE)","v":3.1},{"$f":"VLOOKUP(C436,Main!$A$49:$I$67,Main!$I$47,FALSE)","v":16.100000000000001},3954]
["KY","LONDON-CORBIN AP","4A",4226,1442,23.2,77.5,9.4100000000000003E-2,"37.087N",16.7,36.1,39.1,47.3,57,64.7,72.400000000000006,75.400000000000006,74.900000000000006,68.3,56.9,46.5,38.700000000000003,453,324,178,34,3,0,0,0,0,30,170,373,21,18,93,243,460,673,788,772,549,244,64,23,20.100000000000001,29.8,39,48.2,52.7,60.1,68,66.599999999999994,52,37.4,37.4,25.5,0.7492163009404389,0.19177071808650756,62,32,15,20,{"$f":"IF(OR(C437=\"OA\",C437=\"OB\",C437=\"1B\",C437=\"1A\",C437=\"2A\",C437=\"2B\",C437=\"3A\",C437=\"3B\",C437=\"3C\"),TAN((LEFT(I437, 5)+VLOOKUP(C437,Main!$K$3:$L$21,2,FALSE))*PI()/180),IF(Checklist!$I$385=\"No\",TAN((LEFT(I437, 5)+VLOOKUP(C437,Main!$K$3:$L$21,2,FALSE))*PI()/180),\"NR\"))","v":"NR"},{"$f":"VLOOKUP(C437,Main!$A$49:$I$67,Main!$B$47,FALSE)","v":0.5},{"$f":"VLOOKUP(C437,Main!$A$49:$I$67,Main!$C$47,FALSE)","v":0.25},{"$f":"VLOOKUP(C437,Main!$A$49:$I$67,Main!$E$47,FALSE)&\":\"&\" \"&VLOOKUP(C437,Main!$A$49:$I$67,Main!$F$47,FALSE)","v":"Minimum HSPF:: 9.6"},{"$f":"VLOOKUP(C437,Main!$A$49:$I$67,Main!$G$47,FALSE)","v":18},{"$f":"VLOOKUP(C437,Main!$A$49:$I$67,Main!$H$47,FALSE)","v":3.1},{"$f":"VLOOKUP(C437,Main!$A$49:$I$67,Main!$I$47,FALSE)","v":16.100000000000001},3948]
["KY","LOUISVILLE BOWMAN FIELD","4A",4156,1347,25.6,80.8,9.4100000000000003E-2,"38.228N",16.3,35.200000000000003,38.700000000000003,47.3,57.9,66.7,75,78.2,77.400000000000006,70,58.5,47.6,38.5,480,338,182,30,1,0,0,0,0,20,155,378,20,23,97,267,518,749,874,851,601,284,85,22,21.7,29.3,37.9,46.9,61.2,65.8,68,66,59.9,43.2,43.2,30.7,0.75609756097560976,0.19028699879763705,62,31,15,20,{"$f":"IF(OR(C438=\"OA\",C438=\"OB\",C438=\"1B\",C438=\"1A\",C438=\"2A\",C438=\"2B\",C438=\"3A\",C438=\"3B\",C438=\"3C\"),TAN((LEFT(I438, 5)+VLOOKUP(C438,Main!$K$3:$L$21,2,FALSE))*PI()/180),IF(Checklist!$I$385=\"No\",TAN((LEFT(I438, 5)+VLOOKUP(C438,Main!$K$3:$L$21,2,FALSE))*PI()/180),\"NR\"))","v":"NR"},{"$f":"VLOOKUP(C438,Main!$A$49:$I$67,Main!$B$47,FALSE)","v":0.5},{"$f":"VLOOKUP(C438,Main!$A$49:$I$67,Main!$C$47,FALSE)","v":0.25},{"$f":"VLOOKUP(C438,Main!$A$49:$I$67,Main!$E$47,FALSE)&\":\"&\" \"&VLOOKUP(C438,Main!$A$49:$I$67,Main!$F$47,FALSE)","v":"Minimum HSPF:: 9.6"},{"$f":"VLOOKUP(C438,Main!$A$49:$I$67,Main!$G$47,FALSE)","v":18},{"$f":"VLOOKUP(C438,Main!$A$49:$I$67,Main!$H$47,FALSE)","v":3.1},{"$f":"VLOOKUP(C438,Main!$A$49:$I$67,Main!$I$47,FALSE)","v":16.100000000000001},4391]
["KY","LOUISVILLE STANDIFORD FIELD","4A",4057,1524,25.35,83.3,9.4100000000000003E-2,"38.181N",16.600000000000001,35.4,39,47.9,58.4,67.3,75.7,79,78.400000000000006,70.900000000000006,59.4,48.1,38.799999999999997,474,331,171,28,1,0,0,0,0,17,149,371,20,23,105,280,536,770,900,879,628,307,93,23,22.3,23.36,35.200000000000003,40.64,52.9,62.96,68.540000000000006,65.66,60.3,36.700000000000003,36.700000000000003,25.9,0.754601226993865,0.19139762330423807,61,31,15,20,{"$f":"IF(OR(C439=\"OA\",C439=\"OB\",C439=\"1B\",C439=\"1A\",C439=\"2A\",C439=\"2B\",C439=\"3A\",C439=\"3B\",C439=\"3C\"),TAN((LEFT(I439, 5)+VLOOKUP(C439,Main!$K$3:$L$21,2,FALSE))*PI()/180),IF(Checklist!$I$385=\"No\",TAN((LEFT(I439, 5)+VLOOKUP(C439,Main!$K$3:$L$21,2,FALSE))*PI()/180),\"NR\"))","v":"NR"},{"$f":"VLOOKUP(C439,Main!$A$49:$I$67,Main!$B$47,FALSE)","v":0.5},{"$f":"VLOOKUP(C439,Main!$A$49:$I$67,Main!$C$47,FALSE)","v":0.25},{"$f":"VLOOKUP(C439,Main!$A$49:$I$67,Main!$E$47,FALSE)&\":\"&\" \"&VLOOKUP(C439,Main!$A$49:$I$67,Main!$F$47,FALSE)","v":"Minimum HSPF:: 9.6"},{"$f":"VLOOKUP(C439,Main!$A$49:$I$67,Main!$G$47,FALSE)","v":18},{"$f":"VLOOKUP(C439,Main!$A$49:$I$67,Main!$H$47,FALSE)","v":3.1},{"$f":"VLOOKUP(C439,Main!$A$49:$I$67,Main!$I$47,FALSE)","v":16.100000000000001},4564]
["KY","PADUCAH BARKLEY REGIONAL AP","4A",4013,1522,31.15,82.6,9.4100000000000003E-2,"37.056N",16.600000000000001,35.9,39.9,48.7,58.6,67.599999999999994,75.900000000000006,78.8,77.599999999999994,70,59,47.8,38.700000000000003,459,310,157,27,0,0,0,0,0,18,158,374,21,26,115,286,545,776,893,857,600,298,92,24,30.4,26.1,38.1,47.3,56.3,66.599999999999994,69.8,67.099999999999994,56.3,41,41,36.1,0.75077881619937692,0.19139762330423807,61,31,15,20,{"$f":"IF(OR(C440=\"OA\",C440=\"OB\",C440=\"1B\",C440=\"1A\",C440=\"2A\",C440=\"2B\",C440=\"3A\",C440=\"3B\",C440=\"3C\"),TAN((LEFT(I440, 5)+VLOOKUP(C440,Main!$K$3:$L$21,2,FALSE))*PI()/180),IF(Checklist!$I$385=\"No\",TAN((LEFT(I440, 5)+VLOOKUP(C440,Main!$K$3:$L$21,2,FALSE))*PI()/180),\"NR\"))","v":"NR"},{"$f":"VLOOKUP(C440,Main!$A$49:$I$67,Main!$B$47,FALSE)","v":0.5},{"$f":"VLOOKUP(C440,Main!$A$49:$I$67,Main!$C$47,FALSE)","v":0.25},{"$f":"VLOOKUP(C440,Main!$A$49:$I$67,Main!$E$47,FALSE)&\":\"&\" \"&VLOOKUP(C440,Main!$A$49:$I$67,Main!$F$47,FALSE)","v":"Minimum HSPF:: 9.6"},{"$f":"VLOOKUP(C440,Main!$A$49:$I$67,Main!$G$47,FALSE)","v":18},{"$f":"VLOOKUP(C440,Main!$A$49:$I$67,Main!$H$47,FALSE)","v":3.1},{"$f":"VLOOKUP(C440,Main!$A$49:$I$67,Main!$I$47,FALSE)","v":16.100000000000001},4533]
["KY","SOMERSET(AWOS)","4A",3945,1464,29.65,78.400000000000006,9.4100000000000003E-2,"37.054N",18,37.9,40.6,48.1,58,66.3,74.2,77.400000000000006,76.7,69.900000000000006,58.4,47.5,39.799999999999997,405,293,158,29,1,0,0,0,0,23,155,344,30,30,98,268,506,727,849,827,596,284,81,28,25.7,30.4,39.700000000000003,47.5,58.5,63.9,65.099999999999994,65.3,57.4,37.200000000000003,37.200000000000003,29.5,0.73421926910299007,0.19675675675675675,61,31,15,20,{"$f":"IF(OR(C441=\"OA\",C441=\"OB\",C441=\"1B\",C441=\"1A\",C441=\"2A\",C441=\"2B\",C441=\"3A\",C441=\"3B\",C441=\"3C\"),TAN((LEFT(I441, 5)+VLOOKUP(C441,Main!$K$3:$L$21,2,FALSE))*PI()/180),IF(Checklist!$I$385=\"No\",TAN((LEFT(I441, 5)+VLOOKUP(C441,Main!$K$3:$L$21,2,FALSE))*PI()/180),\"NR\"))","v":"NR"},{"$f":"VLOOKUP(C441,Main!$A$49:$I$67,Main!$B$47,FALSE)","v":0.5},{"$f":"VLOOKUP(C441,Main!$A$49:$I$67,Main!$C$47,FALSE)","v":0.25},{"$f":"VLOOKUP(C441,Main!$A$49:$I$67,Main!$E$47,FALSE)&\":\"&\" \"&VLOOKUP(C441,Main!$A$49:$I$67,Main!$F$47,FALSE)","v":"Minimum HSPF:: 9.6"},{"$f":"VLOOKUP(C441,Main!$A$49:$I$67,Main!$G$47,FALSE)","v":18},{"$f":"VLOOKUP(C441,Main!$A$49:$I$67,Main!$H$47,FALSE)","v":3.1},{"$f":"VLOOKUP(C441,Main!$A$49:$I$67,Main!$I$47,FALSE)","v":16.100000000000001},4324]
["LA","ALEXANDRIA ESLER REGIONAL AP","2A",1988,1557,44.2,82.8,8.5800000000000001E-2,"31.395N",28.4,49.6,52.3,59.4,66.5,74.2,80,82.5,82.4,77,66.5,56.7,50.1,143,76,20,1,0,0,0,0,0,1,34,122,130,140,312,496,749,899,1007,1004,810,513,234,125,41.5,48.56,50.5,52.7,64.400000000000006,71.239999999999995,71.959999999999994,74.48,65.3,47.7,47.7,40.6,0.6,0.24843024843024838,55,25,11,16,{"$f":"IF(OR(C442=\"OA\",C442=\"OB\",C442=\"1B\",C442=\"1A\",C442=\"2A\",C442=\"2B\",C442=\"3A\",C442=\"3B\",C442=\"3C\"),TAN((LEFT(I442, 5)+VLOOKUP(C442,Main!$K$3:$L$21,2,FALSE))*PI()/180),IF(Checklist!$I$385=\"No\",TAN((LEFT(I442, 5)+VLOOKUP(C442,Main!$K$3:$L$21,2,FALSE))*PI()/180),\"NR\"))","v":0.61016307010739024},{"$f":"VLOOKUP(C442,Main!$A$49:$I$67,Main!$B$47,FALSE)","v":0.6},{"$f":"VLOOKUP(C442,Main!$A$49:$I$67,Main!$C$47,FALSE)","v":0.25},{"$f":"VLOOKUP(C442,Main!$A$49:$I$67,Main!$E$47,FALSE)&\":\"&\" \"&VLOOKUP(C442,Main!$A$49:$I$67,Main!$F$47,FALSE)","v":"Minimum HSPF:: 9.6"},{"$f":"VLOOKUP(C442,Main!$A$49:$I$67,Main!$G$47,FALSE)","v":18},{"$f":"VLOOKUP(C442,Main!$A$49:$I$67,Main!$H$47,FALSE)","v":3.1},{"$f":"VLOOKUP(C442,Main!$A$49:$I$67,Main!$I$47,FALSE)","v":16.100000000000001},6419]
["LA","BARKSDALE AFB","3A",2238,1624,30.9,82.2,8.5800000000000001E-2,"32.500N",27.6,46.9,51.4,57.7,64.7,72.8,80.2,82.7,82.7,76.5,65.7,55,49,174,92,35,2,0,0,0,0,0,2,52,144,77,130,275,443,705,907,1012,1013,795,490,202,112,34.200000000000003,37.04,36.299999999999997,48.92,67.5,70.34,71.239999999999995,69.62,60.6,44.4,44.4,41.4,0.62085308056872035,0.2435108375702435,56,26,11,16,{"$f":"IF(OR(C443=\"OA\",C443=\"OB\",C443=\"1B\",C443=\"1A\",C443=\"2A\",C443=\"2B\",C443=\"3A\",C443=\"3B\",C443=\"3C\"),TAN((LEFT(I443, 5)+VLOOKUP(C443,Main!$K$3:$L$21,2,FALSE))*PI()/180),IF(Checklist!$I$385=\"No\",TAN((LEFT(I443, 5)+VLOOKUP(C443,Main!$K$3:$L$21,2,FALSE))*PI()/180),\"NR\"))","v":0.63707026080749318},{"$f":"VLOOKUP(C443,Main!$A$49:$I$67,Main!$B$47,FALSE)","v":0.6},{"$f":"VLOOKUP(C443,Main!$A$49:$I$67,Main!$C$47,FALSE)","v":0.25},{"$f":"VLOOKUP(C443,Main!$A$49:$I$67,Main!$E$47,FALSE)&\":\"&\" \"&VLOOKUP(C443,Main!$A$49:$I$67,Main!$F$47,FALSE)","v":"Minimum HSPF:: 9.6"},{"$f":"VLOOKUP(C443,Main!$A$49:$I$67,Main!$G$47,FALSE)","v":18},{"$f":"VLOOKUP(C443,Main!$A$49:$I$67,Main!$H$47,FALSE)","v":3.1},{"$f":"VLOOKUP(C443,Main!$A$49:$I$67,Main!$I$47,FALSE)","v":16.100000000000001},6161]
["LA","BATON ROUGE RYAN ARPT","2A",1576,1606,41.1,85.1,8.5800000000000001E-2,"30.537N",31.6,52.1,55.3,61.3,67.8,75.2,80.8,82.3,82.4,78.2,68.8,59.1,53.4,93,47,13,0,0,0,0,0,0,1,19,75,160,196,364,535,782,923,1002,1004,847,583,290,182,42.4,42.26,53.6,57.56,66,67.459999999999994,73.040000000000006,71.239999999999995,66.400000000000006,52.5,52.5,41.4,"NR",0.27027027027027023,54,24,11,16,{"$f":"IF(OR(C444=\"OA\",C444=\"OB\",C444=\"1B\",C444=\"1A\",C444=\"2A\",C444=\"2B\",C444=\"3A\",C444=\"3B\",C444=\"3C\"),TAN((LEFT(I444, 5)+VLOOKUP(C444,Main!$K$3:$L$21,2,FALSE))*PI()/180),IF(Checklist!$I$385=\"No\",TAN((LEFT(I444, 5)+VLOOKUP(C444,Main!$K$3:$L$21,2,FALSE))*PI()/180),\"NR\"))","v":0.58975050802862472},{"$f":"VLOOKUP(C444,Main!$A$49:$I$67,Main!$B$47,FALSE)","v":0.6},{"$f":"VLOOKUP(C444,Main!$A$49:$I$67,Main!$C$47,FALSE)","v":0.25},{"$f":"VLOOKUP(C444,Main!$A$49:$I$67,Main!$E$47,FALSE)&\":\"&\" \"&VLOOKUP(C444,Main!$A$49:$I$67,Main!$F$47,FALSE)","v":"Minimum HSPF:: 9.6"},{"$f":"VLOOKUP(C444,Main!$A$49:$I$67,Main!$G$47,FALSE)","v":18},{"$f":"VLOOKUP(C444,Main!$A$49:$I$67,Main!$H$47,FALSE)","v":3.1},{"$f":"VLOOKUP(C444,Main!$A$49:$I$67,Main!$I$47,FALSE)","v":16.100000000000001},6868]
["LA","ENGLAND AFB","2A",1850,1698,41,81.099999999999994,8.5800000000000001E-2,"31.335N",29.9,50.1,53.3,59.9,67.099999999999994,75.099999999999994,80.900000000000006,82.5,82.9,77.8,67.5,57.5,51,125,69,20,1,0,0,0,0,0,1,29,111,129,163,328,515,779,926,1008,1019,833,544,255,141,43.3,38.119999999999997,54,57.56,63.3,67.28,73.400000000000006,67.28,64.8,51.1,51.1,41.4,0.6,0.25821096687238421,54,25,11,16,{"$f":"IF(OR(C445=\"OA\",C445=\"OB\",C445=\"1B\",C445=\"1A\",C445=\"2A\",C445=\"2B\",C445=\"3A\",C445=\"3B\",C445=\"3C\"),TAN((LEFT(I445, 5)+VLOOKUP(C445,Main!$K$3:$L$21,2,FALSE))*PI()/180),IF(Checklist!$I$385=\"No\",TAN((LEFT(I445, 5)+VLOOKUP(C445,Main!$K$3:$L$21,2,FALSE))*PI()/180),\"NR\"))","v":0.60872691910417454},{"$f":"VLOOKUP(C445,Main!$A$49:$I$67,Main!$B$47,FALSE)","v":0.6},{"$f":"VLOOKUP(C445,Main!$A$49:$I$67,Main!$C$47,FALSE)","v":0.25},{"$f":"VLOOKUP(C445,Main!$A$49:$I$67,Main!$E$47,FALSE)&\":\"&\" \"&VLOOKUP(C445,Main!$A$49:$I$67,Main!$F$47,FALSE)","v":"Minimum HSPF:: 9.6"},{"$f":"VLOOKUP(C445,Main!$A$49:$I$67,Main!$G$47,FALSE)","v":18},{"$f":"VLOOKUP(C445,Main!$A$49:$I$67,Main!$H$47,FALSE)","v":3.1},{"$f":"VLOOKUP(C445,Main!$A$49:$I$67,Main!$I$47,FALSE)","v":16.100000000000001},6640]
["LA","FORT POLK AAF","2A",1790,1617,30.9,80.099999999999994,8.5800000000000001E-2,"31.050N",30.5,50.5,54,60,67,74.5,80.599999999999994,82.5,82.9,77.900000000000006,67.900000000000006,57.8,51.6,113,62,22,1,0,0,0,0,0,1,29,101,129,175,331,510,760,919,1007,1020,837,555,262,151,39.700000000000003,43.16,41.7,55.76,68.7,71.239999999999995,72.319999999999993,70.7,64.599999999999994,48.7,48.7,34.299999999999997,0.6,0.26234234234234233,54,25,10,15,{"$f":"IF(OR(C446=\"OA\",C446=\"OB\",C446=\"1B\",C446=\"1A\",C446=\"2A\",C446=\"2B\",C446=\"3A\",C446=\"3B\",C446=\"3C\"),TAN((LEFT(I446, 5)+VLOOKUP(C446,Main!$K$3:$L$21,2,FALSE))*PI()/180),IF(Checklist!$I$385=\"No\",TAN((LEFT(I446, 5)+VLOOKUP(C446,Main!$K$3:$L$21,2,FALSE))*PI()/180),\"NR\"))","v":0.60204896821573484},{"$f":"VLOOKUP(C446,Main!$A$49:$I$67,Main!$B$47,FALSE)","v":0.6},{"$f":"VLOOKUP(C446,Main!$A$49:$I$67,Main!$C$47,FALSE)","v":0.25},{"$f":"VLOOKUP(C446,Main!$A$49:$I$67,Main!$E$47,FALSE)&\":\"&\" \"&VLOOKUP(C446,Main!$A$49:$I$67,Main!$F$47,FALSE)","v":"Minimum HSPF:: 9.6"},{"$f":"VLOOKUP(C446,Main!$A$49:$I$67,Main!$G$47,FALSE)","v":18},{"$f":"VLOOKUP(C446,Main!$A$49:$I$67,Main!$H$47,FALSE)","v":3.1},{"$f":"VLOOKUP(C446,Main!$A$49:$I$67,Main!$I$47,FALSE)","v":16.100000000000001},6656]
["LA","LAFAYETTE REGIONAL AP","2A",1443,1692,46.05,82.4,8.5800000000000001E-2,"30.205N",33.700000000000003,52.8,56,61.9,68.7,76.099999999999994,81.3,82.7,83,78.8,69.8,60.3,54.4,84,40,11,0,0,0,0,0,0,1,15,64,170,207,380,560,808,939,1012,1023,865,615,323,199,48.4,37.76,45.3,55.4,66,70.34,74.48,75.02,67.599999999999994,55.8,55.8,40.5,"NR",0.28681742967457252,53,24,10,15,{"$f":"IF(OR(C447=\"OA\",C447=\"OB\",C447=\"1B\",C447=\"1A\",C447=\"2A\",C447=\"2B\",C447=\"3A\",C447=\"3B\",C447=\"3C\"),TAN((LEFT(I447, 5)+VLOOKUP(C447,Main!$K$3:$L$21,2,FALSE))*PI()/180),IF(Checklist!$I$385=\"No\",TAN((LEFT(I447, 5)+VLOOKUP(C447,Main!$K$3:$L$21,2,FALSE))*PI()/180),\"NR\"))","v":0.58201389823370031},{"$f":"VLOOKUP(C447,Main!$A$49:$I$67,Main!$B$47,FALSE)","v":0.6},{"$f":"VLOOKUP(C447,Main!$A$49:$I$67,Main!$C$47,FALSE)","v":0.25},{"$f":"VLOOKUP(C447,Main!$A$49:$I$67,Main!$E$47,FALSE)&\":\"&\" \"&VLOOKUP(C447,Main!$A$49:$I$67,Main!$F$47,FALSE)","v":"Minimum HSPF:: 9.6"},{"$f":"VLOOKUP(C447,Main!$A$49:$I$67,Main!$G$47,FALSE)","v":18},{"$f":"VLOOKUP(C447,Main!$A$49:$I$67,Main!$H$47,FALSE)","v":3.1},{"$f":"VLOOKUP(C447,Main!$A$49:$I$67,Main!$I$47,FALSE)","v":16.100000000000001},7101]
["LA","LAKE CHARLES REGIONAL ARPT","2A",1434,1656,46.2,81.099999999999994,8.5800000000000001E-2,"30.125N",33.799999999999997,52.8,55.9,61.8,68.3,75.7,81.400000000000006,82.9,83.1,79,70.2,60.5,54.3,78,38,10,0,0,0,0,0,0,1,15,60,164,203,375,551,796,942,1019,1026,870,626,329,194,43.2,48.74,50,61.88,66.900000000000006,73.760000000000005,73.94,71.239999999999995,65.099999999999994,47.3,47.3,34.5,"NR",0.28765607712976127,53,24,10,15,{"$f":"IF(OR(C448=\"OA\",C448=\"OB\",C448=\"1B\",C448=\"1A\",C448=\"2A\",C448=\"2B\",C448=\"3A\",C448=\"3B\",C448=\"3C\"),TAN((LEFT(I448, 5)+VLOOKUP(C448,Main!$K$3:$L$21,2,FALSE))*PI()/180),IF(Checklist!$I$385=\"No\",TAN((LEFT(I448, 5)+VLOOKUP(C448,Main!$K$3:$L$21,2,FALSE))*PI()/180),\"NR\"))","v":0.58014618089614867},{"$f":"VLOOKUP(C448,Main!$A$49:$I$67,Main!$B$47,FALSE)","v":0.6},{"$f":"VLOOKUP(C448,Main!$A$49:$I$67,Main!$C$47,FALSE)","v":0.25},{"$f":"VLOOKUP(C448,Main!$A$49:$I$67,Main!$E$47,FALSE)&\":\"&\" \"&VLOOKUP(C448,Main!$A$49:$I$67,Main!$F$47,FALSE)","v":"Minimum HSPF:: 9.6"},{"$f":"VLOOKUP(C448,Main!$A$49:$I$67,Main!$G$47,FALSE)","v":18},{"$f":"VLOOKUP(C448,Main!$A$49:$I$67,Main!$H$47,FALSE)","v":3.1},{"$f":"VLOOKUP(C448,Main!$A$49:$I$67,Main!$I$47,FALSE)","v":16.100000000000001},7095]
["LA","MONROE REGIONAL AP","3A",2183,1612,38,83.7,8.5800000000000001E-2,"32.516N",28.4,47.4,50.9,58,65.900000000000006,73.900000000000006,80.5,82.7,82.6,76.900000000000006,66.2,55.7,48.8,172,98,31,1,0,0,0,0,0,2,43,144,92,124,281,479,741,916,1014,1011,806,503,215,107,36.700000000000003,44.96,45.3,51.08,62.1,69.08,73.400000000000006,73.22,60.4,49.1,49.1,37.6,0.61165048543689327,0.24843024843024838,55,26,12,17,{"$f":"IF(OR(C449=\"OA\",C449=\"OB\",C449=\"1B\",C449=\"1A\",C449=\"2A\",C449=\"2B\",C449=\"3A\",C449=\"3B\",C449=\"3C\"),TAN((LEFT(I449, 5)+VLOOKUP(C449,Main!$K$3:$L$21,2,FALSE))*PI()/180),IF(Checklist!$I$385=\"No\",TAN((LEFT(I449, 5)+VLOOKUP(C449,Main!$K$3:$L$21,2,FALSE))*PI()/180),\"NR\"))","v":0.63731565669491319},{"$f":"VLOOKUP(C449,Main!$A$49:$I$67,Main!$B$47,FALSE)","v":0.6},{"$f":"VLOOKUP(C449,Main!$A$49:$I$67,Main!$C$47,FALSE)","v":0.25},{"$f":"VLOOKUP(C449,Main!$A$49:$I$67,Main!$E$47,FALSE)&\":\"&\" \"&VLOOKUP(C449,Main!$A$49:$I$67,Main!$F$47,FALSE)","v":"Minimum HSPF:: 9.6"},{"$f":"VLOOKUP(C449,Main!$A$49:$I$67,Main!$G$47,FALSE)","v":18},{"$f":"VLOOKUP(C449,Main!$A$49:$I$67,Main!$H$47,FALSE)","v":3.1},{"$f":"VLOOKUP(C449,Main!$A$49:$I$67,Main!$I$47,FALSE)","v":16.100000000000001},6289]
["LA","NEW IBERIA NAAS","2A",1403,1607,44.3,82.2,8.5800000000000001E-2,"30.038N",33.9,53.1,55.9,62.5,69.400000000000006,76.2,81.3,82.4,83,79.099999999999994,70.2,60.9,54.2,84,42,8,1,0,0,0,0,0,0,12,62,179,208,395,582,812,939,1004,1022,872,626,338,191,38.799999999999997,51.44,45,57.92,66.7,72.319999999999993,74.48,74.12,68.5,54.5,54.5,45,"NR",0.28849964333835298,53,24,10,15,{"$f":"IF(OR(C450=\"OA\",C450=\"OB\",C450=\"1B\",C450=\"1A\",C450=\"2A\",C450=\"2B\",C450=\"3A\",C450=\"3B\",C450=\"3C\"),TAN((LEFT(I450, 5)+VLOOKUP(C450,Main!$K$3:$L$21,2,FALSE))*PI()/180),IF(Checklist!$I$385=\"No\",TAN((LEFT(I450, 5)+VLOOKUP(C450,Main!$K$3:$L$21,2,FALSE))*PI()/180),\"NR\"))","v":0.57804861206321845},{"$f":"VLOOKUP(C450,Main!$A$49:$I$67,Main!$B$47,FALSE)","v":0.6},{"$f":"VLOOKUP(C450,Main!$A$49:$I$67,Main!$C$47,FALSE)","v":0.25},{"$f":"VLOOKUP(C450,Main!$A$49:$I$67,Main!$E$47,FALSE)&\":\"&\" \"&VLOOKUP(C450,Main!$A$49:$I$67,Main!$F$47,FALSE)","v":"Minimum HSPF:: 9.6"},{"$f":"VLOOKUP(C450,Main!$A$49:$I$67,Main!$G$47,FALSE)","v":18},{"$f":"VLOOKUP(C450,Main!$A$49:$I$67,Main!$H$47,FALSE)","v":3.1},{"$f":"VLOOKUP(C450,Main!$A$49:$I$67,Main!$I$47,FALSE)","v":16.100000000000001},7168]
["LA","NEW ORLEANS ALVIN CALLENDER F","2A",1375,1601,48.05,81.099999999999994,8.5800000000000001E-2,"29.817N",34.5,53.4,56.4,61.9,67.900000000000006,75.2,80.5,81.900000000000006,82.2,78.7,69.900000000000006,59.9,55.9,69,39,10,0,0,0,0,0,0,0,13,49,174,218,378,536,781,916,989,997,861,619,309,230,44.1,49.82,48.4,60.98,70,72.86,74.48,70.88,69.099999999999994,56.5,56.5,46.9,"NR",0.29366680112948768,53,24,10,15,{"$f":"IF(OR(C451=\"OA\",C451=\"OB\",C451=\"1B\",C451=\"1A\",C451=\"2A\",C451=\"2B\",C451=\"3A\",C451=\"3B\",C451=\"3C\"),TAN((LEFT(I451, 5)+VLOOKUP(C451,Main!$K$3:$L$21,2,FALSE))*PI()/180),IF(Checklist!$I$385=\"No\",TAN((LEFT(I451, 5)+VLOOKUP(C451,Main!$K$3:$L$21,2,FALSE))*PI()/180),\"NR\"))","v":0.57293720135113668},{"$f":"VLOOKUP(C451,Main!$A$49:$I$67,Main!$B$47,FALSE)","v":0.6},{"$f":"VLOOKUP(C451,Main!$A$49:$I$67,Main!$C$47,FALSE)","v":0.25},{"$f":"VLOOKUP(C451,Main!$A$49:$I$67,Main!$E$47,FALSE)&\":\"&\" \"&VLOOKUP(C451,Main!$A$49:$I$67,Main!$F$47,FALSE)","v":"Minimum HSPF:: 9.6"},{"$f":"VLOOKUP(C451,Main!$A$49:$I$67,Main!$G$47,FALSE)","v":18},{"$f":"VLOOKUP(C451,Main!$A$49:$I$67,Main!$H$47,FALSE)","v":3.1},{"$f":"VLOOKUP(C451,Main!$A$49:$I$67,Main!$I$47,FALSE)","v":16.100000000000001},7008]
["LA","NEW ORLEANS INTL ARPT","2A",1255,1632,46.3,83.7,8.5800000000000001E-2,"29.993N",36.6,54.1,57.1,62.7,69.3,76.599999999999994,81.7,83.1,83.2,79.900000000000006,71.400000000000006,61.7,55.9,64,30,7,0,0,0,0,0,0,0,7,42,190,229,402,579,824,950,1025,1030,898,662,357,225,41,47.3,53.8,60.44,66,72.14,74.3,74.48,66.900000000000006,57,57,45.3,"NR",0.31330693751075916,52,23,10,15,{"$f":"IF(OR(C452=\"OA\",C452=\"OB\",C452=\"1B\",C452=\"1A\",C452=\"2A\",C452=\"2B\",C452=\"3A\",C452=\"3B\",C452=\"3C\"),TAN((LEFT(I452, 5)+VLOOKUP(C452,Main!$K$3:$L$21,2,FALSE))*PI()/180),IF(Checklist!$I$385=\"No\",TAN((LEFT(I452, 5)+VLOOKUP(C452,Main!$K$3:$L$21,2,FALSE))*PI()/180),\"NR\"))","v":0.57711758206742791},{"$f":"VLOOKUP(C452,Main!$A$49:$I$67,Main!$B$47,FALSE)","v":0.6},{"$f":"VLOOKUP(C452,Main!$A$49:$I$67,Main!$C$47,FALSE)","v":0.25},{"$f":"VLOOKUP(C452,Main!$A$49:$I$67,Main!$E$47,FALSE)&\":\"&\" \"&VLOOKUP(C452,Main!$A$49:$I$67,Main!$F$47,FALSE)","v":"Minimum HSPF:: 9.6"},{"$f":"VLOOKUP(C452,Main!$A$49:$I$67,Main!$G$47,FALSE)","v":18},{"$f":"VLOOKUP(C452,Main!$A$49:$I$67,Main!$H$47,FALSE)","v":3.1},{"$f":"VLOOKUP(C452,Main!$A$49:$I$67,Main!$I$47,FALSE)","v":16.100000000000001},7371]
["LA","NEW ORLEANS LAKEFRONT AP","2A",1072,1453,44.55,84.9,8.5800000000000001E-2,"30.049N",39.200000000000003,54.8,58.4,64.099999999999994,71,78.2,83.3,84.8,85.3,81.7,73.099999999999994,63.2,57.2,50,19,6,0,0,0,0,0,0,0,4,29,199,255,442,631,874,999,1079,1094,951,718,400,254,48.7,49.64,50.4,55.22,69.599999999999994,73.760000000000005,73.94,73.400000000000006,70.3,50.7,50.7,47.1,"NR",0.34159159159159158,52,23,10,15,{"$f":"IF(OR(C453=\"OA\",C453=\"OB\",C453=\"1B\",C453=\"1A\",C453=\"2A\",C453=\"2B\",C453=\"3A\",C453=\"3B\",C453=\"3C\"),TAN((LEFT(I453, 5)+VLOOKUP(C453,Main!$K$3:$L$21,2,FALSE))*PI()/180),IF(Checklist!$I$385=\"No\",TAN((LEFT(I453, 5)+VLOOKUP(C453,Main!$K$3:$L$21,2,FALSE))*PI()/180),\"NR\"))","v":0.57828148695135173},{"$f":"VLOOKUP(C453,Main!$A$49:$I$67,Main!$B$47,FALSE)","v":0.6},{"$f":"VLOOKUP(C453,Main!$A$49:$I$67,Main!$C$47,FALSE)","v":0.25},{"$f":"VLOOKUP(C453,Main!$A$49:$I$67,Main!$E$47,FALSE)&\":\"&\" \"&VLOOKUP(C453,Main!$A$49:$I$67,Main!$F$47,FALSE)","v":"Minimum HSPF:: 9.6"},{"$f":"VLOOKUP(C453,Main!$A$49:$I$67,Main!$G$47,FALSE)","v":18},{"$f":"VLOOKUP(C453,Main!$A$49:$I$67,Main!$H$47,FALSE)","v":3.1},{"$f":"VLOOKUP(C453,Main!$A$49:$I$67,Main!$I$47,FALSE)","v":16.100000000000001},7896]
["LA","PATTERSON MEMORIAL","2A",1348,1684,47.4,81.5,8.5800000000000001E-2,"29.717N",35.5,54.1,56.6,62.3,68.3,75.2,80.3,81.900000000000006,82.2,78.900000000000006,69.7,60.4,55,69,35,10,0,0,0,0,0,0,1,11,50,196,221,392,551,780,908,988,997,866,612,323,206,42.4,48.38,46.4,55.94,65.099999999999994,70.88,75.2,72.14,68.7,49.1,49.1,37.4,"NR",0.30270270270270266,{"$f":"ROUNDDOWN((33.97238548+(2.143484655*3.14219615)+(0.00253108806*D454)+(-0.2767683543*J454)+(66.9384076*H454)+((3.14219615-3.14219615)^2*-1.607593659)+((J454-12.48681818)*(H454-0.2016890909)*-1.8168457)+8.4234),0)","v":53},{"$f":"ROUNDDOWN((2.975122788+(0.003896731237*D454)+(59.88697433*H454)+((D454-5520.854545)*(H454-0.2016890909)*0.01119327314)+5.3792),0)","v":24},10,{"$f":"ROUNDDOWN(BK454+5.9089,0)","v":15},{"$f":"IF(OR(C454=\"OA\",C454=\"OB\",C454=\"1B\",C454=\"1A\",C454=\"2A\",C454=\"2B\",C454=\"3A\",C454=\"3B\",C454=\"3C\"),TAN((LEFT(I454, 5)+VLOOKUP(C454,Main!$K$3:$L$21,2,FALSE))*PI()/180),IF(Checklist!$I$385=\"No\",TAN((LEFT(I454, 5)+VLOOKUP(C454,Main!$K$3:$L$21,2,FALSE))*PI()/180),\"NR\"))","v":0.57062126898837384},{"$f":"VLOOKUP(C454,Main!$A$49:$I$67,Main!$B$47,FALSE)","v":0.6},{"$f":"VLOOKUP(C454,Main!$A$49:$I$67,Main!$C$47,FALSE)","v":0.25},{"$f":"VLOOKUP(C454,Main!$A$49:$I$67,Main!$E$47,FALSE)&\":\"&\" \"&VLOOKUP(C454,Main!$A$49:$I$67,Main!$F$47,FALSE)","v":"Minimum HSPF:: 9.6"},{"$f":"VLOOKUP(C454,Main!$A$49:$I$67,Main!$G$47,FALSE)","v":18},{"$f":"VLOOKUP(C454,Main!$A$49:$I$67,Main!$H$47,FALSE)","v":3.1},{"$f":"VLOOKUP(C454,Main!$A$49:$I$67,Main!$I$47,FALSE)","v":16.100000000000001},7040]
["LA","SHREVEPORT DOWNTOWN","2A",2173,1661,36.299999999999997,84.9,8.5800000000000001E-2,"32.543N",29.1,48,50.6,57.9,66,74.2,81.2,83.7,84.5,77.599999999999994,66.7,56.2,48.2,160,102,30,2,0,0,0,0,0,1,39,151,100,119,276,481,751,936,1046,1068,827,519,226,95,32.5,33.44,39,48.92,58.3,69.260000000000005,73.22,71.959999999999994,65.8,44.4,44.4,37.200000000000003,0.6,0.25290071562565136,55,26,12,17,{"$f":"IF(OR(C455=\"OA\",C455=\"OB\",C455=\"1B\",C455=\"1A\",C455=\"2A\",C455=\"2B\",C455=\"3A\",C455=\"3B\",C455=\"3C\"),TAN((LEFT(I455, 5)+VLOOKUP(C455,Main!$K$3:$L$21,2,FALSE))*PI()/180),IF(Checklist!$I$385=\"No\",TAN((LEFT(I455, 5)+VLOOKUP(C455,Main!$K$3:$L$21,2,FALSE))*PI()/180),\"NR\"))","v":0.63805217207853526},{"$f":"VLOOKUP(C455,Main!$A$49:$I$67,Main!$B$47,FALSE)","v":0.6},{"$f":"VLOOKUP(C455,Main!$A$49:$I$67,Main!$C$47,FALSE)","v":0.25},{"$f":"VLOOKUP(C455,Main!$A$49:$I$67,Main!$E$47,FALSE)&\":\"&\" \"&VLOOKUP(C455,Main!$A$49:$I$67,Main!$F$47,FALSE)","v":"Minimum HSPF:: 9.6"},{"$f":"VLOOKUP(C455,Main!$A$49:$I$67,Main!$G$47,FALSE)","v":18},{"$f":"VLOOKUP(C455,Main!$A$49:$I$67,Main!$H$47,FALSE)","v":3.1},{"$f":"VLOOKUP(C455,Main!$A$49:$I$67,Main!$I$47,FALSE)","v":16.100000000000001},6444]
["LA","SHREVEPORT REGIONAL ARPT","2A",2093,1683,35.75,84.7,8.5800000000000001E-2,"32.447N",29,48.1,51.7,58.6,65.900000000000006,73.8,80.7,83.4,83.7,77.8,67.099999999999994,56.4,49.1,156,87,28,2,0,0,0,0,0,1,39,137,97,134,294,477,738,921,1036,1045,834,530,230,108,35.799999999999997,37.4,48.9,55.58,62.4,68.540000000000006,70.7,71.42,66.2,44.8,44.8,35.6,0.6,0.25225225225225223,55,26,12,17,{"$f":"IF(OR(C456=\"OA\",C456=\"OB\",C456=\"1B\",C456=\"1A\",C456=\"2A\",C456=\"2B\",C456=\"3A\",C456=\"3B\",C456=\"3C\"),TAN((LEFT(I456, 5)+VLOOKUP(C456,Main!$K$3:$L$21,2,FALSE))*PI()/180),IF(Checklist!$I$385=\"No\",TAN((LEFT(I456, 5)+VLOOKUP(C456,Main!$K$3:$L$21,2,FALSE))*PI()/180),\"NR\"))","v":0.63559903018761865},{"$f":"VLOOKUP(C456,Main!$A$49:$I$67,Main!$B$47,FALSE)","v":0.6},{"$f":"VLOOKUP(C456,Main!$A$49:$I$67,Main!$C$47,FALSE)","v":0.25},{"$f":"VLOOKUP(C456,Main!$A$49:$I$67,Main!$E$47,FALSE)&\":\"&\" \"&VLOOKUP(C456,Main!$A$49:$I$67,Main!$F$47,FALSE)","v":"Minimum HSPF:: 9.6"},{"$f":"VLOOKUP(C456,Main!$A$49:$I$67,Main!$G$47,FALSE)","v":18},{"$f":"VLOOKUP(C456,Main!$A$49:$I$67,Main!$H$47,FALSE)","v":3.1},{"$f":"VLOOKUP(C456,Main!$A$49:$I$67,Main!$I$47,FALSE)","v":16.100000000000001},6444]
["MA","BARNSTABLE MUNI BOA","5A",5791,1320,25.55,74.5,0.1852,"41.669N",15.4,30.7,32,37.6,46.1,55.5,64.7,71.5,70.2,63.4,53.3,44.5,36.200000000000003,599,504,390,147,17,0,0,0,1,48,198,432,0,0,5,30,187,441,666,625,404,149,35,4,28.2,19.399999999999999,32,38.479999999999997,45.1,56.48,62.96,63.68,54,37.4,37.4,27.9,0.78552278820375343,0.1870311376014798,72,41,{"$f":"ROUNDDOWN(-18.64576148+(5.900367721*3.14219615)+(0.002662134083*D457)+(38.92365332*H457)+((BT457-3890.577273)*(G457-78.59)*0.00005765875867)+((D457-5520.854545)*(H457-0.2016890909)*0.006047043516),0)","v":22},27,{"$f":"IF(OR(C457=\"OA\",C457=\"OB\",C457=\"1B\",C457=\"1A\",C457=\"2A\",C457=\"2B\",C457=\"3A\",C457=\"3B\",C457=\"3C\"),TAN((LEFT(I457, 5)+VLOOKUP(C457,Main!$K$3:$L$21,2,FALSE))*PI()/180),IF(Checklist!$I$385=\"No\",TAN((LEFT(I457, 5)+VLOOKUP(C457,Main!$K$3:$L$21,2,FALSE))*PI()/180),\"NR\"))","v":"NR"},{"$f":"VLOOKUP(C457,Main!$A$49:$I$67,Main!$B$47,FALSE)","v":"NR"},{"$f":"VLOOKUP(C457,Main!$A$49:$I$67,Main!$C$47,FALSE)","v":"NR"},{"$f":"VLOOKUP(C457,Main!$A$49:$I$67,Main!$E$47,FALSE)&\":\"&\" \"&VLOOKUP(C457,Main!$A$49:$I$67,Main!$F$47,FALSE)","v":"Minimum COP @ 5°F:: 1.75"},{"$f":"VLOOKUP(C457,Main!$A$49:$I$67,Main!$G$47,FALSE)","v":15},{"$f":"VLOOKUP(C457,Main!$A$49:$I$67,Main!$H$47,FALSE)","v":3.1},{"$f":"VLOOKUP(C457,Main!$A$49:$I$67,Main!$I$47,FALSE)","v":16.100000000000001},2546]
["MA","BEVERLY MUNI","5A",6206,1292,10.45,80.099999999999994,0.1852,"42.584N",9.5,26.9,29.3,36.4,46.9,55.9,65.400000000000006,71.3,70.099999999999994,63,51.9,42.8,33.200000000000003,717,580,431,152,20,0,0,0,1,69,244,526,2,0,11,60,204,461,662,622,392,128,30,5,4.5999999999999996,5.54,29.1,35.78,45.5,55.22,58.28,62.24,50.4,33.6,33.6,24.3,0.805352798053528,0.16816816816816815,74,43,23,28,{"$f":"IF(OR(C458=\"OA\",C458=\"OB\",C458=\"1B\",C458=\"1A\",C458=\"2A\",C458=\"2B\",C458=\"3A\",C458=\"3B\",C458=\"3C\"),TAN((LEFT(I458, 5)+VLOOKUP(C458,Main!$K$3:$L$21,2,FALSE))*PI()/180),IF(Checklist!$I$385=\"No\",TAN((LEFT(I458, 5)+VLOOKUP(C458,Main!$K$3:$L$21,2,FALSE))*PI()/180),\"NR\"))","v":"NR"},{"$f":"VLOOKUP(C458,Main!$A$49:$I$67,Main!$B$47,FALSE)","v":"NR"},{"$f":"VLOOKUP(C458,Main!$A$49:$I$67,Main!$C$47,FALSE)","v":"NR"},{"$f":"VLOOKUP(C458,Main!$A$49:$I$67,Main!$E$47,FALSE)&\":\"&\" \"&VLOOKUP(C458,Main!$A$49:$I$67,Main!$F$47,FALSE)","v":"Minimum COP @ 5°F:: 1.75"},{"$f":"VLOOKUP(C458,Main!$A$49:$I$67,Main!$G$47,FALSE)","v":15},{"$f":"VLOOKUP(C458,Main!$A$49:$I$67,Main!$H$47,FALSE)","v":3.1},{"$f":"VLOOKUP(C458,Main!$A$49:$I$67,Main!$I$47,FALSE)","v":16.100000000000001},2577]
["MA","BOSTON LOGAN INT ARPT","5A",5512,1408,24.25,83.5,0.1852,"42.361N",13.4,30.2,32,38.700000000000003,48.8,58.1,68,73.8,72.400000000000006,65.3,54.9,45.1,36,618,506,366,112,10,0,0,0,1,31,190,442,3,1,15,75,262,540,738,694,458,182,42,7,13.8,17.420000000000002,24.6,35.06,47.1,54.14,60.62,60.98,53.2,33.4,33.4,23,0.78835978835978848,0.18018018018018014,71,40,21,26,{"$f":"IF(OR(C459=\"OA\",C459=\"OB\",C459=\"1B\",C459=\"1A\",C459=\"2A\",C459=\"2B\",C459=\"3A\",C459=\"3B\",C459=\"3C\"),TAN((LEFT(I459, 5)+VLOOKUP(C459,Main!$K$3:$L$21,2,FALSE))*PI()/180),IF(Checklist!$I$385=\"No\",TAN((LEFT(I459, 5)+VLOOKUP(C459,Main!$K$3:$L$21,2,FALSE))*PI()/180),\"NR\"))","v":"NR"},{"$f":"VLOOKUP(C459,Main!$A$49:$I$67,Main!$B$47,FALSE)","v":"NR"},{"$f":"VLOOKUP(C459,Main!$A$49:$I$67,Main!$C$47,FALSE)","v":"NR"},{"$f":"VLOOKUP(C459,Main!$A$49:$I$67,Main!$E$47,FALSE)&\":\"&\" \"&VLOOKUP(C459,Main!$A$49:$I$67,Main!$F$47,FALSE)","v":"Minimum COP @ 5°F:: 1.75"},{"$f":"VLOOKUP(C459,Main!$A$49:$I$67,Main!$G$47,FALSE)","v":15},{"$f":"VLOOKUP(C459,Main!$A$49:$I$67,Main!$H$47,FALSE)","v":3.1},{"$f":"VLOOKUP(C459,Main!$A$49:$I$67,Main!$I$47,FALSE)","v":16.100000000000001},3017]
["MA","CHICOPEE FALLS WESTO","5A",6356,1279,27.6,80.8,0.1852,"42.200N",5.6,25.2,26.7,36.6,48.1,58.2,67,72.5,69.900000000000006,61.9,51.4,40.799999999999997,31.3,770,652,428,135,11,0,0,0,4,80,298,584,1,0,13,80,265,509,698,618,359,122,23,3,23,20.48,25.3,30.2,41.2,57.56,59.36,58.46,52.7,31.8,31.8,29.3,0.81308411214953269,0.15765765765765763,75,44,23,28,{"$f":"IF(OR(C460=\"OA\",C460=\"OB\",C460=\"1B\",C460=\"1A\",C460=\"2A\",C460=\"2B\",C460=\"3A\",C460=\"3B\",C460=\"3C\"),TAN((LEFT(I460, 5)+VLOOKUP(C460,Main!$K$3:$L$21,2,FALSE))*PI()/180),IF(Checklist!$I$385=\"No\",TAN((LEFT(I460, 5)+VLOOKUP(C460,Main!$K$3:$L$21,2,FALSE))*PI()/180),\"NR\"))","v":"NR"},{"$f":"VLOOKUP(C460,Main!$A$49:$I$67,Main!$B$47,FALSE)","v":"NR"},{"$f":"VLOOKUP(C460,Main!$A$49:$I$67,Main!$C$47,FALSE)","v":"NR"},{"$f":"VLOOKUP(C460,Main!$A$49:$I$67,Main!$E$47,FALSE)&\":\"&\" \"&VLOOKUP(C460,Main!$A$49:$I$67,Main!$F$47,FALSE)","v":"Minimum COP @ 5°F:: 1.75"},{"$f":"VLOOKUP(C460,Main!$A$49:$I$67,Main!$G$47,FALSE)","v":15},{"$f":"VLOOKUP(C460,Main!$A$49:$I$67,Main!$H$47,FALSE)","v":3.1},{"$f":"VLOOKUP(C460,Main!$A$49:$I$67,Main!$I$47,FALSE)","v":16.100000000000001},2691]
["MA","LAWRENCE MUNI","5A",6007,1268,20.2,76.099999999999994,0.1852,"42.717N",9.8000000000000007,27.5,29.6,37.299999999999997,48.4,58,66.900000000000006,72.8,71.3,64,52.3,42.7,32.799999999999997,699,570,411,124,11,0,0,0,1,63,248,537,2,0,17,77,258,507,706,660,421,134,30,4,12.7,15.62,30.9,35.96,48.9,53.24,61.34,61.7,55.9,35.6,35.6,22.5,0.80246913580246915,0.16903501439583909,73,42,23,28,{"$f":"IF(OR(C461=\"OA\",C461=\"OB\",C461=\"1B\",C461=\"1A\",C461=\"2A\",C461=\"2B\",C461=\"3A\",C461=\"3B\",C461=\"3C\"),TAN((LEFT(I461, 5)+VLOOKUP(C461,Main!$K$3:$L$21,2,FALSE))*PI()/180),IF(Checklist!$I$385=\"No\",TAN((LEFT(I461, 5)+VLOOKUP(C461,Main!$K$3:$L$21,2,FALSE))*PI()/180),\"NR\"))","v":"NR"},{"$f":"VLOOKUP(C461,Main!$A$49:$I$67,Main!$B$47,FALSE)","v":"NR"},{"$f":"VLOOKUP(C461,Main!$A$49:$I$67,Main!$C$47,FALSE)","v":"NR"},{"$f":"VLOOKUP(C461,Main!$A$49:$I$67,Main!$E$47,FALSE)&\":\"&\" \"&VLOOKUP(C461,Main!$A$49:$I$67,Main!$F$47,FALSE)","v":"Minimum COP @ 5°F:: 1.75"},{"$f":"VLOOKUP(C461,Main!$A$49:$I$67,Main!$G$47,FALSE)","v":15},{"$f":"VLOOKUP(C461,Main!$A$49:$I$67,Main!$H$47,FALSE)","v":3.1},{"$f":"VLOOKUP(C461,Main!$A$49:$I$67,Main!$I$47,FALSE)","v":16.100000000000001},2816]
["MA","MARTHAS VINEYARD","5A",5777,1228,21.85,72.099999999999994,0.1852,"41.393N",14.4,31.4,32.1,37.6,46.1,55.5,63.9,70.099999999999994,69,62.7,53.2,45.1,36.9,578,502,388,148,20,0,0,0,2,56,191,414,1,0,5,31,190,417,625,590,382,154,44,8,28.6,21.02,31.1,37.76,43.5,57.02,64.040000000000006,61.88,57,40.1,40.1,25.5,0.78142076502732238,0.18354175070592979,72,41,22,27,{"$f":"IF(OR(C462=\"OA\",C462=\"OB\",C462=\"1B\",C462=\"1A\",C462=\"2A\",C462=\"2B\",C462=\"3A\",C462=\"3B\",C462=\"3C\"),TAN((LEFT(I462, 5)+VLOOKUP(C462,Main!$K$3:$L$21,2,FALSE))*PI()/180),IF(Checklist!$I$385=\"No\",TAN((LEFT(I462, 5)+VLOOKUP(C462,Main!$K$3:$L$21,2,FALSE))*PI()/180),\"NR\"))","v":"NR"},{"$f":"VLOOKUP(C462,Main!$A$49:$I$67,Main!$B$47,FALSE)","v":"NR"},{"$f":"VLOOKUP(C462,Main!$A$49:$I$67,Main!$C$47,FALSE)","v":"NR"},{"$f":"VLOOKUP(C462,Main!$A$49:$I$67,Main!$E$47,FALSE)&\":\"&\" \"&VLOOKUP(C462,Main!$A$49:$I$67,Main!$F$47,FALSE)","v":"Minimum COP @ 5°F:: 1.75"},{"$f":"VLOOKUP(C462,Main!$A$49:$I$67,Main!$G$47,FALSE)","v":15},{"$f":"VLOOKUP(C462,Main!$A$49:$I$67,Main!$H$47,FALSE)","v":3.1},{"$f":"VLOOKUP(C462,Main!$A$49:$I$67,Main!$I$47,FALSE)","v":16.100000000000001},2447]
["MA","NANTUCKET MEMORIAL AP","5A",5549,1355,33,69.3,0.1852,"41.253N",18.5,32.799999999999997,33.4,38.1,45.6,53.8,62,69,68.7,63.9,55.1,46.5,38.299999999999997,534,464,372,144,17,0,0,0,0,23,143,367,0,0,1,14,136,359,589,581,418,179,38,4,23,31.1,32.5,40.46,43.9,55.4,63.68,64.400000000000006,58.8,37.9,37.9,34.9,0.77272727272727271,0.19874419874419871,70,41,22,27,{"$f":"IF(OR(C463=\"OA\",C463=\"OB\",C463=\"1B\",C463=\"1A\",C463=\"2A\",C463=\"2B\",C463=\"3A\",C463=\"3B\",C463=\"3C\"),TAN((LEFT(I463, 5)+VLOOKUP(C463,Main!$K$3:$L$21,2,FALSE))*PI()/180),IF(Checklist!$I$385=\"No\",TAN((LEFT(I463, 5)+VLOOKUP(C463,Main!$K$3:$L$21,2,FALSE))*PI()/180),\"NR\"))","v":"NR"},{"$f":"VLOOKUP(C463,Main!$A$49:$I$67,Main!$B$47,FALSE)","v":"NR"},{"$f":"VLOOKUP(C463,Main!$A$49:$I$67,Main!$C$47,FALSE)","v":"NR"},{"$f":"VLOOKUP(C463,Main!$A$49:$I$67,Main!$E$47,FALSE)&\":\"&\" \"&VLOOKUP(C463,Main!$A$49:$I$67,Main!$F$47,FALSE)","v":"Minimum COP @ 5°F:: 1.75"},{"$f":"VLOOKUP(C463,Main!$A$49:$I$67,Main!$G$47,FALSE)","v":15},{"$f":"VLOOKUP(C463,Main!$A$49:$I$67,Main!$H$47,FALSE)","v":3.1},{"$f":"VLOOKUP(C463,Main!$A$49:$I$67,Main!$I$47,FALSE)","v":16.100000000000001},2319]
["MA","NEW BEDFORD RGNL","5A",5770,1420,18.8,82.4,0.1852,"41.676N",12.4,30,32.1,38.200000000000003,47.7,56.9,65.900000000000006,72.099999999999994,70.5,63.4,52.8,43.4,35.4,621,502,375,125,12,0,0,0,1,55,229,459,2,0,11,55,226,477,684,635,403,141,31,6,16.3,17.059999999999999,30.4,35.06,47.1,57.2,61.88,60.8,55.9,37,37,30.6,0.78947368421052633,0.17693952945751507,72,41,22,27,{"$f":"IF(OR(C464=\"OA\",C464=\"OB\",C464=\"1B\",C464=\"1A\",C464=\"2A\",C464=\"2B\",C464=\"3A\",C464=\"3B\",C464=\"3C\"),TAN((LEFT(I464, 5)+VLOOKUP(C464,Main!$K$3:$L$21,2,FALSE))*PI()/180),IF(Checklist!$I$385=\"No\",TAN((LEFT(I464, 5)+VLOOKUP(C464,Main!$K$3:$L$21,2,FALSE))*PI()/180),\"NR\"))","v":"NR"},{"$f":"VLOOKUP(C464,Main!$A$49:$I$67,Main!$B$47,FALSE)","v":"NR"},{"$f":"VLOOKUP(C464,Main!$A$49:$I$67,Main!$C$47,FALSE)","v":"NR"},{"$f":"VLOOKUP(C464,Main!$A$49:$I$67,Main!$E$47,FALSE)&\":\"&\" \"&VLOOKUP(C464,Main!$A$49:$I$67,Main!$F$47,FALSE)","v":"Minimum COP @ 5°F:: 1.75"},{"$f":"VLOOKUP(C464,Main!$A$49:$I$67,Main!$G$47,FALSE)","v":15},{"$f":"VLOOKUP(C464,Main!$A$49:$I$67,Main!$H$47,FALSE)","v":3.1},{"$f":"VLOOKUP(C464,Main!$A$49:$I$67,Main!$I$47,FALSE)","v":16.100000000000001},2671]
["MA","NORTH ADAMS","5A",6798,1275,20.149999999999999,73.8,0.1852,"42.700N",3.2,23.1,26.4,34.1,46.2,56.7,65.3,69.099999999999994,67.599999999999994,60.8,49.5,39.700000000000003,29.8,834,661,502,174,20,0,0,0,3,112,328,628,0,0,8,59,227,460,593,546,326,98,19,2,17.100000000000001,20.3,27.7,33.979999999999997,43,55.22,57.38,58.64,55.2,33.1,33.1,19.8,0.82182628062360796,0.15181848515181848,77,45,25,30,{"$f":"IF(OR(C465=\"OA\",C465=\"OB\",C465=\"1B\",C465=\"1A\",C465=\"2A\",C465=\"2B\",C465=\"3A\",C465=\"3B\",C465=\"3C\"),TAN((LEFT(I465, 5)+VLOOKUP(C465,Main!$K$3:$L$21,2,FALSE))*PI()/180),IF(Checklist!$I$385=\"No\",TAN((LEFT(I465, 5)+VLOOKUP(C465,Main!$K$3:$L$21,2,FALSE))*PI()/180),\"NR\"))","v":"NR"},{"$f":"VLOOKUP(C465,Main!$A$49:$I$67,Main!$B$47,FALSE)","v":"NR"},{"$f":"VLOOKUP(C465,Main!$A$49:$I$67,Main!$C$47,FALSE)","v":"NR"},{"$f":"VLOOKUP(C465,Main!$A$49:$I$67,Main!$E$47,FALSE)&\":\"&\" \"&VLOOKUP(C465,Main!$A$49:$I$67,Main!$F$47,FALSE)","v":"Minimum COP @ 5°F:: 1.75"},{"$f":"VLOOKUP(C465,Main!$A$49:$I$67,Main!$G$47,FALSE)","v":15},{"$f":"VLOOKUP(C465,Main!$A$49:$I$67,Main!$H$47,FALSE)","v":3.1},{"$f":"VLOOKUP(C465,Main!$A$49:$I$67,Main!$I$47,FALSE)","v":16.100000000000001},2338]
["MA","NORWOOD MEMORIAL","5A",6140,1283,13.65,77.5,0.1852,"42.191N",9,27.2,29.5,37.1,47.9,57.4,66.599999999999994,71.900000000000006,70.099999999999994,62.5,51.3,42.4,33,711,574,413,133,15,0,0,0,2,81,258,533,3,0,12,71,243,498,679,622,376,120,30,6,13.3,14.72,28.9,36.86,44.6,59,60.98,64.22,59.4,33.799999999999997,33.799999999999997,27.9,0.80392156862745101,0.1667430142006413,74,43,23,28,{"$f":"IF(OR(C466=\"OA\",C466=\"OB\",C466=\"1B\",C466=\"1A\",C466=\"2A\",C466=\"2B\",C466=\"3A\",C466=\"3B\",C466=\"3C\"),TAN((LEFT(I466, 5)+VLOOKUP(C466,Main!$K$3:$L$21,2,FALSE))*PI()/180),IF(Checklist!$I$385=\"No\",TAN((LEFT(I466, 5)+VLOOKUP(C466,Main!$K$3:$L$21,2,FALSE))*PI()/180),\"NR\"))","v":"NR"},{"$f":"VLOOKUP(C466,Main!$A$49:$I$67,Main!$B$47,FALSE)","v":"NR"},{"$f":"VLOOKUP(C466,Main!$A$49:$I$67,Main!$C$47,FALSE)","v":"NR"},{"$f":"VLOOKUP(C466,Main!$A$49:$I$67,Main!$E$47,FALSE)&\":\"&\" \"&VLOOKUP(C466,Main!$A$49:$I$67,Main!$F$47,FALSE)","v":"Minimum COP @ 5°F:: 1.75"},{"$f":"VLOOKUP(C466,Main!$A$49:$I$67,Main!$G$47,FALSE)","v":15},{"$f":"VLOOKUP(C466,Main!$A$49:$I$67,Main!$H$47,FALSE)","v":3.1},{"$f":"VLOOKUP(C466,Main!$A$49:$I$67,Main!$I$47,FALSE)","v":16.100000000000001},2660]
["MA","OTIS ANGB","5A",5849,1326,28.95,76.599999999999994,0.1852,"41.65N",13,30.6,31.8,37.299999999999997,45.9,55.3,64.8,70.400000000000006,69.8,62.8,52.9,44.7,35.799999999999997,602,511,397,155,18,0,0,0,1,52,199,447,2,0,5,31,182,443,633,614,384,142,40,6,28,25.88,30.6,31.64,43.3,55.94,62.24,68.180000000000007,51.6,29.8,29.8,27.9,0.78609625668449201,0.17886977886977884,72,42,22,27,{"$f":"IF(OR(C467=\"OA\",C467=\"OB\",C467=\"1B\",C467=\"1A\",C467=\"2A\",C467=\"2B\",C467=\"3A\",C467=\"3B\",C467=\"3C\"),TAN((LEFT(I467, 5)+VLOOKUP(C467,Main!$K$3:$L$21,2,FALSE))*PI()/180),IF(Checklist!$I$385=\"No\",TAN((LEFT(I467, 5)+VLOOKUP(C467,Main!$K$3:$L$21,2,FALSE))*PI()/180),\"NR\"))","v":"NR"},{"$f":"VLOOKUP(C467,Main!$A$49:$I$67,Main!$B$47,FALSE)","v":"NR"},{"$f":"VLOOKUP(C467,Main!$A$49:$I$67,Main!$C$47,FALSE)","v":"NR"},{"$f":"VLOOKUP(C467,Main!$A$49:$I$67,Main!$E$47,FALSE)&\":\"&\" \"&VLOOKUP(C467,Main!$A$49:$I$67,Main!$F$47,FALSE)","v":"Minimum COP @ 5°F:: 1.75"},{"$f":"VLOOKUP(C467,Main!$A$49:$I$67,Main!$G$47,FALSE)","v":15},{"$f":"VLOOKUP(C467,Main!$A$49:$I$67,Main!$H$47,FALSE)","v":3.1},{"$f":"VLOOKUP(C467,Main!$A$49:$I$67,Main!$I$47,FALSE)","v":16.100000000000001},2482]
["MA","PLYMOUTH MUNICIPAL","5A",6052,1256,14.25,73.599999999999994,0.1852,"41.910N",10.3,28.8,30.6,36.799999999999997,46.3,56.1,65.5,71.8,70.2,63.1,52.3,43.1,34.200000000000003,659,545,419,159,22,0,0,0,1,63,241,495,2,0,10,47,211,464,676,626,393,135,34,6,22.1,18.86,31.5,38.119999999999997,47.7,56.3,62.24,61.7,57.9,36.299999999999997,36.299999999999997,30.7,0.79591836734693866,0.17049978921729353,73,42,23,28,{"$f":"IF(OR(C468=\"OA\",C468=\"OB\",C468=\"1B\",C468=\"1A\",C468=\"2A\",C468=\"2B\",C468=\"3A\",C468=\"3B\",C468=\"3C\"),TAN((LEFT(I468, 5)+VLOOKUP(C468,Main!$K$3:$L$21,2,FALSE))*PI()/180),IF(Checklist!$I$385=\"No\",TAN((LEFT(I468, 5)+VLOOKUP(C468,Main!$K$3:$L$21,2,FALSE))*PI()/180),\"NR\"))","v":"NR"},{"$f":"VLOOKUP(C468,Main!$A$49:$I$67,Main!$B$47,FALSE)","v":"NR"},{"$f":"VLOOKUP(C468,Main!$A$49:$I$67,Main!$C$47,FALSE)","v":"NR"},{"$f":"VLOOKUP(C468,Main!$A$49:$I$67,Main!$E$47,FALSE)&\":\"&\" \"&VLOOKUP(C468,Main!$A$49:$I$67,Main!$F$47,FALSE)","v":"Minimum COP @ 5°F:: 1.75"},{"$f":"VLOOKUP(C468,Main!$A$49:$I$67,Main!$G$47,FALSE)","v":15},{"$f":"VLOOKUP(C468,Main!$A$49:$I$67,Main!$H$47,FALSE)","v":3.1},{"$f":"VLOOKUP(C468,Main!$A$49:$I$67,Main!$I$47,FALSE)","v":16.100000000000001},2604]
["MA","PROVINCETOWN (AWOS)","5A",5658,1331,21.55,75.599999999999994,0.1852,"42.072N",18,32.4,32.299999999999997,37.799999999999997,45.7,54.9,64.3,70.8,69.400000000000006,63.2,54.1,45.2,37.700000000000003,544,496,380,154,19,0,0,0,1,29,174,384,0,0,3,25,171,428,645,602,397,157,29,3,21.2,25.16,22.8,35.24,44.2,55.04,62.6,62.6,50.7,36.5,36.5,28,0.77591036414565828,0.19675675675675675,71,41,22,27,{"$f":"IF(OR(C469=\"OA\",C469=\"OB\",C469=\"1B\",C469=\"1A\",C469=\"2A\",C469=\"2B\",C469=\"3A\",C469=\"3B\",C469=\"3C\"),TAN((LEFT(I469, 5)+VLOOKUP(C469,Main!$K$3:$L$21,2,FALSE))*PI()/180),IF(Checklist!$I$385=\"No\",TAN((LEFT(I469, 5)+VLOOKUP(C469,Main!$K$3:$L$21,2,FALSE))*PI()/180),\"NR\"))","v":"NR"},{"$f":"VLOOKUP(C469,Main!$A$49:$I$67,Main!$B$47,FALSE)","v":"NR"},{"$f":"VLOOKUP(C469,Main!$A$49:$I$67,Main!$C$47,FALSE)","v":"NR"},{"$f":"VLOOKUP(C469,Main!$A$49:$I$67,Main!$E$47,FALSE)&\":\"&\" \"&VLOOKUP(C469,Main!$A$49:$I$67,Main!$F$47,FALSE)","v":"Minimum COP @ 5°F:: 1.75"},{"$f":"VLOOKUP(C469,Main!$A$49:$I$67,Main!$G$47,FALSE)","v":15},{"$f":"VLOOKUP(C469,Main!$A$49:$I$67,Main!$H$47,FALSE)","v":3.1},{"$f":"VLOOKUP(C469,Main!$A$49:$I$67,Main!$I$47,FALSE)","v":16.100000000000001},2460]
["MA","WESTFIELD BARNES MUNI AP","5A",6306,1226,10.65,76.099999999999994,0.1852,"42.158N",6.7,24.5,27.6,36.200000000000003,48.6,58.7,67.400000000000006,72.599999999999994,70.7,63.2,51.2,41.2,31,791,626,436,125,11,0,0,0,2,83,285,591,1,0,10,83,280,522,699,643,398,119,21,3,5.9,14.72,28.4,35.96,42.8,58.1,58.82,60.44,57.7,31.1,31.1,22.3,0.81609195402298851,0.16048675102508708,75,43,23,28,{"$f":"IF(OR(C470=\"OA\",C470=\"OB\",C470=\"1B\",C470=\"1A\",C470=\"2A\",C470=\"2B\",C470=\"3A\",C470=\"3B\",C470=\"3C\"),TAN((LEFT(I470, 5)+VLOOKUP(C470,Main!$K$3:$L$21,2,FALSE))*PI()/180),IF(Checklist!$I$385=\"No\",TAN((LEFT(I470, 5)+VLOOKUP(C470,Main!$K$3:$L$21,2,FALSE))*PI()/180),\"NR\"))","v":"NR"},{"$f":"VLOOKUP(C470,Main!$A$49:$I$67,Main!$B$47,FALSE)","v":"NR"},{"$f":"VLOOKUP(C470,Main!$A$49:$I$67,Main!$C$47,FALSE)","v":"NR"},{"$f":"VLOOKUP(C470,Main!$A$49:$I$67,Main!$E$47,FALSE)&\":\"&\" \"&VLOOKUP(C470,Main!$A$49:$I$67,Main!$F$47,FALSE)","v":"Minimum COP @ 5°F:: 1.75"},{"$f":"VLOOKUP(C470,Main!$A$49:$I$67,Main!$G$47,FALSE)","v":15},{"$f":"VLOOKUP(C470,Main!$A$49:$I$67,Main!$H$47,FALSE)","v":3.1},{"$f":"VLOOKUP(C470,Main!$A$49:$I$67,Main!$I$47,FALSE)","v":16.100000000000001},2779]
["MA","WORCESTER REGIONAL ARPT","5A",6603,1394,14,74.8,0.1852,"42.271N",7.1,24.9,27,34.799999999999997,46.4,56.4,65.3,70.400000000000006,69,61.6,50.6,40.5,30.6,779,644,483,170,24,1,0,0,4,90,306,604,1,0,11,62,221,459,631,590,353,110,21,3,9.3000000000000007,14.36,19.899999999999999,31.64,43.9,52.52,59,56.3,51.4,25.5,25.5,18.100000000000001,0.81438515081206497,0.1615408511960236,76,44,24,29,{"$f":"IF(OR(C471=\"OA\",C471=\"OB\",C471=\"1B\",C471=\"1A\",C471=\"2A\",C471=\"2B\",C471=\"3A\",C471=\"3B\",C471=\"3C\"),TAN((LEFT(I471, 5)+VLOOKUP(C471,Main!$K$3:$L$21,2,FALSE))*PI()/180),IF(Checklist!$I$385=\"No\",TAN((LEFT(I471, 5)+VLOOKUP(C471,Main!$K$3:$L$21,2,FALSE))*PI()/180),\"NR\"))","v":"NR"},{"$f":"VLOOKUP(C471,Main!$A$49:$I$67,Main!$B$47,FALSE)","v":"NR"},{"$f":"VLOOKUP(C471,Main!$A$49:$I$67,Main!$C$47,FALSE)","v":"NR"},{"$f":"VLOOKUP(C471,Main!$A$49:$I$67,Main!$E$47,FALSE)&\":\"&\" \"&VLOOKUP(C471,Main!$A$49:$I$67,Main!$F$47,FALSE)","v":"Minimum COP @ 5°F:: 1.75"},{"$f":"VLOOKUP(C471,Main!$A$49:$I$67,Main!$G$47,FALSE)","v":15},{"$f":"VLOOKUP(C471,Main!$A$49:$I$67,Main!$H$47,FALSE)","v":3.1},{"$f":"VLOOKUP(C471,Main!$A$49:$I$67,Main!$I$47,FALSE)","v":16.100000000000001},2462]
["MB","WINNIPEG",7,10365,1379,-11.9,75.2,0.1007,"49.910N",-21.4,2.5,7.4,21.1,39.1,51.7,62.5,66.8,65.8,55.9,41.5,24,8.6,1473,1192,899,357,98,4,0,0,37,293,780,1284,0,0,2,28,151,379,521,489,215,30,0,0,-2.6,-0.57999999999999996,14,27.86,37.799999999999997,51.62,57.74,55.04,47.8,21.4,21.4,3.7,0.87786259541984735,0.11004292883487513,81,49,28,33,{"$f":"IF(OR(C472=\"OA\",C472=\"OB\",C472=\"1B\",C472=\"1A\",C472=\"2A\",C472=\"2B\",C472=\"3A\",C472=\"3B\",C472=\"3C\"),TAN((LEFT(I472, 5)+VLOOKUP(C472,Main!$K$3:$L$21,2,FALSE))*PI()/180),IF(Checklist!$I$385=\"No\",TAN((LEFT(I472, 5)+VLOOKUP(C472,Main!$K$3:$L$21,2,FALSE))*PI()/180),\"NR\"))","v":"NR"},{"$f":"VLOOKUP(C472,Main!$A$49:$I$67,Main!$B$47,FALSE)","v":"NR"},{"$f":"VLOOKUP(C472,Main!$A$49:$I$67,Main!$C$47,FALSE)","v":"NR"},{"$f":"VLOOKUP(C472,Main!$A$49:$I$67,Main!$E$47,FALSE)&\":\"&\" \"&VLOOKUP(C472,Main!$A$49:$I$67,Main!$F$47,FALSE)","v":"Minimum COP @ 5°F:: 1.75"},{"$f":"VLOOKUP(C472,Main!$A$49:$I$67,Main!$G$47,FALSE)","v":15},{"$f":"VLOOKUP(C472,Main!$A$49:$I$67,Main!$H$47,FALSE)","v":3.1},{"$f":"VLOOKUP(C472,Main!$A$49:$I$67,Main!$I$47,FALSE)","v":16.100000000000001},1815]
["MD","ANDREWS AFB","4A",4378,1459,21.85,81.900000000000006,0.13139999999999999,"38.817N",18.7,35,37.6,45.4,55.6,64.3,73,77.599999999999994,75.3,68.400000000000006,57.4,47.4,39,480,360,209,37,1,0,0,0,0,21,151,362,15,13,66,205,446,690,856,785,553,250,72,20,24.6,24.8,27.9,36.14,49.8,60.62,66.92,63.86,55.8,33.4,33.4,31.5,0.75757575757575757,0.19955046324214679,64,34,17,22,{"$f":"IF(OR(C473=\"OA\",C473=\"OB\",C473=\"1B\",C473=\"1A\",C473=\"2A\",C473=\"2B\",C473=\"3A\",C473=\"3B\",C473=\"3C\"),TAN((LEFT(I473, 5)+VLOOKUP(C473,Main!$K$3:$L$21,2,FALSE))*PI()/180),IF(Checklist!$I$385=\"No\",TAN((LEFT(I473, 5)+VLOOKUP(C473,Main!$K$3:$L$21,2,FALSE))*PI()/180),\"NR\"))","v":"NR"},{"$f":"VLOOKUP(C473,Main!$A$49:$I$67,Main!$B$47,FALSE)","v":0.5},{"$f":"VLOOKUP(C473,Main!$A$49:$I$67,Main!$C$47,FALSE)","v":0.25},{"$f":"VLOOKUP(C473,Main!$A$49:$I$67,Main!$E$47,FALSE)&\":\"&\" \"&VLOOKUP(C473,Main!$A$49:$I$67,Main!$F$47,FALSE)","v":"Minimum HSPF:: 9.6"},{"$f":"VLOOKUP(C473,Main!$A$49:$I$67,Main!$G$47,FALSE)","v":18},{"$f":"VLOOKUP(C473,Main!$A$49:$I$67,Main!$H$47,FALSE)","v":3.1},{"$f":"VLOOKUP(C473,Main!$A$49:$I$67,Main!$I$47,FALSE)","v":16.100000000000001},3971]
["MD","BALTIMORE BLT-WASHNGTN INT","4A",4491,1490,24.05,81.5,0.13139999999999999,"39.167N",18.399999999999999,34.700000000000003,36.6,44.4,54.9,64,73.3,77.900000000000006,75.8,68.599999999999994,57.2,47,38.4,485,384,225,39,1,0,0,0,0,20,156,373,10,8,53,187,436,698,864,800,559,242,65,14,20.3,22.64,26.1,40.1,52.3,59.72,65.12,63.5,61.2,37,37,20.8,0.75975975975975973,0.19834350479511767,64,34,17,22,{"$f":"IF(OR(C474=\"OA\",C474=\"OB\",C474=\"1B\",C474=\"1A\",C474=\"2A\",C474=\"2B\",C474=\"3A\",C474=\"3B\",C474=\"3C\"),TAN((LEFT(I474, 5)+VLOOKUP(C474,Main!$K$3:$L$21,2,FALSE))*PI()/180),IF(Checklist!$I$385=\"No\",TAN((LEFT(I474, 5)+VLOOKUP(C474,Main!$K$3:$L$21,2,FALSE))*PI()/180),\"NR\"))","v":"NR"},{"$f":"VLOOKUP(C474,Main!$A$49:$I$67,Main!$B$47,FALSE)","v":0.5},{"$f":"VLOOKUP(C474,Main!$A$49:$I$67,Main!$C$47,FALSE)","v":0.25},{"$f":"VLOOKUP(C474,Main!$A$49:$I$67,Main!$E$47,FALSE)&\":\"&\" \"&VLOOKUP(C474,Main!$A$49:$I$67,Main!$F$47,FALSE)","v":"Minimum HSPF:: 9.6"},{"$f":"VLOOKUP(C474,Main!$A$49:$I$67,Main!$G$47,FALSE)","v":18},{"$f":"VLOOKUP(C474,Main!$A$49:$I$67,Main!$H$47,FALSE)","v":3.1},{"$f":"VLOOKUP(C474,Main!$A$49:$I$67,Main!$I$47,FALSE)","v":16.100000000000001},3936]
["MD","HAGERSTOWN RGNL RIC","4A",4938,1355,21.3,81.3,0.13139999999999999,"39.708N",16,31.7,33.799999999999997,42.9,54.1,63.5,72.3,76.099999999999994,74.400000000000006,67.099999999999994,55.6,45.6,35.5,572,459,267,55,3,0,0,0,0,35,181,461,6,4,47,176,420,668,810,757,513,208,49,11,21.4,23.18,31.1,37.58,47.3,56.84,66.02,63.32,55.6,34.200000000000003,34.200000000000003,20.100000000000001,0.77961432506887063,0.1891891891891892,66,35,18,23,{"$f":"IF(OR(C475=\"OA\",C475=\"OB\",C475=\"1B\",C475=\"1A\",C475=\"2A\",C475=\"2B\",C475=\"3A\",C475=\"3B\",C475=\"3C\"),TAN((LEFT(I475, 5)+VLOOKUP(C475,Main!$K$3:$L$21,2,FALSE))*PI()/180),IF(Checklist!$I$385=\"No\",TAN((LEFT(I475, 5)+VLOOKUP(C475,Main!$K$3:$L$21,2,FALSE))*PI()/180),\"NR\"))","v":"NR"},{"$f":"VLOOKUP(C475,Main!$A$49:$I$67,Main!$B$47,FALSE)","v":0.5},{"$f":"VLOOKUP(C475,Main!$A$49:$I$67,Main!$C$47,FALSE)","v":0.25},{"$f":"VLOOKUP(C475,Main!$A$49:$I$67,Main!$E$47,FALSE)&\":\"&\" \"&VLOOKUP(C475,Main!$A$49:$I$67,Main!$F$47,FALSE)","v":"Minimum HSPF:: 9.6"},{"$f":"VLOOKUP(C475,Main!$A$49:$I$67,Main!$G$47,FALSE)","v":18},{"$f":"VLOOKUP(C475,Main!$A$49:$I$67,Main!$H$47,FALSE)","v":3.1},{"$f":"VLOOKUP(C475,Main!$A$49:$I$67,Main!$I$47,FALSE)","v":16.100000000000001},3669]
["MD","PATUXENT RIVER NAS","4A",3983,1525,34.25,81.3,0.13139999999999999,"38.300N",21.5,37.1,39.1,45.9,56.1,65.7,74.2,78.599999999999994,76.7,70.2,59.8,49.4,41.5,416,323,189,31,0,0,0,0,0,9,108,291,16,17,62,215,488,725,885,827,607,312,90,29,34.700000000000003,33.979999999999997,40.6,47.12,60.1,63.68,69.08,70.88,63,42.3,42.3,30.7,0.74110032362459544,0.21156640511479222,63,32,16,21,{"$f":"IF(OR(C476=\"OA\",C476=\"OB\",C476=\"1B\",C476=\"1A\",C476=\"2A\",C476=\"2B\",C476=\"3A\",C476=\"3B\",C476=\"3C\"),TAN((LEFT(I476, 5)+VLOOKUP(C476,Main!$K$3:$L$21,2,FALSE))*PI()/180),IF(Checklist!$I$385=\"No\",TAN((LEFT(I476, 5)+VLOOKUP(C476,Main!$K$3:$L$21,2,FALSE))*PI()/180),\"NR\"))","v":"NR"},{"$f":"VLOOKUP(C476,Main!$A$49:$I$67,Main!$B$47,FALSE)","v":0.5},{"$f":"VLOOKUP(C476,Main!$A$49:$I$67,Main!$C$47,FALSE)","v":0.25},{"$f":"VLOOKUP(C476,Main!$A$49:$I$67,Main!$E$47,FALSE)&\":\"&\" \"&VLOOKUP(C476,Main!$A$49:$I$67,Main!$F$47,FALSE)","v":"Minimum HSPF:: 9.6"},{"$f":"VLOOKUP(C476,Main!$A$49:$I$67,Main!$G$47,FALSE)","v":18},{"$f":"VLOOKUP(C476,Main!$A$49:$I$67,Main!$H$47,FALSE)","v":3.1},{"$f":"VLOOKUP(C476,Main!$A$49:$I$67,Main!$I$47,FALSE)","v":16.100000000000001},4273]
["MD","SALISBURY WICOMICO CO AP","4A",4257,1504,35.35,80.599999999999994,0.13139999999999999,"38.341N",18.899999999999999,36.799999999999997,38.299999999999997,45.2,55,63.3,72.5,77.400000000000006,75.3,68.8,58,48.2,40.4,428,342,208,44,3,0,0,0,0,18,140,326,20,16,59,193,416,674,848,783,563,266,85,28,25.2,29.12,37.6,46.76,54.3,62.24,66.92,66.739999999999995,61.7,39.6,39.6,37.200000000000003,0.74358974358974361,0.20036329608631032,64,33,16,21,{"$f":"IF(OR(C477=\"OA\",C477=\"OB\",C477=\"1B\",C477=\"1A\",C477=\"2A\",C477=\"2B\",C477=\"3A\",C477=\"3B\",C477=\"3C\"),TAN((LEFT(I477, 5)+VLOOKUP(C477,Main!$K$3:$L$21,2,FALSE))*PI()/180),IF(Checklist!$I$385=\"No\",TAN((LEFT(I477, 5)+VLOOKUP(C477,Main!$K$3:$L$21,2,FALSE))*PI()/180),\"NR\"))","v":"NR"},{"$f":"VLOOKUP(C477,Main!$A$49:$I$67,Main!$B$47,FALSE)","v":0.5},{"$f":"VLOOKUP(C477,Main!$A$49:$I$67,Main!$C$47,FALSE)","v":0.25},{"$f":"VLOOKUP(C477,Main!$A$49:$I$67,Main!$E$47,FALSE)&\":\"&\" \"&VLOOKUP(C477,Main!$A$49:$I$67,Main!$F$47,FALSE)","v":"Minimum HSPF:: 9.6"},{"$f":"VLOOKUP(C477,Main!$A$49:$I$67,Main!$G$47,FALSE)","v":18},{"$f":"VLOOKUP(C477,Main!$A$49:$I$67,Main!$H$47,FALSE)","v":3.1},{"$f":"VLOOKUP(C477,Main!$A$49:$I$67,Main!$I$47,FALSE)","v":16.100000000000001},3951]
["ME","AUBURN-LEWISTON","6A",7585,1363,8.15,74.8,0.14130000000000001,"44.050N",0.1,19.600000000000001,22.6,31.8,43.3,53.6,63.3,68.3,66.7,59.1,47.3,37.1,26.8,941,767,569,224,35,1,0,0,8,142,393,721,0,0,4,23,147,398,568,517,279,59,7,0,17.100000000000001,10.58,25.3,28.04,37.200000000000003,47.66,57.2,51.98,47.1,26.8,26.8,18.7,0.83471074380165289,0.14488715519643353,76,44,25,30,{"$f":"IF(OR(C478=\"OA\",C478=\"OB\",C478=\"1B\",C478=\"1A\",C478=\"2A\",C478=\"2B\",C478=\"3A\",C478=\"3B\",C478=\"3C\"),TAN((LEFT(I478, 5)+VLOOKUP(C478,Main!$K$3:$L$21,2,FALSE))*PI()/180),IF(Checklist!$I$385=\"No\",TAN((LEFT(I478, 5)+VLOOKUP(C478,Main!$K$3:$L$21,2,FALSE))*PI()/180),\"NR\"))","v":"NR"},{"$f":"VLOOKUP(C478,Main!$A$49:$I$67,Main!$B$47,FALSE)","v":"NR"},{"$f":"VLOOKUP(C478,Main!$A$49:$I$67,Main!$C$47,FALSE)","v":"NR"},{"$f":"VLOOKUP(C478,Main!$A$49:$I$67,Main!$E$47,FALSE)&\":\"&\" \"&VLOOKUP(C478,Main!$A$49:$I$67,Main!$F$47,FALSE)","v":"Minimum COP @ 5°F:: 1.75"},{"$f":"VLOOKUP(C478,Main!$A$49:$I$67,Main!$G$47,FALSE)","v":15},{"$f":"VLOOKUP(C478,Main!$A$49:$I$67,Main!$H$47,FALSE)","v":3.1},{"$f":"VLOOKUP(C478,Main!$A$49:$I$67,Main!$I$47,FALSE)","v":16.100000000000001},2002]
["ME","AUGUSTA AIRPORT","6A",7270,1200,6.9,72.7,0.14130000000000001,"44.316N",1.7,20.399999999999999,23.1,32.200000000000003,44.1,55,64.400000000000006,69.900000000000006,68.599999999999994,60.5,49.2,38.299999999999997,27.3,918,752,555,205,25,1,0,0,3,105,362,703,0,0,4,28,178,432,616,578,318,81,10,0,0.1,4.0999999999999996,25.7,32.54,43,53.96,57.92,59.9,57,31.6,31.6,16.7,0.83193277310924374,0.14838367779544251,75,43,24,29,{"$f":"IF(OR(C479=\"OA\",C479=\"OB\",C479=\"1B\",C479=\"1A\",C479=\"2A\",C479=\"2B\",C479=\"3A\",C479=\"3B\",C479=\"3C\"),TAN((LEFT(I479, 5)+VLOOKUP(C479,Main!$K$3:$L$21,2,FALSE))*PI()/180),IF(Checklist!$I$385=\"No\",TAN((LEFT(I479, 5)+VLOOKUP(C479,Main!$K$3:$L$21,2,FALSE))*PI()/180),\"NR\"))","v":"NR"},{"$f":"VLOOKUP(C479,Main!$A$49:$I$67,Main!$B$47,FALSE)","v":"NR"},{"$f":"VLOOKUP(C479,Main!$A$49:$I$67,Main!$C$47,FALSE)","v":"NR"},{"$f":"VLOOKUP(C479,Main!$A$49:$I$67,Main!$E$47,FALSE)&\":\"&\" \"&VLOOKUP(C479,Main!$A$49:$I$67,Main!$F$47,FALSE)","v":"Minimum COP @ 5°F:: 1.75"},{"$f":"VLOOKUP(C479,Main!$A$49:$I$67,Main!$G$47,FALSE)","v":15},{"$f":"VLOOKUP(C479,Main!$A$49:$I$67,Main!$H$47,FALSE)","v":3.1},{"$f":"VLOOKUP(C479,Main!$A$49:$I$67,Main!$I$47,FALSE)","v":16.100000000000001},2245]
["ME","BANGOR INTERNATIONAL AP","6A",7614,1223,14.9,76.8,0.14130000000000001,"44.798N",-1.8,18.5,21.1,30.9,43,54.3,63.8,69.3,67.900000000000006,59.6,48.3,37.299999999999997,26,977,808,596,228,26,1,0,0,6,123,389,745,0,0,3,18,159,415,597,556,293,69,9,0,10.9,8.24,21.7,29.84,38.5,50,61.16,58.64,48.2,26.4,26.4,18.899999999999999,0.83838383838383834,0.14094323549910942,76,45,25,30,{"$f":"IF(OR(C480=\"OA\",C480=\"OB\",C480=\"1B\",C480=\"1A\",C480=\"2A\",C480=\"2B\",C480=\"3A\",C480=\"3B\",C480=\"3C\"),TAN((LEFT(I480, 5)+VLOOKUP(C480,Main!$K$3:$L$21,2,FALSE))*PI()/180),IF(Checklist!$I$385=\"No\",TAN((LEFT(I480, 5)+VLOOKUP(C480,Main!$K$3:$L$21,2,FALSE))*PI()/180),\"NR\"))","v":"NR"},{"$f":"VLOOKUP(C480,Main!$A$49:$I$67,Main!$B$47,FALSE)","v":"NR"},{"$f":"VLOOKUP(C480,Main!$A$49:$I$67,Main!$C$47,FALSE)","v":"NR"},{"$f":"VLOOKUP(C480,Main!$A$49:$I$67,Main!$E$47,FALSE)&\":\"&\" \"&VLOOKUP(C480,Main!$A$49:$I$67,Main!$F$47,FALSE)","v":"Minimum COP @ 5°F:: 1.75"},{"$f":"VLOOKUP(C480,Main!$A$49:$I$67,Main!$G$47,FALSE)","v":15},{"$f":"VLOOKUP(C480,Main!$A$49:$I$67,Main!$H$47,FALSE)","v":3.1},{"$f":"VLOOKUP(C480,Main!$A$49:$I$67,Main!$I$47,FALSE)","v":16.100000000000001},2119]
["ME","BAR HARBOR (AWOS)","6A",7564,1252,17.2,67.5,0.14130000000000001,"44.450N",1.4,21.2,23.8,31.8,41.9,51.3,60.1,66.2,65.400000000000006,58.6,48.1,38.299999999999997,28.7,894,733,565,251,46,2,0,0,5,118,358,660,0,0,2,7,87,304,501,476,262,59,8,0,18.7,15.62,21.6,26.06,25.5,47.48,52.88,54.32,46.6,29.7,29.7,27.1,0.829059829059829,0.14771528285041799,76,44,26,31,{"$f":"IF(OR(C481=\"OA\",C481=\"OB\",C481=\"1B\",C481=\"1A\",C481=\"2A\",C481=\"2B\",C481=\"3A\",C481=\"3B\",C481=\"3C\"),TAN((LEFT(I481, 5)+VLOOKUP(C481,Main!$K$3:$L$21,2,FALSE))*PI()/180),IF(Checklist!$I$385=\"No\",TAN((LEFT(I481, 5)+VLOOKUP(C481,Main!$K$3:$L$21,2,FALSE))*PI()/180),\"NR\"))","v":"NR"},{"$f":"VLOOKUP(C481,Main!$A$49:$I$67,Main!$B$47,FALSE)","v":"NR"},{"$f":"VLOOKUP(C481,Main!$A$49:$I$67,Main!$C$47,FALSE)","v":"NR"},{"$f":"VLOOKUP(C481,Main!$A$49:$I$67,Main!$E$47,FALSE)&\":\"&\" \"&VLOOKUP(C481,Main!$A$49:$I$67,Main!$F$47,FALSE)","v":"Minimum COP @ 5°F:: 1.75"},{"$f":"VLOOKUP(C481,Main!$A$49:$I$67,Main!$G$47,FALSE)","v":15},{"$f":"VLOOKUP(C481,Main!$A$49:$I$67,Main!$H$47,FALSE)","v":3.1},{"$f":"VLOOKUP(C481,Main!$A$49:$I$67,Main!$I$47,FALSE)","v":16.100000000000001},1706]
["ME","CARIBOU MUNICIPAL ARPT",7,9176,1217,4.45,72.3,0.14130000000000001,"46.871N",-9.6999999999999993,11.2,13.9,25,38.5,51.5,61.2,66,64.2,55.7,44.1,32.200000000000003,19.600000000000001,1202,1009,777,352,68,3,0,0,23,217,537,943,0,0,1,7,115,337,497,440,194,33,2,0,6.4,7.7,10.9,26.24,34.9,49.1,56.3,55.76,46,23,23,9.9,0.85915492957746475,0.12661309958607253,82,50,29,34,{"$f":"IF(OR(C482=\"OA\",C482=\"OB\",C482=\"1B\",C482=\"1A\",C482=\"2A\",C482=\"2B\",C482=\"3A\",C482=\"3B\",C482=\"3C\"),TAN((LEFT(I482, 5)+VLOOKUP(C482,Main!$K$3:$L$21,2,FALSE))*PI()/180),IF(Checklist!$I$385=\"No\",TAN((LEFT(I482, 5)+VLOOKUP(C482,Main!$K$3:$L$21,2,FALSE))*PI()/180),\"NR\"))","v":"NR"},{"$f":"VLOOKUP(C482,Main!$A$49:$I$67,Main!$B$47,FALSE)","v":"NR"},{"$f":"VLOOKUP(C482,Main!$A$49:$I$67,Main!$C$47,FALSE)","v":"NR"},{"$f":"VLOOKUP(C482,Main!$A$49:$I$67,Main!$E$47,FALSE)&\":\"&\" \"&VLOOKUP(C482,Main!$A$49:$I$67,Main!$F$47,FALSE)","v":"Minimum COP @ 5°F:: 1.75"},{"$f":"VLOOKUP(C482,Main!$A$49:$I$67,Main!$G$47,FALSE)","v":15},{"$f":"VLOOKUP(C482,Main!$A$49:$I$67,Main!$H$47,FALSE)","v":3.1},{"$f":"VLOOKUP(C482,Main!$A$49:$I$67,Main!$I$47,FALSE)","v":16.100000000000001},1626]
["ME","HOULTON INTL ARPT",7,8968,1022,3.65,70.5,0.14130000000000001,"46.124N",-9.6,13,15.3,26.1,38.9,51.2,60.7,66.099999999999994,64.400000000000006,55.8,44.5,33.200000000000003,21.2,1147,972,742,340,72,3,0,0,26,211,508,894,0,0,1,8,108,325,499,445,200,39,4,0,1.4,9.86,15.1,29.48,46.2,48.74,58.46,53.6,51.4,25,25,11.7,0.8545454545454545,0.12677626079687937,81,49,29,34,{"$f":"IF(OR(C483=\"OA\",C483=\"OB\",C483=\"1B\",C483=\"1A\",C483=\"2A\",C483=\"2B\",C483=\"3A\",C483=\"3B\",C483=\"3C\"),TAN((LEFT(I483, 5)+VLOOKUP(C483,Main!$K$3:$L$21,2,FALSE))*PI()/180),IF(Checklist!$I$385=\"No\",TAN((LEFT(I483, 5)+VLOOKUP(C483,Main!$K$3:$L$21,2,FALSE))*PI()/180),\"NR\"))","v":"NR"},{"$f":"VLOOKUP(C483,Main!$A$49:$I$67,Main!$B$47,FALSE)","v":"NR"},{"$f":"VLOOKUP(C483,Main!$A$49:$I$67,Main!$C$47,FALSE)","v":"NR"},{"$f":"VLOOKUP(C483,Main!$A$49:$I$67,Main!$E$47,FALSE)&\":\"&\" \"&VLOOKUP(C483,Main!$A$49:$I$67,Main!$F$47,FALSE)","v":"Minimum COP @ 5°F:: 1.75"},{"$f":"VLOOKUP(C483,Main!$A$49:$I$67,Main!$G$47,FALSE)","v":15},{"$f":"VLOOKUP(C483,Main!$A$49:$I$67,Main!$H$47,FALSE)","v":3.1},{"$f":"VLOOKUP(C483,Main!$A$49:$I$67,Main!$I$47,FALSE)","v":16.100000000000001},1629]
["ME","MILLINOCKET MUNICIPAL AP","6A",8167,1206,12,75.599999999999994,0.14130000000000001,"45.648N",-4.2,15.9,19.100000000000001,28.6,41.1,53.5,62.9,68.599999999999994,66.5,58.8,46.6,35.1,23.3,1057,864,666,278,40,1,0,0,7,156,451,827,0,0,2,12,149,388,575,510,271,50,5,0,13.1,7.88,21.9,28.58,42.4,51.44,55.4,55.58,53.4,25.5,25.5,18.3,0.84644913627639151,0.13625814179830797,78,46,26,31,{"$f":"IF(OR(C484=\"OA\",C484=\"OB\",C484=\"1B\",C484=\"1A\",C484=\"2A\",C484=\"2B\",C484=\"3A\",C484=\"3B\",C484=\"3C\"),TAN((LEFT(I484, 5)+VLOOKUP(C484,Main!$K$3:$L$21,2,FALSE))*PI()/180),IF(Checklist!$I$385=\"No\",TAN((LEFT(I484, 5)+VLOOKUP(C484,Main!$K$3:$L$21,2,FALSE))*PI()/180),\"NR\"))","v":"NR"},{"$f":"VLOOKUP(C484,Main!$A$49:$I$67,Main!$B$47,FALSE)","v":"NR"},{"$f":"VLOOKUP(C484,Main!$A$49:$I$67,Main!$C$47,FALSE)","v":"NR"},{"$f":"VLOOKUP(C484,Main!$A$49:$I$67,Main!$E$47,FALSE)&\":\"&\" \"&VLOOKUP(C484,Main!$A$49:$I$67,Main!$F$47,FALSE)","v":"Minimum COP @ 5°F:: 1.75"},{"$f":"VLOOKUP(C484,Main!$A$49:$I$67,Main!$G$47,FALSE)","v":15},{"$f":"VLOOKUP(C484,Main!$A$49:$I$67,Main!$H$47,FALSE)","v":3.1},{"$f":"VLOOKUP(C484,Main!$A$49:$I$67,Main!$I$47,FALSE)","v":16.100000000000001},1962]
["ME","NORTHERN AROOSTOOK",7,9586,1211,6.55,70.2,0.14130000000000001,"47.286N",-8.9,9.9,13.9,23.7,36.799999999999997,50.5,59.4,64.7,62.9,54.7,42.9,30.7,17.899999999999999,1242,1010,818,400,92,6,0,0,30,248,581,994,0,0,1,4,106,288,455,400,171,26,2,0,5.5,4.82,18.7,26.24,36.1,45.14,57.2,53.6,50.7,23.4,23.4,8.8000000000000007,0.8623063683304647,0.12793027097318382,82,51,30,35,{"$f":"IF(OR(C485=\"OA\",C485=\"OB\",C485=\"1B\",C485=\"1A\",C485=\"2A\",C485=\"2B\",C485=\"3A\",C485=\"3B\",C485=\"3C\"),TAN((LEFT(I485, 5)+VLOOKUP(C485,Main!$K$3:$L$21,2,FALSE))*PI()/180),IF(Checklist!$I$385=\"No\",TAN((LEFT(I485, 5)+VLOOKUP(C485,Main!$K$3:$L$21,2,FALSE))*PI()/180),\"NR\"))","v":"NR"},{"$f":"VLOOKUP(C485,Main!$A$49:$I$67,Main!$B$47,FALSE)","v":"NR"},{"$f":"VLOOKUP(C485,Main!$A$49:$I$67,Main!$C$47,FALSE)","v":"NR"},{"$f":"VLOOKUP(C485,Main!$A$49:$I$67,Main!$E$47,FALSE)&\":\"&\" \"&VLOOKUP(C485,Main!$A$49:$I$67,Main!$F$47,FALSE)","v":"Minimum COP @ 5°F:: 1.75"},{"$f":"VLOOKUP(C485,Main!$A$49:$I$67,Main!$G$47,FALSE)","v":15},{"$f":"VLOOKUP(C485,Main!$A$49:$I$67,Main!$H$47,FALSE)","v":3.1},{"$f":"VLOOKUP(C485,Main!$A$49:$I$67,Main!$I$47,FALSE)","v":16.100000000000001},1453]
["ME","PORTLAND INTL JETPORT","5A",6930,1415,18.25,78.3,0.14130000000000001,"43.650N",5.2,23.5,25.7,33.799999999999997,44.3,54,63.7,69.5,68.400000000000006,60.6,49.9,39.9,30.1,823,680,507,197,27,0,0,0,4,93,316,617,0,0,4,26,151,412,604,569,321,88,13,1,9.5,12.38,20.5,34.700000000000003,44.6,52.7,60.08,58.46,48.9,26.1,26.1,14.4,0.8202247191011236,0.15665346875537958,73,42,23,28,{"$f":"IF(OR(C486=\"OA\",C486=\"OB\",C486=\"1B\",C486=\"1A\",C486=\"2A\",C486=\"2B\",C486=\"3A\",C486=\"3B\",C486=\"3C\"),TAN((LEFT(I486, 5)+VLOOKUP(C486,Main!$K$3:$L$21,2,FALSE))*PI()/180),IF(Checklist!$I$385=\"No\",TAN((LEFT(I486, 5)+VLOOKUP(C486,Main!$K$3:$L$21,2,FALSE))*PI()/180),\"NR\"))","v":"NR"},{"$f":"VLOOKUP(C486,Main!$A$49:$I$67,Main!$B$47,FALSE)","v":"NR"},{"$f":"VLOOKUP(C486,Main!$A$49:$I$67,Main!$C$47,FALSE)","v":"NR"},{"$f":"VLOOKUP(C486,Main!$A$49:$I$67,Main!$E$47,FALSE)&\":\"&\" \"&VLOOKUP(C486,Main!$A$49:$I$67,Main!$F$47,FALSE)","v":"Minimum COP @ 5°F:: 1.75"},{"$f":"VLOOKUP(C486,Main!$A$49:$I$67,Main!$G$47,FALSE)","v":15},{"$f":"VLOOKUP(C486,Main!$A$49:$I$67,Main!$H$47,FALSE)","v":3.1},{"$f":"VLOOKUP(C486,Main!$A$49:$I$67,Main!$I$47,FALSE)","v":16.100000000000001},2189]
["ME","PRESQUE ISLE MUNICIP",7,9215,1322,-6.5,74.3,0.14130000000000001,"46.683N",-11.4,11.6,13.7,25,38.200000000000003,50.9,60.6,65.599999999999994,63.7,55.7,43.5,32.5,20.3,1191,1017,775,360,74,3,0,0,25,230,528,921,0,0,1,5,101,322,482,425,194,28,3,0,3.4,8.06,20.7,27.5,34.299999999999997,45.14,51.62,51.44,40.1,28.8,28.8,17.8,0.85815602836879434,0.12390223977125739,82,50,29,34,{"$f":"IF(OR(C487=\"OA\",C487=\"OB\",C487=\"1B\",C487=\"1A\",C487=\"2A\",C487=\"2B\",C487=\"3A\",C487=\"3B\",C487=\"3C\"),TAN((LEFT(I487, 5)+VLOOKUP(C487,Main!$K$3:$L$21,2,FALSE))*PI()/180),IF(Checklist!$I$385=\"No\",TAN((LEFT(I487, 5)+VLOOKUP(C487,Main!$K$3:$L$21,2,FALSE))*PI()/180),\"NR\"))","v":"NR"},{"$f":"VLOOKUP(C487,Main!$A$49:$I$67,Main!$B$47,FALSE)","v":"NR"},{"$f":"VLOOKUP(C487,Main!$A$49:$I$67,Main!$C$47,FALSE)","v":"NR"},{"$f":"VLOOKUP(C487,Main!$A$49:$I$67,Main!$E$47,FALSE)&\":\"&\" \"&VLOOKUP(C487,Main!$A$49:$I$67,Main!$F$47,FALSE)","v":"Minimum COP @ 5°F:: 1.75"},{"$f":"VLOOKUP(C487,Main!$A$49:$I$67,Main!$G$47,FALSE)","v":15},{"$f":"VLOOKUP(C487,Main!$A$49:$I$67,Main!$H$47,FALSE)","v":3.1},{"$f":"VLOOKUP(C487,Main!$A$49:$I$67,Main!$I$47,FALSE)","v":16.100000000000001},1561]
["ME","ROCKLAND/KNOX(AWOS)","6A",7491,1312,14.3,72.5,0.14130000000000001,"44.067N",3.1,22.4,25,32.4,41.9,51,59.8,65.599999999999994,64.8,57.9,47.9,39.200000000000003,29.7,856,701,549,251,51,2,0,0,8,120,333,629,0,0,2,9,83,296,484,459,246,55,7,1,19.8,13.82,24.6,23.72,39,46.76,50.54,52.88,54.1,29.3,29.3,22.1,0.82456140350877194,0.15158455836421936,75,44,25,30,{"$f":"IF(OR(C488=\"OA\",C488=\"OB\",C488=\"1B\",C488=\"1A\",C488=\"2A\",C488=\"2B\",C488=\"3A\",C488=\"3B\",C488=\"3C\"),TAN((LEFT(I488, 5)+VLOOKUP(C488,Main!$K$3:$L$21,2,FALSE))*PI()/180),IF(Checklist!$I$385=\"No\",TAN((LEFT(I488, 5)+VLOOKUP(C488,Main!$K$3:$L$21,2,FALSE))*PI()/180),\"NR\"))","v":"NR"},{"$f":"VLOOKUP(C488,Main!$A$49:$I$67,Main!$B$47,FALSE)","v":"NR"},{"$f":"VLOOKUP(C488,Main!$A$49:$I$67,Main!$C$47,FALSE)","v":"NR"},{"$f":"VLOOKUP(C488,Main!$A$49:$I$67,Main!$E$47,FALSE)&\":\"&\" \"&VLOOKUP(C488,Main!$A$49:$I$67,Main!$F$47,FALSE)","v":"Minimum COP @ 5°F:: 1.75"},{"$f":"VLOOKUP(C488,Main!$A$49:$I$67,Main!$G$47,FALSE)","v":15},{"$f":"VLOOKUP(C488,Main!$A$49:$I$67,Main!$H$47,FALSE)","v":3.1},{"$f":"VLOOKUP(C488,Main!$A$49:$I$67,Main!$I$47,FALSE)","v":16.100000000000001},1642]
["ME","SANFORD MUNI (AWOS)","6A",7423,1345,10.5,75.599999999999994,0.14130000000000001,"43.394N",0.3,21.3,23.1,32.5,44,53.6,63.8,69,66.599999999999994,58.9,47.8,38,28,892,753,551,213,37,1,0,1,10,136,372,682,1,0,8,34,150,415,588,516,276,67,11,1,18.100000000000001,11.12,23.7,24.26,36.700000000000003,45.86,57.02,49.28,45.9,30.4,30.4,19,0.82869379014989297,0.1453151822428041,75,44,24,29,{"$f":"IF(OR(C489=\"OA\",C489=\"OB\",C489=\"1B\",C489=\"1A\",C489=\"2A\",C489=\"2B\",C489=\"3A\",C489=\"3B\",C489=\"3C\"),TAN((LEFT(I489, 5)+VLOOKUP(C489,Main!$K$3:$L$21,2,FALSE))*PI()/180),IF(Checklist!$I$385=\"No\",TAN((LEFT(I489, 5)+VLOOKUP(C489,Main!$K$3:$L$21,2,FALSE))*PI()/180),\"NR\"))","v":"NR"},{"$f":"VLOOKUP(C489,Main!$A$49:$I$67,Main!$B$47,FALSE)","v":"NR"},{"$f":"VLOOKUP(C489,Main!$A$49:$I$67,Main!$C$47,FALSE)","v":"NR"},{"$f":"VLOOKUP(C489,Main!$A$49:$I$67,Main!$E$47,FALSE)&\":\"&\" \"&VLOOKUP(C489,Main!$A$49:$I$67,Main!$F$47,FALSE)","v":"Minimum COP @ 5°F:: 1.75"},{"$f":"VLOOKUP(C489,Main!$A$49:$I$67,Main!$G$47,FALSE)","v":15},{"$f":"VLOOKUP(C489,Main!$A$49:$I$67,Main!$H$47,FALSE)","v":3.1},{"$f":"VLOOKUP(C489,Main!$A$49:$I$67,Main!$I$47,FALSE)","v":16.100000000000001},2067]
["ME","WATERVILLE (AWOS)","6A",7602,1375,8.6,77.2,0.14130000000000001,"44.533N",0,18.7,21.9,31.8,43.4,54.4,62.9,68.2,67,59.3,47.6,37.200000000000003,26.3,971,787,568,222,25,1,0,0,7,135,393,737,0,0,4,24,162,387,564,526,285,61,8,1,16.3,11.48,17.2,21.74,36.5,42.08,59.54,57.38,42.4,28.2,28.2,19.899999999999999,0.83772819472616633,0.14467408585055644,76,45,25,30,{"$f":"IF(OR(C490=\"OA\",C490=\"OB\",C490=\"1B\",C490=\"1A\",C490=\"2A\",C490=\"2B\",C490=\"3A\",C490=\"3B\",C490=\"3C\"),TAN((LEFT(I490, 5)+VLOOKUP(C490,Main!$K$3:$L$21,2,FALSE))*PI()/180),IF(Checklist!$I$385=\"No\",TAN((LEFT(I490, 5)+VLOOKUP(C490,Main!$K$3:$L$21,2,FALSE))*PI()/180),\"NR\"))","v":"NR"},{"$f":"VLOOKUP(C490,Main!$A$49:$I$67,Main!$B$47,FALSE)","v":"NR"},{"$f":"VLOOKUP(C490,Main!$A$49:$I$67,Main!$C$47,FALSE)","v":"NR"},{"$f":"VLOOKUP(C490,Main!$A$49:$I$67,Main!$E$47,FALSE)&\":\"&\" \"&VLOOKUP(C490,Main!$A$49:$I$67,Main!$F$47,FALSE)","v":"Minimum COP @ 5°F:: 1.75"},{"$f":"VLOOKUP(C490,Main!$A$49:$I$67,Main!$G$47,FALSE)","v":15},{"$f":"VLOOKUP(C490,Main!$A$49:$I$67,Main!$H$47,FALSE)","v":3.1},{"$f":"VLOOKUP(C490,Main!$A$49:$I$67,Main!$I$47,FALSE)","v":16.100000000000001},2022]
["ME","WISCASSET","6A",7313,1228,8.75,75.7,0.14130000000000001,"43.964N",1.4,21.3,24.8,32.700000000000003,43.3,53.3,62.2,68.099999999999994,66.900000000000006,59.5,48.3,38.6,28.5,890,705,540,217,34,1,0,0,5,120,350,667,0,0,3,17,136,368,562,524,289,66,8,1,21.4,14,25.9,33.08,42.6,53.24,60.26,58.46,56.3,33.799999999999997,33.799999999999997,28.2,0.82869379014989297,0.14771528285041799,75,44,24,29,{"$f":"IF(OR(C491=\"OA\",C491=\"OB\",C491=\"1B\",C491=\"1A\",C491=\"2A\",C491=\"2B\",C491=\"3A\",C491=\"3B\",C491=\"3C\"),TAN((LEFT(I491, 5)+VLOOKUP(C491,Main!$K$3:$L$21,2,FALSE))*PI()/180),IF(Checklist!$I$385=\"No\",TAN((LEFT(I491, 5)+VLOOKUP(C491,Main!$K$3:$L$21,2,FALSE))*PI()/180),\"NR\"))","v":"NR"},{"$f":"VLOOKUP(C491,Main!$A$49:$I$67,Main!$B$47,FALSE)","v":"NR"},{"$f":"VLOOKUP(C491,Main!$A$49:$I$67,Main!$C$47,FALSE)","v":"NR"},{"$f":"VLOOKUP(C491,Main!$A$49:$I$67,Main!$E$47,FALSE)&\":\"&\" \"&VLOOKUP(C491,Main!$A$49:$I$67,Main!$F$47,FALSE)","v":"Minimum COP @ 5°F:: 1.75"},{"$f":"VLOOKUP(C491,Main!$A$49:$I$67,Main!$G$47,FALSE)","v":15},{"$f":"VLOOKUP(C491,Main!$A$49:$I$67,Main!$H$47,FALSE)","v":3.1},{"$f":"VLOOKUP(C491,Main!$A$49:$I$67,Main!$I$47,FALSE)","v":16.100000000000001},1974]
["MI","ALPENA COUNTY REGIONAL AP","6A",7935,1358,15.7,73.400000000000006,0.13250000000000001,"45.072N",0.6,20,20.7,29.2,41.4,52.9,63,67.400000000000006,66,58.2,47,36.200000000000003,26,931,820,652,287,61,2,0,0,15,160,419,743,0,0,7,30,151,391,539,495,261,67,5,0,13.5,13.1,24.4,31.82,39.200000000000003,48.74,55.76,57.38,53.2,25.7,25.7,19.399999999999999,0.83333333333333337,0.14596198572459698,76,45,25,30,{"$f":"IF(OR(C492=\"OA\",C492=\"OB\",C492=\"1B\",C492=\"1A\",C492=\"2A\",C492=\"2B\",C492=\"3A\",C492=\"3B\",C492=\"3C\"),TAN((LEFT(I492, 5)+VLOOKUP(C492,Main!$K$3:$L$21,2,FALSE))*PI()/180),IF(Checklist!$I$385=\"No\",TAN((LEFT(I492, 5)+VLOOKUP(C492,Main!$K$3:$L$21,2,FALSE))*PI()/180),\"NR\"))","v":"NR"},{"$f":"VLOOKUP(C492,Main!$A$49:$I$67,Main!$B$47,FALSE)","v":"NR"},{"$f":"VLOOKUP(C492,Main!$A$49:$I$67,Main!$C$47,FALSE)","v":"NR"},{"$f":"VLOOKUP(C492,Main!$A$49:$I$67,Main!$E$47,FALSE)&\":\"&\" \"&VLOOKUP(C492,Main!$A$49:$I$67,Main!$F$47,FALSE)","v":"Minimum COP @ 5°F:: 1.75"},{"$f":"VLOOKUP(C492,Main!$A$49:$I$67,Main!$G$47,FALSE)","v":15},{"$f":"VLOOKUP(C492,Main!$A$49:$I$67,Main!$H$47,FALSE)","v":3.1},{"$f":"VLOOKUP(C492,Main!$A$49:$I$67,Main!$I$47,FALSE)","v":16.100000000000001},1946]
["MI","ANN ARBOR MUNICIPAL","5A",6735,1322,15.4,75,0.13250000000000001,"42.223N",4.5,23.2,24.8,35.299999999999997,48,57.8,66.900000000000006,70.599999999999994,69,61.2,49.8,39.5,28.6,833,707,473,138,22,0,0,0,6,111,331,665,1,0,17,78,264,506,638,589,342,106,15,2,14.9,15.62,30.6,37.94,43,58.46,62.06,62.24,52.7,37.9,37.9,26.8,0.8214285714285714,0.1549265801234305,72,41,22,27,{"$f":"IF(OR(C493=\"OA\",C493=\"OB\",C493=\"1B\",C493=\"1A\",C493=\"2A\",C493=\"2B\",C493=\"3A\",C493=\"3B\",C493=\"3C\"),TAN((LEFT(I493, 5)+VLOOKUP(C493,Main!$K$3:$L$21,2,FALSE))*PI()/180),IF(Checklist!$I$385=\"No\",TAN((LEFT(I493, 5)+VLOOKUP(C493,Main!$K$3:$L$21,2,FALSE))*PI()/180),\"NR\"))","v":"NR"},{"$f":"VLOOKUP(C493,Main!$A$49:$I$67,Main!$B$47,FALSE)","v":"NR"},{"$f":"VLOOKUP(C493,Main!$A$49:$I$67,Main!$C$47,FALSE)","v":"NR"},{"$f":"VLOOKUP(C493,Main!$A$49:$I$67,Main!$E$47,FALSE)&\":\"&\" \"&VLOOKUP(C493,Main!$A$49:$I$67,Main!$F$47,FALSE)","v":"Minimum COP @ 5°F:: 1.75"},{"$f":"VLOOKUP(C493,Main!$A$49:$I$67,Main!$G$47,FALSE)","v":15},{"$f":"VLOOKUP(C493,Main!$A$49:$I$67,Main!$H$47,FALSE)","v":3.1},{"$f":"VLOOKUP(C493,Main!$A$49:$I$67,Main!$I$47,FALSE)","v":16.100000000000001},2558]
["MI","BATTLE CREEK KELLOGG AP","5A",6392,1311,15.35,75.900000000000006,0.13250000000000001,"42.308N",7,24,26,36.4,48.9,59.8,68.8,72.5,70.7,63.3,51.4,40.700000000000003,29.3,806,673,452,129,16,0,0,0,2,87,301,644,1,2,31,97,319,563,697,643,402,131,23,3,18,23.18,31.1,40.46,41,57.74,58.28,62.6,54.3,34.200000000000003,34.200000000000003,20.100000000000001,0.81818181818181823,0.16127603012848912,71,40,21,26,{"$f":"IF(OR(C494=\"OA\",C494=\"OB\",C494=\"1B\",C494=\"1A\",C494=\"2A\",C494=\"2B\",C494=\"3A\",C494=\"3B\",C494=\"3C\"),TAN((LEFT(I494, 5)+VLOOKUP(C494,Main!$K$3:$L$21,2,FALSE))*PI()/180),IF(Checklist!$I$385=\"No\",TAN((LEFT(I494, 5)+VLOOKUP(C494,Main!$K$3:$L$21,2,FALSE))*PI()/180),\"NR\"))","v":"NR"},{"$f":"VLOOKUP(C494,Main!$A$49:$I$67,Main!$B$47,FALSE)","v":"NR"},{"$f":"VLOOKUP(C494,Main!$A$49:$I$67,Main!$C$47,FALSE)","v":"NR"},{"$f":"VLOOKUP(C494,Main!$A$49:$I$67,Main!$E$47,FALSE)&\":\"&\" \"&VLOOKUP(C494,Main!$A$49:$I$67,Main!$F$47,FALSE)","v":"Minimum COP @ 5°F:: 1.75"},{"$f":"VLOOKUP(C494,Main!$A$49:$I$67,Main!$G$47,FALSE)","v":15},{"$f":"VLOOKUP(C494,Main!$A$49:$I$67,Main!$H$47,FALSE)","v":3.1},{"$f":"VLOOKUP(C494,Main!$A$49:$I$67,Main!$I$47,FALSE)","v":16.100000000000001},2912]
["MI","BENTON HARBOR/ROSS","5A",6345,1314,15.8,86.9,0.13250000000000001,"42.126N",9.8000000000000007,26.4,28.6,36.5,47.4,57.2,66.5,70.900000000000006,69.099999999999994,62.4,51.9,41.4,31.3,731,603,445,162,32,1,0,0,2,80,285,585,1,2,27,83,256,497,647,592,374,141,26,4,22.5,24.98,32.9,39.74,43.3,57.38,64.22,64.94,52.9,31.1,31.1,14.9,0.80769230769230771,0.16903501439583909,71,40,21,26,{"$f":"IF(OR(C495=\"OA\",C495=\"OB\",C495=\"1B\",C495=\"1A\",C495=\"2A\",C495=\"2B\",C495=\"3A\",C495=\"3B\",C495=\"3C\"),TAN((LEFT(I495, 5)+VLOOKUP(C495,Main!$K$3:$L$21,2,FALSE))*PI()/180),IF(Checklist!$I$385=\"No\",TAN((LEFT(I495, 5)+VLOOKUP(C495,Main!$K$3:$L$21,2,FALSE))*PI()/180),\"NR\"))","v":"NR"},{"$f":"VLOOKUP(C495,Main!$A$49:$I$67,Main!$B$47,FALSE)","v":"NR"},{"$f":"VLOOKUP(C495,Main!$A$49:$I$67,Main!$C$47,FALSE)","v":"NR"},{"$f":"VLOOKUP(C495,Main!$A$49:$I$67,Main!$E$47,FALSE)&\":\"&\" \"&VLOOKUP(C495,Main!$A$49:$I$67,Main!$F$47,FALSE)","v":"Minimum COP @ 5°F:: 1.75"},{"$f":"VLOOKUP(C495,Main!$A$49:$I$67,Main!$G$47,FALSE)","v":15},{"$f":"VLOOKUP(C495,Main!$A$49:$I$67,Main!$H$47,FALSE)","v":3.1},{"$f":"VLOOKUP(C495,Main!$A$49:$I$67,Main!$I$47,FALSE)","v":16.100000000000001},2650]
["MI","CADILLAC WEXFORD CO AP","6A",8004,1302,14.65,81.5,0.13250000000000001,"44.283N",-0.3,19.399999999999999,20.6,29.5,42.1,53.5,63.4,67.2,65.3,57.8,46.6,35.299999999999997,25,949,822,648,272,63,3,0,0,19,172,446,775,0,0,11,35,170,404,532,475,253,68,5,0,12.6,26.42,15.4,28.58,39.200000000000003,54.5,55.76,54.68,53.2,33.799999999999997,33.799999999999997,20.7,0.83539094650205759,0.14403862134462428,76,45,24,29,{"$f":"IF(OR(C496=\"OA\",C496=\"OB\",C496=\"1B\",C496=\"1A\",C496=\"2A\",C496=\"2B\",C496=\"3A\",C496=\"3B\",C496=\"3C\"),TAN((LEFT(I496, 5)+VLOOKUP(C496,Main!$K$3:$L$21,2,FALSE))*PI()/180),IF(Checklist!$I$385=\"No\",TAN((LEFT(I496, 5)+VLOOKUP(C496,Main!$K$3:$L$21,2,FALSE))*PI()/180),\"NR\"))","v":"NR"},{"$f":"VLOOKUP(C496,Main!$A$49:$I$67,Main!$B$47,FALSE)","v":"NR"},{"$f":"VLOOKUP(C496,Main!$A$49:$I$67,Main!$C$47,FALSE)","v":"NR"},{"$f":"VLOOKUP(C496,Main!$A$49:$I$67,Main!$E$47,FALSE)&\":\"&\" \"&VLOOKUP(C496,Main!$A$49:$I$67,Main!$F$47,FALSE)","v":"Minimum COP @ 5°F:: 1.75"},{"$f":"VLOOKUP(C496,Main!$A$49:$I$67,Main!$G$47,FALSE)","v":15},{"$f":"VLOOKUP(C496,Main!$A$49:$I$67,Main!$H$47,FALSE)","v":3.1},{"$f":"VLOOKUP(C496,Main!$A$49:$I$67,Main!$I$47,FALSE)","v":16.100000000000001},1953]
["MI","CHIPPEWA CO INTL","6A",8763,1216,3.6,68.900000000000006,0.13250000000000001,"46.250N",-4.4000000000000004,16.100000000000001,17.2,26,38.700000000000003,51.6,61.1,64.900000000000006,64.2,56.5,45,33.299999999999997,22.1,1052,918,748,351,82,7,0,0,23,203,504,864,0,0,3,13,133,340,462,440,218,47,2,0,4.0999999999999996,14.72,13.6,33.08,36.9,51.44,53.6,50.54,46.8,27.7,27.7,19.600000000000001,0.84585741811175341,0.13588173809168283,79,47,28,33,{"$f":"IF(OR(C497=\"OA\",C497=\"OB\",C497=\"1B\",C497=\"1A\",C497=\"2A\",C497=\"2B\",C497=\"3A\",C497=\"3B\",C497=\"3C\"),TAN((LEFT(I497, 5)+VLOOKUP(C497,Main!$K$3:$L$21,2,FALSE))*PI()/180),IF(Checklist!$I$385=\"No\",TAN((LEFT(I497, 5)+VLOOKUP(C497,Main!$K$3:$L$21,2,FALSE))*PI()/180),\"NR\"))","v":"NR"},{"$f":"VLOOKUP(C497,Main!$A$49:$I$67,Main!$B$47,FALSE)","v":"NR"},{"$f":"VLOOKUP(C497,Main!$A$49:$I$67,Main!$C$47,FALSE)","v":"NR"},{"$f":"VLOOKUP(C497,Main!$A$49:$I$67,Main!$E$47,FALSE)&\":\"&\" \"&VLOOKUP(C497,Main!$A$49:$I$67,Main!$F$47,FALSE)","v":"Minimum COP @ 5°F:: 1.75"},{"$f":"VLOOKUP(C497,Main!$A$49:$I$67,Main!$G$47,FALSE)","v":15},{"$f":"VLOOKUP(C497,Main!$A$49:$I$67,Main!$H$47,FALSE)","v":3.1},{"$f":"VLOOKUP(C497,Main!$A$49:$I$67,Main!$I$47,FALSE)","v":16.100000000000001},1658]
["MI","DETROIT CITY AIRPORT","5A",5977,1304,14.9,82.8,0.13250000000000001,"42.409N",9.6,26.7,28.7,37.200000000000003,49,60,70.2,74.400000000000006,72.7,65,53.5,42,31.8,723,598,422,126,10,0,0,0,1,54,268,569,1,1,24,95,320,606,755,704,452,162,27,3,17.600000000000001,15.44,24.8,29.84,41.5,55.58,60.44,65.48,49.5,36,36,22.3,0.80629539951573848,0.16845612736023693,70,39,20,25,{"$f":"IF(OR(C498=\"OA\",C498=\"OB\",C498=\"1B\",C498=\"1A\",C498=\"2A\",C498=\"2B\",C498=\"3A\",C498=\"3B\",C498=\"3C\"),TAN((LEFT(I498, 5)+VLOOKUP(C498,Main!$K$3:$L$21,2,FALSE))*PI()/180),IF(Checklist!$I$385=\"No\",TAN((LEFT(I498, 5)+VLOOKUP(C498,Main!$K$3:$L$21,2,FALSE))*PI()/180),\"NR\"))","v":"NR"},{"$f":"VLOOKUP(C498,Main!$A$49:$I$67,Main!$B$47,FALSE)","v":"NR"},{"$f":"VLOOKUP(C498,Main!$A$49:$I$67,Main!$C$47,FALSE)","v":"NR"},{"$f":"VLOOKUP(C498,Main!$A$49:$I$67,Main!$E$47,FALSE)&\":\"&\" \"&VLOOKUP(C498,Main!$A$49:$I$67,Main!$F$47,FALSE)","v":"Minimum COP @ 5°F:: 1.75"},{"$f":"VLOOKUP(C498,Main!$A$49:$I$67,Main!$G$47,FALSE)","v":15},{"$f":"VLOOKUP(C498,Main!$A$49:$I$67,Main!$H$47,FALSE)","v":3.1},{"$f":"VLOOKUP(C498,Main!$A$49:$I$67,Main!$I$47,FALSE)","v":16.100000000000001},3150]
["MI","DETROIT METROPOLITAN ARPT","5A",6066,1383,10.65,78.599999999999994,0.13250000000000001,"42.231N",8.1999999999999993,26,28.2,37.299999999999997,49.2,60,69.900000000000006,73.599999999999994,72.099999999999994,64.5,52.9,41.4,31.1,745,612,417,123,10,0,0,0,2,61,283,590,1,1,24,97,320,597,733,686,437,150,24,3,15.8,16.34,25.5,34.159999999999997,45.5,55.76,63.14,61.16,55.2,30.7,30.7,22.6,0.80952380952380953,0.1645123384253819,70,39,20,25,{"$f":"IF(OR(C499=\"OA\",C499=\"OB\",C499=\"1B\",C499=\"1A\",C499=\"2A\",C499=\"2B\",C499=\"3A\",C499=\"3B\",C499=\"3C\"),TAN((LEFT(I499, 5)+VLOOKUP(C499,Main!$K$3:$L$21,2,FALSE))*PI()/180),IF(Checklist!$I$385=\"No\",TAN((LEFT(I499, 5)+VLOOKUP(C499,Main!$K$3:$L$21,2,FALSE))*PI()/180),\"NR\"))","v":"NR"},{"$f":"VLOOKUP(C499,Main!$A$49:$I$67,Main!$B$47,FALSE)","v":"NR"},{"$f":"VLOOKUP(C499,Main!$A$49:$I$67,Main!$C$47,FALSE)","v":"NR"},{"$f":"VLOOKUP(C499,Main!$A$49:$I$67,Main!$E$47,FALSE)&\":\"&\" \"&VLOOKUP(C499,Main!$A$49:$I$67,Main!$F$47,FALSE)","v":"Minimum COP @ 5°F:: 1.75"},{"$f":"VLOOKUP(C499,Main!$A$49:$I$67,Main!$G$47,FALSE)","v":15},{"$f":"VLOOKUP(C499,Main!$A$49:$I$67,Main!$H$47,FALSE)","v":3.1},{"$f":"VLOOKUP(C499,Main!$A$49:$I$67,Main!$I$47,FALSE)","v":16.100000000000001},3073]
["MI","DETROIT WILLOW RUN AP","5A",6342,1358,19.399999999999999,80.8,0.13250000000000001,"42.233N",6.4,24.8,26.7,36.200000000000003,48.3,59.4,69,72.900000000000006,71,63.2,51.9,40.6,30.2,782,653,447,135,14,0,0,0,4,74,304,617,1,0,21,83,305,571,710,652,398,132,21,3,17.2,23.9,19.399999999999999,36.32,49.3,61.16,63.14,59.36,55.9,32.4,32.4,18.3,0.81481481481481488,0.15970515970515969,71,40,21,26,{"$f":"IF(OR(C500=\"OA\",C500=\"OB\",C500=\"1B\",C500=\"1A\",C500=\"2A\",C500=\"2B\",C500=\"3A\",C500=\"3B\",C500=\"3C\"),TAN((LEFT(I500, 5)+VLOOKUP(C500,Main!$K$3:$L$21,2,FALSE))*PI()/180),IF(Checklist!$I$385=\"No\",TAN((LEFT(I500, 5)+VLOOKUP(C500,Main!$K$3:$L$21,2,FALSE))*PI()/180),\"NR\"))","v":"NR"},{"$f":"VLOOKUP(C500,Main!$A$49:$I$67,Main!$B$47,FALSE)","v":"NR"},{"$f":"VLOOKUP(C500,Main!$A$49:$I$67,Main!$C$47,FALSE)","v":"NR"},{"$f":"VLOOKUP(C500,Main!$A$49:$I$67,Main!$E$47,FALSE)&\":\"&\" \"&VLOOKUP(C500,Main!$A$49:$I$67,Main!$F$47,FALSE)","v":"Minimum COP @ 5°F:: 1.75"},{"$f":"VLOOKUP(C500,Main!$A$49:$I$67,Main!$G$47,FALSE)","v":15},{"$f":"VLOOKUP(C500,Main!$A$49:$I$67,Main!$H$47,FALSE)","v":3.1},{"$f":"VLOOKUP(C500,Main!$A$49:$I$67,Main!$I$47,FALSE)","v":16.100000000000001},2897]
["MI","ESCANABA (AWOS)","6A",8468,1292,4.45,69.8,0.13250000000000001,"45.733N",-2.4,17.8,19,27.8,39.200000000000003,50.7,60.8,65.400000000000006,64.5,57,45.7,34.700000000000003,24,997,867,688,330,78,5,0,0,19,180,462,805,0,0,1,7,99,329,477,449,229,47,3,0,14.4,16.88,16.2,30.92,32.4,49.64,56.84,52.7,45.5,27.5,27.5,18.899999999999999,0.84063745019920322,0.13974201474201473,78,47,27,32,{"$f":"IF(OR(C501=\"OA\",C501=\"OB\",C501=\"1B\",C501=\"1A\",C501=\"2A\",C501=\"2B\",C501=\"3A\",C501=\"3B\",C501=\"3C\"),TAN((LEFT(I501, 5)+VLOOKUP(C501,Main!$K$3:$L$21,2,FALSE))*PI()/180),IF(Checklist!$I$385=\"No\",TAN((LEFT(I501, 5)+VLOOKUP(C501,Main!$K$3:$L$21,2,FALSE))*PI()/180),\"NR\"))","v":"NR"},{"$f":"VLOOKUP(C501,Main!$A$49:$I$67,Main!$B$47,FALSE)","v":"NR"},{"$f":"VLOOKUP(C501,Main!$A$49:$I$67,Main!$C$47,FALSE)","v":"NR"},{"$f":"VLOOKUP(C501,Main!$A$49:$I$67,Main!$E$47,FALSE)&\":\"&\" \"&VLOOKUP(C501,Main!$A$49:$I$67,Main!$F$47,FALSE)","v":"Minimum COP @ 5°F:: 1.75"},{"$f":"VLOOKUP(C501,Main!$A$49:$I$67,Main!$G$47,FALSE)","v":15},{"$f":"VLOOKUP(C501,Main!$A$49:$I$67,Main!$H$47,FALSE)","v":3.1},{"$f":"VLOOKUP(C501,Main!$A$49:$I$67,Main!$I$47,FALSE)","v":16.100000000000001},1641]
["MI","FLINT BISHOP INTL ARPT","5A",6692,1362,16.149999999999999,78.099999999999994,0.13250000000000001,"42.967N",4.5,23.7,25.6,34.9,47,58,67.7,71.2,69.599999999999994,61.8,50.7,39.4,29,817,684,491,167,21,0,0,0,6,99,338,653,1,1,23,77,268,533,657,606,361,119,20,2,16,14.36,26.8,33.44,47.1,53.78,60.44,59.9,54.1,27.1,27.1,22.5,0.81941309255079009,0.1549265801234305,72,41,22,27,{"$f":"IF(OR(C502=\"OA\",C502=\"OB\",C502=\"1B\",C502=\"1A\",C502=\"2A\",C502=\"2B\",C502=\"3A\",C502=\"3B\",C502=\"3C\"),TAN((LEFT(I502, 5)+VLOOKUP(C502,Main!$K$3:$L$21,2,FALSE))*PI()/180),IF(Checklist!$I$385=\"No\",TAN((LEFT(I502, 5)+VLOOKUP(C502,Main!$K$3:$L$21,2,FALSE))*PI()/180),\"NR\"))","v":"NR"},{"$f":"VLOOKUP(C502,Main!$A$49:$I$67,Main!$B$47,FALSE)","v":"NR"},{"$f":"VLOOKUP(C502,Main!$A$49:$I$67,Main!$C$47,FALSE)","v":"NR"},{"$f":"VLOOKUP(C502,Main!$A$49:$I$67,Main!$E$47,FALSE)&\":\"&\" \"&VLOOKUP(C502,Main!$A$49:$I$67,Main!$F$47,FALSE)","v":"Minimum COP @ 5°F:: 1.75"},{"$f":"VLOOKUP(C502,Main!$A$49:$I$67,Main!$G$47,FALSE)","v":15},{"$f":"VLOOKUP(C502,Main!$A$49:$I$67,Main!$H$47,FALSE)","v":3.1},{"$f":"VLOOKUP(C502,Main!$A$49:$I$67,Main!$I$47,FALSE)","v":16.100000000000001},2668]
["MI","GRAND RAPIDS KENT COUNTY INT","5A",6544,1388,7,79.900000000000006,0.13250000000000001,"42.883N",7.3,24.5,26.3,35.4,47.4,58.5,68.3,71.900000000000006,70.3,62.4,50.9,39.6,29.7,791,664,477,157,19,0,0,0,5,91,330,632,0,1,23,79,283,548,680,629,378,119,17,2,15.8,16.34,25.3,32.18,47.3,54.5,60.26,60.8,54.9,34.5,34.5,21.4,0.81609195402298851,0.16207311100227079,71,40,21,26,{"$f":"IF(OR(C503=\"OA\",C503=\"OB\",C503=\"1B\",C503=\"1A\",C503=\"2A\",C503=\"2B\",C503=\"3A\",C503=\"3B\",C503=\"3C\"),TAN((LEFT(I503, 5)+VLOOKUP(C503,Main!$K$3:$L$21,2,FALSE))*PI()/180),IF(Checklist!$I$385=\"No\",TAN((LEFT(I503, 5)+VLOOKUP(C503,Main!$K$3:$L$21,2,FALSE))*PI()/180),\"NR\"))","v":"NR"},{"$f":"VLOOKUP(C503,Main!$A$49:$I$67,Main!$B$47,FALSE)","v":"NR"},{"$f":"VLOOKUP(C503,Main!$A$49:$I$67,Main!$C$47,FALSE)","v":"NR"},{"$f":"VLOOKUP(C503,Main!$A$49:$I$67,Main!$E$47,FALSE)&\":\"&\" \"&VLOOKUP(C503,Main!$A$49:$I$67,Main!$F$47,FALSE)","v":"Minimum COP @ 5°F:: 1.75"},{"$f":"VLOOKUP(C503,Main!$A$49:$I$67,Main!$G$47,FALSE)","v":15},{"$f":"VLOOKUP(C503,Main!$A$49:$I$67,Main!$H$47,FALSE)","v":3.1},{"$f":"VLOOKUP(C503,Main!$A$49:$I$67,Main!$I$47,FALSE)","v":16.100000000000001},2759]
["MI","HANCOCK HOUGHTON CO AP","6A",8892,1220,10.85,75.900000000000006,0.13250000000000001,"47.169N",-0.5,16.5,18,25.9,38,50.5,60.2,65.099999999999994,64.599999999999994,56.3,44.4,32.200000000000003,21.8,1038,896,751,377,103,8,0,0,32,220,536,873,0,0,3,16,119,313,467,453,220,45,3,0,5.9,11.12,25,32,34.5,51.98,57.2,57.2,52.5,27.7,27.7,18,0.84466019417475724,0.14361807062536988,79,48,27,32,{"$f":"IF(OR(C504=\"OA\",C504=\"OB\",C504=\"1B\",C504=\"1A\",C504=\"2A\",C504=\"2B\",C504=\"3A\",C504=\"3B\",C504=\"3C\"),TAN((LEFT(I504, 5)+VLOOKUP(C504,Main!$K$3:$L$21,2,FALSE))*PI()/180),IF(Checklist!$I$385=\"No\",TAN((LEFT(I504, 5)+VLOOKUP(C504,Main!$K$3:$L$21,2,FALSE))*PI()/180),\"NR\"))","v":"NR"},{"$f":"VLOOKUP(C504,Main!$A$49:$I$67,Main!$B$47,FALSE)","v":"NR"},{"$f":"VLOOKUP(C504,Main!$A$49:$I$67,Main!$C$47,FALSE)","v":"NR"},{"$f":"VLOOKUP(C504,Main!$A$49:$I$67,Main!$E$47,FALSE)&\":\"&\" \"&VLOOKUP(C504,Main!$A$49:$I$67,Main!$F$47,FALSE)","v":"Minimum COP @ 5°F:: 1.75"},{"$f":"VLOOKUP(C504,Main!$A$49:$I$67,Main!$G$47,FALSE)","v":15},{"$f":"VLOOKUP(C504,Main!$A$49:$I$67,Main!$H$47,FALSE)","v":3.1},{"$f":"VLOOKUP(C504,Main!$A$49:$I$67,Main!$I$47,FALSE)","v":16.100000000000001},1639]
["MI","HOUGHTON LAKE ROSCOMMON CO AR","6A",7860,1303,12.1,74.099999999999994,0.13250000000000001,"44.359N",0,19.5,20.7,30.1,42.8,54.7,64.099999999999994,67.5,65.7,58,46.9,35.700000000000003,25.4,945,822,625,255,47,1,0,0,18,160,434,764,0,0,9,39,191,425,543,487,257,65,5,0,11.3,10.039999999999999,22.8,29.48,43,51.44,59,57.56,50.9,27,27,19.8,0.83505154639175261,0.14467408585055644,76,45,25,30,{"$f":"IF(OR(C505=\"OA\",C505=\"OB\",C505=\"1B\",C505=\"1A\",C505=\"2A\",C505=\"2B\",C505=\"3A\",C505=\"3B\",C505=\"3C\"),TAN((LEFT(I505, 5)+VLOOKUP(C505,Main!$K$3:$L$21,2,FALSE))*PI()/180),IF(Checklist!$I$385=\"No\",TAN((LEFT(I505, 5)+VLOOKUP(C505,Main!$K$3:$L$21,2,FALSE))*PI()/180),\"NR\"))","v":"NR"},{"$f":"VLOOKUP(C505,Main!$A$49:$I$67,Main!$B$47,FALSE)","v":"NR"},{"$f":"VLOOKUP(C505,Main!$A$49:$I$67,Main!$C$47,FALSE)","v":"NR"},{"$f":"VLOOKUP(C505,Main!$A$49:$I$67,Main!$E$47,FALSE)&\":\"&\" \"&VLOOKUP(C505,Main!$A$49:$I$67,Main!$F$47,FALSE)","v":"Minimum COP @ 5°F:: 1.75"},{"$f":"VLOOKUP(C505,Main!$A$49:$I$67,Main!$G$47,FALSE)","v":15},{"$f":"VLOOKUP(C505,Main!$A$49:$I$67,Main!$H$47,FALSE)","v":3.1},{"$f":"VLOOKUP(C505,Main!$A$49:$I$67,Main!$I$47,FALSE)","v":16.100000000000001},2021]
["MI","HOWELL","5A",6473,1363,20.350000000000001,79.7,0.13250000000000001,"42.629N",5.5,24.8,26.5,35.5,47.7,58.4,68.2,71.7,69.8,63,51.4,40.6,29.5,783,659,472,150,19,0,0,0,3,89,306,640,1,1,23,81,279,546,674,615,393,132,23,3,15.4,18.14,30.7,36.5,42.6,60.62,61.52,61.52,54.3,34.9,34.9,24.1,0.81481481481481488,0.1574054054054054,71,40,21,26,{"$f":"IF(OR(C506=\"OA\",C506=\"OB\",C506=\"1B\",C506=\"1A\",C506=\"2A\",C506=\"2B\",C506=\"3A\",C506=\"3B\",C506=\"3C\"),TAN((LEFT(I506, 5)+VLOOKUP(C506,Main!$K$3:$L$21,2,FALSE))*PI()/180),IF(Checklist!$I$385=\"No\",TAN((LEFT(I506, 5)+VLOOKUP(C506,Main!$K$3:$L$21,2,FALSE))*PI()/180),\"NR\"))","v":"NR"},{"$f":"VLOOKUP(C506,Main!$A$49:$I$67,Main!$B$47,FALSE)","v":"NR"},{"$f":"VLOOKUP(C506,Main!$A$49:$I$67,Main!$C$47,FALSE)","v":"NR"},{"$f":"VLOOKUP(C506,Main!$A$49:$I$67,Main!$E$47,FALSE)&\":\"&\" \"&VLOOKUP(C506,Main!$A$49:$I$67,Main!$F$47,FALSE)","v":"Minimum COP @ 5°F:: 1.75"},{"$f":"VLOOKUP(C506,Main!$A$49:$I$67,Main!$G$47,FALSE)","v":15},{"$f":"VLOOKUP(C506,Main!$A$49:$I$67,Main!$H$47,FALSE)","v":3.1},{"$f":"VLOOKUP(C506,Main!$A$49:$I$67,Main!$I$47,FALSE)","v":16.100000000000001},2771]
["MI","IRON MOUNTAIN/FORD","6A",8589,1248,6.6,76.3,0.13250000000000001,"45.818N",-6.5,15.3,18,27.9,41,53.1,63.1,67.5,65.400000000000006,57.4,45,32.5,20.3,1077,896,693,294,65,3,0,0,22,209,528,922,0,0,7,24,161,396,543,477,245,55,3,0,5.5,16.16,24.3,33.979999999999997,37.4,56.3,58.46,59.18,53.8,27.5,27.5,5.5,0.8481973434535105,0.13205151460185016,79,47,26,31,{"$f":"IF(OR(C507=\"OA\",C507=\"OB\",C507=\"1B\",C507=\"1A\",C507=\"2A\",C507=\"2B\",C507=\"3A\",C507=\"3B\",C507=\"3C\"),TAN((LEFT(I507, 5)+VLOOKUP(C507,Main!$K$3:$L$21,2,FALSE))*PI()/180),IF(Checklist!$I$385=\"No\",TAN((LEFT(I507, 5)+VLOOKUP(C507,Main!$K$3:$L$21,2,FALSE))*PI()/180),\"NR\"))","v":"NR"},{"$f":"VLOOKUP(C507,Main!$A$49:$I$67,Main!$B$47,FALSE)","v":"NR"},{"$f":"VLOOKUP(C507,Main!$A$49:$I$67,Main!$C$47,FALSE)","v":"NR"},{"$f":"VLOOKUP(C507,Main!$A$49:$I$67,Main!$E$47,FALSE)&\":\"&\" \"&VLOOKUP(C507,Main!$A$49:$I$67,Main!$F$47,FALSE)","v":"Minimum COP @ 5°F:: 1.75"},{"$f":"VLOOKUP(C507,Main!$A$49:$I$67,Main!$G$47,FALSE)","v":15},{"$f":"VLOOKUP(C507,Main!$A$49:$I$67,Main!$H$47,FALSE)","v":3.1},{"$f":"VLOOKUP(C507,Main!$A$49:$I$67,Main!$I$47,FALSE)","v":16.100000000000001},1911]
["MI","IRONWOOD (AWOS)","6A",8959,1316,5.7,75.2,0.13250000000000001,"46.533N",-8.4,14.1,17,26.9,39.6,52,61.4,65.7,63.6,56.1,44.8,31.8,19.7,1112,925,724,339,85,8,0,1,39,224,550,938,0,0,7,27,148,349,487,423,221,64,4,0,-0.6,14.18,11.5,27.5,37,48.2,57.56,54.86,49.3,25.9,25.9,13.1,0.85157699443413726,0.12876751096646383,80,48,27,32,{"$f":"IF(OR(C508=\"OA\",C508=\"OB\",C508=\"1B\",C508=\"1A\",C508=\"2A\",C508=\"2B\",C508=\"3A\",C508=\"3B\",C508=\"3C\"),TAN((LEFT(I508, 5)+VLOOKUP(C508,Main!$K$3:$L$21,2,FALSE))*PI()/180),IF(Checklist!$I$385=\"No\",TAN((LEFT(I508, 5)+VLOOKUP(C508,Main!$K$3:$L$21,2,FALSE))*PI()/180),\"NR\"))","v":"NR"},{"$f":"VLOOKUP(C508,Main!$A$49:$I$67,Main!$B$47,FALSE)","v":"NR"},{"$f":"VLOOKUP(C508,Main!$A$49:$I$67,Main!$C$47,FALSE)","v":"NR"},{"$f":"VLOOKUP(C508,Main!$A$49:$I$67,Main!$E$47,FALSE)&\":\"&\" \"&VLOOKUP(C508,Main!$A$49:$I$67,Main!$F$47,FALSE)","v":"Minimum COP @ 5°F:: 1.75"},{"$f":"VLOOKUP(C508,Main!$A$49:$I$67,Main!$G$47,FALSE)","v":15},{"$f":"VLOOKUP(C508,Main!$A$49:$I$67,Main!$H$47,FALSE)","v":3.1},{"$f":"VLOOKUP(C508,Main!$A$49:$I$67,Main!$I$47,FALSE)","v":16.100000000000001},1730]
["MI","JACKSON REYNOLDS FIELD","5A",6596,1285,14.25,76.8,0.13250000000000001,"42.267N",5.4,24.2,26.3,35.5,47.7,58.1,67.5,70.900000000000006,69.3,61.7,50.7,39.6,29.2,800,663,472,155,20,0,0,0,6,97,334,647,1,1,22,85,273,527,648,597,358,120,21,3,21.9,12.38,30.4,37.76,50.9,57.38,62.42,62.24,53.1,33.4,33.4,18,0.81735159817351599,0.15715395907089197,72,41,22,27,{"$f":"IF(OR(C509=\"OA\",C509=\"OB\",C509=\"1B\",C509=\"1A\",C509=\"2A\",C509=\"2B\",C509=\"3A\",C509=\"3B\",C509=\"3C\"),TAN((LEFT(I509, 5)+VLOOKUP(C509,Main!$K$3:$L$21,2,FALSE))*PI()/180),IF(Checklist!$I$385=\"No\",TAN((LEFT(I509, 5)+VLOOKUP(C509,Main!$K$3:$L$21,2,FALSE))*PI()/180),\"NR\"))","v":"NR"},{"$f":"VLOOKUP(C509,Main!$A$49:$I$67,Main!$B$47,FALSE)","v":"NR"},{"$f":"VLOOKUP(C509,Main!$A$49:$I$67,Main!$C$47,FALSE)","v":"NR"},{"$f":"VLOOKUP(C509,Main!$A$49:$I$67,Main!$E$47,FALSE)&\":\"&\" \"&VLOOKUP(C509,Main!$A$49:$I$67,Main!$F$47,FALSE)","v":"Minimum COP @ 5°F:: 1.75"},{"$f":"VLOOKUP(C509,Main!$A$49:$I$67,Main!$G$47,FALSE)","v":15},{"$f":"VLOOKUP(C509,Main!$A$49:$I$67,Main!$H$47,FALSE)","v":3.1},{"$f":"VLOOKUP(C509,Main!$A$49:$I$67,Main!$I$47,FALSE)","v":16.100000000000001},2656]
["MI","KALAMAZOO BATTLE CR","5A",6288,1289,17.149999999999999,76.5,0.13250000000000001,"42.235N",7.4,24.6,27,36.700000000000003,49.3,59.9,69.099999999999994,72.7,70.900000000000006,63.4,51.7,41,29.7,787,646,443,120,15,0,0,0,2,82,294,631,0,2,30,101,320,572,703,647,404,133,24,3,18,16.7,32.9,37.76,43.2,55.94,61.16,62.24,54.7,38.1,38.1,20.8,0.81566820276497698,0.16234055838016231,71,40,21,26,{"$f":"IF(OR(C510=\"OA\",C510=\"OB\",C510=\"1B\",C510=\"1A\",C510=\"2A\",C510=\"2B\",C510=\"3A\",C510=\"3B\",C510=\"3C\"),TAN((LEFT(I510, 5)+VLOOKUP(C510,Main!$K$3:$L$21,2,FALSE))*PI()/180),IF(Checklist!$I$385=\"No\",TAN((LEFT(I510, 5)+VLOOKUP(C510,Main!$K$3:$L$21,2,FALSE))*PI()/180),\"NR\"))","v":"NR"},{"$f":"VLOOKUP(C510,Main!$A$49:$I$67,Main!$B$47,FALSE)","v":"NR"},{"$f":"VLOOKUP(C510,Main!$A$49:$I$67,Main!$C$47,FALSE)","v":"NR"},{"$f":"VLOOKUP(C510,Main!$A$49:$I$67,Main!$E$47,FALSE)&\":\"&\" \"&VLOOKUP(C510,Main!$A$49:$I$67,Main!$F$47,FALSE)","v":"Minimum COP @ 5°F:: 1.75"},{"$f":"VLOOKUP(C510,Main!$A$49:$I$67,Main!$G$47,FALSE)","v":15},{"$f":"VLOOKUP(C510,Main!$A$49:$I$67,Main!$H$47,FALSE)","v":3.1},{"$f":"VLOOKUP(C510,Main!$A$49:$I$67,Main!$I$47,FALSE)","v":16.100000000000001},2939]
["MI","LANSING CAPITAL CITY ARPT","5A",6774,1367,6.45,79.2,0.13250000000000001,"42.780N",4.7,23.5,25.5,34.799999999999997,46.8,57.6,67.400000000000006,70.8,69.2,61.5,50.2,39.1,28.7,822,688,494,173,23,0,0,0,7,105,347,661,1,1,22,76,258,522,644,594,351,112,19,2,14.9,15.8,27.7,32.9,47.5,55.58,61.88,59.9,54.3,33.1,33.1,21.7,0.8202247191011236,0.1554160795866957,72,41,22,27,{"$f":"IF(OR(C511=\"OA\",C511=\"OB\",C511=\"1B\",C511=\"1A\",C511=\"2A\",C511=\"2B\",C511=\"3A\",C511=\"3B\",C511=\"3C\"),TAN((LEFT(I511, 5)+VLOOKUP(C511,Main!$K$3:$L$21,2,FALSE))*PI()/180),IF(Checklist!$I$385=\"No\",TAN((LEFT(I511, 5)+VLOOKUP(C511,Main!$K$3:$L$21,2,FALSE))*PI()/180),\"NR\"))","v":"NR"},{"$f":"VLOOKUP(C511,Main!$A$49:$I$67,Main!$B$47,FALSE)","v":"NR"},{"$f":"VLOOKUP(C511,Main!$A$49:$I$67,Main!$C$47,FALSE)","v":"NR"},{"$f":"VLOOKUP(C511,Main!$A$49:$I$67,Main!$E$47,FALSE)&\":\"&\" \"&VLOOKUP(C511,Main!$A$49:$I$67,Main!$F$47,FALSE)","v":"Minimum COP @ 5°F:: 1.75"},{"$f":"VLOOKUP(C511,Main!$A$49:$I$67,Main!$G$47,FALSE)","v":15},{"$f":"VLOOKUP(C511,Main!$A$49:$I$67,Main!$H$47,FALSE)","v":3.1},{"$f":"VLOOKUP(C511,Main!$A$49:$I$67,Main!$I$47,FALSE)","v":16.100000000000001},2602]
["MI","MANISTEE (AWOS)","5A",7421,1327,11.75,77.7,0.13250000000000001,"44.267N",7.1,23.8,24.6,31.7,43,53.7,62.8,66.8,65.8,58.5,47.9,37.4,28.7,812,713,580,248,56,4,0,0,13,139,386,661,0,0,13,39,171,389,520,488,268,73,8,0,16.2,21.38,20.7,36.14,40.799999999999997,58.64,62.42,61.7,50.4,31.5,31.5,14.9,0.8190045248868778,0.1615408511960236,74,43,24,29,{"$f":"IF(OR(C512=\"OA\",C512=\"OB\",C512=\"1B\",C512=\"1A\",C512=\"2A\",C512=\"2B\",C512=\"3A\",C512=\"3B\",C512=\"3C\"),TAN((LEFT(I512, 5)+VLOOKUP(C512,Main!$K$3:$L$21,2,FALSE))*PI()/180),IF(Checklist!$I$385=\"No\",TAN((LEFT(I512, 5)+VLOOKUP(C512,Main!$K$3:$L$21,2,FALSE))*PI()/180),\"NR\"))","v":"NR"},{"$f":"VLOOKUP(C512,Main!$A$49:$I$67,Main!$B$47,FALSE)","v":"NR"},{"$f":"VLOOKUP(C512,Main!$A$49:$I$67,Main!$C$47,FALSE)","v":"NR"},{"$f":"VLOOKUP(C512,Main!$A$49:$I$67,Main!$E$47,FALSE)&\":\"&\" \"&VLOOKUP(C512,Main!$A$49:$I$67,Main!$F$47,FALSE)","v":"Minimum COP @ 5°F:: 1.75"},{"$f":"VLOOKUP(C512,Main!$A$49:$I$67,Main!$G$47,FALSE)","v":15},{"$f":"VLOOKUP(C512,Main!$A$49:$I$67,Main!$H$47,FALSE)","v":3.1},{"$f":"VLOOKUP(C512,Main!$A$49:$I$67,Main!$I$47,FALSE)","v":16.100000000000001},1969]
["MI","MENOMINEE (AWOS)","6A",7987,1248,3.5,75.7,0.13250000000000001,"45.117N",-2,17.899999999999999,21,29.8,41.3,53.3,63.6,68.2,66.7,58.8,47.6,35.5,23.9,997,812,631,280,51,1,0,0,13,149,439,811,0,0,6,20,153,410,565,517,277,73,6,0,8.1,12.92,17.8,35.96,36.9,51.8,56.12,52.34,51.4,27.7,27.7,16.899999999999999,0.84031936127744511,0.14054054054054055,76,45,25,30,{"$f":"IF(OR(C513=\"OA\",C513=\"OB\",C513=\"1B\",C513=\"1A\",C513=\"2A\",C513=\"2B\",C513=\"3A\",C513=\"3B\",C513=\"3C\"),TAN((LEFT(I513, 5)+VLOOKUP(C513,Main!$K$3:$L$21,2,FALSE))*PI()/180),IF(Checklist!$I$385=\"No\",TAN((LEFT(I513, 5)+VLOOKUP(C513,Main!$K$3:$L$21,2,FALSE))*PI()/180),\"NR\"))","v":"NR"},{"$f":"VLOOKUP(C513,Main!$A$49:$I$67,Main!$B$47,FALSE)","v":"NR"},{"$f":"VLOOKUP(C513,Main!$A$49:$I$67,Main!$C$47,FALSE)","v":"NR"},{"$f":"VLOOKUP(C513,Main!$A$49:$I$67,Main!$E$47,FALSE)&\":\"&\" \"&VLOOKUP(C513,Main!$A$49:$I$67,Main!$F$47,FALSE)","v":"Minimum COP @ 5°F:: 1.75"},{"$f":"VLOOKUP(C513,Main!$A$49:$I$67,Main!$G$47,FALSE)","v":15},{"$f":"VLOOKUP(C513,Main!$A$49:$I$67,Main!$H$47,FALSE)","v":3.1},{"$f":"VLOOKUP(C513,Main!$A$49:$I$67,Main!$I$47,FALSE)","v":16.100000000000001},2027]
["MI","MOUNT CLEMENS SELFRIDGE FLD","5A",6413,1268,24.25,81,0.13250000000000001,"42.608N",6.8,25.1,28.1,35,46.9,57.8,68,72,70.5,63.1,51.9,40.5,30.7,772,613,479,164,17,0,0,0,5,72,305,600,1,0,15,71,260,541,681,634,398,132,19,3,30.2,30.56,31.5,31.64,42.6,54.86,56.84,58.82,49.6,33.299999999999997,33.299999999999997,29.7,0.81351981351981351,0.16074898427839601,71,40,21,26,{"$f":"IF(OR(C514=\"OA\",C514=\"OB\",C514=\"1B\",C514=\"1A\",C514=\"2A\",C514=\"2B\",C514=\"3A\",C514=\"3B\",C514=\"3C\"),TAN((LEFT(I514, 5)+VLOOKUP(C514,Main!$K$3:$L$21,2,FALSE))*PI()/180),IF(Checklist!$I$385=\"No\",TAN((LEFT(I514, 5)+VLOOKUP(C514,Main!$K$3:$L$21,2,FALSE))*PI()/180),\"NR\"))","v":"NR"},{"$f":"VLOOKUP(C514,Main!$A$49:$I$67,Main!$B$47,FALSE)","v":"NR"},{"$f":"VLOOKUP(C514,Main!$A$49:$I$67,Main!$C$47,FALSE)","v":"NR"},{"$f":"VLOOKUP(C514,Main!$A$49:$I$67,Main!$E$47,FALSE)&\":\"&\" \"&VLOOKUP(C514,Main!$A$49:$I$67,Main!$F$47,FALSE)","v":"Minimum COP @ 5°F:: 1.75"},{"$f":"VLOOKUP(C514,Main!$A$49:$I$67,Main!$G$47,FALSE)","v":15},{"$f":"VLOOKUP(C514,Main!$A$49:$I$67,Main!$H$47,FALSE)","v":3.1},{"$f":"VLOOKUP(C514,Main!$A$49:$I$67,Main!$I$47,FALSE)","v":16.100000000000001},2755]
["MI","MUSKEGON COUNTY ARPT","5A",6565,1397,17.5,77,0.13250000000000001,"43.171N",9.4,25.8,26.9,34.9,46.1,56.8,66.3,70.599999999999994,69.5,61.9,50.8,40,30.7,751,646,486,177,28,0,0,0,4,87,314,599,0,1,18,60,240,490,638,604,361,113,15,1,18,15.26,25,31.28,44.4,54.68,61.52,62.24,53.2,30.2,30.2,22.6,0.81042654028436023,{"$f":"IF(ISBLANK($J515),\"-\",IF((14.7-(0.742*10))/(0.74*(68-$J515))<0,0.5,MIN((14.7-(0.742*10))/(0.74*(68-$J515)),0.5)))","v":0.16788119177197675},71,41,22,27,{"$f":"IF(OR(C515=\"OA\",C515=\"OB\",C515=\"1B\",C515=\"1A\",C515=\"2A\",C515=\"2B\",C515=\"3A\",C515=\"3B\",C515=\"3C\"),TAN((LEFT(I515, 5)+VLOOKUP(C515,Main!$K$3:$L$21,2,FALSE))*PI()/180),IF(Checklist!$I$385=\"No\",TAN((LEFT(I515, 5)+VLOOKUP(C515,Main!$K$3:$L$21,2,FALSE))*PI()/180),\"NR\"))","v":"NR"},{"$f":"VLOOKUP(C515,Main!$A$49:$I$67,Main!$B$47,FALSE)","v":"NR"},{"$f":"VLOOKUP(C515,Main!$A$49:$I$67,Main!$C$47,FALSE)","v":"NR"},{"$f":"VLOOKUP(C515,Main!$A$49:$I$67,Main!$E$47,FALSE)&\":\"&\" \"&VLOOKUP(C515,Main!$A$49:$I$67,Main!$F$47,FALSE)","v":"Minimum COP @ 5°F:: 1.75"},{"$f":"VLOOKUP(C515,Main!$A$49:$I$67,Main!$G$47,FALSE)","v":15},{"$f":"VLOOKUP(C515,Main!$A$49:$I$67,Main!$H$47,FALSE)","v":3.1},{"$f":"VLOOKUP(C515,Main!$A$49:$I$67,Main!$I$47,FALSE)","v":16.100000000000001},2541]
["MI","OAKLAND CO INTL","5A",6632,1240,22.9,80.599999999999994,0.13250000000000001,"42.665N",5.4,24.1,25.9,34.700000000000003,47.3,58.1,68.099999999999994,72,70.3,62.5,51.1,39.200000000000003,28.8,804,675,493,159,20,0,0,0,5,87,339,660,1,0,20,77,272,543,681,629,379,120,15,2,20.5,12.92,30.6,39.380000000000003,45.9,61.34,61.7,60.44,55.2,37.200000000000003,37.200000000000003,24.8,{"$f":"IF(MIN(K516:V516)>60,\"NR\",IF((60-MIN(K516:V516))/(68-MIN(K516:V516))<0.5,\"NR\",MAX(0.6,(60-MIN(K516:V516))/(68-MIN(K516:V516)))))","v":0.8177676537585421},0.15715395907089197,72,41,22,27,{"$f":"IF(OR(C516=\"OA\",C516=\"OB\",C516=\"1B\",C516=\"1A\",C516=\"2A\",C516=\"2B\",C516=\"3A\",C516=\"3B\",C516=\"3C\"),TAN((LEFT(I516, 5)+VLOOKUP(C516,Main!$K$3:$L$21,2,FALSE))*PI()/180),IF(Checklist!$I$385=\"No\",TAN((LEFT(I516, 5)+VLOOKUP(C516,Main!$K$3:$L$21,2,FALSE))*PI()/180),\"NR\"))","v":"NR"},{"$f":"VLOOKUP(C516,Main!$A$49:$I$67,Main!$B$47,FALSE)","v":"NR"},{"$f":"VLOOKUP(C516,Main!$A$49:$I$67,Main!$C$47,FALSE)","v":"NR"},{"$f":"VLOOKUP(C516,Main!$A$49:$I$67,Main!$E$47,FALSE)&\":\"&\" \"&VLOOKUP(C516,Main!$A$49:$I$67,Main!$F$47,FALSE)","v":"Minimum COP @ 5°F:: 1.75"},{"$f":"VLOOKUP(C516,Main!$A$49:$I$67,Main!$G$47,FALSE)","v":15},{"$f":"VLOOKUP(C516,Main!$A$49:$I$67,Main!$H$47,FALSE)","v":3.1},{"$f":"VLOOKUP(C516,Main!$A$49:$I$67,Main!$I$47,FALSE)","v":16.100000000000001},2739]
["MI","OSCODA WURTSMITH AFB","6A",7533,1311,14.1,80.099999999999994,0.13250000000000001,"44.450N",2.5,21.9,23.1,31,42.4,53.5,63.8,68.400000000000006,67.2,59.8,48.4,37.700000000000003,26.9,873,752,597,267,59,1,0,0,11,133,375,717,0,0,8,40,168,414,571,533,304,83,7,1,22.6,14,26.1,35.42,39.4,54.14,60.62,55.76,51.4,30,30,18.5,0.82646420824295008,0.15019599752424179,75,44,24,29,{"$f":"IF(OR(C517=\"OA\",C517=\"OB\",C517=\"1B\",C517=\"1A\",C517=\"2A\",C517=\"2B\",C517=\"3A\",C517=\"3B\",C517=\"3C\"),TAN((LEFT(I517, 5)+VLOOKUP(C517,Main!$K$3:$L$21,2,FALSE))*PI()/180),IF(Checklist!$I$385=\"No\",TAN((LEFT(I517, 5)+VLOOKUP(C517,Main!$K$3:$L$21,2,FALSE))*PI()/180),\"NR\"))","v":"NR"},{"$f":"VLOOKUP(C517,Main!$A$49:$I$67,Main!$B$47,FALSE)","v":"NR"},{"$f":"VLOOKUP(C517,Main!$A$49:$I$67,Main!$C$47,FALSE)","v":"NR"},{"$f":"VLOOKUP(C517,Main!$A$49:$I$67,Main!$E$47,FALSE)&\":\"&\" \"&VLOOKUP(C517,Main!$A$49:$I$67,Main!$F$47,FALSE)","v":"Minimum COP @ 5°F:: 1.75"},{"$f":"VLOOKUP(C517,Main!$A$49:$I$67,Main!$G$47,FALSE)","v":15},{"$f":"VLOOKUP(C517,Main!$A$49:$I$67,Main!$H$47,FALSE)","v":3.1},{"$f":"VLOOKUP(C517,Main!$A$49:$I$67,Main!$I$47,FALSE)","v":16.100000000000001},2129]
["MI","PELLSTON EMMET COUNTY AP","6A",8226,1271,18.3,79.5,0.13250000000000001,"45.564N",-3.8,18.600000000000001,19,27.7,40.700000000000003,52.8,62.6,66.3,65,57.2,46.2,35.700000000000003,25.3,973,868,696,306,64,3,0,0,22,179,433,767,0,0,5,28,151,382,504,465,237,61,5,0,18.5,18.68,27.9,33.979999999999997,43.2,53.06,59.9,57.56,52.9,29.8,29.8,19.2,0.83805668016194335,0.13701724008130692,{"$f":"ROUNDDOWN((33.97238548+(2.143484655*3.14219615)+(0.00253108806*D518)+(-0.2767683543*J518)+(66.9384076*H518)+((3.14219615-3.14219615)^2*-1.607593659)+((J518-12.48681818)*(H518-0.2016890909)*-1.8168457)+8.4234),0)","v":77},{"$f":"ROUNDDOWN((2.975122788+(0.003896731237*D518)+(59.88697433*H518)+((D518-5520.854545)*(H518-0.2016890909)*0.01119327314)+5.3792),0)","v":46},25,{"$f":"ROUNDDOWN(BK518+5.9089,0)","v":30},{"$f":"IF(OR(C518=\"OA\",C518=\"OB\",C518=\"1B\",C518=\"1A\",C518=\"2A\",C518=\"2B\",C518=\"3A\",C518=\"3B\",C518=\"3C\"),TAN((LEFT(I518, 5)+VLOOKUP(C518,Main!$K$3:$L$21,2,FALSE))*PI()/180),IF(Checklist!$I$385=\"No\",TAN((LEFT(I518, 5)+VLOOKUP(C518,Main!$K$3:$L$21,2,FALSE))*PI()/180),\"NR\"))","v":"NR"},{"$f":"VLOOKUP(C518,Main!$A$49:$I$67,Main!$B$47,FALSE)","v":"NR"},{"$f":"VLOOKUP(C518,Main!$A$49:$I$67,Main!$C$47,FALSE)","v":"NR"},{"$f":"VLOOKUP(C518,Main!$A$49:$I$67,Main!$E$47,FALSE)&\":\"&\" \"&VLOOKUP(C518,Main!$A$49:$I$67,Main!$F$47,FALSE)","v":"Minimum COP @ 5°F:: 1.75"},{"$f":"VLOOKUP(C518,Main!$A$49:$I$67,Main!$G$47,FALSE)","v":15},{"$f":"VLOOKUP(C518,Main!$A$49:$I$67,Main!$H$47,FALSE)","v":3.1},{"$f":"VLOOKUP(C518,Main!$A$49:$I$67,Main!$I$47,FALSE)","v":16.100000000000001},1838]
["MI","SAGINAW TRI CITY INTL AP","5A",6854,1344,14.55,75.2,0.13250000000000001,"43.533N",4.7,23,24.6,33.799999999999997,46,57.7,67.900000000000006,71.099999999999994,69.099999999999994,61.6,50.5,38.700000000000003,28.4,838,713,518,182,22,0,0,0,6,99,351,670,0,0,16,64,260,536,654,593,354,113,14,1,9.6999999999999993,11.12,30.4,32.9,41.9,53.78,57.56,66.02,51.4,33.1,33.1,22.1,0.82222222222222219,0.1554160795866957,73,41,22,27,{"$f":"IF(OR(C519=\"OA\",C519=\"OB\",C519=\"1B\",C519=\"1A\",C519=\"2A\",C519=\"2B\",C519=\"3A\",C519=\"3B\",C519=\"3C\"),TAN((LEFT(I519, 5)+VLOOKUP(C519,Main!$K$3:$L$21,2,FALSE))*PI()/180),IF(Checklist!$I$385=\"No\",TAN((LEFT(I519, 5)+VLOOKUP(C519,Main!$K$3:$L$21,2,FALSE))*PI()/180),\"NR\"))","v":"NR"},{"$f":"VLOOKUP(C519,Main!$A$49:$I$67,Main!$B$47,FALSE)","v":"NR"},{"$f":"VLOOKUP(C519,Main!$A$49:$I$67,Main!$C$47,FALSE)","v":"NR"},{"$f":"VLOOKUP(C519,Main!$A$49:$I$67,Main!$E$47,FALSE)&\":\"&\" \"&VLOOKUP(C519,Main!$A$49:$I$67,Main!$F$47,FALSE)","v":"Minimum COP @ 5°F:: 1.75"},{"$f":"VLOOKUP(C519,Main!$A$49:$I$67,Main!$G$47,FALSE)","v":15},{"$f":"VLOOKUP(C519,Main!$A$49:$I$67,Main!$H$47,FALSE)","v":3.1},{"$f":"VLOOKUP(C519,Main!$A$49:$I$67,Main!$I$47,FALSE)","v":16.100000000000001},2605]
["MI","SAULT STE MARIE SANDERSON FIE","6A",8658,1335,2.2000000000000002,72.5,0.13250000000000001,"46.479N",-4.5,15.7,17.600000000000001,26.4,39.1,51.3,60.5,64.900000000000006,64.599999999999994,57.1,45.6,34.1,23,1064,907,735,342,81,5,0,0,20,181,479,837,0,0,2,14,121,321,462,454,233,46,2,0,4.5999999999999996,8.6,18.7,26.42,41.7,51.08,55.22,56.12,49.1,29.7,29.7,14.5,0.84703632887189295,0.13569431500465981,79,47,27,32,{"$f":"IF(OR(C520=\"OA\",C520=\"OB\",C520=\"1B\",C520=\"1A\",C520=\"2A\",C520=\"2B\",C520=\"3A\",C520=\"3B\",C520=\"3C\"),TAN((LEFT(I520, 5)+VLOOKUP(C520,Main!$K$3:$L$21,2,FALSE))*PI()/180),IF(Checklist!$I$385=\"No\",TAN((LEFT(I520, 5)+VLOOKUP(C520,Main!$K$3:$L$21,2,FALSE))*PI()/180),\"NR\"))","v":"NR"},{"$f":"VLOOKUP(C520,Main!$A$49:$I$67,Main!$B$47,FALSE)","v":"NR"},{"$f":"VLOOKUP(C520,Main!$A$49:$I$67,Main!$C$47,FALSE)","v":"NR"},{"$f":"VLOOKUP(C520,Main!$A$49:$I$67,Main!$E$47,FALSE)&\":\"&\" \"&VLOOKUP(C520,Main!$A$49:$I$67,Main!$F$47,FALSE)","v":"Minimum COP @ 5°F:: 1.75"},{"$f":"VLOOKUP(C520,Main!$A$49:$I$67,Main!$G$47,FALSE)","v":15},{"$f":"VLOOKUP(C520,Main!$A$49:$I$67,Main!$H$47,FALSE)","v":3.1},{"$f":"VLOOKUP(C520,Main!$A$49:$I$67,Main!$I$47,FALSE)","v":16.100000000000001},1655]
["MI","ST.CLAIR COUNTY INT","5A",6800,1325,18.850000000000001,79.7,0.13250000000000001,"42.911N",5,24.7,25.6,34.299999999999997,45.5,56.4,65.599999999999994,69.599999999999994,67.8,61,50.4,39.700000000000003,29.6,786,683,502,190,29,1,0,0,5,98,325,634,1,0,15,55,227,467,606,551,336,110,16,2,14.7,21.2,30.9,34.880000000000003,49.6,60.62,60.8,62.06,54.3,34.9,34.9,23.5,0.81524249422632789,0.15615615615615616,72,41,{"$f":"ROUNDDOWN(-18.64576148+(5.900367721*3.14219615)+(0.002662134083*D521)+(38.92365332*H521)+((BT521-3890.577273)*(G521-78.59)*0.00005765875867)+((D521-5520.854545)*(H521-0.2016890909)*0.006047043516),0)","v":22},27,{"$f":"IF(OR(C521=\"OA\",C521=\"OB\",C521=\"1B\",C521=\"1A\",C521=\"2A\",C521=\"2B\",C521=\"3A\",C521=\"3B\",C521=\"3C\"),TAN((LEFT(I521, 5)+VLOOKUP(C521,Main!$K$3:$L$21,2,FALSE))*PI()/180),IF(Checklist!$I$385=\"No\",TAN((LEFT(I521, 5)+VLOOKUP(C521,Main!$K$3:$L$21,2,FALSE))*PI()/180),\"NR\"))","v":"NR"},{"$f":"VLOOKUP(C521,Main!$A$49:$I$67,Main!$B$47,FALSE)","v":"NR"},{"$f":"VLOOKUP(C521,Main!$A$49:$I$67,Main!$C$47,FALSE)","v":"NR"},{"$f":"VLOOKUP(C521,Main!$A$49:$I$67,Main!$E$47,FALSE)&\":\"&\" \"&VLOOKUP(C521,Main!$A$49:$I$67,Main!$F$47,FALSE)","v":"Minimum COP @ 5°F:: 1.75"},{"$f":"VLOOKUP(C521,Main!$A$49:$I$67,Main!$G$47,FALSE)","v":15},{"$f":"VLOOKUP(C521,Main!$A$49:$I$67,Main!$H$47,FALSE)","v":3.1},{"$f":"VLOOKUP(C521,Main!$A$49:$I$67,Main!$I$47,FALSE)","v":16.100000000000001},2386]
["MI","TRAVERSE CITY CHERRY CAPITAL","6A",7225,1329,12,76.8,0.13250000000000001,"44.741N",5.5,23,23.6,32,43.5,54.7,65.3,69.5,68.400000000000006,60.7,49.4,38.200000000000003,28.4,837,739,572,243,48,1,0,0,6,116,366,670,0,0,14,47,194,459,606,570,328,98,11,1,14.5,15.62,20.8,28.58,41.9,51.62,59.72,55.76,50.5,30,30,17.8,0.82222222222222219,0.1574054054054054,73,43,23,28,{"$f":"IF(OR(C522=\"OA\",C522=\"OB\",C522=\"1B\",C522=\"1A\",C522=\"2A\",C522=\"2B\",C522=\"3A\",C522=\"3B\",C522=\"3C\"),TAN((LEFT(I522, 5)+VLOOKUP(C522,Main!$K$3:$L$21,2,FALSE))*PI()/180),IF(Checklist!$I$385=\"No\",TAN((LEFT(I522, 5)+VLOOKUP(C522,Main!$K$3:$L$21,2,FALSE))*PI()/180),\"NR\"))","v":"NR"},{"$f":"VLOOKUP(C522,Main!$A$49:$I$67,Main!$B$47,FALSE)","v":"NR"},{"$f":"VLOOKUP(C522,Main!$A$49:$I$67,Main!$C$47,FALSE)","v":"NR"},{"$f":"VLOOKUP(C522,Main!$A$49:$I$67,Main!$E$47,FALSE)&\":\"&\" \"&VLOOKUP(C522,Main!$A$49:$I$67,Main!$F$47,FALSE)","v":"Minimum COP @ 5°F:: 1.75"},{"$f":"VLOOKUP(C522,Main!$A$49:$I$67,Main!$G$47,FALSE)","v":15},{"$f":"VLOOKUP(C522,Main!$A$49:$I$67,Main!$H$47,FALSE)","v":3.1},{"$f":"VLOOKUP(C522,Main!$A$49:$I$67,Main!$I$47,FALSE)","v":16.100000000000001},2328]
["MN","AITKIN NDB(AWOS)",7,9145,1199,-7.75,75.2,0.1132,"46.548N",-14.8,10,14.8,27.1,40.9,52.9,62.3,67,64.5,56.3,44.4,29.7,16.5,1241,985,713,295,59,3,0,0,35,224,610,1038,0,0,4,21,149,373,528,451,222,50,2,0,5.2,3.02,17.100000000000001,32.9,38.700000000000003,51.62,61.52,57.92,48.9,23,23,16,0.86206896551724133,0.11881446664055359,79,47,27,32,{"$f":"IF(OR(C523=\"OA\",C523=\"OB\",C523=\"1B\",C523=\"1A\",C523=\"2A\",C523=\"2B\",C523=\"3A\",C523=\"3B\",C523=\"3C\"),TAN((LEFT(I523, 5)+VLOOKUP(C523,Main!$K$3:$L$21,2,FALSE))*PI()/180),IF(Checklist!$I$385=\"No\",TAN((LEFT(I523, 5)+VLOOKUP(C523,Main!$K$3:$L$21,2,FALSE))*PI()/180),\"NR\"))","v":"NR"},{"$f":"VLOOKUP(C523,Main!$A$49:$I$67,Main!$B$47,FALSE)","v":"NR"},{"$f":"VLOOKUP(C523,Main!$A$49:$I$67,Main!$C$47,FALSE)","v":"NR"},{"$f":"VLOOKUP(C523,Main!$A$49:$I$67,Main!$E$47,FALSE)&\":\"&\" \"&VLOOKUP(C523,Main!$A$49:$I$67,Main!$F$47,FALSE)","v":"Minimum COP @ 5°F:: 1.75"},{"$f":"VLOOKUP(C523,Main!$A$49:$I$67,Main!$G$47,FALSE)","v":15},{"$f":"VLOOKUP(C523,Main!$A$49:$I$67,Main!$H$47,FALSE)","v":3.1},{"$f":"VLOOKUP(C523,Main!$A$49:$I$67,Main!$I$47,FALSE)","v":16.100000000000001},1800]
["MN","ALBERT LEA (AWOS)","6A",7641,1305,6.6,80.099999999999994,0.1132,"43.683N",-7.7,15.5,19.899999999999999,32.200000000000003,46.3,57.9,68.099999999999994,72.099999999999994,69.400000000000006,61.7,49.3,34.5,21.2,1070,844,569,184,26,1,0,0,9,135,477,892,0,0,16,72,272,545,686,601,361,113,12,0,18.7,16.7,26.2,36.32,43,59.9,63.32,66.02,53.8,27.9,27.9,17.600000000000001,0.84761904761904761,0.12995822771252097,74,42,23,28,{"$f":"IF(OR(C524=\"OA\",C524=\"OB\",C524=\"1B\",C524=\"1A\",C524=\"2A\",C524=\"2B\",C524=\"3A\",C524=\"3B\",C524=\"3C\"),TAN((LEFT(I524, 5)+VLOOKUP(C524,Main!$K$3:$L$21,2,FALSE))*PI()/180),IF(Checklist!$I$385=\"No\",TAN((LEFT(I524, 5)+VLOOKUP(C524,Main!$K$3:$L$21,2,FALSE))*PI()/180),\"NR\"))","v":"NR"},{"$f":"VLOOKUP(C524,Main!$A$49:$I$67,Main!$B$47,FALSE)","v":"NR"},{"$f":"VLOOKUP(C524,Main!$A$49:$I$67,Main!$C$47,FALSE)","v":"NR"},{"$f":"VLOOKUP(C524,Main!$A$49:$I$67,Main!$E$47,FALSE)&\":\"&\" \"&VLOOKUP(C524,Main!$A$49:$I$67,Main!$F$47,FALSE)","v":"Minimum COP @ 5°F:: 1.75"},{"$f":"VLOOKUP(C524,Main!$A$49:$I$67,Main!$G$47,FALSE)","v":15},{"$f":"VLOOKUP(C524,Main!$A$49:$I$67,Main!$H$47,FALSE)","v":3.1},{"$f":"VLOOKUP(C524,Main!$A$49:$I$67,Main!$I$47,FALSE)","v":16.100000000000001},2678]
["MN","ALEXANDRIA MUNICIPAL AP","6A",8664,1303,-13,79.5,0.1132,"45.868N",-12.8,10.9,15.4,27.5,42.9,55.9,65.5,70.400000000000006,68.5,59.7,46,30.1,16.5,1213,968,702,259,42,1,0,0,14,191,600,1037,0,0,4,44,223,466,632,575,304,66,4,0,8.1,6.8,18,34.520000000000003,43.9,54.5,60.62,59.72,54.3,26.1,26.1,-2.4,0.85989492119089317,0.12175541878512175,78,45,25,30,{"$f":"IF(OR(C525=\"OA\",C525=\"OB\",C525=\"1B\",C525=\"1A\",C525=\"2A\",C525=\"2B\",C525=\"3A\",C525=\"3B\",C525=\"3C\"),TAN((LEFT(I525, 5)+VLOOKUP(C525,Main!$K$3:$L$21,2,FALSE))*PI()/180),IF(Checklist!$I$385=\"No\",TAN((LEFT(I525, 5)+VLOOKUP(C525,Main!$K$3:$L$21,2,FALSE))*PI()/180),\"NR\"))","v":"NR"},{"$f":"VLOOKUP(C525,Main!$A$49:$I$67,Main!$B$47,FALSE)","v":"NR"},{"$f":"VLOOKUP(C525,Main!$A$49:$I$67,Main!$C$47,FALSE)","v":"NR"},{"$f":"VLOOKUP(C525,Main!$A$49:$I$67,Main!$E$47,FALSE)&\":\"&\" \"&VLOOKUP(C525,Main!$A$49:$I$67,Main!$F$47,FALSE)","v":"Minimum COP @ 5°F:: 1.75"},{"$f":"VLOOKUP(C525,Main!$A$49:$I$67,Main!$G$47,FALSE)","v":15},{"$f":"VLOOKUP(C525,Main!$A$49:$I$67,Main!$H$47,FALSE)","v":3.1},{"$f":"VLOOKUP(C525,Main!$A$49:$I$67,Main!$I$47,FALSE)","v":16.100000000000001},2318]
["MN","AUSTIN MUNI","6A",7700,1292,6.4,75.2,0.1132,"43.665N",-7.8,15.3,19.5,31.9,46,57.8,67.8,71.900000000000006,69.2,60.8,48.9,34.5,21.3,1075,853,577,184,24,0,0,0,10,137,478,891,0,0,15,65,265,535,679,594,334,104,11,0,19.8,8.06,29.7,41.54,41,54.86,62.24,67.64,53.1,23.4,23.4,7.2,0.8481973434535105,0.12978677886329601,75,42,23,28,{"$f":"IF(OR(C526=\"OA\",C526=\"OB\",C526=\"1B\",C526=\"1A\",C526=\"2A\",C526=\"2B\",C526=\"3A\",C526=\"3B\",C526=\"3C\"),TAN((LEFT(I526, 5)+VLOOKUP(C526,Main!$K$3:$L$21,2,FALSE))*PI()/180),IF(Checklist!$I$385=\"No\",TAN((LEFT(I526, 5)+VLOOKUP(C526,Main!$K$3:$L$21,2,FALSE))*PI()/180),\"NR\"))","v":"NR"},{"$f":"VLOOKUP(C526,Main!$A$49:$I$67,Main!$B$47,FALSE)","v":"NR"},{"$f":"VLOOKUP(C526,Main!$A$49:$I$67,Main!$C$47,FALSE)","v":"NR"},{"$f":"VLOOKUP(C526,Main!$A$49:$I$67,Main!$E$47,FALSE)&\":\"&\" \"&VLOOKUP(C526,Main!$A$49:$I$67,Main!$F$47,FALSE)","v":"Minimum COP @ 5°F:: 1.75"},{"$f":"VLOOKUP(C526,Main!$A$49:$I$67,Main!$G$47,FALSE)","v":15},{"$f":"VLOOKUP(C526,Main!$A$49:$I$67,Main!$H$47,FALSE)","v":3.1},{"$f":"VLOOKUP(C526,Main!$A$49:$I$67,Main!$I$47,FALSE)","v":16.100000000000001},2602]
["MN","BAUDETTE INTERNATIONAL AP",7,9837,1321,3.4,67.8,0.1132,"48.717N",-19.5,5.6,11.3,23.3,39.6,51.8,62.1,67.2,65,56.1,42.9,26.8,11.5,1375,1084,832,333,80,4,0,0,30,258,696,1193,0,0,3,21,135,368,532,464,213,37,1,0,9.6999999999999993,10.4,18.5,30.2,43,53.96,55.4,56.84,47.8,23.4,23.4,14,0.87179487179487181,0.11243243243243242,81,49,29,34,{"$f":"IF(OR(C527=\"OA\",C527=\"OB\",C527=\"1B\",C527=\"1A\",C527=\"2A\",C527=\"2B\",C527=\"3A\",C527=\"3B\",C527=\"3C\"),TAN((LEFT(I527, 5)+VLOOKUP(C527,Main!$K$3:$L$21,2,FALSE))*PI()/180),IF(Checklist!$I$385=\"No\",TAN((LEFT(I527, 5)+VLOOKUP(C527,Main!$K$3:$L$21,2,FALSE))*PI()/180),\"NR\"))","v":"NR"},{"$f":"VLOOKUP(C527,Main!$A$49:$I$67,Main!$B$47,FALSE)","v":"NR"},{"$f":"VLOOKUP(C527,Main!$A$49:$I$67,Main!$C$47,FALSE)","v":"NR"},{"$f":"VLOOKUP(C527,Main!$A$49:$I$67,Main!$E$47,FALSE)&\":\"&\" \"&VLOOKUP(C527,Main!$A$49:$I$67,Main!$F$47,FALSE)","v":"Minimum COP @ 5°F:: 1.75"},{"$f":"VLOOKUP(C527,Main!$A$49:$I$67,Main!$G$47,FALSE)","v":15},{"$f":"VLOOKUP(C527,Main!$A$49:$I$67,Main!$H$47,FALSE)","v":3.1},{"$f":"VLOOKUP(C527,Main!$A$49:$I$67,Main!$I$47,FALSE)","v":16.100000000000001},1774]
["MN","BEMIDJI MUNICIPAL",7,9529,1294,-4.45,75.400000000000006,0.1132,"47.500N",-17.2,7.9,12.5,25.3,39.799999999999997,52.4,62.7,67.099999999999994,65.5,56.3,43.4,27.6,13.8,1305,1050,766,330,74,3,0,0,32,248,673,1121,0,0,2,24,147,385,531,482,220,45,2,0,1.6,10.4,3.9,30.2,42.3,48.38,56.48,55.94,46.8,22.6,22.6,5.4,0.86688851913477538,0.11546758025631264,80,48,27,32,{"$f":"IF(OR(C528=\"OA\",C528=\"OB\",C528=\"1B\",C528=\"1A\",C528=\"2A\",C528=\"2B\",C528=\"3A\",C528=\"3B\",C528=\"3C\"),TAN((LEFT(I528, 5)+VLOOKUP(C528,Main!$K$3:$L$21,2,FALSE))*PI()/180),IF(Checklist!$I$385=\"No\",TAN((LEFT(I528, 5)+VLOOKUP(C528,Main!$K$3:$L$21,2,FALSE))*PI()/180),\"NR\"))","v":"NR"},{"$f":"VLOOKUP(C528,Main!$A$49:$I$67,Main!$B$47,FALSE)","v":"NR"},{"$f":"VLOOKUP(C528,Main!$A$49:$I$67,Main!$C$47,FALSE)","v":"NR"},{"$f":"VLOOKUP(C528,Main!$A$49:$I$67,Main!$E$47,FALSE)&\":\"&\" \"&VLOOKUP(C528,Main!$A$49:$I$67,Main!$F$47,FALSE)","v":"Minimum COP @ 5°F:: 1.75"},{"$f":"VLOOKUP(C528,Main!$A$49:$I$67,Main!$G$47,FALSE)","v":15},{"$f":"VLOOKUP(C528,Main!$A$49:$I$67,Main!$H$47,FALSE)","v":3.1},{"$f":"VLOOKUP(C528,Main!$A$49:$I$67,Main!$I$47,FALSE)","v":16.100000000000001},1838]
["MN","BENSON MUNI","6A",8326,1253,1.65,81.900000000000006,0.1132,"45.332N",-11.4,12.2,16.2,29.1,44.6,56.9,66.900000000000006,71.400000000000006,68.400000000000006,60.6,47.2,31.8,17.8,1170,947,658,221,36,1,0,0,12,170,551,997,0,0,9,58,249,507,664,571,332,83,5,0,11.1,16.16,28.2,32.72,45.1,51.98,64.040000000000006,56.84,52.7,21,21,8.4,0.85663082437275984,0.12390223977125739,77,44,24,29,{"$f":"IF(OR(C529=\"OA\",C529=\"OB\",C529=\"1B\",C529=\"1A\",C529=\"2A\",C529=\"2B\",C529=\"3A\",C529=\"3B\",C529=\"3C\"),TAN((LEFT(I529, 5)+VLOOKUP(C529,Main!$K$3:$L$21,2,FALSE))*PI()/180),IF(Checklist!$I$385=\"No\",TAN((LEFT(I529, 5)+VLOOKUP(C529,Main!$K$3:$L$21,2,FALSE))*PI()/180),\"NR\"))","v":"NR"},{"$f":"VLOOKUP(C529,Main!$A$49:$I$67,Main!$B$47,FALSE)","v":"NR"},{"$f":"VLOOKUP(C529,Main!$A$49:$I$67,Main!$C$47,FALSE)","v":"NR"},{"$f":"VLOOKUP(C529,Main!$A$49:$I$67,Main!$E$47,FALSE)&\":\"&\" \"&VLOOKUP(C529,Main!$A$49:$I$67,Main!$F$47,FALSE)","v":"Minimum COP @ 5°F:: 1.75"},{"$f":"VLOOKUP(C529,Main!$A$49:$I$67,Main!$G$47,FALSE)","v":15},{"$f":"VLOOKUP(C529,Main!$A$49:$I$67,Main!$H$47,FALSE)","v":3.1},{"$f":"VLOOKUP(C529,Main!$A$49:$I$67,Main!$I$47,FALSE)","v":16.100000000000001},2478]
["MN","BRAINERD/WIELAND","6A",8652,1230,-13.9,78.599999999999994,0.1132,"46.405N",-12.9,11,16.399999999999999,28.2,43.2,55,64.7,70,67.400000000000006,59,46,30.8,16.5,1209,941,682,249,43,2,0,0,15,189,580,1040,0,0,6,44,199,442,621,538,285,65,3,0,7.5,5.54,24.3,34.700000000000003,42.3,53.42,59.36,57.2,51.3,20.7,20.7,7.2,0.85964912280701755,0.12160491764941701,78,45,25,30,{"$f":"IF(OR(C530=\"OA\",C530=\"OB\",C530=\"1B\",C530=\"1A\",C530=\"2A\",C530=\"2B\",C530=\"3A\",C530=\"3B\",C530=\"3C\"),TAN((LEFT(I530, 5)+VLOOKUP(C530,Main!$K$3:$L$21,2,FALSE))*PI()/180),IF(Checklist!$I$385=\"No\",TAN((LEFT(I530, 5)+VLOOKUP(C530,Main!$K$3:$L$21,2,FALSE))*PI()/180),\"NR\"))","v":"NR"},{"$f":"VLOOKUP(C530,Main!$A$49:$I$67,Main!$B$47,FALSE)","v":"NR"},{"$f":"VLOOKUP(C530,Main!$A$49:$I$67,Main!$C$47,FALSE)","v":"NR"},{"$f":"VLOOKUP(C530,Main!$A$49:$I$67,Main!$E$47,FALSE)&\":\"&\" \"&VLOOKUP(C530,Main!$A$49:$I$67,Main!$F$47,FALSE)","v":"Minimum COP @ 5°F:: 1.75"},{"$f":"VLOOKUP(C530,Main!$A$49:$I$67,Main!$G$47,FALSE)","v":15},{"$f":"VLOOKUP(C530,Main!$A$49:$I$67,Main!$H$47,FALSE)","v":3.1},{"$f":"VLOOKUP(C530,Main!$A$49:$I$67,Main!$I$47,FALSE)","v":16.100000000000001},2203]
["MN","CAMBRIDGE MUNI","6A",8318,1353,-4.45,76.8,0.1132,"45.559N",-11,12.5,17.3,29.6,44.1,56.3,66,71.3,68.3,59.8,47,32.200000000000003,18.3,1163,916,642,229,33,2,0,0,18,174,540,982,1,0,9,53,229,481,660,566,312,81,6,0,-2.9,5.9,21.4,35.78,37.9,53.96,61.88,61.16,52.2,18.7,18.7,16.7,0.85585585585585588,0.12452959288402325,77,44,25,30,{"$f":"IF(OR(C531=\"OA\",C531=\"OB\",C531=\"1B\",C531=\"1A\",C531=\"2A\",C531=\"2B\",C531=\"3A\",C531=\"3B\",C531=\"3C\"),TAN((LEFT(I531, 5)+VLOOKUP(C531,Main!$K$3:$L$21,2,FALSE))*PI()/180),IF(Checklist!$I$385=\"No\",TAN((LEFT(I531, 5)+VLOOKUP(C531,Main!$K$3:$L$21,2,FALSE))*PI()/180),\"NR\"))","v":"NR"},{"$f":"VLOOKUP(C531,Main!$A$49:$I$67,Main!$B$47,FALSE)","v":"NR"},{"$f":"VLOOKUP(C531,Main!$A$49:$I$67,Main!$C$47,FALSE)","v":"NR"},{"$f":"VLOOKUP(C531,Main!$A$49:$I$67,Main!$E$47,FALSE)&\":\"&\" \"&VLOOKUP(C531,Main!$A$49:$I$67,Main!$F$47,FALSE)","v":"Minimum COP @ 5°F:: 1.75"},{"$f":"VLOOKUP(C531,Main!$A$49:$I$67,Main!$G$47,FALSE)","v":15},{"$f":"VLOOKUP(C531,Main!$A$49:$I$67,Main!$H$47,FALSE)","v":3.1},{"$f":"VLOOKUP(C531,Main!$A$49:$I$67,Main!$I$47,FALSE)","v":16.100000000000001},2398]
["MN","CLOQUET (AWOS)",7,9385,1290,-4.25,71.400000000000006,0.1132,"46.703N",-12.7,10.6,15.1,26.4,39.1,50.3,59.6,66,64.3,55.8,43.8,29.4,16.2,1221,978,735,339,89,7,0,0,33,234,622,1047,0,0,3,11,99,295,497,443,207,41,2,0,9.5,13.28,25.2,32.18,36.700000000000003,55.76,61.34,60.98,50,14.4,14.4,11.7,0.86062717770034847,0.12190629291001036,79,47,28,33,{"$f":"IF(OR(C532=\"OA\",C532=\"OB\",C532=\"1B\",C532=\"1A\",C532=\"2A\",C532=\"2B\",C532=\"3A\",C532=\"3B\",C532=\"3C\"),TAN((LEFT(I532, 5)+VLOOKUP(C532,Main!$K$3:$L$21,2,FALSE))*PI()/180),IF(Checklist!$I$385=\"No\",TAN((LEFT(I532, 5)+VLOOKUP(C532,Main!$K$3:$L$21,2,FALSE))*PI()/180),\"NR\"))","v":"NR"},{"$f":"VLOOKUP(C532,Main!$A$49:$I$67,Main!$B$47,FALSE)","v":"NR"},{"$f":"VLOOKUP(C532,Main!$A$49:$I$67,Main!$C$47,FALSE)","v":"NR"},{"$f":"VLOOKUP(C532,Main!$A$49:$I$67,Main!$E$47,FALSE)&\":\"&\" \"&VLOOKUP(C532,Main!$A$49:$I$67,Main!$F$47,FALSE)","v":"Minimum COP @ 5°F:: 1.75"},{"$f":"VLOOKUP(C532,Main!$A$49:$I$67,Main!$G$47,FALSE)","v":15},{"$f":"VLOOKUP(C532,Main!$A$49:$I$67,Main!$H$47,FALSE)","v":3.1},{"$f":"VLOOKUP(C532,Main!$A$49:$I$67,Main!$I$47,FALSE)","v":16.100000000000001},1598]
["MN","CRANE LAKE (AWOS)",7,9958,1308,-4.2,73.2,0.1132,"48.267N",-20.5,6.7,10.8,23.7,38,50.8,61.2,65.3,63.5,55.1,42.3,27.5,12.8,1343,1097,818,372,94,5,0,0,40,273,675,1153,0,0,2,12,118,343,473,418,195,36,1,0,-5.8,11.12,7.5,28.58,32.5,47.48,56.48,51.26,49.1,25.3,25.3,1.4,0.86949429037520387,0.11116200946709422,82,49,29,34,{"$f":"IF(OR(C533=\"OA\",C533=\"OB\",C533=\"1B\",C533=\"1A\",C533=\"2A\",C533=\"2B\",C533=\"3A\",C533=\"3B\",C533=\"3C\"),TAN((LEFT(I533, 5)+VLOOKUP(C533,Main!$K$3:$L$21,2,FALSE))*PI()/180),IF(Checklist!$I$385=\"No\",TAN((LEFT(I533, 5)+VLOOKUP(C533,Main!$K$3:$L$21,2,FALSE))*PI()/180),\"NR\"))","v":"NR"},{"$f":"VLOOKUP(C533,Main!$A$49:$I$67,Main!$B$47,FALSE)","v":"NR"},{"$f":"VLOOKUP(C533,Main!$A$49:$I$67,Main!$C$47,FALSE)","v":"NR"},{"$f":"VLOOKUP(C533,Main!$A$49:$I$67,Main!$E$47,FALSE)&\":\"&\" \"&VLOOKUP(C533,Main!$A$49:$I$67,Main!$F$47,FALSE)","v":"Minimum COP @ 5°F:: 1.75"},{"$f":"VLOOKUP(C533,Main!$A$49:$I$67,Main!$G$47,FALSE)","v":15},{"$f":"VLOOKUP(C533,Main!$A$49:$I$67,Main!$H$47,FALSE)","v":3.1},{"$f":"VLOOKUP(C533,Main!$A$49:$I$67,Main!$I$47,FALSE)","v":16.100000000000001},1598]
["MN","CROOKSTON MUNI FLD",7,9578,1313,0.45,73.400000000000006,0.1132,"47.842N",-18.100000000000001,5.4,10.1,23.9,41.4,53.8,64.2,68.400000000000006,66.599999999999994,57.6,43.9,27.2,12.6,1382,1116,812,290,63,1,0,0,25,237,686,1159,0,0,3,31,180,426,569,514,254,48,1,0,8.1,10.220000000000001,21.4,34.880000000000003,41,50.54,57.74,56.84,49.6,21.9,21.9,15.4,0.87220447284345048,0.11426060206548012,81,48,28,33,{"$f":"IF(OR(C534=\"OA\",C534=\"OB\",C534=\"1B\",C534=\"1A\",C534=\"2A\",C534=\"2B\",C534=\"3A\",C534=\"3B\",C534=\"3C\"),TAN((LEFT(I534, 5)+VLOOKUP(C534,Main!$K$3:$L$21,2,FALSE))*PI()/180),IF(Checklist!$I$385=\"No\",TAN((LEFT(I534, 5)+VLOOKUP(C534,Main!$K$3:$L$21,2,FALSE))*PI()/180),\"NR\"))","v":"NR"},{"$f":"VLOOKUP(C534,Main!$A$49:$I$67,Main!$B$47,FALSE)","v":"NR"},{"$f":"VLOOKUP(C534,Main!$A$49:$I$67,Main!$C$47,FALSE)","v":"NR"},{"$f":"VLOOKUP(C534,Main!$A$49:$I$67,Main!$E$47,FALSE)&\":\"&\" \"&VLOOKUP(C534,Main!$A$49:$I$67,Main!$F$47,FALSE)","v":"Minimum COP @ 5°F:: 1.75"},{"$f":"VLOOKUP(C534,Main!$A$49:$I$67,Main!$G$47,FALSE)","v":15},{"$f":"VLOOKUP(C534,Main!$A$49:$I$67,Main!$H$47,FALSE)","v":3.1},{"$f":"VLOOKUP(C534,Main!$A$49:$I$67,Main!$I$47,FALSE)","v":16.100000000000001},2026]
["MN","DETROIT LAKES(AWOS)","6A",8921,1366,1.75,76.599999999999994,0.1132,"46.833N",-15.1,9.1,13.8,26.4,42.1,54.8,64.8,69.599999999999994,67.900000000000006,59.1,45.5,29.8,15.9,1267,1014,735,270,49,1,0,0,15,199,608,1056,0,0,3,34,198,445,606,555,288,59,2,0,6.6,11.84,16.899999999999999,31.82,46.6,53.24,58.82,60.08,51.4,25.2,25.2,16,0.86417657045840413,0.11838553354798842,79,46,26,31,{"$f":"IF(OR(C535=\"OA\",C535=\"OB\",C535=\"1B\",C535=\"1A\",C535=\"2A\",C535=\"2B\",C535=\"3A\",C535=\"3B\",C535=\"3C\"),TAN((LEFT(I535, 5)+VLOOKUP(C535,Main!$K$3:$L$21,2,FALSE))*PI()/180),IF(Checklist!$I$385=\"No\",TAN((LEFT(I535, 5)+VLOOKUP(C535,Main!$K$3:$L$21,2,FALSE))*PI()/180),\"NR\"))","v":"NR"},{"$f":"VLOOKUP(C535,Main!$A$49:$I$67,Main!$B$47,FALSE)","v":"NR"},{"$f":"VLOOKUP(C535,Main!$A$49:$I$67,Main!$C$47,FALSE)","v":"NR"},{"$f":"VLOOKUP(C535,Main!$A$49:$I$67,Main!$E$47,FALSE)&\":\"&\" \"&VLOOKUP(C535,Main!$A$49:$I$67,Main!$F$47,FALSE)","v":"Minimum COP @ 5°F:: 1.75"},{"$f":"VLOOKUP(C535,Main!$A$49:$I$67,Main!$G$47,FALSE)","v":15},{"$f":"VLOOKUP(C535,Main!$A$49:$I$67,Main!$H$47,FALSE)","v":3.1},{"$f":"VLOOKUP(C535,Main!$A$49:$I$67,Main!$I$47,FALSE)","v":16.100000000000001},2190]
["MN","DULUTH INTERNATIONAL ARPT",7,9286,1342,-1.25,74.7,0.1132,"46.837N",-12,10.9,15.6,26.4,39.200000000000003,51.2,60.5,65.900000000000006,64.900000000000006,56.3,43.7,29.4,16.3,1212,964,734,340,82,6,0,0,30,234,620,1044,0,0,2,17,120,320,493,462,218,40,2,0,2.2999999999999998,7.88,17.399999999999999,25.88,40.5,52.16,55.22,55.94,47.8,16.899999999999999,16.899999999999999,3.2,0.85989492119089317,0.12297297297297295,79,47,27,32,{"$f":"IF(OR(C536=\"OA\",C536=\"OB\",C536=\"1B\",C536=\"1A\",C536=\"2A\",C536=\"2B\",C536=\"3A\",C536=\"3B\",C536=\"3C\"),TAN((LEFT(I536, 5)+VLOOKUP(C536,Main!$K$3:$L$21,2,FALSE))*PI()/180),IF(Checklist!$I$385=\"No\",TAN((LEFT(I536, 5)+VLOOKUP(C536,Main!$K$3:$L$21,2,FALSE))*PI()/180),\"NR\"))","v":"NR"},{"$f":"VLOOKUP(C536,Main!$A$49:$I$67,Main!$B$47,FALSE)","v":"NR"},{"$f":"VLOOKUP(C536,Main!$A$49:$I$67,Main!$C$47,FALSE)","v":"NR"},{"$f":"VLOOKUP(C536,Main!$A$49:$I$67,Main!$E$47,FALSE)&\":\"&\" \"&VLOOKUP(C536,Main!$A$49:$I$67,Main!$F$47,FALSE)","v":"Minimum COP @ 5°F:: 1.75"},{"$f":"VLOOKUP(C536,Main!$A$49:$I$67,Main!$G$47,FALSE)","v":15},{"$f":"VLOOKUP(C536,Main!$A$49:$I$67,Main!$H$47,FALSE)","v":3.1},{"$f":"VLOOKUP(C536,Main!$A$49:$I$67,Main!$I$47,FALSE)","v":16.100000000000001},1674]
["MN","ELY MUNI","6A",10010,1222,-13.65,70.5,0.1132,"47.817N",-20,6.4,11.3,23.8,37.700000000000003,50.4,60.5,64.7,63,54.7,42.2,27.5,13.2,1352,1084,814,381,100,6,0,1,45,277,677,1142,0,0,3,13,111,321,457,403,187,36,1,0,-10.8,7.7,19,30.56,42.4,49.28,54.32,58.1,52.3,19,19,14.2,0.87012987012987009,0.11179361179361177,82,49,29,34,{"$f":"IF(OR(C537=\"OA\",C537=\"OB\",C537=\"1B\",C537=\"1A\",C537=\"2A\",C537=\"2B\",C537=\"3A\",C537=\"3B\",C537=\"3C\"),TAN((LEFT(I537, 5)+VLOOKUP(C537,Main!$K$3:$L$21,2,FALSE))*PI()/180),IF(Checklist!$I$385=\"No\",TAN((LEFT(I537, 5)+VLOOKUP(C537,Main!$K$3:$L$21,2,FALSE))*PI()/180),\"NR\"))","v":"NR"},{"$f":"VLOOKUP(C537,Main!$A$49:$I$67,Main!$B$47,FALSE)","v":"NR"},{"$f":"VLOOKUP(C537,Main!$A$49:$I$67,Main!$C$47,FALSE)","v":"NR"},{"$f":"VLOOKUP(C537,Main!$A$49:$I$67,Main!$E$47,FALSE)&\":\"&\" \"&VLOOKUP(C537,Main!$A$49:$I$67,Main!$F$47,FALSE)","v":"Minimum COP @ 5°F:: 1.75"},{"$f":"VLOOKUP(C537,Main!$A$49:$I$67,Main!$G$47,FALSE)","v":15},{"$f":"VLOOKUP(C537,Main!$A$49:$I$67,Main!$H$47,FALSE)","v":3.1},{"$f":"VLOOKUP(C537,Main!$A$49:$I$67,Main!$I$47,FALSE)","v":16.100000000000001},1532]
["MN","EVELETH MUNI (AWOS)",7,9570,1256,-1.8,79.2,0.1132,"47.424N",-17.100000000000001,8.6999999999999993,13.5,25.7,39.4,51.4,61,65.900000000000006,63.7,55.1,43,28.2,14.8,1281,1022,756,330,76,4,0,0,37,251,654,1091,0,0,3,13,121,335,493,425,189,34,1,0,2.2999999999999998,12.38,13.6,28.76,32.9,53.6,58.64,55.76,47.5,20.5,20.5,-1.7,0.86509274873524455,0.11560326483945756,80,48,27,32,{"$f":"IF(OR(C538=\"OA\",C538=\"OB\",C538=\"1B\",C538=\"1A\",C538=\"2A\",C538=\"2B\",C538=\"3A\",C538=\"3B\",C538=\"3C\"),TAN((LEFT(I538, 5)+VLOOKUP(C538,Main!$K$3:$L$21,2,FALSE))*PI()/180),IF(Checklist!$I$385=\"No\",TAN((LEFT(I538, 5)+VLOOKUP(C538,Main!$K$3:$L$21,2,FALSE))*PI()/180),\"NR\"))","v":"NR"},{"$f":"VLOOKUP(C538,Main!$A$49:$I$67,Main!$B$47,FALSE)","v":"NR"},{"$f":"VLOOKUP(C538,Main!$A$49:$I$67,Main!$C$47,FALSE)","v":"NR"},{"$f":"VLOOKUP(C538,Main!$A$49:$I$67,Main!$E$47,FALSE)&\":\"&\" \"&VLOOKUP(C538,Main!$A$49:$I$67,Main!$F$47,FALSE)","v":"Minimum COP @ 5°F:: 1.75"},{"$f":"VLOOKUP(C538,Main!$A$49:$I$67,Main!$G$47,FALSE)","v":15},{"$f":"VLOOKUP(C538,Main!$A$49:$I$67,Main!$H$47,FALSE)","v":3.1},{"$f":"VLOOKUP(C538,Main!$A$49:$I$67,Main!$I$47,FALSE)","v":16.100000000000001},1614]
["MN","FAIRMONT MUNI(AWOS)","6A",7637,1410,7.9,78.400000000000006,0.1132,"43.650N",-6.6,15.5,20.100000000000001,32.1,46.3,58.6,68.5,71.599999999999994,69.2,61.7,49,34.200000000000003,20.9,1070,838,570,176,21,0,0,0,8,137,484,902,0,0,13,65,287,554,671,595,360,106,11,0,9.3000000000000007,22.28,15.6,36.32,37.799999999999997,54.14,64.760000000000005,60.98,50.9,24.1,24.1,18.100000000000001,0.84761904761904761,0.1318745018476922,74,42,23,28,{"$f":"IF(OR(C539=\"OA\",C539=\"OB\",C539=\"1B\",C539=\"1A\",C539=\"2A\",C539=\"2B\",C539=\"3A\",C539=\"3B\",C539=\"3C\"),TAN((LEFT(I539, 5)+VLOOKUP(C539,Main!$K$3:$L$21,2,FALSE))*PI()/180),IF(Checklist!$I$385=\"No\",TAN((LEFT(I539, 5)+VLOOKUP(C539,Main!$K$3:$L$21,2,FALSE))*PI()/180),\"NR\"))","v":"NR"},{"$f":"VLOOKUP(C539,Main!$A$49:$I$67,Main!$B$47,FALSE)","v":"NR"},{"$f":"VLOOKUP(C539,Main!$A$49:$I$67,Main!$C$47,FALSE)","v":"NR"},{"$f":"VLOOKUP(C539,Main!$A$49:$I$67,Main!$E$47,FALSE)&\":\"&\" \"&VLOOKUP(C539,Main!$A$49:$I$67,Main!$F$47,FALSE)","v":"Minimum COP @ 5°F:: 1.75"},{"$f":"VLOOKUP(C539,Main!$A$49:$I$67,Main!$G$47,FALSE)","v":15},{"$f":"VLOOKUP(C539,Main!$A$49:$I$67,Main!$H$47,FALSE)","v":3.1},{"$f":"VLOOKUP(C539,Main!$A$49:$I$67,Main!$I$47,FALSE)","v":16.100000000000001},2662]
["MN","FARIBAULT MUNI AWOS","6A",7778,1332,1.6,75.7,0.1132,"44.333N",-8.4,14.6,19.2,31.8,46.3,58.1,68,71.8,69.2,61.3,48.3,33.799999999999997,20.5,1097,862,578,183,24,0,0,0,11,151,494,916,0,0,15,72,275,540,676,596,350,100,9,0,9.1,0.68,31.5,37.4,47.1,56.48,66.02,61.34,48.7,29.8,29.8,19.8,0.85018726591760296,0.12876751096646383,75,43,24,29,{"$f":"IF(OR(C540=\"OA\",C540=\"OB\",C540=\"1B\",C540=\"1A\",C540=\"2A\",C540=\"2B\",C540=\"3A\",C540=\"3B\",C540=\"3C\"),TAN((LEFT(I540, 5)+VLOOKUP(C540,Main!$K$3:$L$21,2,FALSE))*PI()/180),IF(Checklist!$I$385=\"No\",TAN((LEFT(I540, 5)+VLOOKUP(C540,Main!$K$3:$L$21,2,FALSE))*PI()/180),\"NR\"))","v":"NR"},{"$f":"VLOOKUP(C540,Main!$A$49:$I$67,Main!$B$47,FALSE)","v":"NR"},{"$f":"VLOOKUP(C540,Main!$A$49:$I$67,Main!$C$47,FALSE)","v":"NR"},{"$f":"VLOOKUP(C540,Main!$A$49:$I$67,Main!$E$47,FALSE)&\":\"&\" \"&VLOOKUP(C540,Main!$A$49:$I$67,Main!$F$47,FALSE)","v":"Minimum COP @ 5°F:: 1.75"},{"$f":"VLOOKUP(C540,Main!$A$49:$I$67,Main!$G$47,FALSE)","v":15},{"$f":"VLOOKUP(C540,Main!$A$49:$I$67,Main!$H$47,FALSE)","v":3.1},{"$f":"VLOOKUP(C540,Main!$A$49:$I$67,Main!$I$47,FALSE)","v":16.100000000000001},2633]
["MN","FLYING CLOUD","6A",7415,1336,8.3000000000000007,82.4,0.1132,"44.832N",-6.3,16.100000000000001,19.899999999999999,32.5,47.9,59.5,68.599999999999994,74.5,71.599999999999994,63.6,49.8,35.9,21.2,1051,843,562,154,16,0,0,0,4,123,437,894,0,0,18,91,311,557,760,671,413,116,13,0,17.600000000000001,6.62,21,35.96,43.3,57.92,62.06,61.88,54.5,28.6,28.6,0.1,0.84585741811175341,0.13240696955367209,74,42,22,27,{"$f":"IF(OR(C541=\"OA\",C541=\"OB\",C541=\"1B\",C541=\"1A\",C541=\"2A\",C541=\"2B\",C541=\"3A\",C541=\"3B\",C541=\"3C\"),TAN((LEFT(I541, 5)+VLOOKUP(C541,Main!$K$3:$L$21,2,FALSE))*PI()/180),IF(Checklist!$I$385=\"No\",TAN((LEFT(I541, 5)+VLOOKUP(C541,Main!$K$3:$L$21,2,FALSE))*PI()/180),\"NR\"))","v":"NR"},{"$f":"VLOOKUP(C541,Main!$A$49:$I$67,Main!$B$47,FALSE)","v":"NR"},{"$f":"VLOOKUP(C541,Main!$A$49:$I$67,Main!$C$47,FALSE)","v":"NR"},{"$f":"VLOOKUP(C541,Main!$A$49:$I$67,Main!$E$47,FALSE)&\":\"&\" \"&VLOOKUP(C541,Main!$A$49:$I$67,Main!$F$47,FALSE)","v":"Minimum COP @ 5°F:: 1.75"},{"$f":"VLOOKUP(C541,Main!$A$49:$I$67,Main!$G$47,FALSE)","v":15},{"$f":"VLOOKUP(C541,Main!$A$49:$I$67,Main!$H$47,FALSE)","v":3.1},{"$f":"VLOOKUP(C541,Main!$A$49:$I$67,Main!$I$47,FALSE)","v":16.100000000000001},2950]
["MN","FOSSTON(AWOS)",7,9520,1292,-11.95,73.900000000000006,0.1132,"47.593N",-18.2,6.8,11.1,24.7,41.1,53.7,63.5,67.599999999999994,66.099999999999994,57.6,44,27.2,12.9,1339,1089,789,301,62,3,0,0,30,240,687,1151,0,0,4,34,177,407,547,499,257,55,2,0,0.9,13.28,15.8,20.66,32.200000000000003,51.98,58.1,58.82,50.4,19.899999999999999,19.899999999999999,-3.1,0.86928104575163401,0.11412804916285194,80,48,28,33,{"$f":"IF(OR(C542=\"OA\",C542=\"OB\",C542=\"1B\",C542=\"1A\",C542=\"2A\",C542=\"2B\",C542=\"3A\",C542=\"3B\",C542=\"3C\"),TAN((LEFT(I542, 5)+VLOOKUP(C542,Main!$K$3:$L$21,2,FALSE))*PI()/180),IF(Checklist!$I$385=\"No\",TAN((LEFT(I542, 5)+VLOOKUP(C542,Main!$K$3:$L$21,2,FALSE))*PI()/180),\"NR\"))","v":"NR"},{"$f":"VLOOKUP(C542,Main!$A$49:$I$67,Main!$B$47,FALSE)","v":"NR"},{"$f":"VLOOKUP(C542,Main!$A$49:$I$67,Main!$C$47,FALSE)","v":"NR"},{"$f":"VLOOKUP(C542,Main!$A$49:$I$67,Main!$E$47,FALSE)&\":\"&\" \"&VLOOKUP(C542,Main!$A$49:$I$67,Main!$F$47,FALSE)","v":"Minimum COP @ 5°F:: 1.75"},{"$f":"VLOOKUP(C542,Main!$A$49:$I$67,Main!$G$47,FALSE)","v":15},{"$f":"VLOOKUP(C542,Main!$A$49:$I$67,Main!$H$47,FALSE)","v":3.1},{"$f":"VLOOKUP(C542,Main!$A$49:$I$67,Main!$I$47,FALSE)","v":16.100000000000001},1982]
["MN","GLENWOOD (ASOS)","6A",8409,1388,-1.65,77,0.1132,"45.644N",-11.3,11.7,16.100000000000001,28,44.3,56.4,66.400000000000006,71.8,69.3,60.8,47,31.4,17.2,1189,949,688,222,38,1,0,0,10,175,565,1016,0,0,7,50,236,492,675,598,334,82,6,0,7.2,18.32,20.100000000000001,37.58,42.4,52.88,65.3,58.1,50.5,23.9,23.9,15.8,0.8579040852575488,0.12405848471422241,77,45,25,30,{"$f":"IF(OR(C543=\"OA\",C543=\"OB\",C543=\"1B\",C543=\"1A\",C543=\"2A\",C543=\"2B\",C543=\"3A\",C543=\"3B\",C543=\"3C\"),TAN((LEFT(I543, 5)+VLOOKUP(C543,Main!$K$3:$L$21,2,FALSE))*PI()/180),IF(Checklist!$I$385=\"No\",TAN((LEFT(I543, 5)+VLOOKUP(C543,Main!$K$3:$L$21,2,FALSE))*PI()/180),\"NR\"))","v":"NR"},{"$f":"VLOOKUP(C543,Main!$A$49:$I$67,Main!$B$47,FALSE)","v":"NR"},{"$f":"VLOOKUP(C543,Main!$A$49:$I$67,Main!$C$47,FALSE)","v":"NR"},{"$f":"VLOOKUP(C543,Main!$A$49:$I$67,Main!$E$47,FALSE)&\":\"&\" \"&VLOOKUP(C543,Main!$A$49:$I$67,Main!$F$47,FALSE)","v":"Minimum COP @ 5°F:: 1.75"},{"$f":"VLOOKUP(C543,Main!$A$49:$I$67,Main!$G$47,FALSE)","v":15},{"$f":"VLOOKUP(C543,Main!$A$49:$I$67,Main!$H$47,FALSE)","v":3.1},{"$f":"VLOOKUP(C543,Main!$A$49:$I$67,Main!$I$47,FALSE)","v":16.100000000000001},2480]
["MN","GRAND RAPIDS(AWOS)",7,9363,1297,-5.25,76.3,0.1132,"47.211N",-15,9.4,14.1,26.5,40,52,61.9,66.400000000000006,64.5,56.1,43.8,28.3,15.1,1260,1005,731,318,71,3,0,0,33,236,654,1082,0,0,3,18,133,360,509,450,217,44,1,0,7.5,8.42,4.5,30.74,39.9,52.7,54.68,52.88,46.8,27.3,27.3,5.9,0.86348122866894195,0.11852816672093779,80,47,27,32,{"$f":"IF(OR(C544=\"OA\",C544=\"OB\",C544=\"1B\",C544=\"1A\",C544=\"2A\",C544=\"2B\",C544=\"3A\",C544=\"3B\",C544=\"3C\"),TAN((LEFT(I544, 5)+VLOOKUP(C544,Main!$K$3:$L$21,2,FALSE))*PI()/180),IF(Checklist!$I$385=\"No\",TAN((LEFT(I544, 5)+VLOOKUP(C544,Main!$K$3:$L$21,2,FALSE))*PI()/180),\"NR\"))","v":"NR"},{"$f":"VLOOKUP(C544,Main!$A$49:$I$67,Main!$B$47,FALSE)","v":"NR"},{"$f":"VLOOKUP(C544,Main!$A$49:$I$67,Main!$C$47,FALSE)","v":"NR"},{"$f":"VLOOKUP(C544,Main!$A$49:$I$67,Main!$E$47,FALSE)&\":\"&\" \"&VLOOKUP(C544,Main!$A$49:$I$67,Main!$F$47,FALSE)","v":"Minimum COP @ 5°F:: 1.75"},{"$f":"VLOOKUP(C544,Main!$A$49:$I$67,Main!$G$47,FALSE)","v":15},{"$f":"VLOOKUP(C544,Main!$A$49:$I$67,Main!$H$47,FALSE)","v":3.1},{"$f":"VLOOKUP(C544,Main!$A$49:$I$67,Main!$I$47,FALSE)","v":16.100000000000001},1735]
["MN","HALLOCK",7,9749,1262,-2.9,73,0.1132,"48.753N",-19.7,5.0999999999999996,8.8000000000000007,22.7,41.4,53.3,63.6,67.7,66.400000000000006,57.2,43.3,26.8,12.2,1392,1155,848,290,68,3,0,0,30,253,697,1173,0,0,2,33,172,411,548,508,247,47,0,0,1.6,1.58,21.4,36.32,34.700000000000003,56.12,61.52,58.64,43.3,15.3,15.3,10.4,0.87281399046104924,0.1121760300779685,81,48,28,33,{"$f":"IF(OR(C545=\"OA\",C545=\"OB\",C545=\"1B\",C545=\"1A\",C545=\"2A\",C545=\"2B\",C545=\"3A\",C545=\"3B\",C545=\"3C\"),TAN((LEFT(I545, 5)+VLOOKUP(C545,Main!$K$3:$L$21,2,FALSE))*PI()/180),IF(Checklist!$I$385=\"No\",TAN((LEFT(I545, 5)+VLOOKUP(C545,Main!$K$3:$L$21,2,FALSE))*PI()/180),\"NR\"))","v":"NR"},{"$f":"VLOOKUP(C545,Main!$A$49:$I$67,Main!$B$47,FALSE)","v":"NR"},{"$f":"VLOOKUP(C545,Main!$A$49:$I$67,Main!$C$47,FALSE)","v":"NR"},{"$f":"VLOOKUP(C545,Main!$A$49:$I$67,Main!$E$47,FALSE)&\":\"&\" \"&VLOOKUP(C545,Main!$A$49:$I$67,Main!$F$47,FALSE)","v":"Minimum COP @ 5°F:: 1.75"},{"$f":"VLOOKUP(C545,Main!$A$49:$I$67,Main!$G$47,FALSE)","v":15},{"$f":"VLOOKUP(C545,Main!$A$49:$I$67,Main!$H$47,FALSE)","v":3.1},{"$f":"VLOOKUP(C545,Main!$A$49:$I$67,Main!$I$47,FALSE)","v":16.100000000000001},1968]
["MN","HIBBING CHISHOLM-HIBBING AP",7,9814,1195,-15.15,76.3,0.1132,"47.386N",-17.600000000000001,7.9,12.9,25.1,39,51.1,60.6,64.900000000000006,63.4,54.3,41.9,27.1,13.4,1305,1038,774,346,86,4,0,0,48,279,689,1136,0,0,2,15,121,323,463,415,178,28,1,0,-1.3,-2.38,18.7,25.52,39.4,53.6,56.66,55.4,48.7,23.2,23.2,7.3,0.86688851913477538,0.11492801212427381,81,49,28,33,{"$f":"IF(OR(C546=\"OA\",C546=\"OB\",C546=\"1B\",C546=\"1A\",C546=\"2A\",C546=\"2B\",C546=\"3A\",C546=\"3B\",C546=\"3C\"),TAN((LEFT(I546, 5)+VLOOKUP(C546,Main!$K$3:$L$21,2,FALSE))*PI()/180),IF(Checklist!$I$385=\"No\",TAN((LEFT(I546, 5)+VLOOKUP(C546,Main!$K$3:$L$21,2,FALSE))*PI()/180),\"NR\"))","v":"NR"},{"$f":"VLOOKUP(C546,Main!$A$49:$I$67,Main!$B$47,FALSE)","v":"NR"},{"$f":"VLOOKUP(C546,Main!$A$49:$I$67,Main!$C$47,FALSE)","v":"NR"},{"$f":"VLOOKUP(C546,Main!$A$49:$I$67,Main!$E$47,FALSE)&\":\"&\" \"&VLOOKUP(C546,Main!$A$49:$I$67,Main!$F$47,FALSE)","v":"Minimum COP @ 5°F:: 1.75"},{"$f":"VLOOKUP(C546,Main!$A$49:$I$67,Main!$G$47,FALSE)","v":15},{"$f":"VLOOKUP(C546,Main!$A$49:$I$67,Main!$H$47,FALSE)","v":3.1},{"$f":"VLOOKUP(C546,Main!$A$49:$I$67,Main!$I$47,FALSE)","v":16.100000000000001},1546]
["MN","HUTCHINSON (AWOS)","6A",8075,1290,7.25,81.5,0.1132,"44.859N",-9.6,13.4,17.399999999999999,29.3,45.1,56.9,67.2,71.599999999999994,68.7,61,47.9,33.200000000000003,19.899999999999999,1134,913,651,199,31,1,0,0,10,157,511,934,0,0,9,53,246,517,670,578,339,91,7,0,12.9,8.42,17.2,35.24,44.4,55.94,67.099999999999994,59.54,52.3,25.5,25.5,19.399999999999999,0.85347985347985345,0.12677626079687937,76,44,24,29,{"$f":"IF(OR(C547=\"OA\",C547=\"OB\",C547=\"1B\",C547=\"1A\",C547=\"2A\",C547=\"2B\",C547=\"3A\",C547=\"3B\",C547=\"3C\"),TAN((LEFT(I547, 5)+VLOOKUP(C547,Main!$K$3:$L$21,2,FALSE))*PI()/180),IF(Checklist!$I$385=\"No\",TAN((LEFT(I547, 5)+VLOOKUP(C547,Main!$K$3:$L$21,2,FALSE))*PI()/180),\"NR\"))","v":"NR"},{"$f":"VLOOKUP(C547,Main!$A$49:$I$67,Main!$B$47,FALSE)","v":"NR"},{"$f":"VLOOKUP(C547,Main!$A$49:$I$67,Main!$C$47,FALSE)","v":"NR"},{"$f":"VLOOKUP(C547,Main!$A$49:$I$67,Main!$E$47,FALSE)&\":\"&\" \"&VLOOKUP(C547,Main!$A$49:$I$67,Main!$F$47,FALSE)","v":"Minimum COP @ 5°F:: 1.75"},{"$f":"VLOOKUP(C547,Main!$A$49:$I$67,Main!$G$47,FALSE)","v":15},{"$f":"VLOOKUP(C547,Main!$A$49:$I$67,Main!$H$47,FALSE)","v":3.1},{"$f":"VLOOKUP(C547,Main!$A$49:$I$67,Main!$I$47,FALSE)","v":16.100000000000001},2510]
["MN","INTERNATIONAL FALLS INTL AP",7,10008,1261,-12.65,77,0.1132,"48.561N",-20.5,5.6,11.1,24.1,39,51.6,61.4,65.2,63.6,54.5,41.7,26.5,11.6,1377,1089,804,349,89,5,0,1,47,288,707,1190,0,0,3,19,140,347,471,421,182,30,1,0,-4,1.94,12.6,23.36,38.299999999999997,52.88,58.64,56.48,46,19.600000000000001,19.600000000000001,-0.6,0.87179487179487181,0.11116200946709422,82,49,28,33,{"$f":"IF(OR(C548=\"OA\",C548=\"OB\",C548=\"1B\",C548=\"1A\",C548=\"2A\",C548=\"2B\",C548=\"3A\",C548=\"3B\",C548=\"3C\"),TAN((LEFT(I548, 5)+VLOOKUP(C548,Main!$K$3:$L$21,2,FALSE))*PI()/180),IF(Checklist!$I$385=\"No\",TAN((LEFT(I548, 5)+VLOOKUP(C548,Main!$K$3:$L$21,2,FALSE))*PI()/180),\"NR\"))","v":"NR"},{"$f":"VLOOKUP(C548,Main!$A$49:$I$67,Main!$B$47,FALSE)","v":"NR"},{"$f":"VLOOKUP(C548,Main!$A$49:$I$67,Main!$C$47,FALSE)","v":"NR"},{"$f":"VLOOKUP(C548,Main!$A$49:$I$67,Main!$E$47,FALSE)&\":\"&\" \"&VLOOKUP(C548,Main!$A$49:$I$67,Main!$F$47,FALSE)","v":"Minimum COP @ 5°F:: 1.75"},{"$f":"VLOOKUP(C548,Main!$A$49:$I$67,Main!$G$47,FALSE)","v":15},{"$f":"VLOOKUP(C548,Main!$A$49:$I$67,Main!$H$47,FALSE)","v":3.1},{"$f":"VLOOKUP(C548,Main!$A$49:$I$67,Main!$I$47,FALSE)","v":16.100000000000001},1614]
["MN","LITCHFIELD MUNI","6A",8130,1403,-3.35,78.599999999999994,0.1132,"45.147N",-9.1,13,17.100000000000001,29.7,44.8,57.2,67.099999999999994,71.7,69.099999999999994,61.1,47.6,32.9,18.8,1148,921,639,211,29,0,0,0,10,160,520,967,0,0,9,55,251,514,672,592,343,85,7,0,6.8,6.62,28.9,36.68,50.2,55.94,59.54,55.04,51.1,23.2,23.2,12.4,0.8545454545454545,0.12759841553615872,76,44,24,29,{"$f":"IF(OR(C549=\"OA\",C549=\"OB\",C549=\"1B\",C549=\"1A\",C549=\"2A\",C549=\"2B\",C549=\"3A\",C549=\"3B\",C549=\"3C\"),TAN((LEFT(I549, 5)+VLOOKUP(C549,Main!$K$3:$L$21,2,FALSE))*PI()/180),IF(Checklist!$I$385=\"No\",TAN((LEFT(I549, 5)+VLOOKUP(C549,Main!$K$3:$L$21,2,FALSE))*PI()/180),\"NR\"))","v":"NR"},{"$f":"VLOOKUP(C549,Main!$A$49:$I$67,Main!$B$47,FALSE)","v":"NR"},{"$f":"VLOOKUP(C549,Main!$A$49:$I$67,Main!$C$47,FALSE)","v":"NR"},{"$f":"VLOOKUP(C549,Main!$A$49:$I$67,Main!$E$47,FALSE)&\":\"&\" \"&VLOOKUP(C549,Main!$A$49:$I$67,Main!$F$47,FALSE)","v":"Minimum COP @ 5°F:: 1.75"},{"$f":"VLOOKUP(C549,Main!$A$49:$I$67,Main!$G$47,FALSE)","v":15},{"$f":"VLOOKUP(C549,Main!$A$49:$I$67,Main!$H$47,FALSE)","v":3.1},{"$f":"VLOOKUP(C549,Main!$A$49:$I$67,Main!$I$47,FALSE)","v":16.100000000000001},2528]
["MN","LITTLE FALLS (AWOS)","6A",8648,1244,-7,80.599999999999994,0.1132,"45.949N",-12.8,11.8,16,28.6,42.8,54.9,64.900000000000006,69.7,66.900000000000006,58.3,45.7,30.8,17.2,1184,951,669,250,44,1,0,0,22,197,580,1015,0,0,5,35,196,447,610,523,271,64,3,0,5.5,5.72,24.6,25.52,43,55.4,57.56,59.18,48.6,16.5,16.5,15.8,0.85765124555160144,0.12175541878512175,78,45,25,30,{"$f":"IF(OR(C550=\"OA\",C550=\"OB\",C550=\"1B\",C550=\"1A\",C550=\"2A\",C550=\"2B\",C550=\"3A\",C550=\"3B\",C550=\"3C\"),TAN((LEFT(I550, 5)+VLOOKUP(C550,Main!$K$3:$L$21,2,FALSE))*PI()/180),IF(Checklist!$I$385=\"No\",TAN((LEFT(I550, 5)+VLOOKUP(C550,Main!$K$3:$L$21,2,FALSE))*PI()/180),\"NR\"))","v":"NR"},{"$f":"VLOOKUP(C550,Main!$A$49:$I$67,Main!$B$47,FALSE)","v":"NR"},{"$f":"VLOOKUP(C550,Main!$A$49:$I$67,Main!$C$47,FALSE)","v":"NR"},{"$f":"VLOOKUP(C550,Main!$A$49:$I$67,Main!$E$47,FALSE)&\":\"&\" \"&VLOOKUP(C550,Main!$A$49:$I$67,Main!$F$47,FALSE)","v":"Minimum COP @ 5°F:: 1.75"},{"$f":"VLOOKUP(C550,Main!$A$49:$I$67,Main!$G$47,FALSE)","v":15},{"$f":"VLOOKUP(C550,Main!$A$49:$I$67,Main!$H$47,FALSE)","v":3.1},{"$f":"VLOOKUP(C550,Main!$A$49:$I$67,Main!$I$47,FALSE)","v":16.100000000000001},2154]
["MN","MANKATO(AWOS)","6A",7705,1335,0.35,79.900000000000006,0.1132,"44.217N",-8.1999999999999993,14.8,19.2,31.8,46.7,58.3,68.2,71.8,69.5,61.4,49.1,34.4,20.5,1090,862,578,167,23,0,0,0,10,136,481,915,0,0,15,70,279,547,675,605,352,107,11,0,8.4,18.14,16.3,39.200000000000003,46.8,52.52,60.98,63.68,50.7,28.2,28.2,11.8,0.84962406015037595,0.1291054834361921,75,42,23,28,{"$f":"IF(OR(C551=\"OA\",C551=\"OB\",C551=\"1B\",C551=\"1A\",C551=\"2A\",C551=\"2B\",C551=\"3A\",C551=\"3B\",C551=\"3C\"),TAN((LEFT(I551, 5)+VLOOKUP(C551,Main!$K$3:$L$21,2,FALSE))*PI()/180),IF(Checklist!$I$385=\"No\",TAN((LEFT(I551, 5)+VLOOKUP(C551,Main!$K$3:$L$21,2,FALSE))*PI()/180),\"NR\"))","v":"NR"},{"$f":"VLOOKUP(C551,Main!$A$49:$I$67,Main!$B$47,FALSE)","v":"NR"},{"$f":"VLOOKUP(C551,Main!$A$49:$I$67,Main!$C$47,FALSE)","v":"NR"},{"$f":"VLOOKUP(C551,Main!$A$49:$I$67,Main!$E$47,FALSE)&\":\"&\" \"&VLOOKUP(C551,Main!$A$49:$I$67,Main!$F$47,FALSE)","v":"Minimum COP @ 5°F:: 1.75"},{"$f":"VLOOKUP(C551,Main!$A$49:$I$67,Main!$G$47,FALSE)","v":15},{"$f":"VLOOKUP(C551,Main!$A$49:$I$67,Main!$H$47,FALSE)","v":3.1},{"$f":"VLOOKUP(C551,Main!$A$49:$I$67,Main!$I$47,FALSE)","v":16.100000000000001},2661]
["MN","MINNEAPOLIS-ST PAUL INT ARP","6A",7477,1401,-3.2,81.7,0.1132,"44.883N",-5.8,16,20.9,32.9,47.1,59,69.099999999999994,73.7,71.5,62.9,49.6,34.5,21.2,1054,815,545,170,19,0,0,0,6,124,475,893,0,0,14,81,299,572,734,668,393,111,10,0,2.5,12.2,22.8,33.44,45.9,52.52,62.06,58.82,49.3,23.7,23.7,10.4,0.84615384615384615,0.13330403574306013,74,42,22,27,{"$f":"IF(OR(C552=\"OA\",C552=\"OB\",C552=\"1B\",C552=\"1A\",C552=\"2A\",C552=\"2B\",C552=\"3A\",C552=\"3B\",C552=\"3C\"),TAN((LEFT(I552, 5)+VLOOKUP(C552,Main!$K$3:$L$21,2,FALSE))*PI()/180),IF(Checklist!$I$385=\"No\",TAN((LEFT(I552, 5)+VLOOKUP(C552,Main!$K$3:$L$21,2,FALSE))*PI()/180),\"NR\"))","v":"NR"},{"$f":"VLOOKUP(C552,Main!$A$49:$I$67,Main!$B$47,FALSE)","v":"NR"},{"$f":"VLOOKUP(C552,Main!$A$49:$I$67,Main!$C$47,FALSE)","v":"NR"},{"$f":"VLOOKUP(C552,Main!$A$49:$I$67,Main!$E$47,FALSE)&\":\"&\" \"&VLOOKUP(C552,Main!$A$49:$I$67,Main!$F$47,FALSE)","v":"Minimum COP @ 5°F:: 1.75"},{"$f":"VLOOKUP(C552,Main!$A$49:$I$67,Main!$G$47,FALSE)","v":15},{"$f":"VLOOKUP(C552,Main!$A$49:$I$67,Main!$H$47,FALSE)","v":3.1},{"$f":"VLOOKUP(C552,Main!$A$49:$I$67,Main!$I$47,FALSE)","v":16.100000000000001},2882]
["MN","MINNEAPOLIS/CRYSTAL","6A",7599,1205,2.2999999999999998,77.2,0.1132,"45.062N",-6,15.8,20.2,32,46.8,58.2,67.7,73.7,70.900000000000006,62.5,48.8,34.799999999999997,20.9,1060,834,575,172,22,0,0,0,7,141,463,901,0,0,16,76,277,530,736,648,381,103,9,0,7,6.26,19.899999999999999,30.56,42.1,54.68,60.8,55.22,53.8,27.3,27.3,-0.4,0.84674329501915713,0.13294375456537619,74,42,23,28,{"$f":"IF(OR(C553=\"OA\",C553=\"OB\",C553=\"1B\",C553=\"1A\",C553=\"2A\",C553=\"2B\",C553=\"3A\",C553=\"3B\",C553=\"3C\"),TAN((LEFT(I553, 5)+VLOOKUP(C553,Main!$K$3:$L$21,2,FALSE))*PI()/180),IF(Checklist!$I$385=\"No\",TAN((LEFT(I553, 5)+VLOOKUP(C553,Main!$K$3:$L$21,2,FALSE))*PI()/180),\"NR\"))","v":"NR"},{"$f":"VLOOKUP(C553,Main!$A$49:$I$67,Main!$B$47,FALSE)","v":"NR"},{"$f":"VLOOKUP(C553,Main!$A$49:$I$67,Main!$C$47,FALSE)","v":"NR"},{"$f":"VLOOKUP(C553,Main!$A$49:$I$67,Main!$E$47,FALSE)&\":\"&\" \"&VLOOKUP(C553,Main!$A$49:$I$67,Main!$F$47,FALSE)","v":"Minimum COP @ 5°F:: 1.75"},{"$f":"VLOOKUP(C553,Main!$A$49:$I$67,Main!$G$47,FALSE)","v":15},{"$f":"VLOOKUP(C553,Main!$A$49:$I$67,Main!$H$47,FALSE)","v":3.1},{"$f":"VLOOKUP(C553,Main!$A$49:$I$67,Main!$I$47,FALSE)","v":16.100000000000001},2776]
["MN","MORA MUNI (AWOS)","6A",8595,1336,-6.9,76.8,0.1132,"45.886N",-11.8,12.1,16.5,28.6,42.7,54.3,63.9,68.599999999999994,66.400000000000006,57.7,45.5,32.6,18.399999999999999,1176,938,668,251,44,1,0,0,23,193,524,979,0,0,5,31,177,419,578,508,254,55,3,0,9.3000000000000007,0.32,25.3,30.74,39,49.64,58.64,60.44,55.4,26.4,26.4,-1.1000000000000001,0.85688729874776381,0.12328117591275485,77,45,25,30,{"$f":"IF(OR(C554=\"OA\",C554=\"OB\",C554=\"1B\",C554=\"1A\",C554=\"2A\",C554=\"2B\",C554=\"3A\",C554=\"3B\",C554=\"3C\"),TAN((LEFT(I554, 5)+VLOOKUP(C554,Main!$K$3:$L$21,2,FALSE))*PI()/180),IF(Checklist!$I$385=\"No\",TAN((LEFT(I554, 5)+VLOOKUP(C554,Main!$K$3:$L$21,2,FALSE))*PI()/180),\"NR\"))","v":"NR"},{"$f":"VLOOKUP(C554,Main!$A$49:$I$67,Main!$B$47,FALSE)","v":"NR"},{"$f":"VLOOKUP(C554,Main!$A$49:$I$67,Main!$C$47,FALSE)","v":"NR"},{"$f":"VLOOKUP(C554,Main!$A$49:$I$67,Main!$E$47,FALSE)&\":\"&\" \"&VLOOKUP(C554,Main!$A$49:$I$67,Main!$F$47,FALSE)","v":"Minimum COP @ 5°F:: 1.75"},{"$f":"VLOOKUP(C554,Main!$A$49:$I$67,Main!$G$47,FALSE)","v":15},{"$f":"VLOOKUP(C554,Main!$A$49:$I$67,Main!$H$47,FALSE)","v":3.1},{"$f":"VLOOKUP(C554,Main!$A$49:$I$67,Main!$I$47,FALSE)","v":16.100000000000001},2030]
["MN","MORRIS MUNI (AWOS)","6A",8650,1356,5.35,73.599999999999994,0.1132,"45.566N",-12.9,10.6,14.7,27.8,43.6,55.9,66,70,67.400000000000006,59.5,46.5,30.5,16.5,1221,987,693,237,41,1,0,0,14,183,589,1038,0,0,6,46,223,482,621,540,300,73,4,0,8.8000000000000007,17.78,22.1,30.74,38.799999999999997,56.48,63.14,59.54,49.5,25.5,25.5,15.1,0.86062717770034847,0.12160491764941701,78,45,26,31,{"$f":"IF(OR(C555=\"OA\",C555=\"OB\",C555=\"1B\",C555=\"1A\",C555=\"2A\",C555=\"2B\",C555=\"3A\",C555=\"3B\",C555=\"3C\"),TAN((LEFT(I555, 5)+VLOOKUP(C555,Main!$K$3:$L$21,2,FALSE))*PI()/180),IF(Checklist!$I$385=\"No\",TAN((LEFT(I555, 5)+VLOOKUP(C555,Main!$K$3:$L$21,2,FALSE))*PI()/180),\"NR\"))","v":"NR"},{"$f":"VLOOKUP(C555,Main!$A$49:$I$67,Main!$B$47,FALSE)","v":"NR"},{"$f":"VLOOKUP(C555,Main!$A$49:$I$67,Main!$C$47,FALSE)","v":"NR"},{"$f":"VLOOKUP(C555,Main!$A$49:$I$67,Main!$E$47,FALSE)&\":\"&\" \"&VLOOKUP(C555,Main!$A$49:$I$67,Main!$F$47,FALSE)","v":"Minimum COP @ 5°F:: 1.75"},{"$f":"VLOOKUP(C555,Main!$A$49:$I$67,Main!$G$47,FALSE)","v":15},{"$f":"VLOOKUP(C555,Main!$A$49:$I$67,Main!$H$47,FALSE)","v":3.1},{"$f":"VLOOKUP(C555,Main!$A$49:$I$67,Main!$I$47,FALSE)","v":16.100000000000001},2295]
["MN","NEW ULM MUNI (AWOS)","6A",7809,1341,7.55,84.4,0.1132,"44.319N",-8.6,14.4,18.899999999999999,31.4,46.2,58.1,68.2,71.900000000000006,69.400000000000006,61.5,48.9,33.5,19.899999999999999,1104,871,592,181,24,0,0,0,9,142,503,934,0,0,14,69,276,547,679,603,354,107,10,0,13.5,10.220000000000001,16.899999999999999,37.04,43.7,55.4,63.32,64.040000000000006,53.6,27,27,21.6,0.85074626865671643,0.1284313033660292,75,43,23,28,{"$f":"IF(OR(C556=\"OA\",C556=\"OB\",C556=\"1B\",C556=\"1A\",C556=\"2A\",C556=\"2B\",C556=\"3A\",C556=\"3B\",C556=\"3C\"),TAN((LEFT(I556, 5)+VLOOKUP(C556,Main!$K$3:$L$21,2,FALSE))*PI()/180),IF(Checklist!$I$385=\"No\",TAN((LEFT(I556, 5)+VLOOKUP(C556,Main!$K$3:$L$21,2,FALSE))*PI()/180),\"NR\"))","v":"NR"},{"$f":"VLOOKUP(C556,Main!$A$49:$I$67,Main!$B$47,FALSE)","v":"NR"},{"$f":"VLOOKUP(C556,Main!$A$49:$I$67,Main!$C$47,FALSE)","v":"NR"},{"$f":"VLOOKUP(C556,Main!$A$49:$I$67,Main!$E$47,FALSE)&\":\"&\" \"&VLOOKUP(C556,Main!$A$49:$I$67,Main!$F$47,FALSE)","v":"Minimum COP @ 5°F:: 1.75"},{"$f":"VLOOKUP(C556,Main!$A$49:$I$67,Main!$G$47,FALSE)","v":15},{"$f":"VLOOKUP(C556,Main!$A$49:$I$67,Main!$H$47,FALSE)","v":3.1},{"$f":"VLOOKUP(C556,Main!$A$49:$I$67,Main!$I$47,FALSE)","v":16.100000000000001},2659]
["MN","ORR","6A",9896,1236,-10.6,76.099999999999994,0.1132,"48.016N",-19.100000000000001,6.5,11.7,24.3,38.700000000000003,51.2,60.7,65.5,63.6,55.3,42.7,26.8,12.7,1348,1074,798,357,89,7,0,1,46,268,697,1155,0,0,3,17,127,329,481,422,206,42,1,0,-8.5,9.86,1.8,23,38.1,52.88,53.6,54.68,50.7,18.7,18.7,3,0.86991869918699183,0.11294876966518758,81,49,28,33,{"$f":"IF(OR(C557=\"OA\",C557=\"OB\",C557=\"1B\",C557=\"1A\",C557=\"2A\",C557=\"2B\",C557=\"3A\",C557=\"3B\",C557=\"3C\"),TAN((LEFT(I557, 5)+VLOOKUP(C557,Main!$K$3:$L$21,2,FALSE))*PI()/180),IF(Checklist!$I$385=\"No\",TAN((LEFT(I557, 5)+VLOOKUP(C557,Main!$K$3:$L$21,2,FALSE))*PI()/180),\"NR\"))","v":"NR"},{"$f":"VLOOKUP(C557,Main!$A$49:$I$67,Main!$B$47,FALSE)","v":"NR"},{"$f":"VLOOKUP(C557,Main!$A$49:$I$67,Main!$C$47,FALSE)","v":"NR"},{"$f":"VLOOKUP(C557,Main!$A$49:$I$67,Main!$E$47,FALSE)&\":\"&\" \"&VLOOKUP(C557,Main!$A$49:$I$67,Main!$F$47,FALSE)","v":"Minimum COP @ 5°F:: 1.75"},{"$f":"VLOOKUP(C557,Main!$A$49:$I$67,Main!$G$47,FALSE)","v":15},{"$f":"VLOOKUP(C557,Main!$A$49:$I$67,Main!$H$47,FALSE)","v":3.1},{"$f":"VLOOKUP(C557,Main!$A$49:$I$67,Main!$I$47,FALSE)","v":16.100000000000001},1628]
["MN","OWATONNA (AWOS)","6A",7725,1335,-15.6,77,0.1132,"44.123N",-8.6,14.9,18.8,31.8,46.3,58.1,68.099999999999994,71.8,69.3,61.5,49,34.6,21,1088,873,579,183,25,0,0,0,10,140,476,900,0,0,15,71,278,543,676,598,355,109,13,0,11.3,13.1,28.6,32.9,43.2,58.82,60.98,62.42,54,26.2,26.2,19.2,0.84934086629001881,0.1284313033660292,75,43,23,28,{"$f":"IF(OR(C558=\"OA\",C558=\"OB\",C558=\"1B\",C558=\"1A\",C558=\"2A\",C558=\"2B\",C558=\"3A\",C558=\"3B\",C558=\"3C\"),TAN((LEFT(I558, 5)+VLOOKUP(C558,Main!$K$3:$L$21,2,FALSE))*PI()/180),IF(Checklist!$I$385=\"No\",TAN((LEFT(I558, 5)+VLOOKUP(C558,Main!$K$3:$L$21,2,FALSE))*PI()/180),\"NR\"))","v":"NR"},{"$f":"VLOOKUP(C558,Main!$A$49:$I$67,Main!$B$47,FALSE)","v":"NR"},{"$f":"VLOOKUP(C558,Main!$A$49:$I$67,Main!$C$47,FALSE)","v":"NR"},{"$f":"VLOOKUP(C558,Main!$A$49:$I$67,Main!$E$47,FALSE)&\":\"&\" \"&VLOOKUP(C558,Main!$A$49:$I$67,Main!$F$47,FALSE)","v":"Minimum COP @ 5°F:: 1.75"},{"$f":"VLOOKUP(C558,Main!$A$49:$I$67,Main!$G$47,FALSE)","v":15},{"$f":"VLOOKUP(C558,Main!$A$49:$I$67,Main!$H$47,FALSE)","v":3.1},{"$f":"VLOOKUP(C558,Main!$A$49:$I$67,Main!$I$47,FALSE)","v":16.100000000000001},2658]
["MN","PARK RAPIDS MUNICIPAL AP",7,9337,1213,-6,78.599999999999994,0.1132,"46.901N",-17.7,7.7,13.3,25.2,41.2,53.6,63.3,68.8,66.7,57.5,43.8,28,13.9,1311,1028,772,294,62,3,0,0,27,239,662,1118,0,0,4,28,173,403,583,517,253,47,2,0,5.2,8.9600000000000009,14.7,30.74,43.7,54.14,57.74,54.14,51.3,23.4,23.4,9.5,0.86733001658374798,0.11479390709262353,80,47,27,32,{"$f":"IF(OR(C559=\"OA\",C559=\"OB\",C559=\"1B\",C559=\"1A\",C559=\"2A\",C559=\"2B\",C559=\"3A\",C559=\"3B\",C559=\"3C\"),TAN((LEFT(I559, 5)+VLOOKUP(C559,Main!$K$3:$L$21,2,FALSE))*PI()/180),IF(Checklist!$I$385=\"No\",TAN((LEFT(I559, 5)+VLOOKUP(C559,Main!$K$3:$L$21,2,FALSE))*PI()/180),\"NR\"))","v":"NR"},{"$f":"VLOOKUP(C559,Main!$A$49:$I$67,Main!$B$47,FALSE)","v":"NR"},{"$f":"VLOOKUP(C559,Main!$A$49:$I$67,Main!$C$47,FALSE)","v":"NR"},{"$f":"VLOOKUP(C559,Main!$A$49:$I$67,Main!$E$47,FALSE)&\":\"&\" \"&VLOOKUP(C559,Main!$A$49:$I$67,Main!$F$47,FALSE)","v":"Minimum COP @ 5°F:: 1.75"},{"$f":"VLOOKUP(C559,Main!$A$49:$I$67,Main!$G$47,FALSE)","v":15},{"$f":"VLOOKUP(C559,Main!$A$49:$I$67,Main!$H$47,FALSE)","v":3.1},{"$f":"VLOOKUP(C559,Main!$A$49:$I$67,Main!$I$47,FALSE)","v":16.100000000000001},2010]
["MN","PIPESTONE (AWOS)","6A",7880,1393,-2.75,79.900000000000006,0.1132,"43.983N",-8.1999999999999993,15.3,19.399999999999999,31.2,44.9,57.1,67.3,71.900000000000006,69.3,61.2,48.6,32.9,20.100000000000001,1077,856,595,210,33,1,0,0,10,149,522,928,0,0,11,58,252,520,679,598,346,105,8,0,6.6,7.16,26.8,31.1,40.299999999999997,56.48,65.84,61.52,53.4,25.5,25.5,6.8,0.8481973434535105,0.1291054834361921,75,43,23,28,{"$f":"IF(OR(C560=\"OA\",C560=\"OB\",C560=\"1B\",C560=\"1A\",C560=\"2A\",C560=\"2B\",C560=\"3A\",C560=\"3B\",C560=\"3C\"),TAN((LEFT(I560, 5)+VLOOKUP(C560,Main!$K$3:$L$21,2,FALSE))*PI()/180),IF(Checklist!$I$385=\"No\",TAN((LEFT(I560, 5)+VLOOKUP(C560,Main!$K$3:$L$21,2,FALSE))*PI()/180),\"NR\"))","v":"NR"},{"$f":"VLOOKUP(C560,Main!$A$49:$I$67,Main!$B$47,FALSE)","v":"NR"},{"$f":"VLOOKUP(C560,Main!$A$49:$I$67,Main!$C$47,FALSE)","v":"NR"},{"$f":"VLOOKUP(C560,Main!$A$49:$I$67,Main!$E$47,FALSE)&\":\"&\" \"&VLOOKUP(C560,Main!$A$49:$I$67,Main!$F$47,FALSE)","v":"Minimum COP @ 5°F:: 1.75"},{"$f":"VLOOKUP(C560,Main!$A$49:$I$67,Main!$G$47,FALSE)","v":15},{"$f":"VLOOKUP(C560,Main!$A$49:$I$67,Main!$H$47,FALSE)","v":3.1},{"$f":"VLOOKUP(C560,Main!$A$49:$I$67,Main!$I$47,FALSE)","v":16.100000000000001},2577]
["MN","RED WING","6A",7626,1289,2.9,80.2,0.1132,"44.589N",-8.1,15.5,20.2,32.200000000000003,46.4,57.9,67.8,72.400000000000006,70,61.6,49.6,34.9,21.2,1070,833,567,180,26,1,0,0,11,130,462,894,0,0,15,72,270,536,695,619,361,118,11,0,10,14.72,27.3,31.64,42.1,56.48,66.38,58.64,54.1,23.7,23.7,14.4,0.84761904761904761,0.12927513584543809,74,42,23,28,{"$f":"IF(OR(C561=\"OA\",C561=\"OB\",C561=\"1B\",C561=\"1A\",C561=\"2A\",C561=\"2B\",C561=\"3A\",C561=\"3B\",C561=\"3C\"),TAN((LEFT(I561, 5)+VLOOKUP(C561,Main!$K$3:$L$21,2,FALSE))*PI()/180),IF(Checklist!$I$385=\"No\",TAN((LEFT(I561, 5)+VLOOKUP(C561,Main!$K$3:$L$21,2,FALSE))*PI()/180),\"NR\"))","v":"NR"},{"$f":"VLOOKUP(C561,Main!$A$49:$I$67,Main!$B$47,FALSE)","v":"NR"},{"$f":"VLOOKUP(C561,Main!$A$49:$I$67,Main!$C$47,FALSE)","v":"NR"},{"$f":"VLOOKUP(C561,Main!$A$49:$I$67,Main!$E$47,FALSE)&\":\"&\" \"&VLOOKUP(C561,Main!$A$49:$I$67,Main!$F$47,FALSE)","v":"Minimum COP @ 5°F:: 1.75"},{"$f":"VLOOKUP(C561,Main!$A$49:$I$67,Main!$G$47,FALSE)","v":15},{"$f":"VLOOKUP(C561,Main!$A$49:$I$67,Main!$H$47,FALSE)","v":3.1},{"$f":"VLOOKUP(C561,Main!$A$49:$I$67,Main!$I$47,FALSE)","v":16.100000000000001},2697]
["MN","REDWOOD FALLS MUNI","6A",7774,1170,-2.65,80.099999999999994,0.1132,"44.548N",-8.6999999999999993,14.9,19.5,31.4,46.1,58.8,68.8,72.7,70.3,62.1,48.8,33,19.5,1089,855,586,189,24,0,0,0,8,143,519,944,0,0,10,72,295,565,704,630,370,106,9,0,13.1,7.34,27.3,36.86,46,60.44,64.040000000000006,58.64,50.5,27.1,27.1,7.3,0.84934086629001881,0.12826385707741639,75,43,23,28,{"$f":"IF(OR(C562=\"OA\",C562=\"OB\",C562=\"1B\",C562=\"1A\",C562=\"2A\",C562=\"2B\",C562=\"3A\",C562=\"3B\",C562=\"3C\"),TAN((LEFT(I562, 5)+VLOOKUP(C562,Main!$K$3:$L$21,2,FALSE))*PI()/180),IF(Checklist!$I$385=\"No\",TAN((LEFT(I562, 5)+VLOOKUP(C562,Main!$K$3:$L$21,2,FALSE))*PI()/180),\"NR\"))","v":"NR"},{"$f":"VLOOKUP(C562,Main!$A$49:$I$67,Main!$B$47,FALSE)","v":"NR"},{"$f":"VLOOKUP(C562,Main!$A$49:$I$67,Main!$C$47,FALSE)","v":"NR"},{"$f":"VLOOKUP(C562,Main!$A$49:$I$67,Main!$E$47,FALSE)&\":\"&\" \"&VLOOKUP(C562,Main!$A$49:$I$67,Main!$F$47,FALSE)","v":"Minimum COP @ 5°F:: 1.75"},{"$f":"VLOOKUP(C562,Main!$A$49:$I$67,Main!$G$47,FALSE)","v":15},{"$f":"VLOOKUP(C562,Main!$A$49:$I$67,Main!$H$47,FALSE)","v":3.1},{"$f":"VLOOKUP(C562,Main!$A$49:$I$67,Main!$I$47,FALSE)","v":16.100000000000001},2761]
["MN","ROCHESTER INTERNATIONAL ARPT","6A",7832,1371,-8.75,75.599999999999994,0.1132,"43.904N",-7.6,15.2,19.5,31.7,45.6,57.4,67.3,70.400000000000006,68.3,60.6,48.3,33.700000000000003,20.399999999999999,1080,853,582,196,27,0,0,0,12,152,499,919,0,0,14,63,258,519,632,568,329,97,10,0,4.5999999999999996,12.56,24.4,34.880000000000003,48,56.84,61.34,59.54,46.6,25,25,12.9,0.84848484848484851,0.13013013013013014,75,43,24,29,{"$f":"IF(OR(C563=\"OA\",C563=\"OB\",C563=\"1B\",C563=\"1A\",C563=\"2A\",C563=\"2B\",C563=\"3A\",C563=\"3B\",C563=\"3C\"),TAN((LEFT(I563, 5)+VLOOKUP(C563,Main!$K$3:$L$21,2,FALSE))*PI()/180),IF(Checklist!$I$385=\"No\",TAN((LEFT(I563, 5)+VLOOKUP(C563,Main!$K$3:$L$21,2,FALSE))*PI()/180),\"NR\"))","v":"NR"},{"$f":"VLOOKUP(C563,Main!$A$49:$I$67,Main!$B$47,FALSE)","v":"NR"},{"$f":"VLOOKUP(C563,Main!$A$49:$I$67,Main!$C$47,FALSE)","v":"NR"},{"$f":"VLOOKUP(C563,Main!$A$49:$I$67,Main!$E$47,FALSE)&\":\"&\" \"&VLOOKUP(C563,Main!$A$49:$I$67,Main!$F$47,FALSE)","v":"Minimum COP @ 5°F:: 1.75"},{"$f":"VLOOKUP(C563,Main!$A$49:$I$67,Main!$G$47,FALSE)","v":15},{"$f":"VLOOKUP(C563,Main!$A$49:$I$67,Main!$H$47,FALSE)","v":3.1},{"$f":"VLOOKUP(C563,Main!$A$49:$I$67,Main!$I$47,FALSE)","v":16.100000000000001},2490]
["MN","ROSEAU MUNI (AWOS)",7,9716,1218,-6.05,70.3,0.1132,"48.856N",-19.5,5.5,10.199999999999999,23.7,40.4,52.6,62.8,67.3,65.5,57.3,43.8,27.8,11.9,1380,1116,818,315,71,3,0,0,30,236,669,1180,0,0,2,28,152,387,535,481,248,44,1,0,6.6,1.04,14.4,31.28,39.9,55.04,60.98,57.74,48.9,26.6,26.6,13.3,0.872,0.11243243243243242,81,48,28,33,{"$f":"IF(OR(C564=\"OA\",C564=\"OB\",C564=\"1B\",C564=\"1A\",C564=\"2A\",C564=\"2B\",C564=\"3A\",C564=\"3B\",C564=\"3C\"),TAN((LEFT(I564, 5)+VLOOKUP(C564,Main!$K$3:$L$21,2,FALSE))*PI()/180),IF(Checklist!$I$385=\"No\",TAN((LEFT(I564, 5)+VLOOKUP(C564,Main!$K$3:$L$21,2,FALSE))*PI()/180),\"NR\"))","v":"NR"},{"$f":"VLOOKUP(C564,Main!$A$49:$I$67,Main!$B$47,FALSE)","v":"NR"},{"$f":"VLOOKUP(C564,Main!$A$49:$I$67,Main!$C$47,FALSE)","v":"NR"},{"$f":"VLOOKUP(C564,Main!$A$49:$I$67,Main!$E$47,FALSE)&\":\"&\" \"&VLOOKUP(C564,Main!$A$49:$I$67,Main!$F$47,FALSE)","v":"Minimum COP @ 5°F:: 1.75"},{"$f":"VLOOKUP(C564,Main!$A$49:$I$67,Main!$G$47,FALSE)","v":15},{"$f":"VLOOKUP(C564,Main!$A$49:$I$67,Main!$H$47,FALSE)","v":3.1},{"$f":"VLOOKUP(C564,Main!$A$49:$I$67,Main!$I$47,FALSE)","v":16.100000000000001},1878]
["MN","SILVER BAY",7,9873,1316,-2.85,68.400000000000006,0.1132,"47.249N",-14.7,10.5,14.3,24.5,36.799999999999997,48.1,57.7,63.8,62.1,53.7,42,28.4,16.100000000000001,1224,1000,791,403,135,16,0,1,51,271,649,1052,0,0,1,6,75,247,428,376,161,24,0,0,-0.8,-2.02,22.3,26.78,28,49.82,53.24,50.9,50.5,16.7,16.7,7.3,0.86086956521739133,0.11895813588679367,81,49,29,34,{"$f":"IF(OR(C565=\"OA\",C565=\"OB\",C565=\"1B\",C565=\"1A\",C565=\"2A\",C565=\"2B\",C565=\"3A\",C565=\"3B\",C565=\"3C\"),TAN((LEFT(I565, 5)+VLOOKUP(C565,Main!$K$3:$L$21,2,FALSE))*PI()/180),IF(Checklist!$I$385=\"No\",TAN((LEFT(I565, 5)+VLOOKUP(C565,Main!$K$3:$L$21,2,FALSE))*PI()/180),\"NR\"))","v":"NR"},{"$f":"VLOOKUP(C565,Main!$A$49:$I$67,Main!$B$47,FALSE)","v":"NR"},{"$f":"VLOOKUP(C565,Main!$A$49:$I$67,Main!$C$47,FALSE)","v":"NR"},{"$f":"VLOOKUP(C565,Main!$A$49:$I$67,Main!$E$47,FALSE)&\":\"&\" \"&VLOOKUP(C565,Main!$A$49:$I$67,Main!$F$47,FALSE)","v":"Minimum COP @ 5°F:: 1.75"},{"$f":"VLOOKUP(C565,Main!$A$49:$I$67,Main!$G$47,FALSE)","v":15},{"$f":"VLOOKUP(C565,Main!$A$49:$I$67,Main!$H$47,FALSE)","v":3.1},{"$f":"VLOOKUP(C565,Main!$A$49:$I$67,Main!$I$47,FALSE)","v":16.100000000000001},1318]
["MN","SOUTH ST PAUL MUNI","6A",7371,1383,0.7,78.8,0.1132,"44.857N",-4.4000000000000004,16.8,21.3,32.799999999999997,47.2,59.1,68.5,74,71.400000000000006,63.3,49.7,35.299999999999997,22,1029,804,549,164,16,0,0,0,5,115,450,869,0,0,16,79,298,554,744,665,405,105,9,0,7,17.96,22.3,35.78,41.9,60.98,64.400000000000006,61.7,55.8,25.5,25.5,4.3,0.84375,0.13588173809168283,73,42,22,27,{"$f":"IF(OR(C566=\"OA\",C566=\"OB\",C566=\"1B\",C566=\"1A\",C566=\"2A\",C566=\"2B\",C566=\"3A\",C566=\"3B\",C566=\"3C\"),TAN((LEFT(I566, 5)+VLOOKUP(C566,Main!$K$3:$L$21,2,FALSE))*PI()/180),IF(Checklist!$I$385=\"No\",TAN((LEFT(I566, 5)+VLOOKUP(C566,Main!$K$3:$L$21,2,FALSE))*PI()/180),\"NR\"))","v":"NR"},{"$f":"VLOOKUP(C566,Main!$A$49:$I$67,Main!$B$47,FALSE)","v":"NR"},{"$f":"VLOOKUP(C566,Main!$A$49:$I$67,Main!$C$47,FALSE)","v":"NR"},{"$f":"VLOOKUP(C566,Main!$A$49:$I$67,Main!$E$47,FALSE)&\":\"&\" \"&VLOOKUP(C566,Main!$A$49:$I$67,Main!$F$47,FALSE)","v":"Minimum COP @ 5°F:: 1.75"},{"$f":"VLOOKUP(C566,Main!$A$49:$I$67,Main!$G$47,FALSE)","v":15},{"$f":"VLOOKUP(C566,Main!$A$49:$I$67,Main!$H$47,FALSE)","v":3.1},{"$f":"VLOOKUP(C566,Main!$A$49:$I$67,Main!$I$47,FALSE)","v":16.100000000000001},2875]
["MN","ST CLOUD REGIONAL ARPT","6A",8425,1413,-7.6,76.3,0.1132,"45.543N",-11.3,12.1,17,29.3,43.9,56.2,66,70.3,68.099999999999994,59.4,46.3,31.1,17.7,1175,925,648,233,36,1,0,0,18,184,573,1003,0,0,7,50,228,480,629,561,300,70,4,0,0.1,7.88,20.3,27.32,43.9,55.58,60.8,57.38,48.7,24.1,24.1,5,0.85688729874776381,0.12405848471422241,77,45,25,30,{"$f":"IF(OR(C567=\"OA\",C567=\"OB\",C567=\"1B\",C567=\"1A\",C567=\"2A\",C567=\"2B\",C567=\"3A\",C567=\"3B\",C567=\"3C\"),TAN((LEFT(I567, 5)+VLOOKUP(C567,Main!$K$3:$L$21,2,FALSE))*PI()/180),IF(Checklist!$I$385=\"No\",TAN((LEFT(I567, 5)+VLOOKUP(C567,Main!$K$3:$L$21,2,FALSE))*PI()/180),\"NR\"))","v":"NR"},{"$f":"VLOOKUP(C567,Main!$A$49:$I$67,Main!$B$47,FALSE)","v":"NR"},{"$f":"VLOOKUP(C567,Main!$A$49:$I$67,Main!$C$47,FALSE)","v":"NR"},{"$f":"VLOOKUP(C567,Main!$A$49:$I$67,Main!$E$47,FALSE)&\":\"&\" \"&VLOOKUP(C567,Main!$A$49:$I$67,Main!$F$47,FALSE)","v":"Minimum COP @ 5°F:: 1.75"},{"$f":"VLOOKUP(C567,Main!$A$49:$I$67,Main!$G$47,FALSE)","v":15},{"$f":"VLOOKUP(C567,Main!$A$49:$I$67,Main!$H$47,FALSE)","v":3.1},{"$f":"VLOOKUP(C567,Main!$A$49:$I$67,Main!$I$47,FALSE)","v":16.100000000000001},2329]
["MN","ST PAUL DOWNTOWN AP","6A",7465,1289,-3.35,82.4,0.1132,"44.932N",-5.8,15.9,20.7,32.700000000000003,47.2,59,68.7,73.599999999999994,71.3,62.7,49.7,34.799999999999997,21.5,1058,821,552,164,17,0,0,0,7,119,465,885,0,0,15,81,296,562,732,661,387,111,8,0,-2.7,14.9,28.2,30.2,43.9,57.92,59.9,62.06,56.3,30,30,11.5,0.84644913627639151,0.13330403574306013,74,42,22,27,{"$f":"IF(OR(C568=\"OA\",C568=\"OB\",C568=\"1B\",C568=\"1A\",C568=\"2A\",C568=\"2B\",C568=\"3A\",C568=\"3B\",C568=\"3C\"),TAN((LEFT(I568, 5)+VLOOKUP(C568,Main!$K$3:$L$21,2,FALSE))*PI()/180),IF(Checklist!$I$385=\"No\",TAN((LEFT(I568, 5)+VLOOKUP(C568,Main!$K$3:$L$21,2,FALSE))*PI()/180),\"NR\"))","v":"NR"},{"$f":"VLOOKUP(C568,Main!$A$49:$I$67,Main!$B$47,FALSE)","v":"NR"},{"$f":"VLOOKUP(C568,Main!$A$49:$I$67,Main!$C$47,FALSE)","v":"NR"},{"$f":"VLOOKUP(C568,Main!$A$49:$I$67,Main!$E$47,FALSE)&\":\"&\" \"&VLOOKUP(C568,Main!$A$49:$I$67,Main!$F$47,FALSE)","v":"Minimum COP @ 5°F:: 1.75"},{"$f":"VLOOKUP(C568,Main!$A$49:$I$67,Main!$G$47,FALSE)","v":15},{"$f":"VLOOKUP(C568,Main!$A$49:$I$67,Main!$H$47,FALSE)","v":3.1},{"$f":"VLOOKUP(C568,Main!$A$49:$I$67,Main!$I$47,FALSE)","v":16.100000000000001},2853]
["MN","THIEF RIVER(AWOS)",7,9634,1276,-2.5499999999999998,73.8,0.1132,"48.067N",-17.5,6.4,10.9,23.9,40.5,53.3,63.2,67.2,65.8,56.8,43.7,27.2,12.4,1352,1096,811,311,65,1,0,0,29,243,686,1166,0,0,2,25,167,398,532,490,234,47,1,0,1.9,15.08,6.8,33.979999999999997,35.1,52.34,60.26,56.48,48.4,29.3,29.3,6.3,0.87012987012987009,0.11506243085190453,81,48,28,33,{"$f":"IF(OR(C569=\"OA\",C569=\"OB\",C569=\"1B\",C569=\"1A\",C569=\"2A\",C569=\"2B\",C569=\"3A\",C569=\"3B\",C569=\"3C\"),TAN((LEFT(I569, 5)+VLOOKUP(C569,Main!$K$3:$L$21,2,FALSE))*PI()/180),IF(Checklist!$I$385=\"No\",TAN((LEFT(I569, 5)+VLOOKUP(C569,Main!$K$3:$L$21,2,FALSE))*PI()/180),\"NR\"))","v":"NR"},{"$f":"VLOOKUP(C569,Main!$A$49:$I$67,Main!$B$47,FALSE)","v":"NR"},{"$f":"VLOOKUP(C569,Main!$A$49:$I$67,Main!$C$47,FALSE)","v":"NR"},{"$f":"VLOOKUP(C569,Main!$A$49:$I$67,Main!$E$47,FALSE)&\":\"&\" \"&VLOOKUP(C569,Main!$A$49:$I$67,Main!$F$47,FALSE)","v":"Minimum COP @ 5°F:: 1.75"},{"$f":"VLOOKUP(C569,Main!$A$49:$I$67,Main!$G$47,FALSE)","v":15},{"$f":"VLOOKUP(C569,Main!$A$49:$I$67,Main!$H$47,FALSE)","v":3.1},{"$f":"VLOOKUP(C569,Main!$A$49:$I$67,Main!$I$47,FALSE)","v":16.100000000000001},1896]
["MN","WHEATON NDB (AWOS)","6A",8533,1343,6,84.2,0.1132,"45.780N",-11.3,11.1,15.2,27.9,43.6,56.5,66.3,70.599999999999994,68.099999999999994,59.8,46.7,30.8,17.100000000000001,1206,973,689,234,36,1,0,0,14,176,579,1021,0,0,5,43,238,489,637,562,308,73,5,0,6.3,4.6399999999999997,19,35.6,42.6,51.62,60.44,59.18,54,16.5,16.5,16.2,0.85940246045694202,0.12405848471422241,77,45,24,29,{"$f":"IF(OR(C570=\"OA\",C570=\"OB\",C570=\"1B\",C570=\"1A\",C570=\"2A\",C570=\"2B\",C570=\"3A\",C570=\"3B\",C570=\"3C\"),TAN((LEFT(I570, 5)+VLOOKUP(C570,Main!$K$3:$L$21,2,FALSE))*PI()/180),IF(Checklist!$I$385=\"No\",TAN((LEFT(I570, 5)+VLOOKUP(C570,Main!$K$3:$L$21,2,FALSE))*PI()/180),\"NR\"))","v":"NR"},{"$f":"VLOOKUP(C570,Main!$A$49:$I$67,Main!$B$47,FALSE)","v":"NR"},{"$f":"VLOOKUP(C570,Main!$A$49:$I$67,Main!$C$47,FALSE)","v":"NR"},{"$f":"VLOOKUP(C570,Main!$A$49:$I$67,Main!$E$47,FALSE)&\":\"&\" \"&VLOOKUP(C570,Main!$A$49:$I$67,Main!$F$47,FALSE)","v":"Minimum COP @ 5°F:: 1.75"},{"$f":"VLOOKUP(C570,Main!$A$49:$I$67,Main!$G$47,FALSE)","v":15},{"$f":"VLOOKUP(C570,Main!$A$49:$I$67,Main!$H$47,FALSE)","v":3.1},{"$f":"VLOOKUP(C570,Main!$A$49:$I$67,Main!$I$47,FALSE)","v":16.100000000000001},2360]
["MN","WILLMAR","6A",8233,1355,-5.05,81,0.1132,"45.117N",-11.3,12.4,18.100000000000001,29.2,45,56.8,67.099999999999994,70.599999999999994,68.400000000000006,60.7,47.6,31.4,18.7,1167,894,649,212,31,1,0,0,14,167,564,969,0,0,5,61,241,513,639,572,335,93,6,0,5.5,18.14,30.9,40.28,46.4,56.3,63.5,63.14,45,24.4,24.4,15.3,0.85611510791366907,0.12405848471422241,76,44,24,29,{"$f":"IF(OR(C571=\"OA\",C571=\"OB\",C571=\"1B\",C571=\"1A\",C571=\"2A\",C571=\"2B\",C571=\"3A\",C571=\"3B\",C571=\"3C\"),TAN((LEFT(I571, 5)+VLOOKUP(C571,Main!$K$3:$L$21,2,FALSE))*PI()/180),IF(Checklist!$I$385=\"No\",TAN((LEFT(I571, 5)+VLOOKUP(C571,Main!$K$3:$L$21,2,FALSE))*PI()/180),\"NR\"))","v":"NR"},{"$f":"VLOOKUP(C571,Main!$A$49:$I$67,Main!$B$47,FALSE)","v":"NR"},{"$f":"VLOOKUP(C571,Main!$A$49:$I$67,Main!$C$47,FALSE)","v":"NR"},{"$f":"VLOOKUP(C571,Main!$A$49:$I$67,Main!$E$47,FALSE)&\":\"&\" \"&VLOOKUP(C571,Main!$A$49:$I$67,Main!$F$47,FALSE)","v":"Minimum COP @ 5°F:: 1.75"},{"$f":"VLOOKUP(C571,Main!$A$49:$I$67,Main!$G$47,FALSE)","v":15},{"$f":"VLOOKUP(C571,Main!$A$49:$I$67,Main!$H$47,FALSE)","v":3.1},{"$f":"VLOOKUP(C571,Main!$A$49:$I$67,Main!$I$47,FALSE)","v":16.100000000000001},2465]
["MN","WINONA MUNI (AWOS)","5A",7132,1249,2.65,83.8,0.1132,"44.077N",-4.3,18,22.5,34.200000000000003,47.6,58.8,68.7,73,70.8,62.7,50.5,36.9,23.8,991,770,506,154,16,0,0,0,5,111,404,812,0,0,17,82,288,561,713,644,386,125,12,1,10.6,10.4,28.6,38.659999999999997,44.2,56.48,62.24,61.7,54.1,28.6,28.6,3.9,0.84,0.13606967963814437,73,41,22,27,{"$f":"IF(OR(C572=\"OA\",C572=\"OB\",C572=\"1B\",C572=\"1A\",C572=\"2A\",C572=\"2B\",C572=\"3A\",C572=\"3B\",C572=\"3C\"),TAN((LEFT(I572, 5)+VLOOKUP(C572,Main!$K$3:$L$21,2,FALSE))*PI()/180),IF(Checklist!$I$385=\"No\",TAN((LEFT(I572, 5)+VLOOKUP(C572,Main!$K$3:$L$21,2,FALSE))*PI()/180),\"NR\"))","v":"NR"},{"$f":"VLOOKUP(C572,Main!$A$49:$I$67,Main!$B$47,FALSE)","v":"NR"},{"$f":"VLOOKUP(C572,Main!$A$49:$I$67,Main!$C$47,FALSE)","v":"NR"},{"$f":"VLOOKUP(C572,Main!$A$49:$I$67,Main!$E$47,FALSE)&\":\"&\" \"&VLOOKUP(C572,Main!$A$49:$I$67,Main!$F$47,FALSE)","v":"Minimum COP @ 5°F:: 1.75"},{"$f":"VLOOKUP(C572,Main!$A$49:$I$67,Main!$G$47,FALSE)","v":15},{"$f":"VLOOKUP(C572,Main!$A$49:$I$67,Main!$H$47,FALSE)","v":3.1},{"$f":"VLOOKUP(C572,Main!$A$49:$I$67,Main!$I$47,FALSE)","v":16.100000000000001},2829]
["MN","WORTHINGTON (AWOS)","6A",7860,1384,0.6,76.599999999999994,0.1132,"43.645N",-7.6,15.4,20,31.5,45.5,56.6,66.900000000000006,70.8,68.3,60.6,48.6,33.299999999999997,20.399999999999999,1073,839,585,195,36,1,0,0,13,149,510,919,0,0,13,59,239,507,645,567,331,105,9,0,8.1,18.68,12.2,35.96,46.6,53.96,60.26,60.44,53.4,23.4,23.4,9.5,0.84790874524714832,0.13013013013013014,75,43,24,29,{"$f":"IF(OR(C573=\"OA\",C573=\"OB\",C573=\"1B\",C573=\"1A\",C573=\"2A\",C573=\"2B\",C573=\"3A\",C573=\"3B\",C573=\"3C\"),TAN((LEFT(I573, 5)+VLOOKUP(C573,Main!$K$3:$L$21,2,FALSE))*PI()/180),IF(Checklist!$I$385=\"No\",TAN((LEFT(I573, 5)+VLOOKUP(C573,Main!$K$3:$L$21,2,FALSE))*PI()/180),\"NR\"))","v":"NR"},{"$f":"VLOOKUP(C573,Main!$A$49:$I$67,Main!$B$47,FALSE)","v":"NR"},{"$f":"VLOOKUP(C573,Main!$A$49:$I$67,Main!$C$47,FALSE)","v":"NR"},{"$f":"VLOOKUP(C573,Main!$A$49:$I$67,Main!$E$47,FALSE)&\":\"&\" \"&VLOOKUP(C573,Main!$A$49:$I$67,Main!$F$47,FALSE)","v":"Minimum COP @ 5°F:: 1.75"},{"$f":"VLOOKUP(C573,Main!$A$49:$I$67,Main!$G$47,FALSE)","v":15},{"$f":"VLOOKUP(C573,Main!$A$49:$I$67,Main!$H$47,FALSE)","v":3.1},{"$f":"VLOOKUP(C573,Main!$A$49:$I$67,Main!$I$47,FALSE)","v":16.100000000000001},2475]
["MO","CAPE GIRARDEAU MUNICIPAL AP","4A",4193,1486,13.1,79.7,0.1026,"37.225N",15.9,34.700000000000003,39,47.8,58,67.400000000000006,75.8,78.8,77.3,69.099999999999994,58.2,46.9,37.5,488,326,168,27,1,0,0,0,0,22,168,402,15,19,98,266,540,775,894,846,574,276,76,16,24.1,28.58,39.700000000000003,40.46,50.4,67.64,67.28,68.900000000000006,56.1,43.5,43.5,27.7,0.75975975975975973,0.18882606214659955,62,32,15,20,{"$f":"IF(OR(C574=\"OA\",C574=\"OB\",C574=\"1B\",C574=\"1A\",C574=\"2A\",C574=\"2B\",C574=\"3A\",C574=\"3B\",C574=\"3C\"),TAN((LEFT(I574, 5)+VLOOKUP(C574,Main!$K$3:$L$21,2,FALSE))*PI()/180),IF(Checklist!$I$385=\"No\",TAN((LEFT(I574, 5)+VLOOKUP(C574,Main!$K$3:$L$21,2,FALSE))*PI()/180),\"NR\"))","v":"NR"},{"$f":"VLOOKUP(C574,Main!$A$49:$I$67,Main!$B$47,FALSE)","v":0.5},{"$f":"VLOOKUP(C574,Main!$A$49:$I$67,Main!$C$47,FALSE)","v":0.25},{"$f":"VLOOKUP(C574,Main!$A$49:$I$67,Main!$E$47,FALSE)&\":\"&\" \"&VLOOKUP(C574,Main!$A$49:$I$67,Main!$F$47,FALSE)","v":"Minimum HSPF:: 9.6"},{"$f":"VLOOKUP(C574,Main!$A$49:$I$67,Main!$G$47,FALSE)","v":18},{"$f":"VLOOKUP(C574,Main!$A$49:$I$67,Main!$H$47,FALSE)","v":3.1},{"$f":"VLOOKUP(C574,Main!$A$49:$I$67,Main!$I$47,FALSE)","v":16.100000000000001},4395]
["MO","COLUMBIA REGIONAL AIRPORT","4A",4917,1577,15.1,83.7,0.1026,"38.817N",9.1999999999999993,30.2,34.9,44.9,55.3,64.400000000000006,73.2,77.3,76.400000000000006,67.599999999999994,56.5,44.6,33.799999999999997,621,435,240,52,3,0,0,0,1,39,222,510,6,12,81,212,449,695,847,818,529,240,59,9,17.8,21.74,35.799999999999997,43.34,51.3,60.8,64.760000000000005,66.2,56.3,31.1,31.1,23,0.78835978835978848,0.16731016731016729,65,34,17,22,{"$f":"IF(OR(C575=\"OA\",C575=\"OB\",C575=\"1B\",C575=\"1A\",C575=\"2A\",C575=\"2B\",C575=\"3A\",C575=\"3B\",C575=\"3C\"),TAN((LEFT(I575, 5)+VLOOKUP(C575,Main!$K$3:$L$21,2,FALSE))*PI()/180),IF(Checklist!$I$385=\"No\",TAN((LEFT(I575, 5)+VLOOKUP(C575,Main!$K$3:$L$21,2,FALSE))*PI()/180),\"NR\"))","v":"NR"},{"$f":"VLOOKUP(C575,Main!$A$49:$I$67,Main!$B$47,FALSE)","v":0.5},{"$f":"VLOOKUP(C575,Main!$A$49:$I$67,Main!$C$47,FALSE)","v":0.25},{"$f":"VLOOKUP(C575,Main!$A$49:$I$67,Main!$E$47,FALSE)&\":\"&\" \"&VLOOKUP(C575,Main!$A$49:$I$67,Main!$F$47,FALSE)","v":"Minimum HSPF:: 9.6"},{"$f":"VLOOKUP(C575,Main!$A$49:$I$67,Main!$G$47,FALSE)","v":18},{"$f":"VLOOKUP(C575,Main!$A$49:$I$67,Main!$H$47,FALSE)","v":3.1},{"$f":"VLOOKUP(C575,Main!$A$49:$I$67,Main!$I$47,FALSE)","v":16.100000000000001},3957]
["MO","FARMINGTON","4A",4645,1633,16.5,81.3,0.1026,"37.761N",12.1,33.299999999999997,36.799999999999997,46,55.6,64.599999999999994,73,76.7,76.099999999999994,67.2,56.7,45.2,35.4,532,386,212,44,3,0,0,0,1,33,204,464,14,17,88,213,457,690,826,811,515,241,59,11,29.5,24.44,32.5,40.28,50.7,61.7,66.02,67.819999999999993,52.3,34.200000000000003,34.200000000000003,27.3,0.76945244956772341,0.17598994343180388,64,33,16,21,{"$f":"IF(OR(C576=\"OA\",C576=\"OB\",C576=\"1B\",C576=\"1A\",C576=\"2A\",C576=\"2B\",C576=\"3A\",C576=\"3B\",C576=\"3C\"),TAN((LEFT(I576, 5)+VLOOKUP(C576,Main!$K$3:$L$21,2,FALSE))*PI()/180),IF(Checklist!$I$385=\"No\",TAN((LEFT(I576, 5)+VLOOKUP(C576,Main!$K$3:$L$21,2,FALSE))*PI()/180),\"NR\"))","v":"NR"},{"$f":"VLOOKUP(C576,Main!$A$49:$I$67,Main!$B$47,FALSE)","v":0.5},{"$f":"VLOOKUP(C576,Main!$A$49:$I$67,Main!$C$47,FALSE)","v":0.25},{"$f":"VLOOKUP(C576,Main!$A$49:$I$67,Main!$E$47,FALSE)&\":\"&\" \"&VLOOKUP(C576,Main!$A$49:$I$67,Main!$F$47,FALSE)","v":"Minimum HSPF:: 9.6"},{"$f":"VLOOKUP(C576,Main!$A$49:$I$67,Main!$G$47,FALSE)","v":18},{"$f":"VLOOKUP(C576,Main!$A$49:$I$67,Main!$H$47,FALSE)","v":3.1},{"$f":"VLOOKUP(C576,Main!$A$49:$I$67,Main!$I$47,FALSE)","v":16.100000000000001},3942]
["MO","JEFFERSON CITY MEM","4A",4574,1534,23.45,80.8,0.1026,"38.591N",11.6,32.299999999999997,36.200000000000003,46,57.1,65.8,74.599999999999994,78.7,77.2,68.599999999999994,57.6,46.5,35.200000000000003,558,403,213,35,2,0,0,0,0,31,182,471,11,15,88,249,493,737,889,845,559,266,75,14,26.6,31.46,33.799999999999997,45.86,52.2,64.400000000000006,67.28,68.72,62.6,39,39,26.1,0.77591036414565828,0.174429748897834,64,33,16,21,{"$f":"IF(OR(C577=\"OA\",C577=\"OB\",C577=\"1B\",C577=\"1A\",C577=\"2A\",C577=\"2B\",C577=\"3A\",C577=\"3B\",C577=\"3C\"),TAN((LEFT(I577, 5)+VLOOKUP(C577,Main!$K$3:$L$21,2,FALSE))*PI()/180),IF(Checklist!$I$385=\"No\",TAN((LEFT(I577, 5)+VLOOKUP(C577,Main!$K$3:$L$21,2,FALSE))*PI()/180),\"NR\"))","v":"NR"},{"$f":"VLOOKUP(C577,Main!$A$49:$I$67,Main!$B$47,FALSE)","v":0.5},{"$f":"VLOOKUP(C577,Main!$A$49:$I$67,Main!$C$47,FALSE)","v":0.25},{"$f":"VLOOKUP(C577,Main!$A$49:$I$67,Main!$E$47,FALSE)&\":\"&\" \"&VLOOKUP(C577,Main!$A$49:$I$67,Main!$F$47,FALSE)","v":"Minimum HSPF:: 9.6"},{"$f":"VLOOKUP(C577,Main!$A$49:$I$67,Main!$G$47,FALSE)","v":18},{"$f":"VLOOKUP(C577,Main!$A$49:$I$67,Main!$H$47,FALSE)","v":3.1},{"$f":"VLOOKUP(C577,Main!$A$49:$I$67,Main!$I$47,FALSE)","v":16.100000000000001},4241]
["MO","JOPLIN MUNICIPAL AP","4A",4044,1571,23,86.2,0.1026,"37.147N",14,35.6,40,48.6,58.3,66.7,75.5,80,79.5,70.5,59.6,48.3,38.200000000000003,465,312,166,31,2,0,0,0,0,22,156,389,18,32,123,278,520,766,929,915,615,320,104,24,21.7,30.74,41,48.92,59.4,64.58,65.12,66.92,64.599999999999994,43.5,43.5,29.5,0.75308641975308643,0.18218218218218216,62,31,15,20,{"$f":"IF(OR(C578=\"OA\",C578=\"OB\",C578=\"1B\",C578=\"1A\",C578=\"2A\",C578=\"2B\",C578=\"3A\",C578=\"3B\",C578=\"3C\"),TAN((LEFT(I578, 5)+VLOOKUP(C578,Main!$K$3:$L$21,2,FALSE))*PI()/180),IF(Checklist!$I$385=\"No\",TAN((LEFT(I578, 5)+VLOOKUP(C578,Main!$K$3:$L$21,2,FALSE))*PI()/180),\"NR\"))","v":"NR"},{"$f":"VLOOKUP(C578,Main!$A$49:$I$67,Main!$B$47,FALSE)","v":0.5},{"$f":"VLOOKUP(C578,Main!$A$49:$I$67,Main!$C$47,FALSE)","v":0.25},{"$f":"VLOOKUP(C578,Main!$A$49:$I$67,Main!$E$47,FALSE)&\":\"&\" \"&VLOOKUP(C578,Main!$A$49:$I$67,Main!$F$47,FALSE)","v":"Minimum HSPF:: 9.6"},{"$f":"VLOOKUP(C578,Main!$A$49:$I$67,Main!$G$47,FALSE)","v":18},{"$f":"VLOOKUP(C578,Main!$A$49:$I$67,Main!$H$47,FALSE)","v":3.1},{"$f":"VLOOKUP(C578,Main!$A$49:$I$67,Main!$I$47,FALSE)","v":16.100000000000001},4644]
["MO","KAISER MEM (AWOS)","4A",4650,1495,26.6,85.6,0.1026,"38.096N",11,32.200000000000003,36.200000000000003,45.3,56.2,64.7,73.2,77.7,77.2,68.099999999999994,56.9,45.9,36.5,565,406,225,44,3,0,0,0,0,37,194,434,12,19,78,230,460,697,859,845,542,250,71,16,27.5,28.04,30.4,40.82,55.2,64.400000000000006,67.819999999999993,66.739999999999995,61.3,37,37,23.5,0.77653631284916202,0.17259364627785678,64,33,16,21,{"$f":"IF(OR(C579=\"OA\",C579=\"OB\",C579=\"1B\",C579=\"1A\",C579=\"2A\",C579=\"2B\",C579=\"3A\",C579=\"3B\",C579=\"3C\"),TAN((LEFT(I579, 5)+VLOOKUP(C579,Main!$K$3:$L$21,2,FALSE))*PI()/180),IF(Checklist!$I$385=\"No\",TAN((LEFT(I579, 5)+VLOOKUP(C579,Main!$K$3:$L$21,2,FALSE))*PI()/180),\"NR\"))","v":"NR"},{"$f":"VLOOKUP(C579,Main!$A$49:$I$67,Main!$B$47,FALSE)","v":0.5},{"$f":"VLOOKUP(C579,Main!$A$49:$I$67,Main!$C$47,FALSE)","v":0.25},{"$f":"VLOOKUP(C579,Main!$A$49:$I$67,Main!$E$47,FALSE)&\":\"&\" \"&VLOOKUP(C579,Main!$A$49:$I$67,Main!$F$47,FALSE)","v":"Minimum HSPF:: 9.6"},{"$f":"VLOOKUP(C579,Main!$A$49:$I$67,Main!$G$47,FALSE)","v":18},{"$f":"VLOOKUP(C579,Main!$A$49:$I$67,Main!$H$47,FALSE)","v":3.1},{"$f":"VLOOKUP(C579,Main!$A$49:$I$67,Main!$I$47,FALSE)","v":16.100000000000001},4079]
["MO","KANSAS CITY DOWNTOWN AP","4A",4567,1447,24.65,88.3,0.1026,"39.121N",10.199999999999999,31.7,36.299999999999997,46.3,56.7,66.5,75.8,80.599999999999994,79.3,70.2,58.7,45.9,35,574,400,207,41,2,0,0,0,0,27,194,474,6,16,94,241,513,775,950,909,607,297,70,10,23,33.08,35.1,46.94,57.6,64.22,70.7,69.08,64.900000000000006,31.5,31.5,28.8,0.77961432506887063,0.17020480688300757,64,33,16,21,{"$f":"IF(OR(C580=\"OA\",C580=\"OB\",C580=\"1B\",C580=\"1A\",C580=\"2A\",C580=\"2B\",C580=\"3A\",C580=\"3B\",C580=\"3C\"),TAN((LEFT(I580, 5)+VLOOKUP(C580,Main!$K$3:$L$21,2,FALSE))*PI()/180),IF(Checklist!$I$385=\"No\",TAN((LEFT(I580, 5)+VLOOKUP(C580,Main!$K$3:$L$21,2,FALSE))*PI()/180),\"NR\"))","v":"NR"},{"$f":"VLOOKUP(C580,Main!$A$49:$I$67,Main!$B$47,FALSE)","v":0.5},{"$f":"VLOOKUP(C580,Main!$A$49:$I$67,Main!$C$47,FALSE)","v":0.25},{"$f":"VLOOKUP(C580,Main!$A$49:$I$67,Main!$E$47,FALSE)&\":\"&\" \"&VLOOKUP(C580,Main!$A$49:$I$67,Main!$F$47,FALSE)","v":"Minimum HSPF:: 9.6"},{"$f":"VLOOKUP(C580,Main!$A$49:$I$67,Main!$G$47,FALSE)","v":18},{"$f":"VLOOKUP(C580,Main!$A$49:$I$67,Main!$H$47,FALSE)","v":3.1},{"$f":"VLOOKUP(C580,Main!$A$49:$I$67,Main!$I$47,FALSE)","v":16.100000000000001},4488]
["MO","KANSAS CITY INT ARPT","4A",5027,1588,13.2,84.7,0.1026,"39.297N",7.5,29.3,34.1,44.4,54.9,64.7,73.900000000000006,78.3,77.2,68.099999999999994,56.8,44,32.799999999999997,644,455,250,58,3,0,0,0,1,40,236,539,3,10,77,205,459,716,878,844,544,250,55,7,18.3,18.32,31.1,41,54.3,63.5,65.48,65.84,56.8,27.5,27.5,19,0.79328165374676995,0.16260888988161715,65,34,17,22,{"$f":"IF(OR(C581=\"OA\",C581=\"OB\",C581=\"1B\",C581=\"1A\",C581=\"2A\",C581=\"2B\",C581=\"3A\",C581=\"3B\",C581=\"3C\"),TAN((LEFT(I581, 5)+VLOOKUP(C581,Main!$K$3:$L$21,2,FALSE))*PI()/180),IF(Checklist!$I$385=\"No\",TAN((LEFT(I581, 5)+VLOOKUP(C581,Main!$K$3:$L$21,2,FALSE))*PI()/180),\"NR\"))","v":"NR"},{"$f":"VLOOKUP(C581,Main!$A$49:$I$67,Main!$B$47,FALSE)","v":0.5},{"$f":"VLOOKUP(C581,Main!$A$49:$I$67,Main!$C$47,FALSE)","v":0.25},{"$f":"VLOOKUP(C581,Main!$A$49:$I$67,Main!$E$47,FALSE)&\":\"&\" \"&VLOOKUP(C581,Main!$A$49:$I$67,Main!$F$47,FALSE)","v":"Minimum HSPF:: 9.6"},{"$f":"VLOOKUP(C581,Main!$A$49:$I$67,Main!$G$47,FALSE)","v":18},{"$f":"VLOOKUP(C581,Main!$A$49:$I$67,Main!$H$47,FALSE)","v":3.1},{"$f":"VLOOKUP(C581,Main!$A$49:$I$67,Main!$I$47,FALSE)","v":16.100000000000001},4048]
["MO","KIRKSVILLE REGIONAL AP","5A",5668,1413,4.8499999999999996,80.099999999999994,0.1026,"40.097N",5.0999999999999996,26.7,30.2,41.6,52.9,62.3,71.400000000000006,75.400000000000006,73.8,65.599999999999994,53.6,41.9,30,723,559,314,78,8,0,0,0,1,70,283,623,2,4,54,164,389,642,789,739,469,183,41,4,15.8,21.74,31.1,41,58.3,61.34,69.260000000000005,66.38,53.8,28.8,28.8,9,0.80629539951573848,0.15640441713573669,{"$f":"ROUNDDOWN((33.97238548+(2.143484655*3.14219615)+(0.00253108806*D582)+(-0.2767683543*J582)+(66.9384076*H582)+((3.14219615-3.14219615)^2*-1.607593659)+((J582-12.48681818)*(H582-0.2016890909)*-1.8168457)+8.4234),0)","v":67},{"$f":"ROUNDDOWN((2.975122788+(0.003896731237*D582)+(59.88697433*H582)+((D582-5520.854545)*(H582-0.2016890909)*0.01119327314)+5.3792),0)","v":36},18,{"$f":"ROUNDDOWN(BK582+5.9089,0)","v":23},{"$f":"IF(OR(C582=\"OA\",C582=\"OB\",C582=\"1B\",C582=\"1A\",C582=\"2A\",C582=\"2B\",C582=\"3A\",C582=\"3B\",C582=\"3C\"),TAN((LEFT(I582, 5)+VLOOKUP(C582,Main!$K$3:$L$21,2,FALSE))*PI()/180),IF(Checklist!$I$385=\"No\",TAN((LEFT(I582, 5)+VLOOKUP(C582,Main!$K$3:$L$21,2,FALSE))*PI()/180),\"NR\"))","v":"NR"},{"$f":"VLOOKUP(C582,Main!$A$49:$I$67,Main!$B$47,FALSE)","v":"NR"},{"$f":"VLOOKUP(C582,Main!$A$49:$I$67,Main!$C$47,FALSE)","v":"NR"},{"$f":"VLOOKUP(C582,Main!$A$49:$I$67,Main!$E$47,FALSE)&\":\"&\" \"&VLOOKUP(C582,Main!$A$49:$I$67,Main!$F$47,FALSE)","v":"Minimum COP @ 5°F:: 1.75"},{"$f":"VLOOKUP(C582,Main!$A$49:$I$67,Main!$G$47,FALSE)","v":15},{"$f":"VLOOKUP(C582,Main!$A$49:$I$67,Main!$H$47,FALSE)","v":3.1},{"$f":"VLOOKUP(C582,Main!$A$49:$I$67,Main!$I$47,FALSE)","v":16.100000000000001},3480]
["MO","POPLAR BLUFF(AMOS)","4A",3923,1538,31.8,83.3,0.1026,"36.773N",18.2,36.1,40.200000000000003,48.8,59.6,68,76.3,79.3,77.900000000000006,70.2,59.4,48.1,38.6,446,299,147,17,1,0,0,0,0,12,140,371,15,25,111,304,559,790,908,866,606,304,84,18,26.2,28.76,41,52.16,55.9,67.28,71.959999999999994,68.540000000000006,59,35.4,35.4,27.1,0.7492163009404389,0.19754694453489635,61,31,15,20,{"$f":"IF(OR(C583=\"OA\",C583=\"OB\",C583=\"1B\",C583=\"1A\",C583=\"2A\",C583=\"2B\",C583=\"3A\",C583=\"3B\",C583=\"3C\"),TAN((LEFT(I583, 5)+VLOOKUP(C583,Main!$K$3:$L$21,2,FALSE))*PI()/180),IF(Checklist!$I$385=\"No\",TAN((LEFT(I583, 5)+VLOOKUP(C583,Main!$K$3:$L$21,2,FALSE))*PI()/180),\"NR\"))","v":"NR"},{"$f":"VLOOKUP(C583,Main!$A$49:$I$67,Main!$B$47,FALSE)","v":0.5},{"$f":"VLOOKUP(C583,Main!$A$49:$I$67,Main!$C$47,FALSE)","v":0.25},{"$f":"VLOOKUP(C583,Main!$A$49:$I$67,Main!$E$47,FALSE)&\":\"&\" \"&VLOOKUP(C583,Main!$A$49:$I$67,Main!$F$47,FALSE)","v":"Minimum HSPF:: 9.6"},{"$f":"VLOOKUP(C583,Main!$A$49:$I$67,Main!$G$47,FALSE)","v":18},{"$f":"VLOOKUP(C583,Main!$A$49:$I$67,Main!$H$47,FALSE)","v":3.1},{"$f":"VLOOKUP(C583,Main!$A$49:$I$67,Main!$I$47,FALSE)","v":16.100000000000001},4590]
["MO","SPRINGFIELD REGIONAL ARPT","4A",4428,1587,20.65,82.2,0.1026,"37.240N",12.8,33.799999999999997,38.299999999999997,46.7,56.3,65.099999999999994,73.900000000000006,78.2,77.7,68.900000000000006,57.8,46.3,36.299999999999997,514,349,195,42,3,0,0,0,1,30,185,439,12,21,94,233,470,717,874,860,569,271,75,15,24.8,21.92,33.799999999999997,44.6,53.4,63.86,64.22,64.94,56.1,31.3,31.3,27.7,0.76608187134502925,0.17822169996083037,63,32,16,21,{"$f":"IF(OR(C584=\"OA\",C584=\"OB\",C584=\"1B\",C584=\"1A\",C584=\"2A\",C584=\"2B\",C584=\"3A\",C584=\"3B\",C584=\"3C\"),TAN((LEFT(I584, 5)+VLOOKUP(C584,Main!$K$3:$L$21,2,FALSE))*PI()/180),IF(Checklist!$I$385=\"No\",TAN((LEFT(I584, 5)+VLOOKUP(C584,Main!$K$3:$L$21,2,FALSE))*PI()/180),\"NR\"))","v":"NR"},{"$f":"VLOOKUP(C584,Main!$A$49:$I$67,Main!$B$47,FALSE)","v":0.5},{"$f":"VLOOKUP(C584,Main!$A$49:$I$67,Main!$C$47,FALSE)","v":0.25},{"$f":"VLOOKUP(C584,Main!$A$49:$I$67,Main!$E$47,FALSE)&\":\"&\" \"&VLOOKUP(C584,Main!$A$49:$I$67,Main!$F$47,FALSE)","v":"Minimum HSPF:: 9.6"},{"$f":"VLOOKUP(C584,Main!$A$49:$I$67,Main!$G$47,FALSE)","v":18},{"$f":"VLOOKUP(C584,Main!$A$49:$I$67,Main!$H$47,FALSE)","v":3.1},{"$f":"VLOOKUP(C584,Main!$A$49:$I$67,Main!$I$47,FALSE)","v":16.100000000000001},4211]
["MO","ST JOSEPH ROSECRANS MEMORIAL","4A",5323,1505,22,82.8,0.1026,"39.774N",5.3,27.7,32,43.3,54.7,65.099999999999994,73.8,77.7,76,67.3,55.6,42.8,30.5,692,509,273,61,4,0,0,0,1,51,259,609,2,6,65,201,472,715,860,805,521,224,43,5,19.899999999999999,22.82,21.9,36.32,49.1,64.22,69.98,69.8,55.8,30.2,30.2,28.4,0.80148883374689828,0.15690331479805161,66,35,{"$f":"ROUNDDOWN(-18.64576148+(5.900367721*3.14219615)+(0.002662134083*D585)+(38.92365332*H585)+((BT585-3890.577273)*(G585-78.59)*0.00005765875867)+((D585-5520.854545)*(H585-0.2016890909)*0.006047043516),0)","v":18},23,{"$f":"IF(OR(C585=\"OA\",C585=\"OB\",C585=\"1B\",C585=\"1A\",C585=\"2A\",C585=\"2B\",C585=\"3A\",C585=\"3B\",C585=\"3C\"),TAN((LEFT(I585, 5)+VLOOKUP(C585,Main!$K$3:$L$21,2,FALSE))*PI()/180),IF(Checklist!$I$385=\"No\",TAN((LEFT(I585, 5)+VLOOKUP(C585,Main!$K$3:$L$21,2,FALSE))*PI()/180),\"NR\"))","v":"NR"},{"$f":"VLOOKUP(C585,Main!$A$49:$I$67,Main!$B$47,FALSE)","v":0.5},{"$f":"VLOOKUP(C585,Main!$A$49:$I$67,Main!$C$47,FALSE)","v":0.25},{"$f":"VLOOKUP(C585,Main!$A$49:$I$67,Main!$E$47,FALSE)&\":\"&\" \"&VLOOKUP(C585,Main!$A$49:$I$67,Main!$F$47,FALSE)","v":"Minimum HSPF:: 9.6"},{"$f":"VLOOKUP(C585,Main!$A$49:$I$67,Main!$G$47,FALSE)","v":18},{"$f":"VLOOKUP(C585,Main!$A$49:$I$67,Main!$H$47,FALSE)","v":3.1},{"$f":"VLOOKUP(C585,Main!$A$49:$I$67,Main!$I$47,FALSE)","v":16.100000000000001},3919]
["MO","ST LOUIS LAMBERT INT ARPT","4A",4403,1533,13.5,85.6,0.1026,"38.753N",12.7,32.6,37,46.9,57.7,67.2,76.2,80.099999999999994,78.900000000000006,70.400000000000006,59,46.8,36.200000000000003,550,381,198,34,1,0,0,0,0,21,178,441,10,17,101,265,534,785,933,895,613,301,82,14,18,22.82,35.799999999999997,41,53.4,59.9,64.22,65.3,55.9,35.6,35.6,24.1,0.77401129943502822,0.17789941840574752,63,32,16,21,{"$f":"IF(OR(C586=\"OA\",C586=\"OB\",C586=\"1B\",C586=\"1A\",C586=\"2A\",C586=\"2B\",C586=\"3A\",C586=\"3B\",C586=\"3C\"),TAN((LEFT(I586, 5)+VLOOKUP(C586,Main!$K$3:$L$21,2,FALSE))*PI()/180),IF(Checklist!$I$385=\"No\",TAN((LEFT(I586, 5)+VLOOKUP(C586,Main!$K$3:$L$21,2,FALSE))*PI()/180),\"NR\"))","v":"NR"},{"$f":"VLOOKUP(C586,Main!$A$49:$I$67,Main!$B$47,FALSE)","v":0.5},{"$f":"VLOOKUP(C586,Main!$A$49:$I$67,Main!$C$47,FALSE)","v":0.25},{"$f":"VLOOKUP(C586,Main!$A$49:$I$67,Main!$E$47,FALSE)&\":\"&\" \"&VLOOKUP(C586,Main!$A$49:$I$67,Main!$F$47,FALSE)","v":"Minimum HSPF:: 9.6"},{"$f":"VLOOKUP(C586,Main!$A$49:$I$67,Main!$G$47,FALSE)","v":18},{"$f":"VLOOKUP(C586,Main!$A$49:$I$67,Main!$H$47,FALSE)","v":3.1},{"$f":"VLOOKUP(C586,Main!$A$49:$I$67,Main!$I$47,FALSE)","v":16.100000000000001},4550]
["MO","ST LOUIS SPIRIT OF ST LOUIS A","4A",4672,1492,25.5,82.8,0.1026,"38.657N",11.7,31.9,36.200000000000003,46,56.3,65.599999999999994,74.3,78.3,76.8,68.099999999999994,57,45.4,35.200000000000003,572,401,213,42,2,0,0,0,1,32,205,472,10,14,90,231,485,730,878,831,544,248,66,12,23.7,21.92,31.8,47.12,54.7,62.96,65.3,67.819999999999993,52.2,40.5,40.5,31.8,0.77839335180055402,0.17473957083193317,64,33,16,21,{"$f":"IF(OR(C587=\"OA\",C587=\"OB\",C587=\"1B\",C587=\"1A\",C587=\"2A\",C587=\"2B\",C587=\"3A\",C587=\"3B\",C587=\"3C\"),TAN((LEFT(I587, 5)+VLOOKUP(C587,Main!$K$3:$L$21,2,FALSE))*PI()/180),IF(Checklist!$I$385=\"No\",TAN((LEFT(I587, 5)+VLOOKUP(C587,Main!$K$3:$L$21,2,FALSE))*PI()/180),\"NR\"))","v":"NR"},{"$f":"VLOOKUP(C587,Main!$A$49:$I$67,Main!$B$47,FALSE)","v":0.5},{"$f":"VLOOKUP(C587,Main!$A$49:$I$67,Main!$C$47,FALSE)","v":0.25},{"$f":"VLOOKUP(C587,Main!$A$49:$I$67,Main!$E$47,FALSE)&\":\"&\" \"&VLOOKUP(C587,Main!$A$49:$I$67,Main!$F$47,FALSE)","v":"Minimum HSPF:: 9.6"},{"$f":"VLOOKUP(C587,Main!$A$49:$I$67,Main!$G$47,FALSE)","v":18},{"$f":"VLOOKUP(C587,Main!$A$49:$I$67,Main!$H$47,FALSE)","v":3.1},{"$f":"VLOOKUP(C587,Main!$A$49:$I$67,Main!$I$47,FALSE)","v":16.100000000000001},4139]
["MO","VICHY ROLLA NATL ARPT","4A",4730,1384,6.8,80.599999999999994,0.1026,"38.131N",10.9,32.1,35.700000000000003,45.5,56.1,64.599999999999994,72.7,77.400000000000006,77,68,56.7,45.8,34.6,568,414,223,46,4,0,0,0,0,41,199,490,12,14,84,229,457,682,850,838,539,248,72,11,18.7,33.979999999999997,36,48.2,54,62.06,69.98,62.78,54.9,39,39,23.9,0.77715877437325909,0.17229138069768543,64,33,16,21,{"$f":"IF(OR(C588=\"OA\",C588=\"OB\",C588=\"1B\",C588=\"1A\",C588=\"2A\",C588=\"2B\",C588=\"3A\",C588=\"3B\",C588=\"3C\"),TAN((LEFT(I588, 5)+VLOOKUP(C588,Main!$K$3:$L$21,2,FALSE))*PI()/180),IF(Checklist!$I$385=\"No\",TAN((LEFT(I588, 5)+VLOOKUP(C588,Main!$K$3:$L$21,2,FALSE))*PI()/180),\"NR\"))","v":"NR"},{"$f":"VLOOKUP(C588,Main!$A$49:$I$67,Main!$B$47,FALSE)","v":0.5},{"$f":"VLOOKUP(C588,Main!$A$49:$I$67,Main!$C$47,FALSE)","v":0.25},{"$f":"VLOOKUP(C588,Main!$A$49:$I$67,Main!$E$47,FALSE)&\":\"&\" \"&VLOOKUP(C588,Main!$A$49:$I$67,Main!$F$47,FALSE)","v":"Minimum HSPF:: 9.6"},{"$f":"VLOOKUP(C588,Main!$A$49:$I$67,Main!$G$47,FALSE)","v":18},{"$f":"VLOOKUP(C588,Main!$A$49:$I$67,Main!$H$47,FALSE)","v":3.1},{"$f":"VLOOKUP(C588,Main!$A$49:$I$67,Main!$I$47,FALSE)","v":16.100000000000001},4036]
["MO","WHITEMAN AFB","4A",4831,1547,21.4,82.9,0.1026,"38.717N",9.1,30.4,35.799999999999997,44.9,55.2,65.099999999999994,74.400000000000006,78.8,77.2,68.599999999999994,57.4,44.8,34,613,411,238,51,3,0,0,0,1,35,220,507,6,14,80,206,470,732,893,843,558,263,63,11,29.5,22.82,33.299999999999997,35.06,50.5,65.12,64.760000000000005,63.68,53.8,30.2,30.2,27.7,0.78723404255319152,0.16702610930115175,65,34,17,22,{"$f":"IF(OR(C589=\"OA\",C589=\"OB\",C589=\"1B\",C589=\"1A\",C589=\"2A\",C589=\"2B\",C589=\"3A\",C589=\"3B\",C589=\"3C\"),TAN((LEFT(I589, 5)+VLOOKUP(C589,Main!$K$3:$L$21,2,FALSE))*PI()/180),IF(Checklist!$I$385=\"No\",TAN((LEFT(I589, 5)+VLOOKUP(C589,Main!$K$3:$L$21,2,FALSE))*PI()/180),\"NR\"))","v":"NR"},{"$f":"VLOOKUP(C589,Main!$A$49:$I$67,Main!$B$47,FALSE)","v":0.5},{"$f":"VLOOKUP(C589,Main!$A$49:$I$67,Main!$C$47,FALSE)","v":0.25},{"$f":"VLOOKUP(C589,Main!$A$49:$I$67,Main!$E$47,FALSE)&\":\"&\" \"&VLOOKUP(C589,Main!$A$49:$I$67,Main!$F$47,FALSE)","v":"Minimum HSPF:: 9.6"},{"$f":"VLOOKUP(C589,Main!$A$49:$I$67,Main!$G$47,FALSE)","v":18},{"$f":"VLOOKUP(C589,Main!$A$49:$I$67,Main!$H$47,FALSE)","v":3.1},{"$f":"VLOOKUP(C589,Main!$A$49:$I$67,Main!$I$47,FALSE)","v":16.100000000000001},4139]
["MS","COLUMBUS AFB","3A",2620,1599,32.799999999999997,82.6,0.1065,"33.650N",25,44.3,49.2,55.5,63.2,71.599999999999994,78.8,81.400000000000006,80.7,75.099999999999994,63.6,52.4,47.1,241,125,53,4,0,0,0,0,0,4,74,175,63,103,224,400,669,865,972,952,753,426,146,85,34,35.24,36.700000000000003,44.78,59.5,69.8,74.3,69.98,57.4,40.299999999999997,40.299999999999997,30.6,0.66244725738396626,0.22878692646134505,58,28,13,18,{"$f":"IF(OR(C590=\"OA\",C590=\"OB\",C590=\"1B\",C590=\"1A\",C590=\"2A\",C590=\"2B\",C590=\"3A\",C590=\"3B\",C590=\"3C\"),TAN((LEFT(I590, 5)+VLOOKUP(C590,Main!$K$3:$L$21,2,FALSE))*PI()/180),IF(Checklist!$I$385=\"No\",TAN((LEFT(I590, 5)+VLOOKUP(C590,Main!$K$3:$L$21,2,FALSE))*PI()/180),\"NR\"))","v":0.66565702239745439},{"$f":"VLOOKUP(C590,Main!$A$49:$I$67,Main!$B$47,FALSE)","v":0.6},{"$f":"VLOOKUP(C590,Main!$A$49:$I$67,Main!$C$47,FALSE)","v":0.25},{"$f":"VLOOKUP(C590,Main!$A$49:$I$67,Main!$E$47,FALSE)&\":\"&\" \"&VLOOKUP(C590,Main!$A$49:$I$67,Main!$F$47,FALSE)","v":"Minimum HSPF:: 9.6"},{"$f":"VLOOKUP(C590,Main!$A$49:$I$67,Main!$G$47,FALSE)","v":18},{"$f":"VLOOKUP(C590,Main!$A$49:$I$67,Main!$H$47,FALSE)","v":3.1},{"$f":"VLOOKUP(C590,Main!$A$49:$I$67,Main!$I$47,FALSE)","v":16.100000000000001},5658]
["MS","GOLDEN TRI(AWOS)","3A",2684,1661,30.4,80.8,0.1065,"33.450N",24.8,44.5,48.2,54.8,62.7,71.099999999999994,77.5,81,80.099999999999994,74.5,64,53.4,45.3,239,135,57,3,0,0,0,0,0,5,65,203,68,85,206,383,656,824,962,935,734,440,167,58,29.3,33.26,35.4,44.6,64.400000000000006,66.2,68.540000000000006,68.900000000000006,64.900000000000006,36.9,36.9,32.700000000000003,0.65957446808510634,0.2277277277277277,58,28,13,18,{"$f":"IF(OR(C591=\"OA\",C591=\"OB\",C591=\"1B\",C591=\"1A\",C591=\"2A\",C591=\"2B\",C591=\"3A\",C591=\"3B\",C591=\"3C\"),TAN((LEFT(I591, 5)+VLOOKUP(C591,Main!$K$3:$L$21,2,FALSE))*PI()/180),IF(Checklist!$I$385=\"No\",TAN((LEFT(I591, 5)+VLOOKUP(C591,Main!$K$3:$L$21,2,FALSE))*PI()/180),\"NR\"))","v":0.66063131288601373},{"$f":"VLOOKUP(C591,Main!$A$49:$I$67,Main!$B$47,FALSE)","v":0.6},{"$f":"VLOOKUP(C591,Main!$A$49:$I$67,Main!$C$47,FALSE)","v":0.25},{"$f":"VLOOKUP(C591,Main!$A$49:$I$67,Main!$E$47,FALSE)&\":\"&\" \"&VLOOKUP(C591,Main!$A$49:$I$67,Main!$F$47,FALSE)","v":"Minimum HSPF:: 9.6"},{"$f":"VLOOKUP(C591,Main!$A$49:$I$67,Main!$G$47,FALSE)","v":18},{"$f":"VLOOKUP(C591,Main!$A$49:$I$67,Main!$H$47,FALSE)","v":3.1},{"$f":"VLOOKUP(C591,Main!$A$49:$I$67,Main!$I$47,FALSE)","v":16.100000000000001},5518]
["MS","GREENWOOD LEFLORE ARPT","3A",2559,1675,33.549999999999997,83.5,0.1065,"33.496N",25.4,44.8,48.4,56,64.2,72.400000000000006,79.099999999999994,81.400000000000006,81.2,75.3,64.599999999999994,54.1,46.9,232,139,53,4,0,0,0,0,0,5,65,188,72,94,238,429,694,873,974,968,759,459,189,92,36.9,41.54,37,52.52,59,69.260000000000005,73.58,68.72,64.599999999999994,48.7,48.7,35.799999999999997,0.65517241379310354,0.23093516051262528,57,27,13,18,{"$f":"IF(OR(C592=\"OA\",C592=\"OB\",C592=\"1B\",C592=\"1A\",C592=\"2A\",C592=\"2B\",C592=\"3A\",C592=\"3B\",C592=\"3C\"),TAN((LEFT(I592, 5)+VLOOKUP(C592,Main!$K$3:$L$21,2,FALSE))*PI()/180),IF(Checklist!$I$385=\"No\",TAN((LEFT(I592, 5)+VLOOKUP(C592,Main!$K$3:$L$21,2,FALSE))*PI()/180),\"NR\"))","v":0.66163459569482952},{"$f":"VLOOKUP(C592,Main!$A$49:$I$67,Main!$B$47,FALSE)","v":0.6},{"$f":"VLOOKUP(C592,Main!$A$49:$I$67,Main!$C$47,FALSE)","v":0.25},{"$f":"VLOOKUP(C592,Main!$A$49:$I$67,Main!$E$47,FALSE)&\":\"&\" \"&VLOOKUP(C592,Main!$A$49:$I$67,Main!$F$47,FALSE)","v":"Minimum HSPF:: 9.6"},{"$f":"VLOOKUP(C592,Main!$A$49:$I$67,Main!$G$47,FALSE)","v":18},{"$f":"VLOOKUP(C592,Main!$A$49:$I$67,Main!$H$47,FALSE)","v":3.1},{"$f":"VLOOKUP(C592,Main!$A$49:$I$67,Main!$I$47,FALSE)","v":16.100000000000001},5841]
["MS","GULFPORT BILOXI INT","2A",1575,1563,41.55,82.6,0.1065,"30.412N",32.299999999999997,51.5,54.3,60.2,67.8,75,80.900000000000006,82.4,82.4,78.599999999999994,69.5,59.6,53.4,101,47,12,0,0,0,0,0,0,1,15,65,149,168,330,535,775,928,1004,1003,857,604,303,172,47.8,48.02,49.1,57.92,64.900000000000006,73.400000000000006,74.12,73.040000000000006,73.2,48.6,48.6,43.5,0.6,0.27556968733439319,54,25,11,16,{"$f":"IF(OR(C593=\"OA\",C593=\"OB\",C593=\"1B\",C593=\"1A\",C593=\"2A\",C593=\"2B\",C593=\"3A\",C593=\"3B\",C593=\"3C\"),TAN((LEFT(I593, 5)+VLOOKUP(C593,Main!$K$3:$L$21,2,FALSE))*PI()/180),IF(Checklist!$I$385=\"No\",TAN((LEFT(I593, 5)+VLOOKUP(C593,Main!$K$3:$L$21,2,FALSE))*PI()/180),\"NR\"))","v":0.58693114871903596},{"$f":"VLOOKUP(C593,Main!$A$49:$I$67,Main!$B$47,FALSE)","v":0.6},{"$f":"VLOOKUP(C593,Main!$A$49:$I$67,Main!$C$47,FALSE)","v":0.25},{"$f":"VLOOKUP(C593,Main!$A$49:$I$67,Main!$E$47,FALSE)&\":\"&\" \"&VLOOKUP(C593,Main!$A$49:$I$67,Main!$F$47,FALSE)","v":"Minimum HSPF:: 9.6"},{"$f":"VLOOKUP(C593,Main!$A$49:$I$67,Main!$G$47,FALSE)","v":18},{"$f":"VLOOKUP(C593,Main!$A$49:$I$67,Main!$H$47,FALSE)","v":3.1},{"$f":"VLOOKUP(C593,Main!$A$49:$I$67,Main!$I$47,FALSE)","v":16.100000000000001},6828]
["MS","HATTIESBURG LAUREL","2A",2086,1687,40.75,80.8,0.1065,"31.467N",27.7,48.4,51.6,58.1,65.099999999999994,72.900000000000006,78.900000000000006,80.8,81,76.3,66.2,55.9,50,153,84,29,1,0,0,0,0,0,2,34,122,105,128,279,455,708,868,956,960,789,505,211,121,32.4,38.299999999999997,50.9,53.24,64.599999999999994,66.739999999999995,70.34,66.2,63.7,45,45,30.4,0.6,0.24411508282476022,56,26,11,16,{"$f":"IF(OR(C594=\"OA\",C594=\"OB\",C594=\"1B\",C594=\"1A\",C594=\"2A\",C594=\"2B\",C594=\"3A\",C594=\"3B\",C594=\"3C\"),TAN((LEFT(I594, 5)+VLOOKUP(C594,Main!$K$3:$L$21,2,FALSE))*PI()/180),IF(Checklist!$I$385=\"No\",TAN((LEFT(I594, 5)+VLOOKUP(C594,Main!$K$3:$L$21,2,FALSE))*PI()/180),\"NR\"))","v":0.61184090116639822},{"$f":"VLOOKUP(C594,Main!$A$49:$I$67,Main!$B$47,FALSE)","v":0.6},{"$f":"VLOOKUP(C594,Main!$A$49:$I$67,Main!$C$47,FALSE)","v":0.25},{"$f":"VLOOKUP(C594,Main!$A$49:$I$67,Main!$E$47,FALSE)&\":\"&\" \"&VLOOKUP(C594,Main!$A$49:$I$67,Main!$F$47,FALSE)","v":"Minimum HSPF:: 9.6"},{"$f":"VLOOKUP(C594,Main!$A$49:$I$67,Main!$G$47,FALSE)","v":18},{"$f":"VLOOKUP(C594,Main!$A$49:$I$67,Main!$H$47,FALSE)","v":3.1},{"$f":"VLOOKUP(C594,Main!$A$49:$I$67,Main!$I$47,FALSE)","v":16.100000000000001},6085]
["MS","JACKSON INTERNATIONAL AP","3A",2272,1682,39.450000000000003,82.2,0.1065,"32.321N",26.9,47.1,50.5,57.4,64.8,72.7,79.400000000000006,81.599999999999994,81.5,76.2,65.5,55.1,48.7,180,103,36,2,0,0,0,0,0,2,48,151,91,117,266,445,705,883,980,976,786,482,200,109,36,37.76,49.3,53.78,61.5,68.540000000000006,73.400000000000006,69.98,59.7,46,46,37,0.61722488038277512,0.23936345104228313,57,27,12,17,{"$f":"IF(OR(C595=\"OA\",C595=\"OB\",C595=\"1B\",C595=\"1A\",C595=\"2A\",C595=\"2B\",C595=\"3A\",C595=\"3B\",C595=\"3C\"),TAN((LEFT(I595, 5)+VLOOKUP(C595,Main!$K$3:$L$21,2,FALSE))*PI()/180),IF(Checklist!$I$385=\"No\",TAN((LEFT(I595, 5)+VLOOKUP(C595,Main!$K$3:$L$21,2,FALSE))*PI()/180),\"NR\"))","v":0.63266243340965234},{"$f":"VLOOKUP(C595,Main!$A$49:$I$67,Main!$B$47,FALSE)","v":0.6},{"$f":"VLOOKUP(C595,Main!$A$49:$I$67,Main!$C$47,FALSE)","v":0.25},{"$f":"VLOOKUP(C595,Main!$A$49:$I$67,Main!$E$47,FALSE)&\":\"&\" \"&VLOOKUP(C595,Main!$A$49:$I$67,Main!$F$47,FALSE)","v":"Minimum HSPF:: 9.6"},{"$f":"VLOOKUP(C595,Main!$A$49:$I$67,Main!$G$47,FALSE)","v":18},{"$f":"VLOOKUP(C595,Main!$A$49:$I$67,Main!$H$47,FALSE)","v":3.1},{"$f":"VLOOKUP(C595,Main!$A$49:$I$67,Main!$I$47,FALSE)","v":16.100000000000001},6040]
["MS","KEESLER AFB","2A",1432,1680,38.85,82.4,0.1065,"30.417N",34.700000000000003,52,55.6,60.8,68,75.599999999999994,81.5,83,83.1,79,69.900000000000006,60.2,55.2,84,40,12,0,0,0,0,0,0,0,12,44,147,197,348,541,794,945,1024,1026,871,618,318,207,40.799999999999997,44.96,45.5,55.76,63.9,72.319999999999993,74.84,72.680000000000007,68,51.6,51.6,44.2,0.6,0.29543056570083598,54,24,10,15,{"$f":"IF(OR(C596=\"OA\",C596=\"OB\",C596=\"1B\",C596=\"1A\",C596=\"2A\",C596=\"2B\",C596=\"3A\",C596=\"3B\",C596=\"3C\"),TAN((LEFT(I596, 5)+VLOOKUP(C596,Main!$K$3:$L$21,2,FALSE))*PI()/180),IF(Checklist!$I$385=\"No\",TAN((LEFT(I596, 5)+VLOOKUP(C596,Main!$K$3:$L$21,2,FALSE))*PI()/180),\"NR\"))","v":0.58693114871903596},{"$f":"VLOOKUP(C596,Main!$A$49:$I$67,Main!$B$47,FALSE)","v":0.6},{"$f":"VLOOKUP(C596,Main!$A$49:$I$67,Main!$C$47,FALSE)","v":0.25},{"$f":"VLOOKUP(C596,Main!$A$49:$I$67,Main!$E$47,FALSE)&\":\"&\" \"&VLOOKUP(C596,Main!$A$49:$I$67,Main!$F$47,FALSE)","v":"Minimum HSPF:: 9.6"},{"$f":"VLOOKUP(C596,Main!$A$49:$I$67,Main!$G$47,FALSE)","v":18},{"$f":"VLOOKUP(C596,Main!$A$49:$I$67,Main!$H$47,FALSE)","v":3.1},{"$f":"VLOOKUP(C596,Main!$A$49:$I$67,Main!$I$47,FALSE)","v":16.100000000000001},7036]
["MS","MCCOMB PIKE COUNTY AP","3A",1906,1598,36.35,80.599999999999994,0.1065,"31.183N",29.2,49.6,52.9,59.1,65.7,73.3,79.400000000000006,81,81.3,76.8,67.099999999999994,57,51.2,128,70,23,1,0,0,0,0,0,1,30,103,117,152,306,472,722,881,962,969,805,533,239,141,40.1,43.52,45.9,58.64,62.2,69.44,71.42,73.22,72,46,46,38.700000000000003,0.6,0.25355252159375874,55,26,11,16,{"$f":"IF(OR(C597=\"OA\",C597=\"OB\",C597=\"1B\",C597=\"1A\",C597=\"2A\",C597=\"2B\",C597=\"3A\",C597=\"3B\",C597=\"3C\"),TAN((LEFT(I597, 5)+VLOOKUP(C597,Main!$K$3:$L$21,2,FALSE))*PI()/180),IF(Checklist!$I$385=\"No\",TAN((LEFT(I597, 5)+VLOOKUP(C597,Main!$K$3:$L$21,2,FALSE))*PI()/180),\"NR\"))","v":0.60514453248323075},{"$f":"VLOOKUP(C597,Main!$A$49:$I$67,Main!$B$47,FALSE)","v":0.6},{"$f":"VLOOKUP(C597,Main!$A$49:$I$67,Main!$C$47,FALSE)","v":0.25},{"$f":"VLOOKUP(C597,Main!$A$49:$I$67,Main!$E$47,FALSE)&\":\"&\" \"&VLOOKUP(C597,Main!$A$49:$I$67,Main!$F$47,FALSE)","v":"Minimum HSPF:: 9.6"},{"$f":"VLOOKUP(C597,Main!$A$49:$I$67,Main!$G$47,FALSE)","v":18},{"$f":"VLOOKUP(C597,Main!$A$49:$I$67,Main!$H$47,FALSE)","v":3.1},{"$f":"VLOOKUP(C597,Main!$A$49:$I$67,Main!$I$47,FALSE)","v":16.100000000000001},6299]
["MS","MERIDIAN KEY FIELD","3A",2351,1620,43.4,81.5,0.1065,"32.335N",26.1,46.6,50.1,57,64.099999999999994,71.900000000000006,78.5,80.900000000000006,80.7,75.5,64.7,54.5,48.4,186,103,37,2,0,0,0,0,0,3,50,154,81,107,252,426,678,856,958,951,764,458,185,103,34.299999999999997,36.5,45.7,51.8,61.3,67.099999999999994,72.5,69.8,63.3,44.8,44.8,35.6,0.62616822429906538,0.23479326581951879,57,27,12,17,{"$f":"IF(OR(C598=\"OA\",C598=\"OB\",C598=\"1B\",C598=\"1A\",C598=\"2A\",C598=\"2B\",C598=\"3A\",C598=\"3B\",C598=\"3C\"),TAN((LEFT(I598, 5)+VLOOKUP(C598,Main!$K$3:$L$21,2,FALSE))*PI()/180),IF(Checklist!$I$385=\"No\",TAN((LEFT(I598, 5)+VLOOKUP(C598,Main!$K$3:$L$21,2,FALSE))*PI()/180),\"NR\"))","v":0.63290685218104237},{"$f":"VLOOKUP(C598,Main!$A$49:$I$67,Main!$B$47,FALSE)","v":0.6},{"$f":"VLOOKUP(C598,Main!$A$49:$I$67,Main!$C$47,FALSE)","v":0.25},{"$f":"VLOOKUP(C598,Main!$A$49:$I$67,Main!$E$47,FALSE)&\":\"&\" \"&VLOOKUP(C598,Main!$A$49:$I$67,Main!$F$47,FALSE)","v":"Minimum HSPF:: 9.6"},{"$f":"VLOOKUP(C598,Main!$A$49:$I$67,Main!$G$47,FALSE)","v":18},{"$f":"VLOOKUP(C598,Main!$A$49:$I$67,Main!$H$47,FALSE)","v":3.1},{"$f":"VLOOKUP(C598,Main!$A$49:$I$67,Main!$I$47,FALSE)","v":16.100000000000001},5819]
["MS","MERIDIAN NAAS","3A",2343,1585,42.15,86.4,0.1065,"32.550N",26.6,46.4,50.2,57.5,63.9,72.3,79.400000000000006,81.400000000000006,80.8,75.8,64.7,53.8,49.3,187,110,40,3,0,0,0,0,0,2,56,140,77,116,272,421,691,881,972,956,773,459,171,117,34.200000000000003,40.46,47.5,55.4,64.599999999999994,67.459999999999994,71.959999999999994,71.42,64.599999999999994,49.1,49.1,38.299999999999997,0.62962962962962965,0.23762893328110718,57,27,13,18,{"$f":"IF(OR(C599=\"OA\",C599=\"OB\",C599=\"1B\",C599=\"1A\",C599=\"2A\",C599=\"2B\",C599=\"3A\",C599=\"3B\",C599=\"3C\"),TAN((LEFT(I599, 5)+VLOOKUP(C599,Main!$K$3:$L$21,2,FALSE))*PI()/180),IF(Checklist!$I$385=\"No\",TAN((LEFT(I599, 5)+VLOOKUP(C599,Main!$K$3:$L$21,2,FALSE))*PI()/180),\"NR\"))","v":0.63829778655754132},{"$f":"VLOOKUP(C599,Main!$A$49:$I$67,Main!$B$47,FALSE)","v":0.6},{"$f":"VLOOKUP(C599,Main!$A$49:$I$67,Main!$C$47,FALSE)","v":0.25},{"$f":"VLOOKUP(C599,Main!$A$49:$I$67,Main!$E$47,FALSE)&\":\"&\" \"&VLOOKUP(C599,Main!$A$49:$I$67,Main!$F$47,FALSE)","v":"Minimum HSPF:: 9.6"},{"$f":"VLOOKUP(C599,Main!$A$49:$I$67,Main!$G$47,FALSE)","v":18},{"$f":"VLOOKUP(C599,Main!$A$49:$I$67,Main!$H$47,FALSE)","v":3.1},{"$f":"VLOOKUP(C599,Main!$A$49:$I$67,Main!$I$47,FALSE)","v":16.100000000000001},5906]
["MS","NATCHEZ/HARDY(AWOS)","3A",2168,1697,33.5,81.099999999999994,0.1065,"31.617N",27.7,47.9,51.5,57.7,64.8,72.900000000000006,78.8,80.8,80.5,75.3,65.7,56.2,49.8,173,96,36,2,0,0,0,1,0,3,42,137,108,137,276,447,710,865,955,946,760,489,228,130,38.700000000000003,45.14,51.8,59.72,59.2,67.819999999999993,73.040000000000006,70.16,62.1,45.3,45.3,38.5,0.60199004975124382,0.24411508282476022,56,26,12,17,{"$f":"IF(OR(C600=\"OA\",C600=\"OB\",C600=\"1B\",C600=\"1A\",C600=\"2A\",C600=\"2B\",C600=\"3A\",C600=\"3B\",C600=\"3C\"),TAN((LEFT(I600, 5)+VLOOKUP(C600,Main!$K$3:$L$21,2,FALSE))*PI()/180),IF(Checklist!$I$385=\"No\",TAN((LEFT(I600, 5)+VLOOKUP(C600,Main!$K$3:$L$21,2,FALSE))*PI()/180),\"NR\"))","v":0.61544472000453265},{"$f":"VLOOKUP(C600,Main!$A$49:$I$67,Main!$B$47,FALSE)","v":0.6},{"$f":"VLOOKUP(C600,Main!$A$49:$I$67,Main!$C$47,FALSE)","v":0.25},{"$f":"VLOOKUP(C600,Main!$A$49:$I$67,Main!$E$47,FALSE)&\":\"&\" \"&VLOOKUP(C600,Main!$A$49:$I$67,Main!$F$47,FALSE)","v":"Minimum HSPF:: 9.6"},{"$f":"VLOOKUP(C600,Main!$A$49:$I$67,Main!$G$47,FALSE)","v":18},{"$f":"VLOOKUP(C600,Main!$A$49:$I$67,Main!$H$47,FALSE)","v":3.1},{"$f":"VLOOKUP(C600,Main!$A$49:$I$67,Main!$I$47,FALSE)","v":16.100000000000001},6051]
["MS","TUPELO C D LEMONS ARPT","3A",2911,1594,30.6,85.3,0.1065,"34.262N",23.8,42.6,46.4,54,62.4,70.599999999999994,78,81,80.5,74,63,52.1,44.8,278,166,67,7,0,0,0,0,0,5,81,220,48,64,191,378,639,840,960,946,721,407,146,59,32.4,38.840000000000003,45.1,52.7,55.9,67.099999999999994,73.040000000000006,65.84,63.5,43.2,43.2,34.5,0.68503937007874016,0.22257551669316375,58,28,13,18,{"$f":"IF(OR(C601=\"OA\",C601=\"OB\",C601=\"1B\",C601=\"1A\",C601=\"2A\",C601=\"2B\",C601=\"3A\",C601=\"3B\",C601=\"3C\"),TAN((LEFT(I601, 5)+VLOOKUP(C601,Main!$K$3:$L$21,2,FALSE))*PI()/180),IF(Checklist!$I$385=\"No\",TAN((LEFT(I601, 5)+VLOOKUP(C601,Main!$K$3:$L$21,2,FALSE))*PI()/180),\"NR\"))","v":0.68113124022098814},{"$f":"VLOOKUP(C601,Main!$A$49:$I$67,Main!$B$47,FALSE)","v":0.6},{"$f":"VLOOKUP(C601,Main!$A$49:$I$67,Main!$C$47,FALSE)","v":0.25},{"$f":"VLOOKUP(C601,Main!$A$49:$I$67,Main!$E$47,FALSE)&\":\"&\" \"&VLOOKUP(C601,Main!$A$49:$I$67,Main!$F$47,FALSE)","v":"Minimum HSPF:: 9.6"},{"$f":"VLOOKUP(C601,Main!$A$49:$I$67,Main!$G$47,FALSE)","v":18},{"$f":"VLOOKUP(C601,Main!$A$49:$I$67,Main!$H$47,FALSE)","v":3.1},{"$f":"VLOOKUP(C601,Main!$A$49:$I$67,Main!$I$47,FALSE)","v":16.100000000000001},5399]
["MT","BILLINGS LOGAN INT ARPT","6B",6738,1504,7.9,79,0.10009999999999999,"45.807N",-3.2,27.1,30.2,37.9,45.7,55.1,64,73.099999999999994,71.7,61.7,48.3,36.299999999999997,27.2,711,558,390,187,44,3,0,0,13,150,425,706,1,3,16,58,203,425,717,675,364,98,14,0,9.1,13.82,23.4,30.38,38.700000000000003,43.7,46.04,44.96,39.6,19.899999999999999,19.899999999999999,16.3,0.80440097799511001,0.13817187974491343,70,39,20,25,{"$f":"IF(OR(C602=\"OA\",C602=\"OB\",C602=\"1B\",C602=\"1A\",C602=\"2A\",C602=\"2B\",C602=\"3A\",C602=\"3B\",C602=\"3C\"),TAN((LEFT(I602, 5)+VLOOKUP(C602,Main!$K$3:$L$21,2,FALSE))*PI()/180),IF(Checklist!$I$385=\"No\",TAN((LEFT(I602, 5)+VLOOKUP(C602,Main!$K$3:$L$21,2,FALSE))*PI()/180),\"NR\"))","v":"NR"},{"$f":"VLOOKUP(C602,Main!$A$49:$I$67,Main!$B$47,FALSE)","v":"NR"},{"$f":"VLOOKUP(C602,Main!$A$49:$I$67,Main!$C$47,FALSE)","v":"NR"},{"$f":"VLOOKUP(C602,Main!$A$49:$I$67,Main!$E$47,FALSE)&\":\"&\" \"&VLOOKUP(C602,Main!$A$49:$I$67,Main!$F$47,FALSE)","v":"Minimum COP @ 5°F:: 1.75"},{"$f":"VLOOKUP(C602,Main!$A$49:$I$67,Main!$G$47,FALSE)","v":15},{"$f":"VLOOKUP(C602,Main!$A$49:$I$67,Main!$H$47,FALSE)","v":3.1},{"$f":"VLOOKUP(C602,Main!$A$49:$I$67,Main!$I$47,FALSE)","v":16.100000000000001},2574]
["MT","BOZEMAN GALLATIN FIELD","6B",8172,1465,4.9000000000000004,74.7,0.10009999999999999,"45.788N",-7.7,21.7,24.9,34.5,42.4,51.3,58.6,67.599999999999994,65.8,56.6,43.7,30.3,20.6,878,703,484,249,74,9,0,2,25,230,593,912,0,0,2,21,114,266,545,490,222,35,3,0,16.3,12.74,26.1,30.92,37,44.42,48.02,40.46,32.200000000000003,20.8,20.8,18.3,0.83122362869198307,0.12995822771252097,74,43,24,29,{"$f":"IF(OR(C603=\"OA\",C603=\"OB\",C603=\"1B\",C603=\"1A\",C603=\"2A\",C603=\"2B\",C603=\"3A\",C603=\"3B\",C603=\"3C\"),TAN((LEFT(I603, 5)+VLOOKUP(C603,Main!$K$3:$L$21,2,FALSE))*PI()/180),IF(Checklist!$I$385=\"No\",TAN((LEFT(I603, 5)+VLOOKUP(C603,Main!$K$3:$L$21,2,FALSE))*PI()/180),\"NR\"))","v":"NR"},{"$f":"VLOOKUP(C603,Main!$A$49:$I$67,Main!$B$47,FALSE)","v":"NR"},{"$f":"VLOOKUP(C603,Main!$A$49:$I$67,Main!$C$47,FALSE)","v":"NR"},{"$f":"VLOOKUP(C603,Main!$A$49:$I$67,Main!$E$47,FALSE)&\":\"&\" \"&VLOOKUP(C603,Main!$A$49:$I$67,Main!$F$47,FALSE)","v":"Minimum COP @ 5°F:: 1.75"},{"$f":"VLOOKUP(C603,Main!$A$49:$I$67,Main!$G$47,FALSE)","v":15},{"$f":"VLOOKUP(C603,Main!$A$49:$I$67,Main!$H$47,FALSE)","v":3.1},{"$f":"VLOOKUP(C603,Main!$A$49:$I$67,Main!$I$47,FALSE)","v":16.100000000000001},1698]
["MT","BUTTE BERT MOONEY ARPT","6B",9095,1503,14.35,68.5,0.10009999999999999,"45.965N",-9.1,20.5,22.6,31.8,38.700000000000003,47.3,54.8,63.7,61.8,53,40.9,28.4,18.8,915,768,564,346,143,30,0,4,51,298,648,966,0,0,0,6,59,175,425,370,141,15,0,0,12.7,13.82,19.899999999999999,25.34,29.7,36.86,41.18,42.8,34.299999999999997,17.8,17.8,14.5,0.83739837398373984,0.12759841553615872,77,45,27,32,{"$f":"IF(OR(C604=\"OA\",C604=\"OB\",C604=\"1B\",C604=\"1A\",C604=\"2A\",C604=\"2B\",C604=\"3A\",C604=\"3B\",C604=\"3C\"),TAN((LEFT(I604, 5)+VLOOKUP(C604,Main!$K$3:$L$21,2,FALSE))*PI()/180),IF(Checklist!$I$385=\"No\",TAN((LEFT(I604, 5)+VLOOKUP(C604,Main!$K$3:$L$21,2,FALSE))*PI()/180),\"NR\"))","v":"NR"},{"$f":"VLOOKUP(C604,Main!$A$49:$I$67,Main!$B$47,FALSE)","v":"NR"},{"$f":"VLOOKUP(C604,Main!$A$49:$I$67,Main!$C$47,FALSE)","v":"NR"},{"$f":"VLOOKUP(C604,Main!$A$49:$I$67,Main!$E$47,FALSE)&\":\"&\" \"&VLOOKUP(C604,Main!$A$49:$I$67,Main!$F$47,FALSE)","v":"Minimum COP @ 5°F:: 1.75"},{"$f":"VLOOKUP(C604,Main!$A$49:$I$67,Main!$G$47,FALSE)","v":15},{"$f":"VLOOKUP(C604,Main!$A$49:$I$67,Main!$H$47,FALSE)","v":3.1},{"$f":"VLOOKUP(C604,Main!$A$49:$I$67,Main!$I$47,FALSE)","v":16.100000000000001},1191]
["MT","CUT BANK MUNI AP","6B",8558,1445,-6.15,71.400000000000006,0.10009999999999999,"48.603N",-12.3,22.2,23.4,31,40,49.4,56.8,65,63.5,54.8,42.8,30.7,22.9,863,745,590,313,108,13,1,3,46,259,584,840,0,0,2,15,89,215,465,422,189,37,4,0,14.9,13.1,17.399999999999999,25.88,32.4,38.299999999999997,43.16,41.72,33.799999999999997,20.7,20.7,15.6,0.8253275109170306,0.12251354717108141,76,44,25,30,{"$f":"IF(OR(C605=\"OA\",C605=\"OB\",C605=\"1B\",C605=\"1A\",C605=\"2A\",C605=\"2B\",C605=\"3A\",C605=\"3B\",C605=\"3C\"),TAN((LEFT(I605, 5)+VLOOKUP(C605,Main!$K$3:$L$21,2,FALSE))*PI()/180),IF(Checklist!$I$385=\"No\",TAN((LEFT(I605, 5)+VLOOKUP(C605,Main!$K$3:$L$21,2,FALSE))*PI()/180),\"NR\"))","v":"NR"},{"$f":"VLOOKUP(C605,Main!$A$49:$I$67,Main!$B$47,FALSE)","v":"NR"},{"$f":"VLOOKUP(C605,Main!$A$49:$I$67,Main!$C$47,FALSE)","v":"NR"},{"$f":"VLOOKUP(C605,Main!$A$49:$I$67,Main!$E$47,FALSE)&\":\"&\" \"&VLOOKUP(C605,Main!$A$49:$I$67,Main!$F$47,FALSE)","v":"Minimum COP @ 5°F:: 1.75"},{"$f":"VLOOKUP(C605,Main!$A$49:$I$67,Main!$G$47,FALSE)","v":15},{"$f":"VLOOKUP(C605,Main!$A$49:$I$67,Main!$H$47,FALSE)","v":3.1},{"$f":"VLOOKUP(C605,Main!$A$49:$I$67,Main!$I$47,FALSE)","v":16.100000000000001},1438]
["MT","GLASGOW INTL ARPT","6B",8453,1398,-9.85,77.5,0.10009999999999999,"48.214N",-15.1,14,18.899999999999999,30.8,44.1,54.4,63.3,71,70.3,59.5,44.8,29.3,17.100000000000001,1117,871,598,221,50,2,0,0,19,216,624,1021,0,0,4,44,188,400,652,630,305,55,2,0,5.7,15.44,20.8,30.38,39.9,44.06,50.72,48.74,37,22.3,22.3,11.3,0.85185185185185186,0.11838553354798842,76,43,24,29,{"$f":"IF(OR(C606=\"OA\",C606=\"OB\",C606=\"1B\",C606=\"1A\",C606=\"2A\",C606=\"2B\",C606=\"3A\",C606=\"3B\",C606=\"3C\"),TAN((LEFT(I606, 5)+VLOOKUP(C606,Main!$K$3:$L$21,2,FALSE))*PI()/180),IF(Checklist!$I$385=\"No\",TAN((LEFT(I606, 5)+VLOOKUP(C606,Main!$K$3:$L$21,2,FALSE))*PI()/180),\"NR\"))","v":"NR"},{"$f":"VLOOKUP(C606,Main!$A$49:$I$67,Main!$B$47,FALSE)","v":"NR"},{"$f":"VLOOKUP(C606,Main!$A$49:$I$67,Main!$C$47,FALSE)","v":"NR"},{"$f":"VLOOKUP(C606,Main!$A$49:$I$67,Main!$E$47,FALSE)&\":\"&\" \"&VLOOKUP(C606,Main!$A$49:$I$67,Main!$F$47,FALSE)","v":"Minimum COP @ 5°F:: 1.75"},{"$f":"VLOOKUP(C606,Main!$A$49:$I$67,Main!$G$47,FALSE)","v":15},{"$f":"VLOOKUP(C606,Main!$A$49:$I$67,Main!$H$47,FALSE)","v":3.1},{"$f":"VLOOKUP(C606,Main!$A$49:$I$67,Main!$I$47,FALSE)","v":16.100000000000001},2280]
["MT","GLENDIVE(AWOS)","6B",8231,1359,-0.75,81.3,0.10009999999999999,"47.133N",-11.1,16.600000000000001,20.5,32,43.2,53.2,62.5,71,69.5,59.2,45.1,31.3,20.100000000000001,1037,827,566,241,61,2,0,1,21,209,563,926,0,0,7,37,160,378,651,605,297,56,3,0,11.1,15.26,11.8,33.799999999999997,41.5,45.32,48.56,46.76,41.5,22.8,22.8,9.1,0.8443579766536965,0.12437215977038986,75,43,23,28,{"$f":"IF(OR(C607=\"OA\",C607=\"OB\",C607=\"1B\",C607=\"1A\",C607=\"2A\",C607=\"2B\",C607=\"3A\",C607=\"3B\",C607=\"3C\"),TAN((LEFT(I607, 5)+VLOOKUP(C607,Main!$K$3:$L$21,2,FALSE))*PI()/180),IF(Checklist!$I$385=\"No\",TAN((LEFT(I607, 5)+VLOOKUP(C607,Main!$K$3:$L$21,2,FALSE))*PI()/180),\"NR\"))","v":"NR"},{"$f":"VLOOKUP(C607,Main!$A$49:$I$67,Main!$B$47,FALSE)","v":"NR"},{"$f":"VLOOKUP(C607,Main!$A$49:$I$67,Main!$C$47,FALSE)","v":"NR"},{"$f":"VLOOKUP(C607,Main!$A$49:$I$67,Main!$E$47,FALSE)&\":\"&\" \"&VLOOKUP(C607,Main!$A$49:$I$67,Main!$F$47,FALSE)","v":"Minimum COP @ 5°F:: 1.75"},{"$f":"VLOOKUP(C607,Main!$A$49:$I$67,Main!$G$47,FALSE)","v":15},{"$f":"VLOOKUP(C607,Main!$A$49:$I$67,Main!$H$47,FALSE)","v":3.1},{"$f":"VLOOKUP(C607,Main!$A$49:$I$67,Main!$I$47,FALSE)","v":16.100000000000001},2194]
["MT","GREAT FALLS INTL ARPT","6B",7557,1434,-9.25,76.3,0.10009999999999999,"47.473N",-9.5,25.8,27.8,34.6,42.9,51.7,59.2,68.3,67.099999999999994,58.1,45.7,34.1,26.2,752,624,484,248,75,9,0,2,26,203,490,739,1,2,7,33,127,283,568,533,270,69,12,0,3,14.18,16.899999999999999,26.78,32.4,40.82,43.88,40.28,39.9,19.600000000000001,19.600000000000001,12,0.81042654028436023,0.12693984306887532,73,41,22,27,{"$f":"IF(OR(C608=\"OA\",C608=\"OB\",C608=\"1B\",C608=\"1A\",C608=\"2A\",C608=\"2B\",C608=\"3A\",C608=\"3B\",C608=\"3C\"),TAN((LEFT(I608, 5)+VLOOKUP(C608,Main!$K$3:$L$21,2,FALSE))*PI()/180),IF(Checklist!$I$385=\"No\",TAN((LEFT(I608, 5)+VLOOKUP(C608,Main!$K$3:$L$21,2,FALSE))*PI()/180),\"NR\"))","v":"NR"},{"$f":"VLOOKUP(C608,Main!$A$49:$I$67,Main!$B$47,FALSE)","v":"NR"},{"$f":"VLOOKUP(C608,Main!$A$49:$I$67,Main!$C$47,FALSE)","v":"NR"},{"$f":"VLOOKUP(C608,Main!$A$49:$I$67,Main!$E$47,FALSE)&\":\"&\" \"&VLOOKUP(C608,Main!$A$49:$I$67,Main!$F$47,FALSE)","v":"Minimum COP @ 5°F:: 1.75"},{"$f":"VLOOKUP(C608,Main!$A$49:$I$67,Main!$G$47,FALSE)","v":15},{"$f":"VLOOKUP(C608,Main!$A$49:$I$67,Main!$H$47,FALSE)","v":3.1},{"$f":"VLOOKUP(C608,Main!$A$49:$I$67,Main!$I$47,FALSE)","v":16.100000000000001},1905]
["MT","HAVRE CITY-COUNTY AP","6B",8162,1384,-1.2,78.099999999999994,0.10009999999999999,"48.543N",-15.5,17.7,22.1,32.1,44,53.5,61.5,69.599999999999994,68.400000000000006,58.1,44.7,30.7,20.7,1001,781,558,217,50,3,0,1,22,217,583,909,0,1,4,37,159,348,607,572,265,51,4,0,12.2,14.72,15.3,29.12,30.9,47.3,44.42,47.84,37.200000000000003,22.1,22.1,17.8,0.84095427435387671,0.11781841721961482,75,43,23,28,{"$f":"IF(OR(C609=\"OA\",C609=\"OB\",C609=\"1B\",C609=\"1A\",C609=\"2A\",C609=\"2B\",C609=\"3A\",C609=\"3B\",C609=\"3C\"),TAN((LEFT(I609, 5)+VLOOKUP(C609,Main!$K$3:$L$21,2,FALSE))*PI()/180),IF(Checklist!$I$385=\"No\",TAN((LEFT(I609, 5)+VLOOKUP(C609,Main!$K$3:$L$21,2,FALSE))*PI()/180),\"NR\"))","v":"NR"},{"$f":"VLOOKUP(C609,Main!$A$49:$I$67,Main!$B$47,FALSE)","v":"NR"},{"$f":"VLOOKUP(C609,Main!$A$49:$I$67,Main!$C$47,FALSE)","v":"NR"},{"$f":"VLOOKUP(C609,Main!$A$49:$I$67,Main!$E$47,FALSE)&\":\"&\" \"&VLOOKUP(C609,Main!$A$49:$I$67,Main!$F$47,FALSE)","v":"Minimum COP @ 5°F:: 1.75"},{"$f":"VLOOKUP(C609,Main!$A$49:$I$67,Main!$G$47,FALSE)","v":15},{"$f":"VLOOKUP(C609,Main!$A$49:$I$67,Main!$H$47,FALSE)","v":3.1},{"$f":"VLOOKUP(C609,Main!$A$49:$I$67,Main!$I$47,FALSE)","v":16.100000000000001},2048]
["MT","HELENA REGIONAL AIRPORT","6B",7504,1461,7.4,72.7,0.10009999999999999,"46.606N",-6.3,23.4,27.6,36.1,44.3,53.5,61.1,70.400000000000006,68.599999999999994,59.1,45.8,32.799999999999997,23.1,826,629,435,203,51,5,0,2,16,183,520,833,0,0,4,34,161,339,631,578,290,51,4,0,13.8,15.62,20.8,25.88,32.700000000000003,41.54,42.8,42.26,39.6,23.2,23.2,16.3,0.82182628062360796,0.13240696955367209,73,41,23,28,{"$f":"IF(OR(C610=\"OA\",C610=\"OB\",C610=\"1B\",C610=\"1A\",C610=\"2A\",C610=\"2B\",C610=\"3A\",C610=\"3B\",C610=\"3C\"),TAN((LEFT(I610, 5)+VLOOKUP(C610,Main!$K$3:$L$21,2,FALSE))*PI()/180),IF(Checklist!$I$385=\"No\",TAN((LEFT(I610, 5)+VLOOKUP(C610,Main!$K$3:$L$21,2,FALSE))*PI()/180),\"NR\"))","v":"NR"},{"$f":"VLOOKUP(C610,Main!$A$49:$I$67,Main!$B$47,FALSE)","v":"NR"},{"$f":"VLOOKUP(C610,Main!$A$49:$I$67,Main!$C$47,FALSE)","v":"NR"},{"$f":"VLOOKUP(C610,Main!$A$49:$I$67,Main!$E$47,FALSE)&\":\"&\" \"&VLOOKUP(C610,Main!$A$49:$I$67,Main!$F$47,FALSE)","v":"Minimum COP @ 5°F:: 1.75"},{"$f":"VLOOKUP(C610,Main!$A$49:$I$67,Main!$G$47,FALSE)","v":15},{"$f":"VLOOKUP(C610,Main!$A$49:$I$67,Main!$H$47,FALSE)","v":3.1},{"$f":"VLOOKUP(C610,Main!$A$49:$I$67,Main!$I$47,FALSE)","v":16.100000000000001},2092]
["MT","KALISPELL GLACIER PK INT AR","6B",7950,1346,14.45,68,0.10009999999999999,"48.304N",1,24.3,27.4,35.200000000000003,43.2,51.7,57.6,65.400000000000006,64.3,55.2,42.4,32.1,24,798,633,458,217,60,9,0,1,25,250,539,805,0,0,0,14,112,236,476,444,182,16,1,0,18.3,23.54,22.5,32.18,39.4,45.14,46.22,48.2,41.5,26.2,26.2,20.7,0.81818181818181823,0.14683340056474384,73,42,24,29,{"$f":"IF(OR(C611=\"OA\",C611=\"OB\",C611=\"1B\",C611=\"1A\",C611=\"2A\",C611=\"2B\",C611=\"3A\",C611=\"3B\",C611=\"3C\"),TAN((LEFT(I611, 5)+VLOOKUP(C611,Main!$K$3:$L$21,2,FALSE))*PI()/180),IF(Checklist!$I$385=\"No\",TAN((LEFT(I611, 5)+VLOOKUP(C611,Main!$K$3:$L$21,2,FALSE))*PI()/180),\"NR\"))","v":"NR"},{"$f":"VLOOKUP(C611,Main!$A$49:$I$67,Main!$B$47,FALSE)","v":"NR"},{"$f":"VLOOKUP(C611,Main!$A$49:$I$67,Main!$C$47,FALSE)","v":"NR"},{"$f":"VLOOKUP(C611,Main!$A$49:$I$67,Main!$E$47,FALSE)&\":\"&\" \"&VLOOKUP(C611,Main!$A$49:$I$67,Main!$F$47,FALSE)","v":"Minimum COP @ 5°F:: 1.75"},{"$f":"VLOOKUP(C611,Main!$A$49:$I$67,Main!$G$47,FALSE)","v":15},{"$f":"VLOOKUP(C611,Main!$A$49:$I$67,Main!$H$47,FALSE)","v":3.1},{"$f":"VLOOKUP(C611,Main!$A$49:$I$67,Main!$I$47,FALSE)","v":16.100000000000001},1481]
["MT","LEWISTOWN MUNICIPAL ARPT","6B",8260,1417,5.25,71.400000000000006,0.10009999999999999,"47.049N",-8.6999999999999993,23.4,24.4,32.4,40.4,49.5,57.1,65.900000000000006,64.900000000000006,55.9,43.9,32.200000000000003,24.2,826,717,549,307,107,16,1,3,39,236,540,800,0,0,4,19,90,230,494,467,217,47,6,0,15.1,18.14,22.1,27.5,36.700000000000003,46.22,45.68,45.5,40.299999999999997,22.1,22.1,14,0.820627802690583,0.12826385707741639,75,43,25,30,{"$f":"IF(OR(C612=\"OA\",C612=\"OB\",C612=\"1B\",C612=\"1A\",C612=\"2A\",C612=\"2B\",C612=\"3A\",C612=\"3B\",C612=\"3C\"),TAN((LEFT(I612, 5)+VLOOKUP(C612,Main!$K$3:$L$21,2,FALSE))*PI()/180),IF(Checklist!$I$385=\"No\",TAN((LEFT(I612, 5)+VLOOKUP(C612,Main!$K$3:$L$21,2,FALSE))*PI()/180),\"NR\"))","v":"NR"},{"$f":"VLOOKUP(C612,Main!$A$49:$I$67,Main!$B$47,FALSE)","v":"NR"},{"$f":"VLOOKUP(C612,Main!$A$49:$I$67,Main!$C$47,FALSE)","v":"NR"},{"$f":"VLOOKUP(C612,Main!$A$49:$I$67,Main!$E$47,FALSE)&\":\"&\" \"&VLOOKUP(C612,Main!$A$49:$I$67,Main!$F$47,FALSE)","v":"Minimum COP @ 5°F:: 1.75"},{"$f":"VLOOKUP(C612,Main!$A$49:$I$67,Main!$G$47,FALSE)","v":15},{"$f":"VLOOKUP(C612,Main!$A$49:$I$67,Main!$H$47,FALSE)","v":3.1},{"$f":"VLOOKUP(C612,Main!$A$49:$I$67,Main!$I$47,FALSE)","v":16.100000000000001},1574]
["MT","LIVINGSTON MISSION FIELD","6B",7334,1495,-0.6,75.7,0.10009999999999999,"45.698N",-2.4,29.1,27.8,36,42.3,50.5,58.8,69.599999999999994,66.900000000000006,58,46,35.4,27.3,649,622,442,258,95,12,0,0,18,192,455,703,1,0,10,26,112,276,607,524,258,68,18,0,12.9,11.84,21.6,29.66,34.700000000000003,43.7,42.08,44.42,32.5,22.5,22.5,17.8,0.80343980343980348,0.13974201474201473,72,40,22,27,{"$f":"IF(OR(C613=\"OA\",C613=\"OB\",C613=\"1B\",C613=\"1A\",C613=\"2A\",C613=\"2B\",C613=\"3A\",C613=\"3B\",C613=\"3C\"),TAN((LEFT(I613, 5)+VLOOKUP(C613,Main!$K$3:$L$21,2,FALSE))*PI()/180),IF(Checklist!$I$385=\"No\",TAN((LEFT(I613, 5)+VLOOKUP(C613,Main!$K$3:$L$21,2,FALSE))*PI()/180),\"NR\"))","v":"NR"},{"$f":"VLOOKUP(C613,Main!$A$49:$I$67,Main!$B$47,FALSE)","v":"NR"},{"$f":"VLOOKUP(C613,Main!$A$49:$I$67,Main!$C$47,FALSE)","v":"NR"},{"$f":"VLOOKUP(C613,Main!$A$49:$I$67,Main!$E$47,FALSE)&\":\"&\" \"&VLOOKUP(C613,Main!$A$49:$I$67,Main!$F$47,FALSE)","v":"Minimum COP @ 5°F:: 1.75"},{"$f":"VLOOKUP(C613,Main!$A$49:$I$67,Main!$G$47,FALSE)","v":15},{"$f":"VLOOKUP(C613,Main!$A$49:$I$67,Main!$H$47,FALSE)","v":3.1},{"$f":"VLOOKUP(C613,Main!$A$49:$I$67,Main!$I$47,FALSE)","v":16.100000000000001},1900]
["MT","MILES CITY MUNICIPAL ARPT","6B",7367,1499,-5.45,83.8,0.10009999999999999,"46.427N",-9.5,20.2,25.2,35.4,46.2,56.1,65.8,74.599999999999994,73.400000000000006,62.1,47.5,33,22.6,923,696,463,178,37,2,0,0,11,160,515,850,0,1,11,65,227,476,764,725,373,82,5,0,7.7,8.7799999999999994,21,29.48,37.4,47.12,50.36,48.38,36.1,19,19,12.4,0.83263598326359833,0.12693984306887532,73,40,21,26,{"$f":"IF(OR(C614=\"OA\",C614=\"OB\",C614=\"1B\",C614=\"1A\",C614=\"2A\",C614=\"2B\",C614=\"3A\",C614=\"3B\",C614=\"3C\"),TAN((LEFT(I614, 5)+VLOOKUP(C614,Main!$K$3:$L$21,2,FALSE))*PI()/180),IF(Checklist!$I$385=\"No\",TAN((LEFT(I614, 5)+VLOOKUP(C614,Main!$K$3:$L$21,2,FALSE))*PI()/180),\"NR\"))","v":"NR"},{"$f":"VLOOKUP(C614,Main!$A$49:$I$67,Main!$B$47,FALSE)","v":"NR"},{"$f":"VLOOKUP(C614,Main!$A$49:$I$67,Main!$C$47,FALSE)","v":"NR"},{"$f":"VLOOKUP(C614,Main!$A$49:$I$67,Main!$E$47,FALSE)&\":\"&\" \"&VLOOKUP(C614,Main!$A$49:$I$67,Main!$F$47,FALSE)","v":"Minimum COP @ 5°F:: 1.75"},{"$f":"VLOOKUP(C614,Main!$A$49:$I$67,Main!$G$47,FALSE)","v":15},{"$f":"VLOOKUP(C614,Main!$A$49:$I$67,Main!$H$47,FALSE)","v":3.1},{"$f":"VLOOKUP(C614,Main!$A$49:$I$67,Main!$I$47,FALSE)","v":16.100000000000001},2729]
["MT","MISSOULA INTERNATIONAL AP","6B",7353,1382,20.75,71.8,0.10009999999999999,"46.921N",3.3,25.7,29.4,38,44.7,53,59.8,69.099999999999994,67.599999999999994,58.4,44.9,32.799999999999997,24.7,753,577,373,184,50,6,0,0,14,192,516,784,0,0,1,24,143,301,593,546,265,33,1,0,21.4,24.62,24.1,29.12,37.6,44.06,47.12,45.14,39.200000000000003,28,28,20.8,0.81524249422632789,0.15205313505158943,71,40,23,28,{"$f":"IF(OR(C615=\"OA\",C615=\"OB\",C615=\"1B\",C615=\"1A\",C615=\"2A\",C615=\"2B\",C615=\"3A\",C615=\"3B\",C615=\"3C\"),TAN((LEFT(I615, 5)+VLOOKUP(C615,Main!$K$3:$L$21,2,FALSE))*PI()/180),IF(Checklist!$I$385=\"No\",TAN((LEFT(I615, 5)+VLOOKUP(C615,Main!$K$3:$L$21,2,FALSE))*PI()/180),\"NR\"))","v":"NR"},{"$f":"VLOOKUP(C615,Main!$A$49:$I$67,Main!$B$47,FALSE)","v":"NR"},{"$f":"VLOOKUP(C615,Main!$A$49:$I$67,Main!$C$47,FALSE)","v":"NR"},{"$f":"VLOOKUP(C615,Main!$A$49:$I$67,Main!$E$47,FALSE)&\":\"&\" \"&VLOOKUP(C615,Main!$A$49:$I$67,Main!$F$47,FALSE)","v":"Minimum COP @ 5°F:: 1.75"},{"$f":"VLOOKUP(C615,Main!$A$49:$I$67,Main!$G$47,FALSE)","v":15},{"$f":"VLOOKUP(C615,Main!$A$49:$I$67,Main!$H$47,FALSE)","v":3.1},{"$f":"VLOOKUP(C615,Main!$A$49:$I$67,Main!$I$47,FALSE)","v":16.100000000000001},1907]
["MT","SIDNEY-RICHLAND","6B",8345,1298,-7.4,78.599999999999994,0.10009999999999999,"47.717N",-12.7,15,19.2,30.6,44,54.3,63.3,70.7,69.099999999999994,58.9,45.1,29.8,19.600000000000001,1087,862,607,224,48,2,0,1,18,204,608,941,0,0,5,45,181,401,643,592,284,53,2,0,-5.3,13.64,10,27.5,37.9,47.12,58.1,48.2,42.8,25.2,25.2,3.4,0.84905660377358494,0.12190629291001036,75,43,24,29,{"$f":"IF(OR(C616=\"OA\",C616=\"OB\",C616=\"1B\",C616=\"1A\",C616=\"2A\",C616=\"2B\",C616=\"3A\",C616=\"3B\",C616=\"3C\"),TAN((LEFT(I616, 5)+VLOOKUP(C616,Main!$K$3:$L$21,2,FALSE))*PI()/180),IF(Checklist!$I$385=\"No\",TAN((LEFT(I616, 5)+VLOOKUP(C616,Main!$K$3:$L$21,2,FALSE))*PI()/180),\"NR\"))","v":"NR"},{"$f":"VLOOKUP(C616,Main!$A$49:$I$67,Main!$B$47,FALSE)","v":"NR"},{"$f":"VLOOKUP(C616,Main!$A$49:$I$67,Main!$C$47,FALSE)","v":"NR"},{"$f":"VLOOKUP(C616,Main!$A$49:$I$67,Main!$E$47,FALSE)&\":\"&\" \"&VLOOKUP(C616,Main!$A$49:$I$67,Main!$F$47,FALSE)","v":"Minimum COP @ 5°F:: 1.75"},{"$f":"VLOOKUP(C616,Main!$A$49:$I$67,Main!$G$47,FALSE)","v":15},{"$f":"VLOOKUP(C616,Main!$A$49:$I$67,Main!$H$47,FALSE)","v":3.1},{"$f":"VLOOKUP(C616,Main!$A$49:$I$67,Main!$I$47,FALSE)","v":16.100000000000001},2206]
["MT","WOLF POINT INTL [FORT PECK - SURFRAD]","6B",8754,1329,0.4,72.3,0.10009999999999999,"48.094N",-14.8,13.8,16.2,29.7,43.3,53.3,62.3,71.5,69.2,58.1,44.1,28.5,15.6,1121,947,631,233,61,2,0,0,20,222,646,1066,0,0,3,33,162,371,666,595,264,40,1,0,13.5,2.84,15.3,28.22,41.2,50.36,53.42,53.42,39,22.6,22.6,12.4,0.85239852398523985,0.11881446664055359,77,44,25,30,{"$f":"IF(OR(C617=\"OA\",C617=\"OB\",C617=\"1B\",C617=\"1A\",C617=\"2A\",C617=\"2B\",C617=\"3A\",C617=\"3B\",C617=\"3C\"),TAN((LEFT(I617, 5)+VLOOKUP(C617,Main!$K$3:$L$21,2,FALSE))*PI()/180),IF(Checklist!$I$385=\"No\",TAN((LEFT(I617, 5)+VLOOKUP(C617,Main!$K$3:$L$21,2,FALSE))*PI()/180),\"NR\"))","v":"NR"},{"$f":"VLOOKUP(C617,Main!$A$49:$I$67,Main!$B$47,FALSE)","v":"NR"},{"$f":"VLOOKUP(C617,Main!$A$49:$I$67,Main!$C$47,FALSE)","v":"NR"},{"$f":"VLOOKUP(C617,Main!$A$49:$I$67,Main!$E$47,FALSE)&\":\"&\" \"&VLOOKUP(C617,Main!$A$49:$I$67,Main!$F$47,FALSE)","v":"Minimum COP @ 5°F:: 1.75"},{"$f":"VLOOKUP(C617,Main!$A$49:$I$67,Main!$G$47,FALSE)","v":15},{"$f":"VLOOKUP(C617,Main!$A$49:$I$67,Main!$H$47,FALSE)","v":3.1},{"$f":"VLOOKUP(C617,Main!$A$49:$I$67,Main!$I$47,FALSE)","v":16.100000000000001},2135]
["NB","FREDERICTON","6A",8253,1259,4.1500000000000004,72.3,0.1492,"45.870N",-5.0999999999999996,16,18.399999999999999,28.7,40.799999999999997,52.4,62,67.5,66.099999999999994,57.7,46.4,35.5,24,1054,885,662,285,48,1,0,0,11,161,440,806,0,0,1,9,122,360,541,500,244,48,6,0,7.5,9.68,18.100000000000001,28.76,39.700000000000003,51.44,58.1,57.02,50,30.2,30.2,16.5,0.84615384615384615,0.1345805449772618,79,47,27,32,{"$f":"IF(OR(C618=\"OA\",C618=\"OB\",C618=\"1B\",C618=\"1A\",C618=\"2A\",C618=\"2B\",C618=\"3A\",C618=\"3B\",C618=\"3C\"),TAN((LEFT(I618, 5)+VLOOKUP(C618,Main!$K$3:$L$21,2,FALSE))*PI()/180),IF(Checklist!$I$385=\"No\",TAN((LEFT(I618, 5)+VLOOKUP(C618,Main!$K$3:$L$21,2,FALSE))*PI()/180),\"NR\"))","v":"NR"},{"$f":"VLOOKUP(C618,Main!$A$49:$I$67,Main!$B$47,FALSE)","v":"NR"},{"$f":"VLOOKUP(C618,Main!$A$49:$I$67,Main!$C$47,FALSE)","v":"NR"},{"$f":"VLOOKUP(C618,Main!$A$49:$I$67,Main!$E$47,FALSE)&\":\"&\" \"&VLOOKUP(C618,Main!$A$49:$I$67,Main!$F$47,FALSE)","v":"Minimum COP @ 5°F:: 1.75"},{"$f":"VLOOKUP(C618,Main!$A$49:$I$67,Main!$G$47,FALSE)","v":15},{"$f":"VLOOKUP(C618,Main!$A$49:$I$67,Main!$H$47,FALSE)","v":3.1},{"$f":"VLOOKUP(C618,Main!$A$49:$I$67,Main!$I$47,FALSE)","v":16.100000000000001},1831]
["NB","MONCTON AP","6A",8397,1264,7.35,70.3,0.1492,"46.110N",-3.5,17.2,18.8,27.5,38.700000000000003,50,59.8,66.400000000000006,65.400000000000006,57.5,46.6,36,24.9,1017,873,698,345,91,5,0,0,12,157,428,778,0,0,1,7,90,300,509,477,236,52,8,0,10.199999999999999,11.84,19.8,29.66,39.700000000000003,50.72,58.1,57.2,50,31.5,31.5,18.5,0.84251968503937003,0.13759213759213759,79,48,28,33,{"$f":"IF(OR(C619=\"OA\",C619=\"OB\",C619=\"1B\",C619=\"1A\",C619=\"2A\",C619=\"2B\",C619=\"3A\",C619=\"3B\",C619=\"3C\"),TAN((LEFT(I619, 5)+VLOOKUP(C619,Main!$K$3:$L$21,2,FALSE))*PI()/180),IF(Checklist!$I$385=\"No\",TAN((LEFT(I619, 5)+VLOOKUP(C619,Main!$K$3:$L$21,2,FALSE))*PI()/180),\"NR\"))","v":"NR"},{"$f":"VLOOKUP(C619,Main!$A$49:$I$67,Main!$B$47,FALSE)","v":"NR"},{"$f":"VLOOKUP(C619,Main!$A$49:$I$67,Main!$C$47,FALSE)","v":"NR"},{"$f":"VLOOKUP(C619,Main!$A$49:$I$67,Main!$E$47,FALSE)&\":\"&\" \"&VLOOKUP(C619,Main!$A$49:$I$67,Main!$F$47,FALSE)","v":"Minimum COP @ 5°F:: 1.75"},{"$f":"VLOOKUP(C619,Main!$A$49:$I$67,Main!$G$47,FALSE)","v":15},{"$f":"VLOOKUP(C619,Main!$A$49:$I$67,Main!$H$47,FALSE)","v":3.1},{"$f":"VLOOKUP(C619,Main!$A$49:$I$67,Main!$I$47,FALSE)","v":16.100000000000001},1680]
["NC","ASHEVILLE REGIONAL ARPT","4A",4076,1577,31.55,74.5,0.1061,"35.432N",19.7,38.1,40.9,47.3,55.9,63.5,70.5,73.7,72.8,66.7,56.5,46.9,40.299999999999997,382,268,157,30,2,0,0,0,0,23,151,320,12,14,73,208,420,615,734,708,502,224,57,20,25.7,28.76,32.9,42.8,53.6,62.96,63.68,65.84,60.1,35.6,35.6,25.7,0.73244147157190631,0.20368194281237759,62,32,15,20,{"$f":"IF(OR(C620=\"OA\",C620=\"OB\",C620=\"1B\",C620=\"1A\",C620=\"2A\",C620=\"2B\",C620=\"3A\",C620=\"3B\",C620=\"3C\"),TAN((LEFT(I620, 5)+VLOOKUP(C620,Main!$K$3:$L$21,2,FALSE))*PI()/180),IF(Checklist!$I$385=\"No\",TAN((LEFT(I620, 5)+VLOOKUP(C620,Main!$K$3:$L$21,2,FALSE))*PI()/180),\"NR\"))","v":"NR"},{"$f":"VLOOKUP(C620,Main!$A$49:$I$67,Main!$B$47,FALSE)","v":0.5},{"$f":"VLOOKUP(C620,Main!$A$49:$I$67,Main!$C$47,FALSE)","v":0.25},{"$f":"VLOOKUP(C620,Main!$A$49:$I$67,Main!$E$47,FALSE)&\":\"&\" \"&VLOOKUP(C620,Main!$A$49:$I$67,Main!$F$47,FALSE)","v":"Minimum HSPF:: 9.6"},{"$f":"VLOOKUP(C620,Main!$A$49:$I$67,Main!$G$47,FALSE)","v":18},{"$f":"VLOOKUP(C620,Main!$A$49:$I$67,Main!$H$47,FALSE)","v":3.1},{"$f":"VLOOKUP(C620,Main!$A$49:$I$67,Main!$I$47,FALSE)","v":16.100000000000001},3587]
["NC","CAPE HATTERAS NWS BLDG","3A",2517,1622,40.65,80.400000000000006,0.1061,"35.27N",32.200000000000003,46.2,47.4,51.9,59.7,67.3,76.2,79.2,78.900000000000006,74.900000000000006,66,57.2,49.4,190,115,68,6,0,0,0,0,0,0,22,114,72,41,128,296,536,786,906,897,748,497,237,96,35.6,39.74,45.1,51.62,59.5,68.36,73.400000000000006,70.88,68.400000000000006,49.6,49.6,37,0.6330275229357798,0.2747999396044089,57,27,12,17,{"$f":"IF(OR(C621=\"OA\",C621=\"OB\",C621=\"1B\",C621=\"1A\",C621=\"2A\",C621=\"2B\",C621=\"3A\",C621=\"3B\",C621=\"3C\"),TAN((LEFT(I621, 5)+VLOOKUP(C621,Main!$K$3:$L$21,2,FALSE))*PI()/180),IF(Checklist!$I$385=\"No\",TAN((LEFT(I621, 5)+VLOOKUP(C621,Main!$K$3:$L$21,2,FALSE))*PI()/180),\"NR\"))","v":0.70725366911938625},{"$f":"VLOOKUP(C621,Main!$A$49:$I$67,Main!$B$47,FALSE)","v":0.6},{"$f":"VLOOKUP(C621,Main!$A$49:$I$67,Main!$C$47,FALSE)","v":0.25},{"$f":"VLOOKUP(C621,Main!$A$49:$I$67,Main!$E$47,FALSE)&\":\"&\" \"&VLOOKUP(C621,Main!$A$49:$I$67,Main!$F$47,FALSE)","v":"Minimum HSPF:: 9.6"},{"$f":"VLOOKUP(C621,Main!$A$49:$I$67,Main!$G$47,FALSE)","v":18},{"$f":"VLOOKUP(C621,Main!$A$49:$I$67,Main!$H$47,FALSE)","v":3.1},{"$f":"VLOOKUP(C621,Main!$A$49:$I$67,Main!$I$47,FALSE)","v":16.100000000000001},5240]
["NC","CHARLOTTE DOUGLAS INTL ARPT","3A",3041,1633,34.700000000000003,82.8,0.1061,"35.224N",25.3,42.5,45.7,52.7,61.1,68.8,76.3,79.5,78.3,72.099999999999994,61.6,51.5,44.6,271,171,78,8,0,0,0,0,0,7,79,215,37,50,161,342,583,790,916,876,664,365,125,48,28.8,31.28,35.1,42.8,56.7,63.14,68.180000000000007,69.260000000000005,62.4,39.4,39.4,28.4,0.68627450980392157,0.23039432875498445,59,29,13,18,{"$f":"IF(OR(C622=\"OA\",C622=\"OB\",C622=\"1B\",C622=\"1A\",C622=\"2A\",C622=\"2B\",C622=\"3A\",C622=\"3B\",C622=\"3C\"),TAN((LEFT(I622, 5)+VLOOKUP(C622,Main!$K$3:$L$21,2,FALSE))*PI()/180),IF(Checklist!$I$385=\"No\",TAN((LEFT(I622, 5)+VLOOKUP(C622,Main!$K$3:$L$21,2,FALSE))*PI()/180),\"NR\"))","v":0.70594529807042861},{"$f":"VLOOKUP(C622,Main!$A$49:$I$67,Main!$B$47,FALSE)","v":0.6},{"$f":"VLOOKUP(C622,Main!$A$49:$I$67,Main!$C$47,FALSE)","v":0.25},{"$f":"VLOOKUP(C622,Main!$A$49:$I$67,Main!$E$47,FALSE)&\":\"&\" \"&VLOOKUP(C622,Main!$A$49:$I$67,Main!$F$47,FALSE)","v":"Minimum HSPF:: 9.6"},{"$f":"VLOOKUP(C622,Main!$A$49:$I$67,Main!$G$47,FALSE)","v":18},{"$f":"VLOOKUP(C622,Main!$A$49:$I$67,Main!$H$47,FALSE)","v":3.1},{"$f":"VLOOKUP(C622,Main!$A$49:$I$67,Main!$I$47,FALSE)","v":16.100000000000001},4957]
["NC","CHERRY POINT MCAS","3A",2541,1549,28.65,82.8,0.1061,"34.900N",27.5,45.8,47.6,53.7,61.9,69.5,76.900000000000006,80.099999999999994,79,74.400000000000006,64.599999999999994,55.2,48.7,202,136,62,4,0,0,0,0,0,2,42,139,73,70,177,362,605,808,933,899,731,454,197,99,32.9,34.159999999999997,36.700000000000003,44.42,54,68.180000000000007,74.3,68.900000000000006,63,41.4,41.4,30,0.63963963963963966,0.24290957624290957,57,27,12,17,{"$f":"IF(OR(C623=\"OA\",C623=\"OB\",C623=\"1B\",C623=\"1A\",C623=\"2A\",C623=\"2B\",C623=\"3A\",C623=\"3B\",C623=\"3C\"),TAN((LEFT(I623, 5)+VLOOKUP(C623,Main!$K$3:$L$21,2,FALSE))*PI()/180),IF(Checklist!$I$385=\"No\",TAN((LEFT(I623, 5)+VLOOKUP(C623,Main!$K$3:$L$21,2,FALSE))*PI()/180),\"NR\"))","v":0.69760966264445146},{"$f":"VLOOKUP(C623,Main!$A$49:$I$67,Main!$B$47,FALSE)","v":0.6},{"$f":"VLOOKUP(C623,Main!$A$49:$I$67,Main!$C$47,FALSE)","v":0.25},{"$f":"VLOOKUP(C623,Main!$A$49:$I$67,Main!$E$47,FALSE)&\":\"&\" \"&VLOOKUP(C623,Main!$A$49:$I$67,Main!$F$47,FALSE)","v":"Minimum HSPF:: 9.6"},{"$f":"VLOOKUP(C623,Main!$A$49:$I$67,Main!$G$47,FALSE)","v":18},{"$f":"VLOOKUP(C623,Main!$A$49:$I$67,Main!$H$47,FALSE)","v":3.1},{"$f":"VLOOKUP(C623,Main!$A$49:$I$67,Main!$I$47,FALSE)","v":16.100000000000001},5408]
["NC","DARE CO RGNL","3A",2762,1574,36.299999999999997,83.8,0.1061,"35.917N",29.7,43.9,45.5,51.2,60.2,68.099999999999994,76.599999999999994,80.599999999999994,79.7,74.599999999999994,65.5,55.7,48.4,240,164,90,10,0,0,0,0,0,1,31,133,50,38,127,316,560,798,949,920,739,481,201,83,31.5,30.38,35.200000000000003,42.8,53.2,65.48,74.48,68.72,62.2,49.6,49.6,46.2,0.6680497925311204,0.25686260673205841,57,28,13,18,{"$f":"IF(OR(C624=\"OA\",C624=\"OB\",C624=\"1B\",C624=\"1A\",C624=\"2A\",C624=\"2B\",C624=\"3A\",C624=\"3B\",C624=\"3C\"),TAN((LEFT(I624, 5)+VLOOKUP(C624,Main!$K$3:$L$21,2,FALSE))*PI()/180),IF(Checklist!$I$385=\"No\",TAN((LEFT(I624, 5)+VLOOKUP(C624,Main!$K$3:$L$21,2,FALSE))*PI()/180),\"NR\"))","v":0.72414529864280086},{"$f":"VLOOKUP(C624,Main!$A$49:$I$67,Main!$B$47,FALSE)","v":0.6},{"$f":"VLOOKUP(C624,Main!$A$49:$I$67,Main!$C$47,FALSE)","v":0.25},{"$f":"VLOOKUP(C624,Main!$A$49:$I$67,Main!$E$47,FALSE)&\":\"&\" \"&VLOOKUP(C624,Main!$A$49:$I$67,Main!$F$47,FALSE)","v":"Minimum HSPF:: 9.6"},{"$f":"VLOOKUP(C624,Main!$A$49:$I$67,Main!$G$47,FALSE)","v":18},{"$f":"VLOOKUP(C624,Main!$A$49:$I$67,Main!$H$47,FALSE)","v":3.1},{"$f":"VLOOKUP(C624,Main!$A$49:$I$67,Main!$I$47,FALSE)","v":16.100000000000001},5262]
["NC","ELIZABETH CITY COAST GUARD AI [NREL]","3A",3048,1594,40.799999999999997,80.400000000000006,0.1061,"36.261N",25.7,42.3,44.6,51,60.2,68.400000000000006,76.3,79.2,78.5,72.900000000000006,63.1,53.4,45.9,288,192,101,10,0,0,0,0,0,5,58,196,49,40,133,316,569,790,906,882,688,412,160,69,37.799999999999997,34.700000000000003,41.5,50.9,59,67.099999999999994,73.22,67.64,65.7,45.9,45.9,40.799999999999997,0.68871595330739299,0.23257299853044536,59,29,13,18,{"$f":"IF(OR(C625=\"OA\",C625=\"OB\",C625=\"1B\",C625=\"1A\",C625=\"2A\",C625=\"2B\",C625=\"3A\",C625=\"3B\",C625=\"3C\"),TAN((LEFT(I625, 5)+VLOOKUP(C625,Main!$K$3:$L$21,2,FALSE))*PI()/180),IF(Checklist!$I$385=\"No\",TAN((LEFT(I625, 5)+VLOOKUP(C625,Main!$K$3:$L$21,2,FALSE))*PI()/180),\"NR\"))","v":0.73349873710292512},{"$f":"VLOOKUP(C625,Main!$A$49:$I$67,Main!$B$47,FALSE)","v":0.6},{"$f":"VLOOKUP(C625,Main!$A$49:$I$67,Main!$C$47,FALSE)","v":0.25},{"$f":"VLOOKUP(C625,Main!$A$49:$I$67,Main!$E$47,FALSE)&\":\"&\" \"&VLOOKUP(C625,Main!$A$49:$I$67,Main!$F$47,FALSE)","v":"Minimum HSPF:: 9.6"},{"$f":"VLOOKUP(C625,Main!$A$49:$I$67,Main!$G$47,FALSE)","v":18},{"$f":"VLOOKUP(C625,Main!$A$49:$I$67,Main!$H$47,FALSE)","v":3.1},{"$f":"VLOOKUP(C625,Main!$A$49:$I$67,Main!$I$47,FALSE)","v":16.100000000000001},5014]
["NC","FAYETTEVILLE POPE AFB","3A",2817,1539,28.75,85.1,0.1061,"35.174N",25,43.6,46.7,53.6,63.1,71,78.400000000000006,81.5,79.7,73.5,63.2,52.8,46.1,251,158,71,6,0,0,0,0,0,3,67,189,52,65,184,398,652,852,976,921,706,411,150,69,28.4,31.64,32,43.7,52.7,64.400000000000006,72.319999999999993,66.38,60.3,36.700000000000003,36.700000000000003,31.5,0.67213114754098358,0.22878692646134505,58,28,13,18,{"$f":"IF(OR(C626=\"OA\",C626=\"OB\",C626=\"1B\",C626=\"1A\",C626=\"2A\",C626=\"2B\",C626=\"3A\",C626=\"3B\",C626=\"3C\"),TAN((LEFT(I626, 5)+VLOOKUP(C626,Main!$K$3:$L$21,2,FALSE))*PI()/180),IF(Checklist!$I$385=\"No\",TAN((LEFT(I626, 5)+VLOOKUP(C626,Main!$K$3:$L$21,2,FALSE))*PI()/180),\"NR\"))","v":0.70463853808248067},{"$f":"VLOOKUP(C626,Main!$A$49:$I$67,Main!$B$47,FALSE)","v":0.6},{"$f":"VLOOKUP(C626,Main!$A$49:$I$67,Main!$C$47,FALSE)","v":0.25},{"$f":"VLOOKUP(C626,Main!$A$49:$I$67,Main!$E$47,FALSE)&\":\"&\" \"&VLOOKUP(C626,Main!$A$49:$I$67,Main!$F$47,FALSE)","v":"Minimum HSPF:: 9.6"},{"$f":"VLOOKUP(C626,Main!$A$49:$I$67,Main!$G$47,FALSE)","v":18},{"$f":"VLOOKUP(C626,Main!$A$49:$I$67,Main!$H$47,FALSE)","v":3.1},{"$f":"VLOOKUP(C626,Main!$A$49:$I$67,Main!$I$47,FALSE)","v":16.100000000000001},5436]
["NC","FAYETTEVILLE RGNL G","3A",2705,1526,26.05,80.599999999999994,0.1061,"34.991N",26.7,44.6,47.3,54,62.8,70.5,77.900000000000006,81.3,79.599999999999994,73.7,63.5,53.6,46.6,229,147,65,5,0,0,0,0,0,2,59,176,62,71,188,390,635,838,969,916,710,421,168,72,28.6,31.46,32.200000000000003,42.98,53.1,64.58,68.540000000000006,68.900000000000006,62.1,38.299999999999997,38.299999999999997,25.2,0.65811965811965811,0.23820430600091616,58,28,13,18,{"$f":"IF(OR(C627=\"OA\",C627=\"OB\",C627=\"1B\",C627=\"1A\",C627=\"2A\",C627=\"2B\",C627=\"3A\",C627=\"3B\",C627=\"3C\"),TAN((LEFT(I627, 5)+VLOOKUP(C627,Main!$K$3:$L$21,2,FALSE))*PI()/180),IF(Checklist!$I$385=\"No\",TAN((LEFT(I627, 5)+VLOOKUP(C627,Main!$K$3:$L$21,2,FALSE))*PI()/180),\"NR\"))","v":0.69994746521318429},{"$f":"VLOOKUP(C627,Main!$A$49:$I$67,Main!$B$47,FALSE)","v":0.6},{"$f":"VLOOKUP(C627,Main!$A$49:$I$67,Main!$C$47,FALSE)","v":0.25},{"$f":"VLOOKUP(C627,Main!$A$49:$I$67,Main!$E$47,FALSE)&\":\"&\" \"&VLOOKUP(C627,Main!$A$49:$I$67,Main!$F$47,FALSE)","v":"Minimum HSPF:: 9.6"},{"$f":"VLOOKUP(C627,Main!$A$49:$I$67,Main!$G$47,FALSE)","v":18},{"$f":"VLOOKUP(C627,Main!$A$49:$I$67,Main!$H$47,FALSE)","v":3.1},{"$f":"VLOOKUP(C627,Main!$A$49:$I$67,Main!$I$47,FALSE)","v":16.100000000000001},5440]
["NC","FORT BRAGG SIMMONS AAF","3A",2741,1495,28.65,83.8,0.1061,"35.133N",26.2,44,47.6,53.9,63,70.8,78.5,81.8,79.599999999999994,73.8,63.4,52.7,46.8,238,145,68,5,0,0,0,0,0,2,66,175,50,77,187,395,645,854,986,918,715,418,147,75,34.700000000000003,32.18,32.5,42.08,57.4,64.58,72.86,67.819999999999993,62.8,37,37,31.8,0.66666666666666663,0.23535497219707746,58,28,13,18,{"$f":"IF(OR(C628=\"OA\",C628=\"OB\",C628=\"1B\",C628=\"1A\",C628=\"2A\",C628=\"2B\",C628=\"3A\",C628=\"3B\",C628=\"3C\"),TAN((LEFT(I628, 5)+VLOOKUP(C628,Main!$K$3:$L$21,2,FALSE))*PI()/180),IF(Checklist!$I$385=\"No\",TAN((LEFT(I628, 5)+VLOOKUP(C628,Main!$K$3:$L$21,2,FALSE))*PI()/180),\"NR\"))","v":0.70359428672203572},{"$f":"VLOOKUP(C628,Main!$A$49:$I$67,Main!$B$47,FALSE)","v":0.6},{"$f":"VLOOKUP(C628,Main!$A$49:$I$67,Main!$C$47,FALSE)","v":0.25},{"$f":"VLOOKUP(C628,Main!$A$49:$I$67,Main!$E$47,FALSE)&\":\"&\" \"&VLOOKUP(C628,Main!$A$49:$I$67,Main!$F$47,FALSE)","v":"Minimum HSPF:: 9.6"},{"$f":"VLOOKUP(C628,Main!$A$49:$I$67,Main!$G$47,FALSE)","v":18},{"$f":"VLOOKUP(C628,Main!$A$49:$I$67,Main!$H$47,FALSE)","v":3.1},{"$f":"VLOOKUP(C628,Main!$A$49:$I$67,Main!$I$47,FALSE)","v":16.100000000000001},5467]
["NC","GOLDSBORO SEYMOUR JOHNSON AFB","3A",2685,1568,27.7,82.9,0.1061,"35.344N",26.5,44.6,47.6,54.1,62.7,70.7,78.099999999999994,81.599999999999994,79.3,73.8,63.6,53.5,47.3,229,146,65,6,0,0,0,0,0,3,61,171,61,79,193,386,642,843,980,907,715,424,167,86,29.5,32.18,33.299999999999997,41.72,50,65.84,73.400000000000006,68.540000000000006,61.7,39,39,27.5,0.65811965811965811,0.23705633344187557,58,28,13,18,{"$f":"IF(OR(C629=\"OA\",C629=\"OB\",C629=\"1B\",C629=\"1A\",C629=\"2A\",C629=\"2B\",C629=\"3A\",C629=\"3B\",C629=\"3C\"),TAN((LEFT(I629, 5)+VLOOKUP(C629,Main!$K$3:$L$21,2,FALSE))*PI()/180),IF(Checklist!$I$385=\"No\",TAN((LEFT(I629, 5)+VLOOKUP(C629,Main!$K$3:$L$21,2,FALSE))*PI()/180),\"NR\"))","v":0.70908810465110605},{"$f":"VLOOKUP(C629,Main!$A$49:$I$67,Main!$B$47,FALSE)","v":0.6},{"$f":"VLOOKUP(C629,Main!$A$49:$I$67,Main!$C$47,FALSE)","v":0.25},{"$f":"VLOOKUP(C629,Main!$A$49:$I$67,Main!$E$47,FALSE)&\":\"&\" \"&VLOOKUP(C629,Main!$A$49:$I$67,Main!$F$47,FALSE)","v":"Minimum HSPF:: 9.6"},{"$f":"VLOOKUP(C629,Main!$A$49:$I$67,Main!$G$47,FALSE)","v":18},{"$f":"VLOOKUP(C629,Main!$A$49:$I$67,Main!$H$47,FALSE)","v":3.1},{"$f":"VLOOKUP(C629,Main!$A$49:$I$67,Main!$I$47,FALSE)","v":16.100000000000001},5483]
["NC","GREENSBORO PIEDMONT TRIAD INT","3A",3533,1567,22.9,81.900000000000006,0.1061,"36.097N",22.8,39.9,42.8,50,59.1,66.900000000000006,74.900000000000006,78.3,76.8,70.2,59.7,49.7,42.3,339,231,119,17,1,0,0,0,0,11,108,273,25,29,119,291,526,746,876,831,606,311,100,34,21.7,28.58,39,42.98,54,65.84,67.64,67.28,59.7,37.9,37.9,27.1,0.71530249110320288,0.21765127959818223,60,30,14,19,{"$f":"IF(OR(C630=\"OA\",C630=\"OB\",C630=\"1B\",C630=\"1A\",C630=\"2A\",C630=\"2B\",C630=\"3A\",C630=\"3B\",C630=\"3C\"),TAN((LEFT(I630, 5)+VLOOKUP(C630,Main!$K$3:$L$21,2,FALSE))*PI()/180),IF(Checklist!$I$385=\"No\",TAN((LEFT(I630, 5)+VLOOKUP(C630,Main!$K$3:$L$21,2,FALSE))*PI()/180),\"NR\"))","v":0.72894523530174271},{"$f":"VLOOKUP(C630,Main!$A$49:$I$67,Main!$B$47,FALSE)","v":0.6},{"$f":"VLOOKUP(C630,Main!$A$49:$I$67,Main!$C$47,FALSE)","v":0.25},{"$f":"VLOOKUP(C630,Main!$A$49:$I$67,Main!$E$47,FALSE)&\":\"&\" \"&VLOOKUP(C630,Main!$A$49:$I$67,Main!$F$47,FALSE)","v":"Minimum HSPF:: 9.6"},{"$f":"VLOOKUP(C630,Main!$A$49:$I$67,Main!$G$47,FALSE)","v":18},{"$f":"VLOOKUP(C630,Main!$A$49:$I$67,Main!$H$47,FALSE)","v":3.1},{"$f":"VLOOKUP(C630,Main!$A$49:$I$67,Main!$I$47,FALSE)","v":16.100000000000001},4494]
["NC","HICKORY REGIONAL AP","3A",3454,1565,28.95,79.5,0.1061,"35.743N",24,40.4,43.3,50.3,59.4,66.900000000000006,74.599999999999994,77.400000000000006,76.400000000000006,70.099999999999994,59.5,50.1,42.4,319,213,109,14,1,0,0,0,0,12,96,263,22,25,119,296,524,737,850,818,603,307,100,28,23.4,21.38,40.1,43.88,55.9,63.14,64.94,68,60.4,40.1,40.1,30.9,0.71014492753623193,0.22358722358722355,60,30,14,19,{"$f":"IF(OR(C631=\"OA\",C631=\"OB\",C631=\"1B\",C631=\"1A\",C631=\"2A\",C631=\"2B\",C631=\"3A\",C631=\"3B\",C631=\"3C\"),TAN((LEFT(I631, 5)+VLOOKUP(C631,Main!$K$3:$L$21,2,FALSE))*PI()/180),IF(Checklist!$I$385=\"No\",TAN((LEFT(I631, 5)+VLOOKUP(C631,Main!$K$3:$L$21,2,FALSE))*PI()/180),\"NR\"))","v":0.71963203697494749},{"$f":"VLOOKUP(C631,Main!$A$49:$I$67,Main!$B$47,FALSE)","v":0.6},{"$f":"VLOOKUP(C631,Main!$A$49:$I$67,Main!$C$47,FALSE)","v":0.25},{"$f":"VLOOKUP(C631,Main!$A$49:$I$67,Main!$E$47,FALSE)&\":\"&\" \"&VLOOKUP(C631,Main!$A$49:$I$67,Main!$F$47,FALSE)","v":"Minimum HSPF:: 9.6"},{"$f":"VLOOKUP(C631,Main!$A$49:$I$67,Main!$G$47,FALSE)","v":18},{"$f":"VLOOKUP(C631,Main!$A$49:$I$67,Main!$H$47,FALSE)","v":3.1},{"$f":"VLOOKUP(C631,Main!$A$49:$I$67,Main!$I$47,FALSE)","v":16.100000000000001},4429]
["NC","JACKSONVILLE (AWOS)","3A",2950,1668,26.7,79.3,0.1061,"34.833N",24.8,43.8,45.8,52.4,60.8,68.8,76.099999999999994,79.8,78.099999999999994,72.5,62.5,52.5,45.9,251,172,83,9,0,0,0,0,0,5,77,195,60,53,157,334,584,783,924,870,676,392,151,69,30.2,30.92,33.799999999999997,38.119999999999997,59.4,61.52,65.84,65.66,63.1,36.9,36.9,28.2,0.66942148760330578,0.2277277277277277,58,28,13,18,{"$f":"IF(OR(C632=\"OA\",C632=\"OB\",C632=\"1B\",C632=\"1A\",C632=\"2A\",C632=\"2B\",C632=\"3A\",C632=\"3B\",C632=\"3C\"),TAN((LEFT(I632, 5)+VLOOKUP(C632,Main!$K$3:$L$21,2,FALSE))*PI()/180),IF(Checklist!$I$385=\"No\",TAN((LEFT(I632, 5)+VLOOKUP(C632,Main!$K$3:$L$21,2,FALSE))*PI()/180),\"NR\"))","v":0.69579491153429651},{"$f":"VLOOKUP(C632,Main!$A$49:$I$67,Main!$B$47,FALSE)","v":0.6},{"$f":"VLOOKUP(C632,Main!$A$49:$I$67,Main!$C$47,FALSE)","v":0.25},{"$f":"VLOOKUP(C632,Main!$A$49:$I$67,Main!$E$47,FALSE)&\":\"&\" \"&VLOOKUP(C632,Main!$A$49:$I$67,Main!$F$47,FALSE)","v":"Minimum HSPF:: 9.6"},{"$f":"VLOOKUP(C632,Main!$A$49:$I$67,Main!$G$47,FALSE)","v":18},{"$f":"VLOOKUP(C632,Main!$A$49:$I$67,Main!$H$47,FALSE)","v":3.1},{"$f":"VLOOKUP(C632,Main!$A$49:$I$67,Main!$I$47,FALSE)","v":16.100000000000001},5053]
["NC","NEW BERN CRAVEN CO REGL AP","3A",2632,1449,41.8,80.400000000000006,0.1061,"35.068N",26.7,45.1,47.2,53.5,62.1,69.599999999999994,77.3,80.5,79.099999999999994,74,64.2,54.8,47.9,220,143,67,5,0,0,0,0,0,3,43,158,68,66,176,367,607,818,945,902,719,443,186,92,40.1,37.76,49.5,51.8,58.5,67.459999999999994,71.239999999999995,71.06,65.8,40.299999999999997,40.299999999999997,44.4,0.6506550218340611,0.23820430600091616,57,28,12,17,{"$f":"IF(OR(C633=\"OA\",C633=\"OB\",C633=\"1B\",C633=\"1A\",C633=\"2A\",C633=\"2B\",C633=\"3A\",C633=\"3B\",C633=\"3C\"),TAN((LEFT(I633, 5)+VLOOKUP(C633,Main!$K$3:$L$21,2,FALSE))*PI()/180),IF(Checklist!$I$385=\"No\",TAN((LEFT(I633, 5)+VLOOKUP(C633,Main!$K$3:$L$21,2,FALSE))*PI()/180),\"NR\"))","v":0.70176931262376241},{"$f":"VLOOKUP(C633,Main!$A$49:$I$67,Main!$B$47,FALSE)","v":0.6},{"$f":"VLOOKUP(C633,Main!$A$49:$I$67,Main!$C$47,FALSE)","v":0.25},{"$f":"VLOOKUP(C633,Main!$A$49:$I$67,Main!$E$47,FALSE)&\":\"&\" \"&VLOOKUP(C633,Main!$A$49:$I$67,Main!$F$47,FALSE)","v":"Minimum HSPF:: 9.6"},{"$f":"VLOOKUP(C633,Main!$A$49:$I$67,Main!$G$47,FALSE)","v":18},{"$f":"VLOOKUP(C633,Main!$A$49:$I$67,Main!$H$47,FALSE)","v":3.1},{"$f":"VLOOKUP(C633,Main!$A$49:$I$67,Main!$I$47,FALSE)","v":16.100000000000001},5389]
["NC","NEW RIVER MCAF","3A",2536,1451,28.75,84.4,0.1061,"34.708N",26.8,45.8,48,54.3,62.6,70.099999999999994,77.099999999999994,80.5,79,74,64.3,54.8,48.3,204,133,60,4,0,0,0,0,0,3,48,147,73,78,193,384,623,814,946,900,720,445,191,95,31.5,31.82,34.9,50,61.2,67.28,69.08,71.78,68,49.3,49.3,31.1,0.63963963963963966,0.23878247179218048,57,27,13,18,{"$f":"IF(OR(C634=\"OA\",C634=\"OB\",C634=\"1B\",C634=\"1A\",C634=\"2A\",C634=\"2B\",C634=\"3A\",C634=\"3B\",C634=\"3C\"),TAN((LEFT(I634, 5)+VLOOKUP(C634,Main!$K$3:$L$21,2,FALSE))*PI()/180),IF(Checklist!$I$385=\"No\",TAN((LEFT(I634, 5)+VLOOKUP(C634,Main!$K$3:$L$21,2,FALSE))*PI()/180),\"NR\"))","v":0.69243282809314999},{"$f":"VLOOKUP(C634,Main!$A$49:$I$67,Main!$B$47,FALSE)","v":0.6},{"$f":"VLOOKUP(C634,Main!$A$49:$I$67,Main!$C$47,FALSE)","v":0.25},{"$f":"VLOOKUP(C634,Main!$A$49:$I$67,Main!$E$47,FALSE)&\":\"&\" \"&VLOOKUP(C634,Main!$A$49:$I$67,Main!$F$47,FALSE)","v":"Minimum HSPF:: 9.6"},{"$f":"VLOOKUP(C634,Main!$A$49:$I$67,Main!$G$47,FALSE)","v":18},{"$f":"VLOOKUP(C634,Main!$A$49:$I$67,Main!$H$47,FALSE)","v":3.1},{"$f":"VLOOKUP(C634,Main!$A$49:$I$67,Main!$I$47,FALSE)","v":16.100000000000001},5462]
["NC","PITT GREENVILLE ARP","3A",2994,1616,24.35,80.099999999999994,0.1061,"35.633N",24.9,43.2,45.6,52.4,61.5,69.5,77.3,80.3,79,72.8,62.4,52.2,45.5,272,180,88,7,0,0,0,0,0,6,81,205,62,56,163,353,604,818,940,899,685,391,147,66,29.1,27.68,30.2,41,53.2,63.32,67.819999999999993,64.58,57.7,45,45,42.1,0.67741935483870963,0.22825609832570387,59,29,13,18,{"$f":"IF(OR(C635=\"OA\",C635=\"OB\",C635=\"1B\",C635=\"1A\",C635=\"2A\",C635=\"2B\",C635=\"3A\",C635=\"3B\",C635=\"3C\"),TAN((LEFT(I635, 5)+VLOOKUP(C635,Main!$K$3:$L$21,2,FALSE))*PI()/180),IF(Checklist!$I$385=\"No\",TAN((LEFT(I635, 5)+VLOOKUP(C635,Main!$K$3:$L$21,2,FALSE))*PI()/180),\"NR\"))","v":0.7167219522374686},{"$f":"VLOOKUP(C635,Main!$A$49:$I$67,Main!$B$47,FALSE)","v":0.6},{"$f":"VLOOKUP(C635,Main!$A$49:$I$67,Main!$C$47,FALSE)","v":0.25},{"$f":"VLOOKUP(C635,Main!$A$49:$I$67,Main!$E$47,FALSE)&\":\"&\" \"&VLOOKUP(C635,Main!$A$49:$I$67,Main!$F$47,FALSE)","v":"Minimum HSPF:: 9.6"},{"$f":"VLOOKUP(C635,Main!$A$49:$I$67,Main!$G$47,FALSE)","v":18},{"$f":"VLOOKUP(C635,Main!$A$49:$I$67,Main!$H$47,FALSE)","v":3.1},{"$f":"VLOOKUP(C635,Main!$A$49:$I$67,Main!$I$47,FALSE)","v":16.100000000000001},5184]
["NC","RALEIGH DURHAM INTERNATIONAL","3A",3208,1590,35.049999999999997,80.8,0.1061,"35.892N",24.2,41.9,44.6,51.5,60.4,68.099999999999994,76.099999999999994,79.8,78.099999999999994,71.7,61,51.3,44.1,292,198,97,12,0,0,0,0,0,8,87,233,41,48,145,325,562,784,924,871,651,351,127,51,30,25.88,35.4,46.22,59,64.22,68.540000000000006,68,63.9,39.200000000000003,39.200000000000003,32.4,0.69348659003831414,0.22460816981364926,59,29,14,19,{"$f":"IF(OR(C636=\"OA\",C636=\"OB\",C636=\"1B\",C636=\"1A\",C636=\"2A\",C636=\"2B\",C636=\"3A\",C636=\"3B\",C636=\"3C\"),TAN((LEFT(I636, 5)+VLOOKUP(C636,Main!$K$3:$L$21,2,FALSE))*PI()/180),IF(Checklist!$I$385=\"No\",TAN((LEFT(I636, 5)+VLOOKUP(C636,Main!$K$3:$L$21,2,FALSE))*PI()/180),\"NR\"))","v":0.72361332185152472},{"$f":"VLOOKUP(C636,Main!$A$49:$I$67,Main!$B$47,FALSE)","v":0.6},{"$f":"VLOOKUP(C636,Main!$A$49:$I$67,Main!$C$47,FALSE)","v":0.25},{"$f":"VLOOKUP(C636,Main!$A$49:$I$67,Main!$E$47,FALSE)&\":\"&\" \"&VLOOKUP(C636,Main!$A$49:$I$67,Main!$F$47,FALSE)","v":"Minimum HSPF:: 9.6"},{"$f":"VLOOKUP(C636,Main!$A$49:$I$67,Main!$G$47,FALSE)","v":18},{"$f":"VLOOKUP(C636,Main!$A$49:$I$67,Main!$H$47,FALSE)","v":3.1},{"$f":"VLOOKUP(C636,Main!$A$49:$I$67,Main!$I$47,FALSE)","v":16.100000000000001},4880]
["NC","ROCKY MOUNT WILSON","3A",3284,1543,39.65,82.4,0.1061,"35.855N",23.6,41.1,43.5,51,60.8,68.2,76.5,79.2,78,71.8,61.2,51.1,43.7,318,219,106,11,0,0,0,0,0,9,87,243,43,36,136,334,565,795,905,869,654,355,121,47,28.2,34.159999999999997,40.6,47.12,56.7,66.56,65.66,63.86,59.9,43.9,43.9,30.2,0.70260223048327131,0.22157292427562694,59,29,14,19,{"$f":"IF(OR(C637=\"OA\",C637=\"OB\",C637=\"1B\",C637=\"1A\",C637=\"2A\",C637=\"2B\",C637=\"3A\",C637=\"3B\",C637=\"3C\"),TAN((LEFT(I637, 5)+VLOOKUP(C637,Main!$K$3:$L$21,2,FALSE))*PI()/180),IF(Checklist!$I$385=\"No\",TAN((LEFT(I637, 5)+VLOOKUP(C637,Main!$K$3:$L$21,2,FALSE))*PI()/180),\"NR\"))","v":0.72255017396040166},{"$f":"VLOOKUP(C637,Main!$A$49:$I$67,Main!$B$47,FALSE)","v":0.6},{"$f":"VLOOKUP(C637,Main!$A$49:$I$67,Main!$C$47,FALSE)","v":0.25},{"$f":"VLOOKUP(C637,Main!$A$49:$I$67,Main!$E$47,FALSE)&\":\"&\" \"&VLOOKUP(C637,Main!$A$49:$I$67,Main!$F$47,FALSE)","v":"Minimum HSPF:: 9.6"},{"$f":"VLOOKUP(C637,Main!$A$49:$I$67,Main!$G$47,FALSE)","v":18},{"$f":"VLOOKUP(C637,Main!$A$49:$I$67,Main!$H$47,FALSE)","v":3.1},{"$f":"VLOOKUP(C637,Main!$A$49:$I$67,Main!$I$47,FALSE)","v":16.100000000000001},4860]
["NC","SOUTHERN PINES AWOS","3A",3213,1711,24.75,79.5,0.1061,"35.237N",23,42,44.2,52,60.6,68.8,76.099999999999994,79.7,77.900000000000006,71.599999999999994,60.8,51,44.1,294,208,93,10,0,0,0,0,0,10,95,235,46,45,153,329,582,783,921,866,649,344,126,51,31.3,28.04,28.2,35.78,45.7,63.5,66.92,57.92,48.2,35.1,35.1,34.299999999999997,0.69230769230769229,0.21861861861861862,59,29,13,18,{"$f":"IF(OR(C638=\"OA\",C638=\"OB\",C638=\"1B\",C638=\"1A\",C638=\"2A\",C638=\"2B\",C638=\"3A\",C638=\"3B\",C638=\"3C\"),TAN((LEFT(I638, 5)+VLOOKUP(C638,Main!$K$3:$L$21,2,FALSE))*PI()/180),IF(Checklist!$I$385=\"No\",TAN((LEFT(I638, 5)+VLOOKUP(C638,Main!$K$3:$L$21,2,FALSE))*PI()/180),\"NR\"))","v":0.70620684323630256},{"$f":"VLOOKUP(C638,Main!$A$49:$I$67,Main!$B$47,FALSE)","v":0.6},{"$f":"VLOOKUP(C638,Main!$A$49:$I$67,Main!$C$47,FALSE)","v":0.25},{"$f":"VLOOKUP(C638,Main!$A$49:$I$67,Main!$E$47,FALSE)&\":\"&\" \"&VLOOKUP(C638,Main!$A$49:$I$67,Main!$F$47,FALSE)","v":"Minimum HSPF:: 9.6"},{"$f":"VLOOKUP(C638,Main!$A$49:$I$67,Main!$G$47,FALSE)","v":18},{"$f":"VLOOKUP(C638,Main!$A$49:$I$67,Main!$H$47,FALSE)","v":3.1},{"$f":"VLOOKUP(C638,Main!$A$49:$I$67,Main!$I$47,FALSE)","v":16.100000000000001},4895]
["NC","WILMINGTON INTERNATIONAL ARPT","3A",2364,1356,44.35,83.7,0.1061,"34.268N",27.9,46.9,48.9,55.1,63.4,70.599999999999994,77.599999999999994,81,79.400000000000006,74.5,65.2,55.8,49.3,180,116,50,3,0,0,0,0,0,2,39,128,84,87,208,404,638,828,960,912,735,474,214,106,34.700000000000003,36.32,41.9,51.62,60.8,69.44,72.319999999999993,70.34,66,48.4,48.4,40.799999999999997,0.62085308056872035,0.24533261440992113,57,27,12,17,{"$f":"IF(OR(C639=\"OA\",C639=\"OB\",C639=\"1B\",C639=\"1A\",C639=\"2A\",C639=\"2B\",C639=\"3A\",C639=\"3B\",C639=\"3C\"),TAN((LEFT(I639, 5)+VLOOKUP(C639,Main!$K$3:$L$21,2,FALSE))*PI()/180),IF(Checklist!$I$385=\"No\",TAN((LEFT(I639, 5)+VLOOKUP(C639,Main!$K$3:$L$21,2,FALSE))*PI()/180),\"NR\"))","v":0.68113124022098814},{"$f":"VLOOKUP(C639,Main!$A$49:$I$67,Main!$B$47,FALSE)","v":0.6},{"$f":"VLOOKUP(C639,Main!$A$49:$I$67,Main!$C$47,FALSE)","v":0.25},{"$f":"VLOOKUP(C639,Main!$A$49:$I$67,Main!$E$47,FALSE)&\":\"&\" \"&VLOOKUP(C639,Main!$A$49:$I$67,Main!$F$47,FALSE)","v":"Minimum HSPF:: 9.6"},{"$f":"VLOOKUP(C639,Main!$A$49:$I$67,Main!$G$47,FALSE)","v":18},{"$f":"VLOOKUP(C639,Main!$A$49:$I$67,Main!$H$47,FALSE)","v":3.1},{"$f":"VLOOKUP(C639,Main!$A$49:$I$67,Main!$I$47,FALSE)","v":16.100000000000001},5650]
["NC","WINSTON-SALEM REYNOLDS AP","3A",3416,1530,28.5,79.900000000000006,0.1061,"36.134N",24.4,40.299999999999997,43.4,50.7,59.8,67.400000000000006,75.099999999999994,78,76.900000000000006,70,59.7,50.4,43.1,330,217,107,16,1,0,0,0,0,11,99,248,29,32,130,311,539,753,868,835,600,313,111,34,23.2,33.979999999999997,41.2,46.76,53.2,64.400000000000006,69.08,63.86,59.2,42.3,42.3,26.1,0.71119133574007221,0.22563848251921642,60,30,14,19,{"$f":"IF(OR(C640=\"OA\",C640=\"OB\",C640=\"1B\",C640=\"1A\",C640=\"2A\",C640=\"2B\",C640=\"3A\",C640=\"3B\",C640=\"3C\"),TAN((LEFT(I640, 5)+VLOOKUP(C640,Main!$K$3:$L$21,2,FALSE))*PI()/180),IF(Checklist!$I$385=\"No\",TAN((LEFT(I640, 5)+VLOOKUP(C640,Main!$K$3:$L$21,2,FALSE))*PI()/180),\"NR\"))","v":0.73001487158160483},{"$f":"VLOOKUP(C640,Main!$A$49:$I$67,Main!$B$47,FALSE)","v":0.6},{"$f":"VLOOKUP(C640,Main!$A$49:$I$67,Main!$C$47,FALSE)","v":0.25},{"$f":"VLOOKUP(C640,Main!$A$49:$I$67,Main!$E$47,FALSE)&\":\"&\" \"&VLOOKUP(C640,Main!$A$49:$I$67,Main!$F$47,FALSE)","v":"Minimum HSPF:: 9.6"},{"$f":"VLOOKUP(C640,Main!$A$49:$I$67,Main!$G$47,FALSE)","v":18},{"$f":"VLOOKUP(C640,Main!$A$49:$I$67,Main!$H$47,FALSE)","v":3.1},{"$f":"VLOOKUP(C640,Main!$A$49:$I$67,Main!$I$47,FALSE)","v":16.100000000000001},4555]
["ND","BISMARCK MUNICIPAL ARPT [ISIS]","6A",8452,1440,-4,77.900000000000006,9.0300000000000005E-2,"46.783N",-12.2,13.1,18.2,30,43.4,55.3,64.900000000000006,71,69.900000000000006,59.8,45.2,29.7,17.399999999999999,1145,891,625,244,46,1,0,0,16,206,611,1011,0,0,4,47,211,448,652,616,310,57,2,0,1.2,13.82,21.7,30.2,45.3,50.54,55.4,53.24,44.4,22.6,22.6,9.9,0.85428051001821492,0.12266630720496056,74,43,23,28,{"$f":"IF(OR(C641=\"OA\",C641=\"OB\",C641=\"1B\",C641=\"1A\",C641=\"2A\",C641=\"2B\",C641=\"3A\",C641=\"3B\",C641=\"3C\"),TAN((LEFT(I641, 5)+VLOOKUP(C641,Main!$K$3:$L$21,2,FALSE))*PI()/180),IF(Checklist!$I$385=\"No\",TAN((LEFT(I641, 5)+VLOOKUP(C641,Main!$K$3:$L$21,2,FALSE))*PI()/180),\"NR\"))","v":"NR"},{"$f":"VLOOKUP(C641,Main!$A$49:$I$67,Main!$B$47,FALSE)","v":"NR"},{"$f":"VLOOKUP(C641,Main!$A$49:$I$67,Main!$C$47,FALSE)","v":"NR"},{"$f":"VLOOKUP(C641,Main!$A$49:$I$67,Main!$E$47,FALSE)&\":\"&\" \"&VLOOKUP(C641,Main!$A$49:$I$67,Main!$F$47,FALSE)","v":"Minimum COP @ 5°F:: 1.75"},{"$f":"VLOOKUP(C641,Main!$A$49:$I$67,Main!$G$47,FALSE)","v":15},{"$f":"VLOOKUP(C641,Main!$A$49:$I$67,Main!$H$47,FALSE)","v":3.1},{"$f":"VLOOKUP(C641,Main!$A$49:$I$67,Main!$I$47,FALSE)","v":16.100000000000001},2347]
["ND","DEVILS LAKE(AWOS)",7,9643,1349,-6.45,71.099999999999994,9.0300000000000005E-2,"48.117N",-17,6.9,10.9,23.5,39.799999999999997,52.8,63,67.8,66.7,57.7,43.3,27.2,12.3,1338,1095,822,330,70,2,0,0,23,250,683,1170,0,0,2,25,159,392,553,519,256,41,1,0,-2.7,9.14,8.1,30.74,31.1,51.26,51.44,55.04,46.2,26.6,26.6,8.4,0.86906710310965629,0.11573926868044514,78,46,27,32,{"$f":"IF(OR(C642=\"OA\",C642=\"OB\",C642=\"1B\",C642=\"1A\",C642=\"2A\",C642=\"2B\",C642=\"3A\",C642=\"3B\",C642=\"3C\"),TAN((LEFT(I642, 5)+VLOOKUP(C642,Main!$K$3:$L$21,2,FALSE))*PI()/180),IF(Checklist!$I$385=\"No\",TAN((LEFT(I642, 5)+VLOOKUP(C642,Main!$K$3:$L$21,2,FALSE))*PI()/180),\"NR\"))","v":"NR"},{"$f":"VLOOKUP(C642,Main!$A$49:$I$67,Main!$B$47,FALSE)","v":"NR"},{"$f":"VLOOKUP(C642,Main!$A$49:$I$67,Main!$C$47,FALSE)","v":"NR"},{"$f":"VLOOKUP(C642,Main!$A$49:$I$67,Main!$E$47,FALSE)&\":\"&\" \"&VLOOKUP(C642,Main!$A$49:$I$67,Main!$F$47,FALSE)","v":"Minimum COP @ 5°F:: 1.75"},{"$f":"VLOOKUP(C642,Main!$A$49:$I$67,Main!$G$47,FALSE)","v":15},{"$f":"VLOOKUP(C642,Main!$A$49:$I$67,Main!$H$47,FALSE)","v":3.1},{"$f":"VLOOKUP(C642,Main!$A$49:$I$67,Main!$I$47,FALSE)","v":16.100000000000001},1948]
["ND","DICKINSON MUNICIPAL AP","6B",8475,1369,-10.8,78.599999999999994,9.0300000000000005E-2,"46.799N",-11.4,16.5,20.5,30,41.8,52.8,61.9,69.2,68.7,58.6,44.2,30,19.3,1040,827,625,282,70,5,0,0,25,237,603,952,0,0,6,36,155,362,594,579,282,59,3,0,5,13.28,19.899999999999999,32,41.2,42.62,58.28,53.24,41,17.100000000000001,17.100000000000001,5.7,0.84466019417475724,0.12390223977125739,74,43,23,28,{"$f":"IF(OR(C643=\"OA\",C643=\"OB\",C643=\"1B\",C643=\"1A\",C643=\"2A\",C643=\"2B\",C643=\"3A\",C643=\"3B\",C643=\"3C\"),TAN((LEFT(I643, 5)+VLOOKUP(C643,Main!$K$3:$L$21,2,FALSE))*PI()/180),IF(Checklist!$I$385=\"No\",TAN((LEFT(I643, 5)+VLOOKUP(C643,Main!$K$3:$L$21,2,FALSE))*PI()/180),\"NR\"))","v":"NR"},{"$f":"VLOOKUP(C643,Main!$A$49:$I$67,Main!$B$47,FALSE)","v":"NR"},{"$f":"VLOOKUP(C643,Main!$A$49:$I$67,Main!$C$47,FALSE)","v":"NR"},{"$f":"VLOOKUP(C643,Main!$A$49:$I$67,Main!$E$47,FALSE)&\":\"&\" \"&VLOOKUP(C643,Main!$A$49:$I$67,Main!$F$47,FALSE)","v":"Minimum COP @ 5°F:: 1.75"},{"$f":"VLOOKUP(C643,Main!$A$49:$I$67,Main!$G$47,FALSE)","v":15},{"$f":"VLOOKUP(C643,Main!$A$49:$I$67,Main!$H$47,FALSE)","v":3.1},{"$f":"VLOOKUP(C643,Main!$A$49:$I$67,Main!$I$47,FALSE)","v":16.100000000000001},2076]
["ND","FARGO HECTOR INTERNATIONAL AP","6A",8740,1407,-5.9,76.599999999999994,9.0300000000000005E-2,"46.925N",-13.9,9.3000000000000007,14.3,27.4,43.6,56.7,66.5,70.7,69.2,60.2,46.1,29.6,15.5,1261,1000,707,245,42,1,0,0,15,190,616,1070,0,0,5,52,250,495,640,596,321,70,3,0,-2.2000000000000002,3.02,22.5,28.58,44.6,53.24,59.9,54.86,46,19.600000000000001,19.600000000000001,3.9,0.8637137989778535,0.12012012012012011,75,43,24,29,{"$f":"IF(OR(C644=\"OA\",C644=\"OB\",C644=\"1B\",C644=\"1A\",C644=\"2A\",C644=\"2B\",C644=\"3A\",C644=\"3B\",C644=\"3C\"),TAN((LEFT(I644, 5)+VLOOKUP(C644,Main!$K$3:$L$21,2,FALSE))*PI()/180),IF(Checklist!$I$385=\"No\",TAN((LEFT(I644, 5)+VLOOKUP(C644,Main!$K$3:$L$21,2,FALSE))*PI()/180),\"NR\"))","v":"NR"},{"$f":"VLOOKUP(C644,Main!$A$49:$I$67,Main!$B$47,FALSE)","v":"NR"},{"$f":"VLOOKUP(C644,Main!$A$49:$I$67,Main!$C$47,FALSE)","v":"NR"},{"$f":"VLOOKUP(C644,Main!$A$49:$I$67,Main!$E$47,FALSE)&\":\"&\" \"&VLOOKUP(C644,Main!$A$49:$I$67,Main!$F$47,FALSE)","v":"Minimum COP @ 5°F:: 1.75"},{"$f":"VLOOKUP(C644,Main!$A$49:$I$67,Main!$G$47,FALSE)","v":15},{"$f":"VLOOKUP(C644,Main!$A$49:$I$67,Main!$H$47,FALSE)","v":3.1},{"$f":"VLOOKUP(C644,Main!$A$49:$I$67,Main!$I$47,FALSE)","v":16.100000000000001},2432]
["ND","GRAND FORKS AF",7,9311,1222,3.4,77,9.0300000000000005E-2,"47.967N",-15.5,7.2,12.4,25.1,41,54.5,64.8,69.2,68.099999999999994,58.3,44,27.2,14.1,1328,1052,775,302,56,1,0,0,22,235,684,1114,0,0,2,33,196,444,596,562,271,48,1,0,14.4,25.16,20.8,28.04,37.799999999999997,54.14,57.92,58.28,43.9,26.1,26.1,20.100000000000001,0.86842105263157898,0.11781841721961482,77,45,25,30,{"$f":"IF(OR(C645=\"OA\",C645=\"OB\",C645=\"1B\",C645=\"1A\",C645=\"2A\",C645=\"2B\",C645=\"3A\",C645=\"3B\",C645=\"3C\"),TAN((LEFT(I645, 5)+VLOOKUP(C645,Main!$K$3:$L$21,2,FALSE))*PI()/180),IF(Checklist!$I$385=\"No\",TAN((LEFT(I645, 5)+VLOOKUP(C645,Main!$K$3:$L$21,2,FALSE))*PI()/180),\"NR\"))","v":"NR"},{"$f":"VLOOKUP(C645,Main!$A$49:$I$67,Main!$B$47,FALSE)","v":"NR"},{"$f":"VLOOKUP(C645,Main!$A$49:$I$67,Main!$C$47,FALSE)","v":"NR"},{"$f":"VLOOKUP(C645,Main!$A$49:$I$67,Main!$E$47,FALSE)&\":\"&\" \"&VLOOKUP(C645,Main!$A$49:$I$67,Main!$F$47,FALSE)","v":"Minimum COP @ 5°F:: 1.75"},{"$f":"VLOOKUP(C645,Main!$A$49:$I$67,Main!$G$47,FALSE)","v":15},{"$f":"VLOOKUP(C645,Main!$A$49:$I$67,Main!$H$47,FALSE)","v":3.1},{"$f":"VLOOKUP(C645,Main!$A$49:$I$67,Main!$I$47,FALSE)","v":16.100000000000001},2153]
["ND","GRAND FORKS INTERNATIONAL AP",7,9363,1325,-11.95,78.099999999999994,9.0300000000000005E-2,"47.943N",-16.600000000000001,7,11.8,24.8,41.6,54.6,64.900000000000006,69,67.8,58.4,44,27,12.9,1333,1069,783,285,57,1,0,0,21,233,689,1149,0,0,2,34,201,449,590,551,274,48,1,0,2.5,-1.48,20.8,34.159999999999997,45.3,54.14,59.36,58.82,50.2,19.399999999999999,19.399999999999999,-4.2,0.86885245901639341,0.11628649926522268,{"$f":"ROUNDDOWN((33.97238548+(2.143484655*3.14219615)+(0.00253108806*D646)+(-0.2767683543*J646)+(66.9384076*H646)+((3.14219615-3.14219615)^2*-1.607593659)+((J646-12.48681818)*(H646-0.2016890909)*-1.8168457)+8.4234),0)","v":77},{"$f":"ROUNDDOWN((2.975122788+(0.003896731237*D646)+(59.88697433*H646)+((D646-5520.854545)*(H646-0.2016890909)*0.01119327314)+5.3792),0)","v":45},25,{"$f":"ROUNDDOWN(BK646+5.9089,0)","v":30},{"$f":"IF(OR(C646=\"OA\",C646=\"OB\",C646=\"1B\",C646=\"1A\",C646=\"2A\",C646=\"2B\",C646=\"3A\",C646=\"3B\",C646=\"3C\"),TAN((LEFT(I646, 5)+VLOOKUP(C646,Main!$K$3:$L$21,2,FALSE))*PI()/180),IF(Checklist!$I$385=\"No\",TAN((LEFT(I646, 5)+VLOOKUP(C646,Main!$K$3:$L$21,2,FALSE))*PI()/180),\"NR\"))","v":"NR"},{"$f":"VLOOKUP(C646,Main!$A$49:$I$67,Main!$B$47,FALSE)","v":"NR"},{"$f":"VLOOKUP(C646,Main!$A$49:$I$67,Main!$C$47,FALSE)","v":"NR"},{"$f":"VLOOKUP(C646,Main!$A$49:$I$67,Main!$E$47,FALSE)&\":\"&\" \"&VLOOKUP(C646,Main!$A$49:$I$67,Main!$F$47,FALSE)","v":"Minimum COP @ 5°F:: 1.75"},{"$f":"VLOOKUP(C646,Main!$A$49:$I$67,Main!$G$47,FALSE)","v":15},{"$f":"VLOOKUP(C646,Main!$A$49:$I$67,Main!$H$47,FALSE)","v":3.1},{"$f":"VLOOKUP(C646,Main!$A$49:$I$67,Main!$I$47,FALSE)","v":16.100000000000001},2150]
["ND","JAMESTOWN MUNICIPAL ARPT","6A",8912,1255,-17.05,77.2,9.0300000000000005E-2,"46.926N",-13.4,10.5,15.1,27.2,42.1,54.9,64.7,69.599999999999994,68.099999999999994,58.8,44.6,28.5,15.3,1224,978,709,277,51,2,0,0,19,222,645,1074,0,0,3,39,204,442,608,563,283,54,1,0,-0.8,13.46,22.1,35.42,38.1,55.76,60.8,60.44,48.7,25,25,3.9,0.86086956521739133,0.12085795869579652,76,44,24,29,{"$f":"IF(OR(C647=\"OA\",C647=\"OB\",C647=\"1B\",C647=\"1A\",C647=\"2A\",C647=\"2B\",C647=\"3A\",C647=\"3B\",C647=\"3C\"),TAN((LEFT(I647, 5)+VLOOKUP(C647,Main!$K$3:$L$21,2,FALSE))*PI()/180),IF(Checklist!$I$385=\"No\",TAN((LEFT(I647, 5)+VLOOKUP(C647,Main!$K$3:$L$21,2,FALSE))*PI()/180),\"NR\"))","v":"NR"},{"$f":"VLOOKUP(C647,Main!$A$49:$I$67,Main!$B$47,FALSE)","v":"NR"},{"$f":"VLOOKUP(C647,Main!$A$49:$I$67,Main!$C$47,FALSE)","v":"NR"},{"$f":"VLOOKUP(C647,Main!$A$49:$I$67,Main!$E$47,FALSE)&\":\"&\" \"&VLOOKUP(C647,Main!$A$49:$I$67,Main!$F$47,FALSE)","v":"Minimum COP @ 5°F:: 1.75"},{"$f":"VLOOKUP(C647,Main!$A$49:$I$67,Main!$G$47,FALSE)","v":15},{"$f":"VLOOKUP(C647,Main!$A$49:$I$67,Main!$H$47,FALSE)","v":3.1},{"$f":"VLOOKUP(C647,Main!$A$49:$I$67,Main!$I$47,FALSE)","v":16.100000000000001},2197]
["ND","MINOT AFB","6A",9348,1317,0.7,77.2,9.0300000000000005E-2,"48.417N",-17.3,8.6,15.1,26.4,40.299999999999997,54.1,63.3,67.8,67.8,57.6,42.9,26.1,12.8,1283,977,734,323,55,3,0,0,26,265,718,1152,0,0,2,30,182,401,552,551,254,44,1,0,14.7,16.52,19.8,29.3,37.799999999999997,50.72,56.66,52.16,43.7,28.2,28.2,19.2,0.86531986531986527,0.11533221380818097,77,45,25,30,{"$f":"IF(OR(C648=\"OA\",C648=\"OB\",C648=\"1B\",C648=\"1A\",C648=\"2A\",C648=\"2B\",C648=\"3A\",C648=\"3B\",C648=\"3C\"),TAN((LEFT(I648, 5)+VLOOKUP(C648,Main!$K$3:$L$21,2,FALSE))*PI()/180),IF(Checklist!$I$385=\"No\",TAN((LEFT(I648, 5)+VLOOKUP(C648,Main!$K$3:$L$21,2,FALSE))*PI()/180),\"NR\"))","v":"NR"},{"$f":"VLOOKUP(C648,Main!$A$49:$I$67,Main!$B$47,FALSE)","v":"NR"},{"$f":"VLOOKUP(C648,Main!$A$49:$I$67,Main!$C$47,FALSE)","v":"NR"},{"$f":"VLOOKUP(C648,Main!$A$49:$I$67,Main!$E$47,FALSE)&\":\"&\" \"&VLOOKUP(C648,Main!$A$49:$I$67,Main!$F$47,FALSE)","v":"Minimum COP @ 5°F:: 1.75"},{"$f":"VLOOKUP(C648,Main!$A$49:$I$67,Main!$G$47,FALSE)","v":15},{"$f":"VLOOKUP(C648,Main!$A$49:$I$67,Main!$H$47,FALSE)","v":3.1},{"$f":"VLOOKUP(C648,Main!$A$49:$I$67,Main!$I$47,FALSE)","v":16.100000000000001},2017]
["ND","MINOT FAA AP","6A",8794,1414,-4.2,77.2,9.0300000000000005E-2,"48.255N",-13.2,12.3,16.8,27.6,42.3,54.3,63.7,69.400000000000006,68.7,59.1,44.7,28.5,16,1169,930,698,275,56,2,0,0,18,224,647,1054,0,0,3,45,189,413,601,579,291,60,2,0,2.7,11.12,18.7,29.48,42.6,49.28,50.18,52.34,41,21.7,21.7,8.4,0.85637342908438063,0.12115563839701769,75,43,{"$f":"ROUNDDOWN(-18.64576148+(5.900367721*3.14219615)+(0.002662134083*D649)+(38.92365332*H649)+((BT649-3890.577273)*(G649-78.59)*0.00005765875867)+((D649-5520.854545)*(H649-0.2016890909)*0.006047043516),0)","v":24},29,{"$f":"IF(OR(C649=\"OA\",C649=\"OB\",C649=\"1B\",C649=\"1A\",C649=\"2A\",C649=\"2B\",C649=\"3A\",C649=\"3B\",C649=\"3C\"),TAN((LEFT(I649, 5)+VLOOKUP(C649,Main!$K$3:$L$21,2,FALSE))*PI()/180),IF(Checklist!$I$385=\"No\",TAN((LEFT(I649, 5)+VLOOKUP(C649,Main!$K$3:$L$21,2,FALSE))*PI()/180),\"NR\"))","v":"NR"},{"$f":"VLOOKUP(C649,Main!$A$49:$I$67,Main!$B$47,FALSE)","v":"NR"},{"$f":"VLOOKUP(C649,Main!$A$49:$I$67,Main!$C$47,FALSE)","v":"NR"},{"$f":"VLOOKUP(C649,Main!$A$49:$I$67,Main!$E$47,FALSE)&\":\"&\" \"&VLOOKUP(C649,Main!$A$49:$I$67,Main!$F$47,FALSE)","v":"Minimum COP @ 5°F:: 1.75"},{"$f":"VLOOKUP(C649,Main!$A$49:$I$67,Main!$G$47,FALSE)","v":15},{"$f":"VLOOKUP(C649,Main!$A$49:$I$67,Main!$H$47,FALSE)","v":3.1},{"$f":"VLOOKUP(C649,Main!$A$49:$I$67,Main!$I$47,FALSE)","v":16.100000000000001},2183]
["ND","WILLISTON SLOULIN INTL AP","6A",8864,1356,0.35,81.3,9.0300000000000005E-2,"48.174N",-16.3,11.7,17.2,28.8,42.9,53.6,63,70.099999999999994,69.2,58.4,43.7,27.7,15.6,1187,919,659,253,56,3,0,0,23,242,670,1068,0,0,3,40,167,392,623,594,274,46,1,0,5.9,13.82,22.6,28.4,41.7,51.44,50.36,53.24,42.3,18.899999999999999,18.899999999999999,11.7,0.8579040852575488,0.11670033022346189,76,44,24,29,{"$f":"IF(OR(C650=\"OA\",C650=\"OB\",C650=\"1B\",C650=\"1A\",C650=\"2A\",C650=\"2B\",C650=\"3A\",C650=\"3B\",C650=\"3C\"),TAN((LEFT(I650, 5)+VLOOKUP(C650,Main!$K$3:$L$21,2,FALSE))*PI()/180),IF(Checklist!$I$385=\"No\",TAN((LEFT(I650, 5)+VLOOKUP(C650,Main!$K$3:$L$21,2,FALSE))*PI()/180),\"NR\"))","v":"NR"},{"$f":"VLOOKUP(C650,Main!$A$49:$I$67,Main!$B$47,FALSE)","v":"NR"},{"$f":"VLOOKUP(C650,Main!$A$49:$I$67,Main!$C$47,FALSE)","v":"NR"},{"$f":"VLOOKUP(C650,Main!$A$49:$I$67,Main!$E$47,FALSE)&\":\"&\" \"&VLOOKUP(C650,Main!$A$49:$I$67,Main!$F$47,FALSE)","v":"Minimum COP @ 5°F:: 1.75"},{"$f":"VLOOKUP(C650,Main!$A$49:$I$67,Main!$G$47,FALSE)","v":15},{"$f":"VLOOKUP(C650,Main!$A$49:$I$67,Main!$H$47,FALSE)","v":3.1},{"$f":"VLOOKUP(C650,Main!$A$49:$I$67,Main!$I$47,FALSE)","v":16.100000000000001},2140]
["NE","AINSWORTH MUNICIPAL","5A",6680,1601,9.6999999999999993,79.5,0.10009999999999999,"42.577N",-0.4,25.4,28.1,36.9,46.8,57.2,66.8,74.8,72.3,63.2,49.5,37.1,26.8,763,615,432,173,31,2,0,0,7,127,406,720,0,1,25,77,255,506,770,691,403,113,18,0,17.100000000000001,16.34,28.8,32.36,45.7,55.04,58.46,57.74,43.5,27.9,27.9,19.600000000000001,0.81220657276995301,0.14382803856488063,70,39,20,25,{"$f":"IF(OR(C651=\"OA\",C651=\"OB\",C651=\"1B\",C651=\"1A\",C651=\"2A\",C651=\"2B\",C651=\"3A\",C651=\"3B\",C651=\"3C\"),TAN((LEFT(I651, 5)+VLOOKUP(C651,Main!$K$3:$L$21,2,FALSE))*PI()/180),IF(Checklist!$I$385=\"No\",TAN((LEFT(I651, 5)+VLOOKUP(C651,Main!$K$3:$L$21,2,FALSE))*PI()/180),\"NR\"))","v":"NR"},{"$f":"VLOOKUP(C651,Main!$A$49:$I$67,Main!$B$47,FALSE)","v":"NR"},{"$f":"VLOOKUP(C651,Main!$A$49:$I$67,Main!$C$47,FALSE)","v":"NR"},{"$f":"VLOOKUP(C651,Main!$A$49:$I$67,Main!$E$47,FALSE)&\":\"&\" \"&VLOOKUP(C651,Main!$A$49:$I$67,Main!$F$47,FALSE)","v":"Minimum COP @ 5°F:: 1.75"},{"$f":"VLOOKUP(C651,Main!$A$49:$I$67,Main!$G$47,FALSE)","v":15},{"$f":"VLOOKUP(C651,Main!$A$49:$I$67,Main!$H$47,FALSE)","v":3.1},{"$f":"VLOOKUP(C651,Main!$A$49:$I$67,Main!$I$47,FALSE)","v":16.100000000000001},2859]
["NE","ALLIANCE MUNICIPAL","5B",7120,1642,0.1,78.400000000000006,0.10009999999999999,"42.057N",-1.6,25.6,27.3,36.9,44.5,54.6,65.7,73.8,71.3,60.9,46.5,34.5,24.8,755,637,418,211,54,1,0,0,13,175,470,780,0,0,11,46,196,471,739,660,339,67,4,0,12.2,10.58,26.8,32,40.299999999999997,49.28,54.86,54.32,47.1,21.4,21.4,13.5,0.81481481481481488,0.14134824479652064,71,40,21,26,{"$f":"IF(OR(C652=\"OA\",C652=\"OB\",C652=\"1B\",C652=\"1A\",C652=\"2A\",C652=\"2B\",C652=\"3A\",C652=\"3B\",C652=\"3C\"),TAN((LEFT(I652, 5)+VLOOKUP(C652,Main!$K$3:$L$21,2,FALSE))*PI()/180),IF(Checklist!$I$385=\"No\",TAN((LEFT(I652, 5)+VLOOKUP(C652,Main!$K$3:$L$21,2,FALSE))*PI()/180),\"NR\"))","v":"NR"},{"$f":"VLOOKUP(C652,Main!$A$49:$I$67,Main!$B$47,FALSE)","v":"NR"},{"$f":"VLOOKUP(C652,Main!$A$49:$I$67,Main!$C$47,FALSE)","v":"NR"},{"$f":"VLOOKUP(C652,Main!$A$49:$I$67,Main!$E$47,FALSE)&\":\"&\" \"&VLOOKUP(C652,Main!$A$49:$I$67,Main!$F$47,FALSE)","v":"Minimum COP @ 5°F:: 1.75"},{"$f":"VLOOKUP(C652,Main!$A$49:$I$67,Main!$G$47,FALSE)","v":15},{"$f":"VLOOKUP(C652,Main!$A$49:$I$67,Main!$H$47,FALSE)","v":3.1},{"$f":"VLOOKUP(C652,Main!$A$49:$I$67,Main!$I$47,FALSE)","v":16.100000000000001},2533]
["NE","BEATRICE MUNICIPAL","5A",5753,1577,20.05,86.9,0.10009999999999999,"40.301N",3.1,26,30.7,41.1,52.2,63.1,72.8,78,75.7,66.5,54.4,40.700000000000003,28.8,744,545,326,88,6,0,0,0,2,64,309,658,0,4,49,156,413,683,867,797,497,200,29,2,19.600000000000001,18.5,33.799999999999997,42.26,45.1,56.12,62.42,64.400000000000006,55.2,30.4,30.4,25.7,0.80952380952380953,0.15158455836421936,67,36,18,23,{"$f":"IF(OR(C653=\"OA\",C653=\"OB\",C653=\"1B\",C653=\"1A\",C653=\"2A\",C653=\"2B\",C653=\"3A\",C653=\"3B\",C653=\"3C\"),TAN((LEFT(I653, 5)+VLOOKUP(C653,Main!$K$3:$L$21,2,FALSE))*PI()/180),IF(Checklist!$I$385=\"No\",TAN((LEFT(I653, 5)+VLOOKUP(C653,Main!$K$3:$L$21,2,FALSE))*PI()/180),\"NR\"))","v":"NR"},{"$f":"VLOOKUP(C653,Main!$A$49:$I$67,Main!$B$47,FALSE)","v":"NR"},{"$f":"VLOOKUP(C653,Main!$A$49:$I$67,Main!$C$47,FALSE)","v":"NR"},{"$f":"VLOOKUP(C653,Main!$A$49:$I$67,Main!$E$47,FALSE)&\":\"&\" \"&VLOOKUP(C653,Main!$A$49:$I$67,Main!$F$47,FALSE)","v":"Minimum COP @ 5°F:: 1.75"},{"$f":"VLOOKUP(C653,Main!$A$49:$I$67,Main!$G$47,FALSE)","v":15},{"$f":"VLOOKUP(C653,Main!$A$49:$I$67,Main!$H$47,FALSE)","v":3.1},{"$f":"VLOOKUP(C653,Main!$A$49:$I$67,Main!$I$47,FALSE)","v":16.100000000000001},3697]
["NE","BELLEVUE OFFUTT AFB","5A",5950,1418,3.9,80.8,0.10009999999999999,"41.117N",1.7,23.9,29.7,40.5,51.9,63,72.5,77,75.099999999999994,66.3,54.1,39.5,27.8,810,572,339,91,5,0,0,0,2,68,338,691,0,4,43,147,409,675,836,777,492,196,23,2,14.5,30.92,31.3,36.14,46.8,64.58,63.68,63.5,52.5,27.5,27.5,24.8,0.81859410430839008,0.14838367779544251,68,37,19,24,{"$f":"IF(OR(C654=\"OA\",C654=\"OB\",C654=\"1B\",C654=\"1A\",C654=\"2A\",C654=\"2B\",C654=\"3A\",C654=\"3B\",C654=\"3C\"),TAN((LEFT(I654, 5)+VLOOKUP(C654,Main!$K$3:$L$21,2,FALSE))*PI()/180),IF(Checklist!$I$385=\"No\",TAN((LEFT(I654, 5)+VLOOKUP(C654,Main!$K$3:$L$21,2,FALSE))*PI()/180),\"NR\"))","v":"NR"},{"$f":"VLOOKUP(C654,Main!$A$49:$I$67,Main!$B$47,FALSE)","v":"NR"},{"$f":"VLOOKUP(C654,Main!$A$49:$I$67,Main!$C$47,FALSE)","v":"NR"},{"$f":"VLOOKUP(C654,Main!$A$49:$I$67,Main!$E$47,FALSE)&\":\"&\" \"&VLOOKUP(C654,Main!$A$49:$I$67,Main!$F$47,FALSE)","v":"Minimum COP @ 5°F:: 1.75"},{"$f":"VLOOKUP(C654,Main!$A$49:$I$67,Main!$G$47,FALSE)","v":15},{"$f":"VLOOKUP(C654,Main!$A$49:$I$67,Main!$H$47,FALSE)","v":3.1},{"$f":"VLOOKUP(C654,Main!$A$49:$I$67,Main!$I$47,FALSE)","v":16.100000000000001},3604]
["NE","BREWSTER FIELD ARPT","5A",5855,1439,8.85,80.8,0.10009999999999999,"40.450N",4.8,28.2,30.4,40.4,50.2,61.1,71,76.3,73.5,65.099999999999994,52.6,40.700000000000003,29.4,675,549,334,111,12,0,0,0,2,80,301,638,1,2,37,118,357,629,814,730,456,162,23,1,16.899999999999999,20.3,28.4,39.020000000000003,47.3,54.32,63.14,61.52,54.1,24.6,24.6,20.3,0.79899497487437199,0.15566199110502907,67,36,19,24,{"$f":"IF(OR(C655=\"OA\",C655=\"OB\",C655=\"1B\",C655=\"1A\",C655=\"2A\",C655=\"2B\",C655=\"3A\",C655=\"3B\",C655=\"3C\"),TAN((LEFT(I655, 5)+VLOOKUP(C655,Main!$K$3:$L$21,2,FALSE))*PI()/180),IF(Checklist!$I$385=\"No\",TAN((LEFT(I655, 5)+VLOOKUP(C655,Main!$K$3:$L$21,2,FALSE))*PI()/180),\"NR\"))","v":"NR"},{"$f":"VLOOKUP(C655,Main!$A$49:$I$67,Main!$B$47,FALSE)","v":"NR"},{"$f":"VLOOKUP(C655,Main!$A$49:$I$67,Main!$C$47,FALSE)","v":"NR"},{"$f":"VLOOKUP(C655,Main!$A$49:$I$67,Main!$E$47,FALSE)&\":\"&\" \"&VLOOKUP(C655,Main!$A$49:$I$67,Main!$F$47,FALSE)","v":"Minimum COP @ 5°F:: 1.75"},{"$f":"VLOOKUP(C655,Main!$A$49:$I$67,Main!$G$47,FALSE)","v":15},{"$f":"VLOOKUP(C655,Main!$A$49:$I$67,Main!$H$47,FALSE)","v":3.1},{"$f":"VLOOKUP(C655,Main!$A$49:$I$67,Main!$I$47,FALSE)","v":16.100000000000001},3330]
["NE","BROKEN BOW MUNI","5A",6551,1457,5.7,79,0.10009999999999999,"41.433N",1.1000000000000001,26.3,26.9,38.299999999999997,48.4,58.6,68.7,74.599999999999994,72,62.4,49.6,37.1,26.5,737,648,386,140,21,0,0,0,6,119,400,727,0,1,24,91,288,560,763,682,379,107,12,0,12.9,18.86,17.8,36.32,44.2,56.84,60.62,64.22,53.4,23,23,19.600000000000001,0.80815347721822539,0.14705288247889142,70,38,20,25,{"$f":"IF(OR(C656=\"OA\",C656=\"OB\",C656=\"1B\",C656=\"1A\",C656=\"2A\",C656=\"2B\",C656=\"3A\",C656=\"3B\",C656=\"3C\"),TAN((LEFT(I656, 5)+VLOOKUP(C656,Main!$K$3:$L$21,2,FALSE))*PI()/180),IF(Checklist!$I$385=\"No\",TAN((LEFT(I656, 5)+VLOOKUP(C656,Main!$K$3:$L$21,2,FALSE))*PI()/180),\"NR\"))","v":"NR"},{"$f":"VLOOKUP(C656,Main!$A$49:$I$67,Main!$B$47,FALSE)","v":"NR"},{"$f":"VLOOKUP(C656,Main!$A$49:$I$67,Main!$C$47,FALSE)","v":"NR"},{"$f":"VLOOKUP(C656,Main!$A$49:$I$67,Main!$E$47,FALSE)&\":\"&\" \"&VLOOKUP(C656,Main!$A$49:$I$67,Main!$F$47,FALSE)","v":"Minimum COP @ 5°F:: 1.75"},{"$f":"VLOOKUP(C656,Main!$A$49:$I$67,Main!$G$47,FALSE)","v":15},{"$f":"VLOOKUP(C656,Main!$A$49:$I$67,Main!$H$47,FALSE)","v":3.1},{"$f":"VLOOKUP(C656,Main!$A$49:$I$67,Main!$I$47,FALSE)","v":16.100000000000001},2907]
["NE","COLUMBUS MUNI","5A",6563,1479,6,83.3,0.10009999999999999,"41.433N",-0.1,22.3,26.6,37.799999999999997,49.4,60.4,70.3,75.400000000000006,72.599999999999994,64.3,51.7,37.200000000000003,25.4,858,657,407,127,14,0,0,0,5,94,400,763,0,1,29,109,337,610,788,701,433,148,15,0,14,19.22,16.899999999999999,35.42,48.4,59.36,63.5,63.5,54.9,29.8,29.8,19.899999999999999,0.82494529540481398,0.14446164225899907,70,38,20,25,{"$f":"IF(OR(C657=\"OA\",C657=\"OB\",C657=\"1B\",C657=\"1A\",C657=\"2A\",C657=\"2B\",C657=\"3A\",C657=\"3B\",C657=\"3C\"),TAN((LEFT(I657, 5)+VLOOKUP(C657,Main!$K$3:$L$21,2,FALSE))*PI()/180),IF(Checklist!$I$385=\"No\",TAN((LEFT(I657, 5)+VLOOKUP(C657,Main!$K$3:$L$21,2,FALSE))*PI()/180),\"NR\"))","v":"NR"},{"$f":"VLOOKUP(C657,Main!$A$49:$I$67,Main!$B$47,FALSE)","v":"NR"},{"$f":"VLOOKUP(C657,Main!$A$49:$I$67,Main!$C$47,FALSE)","v":"NR"},{"$f":"VLOOKUP(C657,Main!$A$49:$I$67,Main!$E$47,FALSE)&\":\"&\" \"&VLOOKUP(C657,Main!$A$49:$I$67,Main!$F$47,FALSE)","v":"Minimum COP @ 5°F:: 1.75"},{"$f":"VLOOKUP(C657,Main!$A$49:$I$67,Main!$G$47,FALSE)","v":15},{"$f":"VLOOKUP(C657,Main!$A$49:$I$67,Main!$H$47,FALSE)","v":3.1},{"$f":"VLOOKUP(C657,Main!$A$49:$I$67,Main!$I$47,FALSE)","v":16.100000000000001},3171]
["NE","FALLS CITY/BRENNER","5A",5544,1461,15.6,84,0.10009999999999999,"40.080N",3.8,26.9,29.2,42.6,54.6,64.400000000000006,73.7,77.7,75.5,66.7,55,42,29.6,717,584,294,65,5,0,0,0,1,60,281,636,1,2,66,203,453,710,860,791,503,214,40,3,15.1,15.62,34,42.26,48.6,59.72,65.3,66.56,55.6,28,28,24.3,0.805352798053528,0.15323734949903173,67,35,18,23,{"$f":"IF(OR(C658=\"OA\",C658=\"OB\",C658=\"1B\",C658=\"1A\",C658=\"2A\",C658=\"2B\",C658=\"3A\",C658=\"3B\",C658=\"3C\"),TAN((LEFT(I658, 5)+VLOOKUP(C658,Main!$K$3:$L$21,2,FALSE))*PI()/180),IF(Checklist!$I$385=\"No\",TAN((LEFT(I658, 5)+VLOOKUP(C658,Main!$K$3:$L$21,2,FALSE))*PI()/180),\"NR\"))","v":"NR"},{"$f":"VLOOKUP(C658,Main!$A$49:$I$67,Main!$B$47,FALSE)","v":"NR"},{"$f":"VLOOKUP(C658,Main!$A$49:$I$67,Main!$C$47,FALSE)","v":"NR"},{"$f":"VLOOKUP(C658,Main!$A$49:$I$67,Main!$E$47,FALSE)&\":\"&\" \"&VLOOKUP(C658,Main!$A$49:$I$67,Main!$F$47,FALSE)","v":"Minimum COP @ 5°F:: 1.75"},{"$f":"VLOOKUP(C658,Main!$A$49:$I$67,Main!$G$47,FALSE)","v":15},{"$f":"VLOOKUP(C658,Main!$A$49:$I$67,Main!$H$47,FALSE)","v":3.1},{"$f":"VLOOKUP(C658,Main!$A$49:$I$67,Main!$I$47,FALSE)","v":16.100000000000001},3846]
["NE","FREMONT MUNI ARPT","5A",6185,1407,6.9,79.5,0.10009999999999999,"41.449N",1,23.8,27.9,39,51.1,61.9,71.7,76.5,73.599999999999994,65.7,53.3,39.299999999999997,26.7,813,620,383,105,10,0,0,0,2,77,345,724,0,2,40,138,380,651,822,732,474,180,23,1,18,15.44,33.1,40.28,38.299999999999997,57.56,63.68,62.06,54.3,21.7,21.7,7.5,0.8190045248868778,0.14683340056474384,69,37,19,24,{"$f":"IF(OR(C659=\"OA\",C659=\"OB\",C659=\"1B\",C659=\"1A\",C659=\"2A\",C659=\"2B\",C659=\"3A\",C659=\"3B\",C659=\"3C\"),TAN((LEFT(I659, 5)+VLOOKUP(C659,Main!$K$3:$L$21,2,FALSE))*PI()/180),IF(Checklist!$I$385=\"No\",TAN((LEFT(I659, 5)+VLOOKUP(C659,Main!$K$3:$L$21,2,FALSE))*PI()/180),\"NR\"))","v":"NR"},{"$f":"VLOOKUP(C659,Main!$A$49:$I$67,Main!$B$47,FALSE)","v":"NR"},{"$f":"VLOOKUP(C659,Main!$A$49:$I$67,Main!$C$47,FALSE)","v":"NR"},{"$f":"VLOOKUP(C659,Main!$A$49:$I$67,Main!$E$47,FALSE)&\":\"&\" \"&VLOOKUP(C659,Main!$A$49:$I$67,Main!$F$47,FALSE)","v":"Minimum COP @ 5°F:: 1.75"},{"$f":"VLOOKUP(C659,Main!$A$49:$I$67,Main!$G$47,FALSE)","v":15},{"$f":"VLOOKUP(C659,Main!$A$49:$I$67,Main!$H$47,FALSE)","v":3.1},{"$f":"VLOOKUP(C659,Main!$A$49:$I$67,Main!$I$47,FALSE)","v":16.100000000000001},3443]
["NE","GRAND ISLAND CENTRAL NE REGIO","5A",6092,1605,12.2,82.2,0.10009999999999999,"40.961N",1.9,25.4,29.6,39.799999999999997,50.4,61.3,71.5,76.099999999999994,74.099999999999994,65.5,52.7,38.700000000000003,27.8,762,574,353,112,11,0,0,0,3,85,360,689,0,2,37,125,361,645,809,748,470,168,21,1,7.7,13.28,24.1,39.200000000000003,45.9,60.26,61.88,60.08,51.3,23.5,23.5,14.5,0.81220657276995301,0.14883264505049679,68,37,19,24,{"$f":"IF(OR(C660=\"OA\",C660=\"OB\",C660=\"1B\",C660=\"1A\",C660=\"2A\",C660=\"2B\",C660=\"3A\",C660=\"3B\",C660=\"3C\"),TAN((LEFT(I660, 5)+VLOOKUP(C660,Main!$K$3:$L$21,2,FALSE))*PI()/180),IF(Checklist!$I$385=\"No\",TAN((LEFT(I660, 5)+VLOOKUP(C660,Main!$K$3:$L$21,2,FALSE))*PI()/180),\"NR\"))","v":"NR"},{"$f":"VLOOKUP(C660,Main!$A$49:$I$67,Main!$B$47,FALSE)","v":"NR"},{"$f":"VLOOKUP(C660,Main!$A$49:$I$67,Main!$C$47,FALSE)","v":"NR"},{"$f":"VLOOKUP(C660,Main!$A$49:$I$67,Main!$E$47,FALSE)&\":\"&\" \"&VLOOKUP(C660,Main!$A$49:$I$67,Main!$F$47,FALSE)","v":"Minimum COP @ 5°F:: 1.75"},{"$f":"VLOOKUP(C660,Main!$A$49:$I$67,Main!$G$47,FALSE)","v":15},{"$f":"VLOOKUP(C660,Main!$A$49:$I$67,Main!$H$47,FALSE)","v":3.1},{"$f":"VLOOKUP(C660,Main!$A$49:$I$67,Main!$I$47,FALSE)","v":16.100000000000001},3387]
["NE","HASTINGS MUNICIPAL","5A",5973,1546,12.3,82.4,0.10009999999999999,"40.601N",2.5,25.8,29.7,40.1,50.9,61.7,71.900000000000006,77.2,74.5,65.7,53.2,39.799999999999997,28.1,750,571,348,104,10,0,0,0,3,75,331,678,0,2,40,131,372,656,842,758,474,173,25,0,17.600000000000001,17.239999999999998,29.8,40.28,46.8,57.38,63.68,62.78,54.1,25.3,25.3,18.5,0.81042654028436023,0.15019599752424179,68,37,19,24,{"$f":"IF(OR(C661=\"OA\",C661=\"OB\",C661=\"1B\",C661=\"1A\",C661=\"2A\",C661=\"2B\",C661=\"3A\",C661=\"3B\",C661=\"3C\"),TAN((LEFT(I661, 5)+VLOOKUP(C661,Main!$K$3:$L$21,2,FALSE))*PI()/180),IF(Checklist!$I$385=\"No\",TAN((LEFT(I661, 5)+VLOOKUP(C661,Main!$K$3:$L$21,2,FALSE))*PI()/180),\"NR\"))","v":"NR"},{"$f":"VLOOKUP(C661,Main!$A$49:$I$67,Main!$B$47,FALSE)","v":"NR"},{"$f":"VLOOKUP(C661,Main!$A$49:$I$67,Main!$C$47,FALSE)","v":"NR"},{"$f":"VLOOKUP(C661,Main!$A$49:$I$67,Main!$E$47,FALSE)&\":\"&\" \"&VLOOKUP(C661,Main!$A$49:$I$67,Main!$F$47,FALSE)","v":"Minimum COP @ 5°F:: 1.75"},{"$f":"VLOOKUP(C661,Main!$A$49:$I$67,Main!$G$47,FALSE)","v":15},{"$f":"VLOOKUP(C661,Main!$A$49:$I$67,Main!$H$47,FALSE)","v":3.1},{"$f":"VLOOKUP(C661,Main!$A$49:$I$67,Main!$I$47,FALSE)","v":16.100000000000001},3473]
["NE","KEARNEY MUNI (AWOS)","5A",6182,1565,13.6,81.3,0.10009999999999999,"40.733N",2.6,25.7,29,39.5,49.7,60.6,70.5,75.400000000000006,73.099999999999994,64.8,52,38.200000000000003,27.8,754,591,360,121,11,0,0,0,4,87,370,687,0,2,33,114,340,615,789,717,447,148,15,0,14,21.56,16.3,36.32,49.5,56.84,64.760000000000005,61.88,53.1,24.8,24.8,17.600000000000001,0.81087470449172572,0.15042565501281097,68,37,19,24,{"$f":"IF(OR(C662=\"OA\",C662=\"OB\",C662=\"1B\",C662=\"1A\",C662=\"2A\",C662=\"2B\",C662=\"3A\",C662=\"3B\",C662=\"3C\"),TAN((LEFT(I662, 5)+VLOOKUP(C662,Main!$K$3:$L$21,2,FALSE))*PI()/180),IF(Checklist!$I$385=\"No\",TAN((LEFT(I662, 5)+VLOOKUP(C662,Main!$K$3:$L$21,2,FALSE))*PI()/180),\"NR\"))","v":"NR"},{"$f":"VLOOKUP(C662,Main!$A$49:$I$67,Main!$B$47,FALSE)","v":"NR"},{"$f":"VLOOKUP(C662,Main!$A$49:$I$67,Main!$C$47,FALSE)","v":"NR"},{"$f":"VLOOKUP(C662,Main!$A$49:$I$67,Main!$E$47,FALSE)&\":\"&\" \"&VLOOKUP(C662,Main!$A$49:$I$67,Main!$F$47,FALSE)","v":"Minimum COP @ 5°F:: 1.75"},{"$f":"VLOOKUP(C662,Main!$A$49:$I$67,Main!$G$47,FALSE)","v":15},{"$f":"VLOOKUP(C662,Main!$A$49:$I$67,Main!$H$47,FALSE)","v":3.1},{"$f":"VLOOKUP(C662,Main!$A$49:$I$67,Main!$I$47,FALSE)","v":16.100000000000001},3220]
["NE","LINCOLN MUNICIPAL ARPT","5A",5969,1469,8.4499999999999993,85.3,0.10009999999999999,"40.851N",2,24.7,29.5,40.5,51.6,62.6,72.599999999999994,77.5,75.400000000000006,66.2,53.6,39.4,27.9,785,576,338,96,6,0,0,0,2,74,341,686,0,3,44,143,396,679,852,787,490,186,22,1,13.8,20.48,30.9,42.62,51.1,63.32,65.84,63.5,54.3,27.7,27.7,18.7,0.81524249422632789,0.14905814905814907,68,37,19,24,{"$f":"IF(OR(C663=\"OA\",C663=\"OB\",C663=\"1B\",C663=\"1A\",C663=\"2A\",C663=\"2B\",C663=\"3A\",C663=\"3B\",C663=\"3C\"),TAN((LEFT(I663, 5)+VLOOKUP(C663,Main!$K$3:$L$21,2,FALSE))*PI()/180),IF(Checklist!$I$385=\"No\",TAN((LEFT(I663, 5)+VLOOKUP(C663,Main!$K$3:$L$21,2,FALSE))*PI()/180),\"NR\"))","v":"NR"},{"$f":"VLOOKUP(C663,Main!$A$49:$I$67,Main!$B$47,FALSE)","v":"NR"},{"$f":"VLOOKUP(C663,Main!$A$49:$I$67,Main!$C$47,FALSE)","v":"NR"},{"$f":"VLOOKUP(C663,Main!$A$49:$I$67,Main!$E$47,FALSE)&\":\"&\" \"&VLOOKUP(C663,Main!$A$49:$I$67,Main!$F$47,FALSE)","v":"Minimum COP @ 5°F:: 1.75"},{"$f":"VLOOKUP(C663,Main!$A$49:$I$67,Main!$G$47,FALSE)","v":15},{"$f":"VLOOKUP(C663,Main!$A$49:$I$67,Main!$H$47,FALSE)","v":3.1},{"$f":"VLOOKUP(C663,Main!$A$49:$I$67,Main!$I$47,FALSE)","v":16.100000000000001},3603]
["NE","MCCOOK MUNICIPAL","5A",5672,1701,14.35,84.2,0.10009999999999999,"40.206N",5.0999999999999996,29.5,31.7,41.9,51.1,61.9,72.400000000000006,78.7,76,66.8,52.9,40.299999999999997,29.4,635,515,292,100,10,0,0,0,2,77,311,639,1,2,41,132,379,672,891,806,508,166,19,0,22.5,19.04,27.3,33.799999999999997,47.5,55.94,60.26,60.26,55.8,26.1,26.1,15.8,0.79274611398963735,0.15640441713573669,67,36,18,23,{"$f":"IF(OR(C664=\"OA\",C664=\"OB\",C664=\"1B\",C664=\"1A\",C664=\"2A\",C664=\"2B\",C664=\"3A\",C664=\"3B\",C664=\"3C\"),TAN((LEFT(I664, 5)+VLOOKUP(C664,Main!$K$3:$L$21,2,FALSE))*PI()/180),IF(Checklist!$I$385=\"No\",TAN((LEFT(I664, 5)+VLOOKUP(C664,Main!$K$3:$L$21,2,FALSE))*PI()/180),\"NR\"))","v":"NR"},{"$f":"VLOOKUP(C664,Main!$A$49:$I$67,Main!$B$47,FALSE)","v":"NR"},{"$f":"VLOOKUP(C664,Main!$A$49:$I$67,Main!$C$47,FALSE)","v":"NR"},{"$f":"VLOOKUP(C664,Main!$A$49:$I$67,Main!$E$47,FALSE)&\":\"&\" \"&VLOOKUP(C664,Main!$A$49:$I$67,Main!$F$47,FALSE)","v":"Minimum COP @ 5°F:: 1.75"},{"$f":"VLOOKUP(C664,Main!$A$49:$I$67,Main!$G$47,FALSE)","v":15},{"$f":"VLOOKUP(C664,Main!$A$49:$I$67,Main!$H$47,FALSE)","v":3.1},{"$f":"VLOOKUP(C664,Main!$A$49:$I$67,Main!$I$47,FALSE)","v":16.100000000000001},3617]
["NE","NORFOLK KARL STEFAN MEM ARPT","5A",6494,1567,11.3,83.5,0.10009999999999999,"41.986N",-0.6,23,27.4,38.1,49.6,60.8,70.5,75.099999999999994,73.099999999999994,64.599999999999994,51.7,37.1,25.6,837,633,401,127,13,0,0,0,4,100,403,758,0,1,32,114,347,615,779,717,441,152,16,0,8.4,16.34,24.4,35.6,45.3,55.4,60.8,62.42,53.4,23.4,23.4,11.3,0.82222222222222219,0.14340871483728626,70,38,20,25,{"$f":"IF(OR(C665=\"OA\",C665=\"OB\",C665=\"1B\",C665=\"1A\",C665=\"2A\",C665=\"2B\",C665=\"3A\",C665=\"3B\",C665=\"3C\"),TAN((LEFT(I665, 5)+VLOOKUP(C665,Main!$K$3:$L$21,2,FALSE))*PI()/180),IF(Checklist!$I$385=\"No\",TAN((LEFT(I665, 5)+VLOOKUP(C665,Main!$K$3:$L$21,2,FALSE))*PI()/180),\"NR\"))","v":"NR"},{"$f":"VLOOKUP(C665,Main!$A$49:$I$67,Main!$B$47,FALSE)","v":"NR"},{"$f":"VLOOKUP(C665,Main!$A$49:$I$67,Main!$C$47,FALSE)","v":"NR"},{"$f":"VLOOKUP(C665,Main!$A$49:$I$67,Main!$E$47,FALSE)&\":\"&\" \"&VLOOKUP(C665,Main!$A$49:$I$67,Main!$F$47,FALSE)","v":"Minimum COP @ 5°F:: 1.75"},{"$f":"VLOOKUP(C665,Main!$A$49:$I$67,Main!$G$47,FALSE)","v":15},{"$f":"VLOOKUP(C665,Main!$A$49:$I$67,Main!$H$47,FALSE)","v":3.1},{"$f":"VLOOKUP(C665,Main!$A$49:$I$67,Main!$I$47,FALSE)","v":16.100000000000001},3214]
["NE","NORTH PLATTE REGIONAL AP","5A",6501,1587,15.25,81.900000000000006,0.10009999999999999,"41.121N",1.1000000000000001,26,29.4,38.799999999999997,47.7,58.3,68.7,74.8,72.8,63.3,49.7,36.299999999999997,26.8,745,579,366,147,22,1,0,0,6,120,418,720,0,1,19,79,281,562,767,708,406,110,6,0,13.8,17.420000000000002,24.6,32.54,43.9,54.14,58.82,60.26,47.5,25.2,25.2,17.399999999999999,0.80952380952380953,0.14705288247889142,69,38,20,25,{"$f":"IF(OR(C666=\"OA\",C666=\"OB\",C666=\"1B\",C666=\"1A\",C666=\"2A\",C666=\"2B\",C666=\"3A\",C666=\"3B\",C666=\"3C\"),TAN((LEFT(I666, 5)+VLOOKUP(C666,Main!$K$3:$L$21,2,FALSE))*PI()/180),IF(Checklist!$I$385=\"No\",TAN((LEFT(I666, 5)+VLOOKUP(C666,Main!$K$3:$L$21,2,FALSE))*PI()/180),\"NR\"))","v":"NR"},{"$f":"VLOOKUP(C666,Main!$A$49:$I$67,Main!$B$47,FALSE)","v":"NR"},{"$f":"VLOOKUP(C666,Main!$A$49:$I$67,Main!$C$47,FALSE)","v":"NR"},{"$f":"VLOOKUP(C666,Main!$A$49:$I$67,Main!$E$47,FALSE)&\":\"&\" \"&VLOOKUP(C666,Main!$A$49:$I$67,Main!$F$47,FALSE)","v":"Minimum COP @ 5°F:: 1.75"},{"$f":"VLOOKUP(C666,Main!$A$49:$I$67,Main!$G$47,FALSE)","v":15},{"$f":"VLOOKUP(C666,Main!$A$49:$I$67,Main!$H$47,FALSE)","v":3.1},{"$f":"VLOOKUP(C666,Main!$A$49:$I$67,Main!$I$47,FALSE)","v":16.100000000000001},2939]
["NE","OMAHA EPPLEY AIRFIELD","5A",6024,1435,13.85,83.1,0.10009999999999999,"41.310N",1.4,23.7,28.7,40,51.9,62.8,72.599999999999994,77,75,66.3,53.9,39.5,27.5,815,598,352,93,6,0,0,0,2,70,340,699,0,2,44,150,402,677,837,774,491,190,24,1,17.600000000000001,16.16,25.3,42.62,52.5,64.760000000000005,65.3,68.900000000000006,57.4,32.9,32.9,20.5,0.81941309255079009,0.14771528285041799,68,37,19,24,{"$f":"IF(OR(C667=\"OA\",C667=\"OB\",C667=\"1B\",C667=\"1A\",C667=\"2A\",C667=\"2B\",C667=\"3A\",C667=\"3B\",C667=\"3C\"),TAN((LEFT(I667, 5)+VLOOKUP(C667,Main!$K$3:$L$21,2,FALSE))*PI()/180),IF(Checklist!$I$385=\"No\",TAN((LEFT(I667, 5)+VLOOKUP(C667,Main!$K$3:$L$21,2,FALSE))*PI()/180),\"NR\"))","v":"NR"},{"$f":"VLOOKUP(C667,Main!$A$49:$I$67,Main!$B$47,FALSE)","v":"NR"},{"$f":"VLOOKUP(C667,Main!$A$49:$I$67,Main!$C$47,FALSE)","v":"NR"},{"$f":"VLOOKUP(C667,Main!$A$49:$I$67,Main!$E$47,FALSE)&\":\"&\" \"&VLOOKUP(C667,Main!$A$49:$I$67,Main!$F$47,FALSE)","v":"Minimum COP @ 5°F:: 1.75"},{"$f":"VLOOKUP(C667,Main!$A$49:$I$67,Main!$G$47,FALSE)","v":15},{"$f":"VLOOKUP(C667,Main!$A$49:$I$67,Main!$H$47,FALSE)","v":3.1},{"$f":"VLOOKUP(C667,Main!$A$49:$I$67,Main!$I$47,FALSE)","v":16.100000000000001},3592]
["NE","OMAHA WSFO","5A",5981,1532,17.05,82.6,0.10009999999999999,"41.367N",-0.1,27.3,28.5,41,52.2,63.8,73,75.7,73.3,65.599999999999994,52.4,37.5,27.5,704,603,330,95,5,0,0,0,3,91,392,697,0,1,52,160,432,691,796,724,471,165,15,0,11.3,16.16,27.9,43.16,43.9,60.44,65.3,64.58,52,22.6,22.6,15.6,0.80343980343980348,0.14446164225899907,68,37,19,24,{"$f":"IF(OR(C668=\"OA\",C668=\"OB\",C668=\"1B\",C668=\"1A\",C668=\"2A\",C668=\"2B\",C668=\"3A\",C668=\"3B\",C668=\"3C\"),TAN((LEFT(I668, 5)+VLOOKUP(C668,Main!$K$3:$L$21,2,FALSE))*PI()/180),IF(Checklist!$I$385=\"No\",TAN((LEFT(I668, 5)+VLOOKUP(C668,Main!$K$3:$L$21,2,FALSE))*PI()/180),\"NR\"))","v":"NR"},{"$f":"VLOOKUP(C668,Main!$A$49:$I$67,Main!$B$47,FALSE)","v":"NR"},{"$f":"VLOOKUP(C668,Main!$A$49:$I$67,Main!$C$47,FALSE)","v":"NR"},{"$f":"VLOOKUP(C668,Main!$A$49:$I$67,Main!$E$47,FALSE)&\":\"&\" \"&VLOOKUP(C668,Main!$A$49:$I$67,Main!$F$47,FALSE)","v":"Minimum COP @ 5°F:: 1.75"},{"$f":"VLOOKUP(C668,Main!$A$49:$I$67,Main!$G$47,FALSE)","v":15},{"$f":"VLOOKUP(C668,Main!$A$49:$I$67,Main!$H$47,FALSE)","v":3.1},{"$f":"VLOOKUP(C668,Main!$A$49:$I$67,Main!$I$47,FALSE)","v":16.100000000000001},3507]
["NE","SCOTTSBLUFF W B HEILIG FIELD","5B",6499,1619,6.95,76.8,0.10009999999999999,"41.871N",1,27.9,30.5,39,46.6,57.2,67.599999999999994,74.3,72.2,62.5,48.7,36.299999999999997,27.2,686,547,357,166,32,2,0,0,9,132,416,708,0,1,16,63,256,528,752,688,383,93,6,0,8.8000000000000007,15.98,19.899999999999999,28.4,42.6,49.28,53.42,53.78,42.6,22.5,22.5,16.899999999999999,0.80392156862745101,0.14683340056474384,69,38,20,25,{"$f":"IF(OR(C669=\"OA\",C669=\"OB\",C669=\"1B\",C669=\"1A\",C669=\"2A\",C669=\"2B\",C669=\"3A\",C669=\"3B\",C669=\"3C\"),TAN((LEFT(I669, 5)+VLOOKUP(C669,Main!$K$3:$L$21,2,FALSE))*PI()/180),IF(Checklist!$I$385=\"No\",TAN((LEFT(I669, 5)+VLOOKUP(C669,Main!$K$3:$L$21,2,FALSE))*PI()/180),\"NR\"))","v":"NR"},{"$f":"VLOOKUP(C669,Main!$A$49:$I$67,Main!$B$47,FALSE)","v":"NR"},{"$f":"VLOOKUP(C669,Main!$A$49:$I$67,Main!$C$47,FALSE)","v":"NR"},{"$f":"VLOOKUP(C669,Main!$A$49:$I$67,Main!$E$47,FALSE)&\":\"&\" \"&VLOOKUP(C669,Main!$A$49:$I$67,Main!$F$47,FALSE)","v":"Minimum COP @ 5°F:: 1.75"},{"$f":"VLOOKUP(C669,Main!$A$49:$I$67,Main!$G$47,FALSE)","v":15},{"$f":"VLOOKUP(C669,Main!$A$49:$I$67,Main!$H$47,FALSE)","v":3.1},{"$f":"VLOOKUP(C669,Main!$A$49:$I$67,Main!$I$47,FALSE)","v":16.100000000000001},2786]
["NE","SIDNEY MUNICIPAL AP","5B",6541,1615,14.3,79,0.10009999999999999,"41.099N",2.2000000000000002,28.4,30,38.6,45.6,56,67,74,72,62.8,48.8,36.700000000000003,27.9,669,562,370,187,41,1,0,0,10,139,409,686,0,1,16,56,229,512,742,681,393,102,9,0,12,18.32,28,33.979999999999997,43.3,50.36,45.86,49.82,44.2,23.2,23.2,17.100000000000001,0.80049875311720697,0.14951121334100057,69,38,20,25,{"$f":"IF(OR(C670=\"OA\",C670=\"OB\",C670=\"1B\",C670=\"1A\",C670=\"2A\",C670=\"2B\",C670=\"3A\",C670=\"3B\",C670=\"3C\"),TAN((LEFT(I670, 5)+VLOOKUP(C670,Main!$K$3:$L$21,2,FALSE))*PI()/180),IF(Checklist!$I$385=\"No\",TAN((LEFT(I670, 5)+VLOOKUP(C670,Main!$K$3:$L$21,2,FALSE))*PI()/180),\"NR\"))","v":"NR"},{"$f":"VLOOKUP(C670,Main!$A$49:$I$67,Main!$B$47,FALSE)","v":"NR"},{"$f":"VLOOKUP(C670,Main!$A$49:$I$67,Main!$C$47,FALSE)","v":"NR"},{"$f":"VLOOKUP(C670,Main!$A$49:$I$67,Main!$E$47,FALSE)&\":\"&\" \"&VLOOKUP(C670,Main!$A$49:$I$67,Main!$F$47,FALSE)","v":"Minimum COP @ 5°F:: 1.75"},{"$f":"VLOOKUP(C670,Main!$A$49:$I$67,Main!$G$47,FALSE)","v":15},{"$f":"VLOOKUP(C670,Main!$A$49:$I$67,Main!$H$47,FALSE)","v":3.1},{"$f":"VLOOKUP(C670,Main!$A$49:$I$67,Main!$I$47,FALSE)","v":16.100000000000001},2741]
["NE","TEKAMAH (ASOS)","5A",6397,1411,3.1,81.7,0.10009999999999999,"41.764N",-0.9,21.6,26.4,38.4,51.2,62.5,71.7,76.099999999999994,73,64.8,52.2,38.6,25.3,880,662,396,101,8,0,0,0,1,90,364,765,0,1,37,137,396,652,809,713,446,159,20,1,14.9,25.52,31.6,36.32,52.2,61.52,65.66,65.48,56.7,32.4,32.4,8.6,0.82758620689655171,0.14278429372768994,69,38,20,25,{"$f":"IF(OR(C671=\"OA\",C671=\"OB\",C671=\"1B\",C671=\"1A\",C671=\"2A\",C671=\"2B\",C671=\"3A\",C671=\"3B\",C671=\"3C\"),TAN((LEFT(I671, 5)+VLOOKUP(C671,Main!$K$3:$L$21,2,FALSE))*PI()/180),IF(Checklist!$I$385=\"No\",TAN((LEFT(I671, 5)+VLOOKUP(C671,Main!$K$3:$L$21,2,FALSE))*PI()/180),\"NR\"))","v":"NR"},{"$f":"VLOOKUP(C671,Main!$A$49:$I$67,Main!$B$47,FALSE)","v":"NR"},{"$f":"VLOOKUP(C671,Main!$A$49:$I$67,Main!$C$47,FALSE)","v":"NR"},{"$f":"VLOOKUP(C671,Main!$A$49:$I$67,Main!$E$47,FALSE)&\":\"&\" \"&VLOOKUP(C671,Main!$A$49:$I$67,Main!$F$47,FALSE)","v":"Minimum COP @ 5°F:: 1.75"},{"$f":"VLOOKUP(C671,Main!$A$49:$I$67,Main!$G$47,FALSE)","v":15},{"$f":"VLOOKUP(C671,Main!$A$49:$I$67,Main!$H$47,FALSE)","v":3.1},{"$f":"VLOOKUP(C671,Main!$A$49:$I$67,Main!$I$47,FALSE)","v":16.100000000000001},3371]
["NE","VALENTINE MILLER FIELD","5A",6901,1494,8.25,84,0.10009999999999999,"42.878N",-3.7,24.1,27.3,36.6,46.4,57.4,67.599999999999994,74.5,72.900000000000006,63.1,48.7,35.1,25.2,803,637,435,184,31,1,0,0,10,146,458,769,0,1,21,78,262,529,759,711,402,105,11,0,16.5,22.46,23.5,31.46,40.799999999999997,52.7,56.84,54.68,45,25.3,25.3,17.2,0.8177676537585421,0.13720833804515811,71,39,20,25,{"$f":"IF(OR(C672=\"OA\",C672=\"OB\",C672=\"1B\",C672=\"1A\",C672=\"2A\",C672=\"2B\",C672=\"3A\",C672=\"3B\",C672=\"3C\"),TAN((LEFT(I672, 5)+VLOOKUP(C672,Main!$K$3:$L$21,2,FALSE))*PI()/180),IF(Checklist!$I$385=\"No\",TAN((LEFT(I672, 5)+VLOOKUP(C672,Main!$K$3:$L$21,2,FALSE))*PI()/180),\"NR\"))","v":"NR"},{"$f":"VLOOKUP(C672,Main!$A$49:$I$67,Main!$B$47,FALSE)","v":"NR"},{"$f":"VLOOKUP(C672,Main!$A$49:$I$67,Main!$C$47,FALSE)","v":"NR"},{"$f":"VLOOKUP(C672,Main!$A$49:$I$67,Main!$E$47,FALSE)&\":\"&\" \"&VLOOKUP(C672,Main!$A$49:$I$67,Main!$F$47,FALSE)","v":"Minimum COP @ 5°F:: 1.75"},{"$f":"VLOOKUP(C672,Main!$A$49:$I$67,Main!$G$47,FALSE)","v":15},{"$f":"VLOOKUP(C672,Main!$A$49:$I$67,Main!$H$47,FALSE)","v":3.1},{"$f":"VLOOKUP(C672,Main!$A$49:$I$67,Main!$I$47,FALSE)","v":16.100000000000001},2879]
["NL","ST JOHNS","6A",8629,1129,19.5,66.400000000000006,0.1283,"47.620N",8.6,24.6,23.6,27.7,35.299999999999997,42.9,51.2,60.9,61.3,55,46,38.1,30.3,787,740,691,442,243,72,5,2,20,159,362,612,0,0,0,2,23,109,344,351,170,36,6,0,20.5,19.04,22.5,28.58,35.6,44.24,54.5,54.86,49.1,33.799999999999997,33.799999999999997,25.9,0.81981981981981977,0.16562016562016563,76,47,28,33,{"$f":"IF(OR(C673=\"OA\",C673=\"OB\",C673=\"1B\",C673=\"1A\",C673=\"2A\",C673=\"2B\",C673=\"3A\",C673=\"3B\",C673=\"3C\"),TAN((LEFT(I673, 5)+VLOOKUP(C673,Main!$K$3:$L$21,2,FALSE))*PI()/180),IF(Checklist!$I$385=\"No\",TAN((LEFT(I673, 5)+VLOOKUP(C673,Main!$K$3:$L$21,2,FALSE))*PI()/180),\"NR\"))","v":"NR"},{"$f":"VLOOKUP(C673,Main!$A$49:$I$67,Main!$B$47,FALSE)","v":"NR"},{"$f":"VLOOKUP(C673,Main!$A$49:$I$67,Main!$C$47,FALSE)","v":"NR"},{"$f":"VLOOKUP(C673,Main!$A$49:$I$67,Main!$E$47,FALSE)&\":\"&\" \"&VLOOKUP(C673,Main!$A$49:$I$67,Main!$F$47,FALSE)","v":"Minimum COP @ 5°F:: 1.75"},{"$f":"VLOOKUP(C673,Main!$A$49:$I$67,Main!$G$47,FALSE)","v":15},{"$f":"VLOOKUP(C673,Main!$A$49:$I$67,Main!$H$47,FALSE)","v":3.1},{"$f":"VLOOKUP(C673,Main!$A$49:$I$67,Main!$I$47,FALSE)","v":16.100000000000001},1041]
["NH","BERLIN MUNICIPAL","6A",8843,1199,14.75,67.599999999999994,0.17219999999999999,"44.576N",-9.8000000000000007,14.2,17.3,26.5,39.700000000000003,51.4,60.7,64.900000000000006,63.5,56.2,44.1,33.5,21.3,1111,916,732,325,74,2,0,0,23,221,499,889,0,0,2,16,116,322,463,419,209,37,3,0,8.1,9.5,12.2,28.4,36.1,53.6,55.4,56.48,50.9,27.5,27.5,22.1,0.85130111524163565,0.12645035781282568,84,52,31,36,{"$f":"IF(OR(C674=\"OA\",C674=\"OB\",C674=\"1B\",C674=\"1A\",C674=\"2A\",C674=\"2B\",C674=\"3A\",C674=\"3B\",C674=\"3C\"),TAN((LEFT(I674, 5)+VLOOKUP(C674,Main!$K$3:$L$21,2,FALSE))*PI()/180),IF(Checklist!$I$385=\"No\",TAN((LEFT(I674, 5)+VLOOKUP(C674,Main!$K$3:$L$21,2,FALSE))*PI()/180),\"NR\"))","v":"NR"},{"$f":"VLOOKUP(C674,Main!$A$49:$I$67,Main!$B$47,FALSE)","v":"NR"},{"$f":"VLOOKUP(C674,Main!$A$49:$I$67,Main!$C$47,FALSE)","v":"NR"},{"$f":"VLOOKUP(C674,Main!$A$49:$I$67,Main!$E$47,FALSE)&\":\"&\" \"&VLOOKUP(C674,Main!$A$49:$I$67,Main!$F$47,FALSE)","v":"Minimum COP @ 5°F:: 1.75"},{"$f":"VLOOKUP(C674,Main!$A$49:$I$67,Main!$G$47,FALSE)","v":15},{"$f":"VLOOKUP(C674,Main!$A$49:$I$67,Main!$H$47,FALSE)","v":3.1},{"$f":"VLOOKUP(C674,Main!$A$49:$I$67,Main!$I$47,FALSE)","v":16.100000000000001},1587]
["NH","CONCORD MUNICIPAL ARPT","5A",7061,1181,15.95,74.7,0.17219999999999999,"43.195N",2.1,22,24.5,33.299999999999997,45.4,56,65.5,70.400000000000006,69,60.5,48.9,38.5,28.1,870,714,524,186,22,0,0,0,6,118,359,680,1,0,7,49,207,465,633,588,322,85,14,1,10.9,12.92,19.899999999999999,29.84,45,53.96,60.44,57.02,52.7,26.8,26.8,15.1,0.82608695652173914,0.14928433744822209,77,45,25,30,{"$f":"IF(OR(C675=\"OA\",C675=\"OB\",C675=\"1B\",C675=\"1A\",C675=\"2A\",C675=\"2B\",C675=\"3A\",C675=\"3B\",C675=\"3C\"),TAN((LEFT(I675, 5)+VLOOKUP(C675,Main!$K$3:$L$21,2,FALSE))*PI()/180),IF(Checklist!$I$385=\"No\",TAN((LEFT(I675, 5)+VLOOKUP(C675,Main!$K$3:$L$21,2,FALSE))*PI()/180),\"NR\"))","v":"NR"},{"$f":"VLOOKUP(C675,Main!$A$49:$I$67,Main!$B$47,FALSE)","v":"NR"},{"$f":"VLOOKUP(C675,Main!$A$49:$I$67,Main!$C$47,FALSE)","v":"NR"},{"$f":"VLOOKUP(C675,Main!$A$49:$I$67,Main!$E$47,FALSE)&\":\"&\" \"&VLOOKUP(C675,Main!$A$49:$I$67,Main!$F$47,FALSE)","v":"Minimum COP @ 5°F:: 1.75"},{"$f":"VLOOKUP(C675,Main!$A$49:$I$67,Main!$G$47,FALSE)","v":15},{"$f":"VLOOKUP(C675,Main!$A$49:$I$67,Main!$H$47,FALSE)","v":3.1},{"$f":"VLOOKUP(C675,Main!$A$49:$I$67,Main!$I$47,FALSE)","v":16.100000000000001},2372]
["NH","DILLANT HOPKINS","5A",7148,1381,8.8000000000000007,76.099999999999994,0.17219999999999999,"42.900N",0.6,21.9,24.4,33.4,44.9,55.6,65,69.400000000000006,67.8,60,48.2,38.200000000000003,28.2,872,717,522,194,21,0,0,0,7,130,366,677,0,0,6,41,194,451,603,553,306,75,13,1,7.7,15.08,20.7,32.36,40.5,52.34,55.58,58.1,54,31.8,31.8,16,0.82646420824295008,0.14596198572459698,77,45,25,30,{"$f":"IF(OR(C676=\"OA\",C676=\"OB\",C676=\"1B\",C676=\"1A\",C676=\"2A\",C676=\"2B\",C676=\"3A\",C676=\"3B\",C676=\"3C\"),TAN((LEFT(I676, 5)+VLOOKUP(C676,Main!$K$3:$L$21,2,FALSE))*PI()/180),IF(Checklist!$I$385=\"No\",TAN((LEFT(I676, 5)+VLOOKUP(C676,Main!$K$3:$L$21,2,FALSE))*PI()/180),\"NR\"))","v":"NR"},{"$f":"VLOOKUP(C676,Main!$A$49:$I$67,Main!$B$47,FALSE)","v":"NR"},{"$f":"VLOOKUP(C676,Main!$A$49:$I$67,Main!$C$47,FALSE)","v":"NR"},{"$f":"VLOOKUP(C676,Main!$A$49:$I$67,Main!$E$47,FALSE)&\":\"&\" \"&VLOOKUP(C676,Main!$A$49:$I$67,Main!$F$47,FALSE)","v":"Minimum COP @ 5°F:: 1.75"},{"$f":"VLOOKUP(C676,Main!$A$49:$I$67,Main!$G$47,FALSE)","v":15},{"$f":"VLOOKUP(C676,Main!$A$49:$I$67,Main!$H$47,FALSE)","v":3.1},{"$f":"VLOOKUP(C676,Main!$A$49:$I$67,Main!$I$47,FALSE)","v":16.100000000000001},2243]
["NH","LACONIA MUNI (AWOS)","6A",7246,1411,12.1,77.2,0.17219999999999999,"43.567N",1.3,20.8,23,32.5,44.4,55.1,65.3,70,68.2,60.2,48.6,38.299999999999997,28.1,905,757,547,207,26,0,0,0,6,118,362,679,0,0,5,37,183,459,621,565,313,74,11,0,18.899999999999999,12.2,25.2,25.88,37.200000000000003,53.6,53.06,55.58,48,30.7,30.7,20.5,0.83050847457627119,0.14749382065723893,78,46,25,30,{"$f":"IF(OR(C677=\"OA\",C677=\"OB\",C677=\"1B\",C677=\"1A\",C677=\"2A\",C677=\"2B\",C677=\"3A\",C677=\"3B\",C677=\"3C\"),TAN((LEFT(I677, 5)+VLOOKUP(C677,Main!$K$3:$L$21,2,FALSE))*PI()/180),IF(Checklist!$I$385=\"No\",TAN((LEFT(I677, 5)+VLOOKUP(C677,Main!$K$3:$L$21,2,FALSE))*PI()/180),\"NR\"))","v":"NR"},{"$f":"VLOOKUP(C677,Main!$A$49:$I$67,Main!$B$47,FALSE)","v":"NR"},{"$f":"VLOOKUP(C677,Main!$A$49:$I$67,Main!$C$47,FALSE)","v":"NR"},{"$f":"VLOOKUP(C677,Main!$A$49:$I$67,Main!$E$47,FALSE)&\":\"&\" \"&VLOOKUP(C677,Main!$A$49:$I$67,Main!$F$47,FALSE)","v":"Minimum COP @ 5°F:: 1.75"},{"$f":"VLOOKUP(C677,Main!$A$49:$I$67,Main!$G$47,FALSE)","v":15},{"$f":"VLOOKUP(C677,Main!$A$49:$I$67,Main!$H$47,FALSE)","v":3.1},{"$f":"VLOOKUP(C677,Main!$A$49:$I$67,Main!$I$47,FALSE)","v":16.100000000000001},2268]
["NH","LEBANON MUNICIPAL","6A",7361,1255,13.3,74.099999999999994,0.17219999999999999,"43.626N",-2.1,20.100000000000001,22.1,31.8,44.7,56,64.900000000000006,69.8,68.2,60.6,48.1,37.700000000000003,26.6,926,782,567,205,24,0,0,0,5,138,379,725,0,0,4,46,209,448,614,564,324,78,9,1,8.1,14,19.600000000000001,30.2,38.1,55.4,59,59.18,55.2,30,30,19,0.83298538622129437,0.14034005474804334,79,46,26,31,{"$f":"IF(OR(C678=\"OA\",C678=\"OB\",C678=\"1B\",C678=\"1A\",C678=\"2A\",C678=\"2B\",C678=\"3A\",C678=\"3B\",C678=\"3C\"),TAN((LEFT(I678, 5)+VLOOKUP(C678,Main!$K$3:$L$21,2,FALSE))*PI()/180),IF(Checklist!$I$385=\"No\",TAN((LEFT(I678, 5)+VLOOKUP(C678,Main!$K$3:$L$21,2,FALSE))*PI()/180),\"NR\"))","v":"NR"},{"$f":"VLOOKUP(C678,Main!$A$49:$I$67,Main!$B$47,FALSE)","v":"NR"},{"$f":"VLOOKUP(C678,Main!$A$49:$I$67,Main!$C$47,FALSE)","v":"NR"},{"$f":"VLOOKUP(C678,Main!$A$49:$I$67,Main!$E$47,FALSE)&\":\"&\" \"&VLOOKUP(C678,Main!$A$49:$I$67,Main!$F$47,FALSE)","v":"Minimum COP @ 5°F:: 1.75"},{"$f":"VLOOKUP(C678,Main!$A$49:$I$67,Main!$G$47,FALSE)","v":15},{"$f":"VLOOKUP(C678,Main!$A$49:$I$67,Main!$H$47,FALSE)","v":3.1},{"$f":"VLOOKUP(C678,Main!$A$49:$I$67,Main!$I$47,FALSE)","v":16.100000000000001},2297]
["NH","MANCHESTER AIRPORT","5A",6207,1264,9.85,79.3,0.17219999999999999,"42.933N",7.2,25.6,28,36.299999999999997,48.1,58.6,68,73.400000000000006,71.7,63.7,52,41.7,31.5,758,616,435,131,10,0,0,0,1,66,276,577,1,0,11,74,277,541,726,673,412,126,26,2,10.9,16.34,28.9,34.880000000000003,39.9,56.66,58.28,57.74,56.7,30.4,30.4,26.2,0.81132075471698117,0.16180654338549075,74,42,22,27,{"$f":"IF(OR(C679=\"OA\",C679=\"OB\",C679=\"1B\",C679=\"1A\",C679=\"2A\",C679=\"2B\",C679=\"3A\",C679=\"3B\",C679=\"3C\"),TAN((LEFT(I679, 5)+VLOOKUP(C679,Main!$K$3:$L$21,2,FALSE))*PI()/180),IF(Checklist!$I$385=\"No\",TAN((LEFT(I679, 5)+VLOOKUP(C679,Main!$K$3:$L$21,2,FALSE))*PI()/180),\"NR\"))","v":"NR"},{"$f":"VLOOKUP(C679,Main!$A$49:$I$67,Main!$B$47,FALSE)","v":"NR"},{"$f":"VLOOKUP(C679,Main!$A$49:$I$67,Main!$C$47,FALSE)","v":"NR"},{"$f":"VLOOKUP(C679,Main!$A$49:$I$67,Main!$E$47,FALSE)&\":\"&\" \"&VLOOKUP(C679,Main!$A$49:$I$67,Main!$F$47,FALSE)","v":"Minimum COP @ 5°F:: 1.75"},{"$f":"VLOOKUP(C679,Main!$A$49:$I$67,Main!$G$47,FALSE)","v":15},{"$f":"VLOOKUP(C679,Main!$A$49:$I$67,Main!$H$47,FALSE)","v":3.1},{"$f":"VLOOKUP(C679,Main!$A$49:$I$67,Main!$I$47,FALSE)","v":16.100000000000001},2869]
["NH","MOUNT WASHINGTON","6A",13411,1151,-0.7,53.8,0.17219999999999999,"44.270N",-17,7.1,7,13.8,24.2,35.9,45.5,49.2,48.2,42.1,31.3,21.3,12.1,1330,1204,1121,774,442,168,83,104,254,583,860,1175,0,0,0,0,5,32,58,47,17,2,0,0,8.4,3.38,14.7,21.02,28.6,36.86,42.26,40.46,35.200000000000003,18.5,18.5,9.1,0.86885245901639341,0.11573926868044514,97,68,46,51,{"$f":"IF(OR(C680=\"OA\",C680=\"OB\",C680=\"1B\",C680=\"1A\",C680=\"2A\",C680=\"2B\",C680=\"3A\",C680=\"3B\",C680=\"3C\"),TAN((LEFT(I680, 5)+VLOOKUP(C680,Main!$K$3:$L$21,2,FALSE))*PI()/180),IF(Checklist!$I$385=\"No\",TAN((LEFT(I680, 5)+VLOOKUP(C680,Main!$K$3:$L$21,2,FALSE))*PI()/180),\"NR\"))","v":"NR"},{"$f":"VLOOKUP(C680,Main!$A$49:$I$67,Main!$B$47,FALSE)","v":"NR"},{"$f":"VLOOKUP(C680,Main!$A$49:$I$67,Main!$C$47,FALSE)","v":"NR"},{"$f":"VLOOKUP(C680,Main!$A$49:$I$67,Main!$E$47,FALSE)&\":\"&\" \"&VLOOKUP(C680,Main!$A$49:$I$67,Main!$F$47,FALSE)","v":"Minimum COP @ 5°F:: 1.75"},{"$f":"VLOOKUP(C680,Main!$A$49:$I$67,Main!$G$47,FALSE)","v":15},{"$f":"VLOOKUP(C680,Main!$A$49:$I$67,Main!$H$47,FALSE)","v":3.1},{"$f":"VLOOKUP(C680,Main!$A$49:$I$67,Main!$I$47,FALSE)","v":16.100000000000001},161]
["NH","PEASE INTL TRADEPOR","5A",6396,1285,20.100000000000001,79,0.17219999999999999,"43.083N",7.7,25.3,28.3,35.700000000000003,46.6,56,65.8,71.400000000000006,70.3,62.5,51.5,41.5,31.8,766,608,455,153,17,0,0,0,2,68,276,567,0,0,11,51,202,475,663,630,376,116,21,2,23,17.059999999999999,25.3,29.66,41.4,53.78,58.46,58.64,52.3,30.2,30.2,24.4,0.81264637002341922,0.16314822284971536,74,43,23,28,{"$f":"IF(OR(C681=\"OA\",C681=\"OB\",C681=\"1B\",C681=\"1A\",C681=\"2A\",C681=\"2B\",C681=\"3A\",C681=\"3B\",C681=\"3C\"),TAN((LEFT(I681, 5)+VLOOKUP(C681,Main!$K$3:$L$21,2,FALSE))*PI()/180),IF(Checklist!$I$385=\"No\",TAN((LEFT(I681, 5)+VLOOKUP(C681,Main!$K$3:$L$21,2,FALSE))*PI()/180),\"NR\"))","v":"NR"},{"$f":"VLOOKUP(C681,Main!$A$49:$I$67,Main!$B$47,FALSE)","v":"NR"},{"$f":"VLOOKUP(C681,Main!$A$49:$I$67,Main!$C$47,FALSE)","v":"NR"},{"$f":"VLOOKUP(C681,Main!$A$49:$I$67,Main!$E$47,FALSE)&\":\"&\" \"&VLOOKUP(C681,Main!$A$49:$I$67,Main!$F$47,FALSE)","v":"Minimum COP @ 5°F:: 1.75"},{"$f":"VLOOKUP(C681,Main!$A$49:$I$67,Main!$G$47,FALSE)","v":15},{"$f":"VLOOKUP(C681,Main!$A$49:$I$67,Main!$H$47,FALSE)","v":3.1},{"$f":"VLOOKUP(C681,Main!$A$49:$I$67,Main!$I$47,FALSE)","v":16.100000000000001},2547]
["NJ","ATLANTIC CITY INTL AP","4A",4806,1480,31.85,81.3,0.1484,"39.449N",16.5,34.200000000000003,35.6,42.3,52,61.1,70.7,76.099999999999994,74.2,67.2,56.5,46.5,38.4,499,411,273,72,4,0,0,0,0,26,169,378,9,7,34,133,349,622,808,749,516,226,64,17,19.2,24.98,30.7,41,50.9,60.26,65.84,64.760000000000005,57,38.1,38.1,28.8,0.76331360946745563,0.19102597743374441,67,36,18,23,{"$f":"IF(OR(C682=\"OA\",C682=\"OB\",C682=\"1B\",C682=\"1A\",C682=\"2A\",C682=\"2B\",C682=\"3A\",C682=\"3B\",C682=\"3C\"),TAN((LEFT(I682, 5)+VLOOKUP(C682,Main!$K$3:$L$21,2,FALSE))*PI()/180),IF(Checklist!$I$385=\"No\",TAN((LEFT(I682, 5)+VLOOKUP(C682,Main!$K$3:$L$21,2,FALSE))*PI()/180),\"NR\"))","v":"NR"},{"$f":"VLOOKUP(C682,Main!$A$49:$I$67,Main!$B$47,FALSE)","v":0.5},{"$f":"VLOOKUP(C682,Main!$A$49:$I$67,Main!$C$47,FALSE)","v":0.25},{"$f":"VLOOKUP(C682,Main!$A$49:$I$67,Main!$E$47,FALSE)&\":\"&\" \"&VLOOKUP(C682,Main!$A$49:$I$67,Main!$F$47,FALSE)","v":"Minimum HSPF:: 9.6"},{"$f":"VLOOKUP(C682,Main!$A$49:$I$67,Main!$G$47,FALSE)","v":18},{"$f":"VLOOKUP(C682,Main!$A$49:$I$67,Main!$H$47,FALSE)","v":3.1},{"$f":"VLOOKUP(C682,Main!$A$49:$I$67,Main!$I$47,FALSE)","v":16.100000000000001},3534]
["NJ","BELMAR ASC","4A",5052,1508,24.35,83.3,0.1484,"40.183N",16,32.6,34.1,41.3,51.1,60,70.099999999999994,75.3,73,66.7,55,46.4,37.299999999999997,548,449,299,79,3,0,0,0,0,32,168,407,7,4,28,113,313,602,785,714,502,187,59,12,16,22.28,24.1,33.979999999999997,45.7,54.86,61.34,60.44,53.4,34,34,24.1,0.77401129943502822,0.1891891891891892,67,37,19,24,{"$f":"IF(OR(C683=\"OA\",C683=\"OB\",C683=\"1B\",C683=\"1A\",C683=\"2A\",C683=\"2B\",C683=\"3A\",C683=\"3B\",C683=\"3C\"),TAN((LEFT(I683, 5)+VLOOKUP(C683,Main!$K$3:$L$21,2,FALSE))*PI()/180),IF(Checklist!$I$385=\"No\",TAN((LEFT(I683, 5)+VLOOKUP(C683,Main!$K$3:$L$21,2,FALSE))*PI()/180),\"NR\"))","v":"NR"},{"$f":"VLOOKUP(C683,Main!$A$49:$I$67,Main!$B$47,FALSE)","v":0.5},{"$f":"VLOOKUP(C683,Main!$A$49:$I$67,Main!$C$47,FALSE)","v":0.25},{"$f":"VLOOKUP(C683,Main!$A$49:$I$67,Main!$E$47,FALSE)&\":\"&\" \"&VLOOKUP(C683,Main!$A$49:$I$67,Main!$F$47,FALSE)","v":"Minimum HSPF:: 9.6"},{"$f":"VLOOKUP(C683,Main!$A$49:$I$67,Main!$G$47,FALSE)","v":18},{"$f":"VLOOKUP(C683,Main!$A$49:$I$67,Main!$H$47,FALSE)","v":3.1},{"$f":"VLOOKUP(C683,Main!$A$49:$I$67,Main!$I$47,FALSE)","v":16.100000000000001},3326]
["NJ","CALDWELL/ESSEX CO.","4A",5299,1367,20.65,77.900000000000006,0.1484,"40.876N",13.8,29.8,32.1,40.799999999999997,51.8,61.3,70.400000000000006,75.3,73.5,66.2,54.5,44.9,34.9,629,502,309,75,4,0,0,0,0,43,196,472,2,1,23,128,354,611,783,729,485,183,43,5,16.5,20.84,28.6,37.4,45,57.02,58.64,60.8,58.1,33.6,33.6,29.5,0.79057591623036638,0.18150992320734013,68,38,19,24,{"$f":"IF(OR(C684=\"OA\",C684=\"OB\",C684=\"1B\",C684=\"1A\",C684=\"2A\",C684=\"2B\",C684=\"3A\",C684=\"3B\",C684=\"3C\"),TAN((LEFT(I684, 5)+VLOOKUP(C684,Main!$K$3:$L$21,2,FALSE))*PI()/180),IF(Checklist!$I$385=\"No\",TAN((LEFT(I684, 5)+VLOOKUP(C684,Main!$K$3:$L$21,2,FALSE))*PI()/180),\"NR\"))","v":"NR"},{"$f":"VLOOKUP(C684,Main!$A$49:$I$67,Main!$B$47,FALSE)","v":0.5},{"$f":"VLOOKUP(C684,Main!$A$49:$I$67,Main!$C$47,FALSE)","v":0.25},{"$f":"VLOOKUP(C684,Main!$A$49:$I$67,Main!$E$47,FALSE)&\":\"&\" \"&VLOOKUP(C684,Main!$A$49:$I$67,Main!$F$47,FALSE)","v":"Minimum HSPF:: 9.6"},{"$f":"VLOOKUP(C684,Main!$A$49:$I$67,Main!$G$47,FALSE)","v":18},{"$f":"VLOOKUP(C684,Main!$A$49:$I$67,Main!$H$47,FALSE)","v":3.1},{"$f":"VLOOKUP(C684,Main!$A$49:$I$67,Main!$I$47,FALSE)","v":16.100000000000001},3347]
["NJ","CAPE MAY CO","4A",4577,1573,34.799999999999997,84.7,0.1484,"39.008N",19.3,35.200000000000003,36.6,43,52,60.7,70.900000000000006,76.3,74.2,68,57.6,47.7,40,470,380,244,61,3,0,0,0,0,14,141,328,10,6,29,120,335,628,815,749,541,250,72,18,29.1,28.58,28.8,36.32,49.8,60.98,51.26,62.96,60.4,42.8,42.8,29.8,0.75609756097560976,0.20200899051001717,65,35,18,23,{"$f":"IF(OR(C685=\"OA\",C685=\"OB\",C685=\"1B\",C685=\"1A\",C685=\"2A\",C685=\"2B\",C685=\"3A\",C685=\"3B\",C685=\"3C\"),TAN((LEFT(I685, 5)+VLOOKUP(C685,Main!$K$3:$L$21,2,FALSE))*PI()/180),IF(Checklist!$I$385=\"No\",TAN((LEFT(I685, 5)+VLOOKUP(C685,Main!$K$3:$L$21,2,FALSE))*PI()/180),\"NR\"))","v":"NR"},{"$f":"VLOOKUP(C685,Main!$A$49:$I$67,Main!$B$47,FALSE)","v":0.5},{"$f":"VLOOKUP(C685,Main!$A$49:$I$67,Main!$C$47,FALSE)","v":0.25},{"$f":"VLOOKUP(C685,Main!$A$49:$I$67,Main!$E$47,FALSE)&\":\"&\" \"&VLOOKUP(C685,Main!$A$49:$I$67,Main!$F$47,FALSE)","v":"Minimum HSPF:: 9.6"},{"$f":"VLOOKUP(C685,Main!$A$49:$I$67,Main!$G$47,FALSE)","v":18},{"$f":"VLOOKUP(C685,Main!$A$49:$I$67,Main!$H$47,FALSE)","v":3.1},{"$f":"VLOOKUP(C685,Main!$A$49:$I$67,Main!$I$47,FALSE)","v":16.100000000000001},3573]
["NJ","MCGUIRE AFB","4A",4849,1386,19.3,82.6,0.1484,"40.017N",15.9,32.9,35,42.4,52.7,62.1,71.2,76.3,74.400000000000006,67.3,56.4,46.3,37.5,538,427,270,61,2,0,0,0,0,24,171,402,8,6,35,143,377,637,817,756,521,224,59,14,22.3,22.1,35.200000000000003,35.6,47.3,59,64.400000000000006,63.5,57.6,31.6,31.6,29.8,0.77207977207977208,0.18882606214659955,67,36,18,23,{"$f":"IF(OR(C686=\"OA\",C686=\"OB\",C686=\"1B\",C686=\"1A\",C686=\"2A\",C686=\"2B\",C686=\"3A\",C686=\"3B\",C686=\"3C\"),TAN((LEFT(I686, 5)+VLOOKUP(C686,Main!$K$3:$L$21,2,FALSE))*PI()/180),IF(Checklist!$I$385=\"No\",TAN((LEFT(I686, 5)+VLOOKUP(C686,Main!$K$3:$L$21,2,FALSE))*PI()/180),\"NR\"))","v":"NR"},{"$f":"VLOOKUP(C686,Main!$A$49:$I$67,Main!$B$47,FALSE)","v":0.5},{"$f":"VLOOKUP(C686,Main!$A$49:$I$67,Main!$C$47,FALSE)","v":0.25},{"$f":"VLOOKUP(C686,Main!$A$49:$I$67,Main!$E$47,FALSE)&\":\"&\" \"&VLOOKUP(C686,Main!$A$49:$I$67,Main!$F$47,FALSE)","v":"Minimum HSPF:: 9.6"},{"$f":"VLOOKUP(C686,Main!$A$49:$I$67,Main!$G$47,FALSE)","v":18},{"$f":"VLOOKUP(C686,Main!$A$49:$I$67,Main!$H$47,FALSE)","v":3.1},{"$f":"VLOOKUP(C686,Main!$A$49:$I$67,Main!$I$47,FALSE)","v":16.100000000000001},3597]
["NJ","MILLVILLE MUNICIPAL AP","4A",4845,1397,29.65,80.400000000000006,0.1484,"39.367N",16.2,33.799999999999997,35,42.4,52.5,61.7,71.2,76.2,74.3,67.3,56,46,37.6,512,427,271,65,3,0,0,0,0,30,179,397,8,6,35,141,367,635,813,754,519,217,58,14,21.6,27.32,26.6,42.8,57.7,60.8,68.180000000000007,66.02,57.9,38.700000000000003,38.700000000000003,30.2,0.76608187134502925,0.18991964937910882,67,36,18,23,{"$f":"IF(OR(C687=\"OA\",C687=\"OB\",C687=\"1B\",C687=\"1A\",C687=\"2A\",C687=\"2B\",C687=\"3A\",C687=\"3B\",C687=\"3C\"),TAN((LEFT(I687, 5)+VLOOKUP(C687,Main!$K$3:$L$21,2,FALSE))*PI()/180),IF(Checklist!$I$385=\"No\",TAN((LEFT(I687, 5)+VLOOKUP(C687,Main!$K$3:$L$21,2,FALSE))*PI()/180),\"NR\"))","v":"NR"},{"$f":"VLOOKUP(C687,Main!$A$49:$I$67,Main!$B$47,FALSE)","v":0.5},{"$f":"VLOOKUP(C687,Main!$A$49:$I$67,Main!$C$47,FALSE)","v":0.25},{"$f":"VLOOKUP(C687,Main!$A$49:$I$67,Main!$E$47,FALSE)&\":\"&\" \"&VLOOKUP(C687,Main!$A$49:$I$67,Main!$F$47,FALSE)","v":"Minimum HSPF:: 9.6"},{"$f":"VLOOKUP(C687,Main!$A$49:$I$67,Main!$G$47,FALSE)","v":18},{"$f":"VLOOKUP(C687,Main!$A$49:$I$67,Main!$H$47,FALSE)","v":3.1},{"$f":"VLOOKUP(C687,Main!$A$49:$I$67,Main!$I$47,FALSE)","v":16.100000000000001},3567]
["NJ","NEWARK INTERNATIONAL ARPT","4A",4633,1211,29,84,0.1484,"40.683N",16.899999999999999,33.299999999999997,35.299999999999997,42.9,53.6,63.3,73,78.099999999999994,76.3,69,57.7,47.4,38.200000000000003,523,416,256,48,0,0,0,0,0,16,144,379,5,5,36,156,413,689,870,816,569,255,66,12,17.399999999999999,22.64,30.2,37.76,48,57.92,63.68,62.78,55.4,32.4,32.4,24.4,0.76945244956772341,0.19252128841169935,66,35,18,23,{"$f":"IF(OR(C688=\"OA\",C688=\"OB\",C688=\"1B\",C688=\"1A\",C688=\"2A\",C688=\"2B\",C688=\"3A\",C688=\"3B\",C688=\"3C\"),TAN((LEFT(I688, 5)+VLOOKUP(C688,Main!$K$3:$L$21,2,FALSE))*PI()/180),IF(Checklist!$I$385=\"No\",TAN((LEFT(I688, 5)+VLOOKUP(C688,Main!$K$3:$L$21,2,FALSE))*PI()/180),\"NR\"))","v":"NR"},{"$f":"VLOOKUP(C688,Main!$A$49:$I$67,Main!$B$47,FALSE)","v":0.5},{"$f":"VLOOKUP(C688,Main!$A$49:$I$67,Main!$C$47,FALSE)","v":0.25},{"$f":"VLOOKUP(C688,Main!$A$49:$I$67,Main!$E$47,FALSE)&\":\"&\" \"&VLOOKUP(C688,Main!$A$49:$I$67,Main!$F$47,FALSE)","v":"Minimum HSPF:: 9.6"},{"$f":"VLOOKUP(C688,Main!$A$49:$I$67,Main!$G$47,FALSE)","v":18},{"$f":"VLOOKUP(C688,Main!$A$49:$I$67,Main!$H$47,FALSE)","v":3.1},{"$f":"VLOOKUP(C688,Main!$A$49:$I$67,Main!$I$47,FALSE)","v":16.100000000000001},3892]
["NJ","TETERBORO AIRPORT","4A",4915,1309,30.65,78.099999999999994,0.1484,"40.850N",16.100000000000001,32.299999999999997,34.200000000000003,41.7,52.4,62,71.5,76.599999999999994,74.8,67.599999999999994,56.3,46.3,37.200000000000003,553,445,283,60,1,0,0,0,0,26,165,407,4,2,27,132,373,646,825,769,529,221,53,10,19.8,22.1,30.6,32.18,51.1,54.5,60.8,58.64,50.9,37.200000000000003,37.200000000000003,27.9,0.77591036414565828,0.18955371556527625,67,36,18,23,{"$f":"IF(OR(C689=\"OA\",C689=\"OB\",C689=\"1B\",C689=\"1A\",C689=\"2A\",C689=\"2B\",C689=\"3A\",C689=\"3B\",C689=\"3C\"),TAN((LEFT(I689, 5)+VLOOKUP(C689,Main!$K$3:$L$21,2,FALSE))*PI()/180),IF(Checklist!$I$385=\"No\",TAN((LEFT(I689, 5)+VLOOKUP(C689,Main!$K$3:$L$21,2,FALSE))*PI()/180),\"NR\"))","v":"NR"},{"$f":"VLOOKUP(C689,Main!$A$49:$I$67,Main!$B$47,FALSE)","v":0.5},{"$f":"VLOOKUP(C689,Main!$A$49:$I$67,Main!$C$47,FALSE)","v":0.25},{"$f":"VLOOKUP(C689,Main!$A$49:$I$67,Main!$E$47,FALSE)&\":\"&\" \"&VLOOKUP(C689,Main!$A$49:$I$67,Main!$F$47,FALSE)","v":"Minimum HSPF:: 9.6"},{"$f":"VLOOKUP(C689,Main!$A$49:$I$67,Main!$G$47,FALSE)","v":18},{"$f":"VLOOKUP(C689,Main!$A$49:$I$67,Main!$H$47,FALSE)","v":3.1},{"$f":"VLOOKUP(C689,Main!$A$49:$I$67,Main!$I$47,FALSE)","v":16.100000000000001},3591]
["NJ","TRENTON MERCER COUNTY AP","4A",4916,1436,20.3,83.7,0.1484,"40.277N",16.100000000000001,32.1,34.200000000000003,42.7,52.7,62.4,71.3,76.2,74.400000000000006,67.2,55.7,46.3,36.799999999999997,559,447,263,61,2,0,0,0,0,31,166,422,4,4,35,141,386,639,813,758,515,206,54,11,18.7,19.940000000000001,31.8,43.52,47.8,58.28,62.06,65.84,58.3,38.700000000000003,38.700000000000003,25.2,0.77715877437325909,0.18955371556527625,67,36,18,23,{"$f":"IF(OR(C690=\"OA\",C690=\"OB\",C690=\"1B\",C690=\"1A\",C690=\"2A\",C690=\"2B\",C690=\"3A\",C690=\"3B\",C690=\"3C\"),TAN((LEFT(I690, 5)+VLOOKUP(C690,Main!$K$3:$L$21,2,FALSE))*PI()/180),IF(Checklist!$I$385=\"No\",TAN((LEFT(I690, 5)+VLOOKUP(C690,Main!$K$3:$L$21,2,FALSE))*PI()/180),\"NR\"))","v":"NR"},{"$f":"VLOOKUP(C690,Main!$A$49:$I$67,Main!$B$47,FALSE)","v":0.5},{"$f":"VLOOKUP(C690,Main!$A$49:$I$67,Main!$C$47,FALSE)","v":0.25},{"$f":"VLOOKUP(C690,Main!$A$49:$I$67,Main!$E$47,FALSE)&\":\"&\" \"&VLOOKUP(C690,Main!$A$49:$I$67,Main!$F$47,FALSE)","v":"Minimum HSPF:: 9.6"},{"$f":"VLOOKUP(C690,Main!$A$49:$I$67,Main!$G$47,FALSE)","v":18},{"$f":"VLOOKUP(C690,Main!$A$49:$I$67,Main!$H$47,FALSE)","v":3.1},{"$f":"VLOOKUP(C690,Main!$A$49:$I$67,Main!$I$47,FALSE)","v":16.100000000000001},3566]
["NM","ALBUQUERQUE INTL ARPT [ISIS]","4B",3956,1926,31.8,81.3,0.1128,"35.042N",21.9,37.700000000000003,42.2,49.3,57,66.599999999999994,76.3,78.8,76.7,70.2,58.5,45.9,37.1,381,227,99,23,2,0,0,0,0,18,159,402,1,9,78,232,515,789,894,827,606,282,37,1,18.5,21.74,22.1,20.48,30,39.56,51.26,50.72,45.9,23.2,23.2,16,0.74110032362459544,0.21340212229583161,62,32,15,20,{"$f":"IF(OR(C691=\"OA\",C691=\"OB\",C691=\"1B\",C691=\"1A\",C691=\"2A\",C691=\"2B\",C691=\"3A\",C691=\"3B\",C691=\"3C\"),TAN((LEFT(I691, 5)+VLOOKUP(C691,Main!$K$3:$L$21,2,FALSE))*PI()/180),IF(Checklist!$I$385=\"No\",TAN((LEFT(I691, 5)+VLOOKUP(C691,Main!$K$3:$L$21,2,FALSE))*PI()/180),\"NR\"))","v":"NR"},{"$f":"VLOOKUP(C691,Main!$A$49:$I$67,Main!$B$47,FALSE)","v":"NR"},{"$f":"VLOOKUP(C691,Main!$A$49:$I$67,Main!$C$47,FALSE)","v":0.25},{"$f":"VLOOKUP(C691,Main!$A$49:$I$67,Main!$E$47,FALSE)&\":\"&\" \"&VLOOKUP(C691,Main!$A$49:$I$67,Main!$F$47,FALSE)","v":"Minimum HSPF:: 9.6"},{"$f":"VLOOKUP(C691,Main!$A$49:$I$67,Main!$G$47,FALSE)","v":18},{"$f":"VLOOKUP(C691,Main!$A$49:$I$67,Main!$H$47,FALSE)","v":3.1},{"$f":"VLOOKUP(C691,Main!$A$49:$I$67,Main!$I$47,FALSE)","v":16.100000000000001},4271]
["NM","CARLSBAD CAVERN CITY AIR TERM","3B",2609,1947,35.6,85.3,0.1128,"32.334N",24.5,44.9,49.2,56.2,64.7,73.8,81.900000000000006,82.4,81.3,74.3,64.3,52.1,44.3,200,107,39,6,0,0,0,0,0,5,72,215,41,84,231,445,737,956,1004,970,728,447,137,39,26.1,35.78,20.7,39.380000000000003,39,57.56,55.76,58.1,54.9,28.4,28.4,27.1,0.66244725738396626,0.22615719167443304,58,28,13,18,{"$f":"IF(OR(C692=\"OA\",C692=\"OB\",C692=\"1B\",C692=\"1A\",C692=\"2A\",C692=\"2B\",C692=\"3A\",C692=\"3B\",C692=\"3C\"),TAN((LEFT(I692, 5)+VLOOKUP(C692,Main!$K$3:$L$21,2,FALSE))*PI()/180),IF(Checklist!$I$385=\"No\",TAN((LEFT(I692, 5)+VLOOKUP(C692,Main!$K$3:$L$21,2,FALSE))*PI()/180),\"NR\"))","v":0.63290685218104237},{"$f":"VLOOKUP(C692,Main!$A$49:$I$67,Main!$B$47,FALSE)","v":"NR"},{"$f":"VLOOKUP(C692,Main!$A$49:$I$67,Main!$C$47,FALSE)","v":0.25},{"$f":"VLOOKUP(C692,Main!$A$49:$I$67,Main!$E$47,FALSE)&\":\"&\" \"&VLOOKUP(C692,Main!$A$49:$I$67,Main!$F$47,FALSE)","v":"Minimum HSPF:: 9.6"},{"$f":"VLOOKUP(C692,Main!$A$49:$I$67,Main!$G$47,FALSE)","v":18},{"$f":"VLOOKUP(C692,Main!$A$49:$I$67,Main!$H$47,FALSE)","v":3.1},{"$f":"VLOOKUP(C692,Main!$A$49:$I$67,Main!$I$47,FALSE)","v":16.100000000000001},5819]
["NM","CLAYTON MUNICIPAL AIRPARK","4B",4707,1873,22.75,79.2,0.1128,"36.449N",13.5,35.9,38.1,45.2,52.7,62.4,71.8,75.5,73.900000000000006,66.7,55.6,44.4,35.700000000000003,442,344,207,76,11,0,0,0,2,49,222,452,7,10,59,158,395,654,792,742,504,222,54,7,17.100000000000001,17.239999999999998,15.4,28.22,41,50,50.9,54.14,52.2,24.8,24.8,15.1,0.75232198142414863,0.18051078601537315,65,34,17,22,{"$f":"IF(OR(C693=\"OA\",C693=\"OB\",C693=\"1B\",C693=\"1A\",C693=\"2A\",C693=\"2B\",C693=\"3A\",C693=\"3B\",C693=\"3C\"),TAN((LEFT(I693, 5)+VLOOKUP(C693,Main!$K$3:$L$21,2,FALSE))*PI()/180),IF(Checklist!$I$385=\"No\",TAN((LEFT(I693, 5)+VLOOKUP(C693,Main!$K$3:$L$21,2,FALSE))*PI()/180),\"NR\"))","v":"NR"},{"$f":"VLOOKUP(C693,Main!$A$49:$I$67,Main!$B$47,FALSE)","v":"NR"},{"$f":"VLOOKUP(C693,Main!$A$49:$I$67,Main!$C$47,FALSE)","v":0.25},{"$f":"VLOOKUP(C693,Main!$A$49:$I$67,Main!$E$47,FALSE)&\":\"&\" \"&VLOOKUP(C693,Main!$A$49:$I$67,Main!$F$47,FALSE)","v":"Minimum HSPF:: 9.6"},{"$f":"VLOOKUP(C693,Main!$A$49:$I$67,Main!$G$47,FALSE)","v":18},{"$f":"VLOOKUP(C693,Main!$A$49:$I$67,Main!$H$47,FALSE)","v":3.1},{"$f":"VLOOKUP(C693,Main!$A$49:$I$67,Main!$I$47,FALSE)","v":16.100000000000001},3604]
["NM","CLOVIS CANNON AFB","4B",3718,1894,15.9,85.5,0.1128,"34.383N",18.2,38.9,43.5,49.9,57.8,66.599999999999994,75.8,77.8,76.8,70.3,59.3,47.6,40,356,213,111,29,2,0,0,0,1,21,146,325,11,30,107,262,515,775,862,832,610,309,75,15,22.5,27.14,28.8,34.340000000000003,36.5,39.020000000000003,51.8,57.74,40.799999999999997,30.7,30.7,25.2,0.72508591065292094,0.19754694453489635,61,31,15,20,{"$f":"IF(OR(C694=\"OA\",C694=\"OB\",C694=\"1B\",C694=\"1A\",C694=\"2A\",C694=\"2B\",C694=\"3A\",C694=\"3B\",C694=\"3C\"),TAN((LEFT(I694, 5)+VLOOKUP(C694,Main!$K$3:$L$21,2,FALSE))*PI()/180),IF(Checklist!$I$385=\"No\",TAN((LEFT(I694, 5)+VLOOKUP(C694,Main!$K$3:$L$21,2,FALSE))*PI()/180),\"NR\"))","v":"NR"},{"$f":"VLOOKUP(C694,Main!$A$49:$I$67,Main!$B$47,FALSE)","v":"NR"},{"$f":"VLOOKUP(C694,Main!$A$49:$I$67,Main!$C$47,FALSE)","v":0.25},{"$f":"VLOOKUP(C694,Main!$A$49:$I$67,Main!$E$47,FALSE)&\":\"&\" \"&VLOOKUP(C694,Main!$A$49:$I$67,Main!$F$47,FALSE)","v":"Minimum HSPF:: 9.6"},{"$f":"VLOOKUP(C694,Main!$A$49:$I$67,Main!$G$47,FALSE)","v":18},{"$f":"VLOOKUP(C694,Main!$A$49:$I$67,Main!$H$47,FALSE)","v":3.1},{"$f":"VLOOKUP(C694,Main!$A$49:$I$67,Main!$I$47,FALSE)","v":16.100000000000001},4403]
["NM","CLOVIS MUNI (AWOS)","4B",4053,1958,27.6,80.2,0.1128,"34.433N",17.600000000000001,38.299999999999997,41.1,48.4,56.1,65.599999999999994,74.599999999999994,76.599999999999994,75.400000000000006,68.599999999999994,57.7,46.4,37.9,373,267,135,38,2,0,0,0,0,24,166,386,9,19,85,219,487,737,825,787,560,264,57,10,21,24.98,15.4,33.08,38.299999999999997,53.78,53.06,51.08,48.9,28,28,17.600000000000001,0.73421926910299007,0.19519519519519518,62,32,15,20,{"$f":"IF(OR(C695=\"OA\",C695=\"OB\",C695=\"1B\",C695=\"1A\",C695=\"2A\",C695=\"2B\",C695=\"3A\",C695=\"3B\",C695=\"3C\"),TAN((LEFT(I695, 5)+VLOOKUP(C695,Main!$K$3:$L$21,2,FALSE))*PI()/180),IF(Checklist!$I$385=\"No\",TAN((LEFT(I695, 5)+VLOOKUP(C695,Main!$K$3:$L$21,2,FALSE))*PI()/180),\"NR\"))","v":"NR"},{"$f":"VLOOKUP(C695,Main!$A$49:$I$67,Main!$B$47,FALSE)","v":"NR"},{"$f":"VLOOKUP(C695,Main!$A$49:$I$67,Main!$C$47,FALSE)","v":0.25},{"$f":"VLOOKUP(C695,Main!$A$49:$I$67,Main!$E$47,FALSE)&\":\"&\" \"&VLOOKUP(C695,Main!$A$49:$I$67,Main!$F$47,FALSE)","v":"Minimum HSPF:: 9.6"},{"$f":"VLOOKUP(C695,Main!$A$49:$I$67,Main!$G$47,FALSE)","v":18},{"$f":"VLOOKUP(C695,Main!$A$49:$I$67,Main!$H$47,FALSE)","v":3.1},{"$f":"VLOOKUP(C695,Main!$A$49:$I$67,Main!$I$47,FALSE)","v":16.100000000000001},4059]
["NM","DEMING MUNI","3B",3047,2097,40.1,84.6,0.1128,"32.262N",22.7,42.4,45.9,53.3,60.8,69.400000000000006,79.3,80.900000000000006,78.7,72.8,62.3,50.2,42.1,241,141,43,3,0,0,0,0,0,3,81,254,5,27,144,328,601,880,959,890,684,386,88,9,24.8,23,19.8,19.760000000000002,27.7,40.46,49.1,54.68,40.799999999999997,24.6,24.6,21.4,0.69111969111969107,0.21717081319730325,59,29,14,19,{"$f":"IF(OR(C696=\"OA\",C696=\"OB\",C696=\"1B\",C696=\"1A\",C696=\"2A\",C696=\"2B\",C696=\"3A\",C696=\"3B\",C696=\"3C\"),TAN((LEFT(I696, 5)+VLOOKUP(C696,Main!$K$3:$L$21,2,FALSE))*PI()/180),IF(Checklist!$I$385=\"No\",TAN((LEFT(I696, 5)+VLOOKUP(C696,Main!$K$3:$L$21,2,FALSE))*PI()/180),\"NR\"))","v":0.63119705304103435},{"$f":"VLOOKUP(C696,Main!$A$49:$I$67,Main!$B$47,FALSE)","v":"NR"},{"$f":"VLOOKUP(C696,Main!$A$49:$I$67,Main!$C$47,FALSE)","v":0.25},{"$f":"VLOOKUP(C696,Main!$A$49:$I$67,Main!$E$47,FALSE)&\":\"&\" \"&VLOOKUP(C696,Main!$A$49:$I$67,Main!$F$47,FALSE)","v":"Minimum HSPF:: 9.6"},{"$f":"VLOOKUP(C696,Main!$A$49:$I$67,Main!$G$47,FALSE)","v":18},{"$f":"VLOOKUP(C696,Main!$A$49:$I$67,Main!$H$47,FALSE)","v":3.1},{"$f":"VLOOKUP(C696,Main!$A$49:$I$67,Main!$I$47,FALSE)","v":16.100000000000001},5001]
["NM","FARMINGTON FOUR CORNERS REGL","4B",5271,1950,29.3,78.3,0.1128,"36.744N",12.3,31,36.700000000000003,44.4,51.2,61,70.8,77.099999999999994,74.400000000000006,66.3,53.2,40.9,31,590,373,193,69,8,0,0,0,1,49,282,588,0,0,21,105,347,625,839,757,491,149,8,0,22.1,22.64,23.9,20.48,32.200000000000003,33.44,44.6,46.58,38.700000000000003,23.5,23.5,18.7,0.78378378378378377,0.17662186423407247,66,35,18,23,{"$f":"IF(OR(C697=\"OA\",C697=\"OB\",C697=\"1B\",C697=\"1A\",C697=\"2A\",C697=\"2B\",C697=\"3A\",C697=\"3B\",C697=\"3C\"),TAN((LEFT(I697, 5)+VLOOKUP(C697,Main!$K$3:$L$21,2,FALSE))*PI()/180),IF(Checklist!$I$385=\"No\",TAN((LEFT(I697, 5)+VLOOKUP(C697,Main!$K$3:$L$21,2,FALSE))*PI()/180),\"NR\"))","v":"NR"},{"$f":"VLOOKUP(C697,Main!$A$49:$I$67,Main!$B$47,FALSE)","v":"NR"},{"$f":"VLOOKUP(C697,Main!$A$49:$I$67,Main!$C$47,FALSE)","v":0.25},{"$f":"VLOOKUP(C697,Main!$A$49:$I$67,Main!$E$47,FALSE)&\":\"&\" \"&VLOOKUP(C697,Main!$A$49:$I$67,Main!$F$47,FALSE)","v":"Minimum HSPF:: 9.6"},{"$f":"VLOOKUP(C697,Main!$A$49:$I$67,Main!$G$47,FALSE)","v":18},{"$f":"VLOOKUP(C697,Main!$A$49:$I$67,Main!$H$47,FALSE)","v":3.1},{"$f":"VLOOKUP(C697,Main!$A$49:$I$67,Main!$I$47,FALSE)","v":16.100000000000001},3342]
["NM","GALLUP SEN CLARKE FLD","5B",6193,1848,21.4,72.5,0.1128,"35.514N",5.3,29.6,34,40.200000000000003,46.7,55.9,65.3,71.099999999999994,69,61.7,49.3,37.6,28.9,633,449,308,136,23,1,0,0,2,91,374,654,0,0,3,37,207,460,654,588,352,70,1,0,18,22.1,23.5,23.54,28,26.42,46.4,50.72,39.200000000000003,23.4,23.4,15.3,0.79539641943734019,0.15690331479805161,69,38,20,25,{"$f":"IF(OR(C698=\"OA\",C698=\"OB\",C698=\"1B\",C698=\"1A\",C698=\"2A\",C698=\"2B\",C698=\"3A\",C698=\"3B\",C698=\"3C\"),TAN((LEFT(I698, 5)+VLOOKUP(C698,Main!$K$3:$L$21,2,FALSE))*PI()/180),IF(Checklist!$I$385=\"No\",TAN((LEFT(I698, 5)+VLOOKUP(C698,Main!$K$3:$L$21,2,FALSE))*PI()/180),\"NR\"))","v":"NR"},{"$f":"VLOOKUP(C698,Main!$A$49:$I$67,Main!$B$47,FALSE)","v":"NR"},{"$f":"VLOOKUP(C698,Main!$A$49:$I$67,Main!$C$47,FALSE)","v":"NR"},{"$f":"VLOOKUP(C698,Main!$A$49:$I$67,Main!$E$47,FALSE)&\":\"&\" \"&VLOOKUP(C698,Main!$A$49:$I$67,Main!$F$47,FALSE)","v":"Minimum COP @ 5°F:: 1.75"},{"$f":"VLOOKUP(C698,Main!$A$49:$I$67,Main!$G$47,FALSE)","v":15},{"$f":"VLOOKUP(C698,Main!$A$49:$I$67,Main!$H$47,FALSE)","v":3.1},{"$f":"VLOOKUP(C698,Main!$A$49:$I$67,Main!$I$47,FALSE)","v":16.100000000000001},2372]
["NM","HOLLOMAN AFB","3B",3217,1971,31.7,83.8,0.1128,"32.850N",22.1,41,46,52.8,61.1,70.2,79.5,80.3,78.900000000000006,72.5,61.4,48.8,41.2,287,146,52,5,0,0,0,0,0,10,106,285,9,33,140,337,626,884,940,895,676,363,70,13,27.7,29.3,28.6,32.72,28.2,38.479999999999997,43.52,53.06,39.700000000000003,31.3,31.3,26.2,0.70370370370370372,0.21433197903786136,60,29,14,19,{"$f":"IF(OR(C699=\"OA\",C699=\"OB\",C699=\"1B\",C699=\"1A\",C699=\"2A\",C699=\"2B\",C699=\"3A\",C699=\"3B\",C699=\"3C\"),TAN((LEFT(I699, 5)+VLOOKUP(C699,Main!$K$3:$L$21,2,FALSE))*PI()/180),IF(Checklist!$I$385=\"No\",TAN((LEFT(I699, 5)+VLOOKUP(C699,Main!$K$3:$L$21,2,FALSE))*PI()/180),\"NR\"))","v":0.64569182104255407},{"$f":"VLOOKUP(C699,Main!$A$49:$I$67,Main!$B$47,FALSE)","v":"NR"},{"$f":"VLOOKUP(C699,Main!$A$49:$I$67,Main!$C$47,FALSE)","v":0.25},{"$f":"VLOOKUP(C699,Main!$A$49:$I$67,Main!$E$47,FALSE)&\":\"&\" \"&VLOOKUP(C699,Main!$A$49:$I$67,Main!$F$47,FALSE)","v":"Minimum HSPF:: 9.6"},{"$f":"VLOOKUP(C699,Main!$A$49:$I$67,Main!$G$47,FALSE)","v":18},{"$f":"VLOOKUP(C699,Main!$A$49:$I$67,Main!$H$47,FALSE)","v":3.1},{"$f":"VLOOKUP(C699,Main!$A$49:$I$67,Main!$I$47,FALSE)","v":16.100000000000001},4986]
["NM","LAS VEGAS MUNICIPAL ARPT","5B",5658,1902,21.45,70.7,0.1128,"35.654N",11.8,33.200000000000003,34.1,41.6,48.9,57.2,66.7,69.2,67.400000000000006,61.1,51.5,40.799999999999997,32.799999999999997,521,446,281,109,28,0,0,0,2,69,291,535,0,1,20,76,251,501,595,541,336,115,16,1,15.3,15.62,19.399999999999999,19.22,28.8,35.24,51.8,50.36,46.9,18.3,18.3,9.6999999999999993,0.77272727272727271,0.17505049533519282,67,37,19,24,{"$f":"IF(OR(C700=\"OA\",C700=\"OB\",C700=\"1B\",C700=\"1A\",C700=\"2A\",C700=\"2B\",C700=\"3A\",C700=\"3B\",C700=\"3C\"),TAN((LEFT(I700, 5)+VLOOKUP(C700,Main!$K$3:$L$21,2,FALSE))*PI()/180),IF(Checklist!$I$385=\"No\",TAN((LEFT(I700, 5)+VLOOKUP(C700,Main!$K$3:$L$21,2,FALSE))*PI()/180),\"NR\"))","v":"NR"},{"$f":"VLOOKUP(C700,Main!$A$49:$I$67,Main!$B$47,FALSE)","v":"NR"},{"$f":"VLOOKUP(C700,Main!$A$49:$I$67,Main!$C$47,FALSE)","v":"NR"},{"$f":"VLOOKUP(C700,Main!$A$49:$I$67,Main!$E$47,FALSE)&\":\"&\" \"&VLOOKUP(C700,Main!$A$49:$I$67,Main!$F$47,FALSE)","v":"Minimum COP @ 5°F:: 1.75"},{"$f":"VLOOKUP(C700,Main!$A$49:$I$67,Main!$G$47,FALSE)","v":15},{"$f":"VLOOKUP(C700,Main!$A$49:$I$67,Main!$H$47,FALSE)","v":3.1},{"$f":"VLOOKUP(C700,Main!$A$49:$I$67,Main!$I$47,FALSE)","v":16.100000000000001},2453]
["NM","ROSWELL INDUSTRIAL AIR PARK","3B",3095,1942,38.75,84.6,0.1128,"33.308N",21.6,41.7,46.4,54,62.2,71.3,79.8,81.099999999999994,79.8,72.900000000000006,62.2,49.8,41.3,272,148,54,10,1,0,0,0,0,10,100,291,16,46,176,375,659,894,964,923,687,387,95,20,21.6,25.16,25.5,26.24,37.799999999999997,44.96,57.56,55.04,52.9,30,30,28.2,0.70037453183520604,0.21202236719478099,60,29,14,19,{"$f":"IF(OR(C701=\"OA\",C701=\"OB\",C701=\"1B\",C701=\"1A\",C701=\"2A\",C701=\"2B\",C701=\"3A\",C701=\"3B\",C701=\"3C\"),TAN((LEFT(I701, 5)+VLOOKUP(C701,Main!$K$3:$L$21,2,FALSE))*PI()/180),IF(Checklist!$I$385=\"No\",TAN((LEFT(I701, 5)+VLOOKUP(C701,Main!$K$3:$L$21,2,FALSE))*PI()/180),\"NR\"))","v":0.65687722240127921},{"$f":"VLOOKUP(C701,Main!$A$49:$I$67,Main!$B$47,FALSE)","v":"NR"},{"$f":"VLOOKUP(C701,Main!$A$49:$I$67,Main!$C$47,FALSE)","v":0.25},{"$f":"VLOOKUP(C701,Main!$A$49:$I$67,Main!$E$47,FALSE)&\":\"&\" \"&VLOOKUP(C701,Main!$A$49:$I$67,Main!$F$47,FALSE)","v":"Minimum HSPF:: 9.6"},{"$f":"VLOOKUP(C701,Main!$A$49:$I$67,Main!$G$47,FALSE)","v":18},{"$f":"VLOOKUP(C701,Main!$A$49:$I$67,Main!$H$47,FALSE)","v":3.1},{"$f":"VLOOKUP(C701,Main!$A$49:$I$67,Main!$I$47,FALSE)","v":16.100000000000001},5242]
["NM","SANTA FE COUNTY MUNICIPAL AP","4B",5336,1989,27.95,76.5,0.1128,"35.617N",14.2,32.700000000000003,35.9,43.3,50.5,60.1,70,73.3,71.099999999999994,64.7,52.8,40.700000000000003,31.3,535,395,226,79,12,0,0,0,1,46,287,578,0,0,17,93,324,599,722,655,441,133,7,0,14.4,22.46,23.4,23.36,34.700000000000003,33.26,51.44,50.54,43.3,22.1,22.1,15.1,0.78201634877384185,0.18285943936501556,66,36,18,23,{"$f":"IF(OR(C702=\"OA\",C702=\"OB\",C702=\"1B\",C702=\"1A\",C702=\"2A\",C702=\"2B\",C702=\"3A\",C702=\"3B\",C702=\"3C\"),TAN((LEFT(I702, 5)+VLOOKUP(C702,Main!$K$3:$L$21,2,FALSE))*PI()/180),IF(Checklist!$I$385=\"No\",TAN((LEFT(I702, 5)+VLOOKUP(C702,Main!$K$3:$L$21,2,FALSE))*PI()/180),\"NR\"))","v":"NR"},{"$f":"VLOOKUP(C702,Main!$A$49:$I$67,Main!$B$47,FALSE)","v":"NR"},{"$f":"VLOOKUP(C702,Main!$A$49:$I$67,Main!$C$47,FALSE)","v":0.25},{"$f":"VLOOKUP(C702,Main!$A$49:$I$67,Main!$E$47,FALSE)&\":\"&\" \"&VLOOKUP(C702,Main!$A$49:$I$67,Main!$F$47,FALSE)","v":"Minimum HSPF:: 9.6"},{"$f":"VLOOKUP(C702,Main!$A$49:$I$67,Main!$G$47,FALSE)","v":18},{"$f":"VLOOKUP(C702,Main!$A$49:$I$67,Main!$H$47,FALSE)","v":3.1},{"$f":"VLOOKUP(C702,Main!$A$49:$I$67,Main!$I$47,FALSE)","v":16.100000000000001},2991]
["NM","SIERRA BLANCA RGNL","4B",4451,1950,24.7,74.5,0.1128,"33.450N",18.600000000000001,39,40.5,46.2,52.8,62,69.7,70.099999999999994,68.3,63.5,54.8,45.5,37.9,345,281,171,66,8,0,0,0,1,39,180,380,6,14,52,151,381,591,624,567,404,189,45,4,23.2,19.760000000000002,23.5,23.54,25.5,33.619999999999997,45.5,47.48,44.8,19.600000000000001,19.600000000000001,18.899999999999999,0.73421926910299007,0.19914651493598862,63,33,16,21,{"$f":"IF(OR(C703=\"OA\",C703=\"OB\",C703=\"1B\",C703=\"1A\",C703=\"2A\",C703=\"2B\",C703=\"3A\",C703=\"3B\",C703=\"3C\"),TAN((LEFT(I703, 5)+VLOOKUP(C703,Main!$K$3:$L$21,2,FALSE))*PI()/180),IF(Checklist!$I$385=\"No\",TAN((LEFT(I703, 5)+VLOOKUP(C703,Main!$K$3:$L$21,2,FALSE))*PI()/180),\"NR\"))","v":"NR"},{"$f":"VLOOKUP(C703,Main!$A$49:$I$67,Main!$B$47,FALSE)","v":"NR"},{"$f":"VLOOKUP(C703,Main!$A$49:$I$67,Main!$C$47,FALSE)","v":0.25},{"$f":"VLOOKUP(C703,Main!$A$49:$I$67,Main!$E$47,FALSE)&\":\"&\" \"&VLOOKUP(C703,Main!$A$49:$I$67,Main!$F$47,FALSE)","v":"Minimum HSPF:: 9.6"},{"$f":"VLOOKUP(C703,Main!$A$49:$I$67,Main!$G$47,FALSE)","v":18},{"$f":"VLOOKUP(C703,Main!$A$49:$I$67,Main!$H$47,FALSE)","v":3.1},{"$f":"VLOOKUP(C703,Main!$A$49:$I$67,Main!$I$47,FALSE)","v":16.100000000000001},3028]
["NM","TAOS MUNI APT(AWOS)","5B",6945,1949,21.65,68.7,0.1128,"36.450N",2.9,26,30.8,38.299999999999997,44.6,54,63.5,68.099999999999994,66,58.8,47.1,35,25.4,743,539,366,181,37,0,0,0,5,132,450,762,0,0,2,19,160,404,561,497,268,42,0,0,13.1,24.8,11.8,22.64,15.6,28.76,41.36,41.9,36,17.600000000000001,17.600000000000001,11.8,0.81220657276995301,0.15111886079628017,71,40,23,28,{"$f":"IF(OR(C704=\"OA\",C704=\"OB\",C704=\"1B\",C704=\"1A\",C704=\"2A\",C704=\"2B\",C704=\"3A\",C704=\"3B\",C704=\"3C\"),TAN((LEFT(I704, 5)+VLOOKUP(C704,Main!$K$3:$L$21,2,FALSE))*PI()/180),IF(Checklist!$I$385=\"No\",TAN((LEFT(I704, 5)+VLOOKUP(C704,Main!$K$3:$L$21,2,FALSE))*PI()/180),\"NR\"))","v":"NR"},{"$f":"VLOOKUP(C704,Main!$A$49:$I$67,Main!$B$47,FALSE)","v":"NR"},{"$f":"VLOOKUP(C704,Main!$A$49:$I$67,Main!$C$47,FALSE)","v":"NR"},{"$f":"VLOOKUP(C704,Main!$A$49:$I$67,Main!$E$47,FALSE)&\":\"&\" \"&VLOOKUP(C704,Main!$A$49:$I$67,Main!$F$47,FALSE)","v":"Minimum COP @ 5°F:: 1.75"},{"$f":"VLOOKUP(C704,Main!$A$49:$I$67,Main!$G$47,FALSE)","v":15},{"$f":"VLOOKUP(C704,Main!$A$49:$I$67,Main!$H$47,FALSE)","v":3.1},{"$f":"VLOOKUP(C704,Main!$A$49:$I$67,Main!$I$47,FALSE)","v":16.100000000000001},1953]
["NM","TRUTH OR CONSEQUENCES MUNI AP","3B",3051,2112,32.85,81.5,0.1128,"33.237N",25.3,42.6,46.9,53.6,61,70.099999999999994,79,79.900000000000006,77.7,72,62.1,49.9,41.6,239,127,44,6,0,0,0,0,0,8,89,270,10,39,157,334,623,870,927,859,659,384,85,10,19,22.1,16.3,24.08,22.3,37.58,53.6,54.5,43.9,24.4,24.4,21.9,0.69696969696969691,0.23039432875498445,59,29,13,18,{"$f":"IF(OR(C705=\"OA\",C705=\"OB\",C705=\"1B\",C705=\"1A\",C705=\"2A\",C705=\"2B\",C705=\"3A\",C705=\"3B\",C705=\"3C\"),TAN((LEFT(I705, 5)+VLOOKUP(C705,Main!$K$3:$L$21,2,FALSE))*PI()/180),IF(Checklist!$I$385=\"No\",TAN((LEFT(I705, 5)+VLOOKUP(C705,Main!$K$3:$L$21,2,FALSE))*PI()/180),\"NR\"))","v":0.65512973180834766},{"$f":"VLOOKUP(C705,Main!$A$49:$I$67,Main!$B$47,FALSE)","v":"NR"},{"$f":"VLOOKUP(C705,Main!$A$49:$I$67,Main!$C$47,FALSE)","v":0.25},{"$f":"VLOOKUP(C705,Main!$A$49:$I$67,Main!$E$47,FALSE)&\":\"&\" \"&VLOOKUP(C705,Main!$A$49:$I$67,Main!$F$47,FALSE)","v":"Minimum HSPF:: 9.6"},{"$f":"VLOOKUP(C705,Main!$A$49:$I$67,Main!$G$47,FALSE)","v":18},{"$f":"VLOOKUP(C705,Main!$A$49:$I$67,Main!$H$47,FALSE)","v":3.1},{"$f":"VLOOKUP(C705,Main!$A$49:$I$67,Main!$I$47,FALSE)","v":16.100000000000001},4957]
["NS","GREENWOOD AP","6A",7311,1292,15,72.099999999999994,0.16950000000000001,"44.980N",4.5,23.2,23.7,31.4,41.9,52.5,61.8,68.3,66.8,59.2,48.9,39.700000000000003,30.1,831,737,577,256,47,1,0,0,6,111,325,619,0,0,2,14,125,356,566,521,281,78,17,1,17.600000000000001,17.420000000000002,23.5,31.46,41,51.98,58.46,57.74,51.3,34.700000000000003,34.700000000000003,24.1,0.8214285714285714,0.1549265801234305,77,46,26,31,{"$f":"IF(OR(C706=\"OA\",C706=\"OB\",C706=\"1B\",C706=\"1A\",C706=\"2A\",C706=\"2B\",C706=\"3A\",C706=\"3B\",C706=\"3C\"),TAN((LEFT(I706, 5)+VLOOKUP(C706,Main!$K$3:$L$21,2,FALSE))*PI()/180),IF(Checklist!$I$385=\"No\",TAN((LEFT(I706, 5)+VLOOKUP(C706,Main!$K$3:$L$21,2,FALSE))*PI()/180),\"NR\"))","v":"NR"},{"$f":"VLOOKUP(C706,Main!$A$49:$I$67,Main!$B$47,FALSE)","v":"NR"},{"$f":"VLOOKUP(C706,Main!$A$49:$I$67,Main!$C$47,FALSE)","v":"NR"},{"$f":"VLOOKUP(C706,Main!$A$49:$I$67,Main!$E$47,FALSE)&\":\"&\" \"&VLOOKUP(C706,Main!$A$49:$I$67,Main!$F$47,FALSE)","v":"Minimum COP @ 5°F:: 1.75"},{"$f":"VLOOKUP(C706,Main!$A$49:$I$67,Main!$G$47,FALSE)","v":15},{"$f":"VLOOKUP(C706,Main!$A$49:$I$67,Main!$H$47,FALSE)","v":3.1},{"$f":"VLOOKUP(C706,Main!$A$49:$I$67,Main!$I$47,FALSE)","v":16.100000000000001},1961]
["NS","HALIFAX","6A",7655,1317,13.25,69.8,0.16950000000000001,"44.880N",3,22.2,23,30.2,40,49.9,59.5,66.400000000000006,66.099999999999994,59.1,48.7,38.9,29.3,862,757,615,305,80,4,0,0,5,111,344,643,0,0,2,6,78,289,507,500,279,71,10,0,16.5,15.98,22.1,30.56,39.6,50.18,57.74,58.1,52,34,34,23.7,0.8253275109170306,0.15135135135135133,78,47,27,32,{"$f":"IF(OR(C707=\"OA\",C707=\"OB\",C707=\"1B\",C707=\"1A\",C707=\"2A\",C707=\"2B\",C707=\"3A\",C707=\"3B\",C707=\"3C\"),TAN((LEFT(I707, 5)+VLOOKUP(C707,Main!$K$3:$L$21,2,FALSE))*PI()/180),IF(Checklist!$I$385=\"No\",TAN((LEFT(I707, 5)+VLOOKUP(C707,Main!$K$3:$L$21,2,FALSE))*PI()/180),\"NR\"))","v":"NR"},{"$f":"VLOOKUP(C707,Main!$A$49:$I$67,Main!$B$47,FALSE)","v":"NR"},{"$f":"VLOOKUP(C707,Main!$A$49:$I$67,Main!$C$47,FALSE)","v":"NR"},{"$f":"VLOOKUP(C707,Main!$A$49:$I$67,Main!$E$47,FALSE)&\":\"&\" \"&VLOOKUP(C707,Main!$A$49:$I$67,Main!$F$47,FALSE)","v":"Minimum COP @ 5°F:: 1.75"},{"$f":"VLOOKUP(C707,Main!$A$49:$I$67,Main!$G$47,FALSE)","v":15},{"$f":"VLOOKUP(C707,Main!$A$49:$I$67,Main!$H$47,FALSE)","v":3.1},{"$f":"VLOOKUP(C707,Main!$A$49:$I$67,Main!$I$47,FALSE)","v":16.100000000000001},1742]
["NS","SHEARWATER","5A",7529,1272,14.35,69.599999999999994,0.16950000000000001,"44.630N",4.9000000000000004,23.4,24.3,31.3,39.700000000000003,48.4,57.9,64.3,65.7,59.7,49.6,40.299999999999997,30.7,824,719,580,312,96,5,0,0,2,88,299,597,0,0,0,2,48,242,443,487,292,74,9,0,16.3,15.8,22.1,30.38,39.4,50,57.74,57.92,52,33.799999999999997,33.799999999999997,23.5,0.820627802690583,0.15590868205765193,77,47,27,32,{"$f":"IF(OR(C708=\"OA\",C708=\"OB\",C708=\"1B\",C708=\"1A\",C708=\"2A\",C708=\"2B\",C708=\"3A\",C708=\"3B\",C708=\"3C\"),TAN((LEFT(I708, 5)+VLOOKUP(C708,Main!$K$3:$L$21,2,FALSE))*PI()/180),IF(Checklist!$I$385=\"No\",TAN((LEFT(I708, 5)+VLOOKUP(C708,Main!$K$3:$L$21,2,FALSE))*PI()/180),\"NR\"))","v":"NR"},{"$f":"VLOOKUP(C708,Main!$A$49:$I$67,Main!$B$47,FALSE)","v":"NR"},{"$f":"VLOOKUP(C708,Main!$A$49:$I$67,Main!$C$47,FALSE)","v":"NR"},{"$f":"VLOOKUP(C708,Main!$A$49:$I$67,Main!$E$47,FALSE)&\":\"&\" \"&VLOOKUP(C708,Main!$A$49:$I$67,Main!$F$47,FALSE)","v":"Minimum COP @ 5°F:: 1.75"},{"$f":"VLOOKUP(C708,Main!$A$49:$I$67,Main!$G$47,FALSE)","v":15},{"$f":"VLOOKUP(C708,Main!$A$49:$I$67,Main!$H$47,FALSE)","v":3.1},{"$f":"VLOOKUP(C708,Main!$A$49:$I$67,Main!$I$47,FALSE)","v":16.100000000000001},1597]
["NS","SYDNEY AP","6A",8092,1212,16.600000000000001,71.099999999999994,0.16950000000000001,"46.170N",4.7,23,21.9,28.1,36.700000000000003,46.1,56,64.7,65,58.1,48.1,39.4,30.5,836,787,681,401,165,19,0,0,7,115,327,604,0,0,0,2,43,198,455,466,251,57,8,0,17.399999999999999,15.44,20.8,28.76,37,47.66,56.66,57.38,51.1,35.200000000000003,35.200000000000003,25.3,0.82646420824295008,0.1554160795866957,79,49,28,33,{"$f":"IF(OR(C709=\"OA\",C709=\"OB\",C709=\"1B\",C709=\"1A\",C709=\"2A\",C709=\"2B\",C709=\"3A\",C709=\"3B\",C709=\"3C\"),TAN((LEFT(I709, 5)+VLOOKUP(C709,Main!$K$3:$L$21,2,FALSE))*PI()/180),IF(Checklist!$I$385=\"No\",TAN((LEFT(I709, 5)+VLOOKUP(C709,Main!$K$3:$L$21,2,FALSE))*PI()/180),\"NR\"))","v":"NR"},{"$f":"VLOOKUP(C709,Main!$A$49:$I$67,Main!$B$47,FALSE)","v":"NR"},{"$f":"VLOOKUP(C709,Main!$A$49:$I$67,Main!$C$47,FALSE)","v":"NR"},{"$f":"VLOOKUP(C709,Main!$A$49:$I$67,Main!$E$47,FALSE)&\":\"&\" \"&VLOOKUP(C709,Main!$A$49:$I$67,Main!$F$47,FALSE)","v":"Minimum COP @ 5°F:: 1.75"},{"$f":"VLOOKUP(C709,Main!$A$49:$I$67,Main!$G$47,FALSE)","v":15},{"$f":"VLOOKUP(C709,Main!$A$49:$I$67,Main!$H$47,FALSE)","v":3.1},{"$f":"VLOOKUP(C709,Main!$A$49:$I$67,Main!$I$47,FALSE)","v":16.100000000000001},1480]
["NT","YELLOWKNIFE AP",8,14687,1031,-29.45,67.8,0.23719999999999999,"62.460N",-36.9,-13.9,-8.1999999999999993,2,22.2,40.799999999999997,56.6,62.8,57.6,45.8,30,8.8000000000000007,-7.4,1981,1628,1487,833,311,23,1,14,171,620,1236,1780,0,0,0,0,27,220,396,249,46,1,0,0,-19.7,-17.68,-9.6,11.66,24.6,38.659999999999997,47.84,45.68,37.799999999999997,6.4,6.4,-12.3,0.90231990231990233,9.378301084688119E-2,{"$f":"ROUNDDOWN((33.97238548+(2.143484655*3.14219615)+(0.00253108806*D710)+(-0.2767683543*J710)+(66.9384076*H710)+((3.14219615-3.14219615)^2*-1.607593659)+((J710-12.48681818)*(H710-0.2016890909)*-1.8168457)+8.4234),0)","v":115},{"$f":"ROUNDDOWN((2.975122788+(0.003896731237*D710)+(59.88697433*H710)+((D710-5520.854545)*(H710-0.2016890909)*0.01119327314)+5.3792),0)","v":83},52,{"$f":"ROUNDDOWN(BK710+5.9089,0)","v":57},{"$f":"IF(OR(C710=\"OA\",C710=\"OB\",C710=\"1B\",C710=\"1A\",C710=\"2A\",C710=\"2B\",C710=\"3A\",C710=\"3B\",C710=\"3C\"),TAN((LEFT(I710, 5)+VLOOKUP(C710,Main!$K$3:$L$21,2,FALSE))*PI()/180),IF(Checklist!$I$385=\"No\",TAN((LEFT(I710, 5)+VLOOKUP(C710,Main!$K$3:$L$21,2,FALSE))*PI()/180),\"NR\"))","v":"NR"},{"$f":"VLOOKUP(C710,Main!$A$49:$I$67,Main!$B$47,FALSE)","v":"NR"},{"$f":"VLOOKUP(C710,Main!$A$49:$I$67,Main!$C$47,FALSE)","v":"NR"},{"$f":"VLOOKUP(C710,Main!$A$49:$I$67,Main!$E$47,FALSE)&\":\"&\" \"&VLOOKUP(C710,Main!$A$49:$I$67,Main!$F$47,FALSE)","v":"Minimum COP @ 5°F:: 1.75"},{"$f":"VLOOKUP(C710,Main!$A$49:$I$67,Main!$G$47,FALSE)","v":15},{"$f":"VLOOKUP(C710,Main!$A$49:$I$67,Main!$H$47,FALSE)","v":3.1},{"$f":"VLOOKUP(C710,Main!$A$49:$I$67,Main!$I$47,FALSE)","v":16.100000000000001},939]
["NU","IQALUIT",8,17629,980,-25.85,57,0.56689999999999996,"63.750N",-34.700000000000003,-14.9,-16.399999999999999,-8.3000000000000007,7.9,25.9,38.799999999999997,47,45.2,37.1,26.5,12.1,-2.8,2012,1860,1806,1263,746,337,131,164,386,728,1136,1637,0,0,0,0,0,1,37,14,0,0,0,0,-23.6,-22.36,-13.9,3.2,21.6,32.54,41,40.1,32.200000000000003,7.9,7.9,-7.8,0.90521327014218012,9.5791994526171723E-2,172,160,100,105,{"$f":"IF(OR(C711=\"OA\",C711=\"OB\",C711=\"1B\",C711=\"1A\",C711=\"2A\",C711=\"2B\",C711=\"3A\",C711=\"3B\",C711=\"3C\"),TAN((LEFT(I711, 5)+VLOOKUP(C711,Main!$K$3:$L$21,2,FALSE))*PI()/180),IF(Checklist!$I$385=\"No\",TAN((LEFT(I711, 5)+VLOOKUP(C711,Main!$K$3:$L$21,2,FALSE))*PI()/180),\"NR\"))","v":"NR"},{"$f":"VLOOKUP(C711,Main!$A$49:$I$67,Main!$B$47,FALSE)","v":"NR"},{"$f":"VLOOKUP(C711,Main!$A$49:$I$67,Main!$C$47,FALSE)","v":"NR"},{"$f":"VLOOKUP(C711,Main!$A$49:$I$67,Main!$E$47,FALSE)&\":\"&\" \"&VLOOKUP(C711,Main!$A$49:$I$67,Main!$F$47,FALSE)","v":"Minimum COP @ 5°F:: 1.75"},{"$f":"VLOOKUP(C711,Main!$A$49:$I$67,Main!$G$47,FALSE)","v":15},{"$f":"VLOOKUP(C711,Main!$A$49:$I$67,Main!$H$47,FALSE)","v":3.1},{"$f":"VLOOKUP(C711,Main!$A$49:$I$67,Main!$I$47,FALSE)","v":16.100000000000001},52]
["NV","ELKO MUNICIPAL ARPT","5B",7029,1722,17.149999999999999,75,0.1193,"40.829N",2.6,25.7,30.1,38.9,44.8,53.3,61.8,70.7,68.400000000000006,59.6,46.7,34.9,26,754,557,348,185,54,6,0,0,12,153,454,744,0,0,3,29,155,361,641,571,299,51,2,0,15.4,23.36,24.6,28.94,33.6,33.08,33.26,32.54,28.8,21.4,21.4,17.2,0.81087470449172572,0.15042565501281097,72,41,22,27,{"$f":"IF(OR(C712=\"OA\",C712=\"OB\",C712=\"1B\",C712=\"1A\",C712=\"2A\",C712=\"2B\",C712=\"3A\",C712=\"3B\",C712=\"3C\"),TAN((LEFT(I712, 5)+VLOOKUP(C712,Main!$K$3:$L$21,2,FALSE))*PI()/180),IF(Checklist!$I$385=\"No\",TAN((LEFT(I712, 5)+VLOOKUP(C712,Main!$K$3:$L$21,2,FALSE))*PI()/180),\"NR\"))","v":"NR"},{"$f":"VLOOKUP(C712,Main!$A$49:$I$67,Main!$B$47,FALSE)","v":"NR"},{"$f":"VLOOKUP(C712,Main!$A$49:$I$67,Main!$C$47,FALSE)","v":"NR"},{"$f":"VLOOKUP(C712,Main!$A$49:$I$67,Main!$E$47,FALSE)&\":\"&\" \"&VLOOKUP(C712,Main!$A$49:$I$67,Main!$F$47,FALSE)","v":"Minimum COP @ 5°F:: 1.75"},{"$f":"VLOOKUP(C712,Main!$A$49:$I$67,Main!$G$47,FALSE)","v":15},{"$f":"VLOOKUP(C712,Main!$A$49:$I$67,Main!$H$47,FALSE)","v":3.1},{"$f":"VLOOKUP(C712,Main!$A$49:$I$67,Main!$I$47,FALSE)","v":16.100000000000001},2112]
["NV","ELY YELLAND FIELD","5B",7355,1786,22.65,75.900000000000006,0.1193,"39.295N",1.1000000000000001,26.2,29.1,36.9,42.5,50.8,60.1,68.5,66.599999999999994,57.8,46,34.5,25.9,739,586,407,244,85,13,0,0,15,167,466,746,0,0,2,18,110,316,572,515,249,42,1,0,13.3,19.22,22.3,19.579999999999998,28.4,27.32,37.58,36.14,30.4,15.6,15.6,11.1,0.80997624703087889,0.14705288247889142,73,42,{"$f":"ROUNDDOWN(-18.64576148+(5.900367721*3.14219615)+(0.002662134083*D713)+(38.92365332*H713)+((BT713-3890.577273)*(G713-78.59)*0.00005765875867)+((D713-5520.854545)*(H713-0.2016890909)*0.006047043516),0)","v":23},28,{"$f":"IF(OR(C713=\"OA\",C713=\"OB\",C713=\"1B\",C713=\"1A\",C713=\"2A\",C713=\"2B\",C713=\"3A\",C713=\"3B\",C713=\"3C\"),TAN((LEFT(I713, 5)+VLOOKUP(C713,Main!$K$3:$L$21,2,FALSE))*PI()/180),IF(Checklist!$I$385=\"No\",TAN((LEFT(I713, 5)+VLOOKUP(C713,Main!$K$3:$L$21,2,FALSE))*PI()/180),\"NR\"))","v":"NR"},{"$f":"VLOOKUP(C713,Main!$A$49:$I$67,Main!$B$47,FALSE)","v":"NR"},{"$f":"VLOOKUP(C713,Main!$A$49:$I$67,Main!$C$47,FALSE)","v":"NR"},{"$f":"VLOOKUP(C713,Main!$A$49:$I$67,Main!$E$47,FALSE)&\":\"&\" \"&VLOOKUP(C713,Main!$A$49:$I$67,Main!$F$47,FALSE)","v":"Minimum COP @ 5°F:: 1.75"},{"$f":"VLOOKUP(C713,Main!$A$49:$I$67,Main!$G$47,FALSE)","v":15},{"$f":"VLOOKUP(C713,Main!$A$49:$I$67,Main!$H$47,FALSE)","v":3.1},{"$f":"VLOOKUP(C713,Main!$A$49:$I$67,Main!$I$47,FALSE)","v":16.100000000000001},1825]
["NV","FALLON NAAS","4B",4974,1910,21.55,81.5,0.1193,"39.417N",13.2,33.700000000000003,40,46.8,52.1,60.3,68.5,77.3,75,67.099999999999994,54.2,41.7,32.4,509,286,142,66,10,1,0,0,1,48,264,549,2,5,43,129,330,557,846,774,513,177,15,3,21.7,19.22,22.3,26.24,25.3,37.76,39.200000000000003,41,35.6,19.2,19.2,20.3,0.7752808988764045,0.17952258828171236,66,35,17,22,{"$f":"IF(OR(C714=\"OA\",C714=\"OB\",C714=\"1B\",C714=\"1A\",C714=\"2A\",C714=\"2B\",C714=\"3A\",C714=\"3B\",C714=\"3C\"),TAN((LEFT(I714, 5)+VLOOKUP(C714,Main!$K$3:$L$21,2,FALSE))*PI()/180),IF(Checklist!$I$385=\"No\",TAN((LEFT(I714, 5)+VLOOKUP(C714,Main!$K$3:$L$21,2,FALSE))*PI()/180),\"NR\"))","v":"NR"},{"$f":"VLOOKUP(C714,Main!$A$49:$I$67,Main!$B$47,FALSE)","v":"NR"},{"$f":"VLOOKUP(C714,Main!$A$49:$I$67,Main!$C$47,FALSE)","v":0.25},{"$f":"VLOOKUP(C714,Main!$A$49:$I$67,Main!$E$47,FALSE)&\":\"&\" \"&VLOOKUP(C714,Main!$A$49:$I$67,Main!$F$47,FALSE)","v":"Minimum HSPF:: 9.6"},{"$f":"VLOOKUP(C714,Main!$A$49:$I$67,Main!$G$47,FALSE)","v":18},{"$f":"VLOOKUP(C714,Main!$A$49:$I$67,Main!$H$47,FALSE)","v":3.1},{"$f":"VLOOKUP(C714,Main!$A$49:$I$67,Main!$I$47,FALSE)","v":16.100000000000001},3394]
["NV","LAS VEGAS MCCARRAN INTL AP","3B",1962,2034,45.05,95,0.1193,"36.072N",34.299999999999997,48.7,52.5,60,66.900000000000006,77,86.5,92.5,90.7,82.9,69.7,56.5,47.4,90,36,7,1,0,0,0,0,0,0,20,117,49,108,318,509,837,1094,1316,1262,987,611,215,37,23.2,24.08,29.1,25.88,31.5,38.119999999999997,40.64,44.6,35.4,25.7,25.7,18.899999999999999,0.61165048543689327,0.29192397144919396,55,26,14,19,{"$f":"IF(OR(C715=\"OA\",C715=\"OB\",C715=\"1B\",C715=\"1A\",C715=\"2A\",C715=\"2B\",C715=\"3A\",C715=\"3B\",C715=\"3C\"),TAN((LEFT(I715, 5)+VLOOKUP(C715,Main!$K$3:$L$21,2,FALSE))*PI()/180),IF(Checklist!$I$385=\"No\",TAN((LEFT(I715, 5)+VLOOKUP(C715,Main!$K$3:$L$21,2,FALSE))*PI()/180),\"NR\"))","v":0.72841082537637192},{"$f":"VLOOKUP(C715,Main!$A$49:$I$67,Main!$B$47,FALSE)","v":"NR"},{"$f":"VLOOKUP(C715,Main!$A$49:$I$67,Main!$C$47,FALSE)","v":0.25},{"$f":"VLOOKUP(C715,Main!$A$49:$I$67,Main!$E$47,FALSE)&\":\"&\" \"&VLOOKUP(C715,Main!$A$49:$I$67,Main!$F$47,FALSE)","v":"Minimum HSPF:: 9.6"},{"$f":"VLOOKUP(C715,Main!$A$49:$I$67,Main!$G$47,FALSE)","v":18},{"$f":"VLOOKUP(C715,Main!$A$49:$I$67,Main!$H$47,FALSE)","v":3.1},{"$f":"VLOOKUP(C715,Main!$A$49:$I$67,Main!$I$47,FALSE)","v":16.100000000000001},7343]
["NV","LOVELOCK DERBY FIELD","5B",5449,1741,27.5,82.8,0.1193,"40.068N",10.3,31.8,37.4,44.4,50.4,59.8,68.400000000000006,77,73.8,65.2,52.2,39.200000000000003,30.6,565,354,194,86,12,1,0,0,1,60,330,603,1,1,21,97,316,552,838,737,457,130,6,0,21.9,22.64,28.9,26.24,29.3,35.42,43.52,37.4,37.6,23.9,23.9,22.3,0.78609625668449201,0.17049978921729353,67,36,18,23,{"$f":"IF(OR(C716=\"OA\",C716=\"OB\",C716=\"1B\",C716=\"1A\",C716=\"2A\",C716=\"2B\",C716=\"3A\",C716=\"3B\",C716=\"3C\"),TAN((LEFT(I716, 5)+VLOOKUP(C716,Main!$K$3:$L$21,2,FALSE))*PI()/180),IF(Checklist!$I$385=\"No\",TAN((LEFT(I716, 5)+VLOOKUP(C716,Main!$K$3:$L$21,2,FALSE))*PI()/180),\"NR\"))","v":"NR"},{"$f":"VLOOKUP(C716,Main!$A$49:$I$67,Main!$B$47,FALSE)","v":"NR"},{"$f":"VLOOKUP(C716,Main!$A$49:$I$67,Main!$C$47,FALSE)","v":"NR"},{"$f":"VLOOKUP(C716,Main!$A$49:$I$67,Main!$E$47,FALSE)&\":\"&\" \"&VLOOKUP(C716,Main!$A$49:$I$67,Main!$F$47,FALSE)","v":"Minimum COP @ 5°F:: 1.75"},{"$f":"VLOOKUP(C716,Main!$A$49:$I$67,Main!$G$47,FALSE)","v":15},{"$f":"VLOOKUP(C716,Main!$A$49:$I$67,Main!$H$47,FALSE)","v":3.1},{"$f":"VLOOKUP(C716,Main!$A$49:$I$67,Main!$I$47,FALSE)","v":16.100000000000001},3156]
["NV","MERCURY DESERT ROCK AP [SURFRAD]","3B",2800,2025,39.6,92.7,0.1193,"36.621N",29.7,45.2,47.9,54.5,60.4,70,79.3,86.1,84.3,76.8,64.400000000000006,52,43.7,170,102,36,10,0,0,0,0,0,4,59,207,21,45,175,321,620,879,1121,1064,804,451,118,12,27.3,24.08,22.8,24.62,33.4,35.78,41.72,39.200000000000003,32.4,25.5,25.5,20.5,0.67078189300411517,0.25686260673205841,58,28,14,19,{"$f":"IF(OR(C717=\"OA\",C717=\"OB\",C717=\"1B\",C717=\"1A\",C717=\"2A\",C717=\"2B\",C717=\"3A\",C717=\"3B\",C717=\"3C\"),TAN((LEFT(I717, 5)+VLOOKUP(C717,Main!$K$3:$L$21,2,FALSE))*PI()/180),IF(Checklist!$I$385=\"No\",TAN((LEFT(I717, 5)+VLOOKUP(C717,Main!$K$3:$L$21,2,FALSE))*PI()/180),\"NR\"))","v":0.74320727585009483},{"$f":"VLOOKUP(C717,Main!$A$49:$I$67,Main!$B$47,FALSE)","v":"NR"},{"$f":"VLOOKUP(C717,Main!$A$49:$I$67,Main!$C$47,FALSE)","v":0.25},{"$f":"VLOOKUP(C717,Main!$A$49:$I$67,Main!$E$47,FALSE)&\":\"&\" \"&VLOOKUP(C717,Main!$A$49:$I$67,Main!$F$47,FALSE)","v":"Minimum HSPF:: 9.6"},{"$f":"VLOOKUP(C717,Main!$A$49:$I$67,Main!$G$47,FALSE)","v":18},{"$f":"VLOOKUP(C717,Main!$A$49:$I$67,Main!$H$47,FALSE)","v":3.1},{"$f":"VLOOKUP(C717,Main!$A$49:$I$67,Main!$I$47,FALSE)","v":16.100000000000001},5631]
["NV","NELLIS AFB","3B",2072,1901,41.2,100,0.1193,"36.250N",31.7,47.7,52,59.7,66.7,76.599999999999994,86,92,90.4,82.6,68.900000000000006,55.4,46.3,109,40,5,0,0,0,0,0,0,0,22,142,38,96,306,502,824,1079,1302,1253,977,586,185,28,31.8,27.32,34,25.88,31.8,35.42,42.08,39.92,36.5,33.6,33.6,28.4,0.63133640552995396,0.27101481646936193,56,26,15,20,{"$f":"IF(OR(C718=\"OA\",C718=\"OB\",C718=\"1B\",C718=\"1A\",C718=\"2A\",C718=\"2B\",C718=\"3A\",C718=\"3B\",C718=\"3C\"),TAN((LEFT(I718, 5)+VLOOKUP(C718,Main!$K$3:$L$21,2,FALSE))*PI()/180),IF(Checklist!$I$385=\"No\",TAN((LEFT(I718, 5)+VLOOKUP(C718,Main!$K$3:$L$21,2,FALSE))*PI()/180),\"NR\"))","v":0.7332303362618271},{"$f":"VLOOKUP(C718,Main!$A$49:$I$67,Main!$B$47,FALSE)","v":"NR"},{"$f":"VLOOKUP(C718,Main!$A$49:$I$67,Main!$C$47,FALSE)","v":0.25},{"$f":"VLOOKUP(C718,Main!$A$49:$I$67,Main!$E$47,FALSE)&\":\"&\" \"&VLOOKUP(C718,Main!$A$49:$I$67,Main!$F$47,FALSE)","v":"Minimum HSPF:: 9.6"},{"$f":"VLOOKUP(C718,Main!$A$49:$I$67,Main!$G$47,FALSE)","v":18},{"$f":"VLOOKUP(C718,Main!$A$49:$I$67,Main!$H$47,FALSE)","v":3.1},{"$f":"VLOOKUP(C718,Main!$A$49:$I$67,Main!$I$47,FALSE)","v":16.100000000000001},7176]
["NV","RENO TAHOE INTERNATIONAL AP","4B",4961,1833,15.4,78.3,0.1193,"39.484N",18,35.5,39.200000000000003,45.6,50.4,59.1,67.400000000000006,75.900000000000006,73.5,65.900000000000006,54.3,42.8,34.799999999999997,450,304,165,86,15,1,0,0,1,41,231,473,1,2,29,99,297,525,802,729,478,174,15,2,20.7,22.1,26.6,28.22,30.6,37.58,40.64,35.6,36.299999999999997,22.3,22.3,19.899999999999999,0.75903614457831325,0.19675675675675675,65,35,18,23,{"$f":"IF(OR(C719=\"OA\",C719=\"OB\",C719=\"1B\",C719=\"1A\",C719=\"2A\",C719=\"2B\",C719=\"3A\",C719=\"3B\",C719=\"3C\"),TAN((LEFT(I719, 5)+VLOOKUP(C719,Main!$K$3:$L$21,2,FALSE))*PI()/180),IF(Checklist!$I$385=\"No\",TAN((LEFT(I719, 5)+VLOOKUP(C719,Main!$K$3:$L$21,2,FALSE))*PI()/180),\"NR\"))","v":"NR"},{"$f":"VLOOKUP(C719,Main!$A$49:$I$67,Main!$B$47,FALSE)","v":"NR"},{"$f":"VLOOKUP(C719,Main!$A$49:$I$67,Main!$C$47,FALSE)","v":0.25},{"$f":"VLOOKUP(C719,Main!$A$49:$I$67,Main!$E$47,FALSE)&\":\"&\" \"&VLOOKUP(C719,Main!$A$49:$I$67,Main!$F$47,FALSE)","v":"Minimum HSPF:: 9.6"},{"$f":"VLOOKUP(C719,Main!$A$49:$I$67,Main!$G$47,FALSE)","v":18},{"$f":"VLOOKUP(C719,Main!$A$49:$I$67,Main!$H$47,FALSE)","v":3.1},{"$f":"VLOOKUP(C719,Main!$A$49:$I$67,Main!$I$47,FALSE)","v":16.100000000000001},3153]
["NV","TONOPAH AIRPORT","4B",5348,1917,33.65,80.400000000000006,0.1193,"38.051N",14.7,33.4,36.799999999999997,43.6,49.4,58.8,68.3,75.2,73,65.400000000000006,53.3,40.9,32,513,369,217,104,20,2,0,0,1,51,284,559,0,0,18,85,293,552,781,714,462,154,10,0,20.100000000000001,19.579999999999998,21.7,20.84,25.3,28.4,31.82,35.6,30.4,21.9,21.9,19.899999999999999,0.77777777777777779,0.18457481872116016,66,36,18,23,{"$f":"IF(OR(C720=\"OA\",C720=\"OB\",C720=\"1B\",C720=\"1A\",C720=\"2A\",C720=\"2B\",C720=\"3A\",C720=\"3B\",C720=\"3C\"),TAN((LEFT(I720, 5)+VLOOKUP(C720,Main!$K$3:$L$21,2,FALSE))*PI()/180),IF(Checklist!$I$385=\"No\",TAN((LEFT(I720, 5)+VLOOKUP(C720,Main!$K$3:$L$21,2,FALSE))*PI()/180),\"NR\"))","v":"NR"},{"$f":"VLOOKUP(C720,Main!$A$49:$I$67,Main!$B$47,FALSE)","v":"NR"},{"$f":"VLOOKUP(C720,Main!$A$49:$I$67,Main!$C$47,FALSE)","v":0.25},{"$f":"VLOOKUP(C720,Main!$A$49:$I$67,Main!$E$47,FALSE)&\":\"&\" \"&VLOOKUP(C720,Main!$A$49:$I$67,Main!$F$47,FALSE)","v":"Minimum HSPF:: 9.6"},{"$f":"VLOOKUP(C720,Main!$A$49:$I$67,Main!$G$47,FALSE)","v":18},{"$f":"VLOOKUP(C720,Main!$A$49:$I$67,Main!$H$47,FALSE)","v":3.1},{"$f":"VLOOKUP(C720,Main!$A$49:$I$67,Main!$I$47,FALSE)","v":16.100000000000001},3069]
["NV","WINNEMUCCA MUNICIPAL ARPT","5B",6213,1776,23.55,81.5,0.1193,"40.902N",7.7,30.6,35.299999999999997,41.6,46.4,55.1,64.099999999999994,73.5,70.3,61.6,48.6,37.4,29.2,603,411,271,154,41,4,0,0,7,114,381,644,1,1,10,47,200,427,729,631,353,72,4,0,18.3,22.82,21.4,23.72,34.5,31.64,39.200000000000003,37.22,28.6,23.4,23.4,19,0.79381443298969079,0.16314822284971536,69,39,20,25,{"$f":"IF(OR(C721=\"OA\",C721=\"OB\",C721=\"1B\",C721=\"1A\",C721=\"2A\",C721=\"2B\",C721=\"3A\",C721=\"3B\",C721=\"3C\"),TAN((LEFT(I721, 5)+VLOOKUP(C721,Main!$K$3:$L$21,2,FALSE))*PI()/180),IF(Checklist!$I$385=\"No\",TAN((LEFT(I721, 5)+VLOOKUP(C721,Main!$K$3:$L$21,2,FALSE))*PI()/180),\"NR\"))","v":"NR"},{"$f":"VLOOKUP(C721,Main!$A$49:$I$67,Main!$B$47,FALSE)","v":"NR"},{"$f":"VLOOKUP(C721,Main!$A$49:$I$67,Main!$C$47,FALSE)","v":"NR"},{"$f":"VLOOKUP(C721,Main!$A$49:$I$67,Main!$E$47,FALSE)&\":\"&\" \"&VLOOKUP(C721,Main!$A$49:$I$67,Main!$F$47,FALSE)","v":"Minimum COP @ 5°F:: 1.75"},{"$f":"VLOOKUP(C721,Main!$A$49:$I$67,Main!$G$47,FALSE)","v":15},{"$f":"VLOOKUP(C721,Main!$A$49:$I$67,Main!$H$47,FALSE)","v":3.1},{"$f":"VLOOKUP(C721,Main!$A$49:$I$67,Main!$I$47,FALSE)","v":16.100000000000001},2475]
["NY","ADIRONDACK RGNL",7,9147,1273,14.7,71.099999999999994,0.17219999999999999,"44.385N",-11.5,13.9,15.7,25,39,50.8,59.7,63.6,62,55,43.7,33.1,20.8,1119,961,778,350,91,6,0,1,37,233,511,904,0,0,1,19,117,297,422,372,186,38,3,0,12.7,12.92,22.5,25.88,41.2,53.06,54.68,56.48,47.5,25.7,25.7,14.5,0.85212569316081332,0.12374638789733129,85,53,31,36,{"$f":"IF(OR(C722=\"OA\",C722=\"OB\",C722=\"1B\",C722=\"1A\",C722=\"2A\",C722=\"2B\",C722=\"3A\",C722=\"3B\",C722=\"3C\"),TAN((LEFT(I722, 5)+VLOOKUP(C722,Main!$K$3:$L$21,2,FALSE))*PI()/180),IF(Checklist!$I$385=\"No\",TAN((LEFT(I722, 5)+VLOOKUP(C722,Main!$K$3:$L$21,2,FALSE))*PI()/180),\"NR\"))","v":"NR"},{"$f":"VLOOKUP(C722,Main!$A$49:$I$67,Main!$B$47,FALSE)","v":"NR"},{"$f":"VLOOKUP(C722,Main!$A$49:$I$67,Main!$C$47,FALSE)","v":"NR"},{"$f":"VLOOKUP(C722,Main!$A$49:$I$67,Main!$E$47,FALSE)&\":\"&\" \"&VLOOKUP(C722,Main!$A$49:$I$67,Main!$F$47,FALSE)","v":"Minimum COP @ 5°F:: 1.75"},{"$f":"VLOOKUP(C722,Main!$A$49:$I$67,Main!$G$47,FALSE)","v":15},{"$f":"VLOOKUP(C722,Main!$A$49:$I$67,Main!$H$47,FALSE)","v":3.1},{"$f":"VLOOKUP(C722,Main!$A$49:$I$67,Main!$I$47,FALSE)","v":16.100000000000001},1455]
["NY","ALBANY COUNTY AP","5A",6473,1408,16.5,76.599999999999994,0.17219999999999999,"42.743N",4.7,24.1,26.4,35.4,47.9,58.7,67.900000000000006,72.3,70.599999999999994,62.6,50.9,40.299999999999997,29.9,805,662,466,140,10,0,0,0,3,87,312,624,1,0,12,76,280,537,690,639,379,114,20,2,12.6,15.8,23.5,32.72,45.9,54.14,60.44,59.36,52.3,31.8,31.8,19.600000000000001,0.8177676537585421,0.1554160795866957,75,43,23,28,{"$f":"IF(OR(C723=\"OA\",C723=\"OB\",C723=\"1B\",C723=\"1A\",C723=\"2A\",C723=\"2B\",C723=\"3A\",C723=\"3B\",C723=\"3C\"),TAN((LEFT(I723, 5)+VLOOKUP(C723,Main!$K$3:$L$21,2,FALSE))*PI()/180),IF(Checklist!$I$385=\"No\",TAN((LEFT(I723, 5)+VLOOKUP(C723,Main!$K$3:$L$21,2,FALSE))*PI()/180),\"NR\"))","v":"NR"},{"$f":"VLOOKUP(C723,Main!$A$49:$I$67,Main!$B$47,FALSE)","v":"NR"},{"$f":"VLOOKUP(C723,Main!$A$49:$I$67,Main!$C$47,FALSE)","v":"NR"},{"$f":"VLOOKUP(C723,Main!$A$49:$I$67,Main!$E$47,FALSE)&\":\"&\" \"&VLOOKUP(C723,Main!$A$49:$I$67,Main!$F$47,FALSE)","v":"Minimum COP @ 5°F:: 1.75"},{"$f":"VLOOKUP(C723,Main!$A$49:$I$67,Main!$G$47,FALSE)","v":15},{"$f":"VLOOKUP(C723,Main!$A$49:$I$67,Main!$H$47,FALSE)","v":3.1},{"$f":"VLOOKUP(C723,Main!$A$49:$I$67,Main!$I$47,FALSE)","v":16.100000000000001},2750]
["NY","BINGHAMTON EDWIN A LINK FIELD","5A",7033,1339,14,75.900000000000006,0.17219999999999999,"42.207N",4.5,23.3,25,33.1,45.3,56.3,65,68.900000000000006,67.5,59.9,49.2,38.6,28.5,829,701,538,202,29,1,0,0,9,121,360,670,1,0,15,62,225,450,587,543,305,97,17,2,14.9,13.28,24.1,31.82,45.3,56.3,57.56,55.94,49.6,31.5,31.5,20.3,0.82102908277404918,0.1549265801234305,76,45,25,30,{"$f":"IF(OR(C724=\"OA\",C724=\"OB\",C724=\"1B\",C724=\"1A\",C724=\"2A\",C724=\"2B\",C724=\"3A\",C724=\"3B\",C724=\"3C\"),TAN((LEFT(I724, 5)+VLOOKUP(C724,Main!$K$3:$L$21,2,FALSE))*PI()/180),IF(Checklist!$I$385=\"No\",TAN((LEFT(I724, 5)+VLOOKUP(C724,Main!$K$3:$L$21,2,FALSE))*PI()/180),\"NR\"))","v":"NR"},{"$f":"VLOOKUP(C724,Main!$A$49:$I$67,Main!$B$47,FALSE)","v":"NR"},{"$f":"VLOOKUP(C724,Main!$A$49:$I$67,Main!$C$47,FALSE)","v":"NR"},{"$f":"VLOOKUP(C724,Main!$A$49:$I$67,Main!$E$47,FALSE)&\":\"&\" \"&VLOOKUP(C724,Main!$A$49:$I$67,Main!$F$47,FALSE)","v":"Minimum COP @ 5°F:: 1.75"},{"$f":"VLOOKUP(C724,Main!$A$49:$I$67,Main!$G$47,FALSE)","v":15},{"$f":"VLOOKUP(C724,Main!$A$49:$I$67,Main!$H$47,FALSE)","v":3.1},{"$f":"VLOOKUP(C724,Main!$A$49:$I$67,Main!$I$47,FALSE)","v":16.100000000000001},2304]
["NY","BUFFALO NIAGARA INTL AP","5A",6460,1359,19.5,77,0.17219999999999999,"42.941N",7.4,25.8,26.4,34.299999999999997,46.1,57.5,67,71.2,70.099999999999994,62.8,51.7,41.1,31.2,752,661,502,182,21,0,0,0,3,78,293,585,2,1,15,65,254,510,658,622,388,130,26,2,16.3,17.420000000000002,27,35.42,42.4,52.7,60.98,56.66,52.2,33.4,33.4,22.5,0.81042654028436023,0.16234055838016231,74,43,23,28,{"$f":"IF(OR(C725=\"OA\",C725=\"OB\",C725=\"1B\",C725=\"1A\",C725=\"2A\",C725=\"2B\",C725=\"3A\",C725=\"3B\",C725=\"3C\"),TAN((LEFT(I725, 5)+VLOOKUP(C725,Main!$K$3:$L$21,2,FALSE))*PI()/180),IF(Checklist!$I$385=\"No\",TAN((LEFT(I725, 5)+VLOOKUP(C725,Main!$K$3:$L$21,2,FALSE))*PI()/180),\"NR\"))","v":"NR"},{"$f":"VLOOKUP(C725,Main!$A$49:$I$67,Main!$B$47,FALSE)","v":"NR"},{"$f":"VLOOKUP(C725,Main!$A$49:$I$67,Main!$C$47,FALSE)","v":"NR"},{"$f":"VLOOKUP(C725,Main!$A$49:$I$67,Main!$E$47,FALSE)&\":\"&\" \"&VLOOKUP(C725,Main!$A$49:$I$67,Main!$F$47,FALSE)","v":"Minimum COP @ 5°F:: 1.75"},{"$f":"VLOOKUP(C725,Main!$A$49:$I$67,Main!$G$47,FALSE)","v":15},{"$f":"VLOOKUP(C725,Main!$A$49:$I$67,Main!$H$47,FALSE)","v":3.1},{"$f":"VLOOKUP(C725,Main!$A$49:$I$67,Main!$I$47,FALSE)","v":16.100000000000001},2673]
["NY","ELMIRA CORNING REGIONAL AP","5A",6726,1202,20.75,71.400000000000006,0.17219999999999999,"42.159N",4.8,24.8,26.4,34.4,46.2,56.9,66,69.900000000000006,68.5,60.9,49.7,39.1,30,781,660,495,174,22,0,0,0,6,109,343,621,1,0,13,61,237,481,617,574,333,99,14,1,19.8,20.48,27.5,36.86,39.6,58.28,60.98,60.26,53.6,31.3,31.3,22.6,0.81481481481481488,0.15566199110502907,75,44,24,29,{"$f":"IF(OR(C726=\"OA\",C726=\"OB\",C726=\"1B\",C726=\"1A\",C726=\"2A\",C726=\"2B\",C726=\"3A\",C726=\"3B\",C726=\"3C\"),TAN((LEFT(I726, 5)+VLOOKUP(C726,Main!$K$3:$L$21,2,FALSE))*PI()/180),IF(Checklist!$I$385=\"No\",TAN((LEFT(I726, 5)+VLOOKUP(C726,Main!$K$3:$L$21,2,FALSE))*PI()/180),\"NR\"))","v":"NR"},{"$f":"VLOOKUP(C726,Main!$A$49:$I$67,Main!$B$47,FALSE)","v":"NR"},{"$f":"VLOOKUP(C726,Main!$A$49:$I$67,Main!$C$47,FALSE)","v":"NR"},{"$f":"VLOOKUP(C726,Main!$A$49:$I$67,Main!$E$47,FALSE)&\":\"&\" \"&VLOOKUP(C726,Main!$A$49:$I$67,Main!$F$47,FALSE)","v":"Minimum COP @ 5°F:: 1.75"},{"$f":"VLOOKUP(C726,Main!$A$49:$I$67,Main!$G$47,FALSE)","v":15},{"$f":"VLOOKUP(C726,Main!$A$49:$I$67,Main!$H$47,FALSE)","v":3.1},{"$f":"VLOOKUP(C726,Main!$A$49:$I$67,Main!$I$47,FALSE)","v":16.100000000000001},2431]
["NY","FORT DRUM/WHEELER-S","6A",7571,1120,12.3,77.7,0.17219999999999999,"44.050N",-4.4000000000000004,19,20.8,30.3,43.8,55.9,65.099999999999994,69.099999999999994,67.8,60.1,48.6,37,25.8,962,817,617,236,33,0,0,0,12,136,405,753,1,0,8,52,215,452,593,551,314,92,14,1,22.1,18.68,28.6,29.66,38.299999999999997,54.14,59.54,55.4,50.5,31.3,31.3,27.5,0.83673469387755106,0.13588173809168283,80,47,26,31,{"$f":"IF(OR(C727=\"OA\",C727=\"OB\",C727=\"1B\",C727=\"1A\",C727=\"2A\",C727=\"2B\",C727=\"3A\",C727=\"3B\",C727=\"3C\"),TAN((LEFT(I727, 5)+VLOOKUP(C727,Main!$K$3:$L$21,2,FALSE))*PI()/180),IF(Checklist!$I$385=\"No\",TAN((LEFT(I727, 5)+VLOOKUP(C727,Main!$K$3:$L$21,2,FALSE))*PI()/180),\"NR\"))","v":"NR"},{"$f":"VLOOKUP(C727,Main!$A$49:$I$67,Main!$B$47,FALSE)","v":"NR"},{"$f":"VLOOKUP(C727,Main!$A$49:$I$67,Main!$C$47,FALSE)","v":"NR"},{"$f":"VLOOKUP(C727,Main!$A$49:$I$67,Main!$E$47,FALSE)&\":\"&\" \"&VLOOKUP(C727,Main!$A$49:$I$67,Main!$F$47,FALSE)","v":"Minimum COP @ 5°F:: 1.75"},{"$f":"VLOOKUP(C727,Main!$A$49:$I$67,Main!$G$47,FALSE)","v":15},{"$f":"VLOOKUP(C727,Main!$A$49:$I$67,Main!$H$47,FALSE)","v":3.1},{"$f":"VLOOKUP(C727,Main!$A$49:$I$67,Main!$I$47,FALSE)","v":16.100000000000001},2293]
["NY","GLENS FALLS AP","6A",7262,1189,2.2000000000000002,73.900000000000006,0.17219999999999999,"43.350N",-1.8,20.3,22.7,32.299999999999997,45.5,56.7,65.599999999999994,69.8,68.099999999999994,59.8,48.3,37.799999999999997,27,922,764,555,183,20,0,0,0,8,129,377,713,1,0,6,49,226,467,613,560,300,75,10,1,10,4.46,26.8,36.5,41.4,57.56,64.040000000000006,60.98,55.4,33.6,33.6,23,0.83228511530398319,0.14094323549910942,78,46,26,31,{"$f":"IF(OR(C728=\"OA\",C728=\"OB\",C728=\"1B\",C728=\"1A\",C728=\"2A\",C728=\"2B\",C728=\"3A\",C728=\"3B\",C728=\"3C\"),TAN((LEFT(I728, 5)+VLOOKUP(C728,Main!$K$3:$L$21,2,FALSE))*PI()/180),IF(Checklist!$I$385=\"No\",TAN((LEFT(I728, 5)+VLOOKUP(C728,Main!$K$3:$L$21,2,FALSE))*PI()/180),\"NR\"))","v":"NR"},{"$f":"VLOOKUP(C728,Main!$A$49:$I$67,Main!$B$47,FALSE)","v":"NR"},{"$f":"VLOOKUP(C728,Main!$A$49:$I$67,Main!$C$47,FALSE)","v":"NR"},{"$f":"VLOOKUP(C728,Main!$A$49:$I$67,Main!$E$47,FALSE)&\":\"&\" \"&VLOOKUP(C728,Main!$A$49:$I$67,Main!$F$47,FALSE)","v":"Minimum COP @ 5°F:: 1.75"},{"$f":"VLOOKUP(C728,Main!$A$49:$I$67,Main!$G$47,FALSE)","v":15},{"$f":"VLOOKUP(C728,Main!$A$49:$I$67,Main!$H$47,FALSE)","v":3.1},{"$f":"VLOOKUP(C728,Main!$A$49:$I$67,Main!$I$47,FALSE)","v":16.100000000000001},2308]
["NY","ISLIP LONG ISL MACARTHUR AP","4A",5199,1410,19.649999999999999,77.900000000000006,0.17219999999999999,"40.794N",15.9,32.1,33.200000000000003,39.9,49.7,59.2,68.900000000000006,74.599999999999994,73.3,66.3,55.5,45.6,37,558,470,328,86,4,0,0,0,0,27,177,409,2,1,13,78,290,566,763,722,490,198,45,7,18.7,25.52,30.4,39.74,49.1,60.26,68.36,64.94,58.1,37.9,37.9,27.3,0.77715877437325909,0.18882606214659955,69,39,20,25,{"$f":"IF(OR(C729=\"OA\",C729=\"OB\",C729=\"1B\",C729=\"1A\",C729=\"2A\",C729=\"2B\",C729=\"3A\",C729=\"3B\",C729=\"3C\"),TAN((LEFT(I729, 5)+VLOOKUP(C729,Main!$K$3:$L$21,2,FALSE))*PI()/180),IF(Checklist!$I$385=\"No\",TAN((LEFT(I729, 5)+VLOOKUP(C729,Main!$K$3:$L$21,2,FALSE))*PI()/180),\"NR\"))","v":"NR"},{"$f":"VLOOKUP(C729,Main!$A$49:$I$67,Main!$B$47,FALSE)","v":0.5},{"$f":"VLOOKUP(C729,Main!$A$49:$I$67,Main!$C$47,FALSE)","v":0.25},{"$f":"VLOOKUP(C729,Main!$A$49:$I$67,Main!$E$47,FALSE)&\":\"&\" \"&VLOOKUP(C729,Main!$A$49:$I$67,Main!$F$47,FALSE)","v":"Minimum HSPF:: 9.6"},{"$f":"VLOOKUP(C729,Main!$A$49:$I$67,Main!$G$47,FALSE)","v":18},{"$f":"VLOOKUP(C729,Main!$A$49:$I$67,Main!$H$47,FALSE)","v":3.1},{"$f":"VLOOKUP(C729,Main!$A$49:$I$67,Main!$I$47,FALSE)","v":16.100000000000001},3175]
["NY","JAMESTOWN (AWOS)","5A",7185,1240,11.1,74.099999999999994,0.17219999999999999,"42.150N",4.8,23,24.7,32.6,44.9,55.5,63.9,67.5,65.900000000000006,59.3,49,37.799999999999997,28.4,838,709,555,211,39,1,0,0,8,122,380,672,1,1,15,59,211,418,543,493,286,90,13,2,25.7,14,27,29.3,39.4,53.6,57.2,55.04,45.1,28.9,28.9,26.2,0.82222222222222219,0.15566199110502907,77,46,25,30,{"$f":"IF(OR(C730=\"OA\",C730=\"OB\",C730=\"1B\",C730=\"1A\",C730=\"2A\",C730=\"2B\",C730=\"3A\",C730=\"3B\",C730=\"3C\"),TAN((LEFT(I730, 5)+VLOOKUP(C730,Main!$K$3:$L$21,2,FALSE))*PI()/180),IF(Checklist!$I$385=\"No\",TAN((LEFT(I730, 5)+VLOOKUP(C730,Main!$K$3:$L$21,2,FALSE))*PI()/180),\"NR\"))","v":"NR"},{"$f":"VLOOKUP(C730,Main!$A$49:$I$67,Main!$B$47,FALSE)","v":"NR"},{"$f":"VLOOKUP(C730,Main!$A$49:$I$67,Main!$C$47,FALSE)","v":"NR"},{"$f":"VLOOKUP(C730,Main!$A$49:$I$67,Main!$E$47,FALSE)&\":\"&\" \"&VLOOKUP(C730,Main!$A$49:$I$67,Main!$F$47,FALSE)","v":"Minimum COP @ 5°F:: 1.75"},{"$f":"VLOOKUP(C730,Main!$A$49:$I$67,Main!$G$47,FALSE)","v":15},{"$f":"VLOOKUP(C730,Main!$A$49:$I$67,Main!$H$47,FALSE)","v":3.1},{"$f":"VLOOKUP(C730,Main!$A$49:$I$67,Main!$I$47,FALSE)","v":16.100000000000001},2132]
["NY","MASSENA AP","6A",7838,1349,5.7,74.7,0.17219999999999999,"44.936N",-7.8,16.2,18.5,29.1,43.9,56.2,65.400000000000006,69.7,67.8,59.6,48,36.5,23.9,1047,883,654,228,25,0,0,0,11,143,413,809,0,0,5,44,217,463,609,552,298,80,9,0,10.199999999999999,10.58,18.899999999999999,30.2,41.9,56.3,60.26,59.18,49.5,27.9,27.9,17.8,0.84555984555984554,0.12978677886329601,81,48,27,32,{"$f":"IF(OR(C731=\"OA\",C731=\"OB\",C731=\"1B\",C731=\"1A\",C731=\"2A\",C731=\"2B\",C731=\"3A\",C731=\"3B\",C731=\"3C\"),TAN((LEFT(I731, 5)+VLOOKUP(C731,Main!$K$3:$L$21,2,FALSE))*PI()/180),IF(Checklist!$I$385=\"No\",TAN((LEFT(I731, 5)+VLOOKUP(C731,Main!$K$3:$L$21,2,FALSE))*PI()/180),\"NR\"))","v":"NR"},{"$f":"VLOOKUP(C731,Main!$A$49:$I$67,Main!$B$47,FALSE)","v":"NR"},{"$f":"VLOOKUP(C731,Main!$A$49:$I$67,Main!$C$47,FALSE)","v":"NR"},{"$f":"VLOOKUP(C731,Main!$A$49:$I$67,Main!$E$47,FALSE)&\":\"&\" \"&VLOOKUP(C731,Main!$A$49:$I$67,Main!$F$47,FALSE)","v":"Minimum COP @ 5°F:: 1.75"},{"$f":"VLOOKUP(C731,Main!$A$49:$I$67,Main!$G$47,FALSE)","v":15},{"$f":"VLOOKUP(C731,Main!$A$49:$I$67,Main!$H$47,FALSE)","v":3.1},{"$f":"VLOOKUP(C731,Main!$A$49:$I$67,Main!$I$47,FALSE)","v":16.100000000000001},2277]
["NY","MONTICELLO(AWOS)","5A",7084,1323,19.649999999999999,71.400000000000006,0.17219999999999999,"41.701N",4.7,22.9,25,34.1,45.7,55.9,64.5,68.599999999999994,67.3,59.3,48.6,37.700000000000003,28.1,842,700,503,184,23,1,0,0,8,126,378,681,1,0,9,54,206,436,576,538,287,83,10,1,19.2,15.08,18.100000000000001,37.04,42.1,54.14,59.9,57.56,53.2,29.3,29.3,16.7,0.82261640798226165,0.1554160795866957,76,45,25,30,{"$f":"IF(OR(C732=\"OA\",C732=\"OB\",C732=\"1B\",C732=\"1A\",C732=\"2A\",C732=\"2B\",C732=\"3A\",C732=\"3B\",C732=\"3C\"),TAN((LEFT(I732, 5)+VLOOKUP(C732,Main!$K$3:$L$21,2,FALSE))*PI()/180),IF(Checklist!$I$385=\"No\",TAN((LEFT(I732, 5)+VLOOKUP(C732,Main!$K$3:$L$21,2,FALSE))*PI()/180),\"NR\"))","v":"NR"},{"$f":"VLOOKUP(C732,Main!$A$49:$I$67,Main!$B$47,FALSE)","v":"NR"},{"$f":"VLOOKUP(C732,Main!$A$49:$I$67,Main!$C$47,FALSE)","v":"NR"},{"$f":"VLOOKUP(C732,Main!$A$49:$I$67,Main!$E$47,FALSE)&\":\"&\" \"&VLOOKUP(C732,Main!$A$49:$I$67,Main!$F$47,FALSE)","v":"Minimum COP @ 5°F:: 1.75"},{"$f":"VLOOKUP(C732,Main!$A$49:$I$67,Main!$G$47,FALSE)","v":15},{"$f":"VLOOKUP(C732,Main!$A$49:$I$67,Main!$H$47,FALSE)","v":3.1},{"$f":"VLOOKUP(C732,Main!$A$49:$I$67,Main!$I$47,FALSE)","v":16.100000000000001},2201]
["NY","NEW YORK CENTRAL PRK OBS BELV","4A",4657,1474,31,81.5,0.17219999999999999,"40.779N",17.5,33.5,35.6,42.7,53.4,62.3,71.3,76.5,75.099999999999994,68.400000000000006,57.3,47.5,38.5,519,408,262,51,1,0,0,0,0,18,141,371,6,4,35,152,382,639,822,777,552,245,64,13,15.8,21.74,28.4,39.380000000000003,52.2,57.92,65.48,62.96,56.7,34.9,34.9,23.4,0.76811594202898548,0.19480867005619482,67,37,19,24,{"$f":"IF(OR(C733=\"OA\",C733=\"OB\",C733=\"1B\",C733=\"1A\",C733=\"2A\",C733=\"2B\",C733=\"3A\",C733=\"3B\",C733=\"3C\"),TAN((LEFT(I733, 5)+VLOOKUP(C733,Main!$K$3:$L$21,2,FALSE))*PI()/180),IF(Checklist!$I$385=\"No\",TAN((LEFT(I733, 5)+VLOOKUP(C733,Main!$K$3:$L$21,2,FALSE))*PI()/180),\"NR\"))","v":"NR"},{"$f":"VLOOKUP(C733,Main!$A$49:$I$67,Main!$B$47,FALSE)","v":0.5},{"$f":"VLOOKUP(C733,Main!$A$49:$I$67,Main!$C$47,FALSE)","v":0.25},{"$f":"VLOOKUP(C733,Main!$A$49:$I$67,Main!$E$47,FALSE)&\":\"&\" \"&VLOOKUP(C733,Main!$A$49:$I$67,Main!$F$47,FALSE)","v":"Minimum HSPF:: 9.6"},{"$f":"VLOOKUP(C733,Main!$A$49:$I$67,Main!$G$47,FALSE)","v":18},{"$f":"VLOOKUP(C733,Main!$A$49:$I$67,Main!$H$47,FALSE)","v":3.1},{"$f":"VLOOKUP(C733,Main!$A$49:$I$67,Main!$I$47,FALSE)","v":16.100000000000001},3691]
["NY","NEW YORK J F KENNEDY INT AR","4A",4777,1412,29.75,79,0.17219999999999999,"40.639N",18,33.4,34.9,41.6,51.2,60.6,70.3,76.099999999999994,74.900000000000006,68.400000000000006,57.6,47.4,38.5,515,425,278,60,1,0,0,0,0,14,134,363,2,2,17,97,331,609,809,773,551,249,55,8,24.3,18.68,32.5,40.46,48.4,60.44,68.540000000000006,62.78,55.8,35.799999999999997,35.799999999999997,27,0.76878612716763006,0.19675675675675675,68,37,19,24,{"$f":"IF(OR(C734=\"OA\",C734=\"OB\",C734=\"1B\",C734=\"1A\",C734=\"2A\",C734=\"2B\",C734=\"3A\",C734=\"3B\",C734=\"3C\"),TAN((LEFT(I734, 5)+VLOOKUP(C734,Main!$K$3:$L$21,2,FALSE))*PI()/180),IF(Checklist!$I$385=\"No\",TAN((LEFT(I734, 5)+VLOOKUP(C734,Main!$K$3:$L$21,2,FALSE))*PI()/180),\"NR\"))","v":"NR"},{"$f":"VLOOKUP(C734,Main!$A$49:$I$67,Main!$B$47,FALSE)","v":0.5},{"$f":"VLOOKUP(C734,Main!$A$49:$I$67,Main!$C$47,FALSE)","v":0.25},{"$f":"VLOOKUP(C734,Main!$A$49:$I$67,Main!$E$47,FALSE)&\":\"&\" \"&VLOOKUP(C734,Main!$A$49:$I$67,Main!$F$47,FALSE)","v":"Minimum HSPF:: 9.6"},{"$f":"VLOOKUP(C734,Main!$A$49:$I$67,Main!$G$47,FALSE)","v":18},{"$f":"VLOOKUP(C734,Main!$A$49:$I$67,Main!$H$47,FALSE)","v":3.1},{"$f":"VLOOKUP(C734,Main!$A$49:$I$67,Main!$I$47,FALSE)","v":16.100000000000001},3503]
["NY","NEW YORK LAGUARDIA ARPT","4A",4493,1438,28.25,81.900000000000006,0.17219999999999999,"40.779N",18.399999999999999,34.200000000000003,35.9,42.6,53.2,62.8,72.7,78.099999999999994,76.8,69.8,59,48.6,39.5,493,400,258,47,0,0,0,0,0,10,117,340,5,5,28,143,398,680,872,830,594,290,75,14,22.1,17.420000000000002,30.6,38.479999999999997,45.5,57.56,67.819999999999993,64.040000000000006,56.3,36.1,36.1,25.9,0.76331360946745563,0.19834350479511767,67,36,18,23,{"$f":"IF(OR(C735=\"OA\",C735=\"OB\",C735=\"1B\",C735=\"1A\",C735=\"2A\",C735=\"2B\",C735=\"3A\",C735=\"3B\",C735=\"3C\"),TAN((LEFT(I735, 5)+VLOOKUP(C735,Main!$K$3:$L$21,2,FALSE))*PI()/180),IF(Checklist!$I$385=\"No\",TAN((LEFT(I735, 5)+VLOOKUP(C735,Main!$K$3:$L$21,2,FALSE))*PI()/180),\"NR\"))","v":"NR"},{"$f":"VLOOKUP(C735,Main!$A$49:$I$67,Main!$B$47,FALSE)","v":0.5},{"$f":"VLOOKUP(C735,Main!$A$49:$I$67,Main!$C$47,FALSE)","v":0.25},{"$f":"VLOOKUP(C735,Main!$A$49:$I$67,Main!$E$47,FALSE)&\":\"&\" \"&VLOOKUP(C735,Main!$A$49:$I$67,Main!$F$47,FALSE)","v":"Minimum HSPF:: 9.6"},{"$f":"VLOOKUP(C735,Main!$A$49:$I$67,Main!$G$47,FALSE)","v":18},{"$f":"VLOOKUP(C735,Main!$A$49:$I$67,Main!$H$47,FALSE)","v":3.1},{"$f":"VLOOKUP(C735,Main!$A$49:$I$67,Main!$I$47,FALSE)","v":16.100000000000001},3934]
["NY","NIAGARA FALLS AF","5A",6595,1193,11.6,79.3,0.17219999999999999,"43.108N",6.9,25,25.8,33.700000000000003,45.8,57.1,67.2,71.5,70,62.3,51.2,40.299999999999997,30.8,777,677,515,184,23,0,0,0,3,82,310,597,1,0,11,59,242,515,667,621,373,120,18,2,25.7,17.96,19.2,39.020000000000003,38.5,59.72,60.08,59.54,55.9,37.799999999999997,37.799999999999997,24.4,0.81395348837209303,0.16101207590569291,75,44,23,28,{"$f":"IF(OR(C736=\"OA\",C736=\"OB\",C736=\"1B\",C736=\"1A\",C736=\"2A\",C736=\"2B\",C736=\"3A\",C736=\"3B\",C736=\"3C\"),TAN((LEFT(I736, 5)+VLOOKUP(C736,Main!$K$3:$L$21,2,FALSE))*PI()/180),IF(Checklist!$I$385=\"No\",TAN((LEFT(I736, 5)+VLOOKUP(C736,Main!$K$3:$L$21,2,FALSE))*PI()/180),\"NR\"))","v":"NR"},{"$f":"VLOOKUP(C736,Main!$A$49:$I$67,Main!$B$47,FALSE)","v":"NR"},{"$f":"VLOOKUP(C736,Main!$A$49:$I$67,Main!$C$47,FALSE)","v":"NR"},{"$f":"VLOOKUP(C736,Main!$A$49:$I$67,Main!$E$47,FALSE)&\":\"&\" \"&VLOOKUP(C736,Main!$A$49:$I$67,Main!$F$47,FALSE)","v":"Minimum COP @ 5°F:: 1.75"},{"$f":"VLOOKUP(C736,Main!$A$49:$I$67,Main!$G$47,FALSE)","v":15},{"$f":"VLOOKUP(C736,Main!$A$49:$I$67,Main!$H$47,FALSE)","v":3.1},{"$f":"VLOOKUP(C736,Main!$A$49:$I$67,Main!$I$47,FALSE)","v":16.100000000000001},2629]
["NY","POUGHKEEPSIE DUTCHESS CO AP","5A",6003,1267,10.4,75.2,0.17219999999999999,"41.627N",8.4,27.2,29.1,37.700000000000003,49.2,59.1,68.3,73.400000000000006,71.599999999999994,63.7,52.1,41.7,32.200000000000003,710,586,398,114,7,0,0,0,1,69,273,556,1,1,16,89,289,549,725,670,411,134,25,3,15.3,19.940000000000001,30,38.659999999999997,49.5,59.54,62.24,62.24,57,37,37,22.1,0.80392156862745101,0.1650643932523127,73,41,22,27,{"$f":"IF(OR(C737=\"OA\",C737=\"OB\",C737=\"1B\",C737=\"1A\",C737=\"2A\",C737=\"2B\",C737=\"3A\",C737=\"3B\",C737=\"3C\"),TAN((LEFT(I737, 5)+VLOOKUP(C737,Main!$K$3:$L$21,2,FALSE))*PI()/180),IF(Checklist!$I$385=\"No\",TAN((LEFT(I737, 5)+VLOOKUP(C737,Main!$K$3:$L$21,2,FALSE))*PI()/180),\"NR\"))","v":"NR"},{"$f":"VLOOKUP(C737,Main!$A$49:$I$67,Main!$B$47,FALSE)","v":"NR"},{"$f":"VLOOKUP(C737,Main!$A$49:$I$67,Main!$C$47,FALSE)","v":"NR"},{"$f":"VLOOKUP(C737,Main!$A$49:$I$67,Main!$E$47,FALSE)&\":\"&\" \"&VLOOKUP(C737,Main!$A$49:$I$67,Main!$F$47,FALSE)","v":"Minimum COP @ 5°F:: 1.75"},{"$f":"VLOOKUP(C737,Main!$A$49:$I$67,Main!$G$47,FALSE)","v":15},{"$f":"VLOOKUP(C737,Main!$A$49:$I$67,Main!$H$47,FALSE)","v":3.1},{"$f":"VLOOKUP(C737,Main!$A$49:$I$67,Main!$I$47,FALSE)","v":16.100000000000001},2913]
["NY","REPUBLIC","4A",5039,1446,31.35,83.1,0.17219999999999999,"40.734N",17,32,34.299999999999997,40.799999999999997,50.5,59.8,69.3,75.2,74,67.2,56.3,46.2,37.4,560,442,301,71,2,0,0,0,0,24,160,396,2,1,17,86,307,580,781,744,515,219,45,6,23.7,17.78,31.6,37.22,45.7,57.92,63.68,66.92,58.1,40.5,40.5,25,0.77777777777777779,0.19289878113407521,68,38,19,24,{"$f":"IF(OR(C738=\"OA\",C738=\"OB\",C738=\"1B\",C738=\"1A\",C738=\"2A\",C738=\"2B\",C738=\"3A\",C738=\"3B\",C738=\"3C\"),TAN((LEFT(I738, 5)+VLOOKUP(C738,Main!$K$3:$L$21,2,FALSE))*PI()/180),IF(Checklist!$I$385=\"No\",TAN((LEFT(I738, 5)+VLOOKUP(C738,Main!$K$3:$L$21,2,FALSE))*PI()/180),\"NR\"))","v":"NR"},{"$f":"VLOOKUP(C738,Main!$A$49:$I$67,Main!$B$47,FALSE)","v":0.5},{"$f":"VLOOKUP(C738,Main!$A$49:$I$67,Main!$C$47,FALSE)","v":0.25},{"$f":"VLOOKUP(C738,Main!$A$49:$I$67,Main!$E$47,FALSE)&\":\"&\" \"&VLOOKUP(C738,Main!$A$49:$I$67,Main!$F$47,FALSE)","v":"Minimum HSPF:: 9.6"},{"$f":"VLOOKUP(C738,Main!$A$49:$I$67,Main!$G$47,FALSE)","v":18},{"$f":"VLOOKUP(C738,Main!$A$49:$I$67,Main!$H$47,FALSE)","v":3.1},{"$f":"VLOOKUP(C738,Main!$A$49:$I$67,Main!$I$47,FALSE)","v":16.100000000000001},3303]
["NY","ROCHESTER GREATER ROCHESTER I","5A",6466,1350,21.95,78.400000000000006,0.17219999999999999,"43.117N",7.1,25.8,26.7,34.700000000000003,46.5,57.6,67,71,69.599999999999994,62.2,51.3,40.9,31.3,753,653,491,176,20,0,0,0,4,85,300,583,3,1,18,72,257,511,652,609,371,125,26,2,18.5,16.16,26.2,36.32,47.3,56.12,62.6,61.52,55.6,33.6,33.6,23.9,0.81042654028436023,0.1615408511960236,74,43,23,28,{"$f":"IF(OR(C739=\"OA\",C739=\"OB\",C739=\"1B\",C739=\"1A\",C739=\"2A\",C739=\"2B\",C739=\"3A\",C739=\"3B\",C739=\"3C\"),TAN((LEFT(I739, 5)+VLOOKUP(C739,Main!$K$3:$L$21,2,FALSE))*PI()/180),IF(Checklist!$I$385=\"No\",TAN((LEFT(I739, 5)+VLOOKUP(C739,Main!$K$3:$L$21,2,FALSE))*PI()/180),\"NR\"))","v":"NR"},{"$f":"VLOOKUP(C739,Main!$A$49:$I$67,Main!$B$47,FALSE)","v":"NR"},{"$f":"VLOOKUP(C739,Main!$A$49:$I$67,Main!$C$47,FALSE)","v":"NR"},{"$f":"VLOOKUP(C739,Main!$A$49:$I$67,Main!$E$47,FALSE)&\":\"&\" \"&VLOOKUP(C739,Main!$A$49:$I$67,Main!$F$47,FALSE)","v":"Minimum COP @ 5°F:: 1.75"},{"$f":"VLOOKUP(C739,Main!$A$49:$I$67,Main!$G$47,FALSE)","v":15},{"$f":"VLOOKUP(C739,Main!$A$49:$I$67,Main!$H$47,FALSE)","v":3.1},{"$f":"VLOOKUP(C739,Main!$A$49:$I$67,Main!$I$47,FALSE)","v":16.100000000000001},2647]
["NY","STEWART FIELD","5A",5940,1327,14.75,81,0.17219999999999999,"41.500N",9.1,27.1,30.1,37.9,49.3,59,68.599999999999994,72.8,71.7,63.5,52.2,42.1,32.6,712,557,391,114,7,0,0,0,1,66,264,543,1,1,16,92,285,559,707,672,405,134,27,4,10.199999999999999,18.32,30.2,30.2,43.2,57.56,62.24,57.02,53.6,33.4,33.4,27,0.80440097799511001,0.16702610930115175,72,41,22,27,{"$f":"IF(OR(C740=\"OA\",C740=\"OB\",C740=\"1B\",C740=\"1A\",C740=\"2A\",C740=\"2B\",C740=\"3A\",C740=\"3B\",C740=\"3C\"),TAN((LEFT(I740, 5)+VLOOKUP(C740,Main!$K$3:$L$21,2,FALSE))*PI()/180),IF(Checklist!$I$385=\"No\",TAN((LEFT(I740, 5)+VLOOKUP(C740,Main!$K$3:$L$21,2,FALSE))*PI()/180),\"NR\"))","v":"NR"},{"$f":"VLOOKUP(C740,Main!$A$49:$I$67,Main!$B$47,FALSE)","v":"NR"},{"$f":"VLOOKUP(C740,Main!$A$49:$I$67,Main!$C$47,FALSE)","v":"NR"},{"$f":"VLOOKUP(C740,Main!$A$49:$I$67,Main!$E$47,FALSE)&\":\"&\" \"&VLOOKUP(C740,Main!$A$49:$I$67,Main!$F$47,FALSE)","v":"Minimum COP @ 5°F:: 1.75"},{"$f":"VLOOKUP(C740,Main!$A$49:$I$67,Main!$G$47,FALSE)","v":15},{"$f":"VLOOKUP(C740,Main!$A$49:$I$67,Main!$H$47,FALSE)","v":3.1},{"$f":"VLOOKUP(C740,Main!$A$49:$I$67,Main!$I$47,FALSE)","v":16.100000000000001},2903]
["NY","SYRACUSE HANCOCK INT ARPT","5A",6495,1366,15.7,74.8,0.17219999999999999,"43.111N",4.9000000000000004,24.8,25.9,34.299999999999997,46.9,58.2,67.400000000000006,71.8,70.400000000000006,62.7,51.5,40.9,30.6,784,675,500,165,16,0,0,0,3,79,296,604,2,0,14,73,271,523,676,633,383,125,23,2,18.100000000000001,17.059999999999999,25.9,37.4,48.4,55.22,60.98,59.54,51.8,32.200000000000003,32.200000000000003,20.5,0.81481481481481488,0.15590868205765193,75,43,23,28,{"$f":"IF(OR(C741=\"OA\",C741=\"OB\",C741=\"1B\",C741=\"1A\",C741=\"2A\",C741=\"2B\",C741=\"3A\",C741=\"3B\",C741=\"3C\"),TAN((LEFT(I741, 5)+VLOOKUP(C741,Main!$K$3:$L$21,2,FALSE))*PI()/180),IF(Checklist!$I$385=\"No\",TAN((LEFT(I741, 5)+VLOOKUP(C741,Main!$K$3:$L$21,2,FALSE))*PI()/180),\"NR\"))","v":"NR"},{"$f":"VLOOKUP(C741,Main!$A$49:$I$67,Main!$B$47,FALSE)","v":"NR"},{"$f":"VLOOKUP(C741,Main!$A$49:$I$67,Main!$C$47,FALSE)","v":"NR"},{"$f":"VLOOKUP(C741,Main!$A$49:$I$67,Main!$E$47,FALSE)&\":\"&\" \"&VLOOKUP(C741,Main!$A$49:$I$67,Main!$F$47,FALSE)","v":"Minimum COP @ 5°F:: 1.75"},{"$f":"VLOOKUP(C741,Main!$A$49:$I$67,Main!$G$47,FALSE)","v":15},{"$f":"VLOOKUP(C741,Main!$A$49:$I$67,Main!$H$47,FALSE)","v":3.1},{"$f":"VLOOKUP(C741,Main!$A$49:$I$67,Main!$I$47,FALSE)","v":16.100000000000001},2725]
["NY","UTICA ONEIDA COUNTY AP","5A",7010,1233,16.8,72.5,0.17219999999999999,"43.145N",1.2,22.6,24.5,32.299999999999997,45.2,56.4,66,69.8,68.8,60.8,49.4,39.200000000000003,28.6,850,715,558,200,25,0,0,0,8,116,344,665,1,0,9,57,224,480,614,582,331,99,19,2,19.899999999999999,20.48,22.8,29.12,51.1,56.48,59.72,59.36,55,32.9,32.9,18.7,0.82378854625550657,0.14727302152451854,77,45,25,30,{"$f":"IF(OR(C742=\"OA\",C742=\"OB\",C742=\"1B\",C742=\"1A\",C742=\"2A\",C742=\"2B\",C742=\"3A\",C742=\"3B\",C742=\"3C\"),TAN((LEFT(I742, 5)+VLOOKUP(C742,Main!$K$3:$L$21,2,FALSE))*PI()/180),IF(Checklist!$I$385=\"No\",TAN((LEFT(I742, 5)+VLOOKUP(C742,Main!$K$3:$L$21,2,FALSE))*PI()/180),\"NR\"))","v":"NR"},{"$f":"VLOOKUP(C742,Main!$A$49:$I$67,Main!$B$47,FALSE)","v":"NR"},{"$f":"VLOOKUP(C742,Main!$A$49:$I$67,Main!$C$47,FALSE)","v":"NR"},{"$f":"VLOOKUP(C742,Main!$A$49:$I$67,Main!$E$47,FALSE)&\":\"&\" \"&VLOOKUP(C742,Main!$A$49:$I$67,Main!$F$47,FALSE)","v":"Minimum COP @ 5°F:: 1.75"},{"$f":"VLOOKUP(C742,Main!$A$49:$I$67,Main!$G$47,FALSE)","v":15},{"$f":"VLOOKUP(C742,Main!$A$49:$I$67,Main!$H$47,FALSE)","v":3.1},{"$f":"VLOOKUP(C742,Main!$A$49:$I$67,Main!$I$47,FALSE)","v":16.100000000000001},2418]
["NY","WATERTOWN AP","6A",7386,1181,17.05,73,0.17219999999999999,"43.992N",-5,20.7,21.5,31,44,55.2,64.400000000000006,69,67.7,60,49.3,38.6,27.6,912,798,598,228,33,0,0,0,11,122,362,696,2,0,8,47,193,431,590,548,312,100,18,2,17.2,16.7,20.3,35.24,42.8,54.14,62.24,59.54,54.1,29.1,29.1,22.5,0.83086680761099363,0.13476490188818957,79,46,26,31,{"$f":"IF(OR(C743=\"OA\",C743=\"OB\",C743=\"1B\",C743=\"1A\",C743=\"2A\",C743=\"2B\",C743=\"3A\",C743=\"3B\",C743=\"3C\"),TAN((LEFT(I743, 5)+VLOOKUP(C743,Main!$K$3:$L$21,2,FALSE))*PI()/180),IF(Checklist!$I$385=\"No\",TAN((LEFT(I743, 5)+VLOOKUP(C743,Main!$K$3:$L$21,2,FALSE))*PI()/180),\"NR\"))","v":"NR"},{"$f":"VLOOKUP(C743,Main!$A$49:$I$67,Main!$B$47,FALSE)","v":"NR"},{"$f":"VLOOKUP(C743,Main!$A$49:$I$67,Main!$C$47,FALSE)","v":"NR"},{"$f":"VLOOKUP(C743,Main!$A$49:$I$67,Main!$E$47,FALSE)&\":\"&\" \"&VLOOKUP(C743,Main!$A$49:$I$67,Main!$F$47,FALSE)","v":"Minimum COP @ 5°F:: 1.75"},{"$f":"VLOOKUP(C743,Main!$A$49:$I$67,Main!$G$47,FALSE)","v":15},{"$f":"VLOOKUP(C743,Main!$A$49:$I$67,Main!$H$47,FALSE)","v":3.1},{"$f":"VLOOKUP(C743,Main!$A$49:$I$67,Main!$I$47,FALSE)","v":16.100000000000001},2251]
["NY","WESTHAMPTON GABRESKI AP","4A",5823,1349,27.5,76.099999999999994,0.17219999999999999,"40.844N",12.2,29.6,31.3,37.6,46.9,56.1,66,72,70.900000000000006,64,53.1,44.1,35.200000000000003,633,524,388,136,18,0,0,0,0,57,214,465,1,0,5,43,206,481,681,649,421,154,36,5,22.3,25.34,32.700000000000003,33.979999999999997,49.5,57.38,60.8,64.040000000000006,59.9,34.9,34.9,26.6,0.79166666666666663,0.17630533759566019,72,41,22,27,{"$f":"IF(OR(C744=\"OA\",C744=\"OB\",C744=\"1B\",C744=\"1A\",C744=\"2A\",C744=\"2B\",C744=\"3A\",C744=\"3B\",C744=\"3C\"),TAN((LEFT(I744, 5)+VLOOKUP(C744,Main!$K$3:$L$21,2,FALSE))*PI()/180),IF(Checklist!$I$385=\"No\",TAN((LEFT(I744, 5)+VLOOKUP(C744,Main!$K$3:$L$21,2,FALSE))*PI()/180),\"NR\"))","v":"NR"},{"$f":"VLOOKUP(C744,Main!$A$49:$I$67,Main!$B$47,FALSE)","v":0.5},{"$f":"VLOOKUP(C744,Main!$A$49:$I$67,Main!$C$47,FALSE)","v":0.25},{"$f":"VLOOKUP(C744,Main!$A$49:$I$67,Main!$E$47,FALSE)&\":\"&\" \"&VLOOKUP(C744,Main!$A$49:$I$67,Main!$F$47,FALSE)","v":"Minimum HSPF:: 9.6"},{"$f":"VLOOKUP(C744,Main!$A$49:$I$67,Main!$G$47,FALSE)","v":18},{"$f":"VLOOKUP(C744,Main!$A$49:$I$67,Main!$H$47,FALSE)","v":3.1},{"$f":"VLOOKUP(C744,Main!$A$49:$I$67,Main!$I$47,FALSE)","v":16.100000000000001},2682]
["NY","WHITE PLAINS WESTCHESTER CO A","5A",5471,1334,23.8,80.099999999999994,0.17219999999999999,"41.067N",13.5,30.1,31.9,39.200000000000003,49.8,59.4,68.7,73.8,72.3,64.900000000000006,54.2,44.4,35.299999999999997,618,508,350,95,5,0,0,0,1,40,204,460,2,2,15,89,295,562,738,690,449,172,36,6,13.3,16.34,30.6,37.76,44.2,58.28,61.34,61.16,58.6,33.4,33.4,16.7,0.78891820580474936,0.18051078601537315,70,40,21,26,{"$f":"IF(OR(C745=\"OA\",C745=\"OB\",C745=\"1B\",C745=\"1A\",C745=\"2A\",C745=\"2B\",C745=\"3A\",C745=\"3B\",C745=\"3C\"),TAN((LEFT(I745, 5)+VLOOKUP(C745,Main!$K$3:$L$21,2,FALSE))*PI()/180),IF(Checklist!$I$385=\"No\",TAN((LEFT(I745, 5)+VLOOKUP(C745,Main!$K$3:$L$21,2,FALSE))*PI()/180),\"NR\"))","v":"NR"},{"$f":"VLOOKUP(C745,Main!$A$49:$I$67,Main!$B$47,FALSE)","v":"NR"},{"$f":"VLOOKUP(C745,Main!$A$49:$I$67,Main!$C$47,FALSE)","v":"NR"},{"$f":"VLOOKUP(C745,Main!$A$49:$I$67,Main!$E$47,FALSE)&\":\"&\" \"&VLOOKUP(C745,Main!$A$49:$I$67,Main!$F$47,FALSE)","v":"Minimum COP @ 5°F:: 1.75"},{"$f":"VLOOKUP(C745,Main!$A$49:$I$67,Main!$G$47,FALSE)","v":15},{"$f":"VLOOKUP(C745,Main!$A$49:$I$67,Main!$H$47,FALSE)","v":3.1},{"$f":"VLOOKUP(C745,Main!$A$49:$I$67,Main!$I$47,FALSE)","v":16.100000000000001},3056]
["OH","AKRON AKRON-CANTON REG AP","5A",5993,1347,20.75,78.8,0.1178,"40.917N",8.1999999999999993,27.1,29.2,38,49.9,59.8,68.7,72.3,70.8,63.5,52.3,41.4,31.8,714,585,406,121,12,0,0,0,2,73,287,570,4,3,35,117,316,560,691,646,407,144,30,4,15.4,18.5,27.7,38.659999999999997,50.2,57.74,61.7,60.62,54.3,32,32,21.9,0.80440097799511001,0.1645123384253819,69,38,20,25,{"$f":"IF(OR(C746=\"OA\",C746=\"OB\",C746=\"1B\",C746=\"1A\",C746=\"2A\",C746=\"2B\",C746=\"3A\",C746=\"3B\",C746=\"3C\"),TAN((LEFT(I746, 5)+VLOOKUP(C746,Main!$K$3:$L$21,2,FALSE))*PI()/180),IF(Checklist!$I$385=\"No\",TAN((LEFT(I746, 5)+VLOOKUP(C746,Main!$K$3:$L$21,2,FALSE))*PI()/180),\"NR\"))","v":"NR"},{"$f":"VLOOKUP(C746,Main!$A$49:$I$67,Main!$B$47,FALSE)","v":"NR"},{"$f":"VLOOKUP(C746,Main!$A$49:$I$67,Main!$C$47,FALSE)","v":"NR"},{"$f":"VLOOKUP(C746,Main!$A$49:$I$67,Main!$E$47,FALSE)&\":\"&\" \"&VLOOKUP(C746,Main!$A$49:$I$67,Main!$F$47,FALSE)","v":"Minimum COP @ 5°F:: 1.75"},{"$f":"VLOOKUP(C746,Main!$A$49:$I$67,Main!$G$47,FALSE)","v":15},{"$f":"VLOOKUP(C746,Main!$A$49:$I$67,Main!$H$47,FALSE)","v":3.1},{"$f":"VLOOKUP(C746,Main!$A$49:$I$67,Main!$I$47,FALSE)","v":16.100000000000001},2957]
["OH","BURKE LAKEFRONT","5A",5380,1267,24.85,81.099999999999994,0.1178,"41.518N",12.9,29.8,31.3,38.299999999999997,50.2,61.3,70.599999999999994,74.599999999999994,73.400000000000006,66.900000000000006,55.7,46.3,34.9,631,527,394,109,6,0,0,0,0,29,168,480,5,4,32,115,355,619,764,727,506,206,59,11,15.3,23.72,27.1,40.46,44.6,61.88,64.22,61.52,55.8,40.1,40.1,17.399999999999999,0.79057591623036638,0.17854515132192081,67,36,18,23,{"$f":"IF(OR(C747=\"OA\",C747=\"OB\",C747=\"1B\",C747=\"1A\",C747=\"2A\",C747=\"2B\",C747=\"3A\",C747=\"3B\",C747=\"3C\"),TAN((LEFT(I747, 5)+VLOOKUP(C747,Main!$K$3:$L$21,2,FALSE))*PI()/180),IF(Checklist!$I$385=\"No\",TAN((LEFT(I747, 5)+VLOOKUP(C747,Main!$K$3:$L$21,2,FALSE))*PI()/180),\"NR\"))","v":"NR"},{"$f":"VLOOKUP(C747,Main!$A$49:$I$67,Main!$B$47,FALSE)","v":"NR"},{"$f":"VLOOKUP(C747,Main!$A$49:$I$67,Main!$C$47,FALSE)","v":"NR"},{"$f":"VLOOKUP(C747,Main!$A$49:$I$67,Main!$E$47,FALSE)&\":\"&\" \"&VLOOKUP(C747,Main!$A$49:$I$67,Main!$F$47,FALSE)","v":"Minimum COP @ 5°F:: 1.75"},{"$f":"VLOOKUP(C747,Main!$A$49:$I$67,Main!$G$47,FALSE)","v":15},{"$f":"VLOOKUP(C747,Main!$A$49:$I$67,Main!$H$47,FALSE)","v":3.1},{"$f":"VLOOKUP(C747,Main!$A$49:$I$67,Main!$I$47,FALSE)","v":16.100000000000001},3403]
["OH","CINCINNATI MUNICIPAL AP LUNKI","4A",4755,1354,30.4,81.3,0.1178,"39.103N",13.8,32.6,35.6,44.3,54.9,64,72.400000000000006,76,74.900000000000006,67.5,55.9,45,36.200000000000003,552,412,238,47,3,0,0,0,0,33,204,439,12,9,62,194,436,671,807,773,526,214,54,11,24.6,22.64,31.5,45.14,52.3,59.54,66.38,65.3,57.6,40.299999999999997,40.299999999999997,27.5,0.77401129943502822,0.18150992320734013,65,34,17,22,{"$f":"IF(OR(C748=\"OA\",C748=\"OB\",C748=\"1B\",C748=\"1A\",C748=\"2A\",C748=\"2B\",C748=\"3A\",C748=\"3B\",C748=\"3C\"),TAN((LEFT(I748, 5)+VLOOKUP(C748,Main!$K$3:$L$21,2,FALSE))*PI()/180),IF(Checklist!$I$385=\"No\",TAN((LEFT(I748, 5)+VLOOKUP(C748,Main!$K$3:$L$21,2,FALSE))*PI()/180),\"NR\"))","v":"NR"},{"$f":"VLOOKUP(C748,Main!$A$49:$I$67,Main!$B$47,FALSE)","v":0.5},{"$f":"VLOOKUP(C748,Main!$A$49:$I$67,Main!$C$47,FALSE)","v":0.25},{"$f":"VLOOKUP(C748,Main!$A$49:$I$67,Main!$E$47,FALSE)&\":\"&\" \"&VLOOKUP(C748,Main!$A$49:$I$67,Main!$F$47,FALSE)","v":"Minimum HSPF:: 9.6"},{"$f":"VLOOKUP(C748,Main!$A$49:$I$67,Main!$G$47,FALSE)","v":18},{"$f":"VLOOKUP(C748,Main!$A$49:$I$67,Main!$H$47,FALSE)","v":3.1},{"$f":"VLOOKUP(C748,Main!$A$49:$I$67,Main!$I$47,FALSE)","v":16.100000000000001},3769]
["OH","CLEVELAND HOPKINS INTL AP","5A",5801,1377,17.149999999999999,79.7,0.1178,"41.405N",10,28.2,30.1,38,49.6,59.8,69.2,73,71.599999999999994,64.5,53.7,43,33,681,561,406,127,12,0,0,0,1,53,251,534,4,4,34,115,317,577,714,670,437,167,40,6,19,18.14,28.6,37.4,45.7,59.18,61.7,61.34,55,33.4,33.4,20.5,0.79899497487437199,0.16961789375582476,68,37,19,24,{"$f":"IF(OR(C749=\"OA\",C749=\"OB\",C749=\"1B\",C749=\"1A\",C749=\"2A\",C749=\"2B\",C749=\"3A\",C749=\"3B\",C749=\"3C\"),TAN((LEFT(I749, 5)+VLOOKUP(C749,Main!$K$3:$L$21,2,FALSE))*PI()/180),IF(Checklist!$I$385=\"No\",TAN((LEFT(I749, 5)+VLOOKUP(C749,Main!$K$3:$L$21,2,FALSE))*PI()/180),\"NR\"))","v":"NR"},{"$f":"VLOOKUP(C749,Main!$A$49:$I$67,Main!$B$47,FALSE)","v":"NR"},{"$f":"VLOOKUP(C749,Main!$A$49:$I$67,Main!$C$47,FALSE)","v":"NR"},{"$f":"VLOOKUP(C749,Main!$A$49:$I$67,Main!$E$47,FALSE)&\":\"&\" \"&VLOOKUP(C749,Main!$A$49:$I$67,Main!$F$47,FALSE)","v":"Minimum COP @ 5°F:: 1.75"},{"$f":"VLOOKUP(C749,Main!$A$49:$I$67,Main!$G$47,FALSE)","v":15},{"$f":"VLOOKUP(C749,Main!$A$49:$I$67,Main!$H$47,FALSE)","v":3.1},{"$f":"VLOOKUP(C749,Main!$A$49:$I$67,Main!$I$47,FALSE)","v":16.100000000000001},3085]
["OH","COLUMBUS PORT COLUMBUS INTL A","5A",5185,1392,15.7,76.8,0.1178,"39.991N",11,30,32.700000000000003,41.9,53.5,63.1,72,75.3,74.099999999999994,66.8,55.1,44,34.5,629,491,303,70,4,0,0,0,0,42,228,490,8,6,53,174,409,660,783,746,505,199,49,9,20.100000000000001,19.579999999999998,31.3,39.56,48.6,59.36,63.86,62.42,55.4,34.299999999999997,34.299999999999997,23.5,0.78947368421052633,0.17259364627785678,66,35,18,23,{"$f":"IF(OR(C750=\"OA\",C750=\"OB\",C750=\"1B\",C750=\"1A\",C750=\"2A\",C750=\"2B\",C750=\"3A\",C750=\"3B\",C750=\"3C\"),TAN((LEFT(I750, 5)+VLOOKUP(C750,Main!$K$3:$L$21,2,FALSE))*PI()/180),IF(Checklist!$I$385=\"No\",TAN((LEFT(I750, 5)+VLOOKUP(C750,Main!$K$3:$L$21,2,FALSE))*PI()/180),\"NR\"))","v":"NR"},{"$f":"VLOOKUP(C750,Main!$A$49:$I$67,Main!$B$47,FALSE)","v":"NR"},{"$f":"VLOOKUP(C750,Main!$A$49:$I$67,Main!$C$47,FALSE)","v":"NR"},{"$f":"VLOOKUP(C750,Main!$A$49:$I$67,Main!$E$47,FALSE)&\":\"&\" \"&VLOOKUP(C750,Main!$A$49:$I$67,Main!$F$47,FALSE)","v":"Minimum COP @ 5°F:: 1.75"},{"$f":"VLOOKUP(C750,Main!$A$49:$I$67,Main!$G$47,FALSE)","v":15},{"$f":"VLOOKUP(C750,Main!$A$49:$I$67,Main!$H$47,FALSE)","v":3.1},{"$f":"VLOOKUP(C750,Main!$A$49:$I$67,Main!$I$47,FALSE)","v":16.100000000000001},3601]
["OH","DAYTON INTERNATIONAL AIRPORT","5A",5481,1423,13.9,77.2,0.1178,"39.906N",8.5,28.3,31.5,40.9,52.4,62.3,71.2,74.400000000000006,73,65.7,54.4,42.9,32.799999999999997,680,524,333,83,6,0,0,0,1,53,256,541,7,5,50,157,387,636,757,714,471,188,44,7,17.2,19.22,30.6,38.479999999999997,47.3,58.82,66.02,63.5,57,32.200000000000003,32.200000000000003,24.3,0.79848866498740545,0.16534181240063592,67,36,19,24,{"$f":"IF(OR(C751=\"OA\",C751=\"OB\",C751=\"1B\",C751=\"1A\",C751=\"2A\",C751=\"2B\",C751=\"3A\",C751=\"3B\",C751=\"3C\"),TAN((LEFT(I751, 5)+VLOOKUP(C751,Main!$K$3:$L$21,2,FALSE))*PI()/180),IF(Checklist!$I$385=\"No\",TAN((LEFT(I751, 5)+VLOOKUP(C751,Main!$K$3:$L$21,2,FALSE))*PI()/180),\"NR\"))","v":"NR"},{"$f":"VLOOKUP(C751,Main!$A$49:$I$67,Main!$B$47,FALSE)","v":"NR"},{"$f":"VLOOKUP(C751,Main!$A$49:$I$67,Main!$C$47,FALSE)","v":"NR"},{"$f":"VLOOKUP(C751,Main!$A$49:$I$67,Main!$E$47,FALSE)&\":\"&\" \"&VLOOKUP(C751,Main!$A$49:$I$67,Main!$F$47,FALSE)","v":"Minimum COP @ 5°F:: 1.75"},{"$f":"VLOOKUP(C751,Main!$A$49:$I$67,Main!$G$47,FALSE)","v":15},{"$f":"VLOOKUP(C751,Main!$A$49:$I$67,Main!$H$47,FALSE)","v":3.1},{"$f":"VLOOKUP(C751,Main!$A$49:$I$67,Main!$I$47,FALSE)","v":16.100000000000001},3423]
["OH","FINDLAY AIRPORT","5A",5912,1309,18.95,75.2,0.1178,"41.014N",6.9,26.6,29.2,38.5,50.2,60.9,70.099999999999994,73.2,71.3,64.400000000000006,53.3,41.7,31.4,729,585,389,112,9,0,0,0,2,64,282,582,3,3,33,118,346,604,719,659,436,167,33,4,21.7,24.08,32,39.92,50.7,57.74,61.34,57.92,53.6,36.9,36.9,24.3,0.80676328502415462,0.16101207590569291,69,38,20,25,{"$f":"IF(OR(C752=\"OA\",C752=\"OB\",C752=\"1B\",C752=\"1A\",C752=\"2A\",C752=\"2B\",C752=\"3A\",C752=\"3B\",C752=\"3C\"),TAN((LEFT(I752, 5)+VLOOKUP(C752,Main!$K$3:$L$21,2,FALSE))*PI()/180),IF(Checklist!$I$385=\"No\",TAN((LEFT(I752, 5)+VLOOKUP(C752,Main!$K$3:$L$21,2,FALSE))*PI()/180),\"NR\"))","v":"NR"},{"$f":"VLOOKUP(C752,Main!$A$49:$I$67,Main!$B$47,FALSE)","v":"NR"},{"$f":"VLOOKUP(C752,Main!$A$49:$I$67,Main!$C$47,FALSE)","v":"NR"},{"$f":"VLOOKUP(C752,Main!$A$49:$I$67,Main!$E$47,FALSE)&\":\"&\" \"&VLOOKUP(C752,Main!$A$49:$I$67,Main!$F$47,FALSE)","v":"Minimum COP @ 5°F:: 1.75"},{"$f":"VLOOKUP(C752,Main!$A$49:$I$67,Main!$G$47,FALSE)","v":15},{"$f":"VLOOKUP(C752,Main!$A$49:$I$67,Main!$H$47,FALSE)","v":3.1},{"$f":"VLOOKUP(C752,Main!$A$49:$I$67,Main!$I$47,FALSE)","v":16.100000000000001},3125]
["OH","MANSFIELD LAHM MUNICIPAL ARPT","5A",6110,1379,13.3,79.900000000000006,0.1178,"40.820N",7,26.4,28.6,37.6,49.4,59.6,68.400000000000006,71.7,70.2,63.2,52.2,41.2,31.2,736,602,417,131,14,0,0,0,3,80,298,587,4,3,34,112,311,552,673,627,400,149,32,5,13.1,17.78,28.4,38.119999999999997,48,57.02,64.58,61.7,54.5,34.299999999999997,34.299999999999997,20.7,0.80769230769230771,0.16127603012848912,69,38,20,25,{"$f":"IF(OR(C753=\"OA\",C753=\"OB\",C753=\"1B\",C753=\"1A\",C753=\"2A\",C753=\"2B\",C753=\"3A\",C753=\"3B\",C753=\"3C\"),TAN((LEFT(I753, 5)+VLOOKUP(C753,Main!$K$3:$L$21,2,FALSE))*PI()/180),IF(Checklist!$I$385=\"No\",TAN((LEFT(I753, 5)+VLOOKUP(C753,Main!$K$3:$L$21,2,FALSE))*PI()/180),\"NR\"))","v":"NR"},{"$f":"VLOOKUP(C753,Main!$A$49:$I$67,Main!$B$47,FALSE)","v":"NR"},{"$f":"VLOOKUP(C753,Main!$A$49:$I$67,Main!$C$47,FALSE)","v":"NR"},{"$f":"VLOOKUP(C753,Main!$A$49:$I$67,Main!$E$47,FALSE)&\":\"&\" \"&VLOOKUP(C753,Main!$A$49:$I$67,Main!$F$47,FALSE)","v":"Minimum COP @ 5°F:: 1.75"},{"$f":"VLOOKUP(C753,Main!$A$49:$I$67,Main!$G$47,FALSE)","v":15},{"$f":"VLOOKUP(C753,Main!$A$49:$I$67,Main!$H$47,FALSE)","v":3.1},{"$f":"VLOOKUP(C753,Main!$A$49:$I$67,Main!$I$47,FALSE)","v":16.100000000000001},2902]
["OH","OHIO STATE UNIVERSI","5A",5450,1339,16.149999999999999,81,0.1178,"40.078N",9.9,28.8,31.2,40.700000000000003,52.8,62.7,70.900000000000006,74.099999999999994,72.900000000000006,65.8,53.8,43.2,33.1,663,530,336,73,7,0,0,0,1,57,245,533,6,5,48,157,401,626,747,710,476,176,40,8,23,23,33.1,40.64,46,60.26,66.02,69.44,56.8,35.799999999999997,35.799999999999997,26.2,0.79591836734693866,0.16932595245848256,67,36,18,23,{"$f":"IF(OR(C754=\"OA\",C754=\"OB\",C754=\"1B\",C754=\"1A\",C754=\"2A\",C754=\"2B\",C754=\"3A\",C754=\"3B\",C754=\"3C\"),TAN((LEFT(I754, 5)+VLOOKUP(C754,Main!$K$3:$L$21,2,FALSE))*PI()/180),IF(Checklist!$I$385=\"No\",TAN((LEFT(I754, 5)+VLOOKUP(C754,Main!$K$3:$L$21,2,FALSE))*PI()/180),\"NR\"))","v":"NR"},{"$f":"VLOOKUP(C754,Main!$A$49:$I$67,Main!$B$47,FALSE)","v":"NR"},{"$f":"VLOOKUP(C754,Main!$A$49:$I$67,Main!$C$47,FALSE)","v":"NR"},{"$f":"VLOOKUP(C754,Main!$A$49:$I$67,Main!$E$47,FALSE)&\":\"&\" \"&VLOOKUP(C754,Main!$A$49:$I$67,Main!$F$47,FALSE)","v":"Minimum COP @ 5°F:: 1.75"},{"$f":"VLOOKUP(C754,Main!$A$49:$I$67,Main!$G$47,FALSE)","v":15},{"$f":"VLOOKUP(C754,Main!$A$49:$I$67,Main!$H$47,FALSE)","v":3.1},{"$f":"VLOOKUP(C754,Main!$A$49:$I$67,Main!$I$47,FALSE)","v":16.100000000000001},3400]
["OH","TOLEDO EXPRESS AIRPORT","5A",6050,1426,13.1,77.2,0.1178,"41.589N",7,26.1,28.4,37.799999999999997,49.6,60.2,70,73.400000000000006,71.599999999999994,64.2,52.8,41.3,30.9,742,606,407,119,10,0,0,0,2,66,291,598,2,2,28,108,327,599,726,670,427,151,29,4,19,17.600000000000001,28.9,37.4,47.8,57.2,59.72,60.08,55.2,29.7,29.7,18.5,0.80906921241050123,0.16127603012848912,69,38,20,25,{"$f":"IF(OR(C755=\"OA\",C755=\"OB\",C755=\"1B\",C755=\"1A\",C755=\"2A\",C755=\"2B\",C755=\"3A\",C755=\"3B\",C755=\"3C\"),TAN((LEFT(I755, 5)+VLOOKUP(C755,Main!$K$3:$L$21,2,FALSE))*PI()/180),IF(Checklist!$I$385=\"No\",TAN((LEFT(I755, 5)+VLOOKUP(C755,Main!$K$3:$L$21,2,FALSE))*PI()/180),\"NR\"))","v":"NR"},{"$f":"VLOOKUP(C755,Main!$A$49:$I$67,Main!$B$47,FALSE)","v":"NR"},{"$f":"VLOOKUP(C755,Main!$A$49:$I$67,Main!$C$47,FALSE)","v":"NR"},{"$f":"VLOOKUP(C755,Main!$A$49:$I$67,Main!$E$47,FALSE)&\":\"&\" \"&VLOOKUP(C755,Main!$A$49:$I$67,Main!$F$47,FALSE)","v":"Minimum COP @ 5°F:: 1.75"},{"$f":"VLOOKUP(C755,Main!$A$49:$I$67,Main!$G$47,FALSE)","v":15},{"$f":"VLOOKUP(C755,Main!$A$49:$I$67,Main!$H$47,FALSE)","v":3.1},{"$f":"VLOOKUP(C755,Main!$A$49:$I$67,Main!$I$47,FALSE)","v":16.100000000000001},3073]
["OH","YOUNGSTOWN REGIONAL AIRPORT","5A",6159,1332,15.55,77.7,0.1178,"41.254N",8.1,27,28.8,37.299999999999997,49.1,58.7,67.2,70.900000000000006,69.5,62.3,51.7,41.4,31.6,718,596,429,135,18,0,0,0,3,80,290,574,4,3,34,109,287,516,648,603,373,131,32,4,16.899999999999999,18.32,28.8,34.340000000000003,47.1,54.68,63.68,60.44,54.1,33.6,33.6,22.1,0.80487804878048785,0.16423769345305236,69,38,20,25,{"$f":"IF(OR(C756=\"OA\",C756=\"OB\",C756=\"1B\",C756=\"1A\",C756=\"2A\",C756=\"2B\",C756=\"3A\",C756=\"3B\",C756=\"3C\"),TAN((LEFT(I756, 5)+VLOOKUP(C756,Main!$K$3:$L$21,2,FALSE))*PI()/180),IF(Checklist!$I$385=\"No\",TAN((LEFT(I756, 5)+VLOOKUP(C756,Main!$K$3:$L$21,2,FALSE))*PI()/180),\"NR\"))","v":"NR"},{"$f":"VLOOKUP(C756,Main!$A$49:$I$67,Main!$B$47,FALSE)","v":"NR"},{"$f":"VLOOKUP(C756,Main!$A$49:$I$67,Main!$C$47,FALSE)","v":"NR"},{"$f":"VLOOKUP(C756,Main!$A$49:$I$67,Main!$E$47,FALSE)&\":\"&\" \"&VLOOKUP(C756,Main!$A$49:$I$67,Main!$F$47,FALSE)","v":"Minimum COP @ 5°F:: 1.75"},{"$f":"VLOOKUP(C756,Main!$A$49:$I$67,Main!$G$47,FALSE)","v":15},{"$f":"VLOOKUP(C756,Main!$A$49:$I$67,Main!$H$47,FALSE)","v":3.1},{"$f":"VLOOKUP(C756,Main!$A$49:$I$67,Main!$I$47,FALSE)","v":16.100000000000001},2744]
["OH","ZANESVILLE MUNICIPAL AP","4A",5393,1238,29.1,75,0.1178,"39.944N",10.4,29.9,32.5,41.3,52.5,61.5,69.8,73.3,72.099999999999994,64.8,53.5,43.1,34,632,497,318,79,6,0,0,0,1,56,249,504,9,6,47,154,362,595,723,684,445,166,43,8,30.4,26.6,32,43.88,56.8,57.74,62.06,60.8,56.8,33.6,33.6,27.1,0.79002624671916011,0.17079579579579576,67,36,19,24,{"$f":"IF(OR(C757=\"OA\",C757=\"OB\",C757=\"1B\",C757=\"1A\",C757=\"2A\",C757=\"2B\",C757=\"3A\",C757=\"3B\",C757=\"3C\"),TAN((LEFT(I757, 5)+VLOOKUP(C757,Main!$K$3:$L$21,2,FALSE))*PI()/180),IF(Checklist!$I$385=\"No\",TAN((LEFT(I757, 5)+VLOOKUP(C757,Main!$K$3:$L$21,2,FALSE))*PI()/180),\"NR\"))","v":"NR"},{"$f":"VLOOKUP(C757,Main!$A$49:$I$67,Main!$B$47,FALSE)","v":0.5},{"$f":"VLOOKUP(C757,Main!$A$49:$I$67,Main!$C$47,FALSE)","v":0.25},{"$f":"VLOOKUP(C757,Main!$A$49:$I$67,Main!$E$47,FALSE)&\":\"&\" \"&VLOOKUP(C757,Main!$A$49:$I$67,Main!$F$47,FALSE)","v":"Minimum HSPF:: 9.6"},{"$f":"VLOOKUP(C757,Main!$A$49:$I$67,Main!$G$47,FALSE)","v":18},{"$f":"VLOOKUP(C757,Main!$A$49:$I$67,Main!$H$47,FALSE)","v":3.1},{"$f":"VLOOKUP(C757,Main!$A$49:$I$67,Main!$I$47,FALSE)","v":16.100000000000001},3242]
["OK","ALTUS AFB","3A",3161,1785,21.15,92.3,9.2999999999999999E-2,"34.650N",19.7,40.6,45.7,53.7,61.5,71.7,80.900000000000006,84,83.2,75,63.4,51,41.3,313,180,78,12,0,0,0,0,0,10,95,293,22,59,191,356,673,927,1054,1029,749,426,125,24,27.7,33.26,37.4,34.340000000000003,58.8,60.8,64.94,59.9,54.7,34.5,34.5,28.2,0.70802919708029199,0.20368194281237759,59,29,14,19,{"$f":"IF(OR(C758=\"OA\",C758=\"OB\",C758=\"1B\",C758=\"1A\",C758=\"2A\",C758=\"2B\",C758=\"3A\",C758=\"3B\",C758=\"3C\"),TAN((LEFT(I758, 5)+VLOOKUP(C758,Main!$K$3:$L$21,2,FALSE))*PI()/180),IF(Checklist!$I$385=\"No\",TAN((LEFT(I758, 5)+VLOOKUP(C758,Main!$K$3:$L$21,2,FALSE))*PI()/180),\"NR\"))","v":0.69114253222310507},{"$f":"VLOOKUP(C758,Main!$A$49:$I$67,Main!$B$47,FALSE)","v":0.6},{"$f":"VLOOKUP(C758,Main!$A$49:$I$67,Main!$C$47,FALSE)","v":0.25},{"$f":"VLOOKUP(C758,Main!$A$49:$I$67,Main!$E$47,FALSE)&\":\"&\" \"&VLOOKUP(C758,Main!$A$49:$I$67,Main!$F$47,FALSE)","v":"Minimum HSPF:: 9.6"},{"$f":"VLOOKUP(C758,Main!$A$49:$I$67,Main!$G$47,FALSE)","v":18},{"$f":"VLOOKUP(C758,Main!$A$49:$I$67,Main!$H$47,FALSE)","v":3.1},{"$f":"VLOOKUP(C758,Main!$A$49:$I$67,Main!$I$47,FALSE)","v":16.100000000000001},5635]
["OK","CLINTON-SHERMAN","3A",3524,1723,26.35,89.2,9.2999999999999999E-2,"35.357N",18.7,40,42.2,50.5,59.6,70.099999999999994,79,83.7,82.9,74.5,62.2,49.8,40.1,331,250,118,21,1,0,0,0,0,12,120,326,21,33,133,308,623,869,1045,1019,736,392,114,20,30,28.22,34.5,42.8,57.4,63.14,65.48,66.2,55.6,34.700000000000003,34.700000000000003,22.3,0.7142857142857143,0.19955046324214679,60,30,15,20,{"$f":"IF(OR(C759=\"OA\",C759=\"OB\",C759=\"1B\",C759=\"1A\",C759=\"2A\",C759=\"2B\",C759=\"3A\",C759=\"3B\",C759=\"3C\"),TAN((LEFT(I759, 5)+VLOOKUP(C759,Main!$K$3:$L$21,2,FALSE))*PI()/180),IF(Checklist!$I$385=\"No\",TAN((LEFT(I759, 5)+VLOOKUP(C759,Main!$K$3:$L$21,2,FALSE))*PI()/180),\"NR\"))","v":0.70935042623522737},{"$f":"VLOOKUP(C759,Main!$A$49:$I$67,Main!$B$47,FALSE)","v":0.6},{"$f":"VLOOKUP(C759,Main!$A$49:$I$67,Main!$C$47,FALSE)","v":0.25},{"$f":"VLOOKUP(C759,Main!$A$49:$I$67,Main!$E$47,FALSE)&\":\"&\" \"&VLOOKUP(C759,Main!$A$49:$I$67,Main!$F$47,FALSE)","v":"Minimum HSPF:: 9.6"},{"$f":"VLOOKUP(C759,Main!$A$49:$I$67,Main!$G$47,FALSE)","v":18},{"$f":"VLOOKUP(C759,Main!$A$49:$I$67,Main!$H$47,FALSE)","v":3.1},{"$f":"VLOOKUP(C759,Main!$A$49:$I$67,Main!$I$47,FALSE)","v":16.100000000000001},5313]
["OK","FORT SILL POST FIELD AF","3A",3154,1760,25,89.6,9.2999999999999999E-2,"34.650N",20.2,40.9,45.6,53.3,61.4,70.599999999999994,80.2,84,82.9,74.8,63.2,51,41.9,306,182,81,11,0,0,0,0,0,9,93,281,23,60,183,352,638,907,1055,1020,745,419,124,29,29.5,33.08,28.6,38.299999999999997,58.3,60.62,65.48,63.14,50,38.1,38.1,33.1,0.70479704797047971,0.20581250706773718,59,29,14,19,{"$f":"IF(OR(C760=\"OA\",C760=\"OB\",C760=\"1B\",C760=\"1A\",C760=\"2A\",C760=\"2B\",C760=\"3A\",C760=\"3B\",C760=\"3C\"),TAN((LEFT(I760, 5)+VLOOKUP(C760,Main!$K$3:$L$21,2,FALSE))*PI()/180),IF(Checklist!$I$385=\"No\",TAN((LEFT(I760, 5)+VLOOKUP(C760,Main!$K$3:$L$21,2,FALSE))*PI()/180),\"NR\"))","v":0.69114253222310507},{"$f":"VLOOKUP(C760,Main!$A$49:$I$67,Main!$B$47,FALSE)","v":0.6},{"$f":"VLOOKUP(C760,Main!$A$49:$I$67,Main!$C$47,FALSE)","v":0.25},{"$f":"VLOOKUP(C760,Main!$A$49:$I$67,Main!$E$47,FALSE)&\":\"&\" \"&VLOOKUP(C760,Main!$A$49:$I$67,Main!$F$47,FALSE)","v":"Minimum HSPF:: 9.6"},{"$f":"VLOOKUP(C760,Main!$A$49:$I$67,Main!$G$47,FALSE)","v":18},{"$f":"VLOOKUP(C760,Main!$A$49:$I$67,Main!$H$47,FALSE)","v":3.1},{"$f":"VLOOKUP(C760,Main!$A$49:$I$67,Main!$I$47,FALSE)","v":16.100000000000001},5555]
["OK","GAGE AIRPORT","4B",4194,1831,30.05,84.7,9.2999999999999999E-2,"36.297N",13.3,35.9,39.299999999999997,48.3,57.6,67.400000000000006,76.400000000000006,80.900000000000006,79.7,71.2,59.1,46.4,36.5,446,322,162,37,2,0,0,0,0,25,185,429,10,23,111,264,542,793,957,921,636,306,76,10,20.3,24.26,28,41.54,55.4,62.96,61.16,61.88,58.5,31.6,31.6,24.3,0.75077881619937692,0.17985078314145952,62,31,15,20,{"$f":"IF(OR(C761=\"OA\",C761=\"OB\",C761=\"1B\",C761=\"1A\",C761=\"2A\",C761=\"2B\",C761=\"3A\",C761=\"3B\",C761=\"3C\"),TAN((LEFT(I761, 5)+VLOOKUP(C761,Main!$K$3:$L$21,2,FALSE))*PI()/180),IF(Checklist!$I$385=\"No\",TAN((LEFT(I761, 5)+VLOOKUP(C761,Main!$K$3:$L$21,2,FALSE))*PI()/180),\"NR\"))","v":"NR"},{"$f":"VLOOKUP(C761,Main!$A$49:$I$67,Main!$B$47,FALSE)","v":"NR"},{"$f":"VLOOKUP(C761,Main!$A$49:$I$67,Main!$C$47,FALSE)","v":0.25},{"$f":"VLOOKUP(C761,Main!$A$49:$I$67,Main!$E$47,FALSE)&\":\"&\" \"&VLOOKUP(C761,Main!$A$49:$I$67,Main!$F$47,FALSE)","v":"Minimum HSPF:: 9.6"},{"$f":"VLOOKUP(C761,Main!$A$49:$I$67,Main!$G$47,FALSE)","v":18},{"$f":"VLOOKUP(C761,Main!$A$49:$I$67,Main!$H$47,FALSE)","v":3.1},{"$f":"VLOOKUP(C761,Main!$A$49:$I$67,Main!$I$47,FALSE)","v":16.100000000000001},4649]
["OK","HOBART MUNICIPAL AP","3A",3509,1762,27.95,88.3,9.2999999999999999E-2,"34.989N",19,39.200000000000003,43.1,51,59.7,69.900000000000006,79.599999999999994,83.8,82.8,74.400000000000006,62.4,49.6,40.1,349,233,110,20,1,0,0,0,0,12,122,325,15,39,141,310,619,888,1046,1017,731,397,111,19,24.6,30.02,44.4,49.46,57.7,63.68,65.48,59.18,59,37.6,37.6,22.6,0.72222222222222221,0.20077220077220076,60,30,14,19,{"$f":"IF(OR(C762=\"OA\",C762=\"OB\",C762=\"1B\",C762=\"1A\",C762=\"2A\",C762=\"2B\",C762=\"3A\",C762=\"3B\",C762=\"3C\"),TAN((LEFT(I762, 5)+VLOOKUP(C762,Main!$K$3:$L$21,2,FALSE))*PI()/180),IF(Checklist!$I$385=\"No\",TAN((LEFT(I762, 5)+VLOOKUP(C762,Main!$K$3:$L$21,2,FALSE))*PI()/180),\"NR\"))","v":0.69968745575194946},{"$f":"VLOOKUP(C762,Main!$A$49:$I$67,Main!$B$47,FALSE)","v":0.6},{"$f":"VLOOKUP(C762,Main!$A$49:$I$67,Main!$C$47,FALSE)","v":0.25},{"$f":"VLOOKUP(C762,Main!$A$49:$I$67,Main!$E$47,FALSE)&\":\"&\" \"&VLOOKUP(C762,Main!$A$49:$I$67,Main!$F$47,FALSE)","v":"Minimum HSPF:: 9.6"},{"$f":"VLOOKUP(C762,Main!$A$49:$I$67,Main!$G$47,FALSE)","v":18},{"$f":"VLOOKUP(C762,Main!$A$49:$I$67,Main!$H$47,FALSE)","v":3.1},{"$f":"VLOOKUP(C762,Main!$A$49:$I$67,Main!$I$47,FALSE)","v":16.100000000000001},5333]
["OK","LAWTON MUNICIPAL","3A",3157,1743,37.200000000000003,84.6,9.2999999999999999E-2,"34.558N",20,40.799999999999997,44.5,53.7,61.9,71.400000000000006,80.099999999999994,84.4,84.3,75.5,63.6,51.5,41.4,308,204,73,11,1,0,0,0,0,5,91,291,22,50,186,369,663,904,1066,1064,766,427,137,24,28,36.5,34.299999999999997,55.04,61.2,66.38,66.38,67.099999999999994,58.6,45.3,45.3,33.299999999999997,0.70588235294117652,0.20495495495495497,59,29,14,19,{"$f":"IF(OR(C763=\"OA\",C763=\"OB\",C763=\"1B\",C763=\"1A\",C763=\"2A\",C763=\"2B\",C763=\"3A\",C763=\"3B\",C763=\"3C\"),TAN((LEFT(I763, 5)+VLOOKUP(C763,Main!$K$3:$L$21,2,FALSE))*PI()/180),IF(Checklist!$I$385=\"No\",TAN((LEFT(I763, 5)+VLOOKUP(C763,Main!$K$3:$L$21,2,FALSE))*PI()/180),\"NR\"))","v":0.68856660223971977},{"$f":"VLOOKUP(C763,Main!$A$49:$I$67,Main!$B$47,FALSE)","v":0.6},{"$f":"VLOOKUP(C763,Main!$A$49:$I$67,Main!$C$47,FALSE)","v":0.25},{"$f":"VLOOKUP(C763,Main!$A$49:$I$67,Main!$E$47,FALSE)&\":\"&\" \"&VLOOKUP(C763,Main!$A$49:$I$67,Main!$F$47,FALSE)","v":"Minimum HSPF:: 9.6"},{"$f":"VLOOKUP(C763,Main!$A$49:$I$67,Main!$G$47,FALSE)","v":18},{"$f":"VLOOKUP(C763,Main!$A$49:$I$67,Main!$H$47,FALSE)","v":3.1},{"$f":"VLOOKUP(C763,Main!$A$49:$I$67,Main!$I$47,FALSE)","v":16.100000000000001},5678]
["OK","MCALESTER MUNICIPAL AP","3A",3063,1653,22,85.3,9.2999999999999999E-2,"34.882N",20.8,41.4,45.6,53.7,61.8,69.8,78.099999999999994,82.4,82,73.900000000000006,63.2,52.1,43.3,303,191,78,9,1,0,0,0,0,7,91,255,37,67,192,364,615,842,1003,992,718,418,156,47,26.8,36.68,43,49.82,61.5,70.34,70.7,68,63.1,42.1,42.1,24.8,0.6992481203007519,0.2084287677508016,58,28,13,18,{"$f":"IF(OR(C764=\"OA\",C764=\"OB\",C764=\"1B\",C764=\"1A\",C764=\"2A\",C764=\"2B\",C764=\"3A\",C764=\"3B\",C764=\"3C\"),TAN((LEFT(I764, 5)+VLOOKUP(C764,Main!$K$3:$L$21,2,FALSE))*PI()/180),IF(Checklist!$I$385=\"No\",TAN((LEFT(I764, 5)+VLOOKUP(C764,Main!$K$3:$L$21,2,FALSE))*PI()/180),\"NR\"))","v":0.69709084698870916},{"$f":"VLOOKUP(C764,Main!$A$49:$I$67,Main!$B$47,FALSE)","v":0.6},{"$f":"VLOOKUP(C764,Main!$A$49:$I$67,Main!$C$47,FALSE)","v":0.25},{"$f":"VLOOKUP(C764,Main!$A$49:$I$67,Main!$E$47,FALSE)&\":\"&\" \"&VLOOKUP(C764,Main!$A$49:$I$67,Main!$F$47,FALSE)","v":"Minimum HSPF:: 9.6"},{"$f":"VLOOKUP(C764,Main!$A$49:$I$67,Main!$G$47,FALSE)","v":18},{"$f":"VLOOKUP(C764,Main!$A$49:$I$67,Main!$H$47,FALSE)","v":3.1},{"$f":"VLOOKUP(C764,Main!$A$49:$I$67,Main!$I$47,FALSE)","v":16.100000000000001},5451]
["OK","OKLAHOMA CITY TINKER AFB","3A",3387,1662,22.95,84.9,9.2999999999999999E-2,"35.417N",18.5,39.299999999999997,43.8,51.9,60.5,69,77.5,82.2,81.7,73.5,62.3,50.4,41,354,228,104,17,1,0,0,0,0,10,110,307,21,55,165,332,591,824,998,984,704,392,122,28,32.4,30.92,28.9,37.04,57.9,66.56,66.56,64.58,60.3,38.1,38.1,30.6,0.72125435540069693,0.19874419874419871,59,29,14,19,{"$f":"IF(OR(C765=\"OA\",C765=\"OB\",C765=\"1B\",C765=\"1A\",C765=\"2A\",C765=\"2B\",C765=\"3A\",C765=\"3B\",C765=\"3C\"),TAN((LEFT(I765, 5)+VLOOKUP(C765,Main!$K$3:$L$21,2,FALSE))*PI()/180),IF(Checklist!$I$385=\"No\",TAN((LEFT(I765, 5)+VLOOKUP(C765,Main!$K$3:$L$21,2,FALSE))*PI()/180),\"NR\"))","v":0.71092572133666498},{"$f":"VLOOKUP(C765,Main!$A$49:$I$67,Main!$B$47,FALSE)","v":0.6},{"$f":"VLOOKUP(C765,Main!$A$49:$I$67,Main!$C$47,FALSE)","v":0.25},{"$f":"VLOOKUP(C765,Main!$A$49:$I$67,Main!$E$47,FALSE)&\":\"&\" \"&VLOOKUP(C765,Main!$A$49:$I$67,Main!$F$47,FALSE)","v":"Minimum HSPF:: 9.6"},{"$f":"VLOOKUP(C765,Main!$A$49:$I$67,Main!$G$47,FALSE)","v":18},{"$f":"VLOOKUP(C765,Main!$A$49:$I$67,Main!$H$47,FALSE)","v":3.1},{"$f":"VLOOKUP(C765,Main!$A$49:$I$67,Main!$I$47,FALSE)","v":16.100000000000001},5216]
["OK","OKLAHOMA CITY WILL ROGERS WOR","3A",3420,1743,26.15,86.7,9.2999999999999999E-2,"35.389N",19.100000000000001,39.299999999999997,43.5,51.8,60.3,69.3,77.8,82.4,81.8,73.5,62.1,50.2,40.700000000000003,351,229,103,15,1,0,0,0,0,10,112,313,20,47,159,325,598,834,1005,987,704,384,119,24,18.3,32.36,38.299999999999997,48.56,56.7,64.760000000000005,65.48,64.22,59.7,40.1,40.1,28.2,0.72125435540069693,0.20118277786989441,60,29,14,19,{"$f":"IF(OR(C766=\"OA\",C766=\"OB\",C766=\"1B\",C766=\"1A\",C766=\"2A\",C766=\"2B\",C766=\"3A\",C766=\"3B\",C766=\"3C\"),TAN((LEFT(I766, 5)+VLOOKUP(C766,Main!$K$3:$L$21,2,FALSE))*PI()/180),IF(Checklist!$I$385=\"No\",TAN((LEFT(I766, 5)+VLOOKUP(C766,Main!$K$3:$L$21,2,FALSE))*PI()/180),\"NR\"))","v":0.71013778091707902},{"$f":"VLOOKUP(C766,Main!$A$49:$I$67,Main!$B$47,FALSE)","v":0.6},{"$f":"VLOOKUP(C766,Main!$A$49:$I$67,Main!$C$47,FALSE)","v":0.25},{"$f":"VLOOKUP(C766,Main!$A$49:$I$67,Main!$E$47,FALSE)&\":\"&\" \"&VLOOKUP(C766,Main!$A$49:$I$67,Main!$F$47,FALSE)","v":"Minimum HSPF:: 9.6"},{"$f":"VLOOKUP(C766,Main!$A$49:$I$67,Main!$G$47,FALSE)","v":18},{"$f":"VLOOKUP(C766,Main!$A$49:$I$67,Main!$H$47,FALSE)","v":3.1},{"$f":"VLOOKUP(C766,Main!$A$49:$I$67,Main!$I$47,FALSE)","v":16.100000000000001},5206]
["OK","OKLAHOMA CITY/WILEY","3A",3473,1620,27.7,86.9,9.2999999999999999E-2,"35.534N",18.600000000000001,39.1,43.2,51.6,60.3,69.599999999999994,78.3,83.2,82.5,73.7,62.1,50.1,40.4,360,240,112,18,1,0,0,0,0,12,119,322,21,49,160,328,607,850,1028,1008,711,389,122,24,29.8,28.76,36,36.68,57.9,63.14,65.66,62.6,59.7,36.9,36.9,30.2,0.72318339100346019,0.19914651493598862,60,29,14,19,{"$f":"IF(OR(C767=\"OA\",C767=\"OB\",C767=\"1B\",C767=\"1A\",C767=\"2A\",C767=\"2B\",C767=\"3A\",C767=\"3B\",C767=\"3C\"),TAN((LEFT(I767, 5)+VLOOKUP(C767,Main!$K$3:$L$21,2,FALSE))*PI()/180),IF(Checklist!$I$385=\"No\",TAN((LEFT(I767, 5)+VLOOKUP(C767,Main!$K$3:$L$21,2,FALSE))*PI()/180),\"NR\"))","v":0.71408336215404378},{"$f":"VLOOKUP(C767,Main!$A$49:$I$67,Main!$B$47,FALSE)","v":0.6},{"$f":"VLOOKUP(C767,Main!$A$49:$I$67,Main!$C$47,FALSE)","v":0.25},{"$f":"VLOOKUP(C767,Main!$A$49:$I$67,Main!$E$47,FALSE)&\":\"&\" \"&VLOOKUP(C767,Main!$A$49:$I$67,Main!$F$47,FALSE)","v":"Minimum HSPF:: 9.6"},{"$f":"VLOOKUP(C767,Main!$A$49:$I$67,Main!$G$47,FALSE)","v":18},{"$f":"VLOOKUP(C767,Main!$A$49:$I$67,Main!$H$47,FALSE)","v":3.1},{"$f":"VLOOKUP(C767,Main!$A$49:$I$67,Main!$I$47,FALSE)","v":16.100000000000001},5297]
["OK","PONCA CITY MUNICIPAL AP [SGP - ARM]","4A",3816,1662,26.85,90.1,9.2999999999999999E-2,"36.737N",15.9,36.700000000000003,41,49.9,59.3,68.8,78.099999999999994,82.9,82,72.900000000000006,61.3,48.8,38.5,426,288,140,22,1,0,0,0,0,17,140,375,14,37,136,302,585,842,1020,991,688,368,105,19,21.9,25.52,37.4,46.94,55.8,63.86,68.36,63.68,64.2,41.7,41.7,28.8,0.74440894568690097,0.18882606214659955,61,30,15,20,{"$f":"IF(OR(C768=\"OA\",C768=\"OB\",C768=\"1B\",C768=\"1A\",C768=\"2A\",C768=\"2B\",C768=\"3A\",C768=\"3B\",C768=\"3C\"),TAN((LEFT(I768, 5)+VLOOKUP(C768,Main!$K$3:$L$21,2,FALSE))*PI()/180),IF(Checklist!$I$385=\"No\",TAN((LEFT(I768, 5)+VLOOKUP(C768,Main!$K$3:$L$21,2,FALSE))*PI()/180),\"NR\"))","v":"NR"},{"$f":"VLOOKUP(C768,Main!$A$49:$I$67,Main!$B$47,FALSE)","v":0.5},{"$f":"VLOOKUP(C768,Main!$A$49:$I$67,Main!$C$47,FALSE)","v":0.25},{"$f":"VLOOKUP(C768,Main!$A$49:$I$67,Main!$E$47,FALSE)&\":\"&\" \"&VLOOKUP(C768,Main!$A$49:$I$67,Main!$F$47,FALSE)","v":"Minimum HSPF:: 9.6"},{"$f":"VLOOKUP(C768,Main!$A$49:$I$67,Main!$G$47,FALSE)","v":18},{"$f":"VLOOKUP(C768,Main!$A$49:$I$67,Main!$H$47,FALSE)","v":3.1},{"$f":"VLOOKUP(C768,Main!$A$49:$I$67,Main!$I$47,FALSE)","v":16.100000000000001},5107]
["OK","STILLWATER RGNL","4A",3610,1639,24.35,88,9.2999999999999999E-2,"36.162N",17.7,38.4,41.9,50.9,60.3,69,77.599999999999994,82.9,82.4,73.599999999999994,61.6,50,39.6,381,263,126,21,2,0,0,0,0,12,120,346,21,37,154,330,591,827,1021,1005,708,371,119,23,28,27.68,40.299999999999997,51.62,59.9,64.58,69.44,66.2,54,42.3,42.3,28.9,0.72972972972972971,0.19558325721347591,60,30,15,20,{"$f":"IF(OR(C769=\"OA\",C769=\"OB\",C769=\"1B\",C769=\"1A\",C769=\"2A\",C769=\"2B\",C769=\"3A\",C769=\"3B\",C769=\"3C\"),TAN((LEFT(I769, 5)+VLOOKUP(C769,Main!$K$3:$L$21,2,FALSE))*PI()/180),IF(Checklist!$I$385=\"No\",TAN((LEFT(I769, 5)+VLOOKUP(C769,Main!$K$3:$L$21,2,FALSE))*PI()/180),\"NR\"))","v":"NR"},{"$f":"VLOOKUP(C769,Main!$A$49:$I$67,Main!$B$47,FALSE)","v":0.5},{"$f":"VLOOKUP(C769,Main!$A$49:$I$67,Main!$C$47,FALSE)","v":0.25},{"$f":"VLOOKUP(C769,Main!$A$49:$I$67,Main!$E$47,FALSE)&\":\"&\" \"&VLOOKUP(C769,Main!$A$49:$I$67,Main!$F$47,FALSE)","v":"Minimum HSPF:: 9.6"},{"$f":"VLOOKUP(C769,Main!$A$49:$I$67,Main!$G$47,FALSE)","v":18},{"$f":"VLOOKUP(C769,Main!$A$49:$I$67,Main!$H$47,FALSE)","v":3.1},{"$f":"VLOOKUP(C769,Main!$A$49:$I$67,Main!$I$47,FALSE)","v":16.100000000000001},5207]
["OK","TULSA INTERNATIONAL AIRPORT","3A",3450,1661,29.5,88.2,9.2999999999999999E-2,"36.199N",18.3,38.799999999999997,43.1,51.7,60.8,69.5,78.3,83.2,82.6,73.400000000000006,62.2,50.6,40.6,372,242,111,14,1,0,0,0,0,10,112,320,24,48,163,338,606,848,1029,1010,702,389,129,29,22.8,27.14,36.9,47.48,55.6,67.64,69.8,68.540000000000006,60.4,34.5,34.5,24.3,0.72602739726027399,{"$f":"IF(ISBLANK($J770),\"-\",IF((14.7-(0.742*10))/(0.74*(68-$J770))<0,0.5,MIN((14.7-(0.742*10))/(0.74*(68-$J770)),0.5)))","v":0.19794442329653597},60,29,14,19,{"$f":"IF(OR(C770=\"OA\",C770=\"OB\",C770=\"1B\",C770=\"1A\",C770=\"2A\",C770=\"2B\",C770=\"3A\",C770=\"3B\",C770=\"3C\"),TAN((LEFT(I770, 5)+VLOOKUP(C770,Main!$K$3:$L$21,2,FALSE))*PI()/180),IF(Checklist!$I$385=\"No\",TAN((LEFT(I770, 5)+VLOOKUP(C770,Main!$K$3:$L$21,2,FALSE))*PI()/180),\"NR\"))","v":0.7316213721537419},{"$f":"VLOOKUP(C770,Main!$A$49:$I$67,Main!$B$47,FALSE)","v":0.6},{"$f":"VLOOKUP(C770,Main!$A$49:$I$67,Main!$C$47,FALSE)","v":0.25},{"$f":"VLOOKUP(C770,Main!$A$49:$I$67,Main!$E$47,FALSE)&\":\"&\" \"&VLOOKUP(C770,Main!$A$49:$I$67,Main!$F$47,FALSE)","v":"Minimum HSPF:: 9.6"},{"$f":"VLOOKUP(C770,Main!$A$49:$I$67,Main!$G$47,FALSE)","v":18},{"$f":"VLOOKUP(C770,Main!$A$49:$I$67,Main!$H$47,FALSE)","v":3.1},{"$f":"VLOOKUP(C770,Main!$A$49:$I$67,Main!$I$47,FALSE)","v":16.100000000000001},5315]
["OK","VANCE AFB","4A",3920,1695,19.25,88.3,9.2999999999999999E-2,"36.333N",15.6,36.1,42.2,49.6,57.6,68.099999999999994,78.400000000000006,82.7,81.599999999999994,72.599999999999994,60.7,47.5,37.200000000000003,439,260,140,28,0,0,0,0,0,19,159,405,8,41,129,258,561,852,1015,978,678,351,84,9,31.1,28.4,26.8,35.24,56.8,65.12,63.68,61.16,48.6,34.200000000000003,34.200000000000003,26.2,{"$f":"IF(MIN(K771:V771)>60,\"NR\",IF((60-MIN(K771:V771))/(68-MIN(K771:V771))<0.5,\"NR\",MAX(0.6,(60-MIN(K771:V771))/(68-MIN(K771:V771)))))","v":0.7492163009404389},0.18774499690530225,61,31,15,20,{"$f":"IF(OR(C771=\"OA\",C771=\"OB\",C771=\"1B\",C771=\"1A\",C771=\"2A\",C771=\"2B\",C771=\"3A\",C771=\"3B\",C771=\"3C\"),TAN((LEFT(I771, 5)+VLOOKUP(C771,Main!$K$3:$L$21,2,FALSE))*PI()/180),IF(Checklist!$I$385=\"No\",TAN((LEFT(I771, 5)+VLOOKUP(C771,Main!$K$3:$L$21,2,FALSE))*PI()/180),\"NR\"))","v":"NR"},{"$f":"VLOOKUP(C771,Main!$A$49:$I$67,Main!$B$47,FALSE)","v":0.5},{"$f":"VLOOKUP(C771,Main!$A$49:$I$67,Main!$C$47,FALSE)","v":0.25},{"$f":"VLOOKUP(C771,Main!$A$49:$I$67,Main!$E$47,FALSE)&\":\"&\" \"&VLOOKUP(C771,Main!$A$49:$I$67,Main!$F$47,FALSE)","v":"Minimum HSPF:: 9.6"},{"$f":"VLOOKUP(C771,Main!$A$49:$I$67,Main!$G$47,FALSE)","v":18},{"$f":"VLOOKUP(C771,Main!$A$49:$I$67,Main!$H$47,FALSE)","v":3.1},{"$f":"VLOOKUP(C771,Main!$A$49:$I$67,Main!$I$47,FALSE)","v":16.100000000000001},4964]
["ON","BEAUSOLEIL","6A",7909,1361,5.2,74.8,0.1862,"44.850N",-5.9,17.5,18.7,27.7,41,53.1,63.8,68.7,67.599999999999994,60.9,48.2,37.4,26.3,1006,875,695,291,61,2,0,0,7,136,385,736,0,0,2,21,157,416,580,545,333,81,6,1,12.9,13.28,20.3,31.1,42.6,54.5,58.64,58.64,52.9,32.5,32.5,19.2,0.84158415841584155,0.133123651391581,82,49,28,33,{"$f":"IF(OR(C772=\"OA\",C772=\"OB\",C772=\"1B\",C772=\"1A\",C772=\"2A\",C772=\"2B\",C772=\"3A\",C772=\"3B\",C772=\"3C\"),TAN((LEFT(I772, 5)+VLOOKUP(C772,Main!$K$3:$L$21,2,FALSE))*PI()/180),IF(Checklist!$I$385=\"No\",TAN((LEFT(I772, 5)+VLOOKUP(C772,Main!$K$3:$L$21,2,FALSE))*PI()/180),\"NR\"))","v":"NR"},{"$f":"VLOOKUP(C772,Main!$A$49:$I$67,Main!$B$47,FALSE)","v":"NR"},{"$f":"VLOOKUP(C772,Main!$A$49:$I$67,Main!$C$47,FALSE)","v":"NR"},{"$f":"VLOOKUP(C772,Main!$A$49:$I$67,Main!$E$47,FALSE)&\":\"&\" \"&VLOOKUP(C772,Main!$A$49:$I$67,Main!$F$47,FALSE)","v":"Minimum COP @ 5°F:: 1.75"},{"$f":"VLOOKUP(C772,Main!$A$49:$I$67,Main!$G$47,FALSE)","v":15},{"$f":"VLOOKUP(C772,Main!$A$49:$I$67,Main!$H$47,FALSE)","v":3.1},{"$f":"VLOOKUP(C772,Main!$A$49:$I$67,Main!$I$47,FALSE)","v":16.100000000000001},2142]
["ON","BURLINGTON PIERS","5A",6450,1362,12.55,77.7,0.1862,"43.300N",8.9,26.5,27.2,34.299999999999997,44.7,55.1,65.599999999999994,70.900000000000006,70.400000000000006,63.6,52.1,41.8,32.4,728,638,490,193,26,0,0,0,1,60,264,547,1,0,5,33,184,469,649,631,409,124,17,1,15.8,17.059999999999999,23.9,32.54,42.4,53.6,57.92,58.82,54.1,34,34,20.3,0.80722891566265065,0.16646087712077556,75,44,24,29,{"$f":"IF(OR(C773=\"OA\",C773=\"OB\",C773=\"1B\",C773=\"1A\",C773=\"2A\",C773=\"2B\",C773=\"3A\",C773=\"3B\",C773=\"3C\"),TAN((LEFT(I773, 5)+VLOOKUP(C773,Main!$K$3:$L$21,2,FALSE))*PI()/180),IF(Checklist!$I$385=\"No\",TAN((LEFT(I773, 5)+VLOOKUP(C773,Main!$K$3:$L$21,2,FALSE))*PI()/180),\"NR\"))","v":"NR"},{"$f":"VLOOKUP(C773,Main!$A$49:$I$67,Main!$B$47,FALSE)","v":"NR"},{"$f":"VLOOKUP(C773,Main!$A$49:$I$67,Main!$C$47,FALSE)","v":"NR"},{"$f":"VLOOKUP(C773,Main!$A$49:$I$67,Main!$E$47,FALSE)&\":\"&\" \"&VLOOKUP(C773,Main!$A$49:$I$67,Main!$F$47,FALSE)","v":"Minimum COP @ 5°F:: 1.75"},{"$f":"VLOOKUP(C773,Main!$A$49:$I$67,Main!$G$47,FALSE)","v":15},{"$f":"VLOOKUP(C773,Main!$A$49:$I$67,Main!$H$47,FALSE)","v":3.1},{"$f":"VLOOKUP(C773,Main!$A$49:$I$67,Main!$I$47,FALSE)","v":16.100000000000001},2523]
["ON","ERIEAU","5A",6502,1335,13.3,74.099999999999994,0.1862,"42.250N",9.3000000000000007,25.9,26.4,32.700000000000003,43.4,54.3,65.400000000000006,70.599999999999994,70.5,64.3,53.3,42.3,32.200000000000003,747,662,535,208,24,0,0,0,1,47,246,552,0,0,0,11,157,462,639,636,429,150,16,0,17.100000000000001,18.86,25.9,34.520000000000003,45.1,57.2,62.06,62.6,56.3,36,36,21.4,0.80997624703087889,0.16759519314885582,{"$f":"ROUNDDOWN((33.97238548+(2.143484655*3.14219615)+(0.00253108806*D774)+(-0.2767683543*J774)+(66.9384076*H774)+((3.14219615-3.14219615)^2*-1.607593659)+((J774-12.48681818)*(H774-0.2016890909)*-1.8168457)+8.4234),0)","v":75},{"$f":"ROUNDDOWN((2.975122788+(0.003896731237*D774)+(59.88697433*H774)+((D774-5520.854545)*(H774-0.2016890909)*0.01119327314)+5.3792),0)","v":44},24,{"$f":"ROUNDDOWN(BK774+5.9089,0)","v":29},{"$f":"IF(OR(C774=\"OA\",C774=\"OB\",C774=\"1B\",C774=\"1A\",C774=\"2A\",C774=\"2B\",C774=\"3A\",C774=\"3B\",C774=\"3C\"),TAN((LEFT(I774, 5)+VLOOKUP(C774,Main!$K$3:$L$21,2,FALSE))*PI()/180),IF(Checklist!$I$385=\"No\",TAN((LEFT(I774, 5)+VLOOKUP(C774,Main!$K$3:$L$21,2,FALSE))*PI()/180),\"NR\"))","v":"NR"},{"$f":"VLOOKUP(C774,Main!$A$49:$I$67,Main!$B$47,FALSE)","v":"NR"},{"$f":"VLOOKUP(C774,Main!$A$49:$I$67,Main!$C$47,FALSE)","v":"NR"},{"$f":"VLOOKUP(C774,Main!$A$49:$I$67,Main!$E$47,FALSE)&\":\"&\" \"&VLOOKUP(C774,Main!$A$49:$I$67,Main!$F$47,FALSE)","v":"Minimum COP @ 5°F:: 1.75"},{"$f":"VLOOKUP(C774,Main!$A$49:$I$67,Main!$G$47,FALSE)","v":15},{"$f":"VLOOKUP(C774,Main!$A$49:$I$67,Main!$H$47,FALSE)","v":3.1},{"$f":"VLOOKUP(C774,Main!$A$49:$I$67,Main!$I$47,FALSE)","v":16.100000000000001},2500]
["ON","LAGOON CITY","6A",7956,1349,1.75,73.900000000000006,0.1862,"44.550N",-5.4,16.5,18.2,27.4,40.700000000000003,53.9,64,68.599999999999994,67.3,60,48.7,36.9,25.6,1039,891,701,288,41,0,0,0,6,117,396,755,0,0,1,11,161,421,577,537,305,76,2,0,11.8,13.1,20.8,32.18,45,56.84,61.52,61.52,55.8,34,34,19.2,0.84466019417475724,0.13403048825392147,82,50,28,33,{"$f":"IF(OR(C775=\"OA\",C775=\"OB\",C775=\"1B\",C775=\"1A\",C775=\"2A\",C775=\"2B\",C775=\"3A\",C775=\"3B\",C775=\"3C\"),TAN((LEFT(I775, 5)+VLOOKUP(C775,Main!$K$3:$L$21,2,FALSE))*PI()/180),IF(Checklist!$I$385=\"No\",TAN((LEFT(I775, 5)+VLOOKUP(C775,Main!$K$3:$L$21,2,FALSE))*PI()/180),\"NR\"))","v":"NR"},{"$f":"VLOOKUP(C775,Main!$A$49:$I$67,Main!$B$47,FALSE)","v":"NR"},{"$f":"VLOOKUP(C775,Main!$A$49:$I$67,Main!$C$47,FALSE)","v":"NR"},{"$f":"VLOOKUP(C775,Main!$A$49:$I$67,Main!$E$47,FALSE)&\":\"&\" \"&VLOOKUP(C775,Main!$A$49:$I$67,Main!$F$47,FALSE)","v":"Minimum COP @ 5°F:: 1.75"},{"$f":"VLOOKUP(C775,Main!$A$49:$I$67,Main!$G$47,FALSE)","v":15},{"$f":"VLOOKUP(C775,Main!$A$49:$I$67,Main!$H$47,FALSE)","v":3.1},{"$f":"VLOOKUP(C775,Main!$A$49:$I$67,Main!$I$47,FALSE)","v":16.100000000000001},2091]
["ON","LONDON AP","5A",7097,1353,13.1,75.2,0.1862,"43.030N",3.9,22.7,23.6,32.299999999999997,44.7,56,65.8,69.400000000000006,67.8,60.7,49.6,38.5,28.3,847,739,561,207,33,1,0,0,6,108,354,674,0,0,11,49,218,474,600,553,327,94,10,1,17.600000000000001,17.059999999999999,24.1,33.799999999999997,43.9,55.4,58.82,59,53.1,33.4,33.4,21.7,0.82339955849889623,0.15347640932664333,78,46,26,31,{"$f":"IF(OR(C776=\"OA\",C776=\"OB\",C776=\"1B\",C776=\"1A\",C776=\"2A\",C776=\"2B\",C776=\"3A\",C776=\"3B\",C776=\"3C\"),TAN((LEFT(I776, 5)+VLOOKUP(C776,Main!$K$3:$L$21,2,FALSE))*PI()/180),IF(Checklist!$I$385=\"No\",TAN((LEFT(I776, 5)+VLOOKUP(C776,Main!$K$3:$L$21,2,FALSE))*PI()/180),\"NR\"))","v":"NR"},{"$f":"VLOOKUP(C776,Main!$A$49:$I$67,Main!$B$47,FALSE)","v":"NR"},{"$f":"VLOOKUP(C776,Main!$A$49:$I$67,Main!$C$47,FALSE)","v":"NR"},{"$f":"VLOOKUP(C776,Main!$A$49:$I$67,Main!$E$47,FALSE)&\":\"&\" \"&VLOOKUP(C776,Main!$A$49:$I$67,Main!$F$47,FALSE)","v":"Minimum COP @ 5°F:: 1.75"},{"$f":"VLOOKUP(C776,Main!$A$49:$I$67,Main!$G$47,FALSE)","v":15},{"$f":"VLOOKUP(C776,Main!$A$49:$I$67,Main!$H$47,FALSE)","v":3.1},{"$f":"VLOOKUP(C776,Main!$A$49:$I$67,Main!$I$47,FALSE)","v":16.100000000000001},2337]
["ON","NORTH BAY AP",7,9272,1318,-0.6,71.8,0.1862,"46.360N",-12,10.4,13.6,24.5,38.799999999999997,52.6,62.1,65.900000000000006,64.3,55.8,43.7,31.2,18.100000000000001,1228,1019,793,357,76,6,0,0,35,239,566,989,0,0,3,22,157,370,494,442,208,42,1,0,4.8,6.08,13.6,25.52,38.700000000000003,51.62,55.94,55.58,49.8,27.3,27.3,13.3,0.86111111111111116,0.12297297297297295,87,54,{"$f":"ROUNDDOWN(-18.64576148+(5.900367721*3.14219615)+(0.002662134083*D777)+(38.92365332*H777)+((BT777-3890.577273)*(G777-78.59)*0.00005765875867)+((D777-5520.854545)*(H777-0.2016890909)*0.006047043516),0)","v":32},37,{"$f":"IF(OR(C777=\"OA\",C777=\"OB\",C777=\"1B\",C777=\"1A\",C777=\"2A\",C777=\"2B\",C777=\"3A\",C777=\"3B\",C777=\"3C\"),TAN((LEFT(I777, 5)+VLOOKUP(C777,Main!$K$3:$L$21,2,FALSE))*PI()/180),IF(Checklist!$I$385=\"No\",TAN((LEFT(I777, 5)+VLOOKUP(C777,Main!$K$3:$L$21,2,FALSE))*PI()/180),\"NR\"))","v":"NR"},{"$f":"VLOOKUP(C777,Main!$A$49:$I$67,Main!$B$47,FALSE)","v":"NR"},{"$f":"VLOOKUP(C777,Main!$A$49:$I$67,Main!$C$47,FALSE)","v":"NR"},{"$f":"VLOOKUP(C777,Main!$A$49:$I$67,Main!$E$47,FALSE)&\":\"&\" \"&VLOOKUP(C777,Main!$A$49:$I$67,Main!$F$47,FALSE)","v":"Minimum COP @ 5°F:: 1.75"},{"$f":"VLOOKUP(C777,Main!$A$49:$I$67,Main!$G$47,FALSE)","v":15},{"$f":"VLOOKUP(C777,Main!$A$49:$I$67,Main!$H$47,FALSE)","v":3.1},{"$f":"VLOOKUP(C777,Main!$A$49:$I$67,Main!$I$47,FALSE)","v":16.100000000000001},1739]
["ON","OTTAWA","6A",8070,1377,3.9,75,0.1862,"45.320N",-6.3,14.5,17.600000000000001,28.3,43.2,56.3,65.8,69.7,68,59.4,47.2,35.200000000000003,22,1101,908,675,240,26,0,0,0,10,153,449,868,0,0,2,37,222,475,611,558,292,65,4,0,7,8.6,17.100000000000001,29.12,41.9,54.32,58.46,57.74,51.6,29.5,29.5,16,0.85046728971962615,0.13240696955367209,83,50,28,33,{"$f":"IF(OR(C778=\"OA\",C778=\"OB\",C778=\"1B\",C778=\"1A\",C778=\"2A\",C778=\"2B\",C778=\"3A\",C778=\"3B\",C778=\"3C\"),TAN((LEFT(I778, 5)+VLOOKUP(C778,Main!$K$3:$L$21,2,FALSE))*PI()/180),IF(Checklist!$I$385=\"No\",TAN((LEFT(I778, 5)+VLOOKUP(C778,Main!$K$3:$L$21,2,FALSE))*PI()/180),\"NR\"))","v":"NR"},{"$f":"VLOOKUP(C778,Main!$A$49:$I$67,Main!$B$47,FALSE)","v":"NR"},{"$f":"VLOOKUP(C778,Main!$A$49:$I$67,Main!$C$47,FALSE)","v":"NR"},{"$f":"VLOOKUP(C778,Main!$A$49:$I$67,Main!$E$47,FALSE)&\":\"&\" \"&VLOOKUP(C778,Main!$A$49:$I$67,Main!$F$47,FALSE)","v":"Minimum COP @ 5°F:: 1.75"},{"$f":"VLOOKUP(C778,Main!$A$49:$I$67,Main!$G$47,FALSE)","v":15},{"$f":"VLOOKUP(C778,Main!$A$49:$I$67,Main!$H$47,FALSE)","v":3.1},{"$f":"VLOOKUP(C778,Main!$A$49:$I$67,Main!$I$47,FALSE)","v":16.100000000000001},2266]
["ON","PETERBOROUGH AP","6A",7866,1361,8.35,73.900000000000006,0.1862,"44.230N",-3.9,18.399999999999999,20.6,29.6,42.9,54.5,63.8,67.400000000000006,65.7,58.1,46.9,35.9,25.2,981,824,638,240,38,1,0,0,13,155,425,768,0,0,4,26,176,414,541,487,256,59,2,0,12,12.38,19.8,31.46,43.2,55.22,59,58.64,52.3,31.3,31.3,19.2,0.83870967741935487,0.13682667368341914,82,49,28,33,{"$f":"IF(OR(C779=\"OA\",C779=\"OB\",C779=\"1B\",C779=\"1A\",C779=\"2A\",C779=\"2B\",C779=\"3A\",C779=\"3B\",C779=\"3C\"),TAN((LEFT(I779, 5)+VLOOKUP(C779,Main!$K$3:$L$21,2,FALSE))*PI()/180),IF(Checklist!$I$385=\"No\",TAN((LEFT(I779, 5)+VLOOKUP(C779,Main!$K$3:$L$21,2,FALSE))*PI()/180),\"NR\"))","v":"NR"},{"$f":"VLOOKUP(C779,Main!$A$49:$I$67,Main!$B$47,FALSE)","v":"NR"},{"$f":"VLOOKUP(C779,Main!$A$49:$I$67,Main!$C$47,FALSE)","v":"NR"},{"$f":"VLOOKUP(C779,Main!$A$49:$I$67,Main!$E$47,FALSE)&\":\"&\" \"&VLOOKUP(C779,Main!$A$49:$I$67,Main!$F$47,FALSE)","v":"Minimum COP @ 5°F:: 1.75"},{"$f":"VLOOKUP(C779,Main!$A$49:$I$67,Main!$G$47,FALSE)","v":15},{"$f":"VLOOKUP(C779,Main!$A$49:$I$67,Main!$H$47,FALSE)","v":3.1},{"$f":"VLOOKUP(C779,Main!$A$49:$I$67,Main!$I$47,FALSE)","v":16.100000000000001},1965]
["ON","PORT WELLER","5A",6291,1356,17.399999999999999,78.599999999999994,0.1862,"43.250N",12.6,27.5,28.3,34.799999999999997,44.2,54.3,65.3,71.2,71.099999999999994,64.7,53.1,42.3,33.299999999999997,697,608,473,198,28,0,0,0,0,45,246,518,1,0,2,24,162,459,659,653,441,142,16,1,19.8,19.760000000000002,26.2,35.6,46.4,57.2,60.98,60.98,55.4,35.6,35.6,24.3,0.80246913580246915,0.17757830032198263,74,43,23,28,{"$f":"IF(OR(C780=\"OA\",C780=\"OB\",C780=\"1B\",C780=\"1A\",C780=\"2A\",C780=\"2B\",C780=\"3A\",C780=\"3B\",C780=\"3C\"),TAN((LEFT(I780, 5)+VLOOKUP(C780,Main!$K$3:$L$21,2,FALSE))*PI()/180),IF(Checklist!$I$385=\"No\",TAN((LEFT(I780, 5)+VLOOKUP(C780,Main!$K$3:$L$21,2,FALSE))*PI()/180),\"NR\"))","v":"NR"},{"$f":"VLOOKUP(C780,Main!$A$49:$I$67,Main!$B$47,FALSE)","v":"NR"},{"$f":"VLOOKUP(C780,Main!$A$49:$I$67,Main!$C$47,FALSE)","v":"NR"},{"$f":"VLOOKUP(C780,Main!$A$49:$I$67,Main!$E$47,FALSE)&\":\"&\" \"&VLOOKUP(C780,Main!$A$49:$I$67,Main!$F$47,FALSE)","v":"Minimum COP @ 5°F:: 1.75"},{"$f":"VLOOKUP(C780,Main!$A$49:$I$67,Main!$G$47,FALSE)","v":15},{"$f":"VLOOKUP(C780,Main!$A$49:$I$67,Main!$H$47,FALSE)","v":3.1},{"$f":"VLOOKUP(C780,Main!$A$49:$I$67,Main!$I$47,FALSE)","v":16.100000000000001},2560]
["ON","SAULT STE MARIE","6A",8893,1335,4.8499999999999996,71.2,0.1862,"46.480N",-6.8,15.2,16.399999999999999,24.8,38.1,50.2,59.7,64.099999999999994,63.8,56.7,45.3,34.200000000000003,22.9,1080,942,783,367,94,6,0,0,23,190,477,840,0,0,2,11,101,296,438,428,223,46,2,0,10.8,11.3,17.600000000000001,28.04,39,50.9,55.76,56.12,51.3,29.8,29.8,18.100000000000001,0.84848484848484851,0.13152189622777857,85,53,31,36,{"$f":"IF(OR(C781=\"OA\",C781=\"OB\",C781=\"1B\",C781=\"1A\",C781=\"2A\",C781=\"2B\",C781=\"3A\",C781=\"3B\",C781=\"3C\"),TAN((LEFT(I781, 5)+VLOOKUP(C781,Main!$K$3:$L$21,2,FALSE))*PI()/180),IF(Checklist!$I$385=\"No\",TAN((LEFT(I781, 5)+VLOOKUP(C781,Main!$K$3:$L$21,2,FALSE))*PI()/180),\"NR\"))","v":"NR"},{"$f":"VLOOKUP(C781,Main!$A$49:$I$67,Main!$B$47,FALSE)","v":"NR"},{"$f":"VLOOKUP(C781,Main!$A$49:$I$67,Main!$C$47,FALSE)","v":"NR"},{"$f":"VLOOKUP(C781,Main!$A$49:$I$67,Main!$E$47,FALSE)&\":\"&\" \"&VLOOKUP(C781,Main!$A$49:$I$67,Main!$F$47,FALSE)","v":"Minimum COP @ 5°F:: 1.75"},{"$f":"VLOOKUP(C781,Main!$A$49:$I$67,Main!$G$47,FALSE)","v":15},{"$f":"VLOOKUP(C781,Main!$A$49:$I$67,Main!$H$47,FALSE)","v":3.1},{"$f":"VLOOKUP(C781,Main!$A$49:$I$67,Main!$I$47,FALSE)","v":16.100000000000001},1547]
["ON","SUDBURY AP",7,9385,1319,-0.05,72.7,0.1862,"46.630N",-12.3,9.6999999999999993,12.9,23.9,38.4,52.3,62.3,66,64.3,55.7,43.4,30.5,17.8,1251,1040,812,367,75,5,0,0,34,242,586,999,0,0,1,18,146,373,497,444,206,36,1,0,4.5,5.72,13.6,25.52,38.1,50.72,55.04,54.5,49.3,27.1,27.1,12.7,0.86277873070325894,0.12251354717108141,88,55,32,37,{"$f":"IF(OR(C782=\"OA\",C782=\"OB\",C782=\"1B\",C782=\"1A\",C782=\"2A\",C782=\"2B\",C782=\"3A\",C782=\"3B\",C782=\"3C\"),TAN((LEFT(I782, 5)+VLOOKUP(C782,Main!$K$3:$L$21,2,FALSE))*PI()/180),IF(Checklist!$I$385=\"No\",TAN((LEFT(I782, 5)+VLOOKUP(C782,Main!$K$3:$L$21,2,FALSE))*PI()/180),\"NR\"))","v":"NR"},{"$f":"VLOOKUP(C782,Main!$A$49:$I$67,Main!$B$47,FALSE)","v":"NR"},{"$f":"VLOOKUP(C782,Main!$A$49:$I$67,Main!$C$47,FALSE)","v":"NR"},{"$f":"VLOOKUP(C782,Main!$A$49:$I$67,Main!$E$47,FALSE)&\":\"&\" \"&VLOOKUP(C782,Main!$A$49:$I$67,Main!$F$47,FALSE)","v":"Minimum COP @ 5°F:: 1.75"},{"$f":"VLOOKUP(C782,Main!$A$49:$I$67,Main!$G$47,FALSE)","v":15},{"$f":"VLOOKUP(C782,Main!$A$49:$I$67,Main!$H$47,FALSE)","v":3.1},{"$f":"VLOOKUP(C782,Main!$A$49:$I$67,Main!$I$47,FALSE)","v":16.100000000000001},1722]
["ON","THUNDER BAY AP",7,10052,1259,-3.85,71.400000000000006,0.1862,"48.370N",-15.9,7.6,12.2,23.2,36.799999999999997,48.4,58.4,63.8,62.9,53.9,41.6,28.3,14.7,1314,1059,832,401,117,7,0,0,47,282,651,1093,0,0,1,4,69,259,428,401,165,23,0,0,1.9,3.2,13.6,25.88,36.299999999999997,49.28,55.22,54.86,48.7,23.5,23.5,8.1999999999999993,0.86754966887417218,0.11725670843668458,90,57,34,39,{"$f":"IF(OR(C783=\"OA\",C783=\"OB\",C783=\"1B\",C783=\"1A\",C783=\"2A\",C783=\"2B\",C783=\"3A\",C783=\"3B\",C783=\"3C\"),TAN((LEFT(I783, 5)+VLOOKUP(C783,Main!$K$3:$L$21,2,FALSE))*PI()/180),IF(Checklist!$I$385=\"No\",TAN((LEFT(I783, 5)+VLOOKUP(C783,Main!$K$3:$L$21,2,FALSE))*PI()/180),\"NR\"))","v":"NR"},{"$f":"VLOOKUP(C783,Main!$A$49:$I$67,Main!$B$47,FALSE)","v":"NR"},{"$f":"VLOOKUP(C783,Main!$A$49:$I$67,Main!$C$47,FALSE)","v":"NR"},{"$f":"VLOOKUP(C783,Main!$A$49:$I$67,Main!$E$47,FALSE)&\":\"&\" \"&VLOOKUP(C783,Main!$A$49:$I$67,Main!$F$47,FALSE)","v":"Minimum COP @ 5°F:: 1.75"},{"$f":"VLOOKUP(C783,Main!$A$49:$I$67,Main!$G$47,FALSE)","v":15},{"$f":"VLOOKUP(C783,Main!$A$49:$I$67,Main!$H$47,FALSE)","v":3.1},{"$f":"VLOOKUP(C783,Main!$A$49:$I$67,Main!$I$47,FALSE)","v":16.100000000000001},1350]
["ON","TIMMINS AP",7,10768,1262,-9.4,72.099999999999994,0.1862,"48.570N",-21.6,2.8,7.2,19.399999999999999,34.700000000000003,49.5,59.8,63.4,61.2,52.6,40.4,26.5,11.9,1464,1199,951,471,130,15,1,2,68,324,705,1182,0,0,3,11,114,307,417,349,147,26,1,0,-2,-0.57999999999999996,8.8000000000000007,21.56,34.700000000000003,46.94,52.7,52.34,46.6,23.2,23.2,7.2,0.87730061349693256,0.10979729729729729,93,60,36,41,{"$f":"IF(OR(C784=\"OA\",C784=\"OB\",C784=\"1B\",C784=\"1A\",C784=\"2A\",C784=\"2B\",C784=\"3A\",C784=\"3B\",C784=\"3C\"),TAN((LEFT(I784, 5)+VLOOKUP(C784,Main!$K$3:$L$21,2,FALSE))*PI()/180),IF(Checklist!$I$385=\"No\",TAN((LEFT(I784, 5)+VLOOKUP(C784,Main!$K$3:$L$21,2,FALSE))*PI()/180),\"NR\"))","v":"NR"},{"$f":"VLOOKUP(C784,Main!$A$49:$I$67,Main!$B$47,FALSE)","v":"NR"},{"$f":"VLOOKUP(C784,Main!$A$49:$I$67,Main!$C$47,FALSE)","v":"NR"},{"$f":"VLOOKUP(C784,Main!$A$49:$I$67,Main!$E$47,FALSE)&\":\"&\" \"&VLOOKUP(C784,Main!$A$49:$I$67,Main!$F$47,FALSE)","v":"Minimum COP @ 5°F:: 1.75"},{"$f":"VLOOKUP(C784,Main!$A$49:$I$67,Main!$G$47,FALSE)","v":15},{"$f":"VLOOKUP(C784,Main!$A$49:$I$67,Main!$H$47,FALSE)","v":3.1},{"$f":"VLOOKUP(C784,Main!$A$49:$I$67,Main!$I$47,FALSE)","v":16.100000000000001},1375]
["ON","TORONTO AP","6A",7232,1297,13.65,78.099999999999994,0.1862,"43.860N",1.8,21.7,22.7,31.7,44.1,55.7,66,70.2,68.7,60.7,48.9,38,27.8,879,765,574,216,31,0,0,0,7,114,367,687,0,0,7,40,209,479,627,580,329,82,6,0,14.7,15.08,21.6,31.28,42.3,53.6,57.38,57.56,52,32.4,32.4,20.7,0.82721382289416845,0.1486078223238344,79,47,26,31,{"$f":"IF(OR(C785=\"OA\",C785=\"OB\",C785=\"1B\",C785=\"1A\",C785=\"2A\",C785=\"2B\",C785=\"3A\",C785=\"3B\",C785=\"3C\"),TAN((LEFT(I785, 5)+VLOOKUP(C785,Main!$K$3:$L$21,2,FALSE))*PI()/180),IF(Checklist!$I$385=\"No\",TAN((LEFT(I785, 5)+VLOOKUP(C785,Main!$K$3:$L$21,2,FALSE))*PI()/180),\"NR\"))","v":"NR"},{"$f":"VLOOKUP(C785,Main!$A$49:$I$67,Main!$B$47,FALSE)","v":"NR"},{"$f":"VLOOKUP(C785,Main!$A$49:$I$67,Main!$C$47,FALSE)","v":"NR"},{"$f":"VLOOKUP(C785,Main!$A$49:$I$67,Main!$E$47,FALSE)&\":\"&\" \"&VLOOKUP(C785,Main!$A$49:$I$67,Main!$F$47,FALSE)","v":"Minimum COP @ 5°F:: 1.75"},{"$f":"VLOOKUP(C785,Main!$A$49:$I$67,Main!$G$47,FALSE)","v":15},{"$f":"VLOOKUP(C785,Main!$A$49:$I$67,Main!$H$47,FALSE)","v":3.1},{"$f":"VLOOKUP(C785,Main!$A$49:$I$67,Main!$I$47,FALSE)","v":16.100000000000001},2359]
["ON","TORONTO ISLAND AP","5A",6627,1381,16.899999999999999,73.8,0.1862,"43.630N",8.4,25.7,27.1,33.799999999999997,43.9,54.4,64.599999999999994,69.400000000000006,69.8,63,50.9,40.6,31.5,753,642,503,199,24,0,0,0,1,67,284,573,0,0,2,17,161,438,603,614,392,96,4,0,18,17.96,23.4,32.72,43.3,55.04,59.9,60.98,55.6,34.299999999999997,34.299999999999997,23.2,0.81087470449172572,0.1650643932523127,75,45,25,30,{"$f":"IF(OR(C786=\"OA\",C786=\"OB\",C786=\"1B\",C786=\"1A\",C786=\"2A\",C786=\"2B\",C786=\"3A\",C786=\"3B\",C786=\"3C\"),TAN((LEFT(I786, 5)+VLOOKUP(C786,Main!$K$3:$L$21,2,FALSE))*PI()/180),IF(Checklist!$I$385=\"No\",TAN((LEFT(I786, 5)+VLOOKUP(C786,Main!$K$3:$L$21,2,FALSE))*PI()/180),\"NR\"))","v":"NR"},{"$f":"VLOOKUP(C786,Main!$A$49:$I$67,Main!$B$47,FALSE)","v":"NR"},{"$f":"VLOOKUP(C786,Main!$A$49:$I$67,Main!$C$47,FALSE)","v":"NR"},{"$f":"VLOOKUP(C786,Main!$A$49:$I$67,Main!$E$47,FALSE)&\":\"&\" \"&VLOOKUP(C786,Main!$A$49:$I$67,Main!$F$47,FALSE)","v":"Minimum COP @ 5°F:: 1.75"},{"$f":"VLOOKUP(C786,Main!$A$49:$I$67,Main!$G$47,FALSE)","v":15},{"$f":"VLOOKUP(C786,Main!$A$49:$I$67,Main!$H$47,FALSE)","v":3.1},{"$f":"VLOOKUP(C786,Main!$A$49:$I$67,Main!$I$47,FALSE)","v":16.100000000000001},2327]
["ON","TORONTO","5A",6333,1316,14.15,76.599999999999994,0.1862,"43.670N",7.4,25.2,26.3,35.1,46.6,57.9,67.7,72.8,71.599999999999994,64.400000000000006,51.9,41.5,31.3,768,663,470,156,14,0,0,0,0,65,266,580,0,0,9,55,260,532,706,670,432,123,12,0,16.3,16.52,22.5,31.64,42.4,54.32,58.46,58.46,53.4,33.1,33.1,21.6,0.81308411214953269,0.16234055838016231,75,44,24,29,{"$f":"IF(OR(C787=\"OA\",C787=\"OB\",C787=\"1B\",C787=\"1A\",C787=\"2A\",C787=\"2B\",C787=\"3A\",C787=\"3B\",C787=\"3C\"),TAN((LEFT(I787, 5)+VLOOKUP(C787,Main!$K$3:$L$21,2,FALSE))*PI()/180),IF(Checklist!$I$385=\"No\",TAN((LEFT(I787, 5)+VLOOKUP(C787,Main!$K$3:$L$21,2,FALSE))*PI()/180),\"NR\"))","v":"NR"},{"$f":"VLOOKUP(C787,Main!$A$49:$I$67,Main!$B$47,FALSE)","v":"NR"},{"$f":"VLOOKUP(C787,Main!$A$49:$I$67,Main!$C$47,FALSE)","v":"NR"},{"$f":"VLOOKUP(C787,Main!$A$49:$I$67,Main!$E$47,FALSE)&\":\"&\" \"&VLOOKUP(C787,Main!$A$49:$I$67,Main!$F$47,FALSE)","v":"Minimum COP @ 5°F:: 1.75"},{"$f":"VLOOKUP(C787,Main!$A$49:$I$67,Main!$G$47,FALSE)","v":15},{"$f":"VLOOKUP(C787,Main!$A$49:$I$67,Main!$H$47,FALSE)","v":3.1},{"$f":"VLOOKUP(C787,Main!$A$49:$I$67,Main!$I$47,FALSE)","v":16.100000000000001},2799]
["ON","TRENTON AP","6A",7450,1366,11.95,75.400000000000006,0.1862,"44.120N",-1.6,20.100000000000001,21.8,30.7,43.7,54.9,65,69.099999999999994,67.8,59.9,48.5,37.6,26.8,929,790,600,220,29,0,0,0,8,123,378,720,0,0,2,31,180,451,592,552,304,75,6,0,13.3,13.64,21,32.54,44.4,55.94,60.08,60.26,54.1,32.200000000000003,32.200000000000003,19.899999999999999,0.83298538622129437,0.14134824479652064,80,48,27,32,{"$f":"IF(OR(C788=\"OA\",C788=\"OB\",C788=\"1B\",C788=\"1A\",C788=\"2A\",C788=\"2B\",C788=\"3A\",C788=\"3B\",C788=\"3C\"),TAN((LEFT(I788, 5)+VLOOKUP(C788,Main!$K$3:$L$21,2,FALSE))*PI()/180),IF(Checklist!$I$385=\"No\",TAN((LEFT(I788, 5)+VLOOKUP(C788,Main!$K$3:$L$21,2,FALSE))*PI()/180),\"NR\"))","v":"NR"},{"$f":"VLOOKUP(C788,Main!$A$49:$I$67,Main!$B$47,FALSE)","v":"NR"},{"$f":"VLOOKUP(C788,Main!$A$49:$I$67,Main!$C$47,FALSE)","v":"NR"},{"$f":"VLOOKUP(C788,Main!$A$49:$I$67,Main!$E$47,FALSE)&\":\"&\" \"&VLOOKUP(C788,Main!$A$49:$I$67,Main!$F$47,FALSE)","v":"Minimum COP @ 5°F:: 1.75"},{"$f":"VLOOKUP(C788,Main!$A$49:$I$67,Main!$G$47,FALSE)","v":15},{"$f":"VLOOKUP(C788,Main!$A$49:$I$67,Main!$H$47,FALSE)","v":3.1},{"$f":"VLOOKUP(C788,Main!$A$49:$I$67,Main!$I$47,FALSE)","v":16.100000000000001},2193]
["ON","WINDSOR","5A",6158,1317,16.25,79.2,0.1862,"42.280N",8.6,25.9,27.7,36.4,48.1,59.4,69.5,73.400000000000006,71.7,64.400000000000006,53,41.5,31,747,624,443,139,12,0,0,0,2,59,278,592,1,0,20,83,304,585,726,672,433,151,23,2,19,19.22,26.1,35.42,46.2,56.66,60.26,61.52,55.2,34.200000000000003,34.200000000000003,23,0.80997624703087889,0.16562016562016563,74,43,23,28,{"$f":"IF(OR(C789=\"OA\",C789=\"OB\",C789=\"1B\",C789=\"1A\",C789=\"2A\",C789=\"2B\",C789=\"3A\",C789=\"3B\",C789=\"3C\"),TAN((LEFT(I789, 5)+VLOOKUP(C789,Main!$K$3:$L$21,2,FALSE))*PI()/180),IF(Checklist!$I$385=\"No\",TAN((LEFT(I789, 5)+VLOOKUP(C789,Main!$K$3:$L$21,2,FALSE))*PI()/180),\"NR\"))","v":"NR"},{"$f":"VLOOKUP(C789,Main!$A$49:$I$67,Main!$B$47,FALSE)","v":"NR"},{"$f":"VLOOKUP(C789,Main!$A$49:$I$67,Main!$C$47,FALSE)","v":"NR"},{"$f":"VLOOKUP(C789,Main!$A$49:$I$67,Main!$E$47,FALSE)&\":\"&\" \"&VLOOKUP(C789,Main!$A$49:$I$67,Main!$F$47,FALSE)","v":"Minimum COP @ 5°F:: 1.75"},{"$f":"VLOOKUP(C789,Main!$A$49:$I$67,Main!$G$47,FALSE)","v":15},{"$f":"VLOOKUP(C789,Main!$A$49:$I$67,Main!$H$47,FALSE)","v":3.1},{"$f":"VLOOKUP(C789,Main!$A$49:$I$67,Main!$I$47,FALSE)","v":16.100000000000001},3000]
["OR","ASTORIA REGIONAL AIRPORT","4C",4967,1185,39.549999999999997,70.7,9.8799999999999999E-2,"46.157N",30.6,43.8,44.4,46.2,48.7,53.1,57.1,60.5,61.1,59,52.8,47.1,43.1,201,162,131,70,13,0,0,0,0,23,115,220,8,6,12,30,110,212,325,345,270,111,29,7,37.6,39.92,41.4,42.44,46.2,49.82,54.14,55.4,52.2,42.4,42.4,39,0.67871485943775101,0.26304379245555715,63,34,18,23,{"$f":"IF(OR(C790=\"OA\",C790=\"OB\",C790=\"1B\",C790=\"1A\",C790=\"2A\",C790=\"2B\",C790=\"3A\",C790=\"3B\",C790=\"3C\"),TAN((LEFT(I790, 5)+VLOOKUP(C790,Main!$K$3:$L$21,2,FALSE))*PI()/180),IF(Checklist!$I$385=\"No\",TAN((LEFT(I790, 5)+VLOOKUP(C790,Main!$K$3:$L$21,2,FALSE))*PI()/180),\"NR\"))","v":"NR"},{"$f":"VLOOKUP(C790,Main!$A$49:$I$67,Main!$B$47,FALSE)","v":"NR"},{"$f":"VLOOKUP(C790,Main!$A$49:$I$67,Main!$C$47,FALSE)","v":"NR"},{"$f":"VLOOKUP(C790,Main!$A$49:$I$67,Main!$E$47,FALSE)&\":\"&\" \"&VLOOKUP(C790,Main!$A$49:$I$67,Main!$F$47,FALSE)","v":"Minimum HSPF:: 9.6"},{"$f":"VLOOKUP(C790,Main!$A$49:$I$67,Main!$G$47,FALSE)","v":18},{"$f":"VLOOKUP(C790,Main!$A$49:$I$67,Main!$H$47,FALSE)","v":3.1},{"$f":"VLOOKUP(C790,Main!$A$49:$I$67,Main!$I$47,FALSE)","v":16.100000000000001},1465]
["OR","AURORA STATE","4C",4461,1330,42.1,73.900000000000006,9.8799999999999999E-2,"45.249N",28.1,41.6,43.8,47,50.9,57.1,62,68.7,68.8,64.099999999999994,54.1,46.2,40.799999999999997,267,178,119,51,7,0,0,0,0,20,142,291,5,4,27,77,227,359,579,583,423,148,27,7,37,35.96,43.2,41.18,43.9,50.36,53.42,56.3,47.1,44.4,44.4,37.6,0.70588235294117652,0.2465623518255097,62,32,16,21,{"$f":"IF(OR(C791=\"OA\",C791=\"OB\",C791=\"1B\",C791=\"1A\",C791=\"2A\",C791=\"2B\",C791=\"3A\",C791=\"3B\",C791=\"3C\"),TAN((LEFT(I791, 5)+VLOOKUP(C791,Main!$K$3:$L$21,2,FALSE))*PI()/180),IF(Checklist!$I$385=\"No\",TAN((LEFT(I791, 5)+VLOOKUP(C791,Main!$K$3:$L$21,2,FALSE))*PI()/180),\"NR\"))","v":"NR"},{"$f":"VLOOKUP(C791,Main!$A$49:$I$67,Main!$B$47,FALSE)","v":"NR"},{"$f":"VLOOKUP(C791,Main!$A$49:$I$67,Main!$C$47,FALSE)","v":"NR"},{"$f":"VLOOKUP(C791,Main!$A$49:$I$67,Main!$E$47,FALSE)&\":\"&\" \"&VLOOKUP(C791,Main!$A$49:$I$67,Main!$F$47,FALSE)","v":"Minimum HSPF:: 9.6"},{"$f":"VLOOKUP(C791,Main!$A$49:$I$67,Main!$G$47,FALSE)","v":18},{"$f":"VLOOKUP(C791,Main!$A$49:$I$67,Main!$H$47,FALSE)","v":3.1},{"$f":"VLOOKUP(C791,Main!$A$49:$I$67,Main!$I$47,FALSE)","v":16.100000000000001},2466]
["OR","BAKER MUNICIPAL AP","6B",7238,1550,24.6,74.099999999999994,9.8799999999999999E-2,"44.843N",7,26.9,31.4,38.9,44.1,52,58.5,66.900000000000006,65.900000000000006,57.8,45.3,34.200000000000003,26.7,715,521,348,200,64,10,0,0,13,181,475,723,0,0,3,22,126,263,524,492,246,36,2,0,24.3,21.38,25.5,29.66,32.5,44.06,47.48,45.86,41,23.4,23.4,26.1,0.80629539951573848,0.16127603012848912,71,40,22,27,{"$f":"IF(OR(C792=\"OA\",C792=\"OB\",C792=\"1B\",C792=\"1A\",C792=\"2A\",C792=\"2B\",C792=\"3A\",C792=\"3B\",C792=\"3C\"),TAN((LEFT(I792, 5)+VLOOKUP(C792,Main!$K$3:$L$21,2,FALSE))*PI()/180),IF(Checklist!$I$385=\"No\",TAN((LEFT(I792, 5)+VLOOKUP(C792,Main!$K$3:$L$21,2,FALSE))*PI()/180),\"NR\"))","v":"NR"},{"$f":"VLOOKUP(C792,Main!$A$49:$I$67,Main!$B$47,FALSE)","v":"NR"},{"$f":"VLOOKUP(C792,Main!$A$49:$I$67,Main!$C$47,FALSE)","v":"NR"},{"$f":"VLOOKUP(C792,Main!$A$49:$I$67,Main!$E$47,FALSE)&\":\"&\" \"&VLOOKUP(C792,Main!$A$49:$I$67,Main!$F$47,FALSE)","v":"Minimum COP @ 5°F:: 1.75"},{"$f":"VLOOKUP(C792,Main!$A$49:$I$67,Main!$G$47,FALSE)","v":15},{"$f":"VLOOKUP(C792,Main!$A$49:$I$67,Main!$H$47,FALSE)","v":3.1},{"$f":"VLOOKUP(C792,Main!$A$49:$I$67,Main!$I$47,FALSE)","v":16.100000000000001},1714]
["OR","BURNS MUNICIPAL ARPT [UO]","6B",7522,1581,22.2,72.5,9.8799999999999999E-2,"43.595N",4,26,29.3,37.6,43,51.3,58.3,67.7,65.400000000000006,57.2,44.9,33.799999999999997,25.2,745,579,385,229,77,16,0,1,20,192,488,769,0,0,1,19,118,265,550,478,237,32,1,0,19.899999999999999,22.1,27.9,25.52,30.2,40.64,37.76,40.64,34.9,25.3,25.3,23.5,0.81308411214953269,0.1537162162162162,72,41,23,28,{"$f":"IF(OR(C793=\"OA\",C793=\"OB\",C793=\"1B\",C793=\"1A\",C793=\"2A\",C793=\"2B\",C793=\"3A\",C793=\"3B\",C793=\"3C\"),TAN((LEFT(I793, 5)+VLOOKUP(C793,Main!$K$3:$L$21,2,FALSE))*PI()/180),IF(Checklist!$I$385=\"No\",TAN((LEFT(I793, 5)+VLOOKUP(C793,Main!$K$3:$L$21,2,FALSE))*PI()/180),\"NR\"))","v":"NR"},{"$f":"VLOOKUP(C793,Main!$A$49:$I$67,Main!$B$47,FALSE)","v":"NR"},{"$f":"VLOOKUP(C793,Main!$A$49:$I$67,Main!$C$47,FALSE)","v":"NR"},{"$f":"VLOOKUP(C793,Main!$A$49:$I$67,Main!$E$47,FALSE)&\":\"&\" \"&VLOOKUP(C793,Main!$A$49:$I$67,Main!$F$47,FALSE)","v":"Minimum COP @ 5°F:: 1.75"},{"$f":"VLOOKUP(C793,Main!$A$49:$I$67,Main!$G$47,FALSE)","v":15},{"$f":"VLOOKUP(C793,Main!$A$49:$I$67,Main!$H$47,FALSE)","v":3.1},{"$f":"VLOOKUP(C793,Main!$A$49:$I$67,Main!$I$47,FALSE)","v":16.100000000000001},1701]
["OR","CORVALLIS MUNI","4C",4306,1398,38.299999999999997,73,9.8799999999999999E-2,"44.500N",27.5,41.7,43.7,47.8,51.6,58.1,62.8,69.400000000000006,69,64,54.6,46.4,41.4,267,184,102,39,5,0,0,0,0,21,145,273,8,8,35,89,257,384,601,588,420,162,36,8,36.299999999999997,37.22,42.6,35.96,41.7,49.46,51.62,53.06,49.8,39.4,39.4,38.5,0.6992481203007519,0.24290957624290957,61,32,16,21,{"$f":"IF(OR(C794=\"OA\",C794=\"OB\",C794=\"1B\",C794=\"1A\",C794=\"2A\",C794=\"2B\",C794=\"3A\",C794=\"3B\",C794=\"3C\"),TAN((LEFT(I794, 5)+VLOOKUP(C794,Main!$K$3:$L$21,2,FALSE))*PI()/180),IF(Checklist!$I$385=\"No\",TAN((LEFT(I794, 5)+VLOOKUP(C794,Main!$K$3:$L$21,2,FALSE))*PI()/180),\"NR\"))","v":"NR"},{"$f":"VLOOKUP(C794,Main!$A$49:$I$67,Main!$B$47,FALSE)","v":"NR"},{"$f":"VLOOKUP(C794,Main!$A$49:$I$67,Main!$C$47,FALSE)","v":"NR"},{"$f":"VLOOKUP(C794,Main!$A$49:$I$67,Main!$E$47,FALSE)&\":\"&\" \"&VLOOKUP(C794,Main!$A$49:$I$67,Main!$F$47,FALSE)","v":"Minimum HSPF:: 9.6"},{"$f":"VLOOKUP(C794,Main!$A$49:$I$67,Main!$G$47,FALSE)","v":18},{"$f":"VLOOKUP(C794,Main!$A$49:$I$67,Main!$H$47,FALSE)","v":3.1},{"$f":"VLOOKUP(C794,Main!$A$49:$I$67,Main!$I$47,FALSE)","v":16.100000000000001},2596]
["OR","EUGENE MAHLON SWEET ARPT [UO]","4C",4664,1355,35.15,79,9.8799999999999999E-2,"44.128N",26.9,41.2,43.2,46.9,50.3,55.5,60.4,67.8,67.7,63.1,53.2,45.4,40.299999999999997,280,199,121,54,11,0,0,0,0,28,163,308,7,9,25,64,183,313,552,548,392,129,26,7,38.700000000000003,36.5,41,42.98,47.5,50.36,51.98,53.06,48.9,39,39,37.799999999999997,0.71119133574007221,0.23936345104228313,62,33,16,21,{"$f":"IF(OR(C795=\"OA\",C795=\"OB\",C795=\"1B\",C795=\"1A\",C795=\"2A\",C795=\"2B\",C795=\"3A\",C795=\"3B\",C795=\"3C\"),TAN((LEFT(I795, 5)+VLOOKUP(C795,Main!$K$3:$L$21,2,FALSE))*PI()/180),IF(Checklist!$I$385=\"No\",TAN((LEFT(I795, 5)+VLOOKUP(C795,Main!$K$3:$L$21,2,FALSE))*PI()/180),\"NR\"))","v":"NR"},{"$f":"VLOOKUP(C795,Main!$A$49:$I$67,Main!$B$47,FALSE)","v":"NR"},{"$f":"VLOOKUP(C795,Main!$A$49:$I$67,Main!$C$47,FALSE)","v":"NR"},{"$f":"VLOOKUP(C795,Main!$A$49:$I$67,Main!$E$47,FALSE)&\":\"&\" \"&VLOOKUP(C795,Main!$A$49:$I$67,Main!$F$47,FALSE)","v":"Minimum HSPF:: 9.6"},{"$f":"VLOOKUP(C795,Main!$A$49:$I$67,Main!$G$47,FALSE)","v":18},{"$f":"VLOOKUP(C795,Main!$A$49:$I$67,Main!$H$47,FALSE)","v":3.1},{"$f":"VLOOKUP(C795,Main!$A$49:$I$67,Main!$I$47,FALSE)","v":16.100000000000001},2255]
["OR","KLAMATH FALLS INTL AP [UO]","5B",6703,1664,29.35,74.3,9.8799999999999999E-2,"42.147N",12.6,31.4,34.799999999999997,39.4,43.5,51.6,58.4,67.400000000000006,65.400000000000006,59.2,47.7,37,30.3,578,426,329,215,73,12,0,0,9,123,394,609,0,0,2,21,124,264,541,477,284,53,3,0,24.1,31.46,27.7,30.92,36.5,41,47.3,44.78,40.799999999999997,29.8,29.8,26.6,0.7877984084880636,0.17757830032198263,69,39,21,26,{"$f":"IF(OR(C796=\"OA\",C796=\"OB\",C796=\"1B\",C796=\"1A\",C796=\"2A\",C796=\"2B\",C796=\"3A\",C796=\"3B\",C796=\"3C\"),TAN((LEFT(I796, 5)+VLOOKUP(C796,Main!$K$3:$L$21,2,FALSE))*PI()/180),IF(Checklist!$I$385=\"No\",TAN((LEFT(I796, 5)+VLOOKUP(C796,Main!$K$3:$L$21,2,FALSE))*PI()/180),\"NR\"))","v":"NR"},{"$f":"VLOOKUP(C796,Main!$A$49:$I$67,Main!$B$47,FALSE)","v":"NR"},{"$f":"VLOOKUP(C796,Main!$A$49:$I$67,Main!$C$47,FALSE)","v":"NR"},{"$f":"VLOOKUP(C796,Main!$A$49:$I$67,Main!$E$47,FALSE)&\":\"&\" \"&VLOOKUP(C796,Main!$A$49:$I$67,Main!$F$47,FALSE)","v":"Minimum COP @ 5°F:: 1.75"},{"$f":"VLOOKUP(C796,Main!$A$49:$I$67,Main!$G$47,FALSE)","v":15},{"$f":"VLOOKUP(C796,Main!$A$49:$I$67,Main!$H$47,FALSE)","v":3.1},{"$f":"VLOOKUP(C796,Main!$A$49:$I$67,Main!$I$47,FALSE)","v":16.100000000000001},1769]
["OR","LA GRANDE MUNI AP","5B",6235,1508,26.6,73.900000000000006,9.8799999999999999E-2,"45.283N",15.8,32.700000000000003,35.299999999999997,41.6,46.2,53.7,60.3,69.400000000000006,67.400000000000006,59.7,48.4,38.4,32.200000000000003,536,411,270,149,43,5,0,0,6,115,357,552,0,1,9,34,157,312,600,540,298,66,9,0,24.8,27.86,27.9,33.26,38.799999999999997,42.8,40.1,42.98,44.4,27.5,27.5,24.6,0.77653631284916202,0.18846432639536087,67,37,20,25,{"$f":"IF(OR(C797=\"OA\",C797=\"OB\",C797=\"1B\",C797=\"1A\",C797=\"2A\",C797=\"2B\",C797=\"3A\",C797=\"3B\",C797=\"3C\"),TAN((LEFT(I797, 5)+VLOOKUP(C797,Main!$K$3:$L$21,2,FALSE))*PI()/180),IF(Checklist!$I$385=\"No\",TAN((LEFT(I797, 5)+VLOOKUP(C797,Main!$K$3:$L$21,2,FALSE))*PI()/180),\"NR\"))","v":"NR"},{"$f":"VLOOKUP(C797,Main!$A$49:$I$67,Main!$B$47,FALSE)","v":"NR"},{"$f":"VLOOKUP(C797,Main!$A$49:$I$67,Main!$C$47,FALSE)","v":"NR"},{"$f":"VLOOKUP(C797,Main!$A$49:$I$67,Main!$E$47,FALSE)&\":\"&\" \"&VLOOKUP(C797,Main!$A$49:$I$67,Main!$F$47,FALSE)","v":"Minimum COP @ 5°F:: 1.75"},{"$f":"VLOOKUP(C797,Main!$A$49:$I$67,Main!$G$47,FALSE)","v":15},{"$f":"VLOOKUP(C797,Main!$A$49:$I$67,Main!$H$47,FALSE)","v":3.1},{"$f":"VLOOKUP(C797,Main!$A$49:$I$67,Main!$I$47,FALSE)","v":16.100000000000001},2026]
["OR","LAKEVIEW (AWOS)","6B",7436,1708,28.1,77.5,9.8799999999999999E-2,"42.167N",7.7,28.5,30.9,37.1,41.5,50.2,57.3,66.099999999999994,63.7,56.9,45.3,34.9,27.7,665,534,402,266,94,19,0,1,21,172,455,693,0,0,0,10,99,239,499,426,227,28,1,0,22.5,22.28,25.3,31.28,33.4,37.04,39.92,37.04,31.8,28.9,28.9,24.1,0.80148883374689828,0.16314822284971536,71,41,22,27,{"$f":"IF(OR(C798=\"OA\",C798=\"OB\",C798=\"1B\",C798=\"1A\",C798=\"2A\",C798=\"2B\",C798=\"3A\",C798=\"3B\",C798=\"3C\"),TAN((LEFT(I798, 5)+VLOOKUP(C798,Main!$K$3:$L$21,2,FALSE))*PI()/180),IF(Checklist!$I$385=\"No\",TAN((LEFT(I798, 5)+VLOOKUP(C798,Main!$K$3:$L$21,2,FALSE))*PI()/180),\"NR\"))","v":"NR"},{"$f":"VLOOKUP(C798,Main!$A$49:$I$67,Main!$B$47,FALSE)","v":"NR"},{"$f":"VLOOKUP(C798,Main!$A$49:$I$67,Main!$C$47,FALSE)","v":"NR"},{"$f":"VLOOKUP(C798,Main!$A$49:$I$67,Main!$E$47,FALSE)&\":\"&\" \"&VLOOKUP(C798,Main!$A$49:$I$67,Main!$F$47,FALSE)","v":"Minimum COP @ 5°F:: 1.75"},{"$f":"VLOOKUP(C798,Main!$A$49:$I$67,Main!$G$47,FALSE)","v":15},{"$f":"VLOOKUP(C798,Main!$A$49:$I$67,Main!$H$47,FALSE)","v":3.1},{"$f":"VLOOKUP(C798,Main!$A$49:$I$67,Main!$I$47,FALSE)","v":16.100000000000001},1529]
["OR","MEDFORD ROGUE VALLEY INTL AP [ASHLAND - UO]","4C",4262,1596,34.35,76.3,9.8799999999999999E-2,"42.381N",26,40.1,44.2,48.2,52.5,59.8,66.099999999999994,75,73.900000000000006,68,55.9,44.9,38.9,309,173,104,45,5,0,0,0,0,19,174,348,3,11,47,120,308,484,774,742,539,201,20,5,32.4,34.880000000000003,37.6,39.56,42.3,46.4,48.74,50.36,46.2,36.9,36.9,33.6,0.72508591065292094,0.23423423423423423,61,32,15,20,{"$f":"IF(OR(C799=\"OA\",C799=\"OB\",C799=\"1B\",C799=\"1A\",C799=\"2A\",C799=\"2B\",C799=\"3A\",C799=\"3B\",C799=\"3C\"),TAN((LEFT(I799, 5)+VLOOKUP(C799,Main!$K$3:$L$21,2,FALSE))*PI()/180),IF(Checklist!$I$385=\"No\",TAN((LEFT(I799, 5)+VLOOKUP(C799,Main!$K$3:$L$21,2,FALSE))*PI()/180),\"NR\"))","v":"NR"},{"$f":"VLOOKUP(C799,Main!$A$49:$I$67,Main!$B$47,FALSE)","v":"NR"},{"$f":"VLOOKUP(C799,Main!$A$49:$I$67,Main!$C$47,FALSE)","v":"NR"},{"$f":"VLOOKUP(C799,Main!$A$49:$I$67,Main!$E$47,FALSE)&\":\"&\" \"&VLOOKUP(C799,Main!$A$49:$I$67,Main!$F$47,FALSE)","v":"Minimum HSPF:: 9.6"},{"$f":"VLOOKUP(C799,Main!$A$49:$I$67,Main!$G$47,FALSE)","v":18},{"$f":"VLOOKUP(C799,Main!$A$49:$I$67,Main!$H$47,FALSE)","v":3.1},{"$f":"VLOOKUP(C799,Main!$A$49:$I$67,Main!$I$47,FALSE)","v":16.100000000000001},3254]
["OR","NORTH BEND MUNI AIRPORT","4C",4607,1415,42.4,58.1,9.8799999999999999E-2,"43.413N",34,46.7,47.1,47.9,49.7,53.5,56.8,59.2,59.7,58.2,54.1,49.6,45.9,125,102,89,48,10,0,0,0,0,9,62,148,21,20,25,39,119,204,286,301,246,138,50,20,40.1,42.08,41.9,42.98,47.7,50.18,51.26,53.42,50.5,45,45,40.299999999999997,0.63800904977375572,0.28934817170111288,62,33,19,24,{"$f":"IF(OR(C800=\"OA\",C800=\"OB\",C800=\"1B\",C800=\"1A\",C800=\"2A\",C800=\"2B\",C800=\"3A\",C800=\"3B\",C800=\"3C\"),TAN((LEFT(I800, 5)+VLOOKUP(C800,Main!$K$3:$L$21,2,FALSE))*PI()/180),IF(Checklist!$I$385=\"No\",TAN((LEFT(I800, 5)+VLOOKUP(C800,Main!$K$3:$L$21,2,FALSE))*PI()/180),\"NR\"))","v":"NR"},{"$f":"VLOOKUP(C800,Main!$A$49:$I$67,Main!$B$47,FALSE)","v":"NR"},{"$f":"VLOOKUP(C800,Main!$A$49:$I$67,Main!$C$47,FALSE)","v":"NR"},{"$f":"VLOOKUP(C800,Main!$A$49:$I$67,Main!$E$47,FALSE)&\":\"&\" \"&VLOOKUP(C800,Main!$A$49:$I$67,Main!$F$47,FALSE)","v":"Minimum HSPF:: 9.6"},{"$f":"VLOOKUP(C800,Main!$A$49:$I$67,Main!$G$47,FALSE)","v":18},{"$f":"VLOOKUP(C800,Main!$A$49:$I$67,Main!$H$47,FALSE)","v":3.1},{"$f":"VLOOKUP(C800,Main!$A$49:$I$67,Main!$I$47,FALSE)","v":16.100000000000001},1469]
["OR","PENDLETON E OR REGIONAL AP","5B",5232,1498,23,79.2,9.8799999999999999E-2,"45.698N",15,35.4,38.5,45,50.4,57.8,64.400000000000006,73.3,72.099999999999994,64.5,51.9,41.2,34.299999999999997,457,328,178,66,9,1,0,0,1,57,281,490,4,4,22,77,252,433,724,686,436,117,16,4,26.1,31.46,33.6,37.4,39.6,43.88,43.7,41.36,40.1,33.4,33.4,28.4,0.76261127596439171,0.18561958184599692,65,34,17,22,{"$f":"IF(OR(C801=\"OA\",C801=\"OB\",C801=\"1B\",C801=\"1A\",C801=\"2A\",C801=\"2B\",C801=\"3A\",C801=\"3B\",C801=\"3C\"),TAN((LEFT(I801, 5)+VLOOKUP(C801,Main!$K$3:$L$21,2,FALSE))*PI()/180),IF(Checklist!$I$385=\"No\",TAN((LEFT(I801, 5)+VLOOKUP(C801,Main!$K$3:$L$21,2,FALSE))*PI()/180),\"NR\"))","v":"NR"},{"$f":"VLOOKUP(C801,Main!$A$49:$I$67,Main!$B$47,FALSE)","v":"NR"},{"$f":"VLOOKUP(C801,Main!$A$49:$I$67,Main!$C$47,FALSE)","v":"NR"},{"$f":"VLOOKUP(C801,Main!$A$49:$I$67,Main!$E$47,FALSE)&\":\"&\" \"&VLOOKUP(C801,Main!$A$49:$I$67,Main!$F$47,FALSE)","v":"Minimum COP @ 5°F:: 1.75"},{"$f":"VLOOKUP(C801,Main!$A$49:$I$67,Main!$G$47,FALSE)","v":15},{"$f":"VLOOKUP(C801,Main!$A$49:$I$67,Main!$H$47,FALSE)","v":3.1},{"$f":"VLOOKUP(C801,Main!$A$49:$I$67,Main!$I$47,FALSE)","v":16.100000000000001},2775]
["OR","PORTLAND INTERNATIONAL AP","4C",4232,1286,37.299999999999997,73.8,9.8799999999999999E-2,"45.596N",29,41.5,43.8,47.9,52.3,58.4,63.2,69.5,69.900000000000006,65.3,55.3,46.7,40.9,267,179,98,32,3,0,0,0,0,13,127,286,4,6,34,101,264,397,605,616,459,176,29,4,36.9,37.22,38.299999999999997,44.06,46.9,51.8,54.5,55.76,52.9,41.9,41.9,35.799999999999997,0.70479704797047971,0.25225225225225223,61,32,16,21,{"$f":"IF(OR(C802=\"OA\",C802=\"OB\",C802=\"1B\",C802=\"1A\",C802=\"2A\",C802=\"2B\",C802=\"3A\",C802=\"3B\",C802=\"3C\"),TAN((LEFT(I802, 5)+VLOOKUP(C802,Main!$K$3:$L$21,2,FALSE))*PI()/180),IF(Checklist!$I$385=\"No\",TAN((LEFT(I802, 5)+VLOOKUP(C802,Main!$K$3:$L$21,2,FALSE))*PI()/180),\"NR\"))","v":"NR"},{"$f":"VLOOKUP(C802,Main!$A$49:$I$67,Main!$B$47,FALSE)","v":"NR"},{"$f":"VLOOKUP(C802,Main!$A$49:$I$67,Main!$C$47,FALSE)","v":"NR"},{"$f":"VLOOKUP(C802,Main!$A$49:$I$67,Main!$E$47,FALSE)&\":\"&\" \"&VLOOKUP(C802,Main!$A$49:$I$67,Main!$F$47,FALSE)","v":"Minimum HSPF:: 9.6"},{"$f":"VLOOKUP(C802,Main!$A$49:$I$67,Main!$G$47,FALSE)","v":18},{"$f":"VLOOKUP(C802,Main!$A$49:$I$67,Main!$H$47,FALSE)","v":3.1},{"$f":"VLOOKUP(C802,Main!$A$49:$I$67,Main!$I$47,FALSE)","v":16.100000000000001},2695]
["OR","PORTLAND/HILLSBORO","4C",4792,1326,37.950000000000003,76.3,9.8799999999999999E-2,"45.541N",26.5,40.700000000000003,42.7,46.5,50.2,56.3,60.9,67.2,67,62.4,52.7,44.6,39.6,294,210,133,61,11,0,0,0,0,35,182,325,5,6,24,68,205,327,532,529,372,119,20,4,37.6,38.119999999999997,41.2,43.88,43.7,49.64,52.52,55.04,46.6,40.1,40.1,37,0.71830985915492951,0.23705633344187557,63,33,17,22,{"$f":"IF(OR(C803=\"OA\",C803=\"OB\",C803=\"1B\",C803=\"1A\",C803=\"2A\",C803=\"2B\",C803=\"3A\",C803=\"3B\",C803=\"3C\"),TAN((LEFT(I803, 5)+VLOOKUP(C803,Main!$K$3:$L$21,2,FALSE))*PI()/180),IF(Checklist!$I$385=\"No\",TAN((LEFT(I803, 5)+VLOOKUP(C803,Main!$K$3:$L$21,2,FALSE))*PI()/180),\"NR\"))","v":"NR"},{"$f":"VLOOKUP(C803,Main!$A$49:$I$67,Main!$B$47,FALSE)","v":"NR"},{"$f":"VLOOKUP(C803,Main!$A$49:$I$67,Main!$C$47,FALSE)","v":"NR"},{"$f":"VLOOKUP(C803,Main!$A$49:$I$67,Main!$E$47,FALSE)&\":\"&\" \"&VLOOKUP(C803,Main!$A$49:$I$67,Main!$F$47,FALSE)","v":"Minimum HSPF:: 9.6"},{"$f":"VLOOKUP(C803,Main!$A$49:$I$67,Main!$G$47,FALSE)","v":18},{"$f":"VLOOKUP(C803,Main!$A$49:$I$67,Main!$H$47,FALSE)","v":3.1},{"$f":"VLOOKUP(C803,Main!$A$49:$I$67,Main!$I$47,FALSE)","v":16.100000000000001},2211]
["OR","PORTLAND/TROUTDALE","4C",4405,1286,43.05,74.8,9.8799999999999999E-2,"45.551N",29.3,41,43.4,47.3,51.4,57.2,62.5,68.8,68.900000000000006,64.099999999999994,54.8,46.7,40.700000000000003,282,187,115,44,6,0,0,0,0,16,129,291,3,3,31,87,231,375,582,586,422,164,30,4,34.200000000000003,34.880000000000003,35.200000000000003,41,44.1,51.62,54.68,52.34,46,41.5,41.5,36,0.70695970695970689,0.25420769606816113,61,32,16,21,{"$f":"IF(OR(C804=\"OA\",C804=\"OB\",C804=\"1B\",C804=\"1A\",C804=\"2A\",C804=\"2B\",C804=\"3A\",C804=\"3B\",C804=\"3C\"),TAN((LEFT(I804, 5)+VLOOKUP(C804,Main!$K$3:$L$21,2,FALSE))*PI()/180),IF(Checklist!$I$385=\"No\",TAN((LEFT(I804, 5)+VLOOKUP(C804,Main!$K$3:$L$21,2,FALSE))*PI()/180),\"NR\"))","v":"NR"},{"$f":"VLOOKUP(C804,Main!$A$49:$I$67,Main!$B$47,FALSE)","v":"NR"},{"$f":"VLOOKUP(C804,Main!$A$49:$I$67,Main!$C$47,FALSE)","v":"NR"},{"$f":"VLOOKUP(C804,Main!$A$49:$I$67,Main!$E$47,FALSE)&\":\"&\" \"&VLOOKUP(C804,Main!$A$49:$I$67,Main!$F$47,FALSE)","v":"Minimum HSPF:: 9.6"},{"$f":"VLOOKUP(C804,Main!$A$49:$I$67,Main!$G$47,FALSE)","v":18},{"$f":"VLOOKUP(C804,Main!$A$49:$I$67,Main!$H$47,FALSE)","v":3.1},{"$f":"VLOOKUP(C804,Main!$A$49:$I$67,Main!$I$47,FALSE)","v":16.100000000000001},2518]
["OR","REDMOND ROBERTS FIELD","5B",6541,1591,26.75,74.8,9.8799999999999999E-2,"44.256N",12,33.700000000000003,35.4,40.299999999999997,44.4,51.8,58.1,66.7,65.5,58.4,47.5,38.299999999999997,31.8,507,411,307,194,65,11,0,1,12,138,361,564,1,2,5,27,122,255,516,483,263,60,9,1,22.1,24.26,26.2,31.1,33.299999999999997,39.74,42.8,39.380000000000003,35.1,28.6,28.6,28.8,0.77900552486187835,0.17567567567567566,68,38,20,25,{"$f":"IF(OR(C805=\"OA\",C805=\"OB\",C805=\"1B\",C805=\"1A\",C805=\"2A\",C805=\"2B\",C805=\"3A\",C805=\"3B\",C805=\"3C\"),TAN((LEFT(I805, 5)+VLOOKUP(C805,Main!$K$3:$L$21,2,FALSE))*PI()/180),IF(Checklist!$I$385=\"No\",TAN((LEFT(I805, 5)+VLOOKUP(C805,Main!$K$3:$L$21,2,FALSE))*PI()/180),\"NR\"))","v":"NR"},{"$f":"VLOOKUP(C805,Main!$A$49:$I$67,Main!$B$47,FALSE)","v":"NR"},{"$f":"VLOOKUP(C805,Main!$A$49:$I$67,Main!$C$47,FALSE)","v":"NR"},{"$f":"VLOOKUP(C805,Main!$A$49:$I$67,Main!$E$47,FALSE)&\":\"&\" \"&VLOOKUP(C805,Main!$A$49:$I$67,Main!$F$47,FALSE)","v":"Minimum COP @ 5°F:: 1.75"},{"$f":"VLOOKUP(C805,Main!$A$49:$I$67,Main!$G$47,FALSE)","v":15},{"$f":"VLOOKUP(C805,Main!$A$49:$I$67,Main!$H$47,FALSE)","v":3.1},{"$f":"VLOOKUP(C805,Main!$A$49:$I$67,Main!$I$47,FALSE)","v":16.100000000000001},1744]
["OR","ROSEBURG REGIONAL AP","4C",4037,1447,37.35,73,9.8799999999999999E-2,"43.239N",30.2,43.3,45.1,48.4,52.1,58.3,64,71.3,71.099999999999994,66.099999999999994,55.8,47.5,42.2,219,146,95,43,5,0,0,0,0,14,115,253,10,9,46,107,262,421,659,653,483,193,39,11,37.6,42.08,42.6,40.64,46.8,48.38,53.96,53.42,51.6,43.3,43.3,37.6,0.68992248062015504,0.26026026026026028,60,31,15,20,{"$f":"IF(OR(C806=\"OA\",C806=\"OB\",C806=\"1B\",C806=\"1A\",C806=\"2A\",C806=\"2B\",C806=\"3A\",C806=\"3B\",C806=\"3C\"),TAN((LEFT(I806, 5)+VLOOKUP(C806,Main!$K$3:$L$21,2,FALSE))*PI()/180),IF(Checklist!$I$385=\"No\",TAN((LEFT(I806, 5)+VLOOKUP(C806,Main!$K$3:$L$21,2,FALSE))*PI()/180),\"NR\"))","v":"NR"},{"$f":"VLOOKUP(C806,Main!$A$49:$I$67,Main!$B$47,FALSE)","v":"NR"},{"$f":"VLOOKUP(C806,Main!$A$49:$I$67,Main!$C$47,FALSE)","v":"NR"},{"$f":"VLOOKUP(C806,Main!$A$49:$I$67,Main!$E$47,FALSE)&\":\"&\" \"&VLOOKUP(C806,Main!$A$49:$I$67,Main!$F$47,FALSE)","v":"Minimum HSPF:: 9.6"},{"$f":"VLOOKUP(C806,Main!$A$49:$I$67,Main!$G$47,FALSE)","v":18},{"$f":"VLOOKUP(C806,Main!$A$49:$I$67,Main!$H$47,FALSE)","v":3.1},{"$f":"VLOOKUP(C806,Main!$A$49:$I$67,Main!$I$47,FALSE)","v":16.100000000000001},2893]
["OR","SALEM MCNARY FIELD","4C",4503,1352,24.95,75.7,9.8799999999999999E-2,"44.905N",27.3,41.6,43.5,47.1,50.7,56.7,61.6,68.5,68.3,63.8,53.8,46,40.799999999999997,268,190,115,51,8,0,0,0,0,24,148,293,8,8,25,72,214,349,574,568,413,144,27,7,36.9,35.24,41,42.8,46,49.82,52.34,52.52,49.8,43,43,35.6,0.70588235294117652,0.24171591739159304,62,32,16,21,{"$f":"IF(OR(C807=\"OA\",C807=\"OB\",C807=\"1B\",C807=\"1A\",C807=\"2A\",C807=\"2B\",C807=\"3A\",C807=\"3B\",C807=\"3C\"),TAN((LEFT(I807, 5)+VLOOKUP(C807,Main!$K$3:$L$21,2,FALSE))*PI()/180),IF(Checklist!$I$385=\"No\",TAN((LEFT(I807, 5)+VLOOKUP(C807,Main!$K$3:$L$21,2,FALSE))*PI()/180),\"NR\"))","v":"NR"},{"$f":"VLOOKUP(C807,Main!$A$49:$I$67,Main!$B$47,FALSE)","v":"NR"},{"$f":"VLOOKUP(C807,Main!$A$49:$I$67,Main!$C$47,FALSE)","v":"NR"},{"$f":"VLOOKUP(C807,Main!$A$49:$I$67,Main!$E$47,FALSE)&\":\"&\" \"&VLOOKUP(C807,Main!$A$49:$I$67,Main!$F$47,FALSE)","v":"Minimum HSPF:: 9.6"},{"$f":"VLOOKUP(C807,Main!$A$49:$I$67,Main!$G$47,FALSE)","v":18},{"$f":"VLOOKUP(C807,Main!$A$49:$I$67,Main!$H$47,FALSE)","v":3.1},{"$f":"VLOOKUP(C807,Main!$A$49:$I$67,Main!$I$47,FALSE)","v":16.100000000000001},2409]
["OR","SEXTON SUMMIT","4C",6302,1704,32.9,74.5,9.8799999999999999E-2,"42.600N",24.5,37.799999999999997,37.9,39.4,42.6,49.8,55.4,64.5,64.3,60.8,50.1,41,36.799999999999997,384,345,339,255,117,32,1,1,13,110,287,411,6,6,12,34,111,193,450,443,337,113,19,2,30,30.02,29.1,35.06,36.5,43.88,48.38,48.2,37.9,30,30,27.3,0.74358974358974361,0.22615719167443304,67,37,20,25,{"$f":"IF(OR(C808=\"OA\",C808=\"OB\",C808=\"1B\",C808=\"1A\",C808=\"2A\",C808=\"2B\",C808=\"3A\",C808=\"3B\",C808=\"3C\"),TAN((LEFT(I808, 5)+VLOOKUP(C808,Main!$K$3:$L$21,2,FALSE))*PI()/180),IF(Checklist!$I$385=\"No\",TAN((LEFT(I808, 5)+VLOOKUP(C808,Main!$K$3:$L$21,2,FALSE))*PI()/180),\"NR\"))","v":"NR"},{"$f":"VLOOKUP(C808,Main!$A$49:$I$67,Main!$B$47,FALSE)","v":"NR"},{"$f":"VLOOKUP(C808,Main!$A$49:$I$67,Main!$C$47,FALSE)","v":"NR"},{"$f":"VLOOKUP(C808,Main!$A$49:$I$67,Main!$E$47,FALSE)&\":\"&\" \"&VLOOKUP(C808,Main!$A$49:$I$67,Main!$F$47,FALSE)","v":"Minimum HSPF:: 9.6"},{"$f":"VLOOKUP(C808,Main!$A$49:$I$67,Main!$G$47,FALSE)","v":18},{"$f":"VLOOKUP(C808,Main!$A$49:$I$67,Main!$H$47,FALSE)","v":3.1},{"$f":"VLOOKUP(C808,Main!$A$49:$I$67,Main!$I$47,FALSE)","v":16.100000000000001},1726]
["PA","ALLENTOWN LEHIGH VALLEY INTL","5A",5482,1412,20.5,77.7,0.12909999999999999,"40.651N",13,29.7,31.6,40.1,51.1,60.9,70,74.400000000000006,72.5,65,53.7,43.3,34.1,631,516,331,80,5,0,0,0,1,49,235,497,2,1,25,114,343,600,755,696,450,163,33,4,15.3,19.399999999999999,26.8,35.24,48.9,55.76,63.32,60.98,52.5,32.700000000000003,32.700000000000003,25.5,0.79112271540469981,0.17886977886977884,68,37,19,24,{"$f":"IF(OR(C809=\"OA\",C809=\"OB\",C809=\"1B\",C809=\"1A\",C809=\"2A\",C809=\"2B\",C809=\"3A\",C809=\"3B\",C809=\"3C\"),TAN((LEFT(I809, 5)+VLOOKUP(C809,Main!$K$3:$L$21,2,FALSE))*PI()/180),IF(Checklist!$I$385=\"No\",TAN((LEFT(I809, 5)+VLOOKUP(C809,Main!$K$3:$L$21,2,FALSE))*PI()/180),\"NR\"))","v":"NR"},{"$f":"VLOOKUP(C809,Main!$A$49:$I$67,Main!$B$47,FALSE)","v":"NR"},{"$f":"VLOOKUP(C809,Main!$A$49:$I$67,Main!$C$47,FALSE)","v":"NR"},{"$f":"VLOOKUP(C809,Main!$A$49:$I$67,Main!$E$47,FALSE)&\":\"&\" \"&VLOOKUP(C809,Main!$A$49:$I$67,Main!$F$47,FALSE)","v":"Minimum COP @ 5°F:: 1.75"},{"$f":"VLOOKUP(C809,Main!$A$49:$I$67,Main!$G$47,FALSE)","v":15},{"$f":"VLOOKUP(C809,Main!$A$49:$I$67,Main!$H$47,FALSE)","v":3.1},{"$f":"VLOOKUP(C809,Main!$A$49:$I$67,Main!$I$47,FALSE)","v":16.100000000000001},3186]
["PA","ALTOONA BLAIR CO ARPT","5A",5881,1358,23.8,78.3,0.12909999999999999,"40.296N",10.4,28.3,30.2,38.6,50.2,59.5,67.900000000000006,71.599999999999994,69.900000000000006,62.8,52.3,42.1,32.4,678,555,384,109,12,0,0,0,2,71,270,553,5,2,30,114,305,538,669,617,385,143,32,6,19.899999999999999,20.84,33.1,37.58,46.4,55.94,63.5,59.18,55.2,34.9,34.9,21.4,0.79848866498740545,0.17079579579579576,69,38,20,25,{"$f":"IF(OR(C810=\"OA\",C810=\"OB\",C810=\"1B\",C810=\"1A\",C810=\"2A\",C810=\"2B\",C810=\"3A\",C810=\"3B\",C810=\"3C\"),TAN((LEFT(I810, 5)+VLOOKUP(C810,Main!$K$3:$L$21,2,FALSE))*PI()/180),IF(Checklist!$I$385=\"No\",TAN((LEFT(I810, 5)+VLOOKUP(C810,Main!$K$3:$L$21,2,FALSE))*PI()/180),\"NR\"))","v":"NR"},{"$f":"VLOOKUP(C810,Main!$A$49:$I$67,Main!$B$47,FALSE)","v":"NR"},{"$f":"VLOOKUP(C810,Main!$A$49:$I$67,Main!$C$47,FALSE)","v":"NR"},{"$f":"VLOOKUP(C810,Main!$A$49:$I$67,Main!$E$47,FALSE)&\":\"&\" \"&VLOOKUP(C810,Main!$A$49:$I$67,Main!$F$47,FALSE)","v":"Minimum COP @ 5°F:: 1.75"},{"$f":"VLOOKUP(C810,Main!$A$49:$I$67,Main!$G$47,FALSE)","v":15},{"$f":"VLOOKUP(C810,Main!$A$49:$I$67,Main!$H$47,FALSE)","v":3.1},{"$f":"VLOOKUP(C810,Main!$A$49:$I$67,Main!$I$47,FALSE)","v":16.100000000000001},2846]
["PA","BRADFORD REGIONAL AP","6A",7446,1344,9.9499999999999993,74.7,0.12909999999999999,"41.800N",3.5,23,24.5,32.4,44.4,54.5,62.1,65.599999999999994,64.2,57.6,47.2,37.6,27.8,838,715,559,221,50,3,0,0,15,161,386,691,1,0,14,54,189,367,484,441,243,73,15,2,11.7,15.62,27.1,32,41,50.36,58.46,56.3,49.5,28.6,28.6,16.3,0.82222222222222219,0.1525246176408967,74,43,24,29,{"$f":"IF(OR(C811=\"OA\",C811=\"OB\",C811=\"1B\",C811=\"1A\",C811=\"2A\",C811=\"2B\",C811=\"3A\",C811=\"3B\",C811=\"3C\"),TAN((LEFT(I811, 5)+VLOOKUP(C811,Main!$K$3:$L$21,2,FALSE))*PI()/180),IF(Checklist!$I$385=\"No\",TAN((LEFT(I811, 5)+VLOOKUP(C811,Main!$K$3:$L$21,2,FALSE))*PI()/180),\"NR\"))","v":"NR"},{"$f":"VLOOKUP(C811,Main!$A$49:$I$67,Main!$B$47,FALSE)","v":"NR"},{"$f":"VLOOKUP(C811,Main!$A$49:$I$67,Main!$C$47,FALSE)","v":"NR"},{"$f":"VLOOKUP(C811,Main!$A$49:$I$67,Main!$E$47,FALSE)&\":\"&\" \"&VLOOKUP(C811,Main!$A$49:$I$67,Main!$F$47,FALSE)","v":"Minimum COP @ 5°F:: 1.75"},{"$f":"VLOOKUP(C811,Main!$A$49:$I$67,Main!$G$47,FALSE)","v":15},{"$f":"VLOOKUP(C811,Main!$A$49:$I$67,Main!$H$47,FALSE)","v":3.1},{"$f":"VLOOKUP(C811,Main!$A$49:$I$67,Main!$I$47,FALSE)","v":16.100000000000001},1883]
["PA","BUTLER CO (AWOS)","5A",6100,1399,14.45,75.599999999999994,0.12909999999999999,"40.777N",8.8000000000000007,27.4,28.7,37.9,49.6,58.3,67.400000000000006,70.900000000000006,69.400000000000006,62.1,51.3,41.4,32.200000000000003,706,600,406,122,17,0,0,0,3,83,286,559,7,3,32,108,275,522,648,602,365,124,29,6,21.9,23.18,25.2,33.26,43.2,57.02,62.24,58.64,48.7,28,28,23.5,0.80295566502463056,0.16617969320672021,70,39,21,26,{"$f":"IF(OR(C812=\"OA\",C812=\"OB\",C812=\"1B\",C812=\"1A\",C812=\"2A\",C812=\"2B\",C812=\"3A\",C812=\"3B\",C812=\"3C\"),TAN((LEFT(I812, 5)+VLOOKUP(C812,Main!$K$3:$L$21,2,FALSE))*PI()/180),IF(Checklist!$I$385=\"No\",TAN((LEFT(I812, 5)+VLOOKUP(C812,Main!$K$3:$L$21,2,FALSE))*PI()/180),\"NR\"))","v":"NR"},{"$f":"VLOOKUP(C812,Main!$A$49:$I$67,Main!$B$47,FALSE)","v":"NR"},{"$f":"VLOOKUP(C812,Main!$A$49:$I$67,Main!$C$47,FALSE)","v":"NR"},{"$f":"VLOOKUP(C812,Main!$A$49:$I$67,Main!$E$47,FALSE)&\":\"&\" \"&VLOOKUP(C812,Main!$A$49:$I$67,Main!$F$47,FALSE)","v":"Minimum COP @ 5°F:: 1.75"},{"$f":"VLOOKUP(C812,Main!$A$49:$I$67,Main!$G$47,FALSE)","v":15},{"$f":"VLOOKUP(C812,Main!$A$49:$I$67,Main!$H$47,FALSE)","v":3.1},{"$f":"VLOOKUP(C812,Main!$A$49:$I$67,Main!$I$47,FALSE)","v":16.100000000000001},2721]
["PA","DUBOIS FAA AP","5A",6684,1314,14,76.599999999999994,0.12909999999999999,"41.178N",6.5,25.1,26.7,35.4,47.3,56.9,65,68.8,67.400000000000006,60.3,49.8,39.4,29.6,776,652,476,165,28,1,0,0,7,112,341,635,4,1,23,83,241,452,583,539,317,105,23,3,20.100000000000001,16.16,28.6,30.92,42.8,54.5,53.78,60.26,48.4,30.6,30.6,22.8,0.81351981351981351,0.15996484289167215,72,41,22,27,{"$f":"IF(OR(C813=\"OA\",C813=\"OB\",C813=\"1B\",C813=\"1A\",C813=\"2A\",C813=\"2B\",C813=\"3A\",C813=\"3B\",C813=\"3C\"),TAN((LEFT(I813, 5)+VLOOKUP(C813,Main!$K$3:$L$21,2,FALSE))*PI()/180),IF(Checklist!$I$385=\"No\",TAN((LEFT(I813, 5)+VLOOKUP(C813,Main!$K$3:$L$21,2,FALSE))*PI()/180),\"NR\"))","v":"NR"},{"$f":"VLOOKUP(C813,Main!$A$49:$I$67,Main!$B$47,FALSE)","v":"NR"},{"$f":"VLOOKUP(C813,Main!$A$49:$I$67,Main!$C$47,FALSE)","v":"NR"},{"$f":"VLOOKUP(C813,Main!$A$49:$I$67,Main!$E$47,FALSE)&\":\"&\" \"&VLOOKUP(C813,Main!$A$49:$I$67,Main!$F$47,FALSE)","v":"Minimum COP @ 5°F:: 1.75"},{"$f":"VLOOKUP(C813,Main!$A$49:$I$67,Main!$G$47,FALSE)","v":15},{"$f":"VLOOKUP(C813,Main!$A$49:$I$67,Main!$H$47,FALSE)","v":3.1},{"$f":"VLOOKUP(C813,Main!$A$49:$I$67,Main!$I$47,FALSE)","v":16.100000000000001},2374]
["PA","ERIE INTERNATIONAL AP","5A",6035,1359,21.95,75.900000000000006,0.12909999999999999,"42.080N",10.4,28.2,28.5,35.799999999999997,47.3,58,67.7,71.900000000000006,70.7,63.9,53.5,43.1,33.4,681,603,464,170,21,0,0,0,1,51,246,519,4,2,25,89,269,532,678,642,419,159,39,5,18.3,17.78,22.5,37.22,48.6,55.58,59.54,59.54,53.8,34.200000000000003,34.200000000000003,20.3,0.79899497487437199,0.17079579579579576,69,39,20,25,{"$f":"IF(OR(C814=\"OA\",C814=\"OB\",C814=\"1B\",C814=\"1A\",C814=\"2A\",C814=\"2B\",C814=\"3A\",C814=\"3B\",C814=\"3C\"),TAN((LEFT(I814, 5)+VLOOKUP(C814,Main!$K$3:$L$21,2,FALSE))*PI()/180),IF(Checklist!$I$385=\"No\",TAN((LEFT(I814, 5)+VLOOKUP(C814,Main!$K$3:$L$21,2,FALSE))*PI()/180),\"NR\"))","v":"NR"},{"$f":"VLOOKUP(C814,Main!$A$49:$I$67,Main!$B$47,FALSE)","v":"NR"},{"$f":"VLOOKUP(C814,Main!$A$49:$I$67,Main!$C$47,FALSE)","v":"NR"},{"$f":"VLOOKUP(C814,Main!$A$49:$I$67,Main!$E$47,FALSE)&\":\"&\" \"&VLOOKUP(C814,Main!$A$49:$I$67,Main!$F$47,FALSE)","v":"Minimum COP @ 5°F:: 1.75"},{"$f":"VLOOKUP(C814,Main!$A$49:$I$67,Main!$G$47,FALSE)","v":15},{"$f":"VLOOKUP(C814,Main!$A$49:$I$67,Main!$H$47,FALSE)","v":3.1},{"$f":"VLOOKUP(C814,Main!$A$49:$I$67,Main!$I$47,FALSE)","v":16.100000000000001},2863]
["PA","FRANKLIN","5A",6604,1365,18.850000000000001,75,0.12909999999999999,"41.383N",6.9,25.5,26.7,35.6,47.5,57.3,65.400000000000006,69.2,67.7,60.7,50,39.799999999999997,29.9,761,655,470,159,26,0,0,0,5,103,324,625,3,2,24,83,252,464,596,548,327,104,20,3,27.3,17.420000000000002,31.6,31.82,35.4,55.22,56.48,54.68,47.3,29.3,29.3,21.6,0.81176470588235294,0.16101207590569291,71,40,22,27,{"$f":"IF(OR(C815=\"OA\",C815=\"OB\",C815=\"1B\",C815=\"1A\",C815=\"2A\",C815=\"2B\",C815=\"3A\",C815=\"3B\",C815=\"3C\"),TAN((LEFT(I815, 5)+VLOOKUP(C815,Main!$K$3:$L$21,2,FALSE))*PI()/180),IF(Checklist!$I$385=\"No\",TAN((LEFT(I815, 5)+VLOOKUP(C815,Main!$K$3:$L$21,2,FALSE))*PI()/180),\"NR\"))","v":"NR"},{"$f":"VLOOKUP(C815,Main!$A$49:$I$67,Main!$B$47,FALSE)","v":"NR"},{"$f":"VLOOKUP(C815,Main!$A$49:$I$67,Main!$C$47,FALSE)","v":"NR"},{"$f":"VLOOKUP(C815,Main!$A$49:$I$67,Main!$E$47,FALSE)&\":\"&\" \"&VLOOKUP(C815,Main!$A$49:$I$67,Main!$F$47,FALSE)","v":"Minimum COP @ 5°F:: 1.75"},{"$f":"VLOOKUP(C815,Main!$A$49:$I$67,Main!$G$47,FALSE)","v":15},{"$f":"VLOOKUP(C815,Main!$A$49:$I$67,Main!$H$47,FALSE)","v":3.1},{"$f":"VLOOKUP(C815,Main!$A$49:$I$67,Main!$I$47,FALSE)","v":16.100000000000001},2426]
["PA","HARRISBURG CAPITAL CITY ARPT","4A",5009,1420,29.2,79.5,0.12909999999999999,"40.217N",16.2,31.6,33.6,42.3,53.4,62.9,71.8,76,74.400000000000006,66.8,55.6,45.4,35.299999999999997,574,462,277,57,3,0,0,0,0,36,182,462,3,1,38,160,403,654,805,757,504,209,43,5,16.899999999999999,19.579999999999998,23.9,41,48.2,59.72,64.760000000000005,62.96,57.9,34.299999999999997,34.299999999999997,19.2,0.78021978021978022,0.18991964937910882,66,36,18,23,{"$f":"IF(OR(C816=\"OA\",C816=\"OB\",C816=\"1B\",C816=\"1A\",C816=\"2A\",C816=\"2B\",C816=\"3A\",C816=\"3B\",C816=\"3C\"),TAN((LEFT(I816, 5)+VLOOKUP(C816,Main!$K$3:$L$21,2,FALSE))*PI()/180),IF(Checklist!$I$385=\"No\",TAN((LEFT(I816, 5)+VLOOKUP(C816,Main!$K$3:$L$21,2,FALSE))*PI()/180),\"NR\"))","v":"NR"},{"$f":"VLOOKUP(C816,Main!$A$49:$I$67,Main!$B$47,FALSE)","v":0.5},{"$f":"VLOOKUP(C816,Main!$A$49:$I$67,Main!$C$47,FALSE)","v":0.25},{"$f":"VLOOKUP(C816,Main!$A$49:$I$67,Main!$E$47,FALSE)&\":\"&\" \"&VLOOKUP(C816,Main!$A$49:$I$67,Main!$F$47,FALSE)","v":"Minimum HSPF:: 9.6"},{"$f":"VLOOKUP(C816,Main!$A$49:$I$67,Main!$G$47,FALSE)","v":18},{"$f":"VLOOKUP(C816,Main!$A$49:$I$67,Main!$H$47,FALSE)","v":3.1},{"$f":"VLOOKUP(C816,Main!$A$49:$I$67,Main!$I$47,FALSE)","v":16.100000000000001},3582]
["PA","JOHNSTOWN CAMBRIA COUNTY AP","5A",6478,1256,14.55,74.3,0.12909999999999999,"40.316N",7,26.2,27.7,36.299999999999997,48.2,57.5,65.599999999999994,69.3,67.900000000000006,60.9,50.3,39.9,30.2,743,628,450,152,26,1,0,0,7,107,329,617,5,2,25,99,259,469,597,555,333,116,26,4,18.5,19.04,28.6,40.1,45,55.94,61.88,60.26,53.8,32.9,32.9,13.6,0.80861244019138756,0.16127603012848912,71,40,22,27,{"$f":"IF(OR(C817=\"OA\",C817=\"OB\",C817=\"1B\",C817=\"1A\",C817=\"2A\",C817=\"2B\",C817=\"3A\",C817=\"3B\",C817=\"3C\"),TAN((LEFT(I817, 5)+VLOOKUP(C817,Main!$K$3:$L$21,2,FALSE))*PI()/180),IF(Checklist!$I$385=\"No\",TAN((LEFT(I817, 5)+VLOOKUP(C817,Main!$K$3:$L$21,2,FALSE))*PI()/180),\"NR\"))","v":"NR"},{"$f":"VLOOKUP(C817,Main!$A$49:$I$67,Main!$B$47,FALSE)","v":"NR"},{"$f":"VLOOKUP(C817,Main!$A$49:$I$67,Main!$C$47,FALSE)","v":"NR"},{"$f":"VLOOKUP(C817,Main!$A$49:$I$67,Main!$E$47,FALSE)&\":\"&\" \"&VLOOKUP(C817,Main!$A$49:$I$67,Main!$F$47,FALSE)","v":"Minimum COP @ 5°F:: 1.75"},{"$f":"VLOOKUP(C817,Main!$A$49:$I$67,Main!$G$47,FALSE)","v":15},{"$f":"VLOOKUP(C817,Main!$A$49:$I$67,Main!$H$47,FALSE)","v":3.1},{"$f":"VLOOKUP(C817,Main!$A$49:$I$67,Main!$I$47,FALSE)","v":16.100000000000001},2490]
["PA","LANCASTER","4A",5296,1319,26.5,79.900000000000006,0.12909999999999999,"40.120N",14,29.9,31.8,41.4,51.8,61.8,70.900000000000006,74.7,73.2,66,54.3,44.4,34.5,624,510,293,69,4,0,0,0,0,44,206,485,2,1,26,124,368,628,766,719,481,178,39,5,24.4,22.28,31.1,39.56,54.5,61.34,60.08,60.62,58.3,36.5,36.5,22.8,0.79002624671916011,0.18218218218218216,67,36,19,24,{"$f":"IF(OR(C818=\"OA\",C818=\"OB\",C818=\"1B\",C818=\"1A\",C818=\"2A\",C818=\"2B\",C818=\"3A\",C818=\"3B\",C818=\"3C\"),TAN((LEFT(I818, 5)+VLOOKUP(C818,Main!$K$3:$L$21,2,FALSE))*PI()/180),IF(Checklist!$I$385=\"No\",TAN((LEFT(I818, 5)+VLOOKUP(C818,Main!$K$3:$L$21,2,FALSE))*PI()/180),\"NR\"))","v":"NR"},{"$f":"VLOOKUP(C818,Main!$A$49:$I$67,Main!$B$47,FALSE)","v":0.5},{"$f":"VLOOKUP(C818,Main!$A$49:$I$67,Main!$C$47,FALSE)","v":0.25},{"$f":"VLOOKUP(C818,Main!$A$49:$I$67,Main!$E$47,FALSE)&\":\"&\" \"&VLOOKUP(C818,Main!$A$49:$I$67,Main!$F$47,FALSE)","v":"Minimum HSPF:: 9.6"},{"$f":"VLOOKUP(C818,Main!$A$49:$I$67,Main!$G$47,FALSE)","v":18},{"$f":"VLOOKUP(C818,Main!$A$49:$I$67,Main!$H$47,FALSE)","v":3.1},{"$f":"VLOOKUP(C818,Main!$A$49:$I$67,Main!$I$47,FALSE)","v":16.100000000000001},3337]
["PA","MIDDLETOWN HARRISBURG INTL AP","4A",5030,1330,13,84.9,0.12909999999999999,"40.196N",15.7,31.2,33.4,42.1,53.2,63.1,72.400000000000006,76.8,74.8,67.3,55.5,44.9,35.6,586,466,279,54,2,0,0,0,0,29,192,454,3,2,33,149,406,672,831,768,519,199,39,6,14,21.02,25.3,40.64,48.7,63.68,62.78,63.86,57,35.6,35.6,21.4,0.78260869565217395,0.18810397395483436,66,36,18,23,{"$f":"IF(OR(C819=\"OA\",C819=\"OB\",C819=\"1B\",C819=\"1A\",C819=\"2A\",C819=\"2B\",C819=\"3A\",C819=\"3B\",C819=\"3C\"),TAN((LEFT(I819, 5)+VLOOKUP(C819,Main!$K$3:$L$21,2,FALSE))*PI()/180),IF(Checklist!$I$385=\"No\",TAN((LEFT(I819, 5)+VLOOKUP(C819,Main!$K$3:$L$21,2,FALSE))*PI()/180),\"NR\"))","v":"NR"},{"$f":"VLOOKUP(C819,Main!$A$49:$I$67,Main!$B$47,FALSE)","v":0.5},{"$f":"VLOOKUP(C819,Main!$A$49:$I$67,Main!$C$47,FALSE)","v":0.25},{"$f":"VLOOKUP(C819,Main!$A$49:$I$67,Main!$E$47,FALSE)&\":\"&\" \"&VLOOKUP(C819,Main!$A$49:$I$67,Main!$F$47,FALSE)","v":"Minimum HSPF:: 9.6"},{"$f":"VLOOKUP(C819,Main!$A$49:$I$67,Main!$G$47,FALSE)","v":18},{"$f":"VLOOKUP(C819,Main!$A$49:$I$67,Main!$H$47,FALSE)","v":3.1},{"$f":"VLOOKUP(C819,Main!$A$49:$I$67,Main!$I$47,FALSE)","v":16.100000000000001},3627]
["PA","PHILADELPHIA INTERNATIONAL AP","4A",4425,1469,23.25,81.900000000000006,0.12909999999999999,"39.868N",18.600000000000001,34.299999999999997,36.200000000000003,44.1,54.8,64.400000000000006,73.7,78.7,76.900000000000006,69.7,58.4,47.9,38.799999999999997,494,392,227,38,0,0,0,0,0,13,134,359,7,5,43,182,446,711,890,833,592,274,71,13,19,20.12,31.1,37.94,50.2,60.8,65.66,63.5,58.3,36.1,36.1,24.8,0.76261127596439171,0.19914651493598862,64,34,17,22,{"$f":"IF(OR(C820=\"OA\",C820=\"OB\",C820=\"1B\",C820=\"1A\",C820=\"2A\",C820=\"2B\",C820=\"3A\",C820=\"3B\",C820=\"3C\"),TAN((LEFT(I820, 5)+VLOOKUP(C820,Main!$K$3:$L$21,2,FALSE))*PI()/180),IF(Checklist!$I$385=\"No\",TAN((LEFT(I820, 5)+VLOOKUP(C820,Main!$K$3:$L$21,2,FALSE))*PI()/180),\"NR\"))","v":"NR"},{"$f":"VLOOKUP(C820,Main!$A$49:$I$67,Main!$B$47,FALSE)","v":0.5},{"$f":"VLOOKUP(C820,Main!$A$49:$I$67,Main!$C$47,FALSE)","v":0.25},{"$f":"VLOOKUP(C820,Main!$A$49:$I$67,Main!$E$47,FALSE)&\":\"&\" \"&VLOOKUP(C820,Main!$A$49:$I$67,Main!$F$47,FALSE)","v":"Minimum HSPF:: 9.6"},{"$f":"VLOOKUP(C820,Main!$A$49:$I$67,Main!$G$47,FALSE)","v":18},{"$f":"VLOOKUP(C820,Main!$A$49:$I$67,Main!$H$47,FALSE)","v":3.1},{"$f":"VLOOKUP(C820,Main!$A$49:$I$67,Main!$I$47,FALSE)","v":16.100000000000001},4067]
["PA","PHILADELPHIA NE PHILADELPHIA","4A",4692,1400,20.5,83.3,0.12909999999999999,"40.082N",17.7,33.6,35.5,42.9,53.6,63.1,72.3,77.400000000000006,75.5,68.2,56.8,46.7,38,516,410,256,50,1,0,0,0,0,21,159,385,7,5,37,158,406,669,851,792,546,232,61,13,17.8,18.68,33.1,44.06,48.4,58.46,64.760000000000005,65.66,57.6,35.4,35.4,29.5,0.76744186046511631,0.19558325721347591,65,35,17,22,{"$f":"IF(OR(C821=\"OA\",C821=\"OB\",C821=\"1B\",C821=\"1A\",C821=\"2A\",C821=\"2B\",C821=\"3A\",C821=\"3B\",C821=\"3C\"),TAN((LEFT(I821, 5)+VLOOKUP(C821,Main!$K$3:$L$21,2,FALSE))*PI()/180),IF(Checklist!$I$385=\"No\",TAN((LEFT(I821, 5)+VLOOKUP(C821,Main!$K$3:$L$21,2,FALSE))*PI()/180),\"NR\"))","v":"NR"},{"$f":"VLOOKUP(C821,Main!$A$49:$I$67,Main!$B$47,FALSE)","v":0.5},{"$f":"VLOOKUP(C821,Main!$A$49:$I$67,Main!$C$47,FALSE)","v":0.25},{"$f":"VLOOKUP(C821,Main!$A$49:$I$67,Main!$E$47,FALSE)&\":\"&\" \"&VLOOKUP(C821,Main!$A$49:$I$67,Main!$F$47,FALSE)","v":"Minimum HSPF:: 9.6"},{"$f":"VLOOKUP(C821,Main!$A$49:$I$67,Main!$G$47,FALSE)","v":18},{"$f":"VLOOKUP(C821,Main!$A$49:$I$67,Main!$H$47,FALSE)","v":3.1},{"$f":"VLOOKUP(C821,Main!$A$49:$I$67,Main!$I$47,FALSE)","v":16.100000000000001},3777]
["PA","PITTSBURGH ALLEGHENY CO AP","4A",5389,1229,24.7,76.8,0.12909999999999999,"40.355N",10.9,30,32.1,40.700000000000003,52.5,61.6,69.8,73.400000000000006,72.2,64.900000000000006,54.1,43.6,34.200000000000003,629,509,338,86,7,0,0,0,1,54,240,498,10,6,50,160,366,593,724,687,449,182,46,9,23.7,19.04,32.9,40.46,47.8,58.28,63.32,60.44,55.6,35.200000000000003,35.200000000000003,27.1,0.78947368421052633,0.17229138069768543,68,37,19,24,{"$f":"IF(OR(C822=\"OA\",C822=\"OB\",C822=\"1B\",C822=\"1A\",C822=\"2A\",C822=\"2B\",C822=\"3A\",C822=\"3B\",C822=\"3C\"),TAN((LEFT(I822, 5)+VLOOKUP(C822,Main!$K$3:$L$21,2,FALSE))*PI()/180),IF(Checklist!$I$385=\"No\",TAN((LEFT(I822, 5)+VLOOKUP(C822,Main!$K$3:$L$21,2,FALSE))*PI()/180),\"NR\"))","v":"NR"},{"$f":"VLOOKUP(C822,Main!$A$49:$I$67,Main!$B$47,FALSE)","v":0.5},{"$f":"VLOOKUP(C822,Main!$A$49:$I$67,Main!$C$47,FALSE)","v":0.25},{"$f":"VLOOKUP(C822,Main!$A$49:$I$67,Main!$E$47,FALSE)&\":\"&\" \"&VLOOKUP(C822,Main!$A$49:$I$67,Main!$F$47,FALSE)","v":"Minimum HSPF:: 9.6"},{"$f":"VLOOKUP(C822,Main!$A$49:$I$67,Main!$G$47,FALSE)","v":18},{"$f":"VLOOKUP(C822,Main!$A$49:$I$67,Main!$H$47,FALSE)","v":3.1},{"$f":"VLOOKUP(C822,Main!$A$49:$I$67,Main!$I$47,FALSE)","v":16.100000000000001},3282]
["PA","PITTSBURGH INTERNATIONAL AP","4A",5532,1392,16.899999999999999,77.7,0.12909999999999999,"40.485N",10.4,29.4,31.5,40.200000000000003,51.9,60.9,69.5,73,71.8,64.5,53.4,42.9,33.700000000000003,646,523,350,91,8,0,0,0,1,61,252,513,8,5,45,148,348,584,714,675,435,165,40,8,17.600000000000001,15.44,25.9,34.340000000000003,46.8,58.46,61.16,60.44,54.1,34.9,34.9,22.1,0.79274611398963735,0.17079579579579576,68,37,19,24,{"$f":"IF(OR(C823=\"OA\",C823=\"OB\",C823=\"1B\",C823=\"1A\",C823=\"2A\",C823=\"2B\",C823=\"3A\",C823=\"3B\",C823=\"3C\"),TAN((LEFT(I823, 5)+VLOOKUP(C823,Main!$K$3:$L$21,2,FALSE))*PI()/180),IF(Checklist!$I$385=\"No\",TAN((LEFT(I823, 5)+VLOOKUP(C823,Main!$K$3:$L$21,2,FALSE))*PI()/180),\"NR\"))","v":"NR"},{"$f":"VLOOKUP(C823,Main!$A$49:$I$67,Main!$B$47,FALSE)","v":0.5},{"$f":"VLOOKUP(C823,Main!$A$49:$I$67,Main!$C$47,FALSE)","v":0.25},{"$f":"VLOOKUP(C823,Main!$A$49:$I$67,Main!$E$47,FALSE)&\":\"&\" \"&VLOOKUP(C823,Main!$A$49:$I$67,Main!$F$47,FALSE)","v":"Minimum HSPF:: 9.6"},{"$f":"VLOOKUP(C823,Main!$A$49:$I$67,Main!$G$47,FALSE)","v":18},{"$f":"VLOOKUP(C823,Main!$A$49:$I$67,Main!$H$47,FALSE)","v":3.1},{"$f":"VLOOKUP(C823,Main!$A$49:$I$67,Main!$I$47,FALSE)","v":16.100000000000001},3175]
["PA","READING SPAATZ FIELD","4A",5170,1343,21.35,77.5,0.12909999999999999,"40.367N",14.2,31.3,32.4,41.6,52.7,62.3,71.2,75.8,73.599999999999994,66.5,54.6,44.7,35.1,585,494,292,60,2,0,0,0,0,39,201,470,4,1,31,140,383,636,798,732,495,180,40,7,17.2,21.2,29.1,39.56,52.3,60.26,63.86,64.040000000000006,57.9,36.5,36.5,27,0.78201634877384185,0.18285943936501556,67,36,18,23,{"$f":"IF(OR(C824=\"OA\",C824=\"OB\",C824=\"1B\",C824=\"1A\",C824=\"2A\",C824=\"2B\",C824=\"3A\",C824=\"3B\",C824=\"3C\"),TAN((LEFT(I824, 5)+VLOOKUP(C824,Main!$K$3:$L$21,2,FALSE))*PI()/180),IF(Checklist!$I$385=\"No\",TAN((LEFT(I824, 5)+VLOOKUP(C824,Main!$K$3:$L$21,2,FALSE))*PI()/180),\"NR\"))","v":"NR"},{"$f":"VLOOKUP(C824,Main!$A$49:$I$67,Main!$B$47,FALSE)","v":0.5},{"$f":"VLOOKUP(C824,Main!$A$49:$I$67,Main!$C$47,FALSE)","v":0.25},{"$f":"VLOOKUP(C824,Main!$A$49:$I$67,Main!$E$47,FALSE)&\":\"&\" \"&VLOOKUP(C824,Main!$A$49:$I$67,Main!$F$47,FALSE)","v":"Minimum HSPF:: 9.6"},{"$f":"VLOOKUP(C824,Main!$A$49:$I$67,Main!$G$47,FALSE)","v":18},{"$f":"VLOOKUP(C824,Main!$A$49:$I$67,Main!$H$47,FALSE)","v":3.1},{"$f":"VLOOKUP(C824,Main!$A$49:$I$67,Main!$I$47,FALSE)","v":16.100000000000001},3447]
["PA","STATE COLLEGE [PENN STATE - SURFRAD]","5A",5964,1343,14.9,76.3,0.12909999999999999,"40.850N",10.199999999999999,27.6,29.6,38.1,50.3,59.3,67.7,71.2,70.8,63.4,52,42,31,699,573,388,105,11,0,0,0,1,71,267,593,4,1,20,113,298,532,659,646,402,134,26,5,20.100000000000001,16.16,24.6,29.84,41,57.02,60.08,58.1,49.5,33.299999999999997,33.299999999999997,22.5,0.80198019801980203,0.17020480688300757,69,38,20,25,{"$f":"IF(OR(C825=\"OA\",C825=\"OB\",C825=\"1B\",C825=\"1A\",C825=\"2A\",C825=\"2B\",C825=\"3A\",C825=\"3B\",C825=\"3C\"),TAN((LEFT(I825, 5)+VLOOKUP(C825,Main!$K$3:$L$21,2,FALSE))*PI()/180),IF(Checklist!$I$385=\"No\",TAN((LEFT(I825, 5)+VLOOKUP(C825,Main!$K$3:$L$21,2,FALSE))*PI()/180),\"NR\"))","v":"NR"},{"$f":"VLOOKUP(C825,Main!$A$49:$I$67,Main!$B$47,FALSE)","v":"NR"},{"$f":"VLOOKUP(C825,Main!$A$49:$I$67,Main!$C$47,FALSE)","v":"NR"},{"$f":"VLOOKUP(C825,Main!$A$49:$I$67,Main!$E$47,FALSE)&\":\"&\" \"&VLOOKUP(C825,Main!$A$49:$I$67,Main!$F$47,FALSE)","v":"Minimum COP @ 5°F:: 1.75"},{"$f":"VLOOKUP(C825,Main!$A$49:$I$67,Main!$G$47,FALSE)","v":15},{"$f":"VLOOKUP(C825,Main!$A$49:$I$67,Main!$H$47,FALSE)","v":3.1},{"$f":"VLOOKUP(C825,Main!$A$49:$I$67,Main!$I$47,FALSE)","v":16.100000000000001},2840]
["PA","WASHINGTON (AWOS)","5A",5958,1372,20.9,73.900000000000006,0.12909999999999999,"40.133N",8.8000000000000007,28.5,30.4,38.6,49.9,58.4,67.099999999999994,70.7,69,62.1,51.9,41.4,32.799999999999997,677,553,381,114,16,0,0,0,4,80,288,543,10,4,29,112,275,512,640,588,366,139,29,9,30.6,22.64,19.8,36.68,46.8,57.92,60.26,60.44,55.6,32,32,24.8,0.79746835443037978,0.16617969320672021,69,38,20,25,{"$f":"IF(OR(C826=\"OA\",C826=\"OB\",C826=\"1B\",C826=\"1A\",C826=\"2A\",C826=\"2B\",C826=\"3A\",C826=\"3B\",C826=\"3C\"),TAN((LEFT(I826, 5)+VLOOKUP(C826,Main!$K$3:$L$21,2,FALSE))*PI()/180),IF(Checklist!$I$385=\"No\",TAN((LEFT(I826, 5)+VLOOKUP(C826,Main!$K$3:$L$21,2,FALSE))*PI()/180),\"NR\"))","v":"NR"},{"$f":"VLOOKUP(C826,Main!$A$49:$I$67,Main!$B$47,FALSE)","v":"NR"},{"$f":"VLOOKUP(C826,Main!$A$49:$I$67,Main!$C$47,FALSE)","v":"NR"},{"$f":"VLOOKUP(C826,Main!$A$49:$I$67,Main!$E$47,FALSE)&\":\"&\" \"&VLOOKUP(C826,Main!$A$49:$I$67,Main!$F$47,FALSE)","v":"Minimum COP @ 5°F:: 1.75"},{"$f":"VLOOKUP(C826,Main!$A$49:$I$67,Main!$G$47,FALSE)","v":15},{"$f":"VLOOKUP(C826,Main!$A$49:$I$67,Main!$H$47,FALSE)","v":3.1},{"$f":"VLOOKUP(C826,Main!$A$49:$I$67,Main!$I$47,FALSE)","v":16.100000000000001},2713]
["PA","WILKES-BARRE SCRANTON INTL AP","5A",6007,1367,21.8,77.7,0.12909999999999999,"41.334N",9.4,27.2,29.3,37.6,49.4,59.5,67.900000000000006,72.2,70.400000000000006,63,51.9,41.9,32.200000000000003,708,580,408,119,9,0,0,0,3,76,273,556,3,1,23,102,305,537,689,633,391,136,30,4,16.2,17.420000000000002,23.2,34.340000000000003,46.6,58.1,58.28,59.9,51.4,29.8,29.8,21.7,0.80392156862745101,0.16788119177197675,69,39,20,25,{"$f":"IF(OR(C827=\"OA\",C827=\"OB\",C827=\"1B\",C827=\"1A\",C827=\"2A\",C827=\"2B\",C827=\"3A\",C827=\"3B\",C827=\"3C\"),TAN((LEFT(I827, 5)+VLOOKUP(C827,Main!$K$3:$L$21,2,FALSE))*PI()/180),IF(Checklist!$I$385=\"No\",TAN((LEFT(I827, 5)+VLOOKUP(C827,Main!$K$3:$L$21,2,FALSE))*PI()/180),\"NR\"))","v":"NR"},{"$f":"VLOOKUP(C827,Main!$A$49:$I$67,Main!$B$47,FALSE)","v":"NR"},{"$f":"VLOOKUP(C827,Main!$A$49:$I$67,Main!$C$47,FALSE)","v":"NR"},{"$f":"VLOOKUP(C827,Main!$A$49:$I$67,Main!$E$47,FALSE)&\":\"&\" \"&VLOOKUP(C827,Main!$A$49:$I$67,Main!$F$47,FALSE)","v":"Minimum COP @ 5°F:: 1.75"},{"$f":"VLOOKUP(C827,Main!$A$49:$I$67,Main!$G$47,FALSE)","v":15},{"$f":"VLOOKUP(C827,Main!$A$49:$I$67,Main!$H$47,FALSE)","v":3.1},{"$f":"VLOOKUP(C827,Main!$A$49:$I$67,Main!$I$47,FALSE)","v":16.100000000000001},2854]
["PA","WILLIAMSPORT REGIONAL AP","5A",5782,1366,21.75,78.8,0.12909999999999999,"41.243N",10.7,27.9,30.1,39,50.5,60.4,69.400000000000006,73.400000000000006,71.7,64,52.7,42.1,32.5,685,558,364,91,6,0,0,0,1,59,261,545,1,0,23,108,329,582,725,671,421,143,23,3,17.399999999999999,18.32,29.1,37.4,49.8,58.28,61.34,61.88,56.8,33.1,33.1,21.9,0.80049875311720697,0.1716900146219518,69,38,20,25,{"$f":"IF(OR(C828=\"OA\",C828=\"OB\",C828=\"1B\",C828=\"1A\",C828=\"2A\",C828=\"2B\",C828=\"3A\",C828=\"3B\",C828=\"3C\"),TAN((LEFT(I828, 5)+VLOOKUP(C828,Main!$K$3:$L$21,2,FALSE))*PI()/180),IF(Checklist!$I$385=\"No\",TAN((LEFT(I828, 5)+VLOOKUP(C828,Main!$K$3:$L$21,2,FALSE))*PI()/180),\"NR\"))","v":"NR"},{"$f":"VLOOKUP(C828,Main!$A$49:$I$67,Main!$B$47,FALSE)","v":"NR"},{"$f":"VLOOKUP(C828,Main!$A$49:$I$67,Main!$C$47,FALSE)","v":"NR"},{"$f":"VLOOKUP(C828,Main!$A$49:$I$67,Main!$E$47,FALSE)&\":\"&\" \"&VLOOKUP(C828,Main!$A$49:$I$67,Main!$F$47,FALSE)","v":"Minimum COP @ 5°F:: 1.75"},{"$f":"VLOOKUP(C828,Main!$A$49:$I$67,Main!$G$47,FALSE)","v":15},{"$f":"VLOOKUP(C828,Main!$A$49:$I$67,Main!$H$47,FALSE)","v":3.1},{"$f":"VLOOKUP(C828,Main!$A$49:$I$67,Main!$I$47,FALSE)","v":16.100000000000001},3029]
["PA","WILLOW GROVE NAS","4A",4935,1449,27.35,81.5,0.12909999999999999,"40.200N",16.600000000000001,33,34.700000000000003,42.4,52.9,62.1,71.7,75.900000000000006,73.8,66.099999999999994,55.6,45.1,37.1,534,433,273,66,2,0,0,0,0,32,201,407,7,6,37,154,379,651,802,737,484,207,53,8,24.8,24.98,28,36.86,48.6,59.54,60.98,65.66,57,39.6,39.6,27.9,0.77142857142857146,0.19139762330423807,66,35,18,23,{"$f":"IF(OR(C829=\"OA\",C829=\"OB\",C829=\"1B\",C829=\"1A\",C829=\"2A\",C829=\"2B\",C829=\"3A\",C829=\"3B\",C829=\"3C\"),TAN((LEFT(I829, 5)+VLOOKUP(C829,Main!$K$3:$L$21,2,FALSE))*PI()/180),IF(Checklist!$I$385=\"No\",TAN((LEFT(I829, 5)+VLOOKUP(C829,Main!$K$3:$L$21,2,FALSE))*PI()/180),\"NR\"))","v":"NR"},{"$f":"VLOOKUP(C829,Main!$A$49:$I$67,Main!$B$47,FALSE)","v":0.5},{"$f":"VLOOKUP(C829,Main!$A$49:$I$67,Main!$C$47,FALSE)","v":0.25},{"$f":"VLOOKUP(C829,Main!$A$49:$I$67,Main!$E$47,FALSE)&\":\"&\" \"&VLOOKUP(C829,Main!$A$49:$I$67,Main!$F$47,FALSE)","v":"Minimum HSPF:: 9.6"},{"$f":"VLOOKUP(C829,Main!$A$49:$I$67,Main!$G$47,FALSE)","v":18},{"$f":"VLOOKUP(C829,Main!$A$49:$I$67,Main!$H$47,FALSE)","v":3.1},{"$f":"VLOOKUP(C829,Main!$A$49:$I$67,Main!$I$47,FALSE)","v":16.100000000000001},3525]
["PE","CHARLOTTETOWN","6A",8230,1238,8.25,70.2,0.1888,"46.290N",0.1,19.2,19.399999999999999,27.3,37.799999999999997,48.3,58.5,66.2,65.5,58.3,48,37.9,27.6,955,856,703,373,119,9,0,0,7,123,371,693,0,0,1,6,68,264,502,482,256,61,9,0,13.1,12.56,20.100000000000001,29.3,39.200000000000003,50.9,58.82,58.1,51.3,33.1,33.1,21.4,0.83606557377049184,0.14488715519643353,82,51,30,35,{"$f":"IF(OR(C830=\"OA\",C830=\"OB\",C830=\"1B\",C830=\"1A\",C830=\"2A\",C830=\"2B\",C830=\"3A\",C830=\"3B\",C830=\"3C\"),TAN((LEFT(I830, 5)+VLOOKUP(C830,Main!$K$3:$L$21,2,FALSE))*PI()/180),IF(Checklist!$I$385=\"No\",TAN((LEFT(I830, 5)+VLOOKUP(C830,Main!$K$3:$L$21,2,FALSE))*PI()/180),\"NR\"))","v":"NR"},{"$f":"VLOOKUP(C830,Main!$A$49:$I$67,Main!$B$47,FALSE)","v":"NR"},{"$f":"VLOOKUP(C830,Main!$A$49:$I$67,Main!$C$47,FALSE)","v":"NR"},{"$f":"VLOOKUP(C830,Main!$A$49:$I$67,Main!$E$47,FALSE)&\":\"&\" \"&VLOOKUP(C830,Main!$A$49:$I$67,Main!$F$47,FALSE)","v":"Minimum COP @ 5°F:: 1.75"},{"$f":"VLOOKUP(C830,Main!$A$49:$I$67,Main!$G$47,FALSE)","v":15},{"$f":"VLOOKUP(C830,Main!$A$49:$I$67,Main!$H$47,FALSE)","v":3.1},{"$f":"VLOOKUP(C830,Main!$A$49:$I$67,Main!$I$47,FALSE)","v":16.100000000000001},1649]
["QC","JONQUIERE",7,9914,1270,-8.85,71.400000000000006,8.1299999999999997E-2,"48.430N",-16.899999999999999,5.4,9.5,21.6,36.9,51,61.2,65.599999999999994,63.3,54.8,43.1,30.1,15.5,1382,1133,880,398,82,4,0,0,31,239,598,1069,0,0,1,4,113,339,483,411,176,26,2,0,-2,1.76,12,24.44,35.4,48.92,55.58,54.5,47.5,25.9,25.9,7.9,0.87220447284345048,0.11587559290739502,77,45,27,32,{"$f":"IF(OR(C831=\"OA\",C831=\"OB\",C831=\"1B\",C831=\"1A\",C831=\"2A\",C831=\"2B\",C831=\"3A\",C831=\"3B\",C831=\"3C\"),TAN((LEFT(I831, 5)+VLOOKUP(C831,Main!$K$3:$L$21,2,FALSE))*PI()/180),IF(Checklist!$I$385=\"No\",TAN((LEFT(I831, 5)+VLOOKUP(C831,Main!$K$3:$L$21,2,FALSE))*PI()/180),\"NR\"))","v":"NR"},{"$f":"VLOOKUP(C831,Main!$A$49:$I$67,Main!$B$47,FALSE)","v":"NR"},{"$f":"VLOOKUP(C831,Main!$A$49:$I$67,Main!$C$47,FALSE)","v":"NR"},{"$f":"VLOOKUP(C831,Main!$A$49:$I$67,Main!$E$47,FALSE)&\":\"&\" \"&VLOOKUP(C831,Main!$A$49:$I$67,Main!$F$47,FALSE)","v":"Minimum COP @ 5°F:: 1.75"},{"$f":"VLOOKUP(C831,Main!$A$49:$I$67,Main!$G$47,FALSE)","v":15},{"$f":"VLOOKUP(C831,Main!$A$49:$I$67,Main!$H$47,FALSE)","v":3.1},{"$f":"VLOOKUP(C831,Main!$A$49:$I$67,Main!$I$47,FALSE)","v":16.100000000000001},1555]
["QC","LA BAIE",7,10224,1254,-6.6,71.8,8.1299999999999997E-2,"48.300N",-17.8,4.5999999999999996,9,19.899999999999999,36,50.5,59.4,64,62.3,54.1,42.2,29.9,14.3,1408,1147,935,423,92,7,0,0,39,263,604,1106,0,0,0,2,109,289,435,382,162,22,1,0,-0.8,2.84,13.3,25.34,36.1,48.56,55.76,54.68,47.8,26.6,26.6,9.9,0.87381703470031546,0.11466011466011465,78,46,27,32,{"$f":"IF(OR(C832=\"OA\",C832=\"OB\",C832=\"1B\",C832=\"1A\",C832=\"2A\",C832=\"2B\",C832=\"3A\",C832=\"3B\",C832=\"3C\"),TAN((LEFT(I832, 5)+VLOOKUP(C832,Main!$K$3:$L$21,2,FALSE))*PI()/180),IF(Checklist!$I$385=\"No\",TAN((LEFT(I832, 5)+VLOOKUP(C832,Main!$K$3:$L$21,2,FALSE))*PI()/180),\"NR\"))","v":"NR"},{"$f":"VLOOKUP(C832,Main!$A$49:$I$67,Main!$B$47,FALSE)","v":"NR"},{"$f":"VLOOKUP(C832,Main!$A$49:$I$67,Main!$C$47,FALSE)","v":"NR"},{"$f":"VLOOKUP(C832,Main!$A$49:$I$67,Main!$E$47,FALSE)&\":\"&\" \"&VLOOKUP(C832,Main!$A$49:$I$67,Main!$F$47,FALSE)","v":"Minimum COP @ 5°F:: 1.75"},{"$f":"VLOOKUP(C832,Main!$A$49:$I$67,Main!$G$47,FALSE)","v":15},{"$f":"VLOOKUP(C832,Main!$A$49:$I$67,Main!$H$47,FALSE)","v":3.1},{"$f":"VLOOKUP(C832,Main!$A$49:$I$67,Main!$I$47,FALSE)","v":16.100000000000001},1402]
["QC","LACADIE","6A",7936,1320,0,75.400000000000006,8.1299999999999997E-2,"45.290N",-7.1,15.2,17.600000000000001,28.5,43,56.5,66.099999999999994,69.5,67.3,59.8,47.8,36.299999999999997,23.4,1080,908,670,241,22,0,0,0,7,143,418,825,0,0,3,30,225,484,605,537,300,73,7,0,7.3,9.5,19.399999999999999,32,43.3,55.04,60.08,59.18,52.3,31.5,31.5,15.4,0.84848484848484851,0.13099650915895922,72,40,22,27,{"$f":"IF(OR(C833=\"OA\",C833=\"OB\",C833=\"1B\",C833=\"1A\",C833=\"2A\",C833=\"2B\",C833=\"3A\",C833=\"3B\",C833=\"3C\"),TAN((LEFT(I833, 5)+VLOOKUP(C833,Main!$K$3:$L$21,2,FALSE))*PI()/180),IF(Checklist!$I$385=\"No\",TAN((LEFT(I833, 5)+VLOOKUP(C833,Main!$K$3:$L$21,2,FALSE))*PI()/180),\"NR\"))","v":"NR"},{"$f":"VLOOKUP(C833,Main!$A$49:$I$67,Main!$B$47,FALSE)","v":"NR"},{"$f":"VLOOKUP(C833,Main!$A$49:$I$67,Main!$C$47,FALSE)","v":"NR"},{"$f":"VLOOKUP(C833,Main!$A$49:$I$67,Main!$E$47,FALSE)&\":\"&\" \"&VLOOKUP(C833,Main!$A$49:$I$67,Main!$F$47,FALSE)","v":"Minimum COP @ 5°F:: 1.75"},{"$f":"VLOOKUP(C833,Main!$A$49:$I$67,Main!$G$47,FALSE)","v":15},{"$f":"VLOOKUP(C833,Main!$A$49:$I$67,Main!$H$47,FALSE)","v":3.1},{"$f":"VLOOKUP(C833,Main!$A$49:$I$67,Main!$I$47,FALSE)","v":16.100000000000001},2264]
["QC","LASSOMPTION","6A",8288,1311,-0.4,74.8,8.1299999999999997E-2,"45.810N",-8.6,13.2,16.3,27.2,42.4,55.8,65.2,69,67.099999999999994,59.2,46.8,34.799999999999997,21.2,1139,943,707,253,25,0,0,0,8,158,459,892,0,0,1,24,206,456,588,532,285,60,3,0,4.0999999999999996,6.62,17.2,29.3,41.7,53.78,59,58.1,51.3,29.5,29.5,12.7,0.85401459854014594,0.1284313033660292,73,41,23,28,{"$f":"IF(OR(C834=\"OA\",C834=\"OB\",C834=\"1B\",C834=\"1A\",C834=\"2A\",C834=\"2B\",C834=\"3A\",C834=\"3B\",C834=\"3C\"),TAN((LEFT(I834, 5)+VLOOKUP(C834,Main!$K$3:$L$21,2,FALSE))*PI()/180),IF(Checklist!$I$385=\"No\",TAN((LEFT(I834, 5)+VLOOKUP(C834,Main!$K$3:$L$21,2,FALSE))*PI()/180),\"NR\"))","v":"NR"},{"$f":"VLOOKUP(C834,Main!$A$49:$I$67,Main!$B$47,FALSE)","v":"NR"},{"$f":"VLOOKUP(C834,Main!$A$49:$I$67,Main!$C$47,FALSE)","v":"NR"},{"$f":"VLOOKUP(C834,Main!$A$49:$I$67,Main!$E$47,FALSE)&\":\"&\" \"&VLOOKUP(C834,Main!$A$49:$I$67,Main!$F$47,FALSE)","v":"Minimum COP @ 5°F:: 1.75"},{"$f":"VLOOKUP(C834,Main!$A$49:$I$67,Main!$G$47,FALSE)","v":15},{"$f":"VLOOKUP(C834,Main!$A$49:$I$67,Main!$H$47,FALSE)","v":3.1},{"$f":"VLOOKUP(C834,Main!$A$49:$I$67,Main!$I$47,FALSE)","v":16.100000000000001},2155]
["QC","LENNOXVILLE","6A",8253,1263,-1.2,72.7,8.1299999999999997E-2,"45.370N",-7.9,15.3,18.3,28,41.8,54,63.1,67.2,65.7,58.2,46.1,35.4,22.8,1076,887,684,272,43,1,0,0,13,178,445,843,0,0,3,26,168,395,533,487,260,56,7,0,7,8.9600000000000009,18.5,30.2,42.3,51.98,56.84,58.82,51.4,30.4,30.4,14.5,0.8481973434535105,0.12961578178969482,73,41,23,28,{"$f":"IF(OR(C835=\"OA\",C835=\"OB\",C835=\"1B\",C835=\"1A\",C835=\"2A\",C835=\"2B\",C835=\"3A\",C835=\"3B\",C835=\"3C\"),TAN((LEFT(I835, 5)+VLOOKUP(C835,Main!$K$3:$L$21,2,FALSE))*PI()/180),IF(Checklist!$I$385=\"No\",TAN((LEFT(I835, 5)+VLOOKUP(C835,Main!$K$3:$L$21,2,FALSE))*PI()/180),\"NR\"))","v":"NR"},{"$f":"VLOOKUP(C835,Main!$A$49:$I$67,Main!$B$47,FALSE)","v":"NR"},{"$f":"VLOOKUP(C835,Main!$A$49:$I$67,Main!$C$47,FALSE)","v":"NR"},{"$f":"VLOOKUP(C835,Main!$A$49:$I$67,Main!$E$47,FALSE)&\":\"&\" \"&VLOOKUP(C835,Main!$A$49:$I$67,Main!$F$47,FALSE)","v":"Minimum COP @ 5°F:: 1.75"},{"$f":"VLOOKUP(C835,Main!$A$49:$I$67,Main!$G$47,FALSE)","v":15},{"$f":"VLOOKUP(C835,Main!$A$49:$I$67,Main!$H$47,FALSE)","v":3.1},{"$f":"VLOOKUP(C835,Main!$A$49:$I$67,Main!$I$47,FALSE)","v":16.100000000000001},1935]
["QC","MC TAVISH","6A",7463,1321,2.6,76.099999999999994,8.1299999999999997E-2,"45.510N",-2.5,17.600000000000001,20.100000000000001,30.5,44.4,57.4,66.900000000000006,71.3,69.7,61.7,49.3,37.5,24.7,1004,838,608,209,17,0,0,0,3,111,383,784,0,0,4,40,246,506,659,612,355,89,7,0,7.3,9.32,18.3,28.76,41.2,53.78,58.46,57.92,51.4,30,30,14.5,0.84126984126984128,0.1395437991182672,70,39,21,26,{"$f":"IF(OR(C836=\"OA\",C836=\"OB\",C836=\"1B\",C836=\"1A\",C836=\"2A\",C836=\"2B\",C836=\"3A\",C836=\"3B\",C836=\"3C\"),TAN((LEFT(I836, 5)+VLOOKUP(C836,Main!$K$3:$L$21,2,FALSE))*PI()/180),IF(Checklist!$I$385=\"No\",TAN((LEFT(I836, 5)+VLOOKUP(C836,Main!$K$3:$L$21,2,FALSE))*PI()/180),\"NR\"))","v":"NR"},{"$f":"VLOOKUP(C836,Main!$A$49:$I$67,Main!$B$47,FALSE)","v":"NR"},{"$f":"VLOOKUP(C836,Main!$A$49:$I$67,Main!$C$47,FALSE)","v":"NR"},{"$f":"VLOOKUP(C836,Main!$A$49:$I$67,Main!$E$47,FALSE)&\":\"&\" \"&VLOOKUP(C836,Main!$A$49:$I$67,Main!$F$47,FALSE)","v":"Minimum COP @ 5°F:: 1.75"},{"$f":"VLOOKUP(C836,Main!$A$49:$I$67,Main!$G$47,FALSE)","v":15},{"$f":"VLOOKUP(C836,Main!$A$49:$I$67,Main!$H$47,FALSE)","v":3.1},{"$f":"VLOOKUP(C836,Main!$A$49:$I$67,Main!$I$47,FALSE)","v":16.100000000000001},2518]
["QC","MONT JOLI AB",7,9511,1260,4.3499999999999996,72.7,8.1299999999999997E-2,"48.610N",-6.6,11.8,13.9,23.6,36.200000000000003,48.1,58.5,64.099999999999994,62.7,54.7,43.3,32.6,20.5,1184,1011,819,415,125,8,0,0,26,232,525,914,0,0,0,2,66,262,436,393,166,23,3,0,4.8,7.34,16,26.96,37.4,48.38,55.22,53.96,47.1,27,27,14.2,0.85765124555160144,0.1318745018476922,76,44,26,31,{"$f":"IF(OR(C837=\"OA\",C837=\"OB\",C837=\"1B\",C837=\"1A\",C837=\"2A\",C837=\"2B\",C837=\"3A\",C837=\"3B\",C837=\"3C\"),TAN((LEFT(I837, 5)+VLOOKUP(C837,Main!$K$3:$L$21,2,FALSE))*PI()/180),IF(Checklist!$I$385=\"No\",TAN((LEFT(I837, 5)+VLOOKUP(C837,Main!$K$3:$L$21,2,FALSE))*PI()/180),\"NR\"))","v":"NR"},{"$f":"VLOOKUP(C837,Main!$A$49:$I$67,Main!$B$47,FALSE)","v":"NR"},{"$f":"VLOOKUP(C837,Main!$A$49:$I$67,Main!$C$47,FALSE)","v":"NR"},{"$f":"VLOOKUP(C837,Main!$A$49:$I$67,Main!$E$47,FALSE)&\":\"&\" \"&VLOOKUP(C837,Main!$A$49:$I$67,Main!$F$47,FALSE)","v":"Minimum COP @ 5°F:: 1.75"},{"$f":"VLOOKUP(C837,Main!$A$49:$I$67,Main!$G$47,FALSE)","v":15},{"$f":"VLOOKUP(C837,Main!$A$49:$I$67,Main!$H$47,FALSE)","v":3.1},{"$f":"VLOOKUP(C837,Main!$A$49:$I$67,Main!$I$47,FALSE)","v":16.100000000000001},1351]
["QC","MONT-ORFORD",7,10186,1283,-5.0999999999999996,66.7,8.1299999999999997E-2,"45.310N",-13.4,10.3,12.8,21.7,34.299999999999997,47.7,58.7,61.7,60.6,52.7,39.700000000000003,29.1,17.399999999999999,1231,1043,879,478,146,18,1,2,57,342,627,1009,0,0,0,8,74,280,364,331,137,24,0,0,1.6,2.84,11.7,23.72,35.799999999999997,47.3,51.98,51.98,45,23.9,23.9,9.9,0.86135181975736574,0.12085795869579652,{"$f":"ROUNDDOWN((33.97238548+(2.143484655*3.14219615)+(0.00253108806*D838)+(-0.2767683543*J838)+(66.9384076*H838)+((3.14219615-3.14219615)^2*-1.607593659)+((J838-12.48681818)*(H838-0.2016890909)*-1.8168457)+8.4234),0)","v":78},{"$f":"ROUNDDOWN((2.975122788+(0.003896731237*D838)+(59.88697433*H838)+((D838-5520.854545)*(H838-0.2016890909)*0.01119327314)+5.3792),0)","v":46},28,{"$f":"ROUNDDOWN(BK838+5.9089,0)","v":33},{"$f":"IF(OR(C838=\"OA\",C838=\"OB\",C838=\"1B\",C838=\"1A\",C838=\"2A\",C838=\"2B\",C838=\"3A\",C838=\"3B\",C838=\"3C\"),TAN((LEFT(I838, 5)+VLOOKUP(C838,Main!$K$3:$L$21,2,FALSE))*PI()/180),IF(Checklist!$I$385=\"No\",TAN((LEFT(I838, 5)+VLOOKUP(C838,Main!$K$3:$L$21,2,FALSE))*PI()/180),\"NR\"))","v":"NR"},{"$f":"VLOOKUP(C838,Main!$A$49:$I$67,Main!$B$47,FALSE)","v":"NR"},{"$f":"VLOOKUP(C838,Main!$A$49:$I$67,Main!$C$47,FALSE)","v":"NR"},{"$f":"VLOOKUP(C838,Main!$A$49:$I$67,Main!$E$47,FALSE)&\":\"&\" \"&VLOOKUP(C838,Main!$A$49:$I$67,Main!$F$47,FALSE)","v":"Minimum COP @ 5°F:: 1.75"},{"$f":"VLOOKUP(C838,Main!$A$49:$I$67,Main!$G$47,FALSE)","v":15},{"$f":"VLOOKUP(C838,Main!$A$49:$I$67,Main!$H$47,FALSE)","v":3.1},{"$f":"VLOOKUP(C838,Main!$A$49:$I$67,Main!$I$47,FALSE)","v":16.100000000000001},1218]
["QC","MONTREAL","6A",7771,1352,3.95,76.3,8.1299999999999997E-2,"45.470N",-4.5999999999999996,15.9,18.5,29,43.6,56.8,66.400000000000006,70.599999999999994,69,60.7,48.3,36.5,23.6,1057,882,653,225,20,0,0,0,7,132,412,818,0,0,2,35,231,491,639,588,328,79,6,0,8.1,9.5,17.600000000000001,29.48,42.1,53.96,59.18,58.64,52.2,30.2,30.2,16.7,0.84644913627639151,0.13550740823468096,71,40,22,27,{"$f":"IF(OR(C839=\"OA\",C839=\"OB\",C839=\"1B\",C839=\"1A\",C839=\"2A\",C839=\"2B\",C839=\"3A\",C839=\"3B\",C839=\"3C\"),TAN((LEFT(I839, 5)+VLOOKUP(C839,Main!$K$3:$L$21,2,FALSE))*PI()/180),IF(Checklist!$I$385=\"No\",TAN((LEFT(I839, 5)+VLOOKUP(C839,Main!$K$3:$L$21,2,FALSE))*PI()/180),\"NR\"))","v":"NR"},{"$f":"VLOOKUP(C839,Main!$A$49:$I$67,Main!$B$47,FALSE)","v":"NR"},{"$f":"VLOOKUP(C839,Main!$A$49:$I$67,Main!$C$47,FALSE)","v":"NR"},{"$f":"VLOOKUP(C839,Main!$A$49:$I$67,Main!$E$47,FALSE)&\":\"&\" \"&VLOOKUP(C839,Main!$A$49:$I$67,Main!$F$47,FALSE)","v":"Minimum COP @ 5°F:: 1.75"},{"$f":"VLOOKUP(C839,Main!$A$49:$I$67,Main!$G$47,FALSE)","v":15},{"$f":"VLOOKUP(C839,Main!$A$49:$I$67,Main!$H$47,FALSE)","v":3.1},{"$f":"VLOOKUP(C839,Main!$A$49:$I$67,Main!$I$47,FALSE)","v":16.100000000000001},2399]
["QC","MONTREAL-MIRABEL","6A",8509,1326,3.45,73.599999999999994,8.1299999999999997E-2,"45.680N",-9.3000000000000007,12.6,15.5,26.5,41.9,55,64.3,68.2,66.599999999999994,58.1,46,34,20.5,1161,967,728,266,31,1,0,0,15,176,482,915,0,0,1,24,186,429,565,513,259,51,2,0,4.8,6.62,16.2,28.94,41.2,53.42,58.46,57.38,50.5,28.2,28.2,13.8,0.85559566787003605,0.12726827733296037,73,42,24,29,{"$f":"IF(OR(C840=\"OA\",C840=\"OB\",C840=\"1B\",C840=\"1A\",C840=\"2A\",C840=\"2B\",C840=\"3A\",C840=\"3B\",C840=\"3C\"),TAN((LEFT(I840, 5)+VLOOKUP(C840,Main!$K$3:$L$21,2,FALSE))*PI()/180),IF(Checklist!$I$385=\"No\",TAN((LEFT(I840, 5)+VLOOKUP(C840,Main!$K$3:$L$21,2,FALSE))*PI()/180),\"NR\"))","v":"NR"},{"$f":"VLOOKUP(C840,Main!$A$49:$I$67,Main!$B$47,FALSE)","v":"NR"},{"$f":"VLOOKUP(C840,Main!$A$49:$I$67,Main!$C$47,FALSE)","v":"NR"},{"$f":"VLOOKUP(C840,Main!$A$49:$I$67,Main!$E$47,FALSE)&\":\"&\" \"&VLOOKUP(C840,Main!$A$49:$I$67,Main!$F$47,FALSE)","v":"Minimum COP @ 5°F:: 1.75"},{"$f":"VLOOKUP(C840,Main!$A$49:$I$67,Main!$G$47,FALSE)","v":15},{"$f":"VLOOKUP(C840,Main!$A$49:$I$67,Main!$H$47,FALSE)","v":3.1},{"$f":"VLOOKUP(C840,Main!$A$49:$I$67,Main!$I$47,FALSE)","v":16.100000000000001},2030]
["QC","NICOLET","6A",8436,1284,-2.5499999999999998,72.900000000000006,8.1299999999999997E-2,"46.230N",-9,12.5,15.2,26.3,41.3,55,64.2,68.400000000000006,66.3,58.5,46.8,34.9,21.4,1162,975,734,275,25,0,0,0,7,149,457,886,0,0,0,15,180,425,571,507,261,51,3,0,4.0999999999999996,6.98,16.7,29.3,42.1,53.96,59.36,58.46,51.3,29.3,29.3,12.9,0.85585585585585588,0.12776412776412777,73,42,{"$f":"ROUNDDOWN(-18.64576148+(5.900367721*3.14219615)+(0.002662134083*D841)+(38.92365332*H841)+((BT841-3890.577273)*(G841-78.59)*0.00005765875867)+((D841-5520.854545)*(H841-0.2016890909)*0.006047043516),0)","v":24},29,{"$f":"IF(OR(C841=\"OA\",C841=\"OB\",C841=\"1B\",C841=\"1A\",C841=\"2A\",C841=\"2B\",C841=\"3A\",C841=\"3B\",C841=\"3C\"),TAN((LEFT(I841, 5)+VLOOKUP(C841,Main!$K$3:$L$21,2,FALSE))*PI()/180),IF(Checklist!$I$385=\"No\",TAN((LEFT(I841, 5)+VLOOKUP(C841,Main!$K$3:$L$21,2,FALSE))*PI()/180),\"NR\"))","v":"NR"},{"$f":"VLOOKUP(C841,Main!$A$49:$I$67,Main!$B$47,FALSE)","v":"NR"},{"$f":"VLOOKUP(C841,Main!$A$49:$I$67,Main!$C$47,FALSE)","v":"NR"},{"$f":"VLOOKUP(C841,Main!$A$49:$I$67,Main!$E$47,FALSE)&\":\"&\" \"&VLOOKUP(C841,Main!$A$49:$I$67,Main!$F$47,FALSE)","v":"Minimum COP @ 5°F:: 1.75"},{"$f":"VLOOKUP(C841,Main!$A$49:$I$67,Main!$G$47,FALSE)","v":15},{"$f":"VLOOKUP(C841,Main!$A$49:$I$67,Main!$H$47,FALSE)","v":3.1},{"$f":"VLOOKUP(C841,Main!$A$49:$I$67,Main!$I$47,FALSE)","v":16.100000000000001},2013]
["QC","POINT-AU-PERE",7,9554,1260,2.4,67.599999999999994,8.1299999999999997E-2,"48.510N",-2.6,14.1,16.600000000000001,24.8,36.6,46.7,54.9,60.2,58.9,52.8,43.2,33.9,22.5,1112,935,782,404,142,18,0,0,31,226,486,854,0,0,0,1,38,165,317,277,114,16,3,0,4.8,7.88,16.5,27.32,37.4,47.3,53.96,52.88,46.4,27.3,27.3,14,0.85157699443413726,0.1393461450118674,76,45,27,32,{"$f":"IF(OR(C842=\"OA\",C842=\"OB\",C842=\"1B\",C842=\"1A\",C842=\"2A\",C842=\"2B\",C842=\"3A\",C842=\"3B\",C842=\"3C\"),TAN((LEFT(I842, 5)+VLOOKUP(C842,Main!$K$3:$L$21,2,FALSE))*PI()/180),IF(Checklist!$I$385=\"No\",TAN((LEFT(I842, 5)+VLOOKUP(C842,Main!$K$3:$L$21,2,FALSE))*PI()/180),\"NR\"))","v":"NR"},{"$f":"VLOOKUP(C842,Main!$A$49:$I$67,Main!$B$47,FALSE)","v":"NR"},{"$f":"VLOOKUP(C842,Main!$A$49:$I$67,Main!$C$47,FALSE)","v":"NR"},{"$f":"VLOOKUP(C842,Main!$A$49:$I$67,Main!$E$47,FALSE)&\":\"&\" \"&VLOOKUP(C842,Main!$A$49:$I$67,Main!$F$47,FALSE)","v":"Minimum COP @ 5°F:: 1.75"},{"$f":"VLOOKUP(C842,Main!$A$49:$I$67,Main!$G$47,FALSE)","v":15},{"$f":"VLOOKUP(C842,Main!$A$49:$I$67,Main!$H$47,FALSE)","v":3.1},{"$f":"VLOOKUP(C842,Main!$A$49:$I$67,Main!$I$47,FALSE)","v":16.100000000000001},931]
["QC","QUEBEC AP","6A",8983,1299,0.35,72.3,8.1299999999999997E-2,"46.800N",-9.6,11.1,14,24.9,39.200000000000003,53.1,62.7,67.3,65.5,56.9,44.8,32.5,19.2,1207,1008,779,333,47,1,0,0,15,193,526,955,0,0,0,8,142,381,535,480,221,32,1,0,5,6.62,16.2,27.32,39.200000000000003,51.62,57.74,56.48,49.6,28,28,14.2,0.85940246045694202,0.12677626079687937,75,43,25,30,{"$f":"IF(OR(C843=\"OA\",C843=\"OB\",C843=\"1B\",C843=\"1A\",C843=\"2A\",C843=\"2B\",C843=\"3A\",C843=\"3B\",C843=\"3C\"),TAN((LEFT(I843, 5)+VLOOKUP(C843,Main!$K$3:$L$21,2,FALSE))*PI()/180),IF(Checklist!$I$385=\"No\",TAN((LEFT(I843, 5)+VLOOKUP(C843,Main!$K$3:$L$21,2,FALSE))*PI()/180),\"NR\"))","v":"NR"},{"$f":"VLOOKUP(C843,Main!$A$49:$I$67,Main!$B$47,FALSE)","v":"NR"},{"$f":"VLOOKUP(C843,Main!$A$49:$I$67,Main!$C$47,FALSE)","v":"NR"},{"$f":"VLOOKUP(C843,Main!$A$49:$I$67,Main!$E$47,FALSE)&\":\"&\" \"&VLOOKUP(C843,Main!$A$49:$I$67,Main!$F$47,FALSE)","v":"Minimum COP @ 5°F:: 1.75"},{"$f":"VLOOKUP(C843,Main!$A$49:$I$67,Main!$G$47,FALSE)","v":15},{"$f":"VLOOKUP(C843,Main!$A$49:$I$67,Main!$H$47,FALSE)","v":3.1},{"$f":"VLOOKUP(C843,Main!$A$49:$I$67,Main!$I$47,FALSE)","v":16.100000000000001},1800]
["QC","SHERBROOKE AP","6A",8843,1263,-1.05,71.8,8.1299999999999997E-2,"45.440N",-11.5,13.4,15.5,26.1,40.1,52.5,61.5,65.599999999999994,63.9,55.9,44.6,33.5,21,1134,966,742,319,61,3,0,0,27,212,499,899,0,0,2,22,138,347,484,432,204,46,5,0,5.9,6.8,15.4,28.4,40.5,53.06,57.74,57.02,49.8,28.6,28.6,15.4,0.85347985347985345,0.12374638789733129,74,43,25,30,{"$f":"IF(OR(C844=\"OA\",C844=\"OB\",C844=\"1B\",C844=\"1A\",C844=\"2A\",C844=\"2B\",C844=\"3A\",C844=\"3B\",C844=\"3C\"),TAN((LEFT(I844, 5)+VLOOKUP(C844,Main!$K$3:$L$21,2,FALSE))*PI()/180),IF(Checklist!$I$385=\"No\",TAN((LEFT(I844, 5)+VLOOKUP(C844,Main!$K$3:$L$21,2,FALSE))*PI()/180),\"NR\"))","v":"NR"},{"$f":"VLOOKUP(C844,Main!$A$49:$I$67,Main!$B$47,FALSE)","v":"NR"},{"$f":"VLOOKUP(C844,Main!$A$49:$I$67,Main!$C$47,FALSE)","v":"NR"},{"$f":"VLOOKUP(C844,Main!$A$49:$I$67,Main!$E$47,FALSE)&\":\"&\" \"&VLOOKUP(C844,Main!$A$49:$I$67,Main!$F$47,FALSE)","v":"Minimum COP @ 5°F:: 1.75"},{"$f":"VLOOKUP(C844,Main!$A$49:$I$67,Main!$G$47,FALSE)","v":15},{"$f":"VLOOKUP(C844,Main!$A$49:$I$67,Main!$H$47,FALSE)","v":3.1},{"$f":"VLOOKUP(C844,Main!$A$49:$I$67,Main!$I$47,FALSE)","v":16.100000000000001},1680]
["QC","ST ANICET","6A",7950,1341,-1.1499999999999999,74.7,8.1299999999999997E-2,"45.120N",-7,15.8,18.100000000000001,28.7,43.2,55.7,65.5,69.099999999999994,66.7,59.5,47.7,36.4,23.6,1060,893,665,239,28,0,0,0,8,146,417,820,0,0,3,33,206,464,591,518,293,76,8,0,7.5,9.5,19.600000000000001,31.64,42.8,55.4,60.44,59.9,52.7,31.1,31.1,15.6,0.84674329501915713,0.13117117117117116,72,40,22,27,{"$f":"IF(OR(C845=\"OA\",C845=\"OB\",C845=\"1B\",C845=\"1A\",C845=\"2A\",C845=\"2B\",C845=\"3A\",C845=\"3B\",C845=\"3C\"),TAN((LEFT(I845, 5)+VLOOKUP(C845,Main!$K$3:$L$21,2,FALSE))*PI()/180),IF(Checklist!$I$385=\"No\",TAN((LEFT(I845, 5)+VLOOKUP(C845,Main!$K$3:$L$21,2,FALSE))*PI()/180),\"NR\"))","v":"NR"},{"$f":"VLOOKUP(C845,Main!$A$49:$I$67,Main!$B$47,FALSE)","v":"NR"},{"$f":"VLOOKUP(C845,Main!$A$49:$I$67,Main!$C$47,FALSE)","v":"NR"},{"$f":"VLOOKUP(C845,Main!$A$49:$I$67,Main!$E$47,FALSE)&\":\"&\" \"&VLOOKUP(C845,Main!$A$49:$I$67,Main!$F$47,FALSE)","v":"Minimum COP @ 5°F:: 1.75"},{"$f":"VLOOKUP(C845,Main!$A$49:$I$67,Main!$G$47,FALSE)","v":15},{"$f":"VLOOKUP(C845,Main!$A$49:$I$67,Main!$H$47,FALSE)","v":3.1},{"$f":"VLOOKUP(C845,Main!$A$49:$I$67,Main!$I$47,FALSE)","v":16.100000000000001},2192]
["QC","STE ANNE DE BELLEVUE","6A",7928,1325,0.5,74.8,8.1299999999999997E-2,"45.430N",-5.5,15.4,18.2,28.5,43.2,56.3,65.7,69.7,67.7,60,48.1,35.9,22.8,1072,891,668,235,22,0,0,0,5,132,427,844,0,0,2,30,217,471,611,548,305,71,5,0,6.4,9.14,18.3,30.38,42.6,55.22,59.54,58.82,52.3,30.4,30.4,14.5,0.84790874524714832,0.13384813384813382,72,40,22,27,{"$f":"IF(OR(C846=\"OA\",C846=\"OB\",C846=\"1B\",C846=\"1A\",C846=\"2A\",C846=\"2B\",C846=\"3A\",C846=\"3B\",C846=\"3C\"),TAN((LEFT(I846, 5)+VLOOKUP(C846,Main!$K$3:$L$21,2,FALSE))*PI()/180),IF(Checklist!$I$385=\"No\",TAN((LEFT(I846, 5)+VLOOKUP(C846,Main!$K$3:$L$21,2,FALSE))*PI()/180),\"NR\"))","v":"NR"},{"$f":"VLOOKUP(C846,Main!$A$49:$I$67,Main!$B$47,FALSE)","v":"NR"},{"$f":"VLOOKUP(C846,Main!$A$49:$I$67,Main!$C$47,FALSE)","v":"NR"},{"$f":"VLOOKUP(C846,Main!$A$49:$I$67,Main!$E$47,FALSE)&\":\"&\" \"&VLOOKUP(C846,Main!$A$49:$I$67,Main!$F$47,FALSE)","v":"Minimum COP @ 5°F:: 1.75"},{"$f":"VLOOKUP(C846,Main!$A$49:$I$67,Main!$G$47,FALSE)","v":15},{"$f":"VLOOKUP(C846,Main!$A$49:$I$67,Main!$H$47,FALSE)","v":3.1},{"$f":"VLOOKUP(C846,Main!$A$49:$I$67,Main!$I$47,FALSE)","v":16.100000000000001},2260]
["QC","STE FOY","6A",8675,1319,0.5,73.2,8.1299999999999997E-2,"46.780N",-6.9,12.2,16.5,25.9,40,53.8,62.5,67.7,65.900000000000006,58,45.5,34,20.2,1172,938,748,310,40,1,0,0,9,177,482,923,0,0,1,9,158,376,549,494,250,36,2,0,4.5999999999999996,7.16,16.5,27.14,38.5,50.72,57.56,56.48,49.8,28,28,14.2,0.85663082437275984,0.13134629957059862,74,42,24,29,{"$f":"IF(OR(C847=\"OA\",C847=\"OB\",C847=\"1B\",C847=\"1A\",C847=\"2A\",C847=\"2B\",C847=\"3A\",C847=\"3B\",C847=\"3C\"),TAN((LEFT(I847, 5)+VLOOKUP(C847,Main!$K$3:$L$21,2,FALSE))*PI()/180),IF(Checklist!$I$385=\"No\",TAN((LEFT(I847, 5)+VLOOKUP(C847,Main!$K$3:$L$21,2,FALSE))*PI()/180),\"NR\"))","v":"NR"},{"$f":"VLOOKUP(C847,Main!$A$49:$I$67,Main!$B$47,FALSE)","v":"NR"},{"$f":"VLOOKUP(C847,Main!$A$49:$I$67,Main!$C$47,FALSE)","v":"NR"},{"$f":"VLOOKUP(C847,Main!$A$49:$I$67,Main!$E$47,FALSE)&\":\"&\" \"&VLOOKUP(C847,Main!$A$49:$I$67,Main!$F$47,FALSE)","v":"Minimum COP @ 5°F:: 1.75"},{"$f":"VLOOKUP(C847,Main!$A$49:$I$67,Main!$G$47,FALSE)","v":15},{"$f":"VLOOKUP(C847,Main!$A$49:$I$67,Main!$H$47,FALSE)","v":3.1},{"$f":"VLOOKUP(C847,Main!$A$49:$I$67,Main!$I$47,FALSE)","v":16.100000000000001},1875]
["QC","TROIS RIVIERES","6A",8298,1269,-0.3,73,8.1299999999999997E-2,"46.350N",-6.8,13.6,16.3,26.6,40.299999999999997,54.1,64.400000000000006,69,67.5,59.5,47.4,35.200000000000003,22.3,1128,942,725,298,31,0,0,0,5,134,446,858,0,0,0,7,159,433,588,542,291,55,2,0,5.4,8.6,17.8,29.12,41.9,54.14,60.08,58.82,52.2,30.2,30.2,13.6,0.8529411764705882,0.13152189622777857,73,41,23,28,{"$f":"IF(OR(C848=\"OA\",C848=\"OB\",C848=\"1B\",C848=\"1A\",C848=\"2A\",C848=\"2B\",C848=\"3A\",C848=\"3B\",C848=\"3C\"),TAN((LEFT(I848, 5)+VLOOKUP(C848,Main!$K$3:$L$21,2,FALSE))*PI()/180),IF(Checklist!$I$385=\"No\",TAN((LEFT(I848, 5)+VLOOKUP(C848,Main!$K$3:$L$21,2,FALSE))*PI()/180),\"NR\"))","v":"NR"},{"$f":"VLOOKUP(C848,Main!$A$49:$I$67,Main!$B$47,FALSE)","v":"NR"},{"$f":"VLOOKUP(C848,Main!$A$49:$I$67,Main!$C$47,FALSE)","v":"NR"},{"$f":"VLOOKUP(C848,Main!$A$49:$I$67,Main!$E$47,FALSE)&\":\"&\" \"&VLOOKUP(C848,Main!$A$49:$I$67,Main!$F$47,FALSE)","v":"Minimum COP @ 5°F:: 1.75"},{"$f":"VLOOKUP(C848,Main!$A$49:$I$67,Main!$G$47,FALSE)","v":15},{"$f":"VLOOKUP(C848,Main!$A$49:$I$67,Main!$H$47,FALSE)","v":3.1},{"$f":"VLOOKUP(C848,Main!$A$49:$I$67,Main!$I$47,FALSE)","v":16.100000000000001},2077]
["QC","VARENNES","6A",8059,1319,-1.4,74.8,8.1299999999999997E-2,"45.720N",-5.7,14.8,17.7,28,42.7,56.1,65.5,69,66.900000000000006,59.3,47.5,35.6,22.7,1093,906,685,244,23,0,0,0,7,142,437,846,0,0,2,25,211,465,588,525,286,66,4,0,5.7,8.42,18.899999999999999,30.56,41.5,53.96,59.54,58.28,51.6,30.6,30.6,14,0.84962406015037595,0.13348490960431256,72,41,23,28,{"$f":"IF(OR(C849=\"OA\",C849=\"OB\",C849=\"1B\",C849=\"1A\",C849=\"2A\",C849=\"2B\",C849=\"3A\",C849=\"3B\",C849=\"3C\"),TAN((LEFT(I849, 5)+VLOOKUP(C849,Main!$K$3:$L$21,2,FALSE))*PI()/180),IF(Checklist!$I$385=\"No\",TAN((LEFT(I849, 5)+VLOOKUP(C849,Main!$K$3:$L$21,2,FALSE))*PI()/180),\"NR\"))","v":"NR"},{"$f":"VLOOKUP(C849,Main!$A$49:$I$67,Main!$B$47,FALSE)","v":"NR"},{"$f":"VLOOKUP(C849,Main!$A$49:$I$67,Main!$C$47,FALSE)","v":"NR"},{"$f":"VLOOKUP(C849,Main!$A$49:$I$67,Main!$E$47,FALSE)&\":\"&\" \"&VLOOKUP(C849,Main!$A$49:$I$67,Main!$F$47,FALSE)","v":"Minimum COP @ 5°F:: 1.75"},{"$f":"VLOOKUP(C849,Main!$A$49:$I$67,Main!$G$47,FALSE)","v":15},{"$f":"VLOOKUP(C849,Main!$A$49:$I$67,Main!$H$47,FALSE)","v":3.1},{"$f":"VLOOKUP(C849,Main!$A$49:$I$67,Main!$I$47,FALSE)","v":16.100000000000001},2172]
["RI","BLOCK ISLAND STATE ARPT","5A",5302,1299,36.200000000000003,75.599999999999994,0.17929999999999999,"41.168N",17.600000000000001,33.1,33.700000000000003,38.799999999999997,46.8,55.4,64.900000000000006,71.5,70.599999999999994,65.2,55.9,46.9,38.700000000000003,525,456,351,120,9,0,0,0,0,18,142,357,1,0,3,25,175,448,667,639,457,200,47,5,27.1,24.26,27.5,35.42,43.9,57.56,62.6,64.040000000000006,59.4,34,34,28.6,0.77077363896848139,0.19519519519519518,69,39,21,26,{"$f":"IF(OR(C850=\"OA\",C850=\"OB\",C850=\"1B\",C850=\"1A\",C850=\"2A\",C850=\"2B\",C850=\"3A\",C850=\"3B\",C850=\"3C\"),TAN((LEFT(I850, 5)+VLOOKUP(C850,Main!$K$3:$L$21,2,FALSE))*PI()/180),IF(Checklist!$I$385=\"No\",TAN((LEFT(I850, 5)+VLOOKUP(C850,Main!$K$3:$L$21,2,FALSE))*PI()/180),\"NR\"))","v":"NR"},{"$f":"VLOOKUP(C850,Main!$A$49:$I$67,Main!$B$47,FALSE)","v":"NR"},{"$f":"VLOOKUP(C850,Main!$A$49:$I$67,Main!$C$47,FALSE)","v":"NR"},{"$f":"VLOOKUP(C850,Main!$A$49:$I$67,Main!$E$47,FALSE)&\":\"&\" \"&VLOOKUP(C850,Main!$A$49:$I$67,Main!$F$47,FALSE)","v":"Minimum COP @ 5°F:: 1.75"},{"$f":"VLOOKUP(C850,Main!$A$49:$I$67,Main!$G$47,FALSE)","v":15},{"$f":"VLOOKUP(C850,Main!$A$49:$I$67,Main!$H$47,FALSE)","v":3.1},{"$f":"VLOOKUP(C850,Main!$A$49:$I$67,Main!$I$47,FALSE)","v":16.100000000000001},2667]
["RI","PAWTUCKET (AWOS)","4A",6187,1353,18.2,77,0.17929999999999999,"41.921N",9.6,27.8,29.4,36.9,47.7,56.4,65.400000000000006,70.8,69.2,61.9,51.4,41.9,32.799999999999997,690,578,421,129,16,0,0,0,2,75,269,537,3,0,15,62,215,463,645,597,359,117,27,3,13.8,16.88,20.100000000000001,35.6,45.3,54.5,58.64,59.9,56.8,24.4,24.4,23.5,0.80099502487562191,0.16845612736023693,74,43,23,28,{"$f":"IF(OR(C851=\"OA\",C851=\"OB\",C851=\"1B\",C851=\"1A\",C851=\"2A\",C851=\"2B\",C851=\"3A\",C851=\"3B\",C851=\"3C\"),TAN((LEFT(I851, 5)+VLOOKUP(C851,Main!$K$3:$L$21,2,FALSE))*PI()/180),IF(Checklist!$I$385=\"No\",TAN((LEFT(I851, 5)+VLOOKUP(C851,Main!$K$3:$L$21,2,FALSE))*PI()/180),\"NR\"))","v":"NR"},{"$f":"VLOOKUP(C851,Main!$A$49:$I$67,Main!$B$47,FALSE)","v":0.5},{"$f":"VLOOKUP(C851,Main!$A$49:$I$67,Main!$C$47,FALSE)","v":0.25},{"$f":"VLOOKUP(C851,Main!$A$49:$I$67,Main!$E$47,FALSE)&\":\"&\" \"&VLOOKUP(C851,Main!$A$49:$I$67,Main!$F$47,FALSE)","v":"Minimum HSPF:: 9.6"},{"$f":"VLOOKUP(C851,Main!$A$49:$I$67,Main!$G$47,FALSE)","v":18},{"$f":"VLOOKUP(C851,Main!$A$49:$I$67,Main!$H$47,FALSE)","v":3.1},{"$f":"VLOOKUP(C851,Main!$A$49:$I$67,Main!$I$47,FALSE)","v":16.100000000000001},2506]
["RI","PROVIDENCE T F GREEN STATE AR","4A",5481,1390,23.55,78.400000000000006,0.17929999999999999,"41.722N",13.3,30.3,31.9,39,49.3,58.6,68.099999999999994,74,72.5,65.099999999999994,54.4,44.7,35.6,613,506,353,96,6,0,0,0,0,37,200,453,2,1,13,75,274,544,743,697,455,172,40,7,18.899999999999999,18.14,28.4,31.82,46.2,54.68,62.24,61.88,56.5,34.5,34.5,19.600000000000001,0.7877984084880636,0.17985078314145952,71,40,21,26,{"$f":"IF(OR(C852=\"OA\",C852=\"OB\",C852=\"1B\",C852=\"1A\",C852=\"2A\",C852=\"2B\",C852=\"3A\",C852=\"3B\",C852=\"3C\"),TAN((LEFT(I852, 5)+VLOOKUP(C852,Main!$K$3:$L$21,2,FALSE))*PI()/180),IF(Checklist!$I$385=\"No\",TAN((LEFT(I852, 5)+VLOOKUP(C852,Main!$K$3:$L$21,2,FALSE))*PI()/180),\"NR\"))","v":"NR"},{"$f":"VLOOKUP(C852,Main!$A$49:$I$67,Main!$B$47,FALSE)","v":0.5},{"$f":"VLOOKUP(C852,Main!$A$49:$I$67,Main!$C$47,FALSE)","v":0.25},{"$f":"VLOOKUP(C852,Main!$A$49:$I$67,Main!$E$47,FALSE)&\":\"&\" \"&VLOOKUP(C852,Main!$A$49:$I$67,Main!$F$47,FALSE)","v":"Minimum HSPF:: 9.6"},{"$f":"VLOOKUP(C852,Main!$A$49:$I$67,Main!$G$47,FALSE)","v":18},{"$f":"VLOOKUP(C852,Main!$A$49:$I$67,Main!$H$47,FALSE)","v":3.1},{"$f":"VLOOKUP(C852,Main!$A$49:$I$67,Main!$I$47,FALSE)","v":16.100000000000001},3023]
["SC","ANDERSON COUNTY AP","3A",2913,1586,32.65,81.7,0.11749999999999999,"34.498N",25.9,43.3,46.4,53.2,61.2,69.2,76.599999999999994,79.8,78.900000000000006,72.7,62,51.9,45.1,245,150,66,6,0,0,0,0,0,4,68,197,37,50,167,341,596,797,924,895,680,375,126,46,26.6,30.38,32.700000000000003,42.98,52.9,64.760000000000005,69.62,70.34,60.8,45.7,45.7,30.2,0.67611336032388669,0.23367785838094624,59,29,13,18,{"$f":"IF(OR(C853=\"OA\",C853=\"OB\",C853=\"1B\",C853=\"1A\",C853=\"2A\",C853=\"2B\",C853=\"3A\",C853=\"3B\",C853=\"3C\"),TAN((LEFT(I853, 5)+VLOOKUP(C853,Main!$K$3:$L$21,2,FALSE))*PI()/180),IF(Checklist!$I$385=\"No\",TAN((LEFT(I853, 5)+VLOOKUP(C853,Main!$K$3:$L$21,2,FALSE))*PI()/180),\"NR\"))","v":0.68702401497486543},{"$f":"VLOOKUP(C853,Main!$A$49:$I$67,Main!$B$47,FALSE)","v":0.6},{"$f":"VLOOKUP(C853,Main!$A$49:$I$67,Main!$C$47,FALSE)","v":0.25},{"$f":"VLOOKUP(C853,Main!$A$49:$I$67,Main!$E$47,FALSE)&\":\"&\" \"&VLOOKUP(C853,Main!$A$49:$I$67,Main!$F$47,FALSE)","v":"Minimum HSPF:: 9.6"},{"$f":"VLOOKUP(C853,Main!$A$49:$I$67,Main!$G$47,FALSE)","v":18},{"$f":"VLOOKUP(C853,Main!$A$49:$I$67,Main!$H$47,FALSE)","v":3.1},{"$f":"VLOOKUP(C853,Main!$A$49:$I$67,Main!$I$47,FALSE)","v":16.100000000000001},5034]
["SC","BEAUFORT MCAS","2A",1756,1664,41.1,81.900000000000006,0.11749999999999999,"32.483N",31.8,50.2,53,59,66.2,73.8,79.900000000000006,82.8,81.7,77.099999999999994,68.099999999999994,58.6,52.6,110,54,20,1,0,0,0,0,0,0,18,74,116,138,298,488,739,896,1016,982,814,562,275,154,34.700000000000003,41,42.8,53.24,57.2,69.8,73.760000000000005,71.42,66,51.6,51.6,37.6,0.6,0.27176347618336566,55,25,11,16,{"$f":"IF(OR(C854=\"OA\",C854=\"OB\",C854=\"1B\",C854=\"1A\",C854=\"2A\",C854=\"2B\",C854=\"3A\",C854=\"3B\",C854=\"3C\"),TAN((LEFT(I854, 5)+VLOOKUP(C854,Main!$K$3:$L$21,2,FALSE))*PI()/180),IF(Checklist!$I$385=\"No\",TAN((LEFT(I854, 5)+VLOOKUP(C854,Main!$K$3:$L$21,2,FALSE))*PI()/180),\"NR\"))","v":0.63657963269433804},{"$f":"VLOOKUP(C854,Main!$A$49:$I$67,Main!$B$47,FALSE)","v":0.6},{"$f":"VLOOKUP(C854,Main!$A$49:$I$67,Main!$C$47,FALSE)","v":0.25},{"$f":"VLOOKUP(C854,Main!$A$49:$I$67,Main!$E$47,FALSE)&\":\"&\" \"&VLOOKUP(C854,Main!$A$49:$I$67,Main!$F$47,FALSE)","v":"Minimum HSPF:: 9.6"},{"$f":"VLOOKUP(C854,Main!$A$49:$I$67,Main!$G$47,FALSE)","v":18},{"$f":"VLOOKUP(C854,Main!$A$49:$I$67,Main!$H$47,FALSE)","v":3.1},{"$f":"VLOOKUP(C854,Main!$A$49:$I$67,Main!$I$47,FALSE)","v":16.100000000000001},6478]
["SC","CHARLESTON INTL ARPT","2A",1845,1676,36.85,82.8,0.11749999999999999,"32.899N",30.9,49.8,52.5,58.7,65.7,73.099999999999994,79.3,82.3,81.2,76.5,67.400000000000006,58.2,52,121,64,23,1,0,0,0,0,0,0,20,84,116,135,291,473,716,878,1000,968,795,539,266,146,37.9,36.5,47.8,51.8,63.3,69.62,72.86,72.319999999999993,67.8,49.3,49.3,40.1,0.6,0.26517083120856705,55,26,11,16,{"$f":"IF(OR(C855=\"OA\",C855=\"OB\",C855=\"1B\",C855=\"1A\",C855=\"2A\",C855=\"2B\",C855=\"3A\",C855=\"3B\",C855=\"3C\"),TAN((LEFT(I855, 5)+VLOOKUP(C855,Main!$K$3:$L$21,2,FALSE))*PI()/180),IF(Checklist!$I$385=\"No\",TAN((LEFT(I855, 5)+VLOOKUP(C855,Main!$K$3:$L$21,2,FALSE))*PI()/180),\"NR\"))","v":0.64668146263472015},{"$f":"VLOOKUP(C855,Main!$A$49:$I$67,Main!$B$47,FALSE)","v":0.6},{"$f":"VLOOKUP(C855,Main!$A$49:$I$67,Main!$C$47,FALSE)","v":0.25},{"$f":"VLOOKUP(C855,Main!$A$49:$I$67,Main!$E$47,FALSE)&\":\"&\" \"&VLOOKUP(C855,Main!$A$49:$I$67,Main!$F$47,FALSE)","v":"Minimum HSPF:: 9.6"},{"$f":"VLOOKUP(C855,Main!$A$49:$I$67,Main!$G$47,FALSE)","v":18},{"$f":"VLOOKUP(C855,Main!$A$49:$I$67,Main!$H$47,FALSE)","v":3.1},{"$f":"VLOOKUP(C855,Main!$A$49:$I$67,Main!$I$47,FALSE)","v":16.100000000000001},6323]
["SC","COLUMBIA METRO ARPT","3A",2432,1632,38.299999999999997,83.3,0.11749999999999999,"33.942N",27,46.2,49.3,56,64.2,72.099999999999994,79.099999999999994,82.2,80.900000000000006,75.099999999999994,64.400000000000006,54.2,47.7,189,112,42,2,0,0,0,0,0,2,49,153,71,91,229,430,686,872,997,958,754,449,175,82,27.7,37.04,44.6,47.48,59.9,65.66,67.28,69.62,65.7,47.3,47.3,33.299999999999997,0.6330275229357798,0.23994726433750821,57,27,13,18,{"$f":"IF(OR(C856=\"OA\",C856=\"OB\",C856=\"1B\",C856=\"1A\",C856=\"2A\",C856=\"2B\",C856=\"3A\",C856=\"3B\",C856=\"3C\"),TAN((LEFT(I856, 5)+VLOOKUP(C856,Main!$K$3:$L$21,2,FALSE))*PI()/180),IF(Checklist!$I$385=\"No\",TAN((LEFT(I856, 5)+VLOOKUP(C856,Main!$K$3:$L$21,2,FALSE))*PI()/180),\"NR\"))","v":0.67298595936422967},{"$f":"VLOOKUP(C856,Main!$A$49:$I$67,Main!$B$47,FALSE)","v":0.6},{"$f":"VLOOKUP(C856,Main!$A$49:$I$67,Main!$C$47,FALSE)","v":0.25},{"$f":"VLOOKUP(C856,Main!$A$49:$I$67,Main!$E$47,FALSE)&\":\"&\" \"&VLOOKUP(C856,Main!$A$49:$I$67,Main!$F$47,FALSE)","v":"Minimum HSPF:: 9.6"},{"$f":"VLOOKUP(C856,Main!$A$49:$I$67,Main!$G$47,FALSE)","v":18},{"$f":"VLOOKUP(C856,Main!$A$49:$I$67,Main!$H$47,FALSE)","v":3.1},{"$f":"VLOOKUP(C856,Main!$A$49:$I$67,Main!$I$47,FALSE)","v":16.100000000000001},5794]
["SC","FLORENCE REGIONAL AP","3A",2396,1602,39.299999999999997,83.1,0.11749999999999999,"34.185N",27.3,46.5,49.2,55.8,63.9,71.5,78.3,81.5,80.099999999999994,74.7,64.8,55,48.4,190,118,46,3,0,0,0,0,0,2,44,145,81,95,227,418,665,850,978,934,740,462,194,95,39,31.1,48.4,50.72,59.7,66.739999999999995,73.040000000000006,71.78,66.599999999999994,48.2,48.2,30.6,0.62790697674418605,0.24171591739159304,57,27,12,17,{"$f":"IF(OR(C857=\"OA\",C857=\"OB\",C857=\"1B\",C857=\"1A\",C857=\"2A\",C857=\"2B\",C857=\"3A\",C857=\"3B\",C857=\"3C\"),TAN((LEFT(I857, 5)+VLOOKUP(C857,Main!$K$3:$L$21,2,FALSE))*PI()/180),IF(Checklist!$I$385=\"No\",TAN((LEFT(I857, 5)+VLOOKUP(C857,Main!$K$3:$L$21,2,FALSE))*PI()/180),\"NR\"))","v":0.67908913549641781},{"$f":"VLOOKUP(C857,Main!$A$49:$I$67,Main!$B$47,FALSE)","v":0.6},{"$f":"VLOOKUP(C857,Main!$A$49:$I$67,Main!$C$47,FALSE)","v":0.25},{"$f":"VLOOKUP(C857,Main!$A$49:$I$67,Main!$E$47,FALSE)&\":\"&\" \"&VLOOKUP(C857,Main!$A$49:$I$67,Main!$F$47,FALSE)","v":"Minimum HSPF:: 9.6"},{"$f":"VLOOKUP(C857,Main!$A$49:$I$67,Main!$G$47,FALSE)","v":18},{"$f":"VLOOKUP(C857,Main!$A$49:$I$67,Main!$H$47,FALSE)","v":3.1},{"$f":"VLOOKUP(C857,Main!$A$49:$I$67,Main!$I$47,FALSE)","v":16.100000000000001},5739]
["SC","GREENVILLE DOWNTOWN AP","3A",2872,1528,31.25,82.8,0.11749999999999999,"34.846N",26.7,42.8,45.9,53.8,62.3,69.7,77.099999999999994,79.400000000000006,79.2,72.8,62.4,53,45.1,263,159,63,7,0,0,0,0,0,5,59,196,39,44,181,376,610,812,912,905,685,389,147,44,24.8,28.4,31.6,39.56,46.8,64.400000000000006,69.44,68.180000000000007,61.7,42.8,42.8,27.9,0.68253968253968256,0.23820430600091616,59,29,13,18,{"$f":"IF(OR(C858=\"OA\",C858=\"OB\",C858=\"1B\",C858=\"1A\",C858=\"2A\",C858=\"2B\",C858=\"3A\",C858=\"3B\",C858=\"3C\"),TAN((LEFT(I858, 5)+VLOOKUP(C858,Main!$K$3:$L$21,2,FALSE))*PI()/180),IF(Checklist!$I$385=\"No\",TAN((LEFT(I858, 5)+VLOOKUP(C858,Main!$K$3:$L$21,2,FALSE))*PI()/180),\"NR\"))","v":0.69605397264490643},{"$f":"VLOOKUP(C858,Main!$A$49:$I$67,Main!$B$47,FALSE)","v":0.6},{"$f":"VLOOKUP(C858,Main!$A$49:$I$67,Main!$C$47,FALSE)","v":0.25},{"$f":"VLOOKUP(C858,Main!$A$49:$I$67,Main!$E$47,FALSE)&\":\"&\" \"&VLOOKUP(C858,Main!$A$49:$I$67,Main!$F$47,FALSE)","v":"Minimum HSPF:: 9.6"},{"$f":"VLOOKUP(C858,Main!$A$49:$I$67,Main!$G$47,FALSE)","v":18},{"$f":"VLOOKUP(C858,Main!$A$49:$I$67,Main!$H$47,FALSE)","v":3.1},{"$f":"VLOOKUP(C858,Main!$A$49:$I$67,Main!$I$47,FALSE)","v":16.100000000000001},5144]
["SC","GREER GREENV-SPARTANBRG AP","3A",3016,1630,35.5,81.099999999999994,0.11749999999999999,"34.884N",25.6,42.8,45.9,52.7,60.8,68.5,76,79.3,78.099999999999994,71.900000000000006,61.4,51.7,44.7,260,162,77,8,1,0,0,0,0,6,75,209,36,47,160,333,575,780,908,872,657,359,125,46,28.4,31.28,39.9,45.32,56.1,62.06,67.459999999999994,67.819999999999993,62.6,38.5,38.5,30.2,0.68253968253968256,0.23202447730749617,59,29,13,18,{"$f":"IF(OR(C859=\"OA\",C859=\"OB\",C859=\"1B\",C859=\"1A\",C859=\"2A\",C859=\"2B\",C859=\"3A\",C859=\"3B\",C859=\"3C\"),TAN((LEFT(I859, 5)+VLOOKUP(C859,Main!$K$3:$L$21,2,FALSE))*PI()/180),IF(Checklist!$I$385=\"No\",TAN((LEFT(I859, 5)+VLOOKUP(C859,Main!$K$3:$L$21,2,FALSE))*PI()/180),\"NR\"))","v":0.69709084698870916},{"$f":"VLOOKUP(C859,Main!$A$49:$I$67,Main!$B$47,FALSE)","v":0.6},{"$f":"VLOOKUP(C859,Main!$A$49:$I$67,Main!$C$47,FALSE)","v":0.25},{"$f":"VLOOKUP(C859,Main!$A$49:$I$67,Main!$E$47,FALSE)&\":\"&\" \"&VLOOKUP(C859,Main!$A$49:$I$67,Main!$F$47,FALSE)","v":"Minimum HSPF:: 9.6"},{"$f":"VLOOKUP(C859,Main!$A$49:$I$67,Main!$G$47,FALSE)","v":18},{"$f":"VLOOKUP(C859,Main!$A$49:$I$67,Main!$H$47,FALSE)","v":3.1},{"$f":"VLOOKUP(C859,Main!$A$49:$I$67,Main!$I$47,FALSE)","v":16.100000000000001},4898]
["SC","MYRTLE BEACH AFB","3A",2343,1678,36.6,80.599999999999994,0.11749999999999999,"33.683N",28,46.8,49.7,55.4,62.4,70.2,76.7,80.599999999999994,78.7,74.599999999999994,65.3,56.4,48.8,175,104,45,2,0,0,0,0,0,1,35,134,75,95,213,375,626,801,947,891,738,474,227,95,29.5,37.76,49.3,50.9,60.1,66.2,73.22,70.88,65.099999999999994,49.8,49.8,34.299999999999997,0.62264150943396235,0.2459459459459459,57,27,12,17,{"$f":"IF(OR(C860=\"OA\",C860=\"OB\",C860=\"1B\",C860=\"1A\",C860=\"2A\",C860=\"2B\",C860=\"3A\",C860=\"3B\",C860=\"3C\"),TAN((LEFT(I860, 5)+VLOOKUP(C860,Main!$K$3:$L$21,2,FALSE))*PI()/180),IF(Checklist!$I$385=\"No\",TAN((LEFT(I860, 5)+VLOOKUP(C860,Main!$K$3:$L$21,2,FALSE))*PI()/180),\"NR\"))","v":0.66641289092643863},{"$f":"VLOOKUP(C860,Main!$A$49:$I$67,Main!$B$47,FALSE)","v":0.6},{"$f":"VLOOKUP(C860,Main!$A$49:$I$67,Main!$C$47,FALSE)","v":0.25},{"$f":"VLOOKUP(C860,Main!$A$49:$I$67,Main!$E$47,FALSE)&\":\"&\" \"&VLOOKUP(C860,Main!$A$49:$I$67,Main!$F$47,FALSE)","v":"Minimum HSPF:: 9.6"},{"$f":"VLOOKUP(C860,Main!$A$49:$I$67,Main!$G$47,FALSE)","v":18},{"$f":"VLOOKUP(C860,Main!$A$49:$I$67,Main!$H$47,FALSE)","v":3.1},{"$f":"VLOOKUP(C860,Main!$A$49:$I$67,Main!$I$47,FALSE)","v":16.100000000000001},5557]
["SC","SUMTER SHAW AFB","3A",2435,1633,35.15,82.9,0.11749999999999999,"33.967N",27.2,45.8,49,55.6,63.7,71.599999999999994,78.2,81.3,79.8,74.5,64.599999999999994,54.6,48.2,201,118,48,3,0,0,0,0,0,1,45,144,71,89,224,413,671,847,969,924,735,454,184,87,30.4,34.159999999999997,35.4,43.7,51.3,66.56,72.5,68.900000000000006,62.8,39.4,39.4,33.299999999999997,0.63963963963963966,0.24112347641759407,57,27,12,17,{"$f":"IF(OR(C861=\"OA\",C861=\"OB\",C861=\"1B\",C861=\"1A\",C861=\"2A\",C861=\"2B\",C861=\"3A\",C861=\"3B\",C861=\"3C\"),TAN((LEFT(I861, 5)+VLOOKUP(C861,Main!$K$3:$L$21,2,FALSE))*PI()/180),IF(Checklist!$I$385=\"No\",TAN((LEFT(I861, 5)+VLOOKUP(C861,Main!$K$3:$L$21,2,FALSE))*PI()/180),\"NR\"))","v":0.67349323985348142},{"$f":"VLOOKUP(C861,Main!$A$49:$I$67,Main!$B$47,FALSE)","v":0.6},{"$f":"VLOOKUP(C861,Main!$A$49:$I$67,Main!$C$47,FALSE)","v":0.25},{"$f":"VLOOKUP(C861,Main!$A$49:$I$67,Main!$E$47,FALSE)&\":\"&\" \"&VLOOKUP(C861,Main!$A$49:$I$67,Main!$F$47,FALSE)","v":"Minimum HSPF:: 9.6"},{"$f":"VLOOKUP(C861,Main!$A$49:$I$67,Main!$G$47,FALSE)","v":18},{"$f":"VLOOKUP(C861,Main!$A$49:$I$67,Main!$H$47,FALSE)","v":3.1},{"$f":"VLOOKUP(C861,Main!$A$49:$I$67,Main!$I$47,FALSE)","v":16.100000000000001},5668]
["SD","ABERDEEN REGIONAL ARPT","6A",8351,1418,-10.95,81.099999999999994,0.10150000000000001,"45.443N",-11.9,12.5,17.600000000000001,30,44.2,56.7,66.5,71.400000000000006,69.3,60.2,46.2,30.2,17.5,1163,906,627,225,38,0,0,0,14,187,597,1007,0,0,6,52,245,495,664,599,321,69,3,0,6.4,6.26,25.9,32.36,49.6,57.2,59.72,60.98,52.5,22.6,22.6,15.3,0.85585585585585588,0.12312688157494163,75,43,24,29,{"$f":"IF(OR(C862=\"OA\",C862=\"OB\",C862=\"1B\",C862=\"1A\",C862=\"2A\",C862=\"2B\",C862=\"3A\",C862=\"3B\",C862=\"3C\"),TAN((LEFT(I862, 5)+VLOOKUP(C862,Main!$K$3:$L$21,2,FALSE))*PI()/180),IF(Checklist!$I$385=\"No\",TAN((LEFT(I862, 5)+VLOOKUP(C862,Main!$K$3:$L$21,2,FALSE))*PI()/180),\"NR\"))","v":"NR"},{"$f":"VLOOKUP(C862,Main!$A$49:$I$67,Main!$B$47,FALSE)","v":"NR"},{"$f":"VLOOKUP(C862,Main!$A$49:$I$67,Main!$C$47,FALSE)","v":"NR"},{"$f":"VLOOKUP(C862,Main!$A$49:$I$67,Main!$E$47,FALSE)&\":\"&\" \"&VLOOKUP(C862,Main!$A$49:$I$67,Main!$F$47,FALSE)","v":"Minimum COP @ 5°F:: 1.75"},{"$f":"VLOOKUP(C862,Main!$A$49:$I$67,Main!$G$47,FALSE)","v":15},{"$f":"VLOOKUP(C862,Main!$A$49:$I$67,Main!$H$47,FALSE)","v":3.1},{"$f":"VLOOKUP(C862,Main!$A$49:$I$67,Main!$I$47,FALSE)","v":16.100000000000001},2454]
["SD","BROOKINGS (AWOS)","6A",8223,1400,3.55,79,0.10150000000000001,"44.300N",-9,13.7,18.5,30,43.9,56,65.7,71,68.3,59.4,47,32.299999999999997,18.899999999999999,1124,881,630,232,38,1,0,0,16,173,535,966,0,0,9,49,225,473,652,567,299,79,5,0,12.2,17.78,21.4,33.799999999999997,45.9,51.98,60.08,53.96,47.5,17.8,17.8,7.5,0.85267034990791901,0.12776412776412777,75,43,24,29,{"$f":"IF(OR(C863=\"OA\",C863=\"OB\",C863=\"1B\",C863=\"1A\",C863=\"2A\",C863=\"2B\",C863=\"3A\",C863=\"3B\",C863=\"3C\"),TAN((LEFT(I863, 5)+VLOOKUP(C863,Main!$K$3:$L$21,2,FALSE))*PI()/180),IF(Checklist!$I$385=\"No\",TAN((LEFT(I863, 5)+VLOOKUP(C863,Main!$K$3:$L$21,2,FALSE))*PI()/180),\"NR\"))","v":"NR"},{"$f":"VLOOKUP(C863,Main!$A$49:$I$67,Main!$B$47,FALSE)","v":"NR"},{"$f":"VLOOKUP(C863,Main!$A$49:$I$67,Main!$C$47,FALSE)","v":"NR"},{"$f":"VLOOKUP(C863,Main!$A$49:$I$67,Main!$E$47,FALSE)&\":\"&\" \"&VLOOKUP(C863,Main!$A$49:$I$67,Main!$F$47,FALSE)","v":"Minimum COP @ 5°F:: 1.75"},{"$f":"VLOOKUP(C863,Main!$A$49:$I$67,Main!$G$47,FALSE)","v":15},{"$f":"VLOOKUP(C863,Main!$A$49:$I$67,Main!$H$47,FALSE)","v":3.1},{"$f":"VLOOKUP(C863,Main!$A$49:$I$67,Main!$I$47,FALSE)","v":16.100000000000001},2358]
["SD","CHAN GURNEY MUNI","6A",6944,1431,0.7,84.9,0.10150000000000001,"42.878N",-2.4,20.2,24.4,35.6,48,59.6,69.2,74.400000000000006,72.099999999999994,63.6,50.5,36.1,24,923,717,474,152,16,0,0,0,4,108,433,807,0,1,27,91,313,577,758,684,412,125,15,0,13.1,11.84,14.2,36.86,44.6,55.58,63.14,62.24,52.2,27.9,27.9,16,0.83263598326359833,0.13974201474201473,71,39,21,26,{"$f":"IF(OR(C864=\"OA\",C864=\"OB\",C864=\"1B\",C864=\"1A\",C864=\"2A\",C864=\"2B\",C864=\"3A\",C864=\"3B\",C864=\"3C\"),TAN((LEFT(I864, 5)+VLOOKUP(C864,Main!$K$3:$L$21,2,FALSE))*PI()/180),IF(Checklist!$I$385=\"No\",TAN((LEFT(I864, 5)+VLOOKUP(C864,Main!$K$3:$L$21,2,FALSE))*PI()/180),\"NR\"))","v":"NR"},{"$f":"VLOOKUP(C864,Main!$A$49:$I$67,Main!$B$47,FALSE)","v":"NR"},{"$f":"VLOOKUP(C864,Main!$A$49:$I$67,Main!$C$47,FALSE)","v":"NR"},{"$f":"VLOOKUP(C864,Main!$A$49:$I$67,Main!$E$47,FALSE)&\":\"&\" \"&VLOOKUP(C864,Main!$A$49:$I$67,Main!$F$47,FALSE)","v":"Minimum COP @ 5°F:: 1.75"},{"$f":"VLOOKUP(C864,Main!$A$49:$I$67,Main!$G$47,FALSE)","v":15},{"$f":"VLOOKUP(C864,Main!$A$49:$I$67,Main!$H$47,FALSE)","v":3.1},{"$f":"VLOOKUP(C864,Main!$A$49:$I$67,Main!$I$47,FALSE)","v":16.100000000000001},3003]
["SD","ELLSWORTH AFB","5B",7028,1439,-0.4,84.7,0.10150000000000001,"44.150N",-2.8,25.3,28.3,35.9,44.6,54.8,64.900000000000006,72.099999999999994,72.599999999999994,62.7,48.1,35.1,25.5,766,609,456,218,44,3,0,0,14,159,461,760,1,2,18,55,194,450,685,700,396,99,14,0,13.5,24.08,23.2,28.76,36.5,48.02,50.72,49.46,37.799999999999997,27.3,27.3,17.2,0.81264637002341922,0.13895251183386775,71,40,21,26,{"$f":"IF(OR(C865=\"OA\",C865=\"OB\",C865=\"1B\",C865=\"1A\",C865=\"2A\",C865=\"2B\",C865=\"3A\",C865=\"3B\",C865=\"3C\"),TAN((LEFT(I865, 5)+VLOOKUP(C865,Main!$K$3:$L$21,2,FALSE))*PI()/180),IF(Checklist!$I$385=\"No\",TAN((LEFT(I865, 5)+VLOOKUP(C865,Main!$K$3:$L$21,2,FALSE))*PI()/180),\"NR\"))","v":"NR"},{"$f":"VLOOKUP(C865,Main!$A$49:$I$67,Main!$B$47,FALSE)","v":"NR"},{"$f":"VLOOKUP(C865,Main!$A$49:$I$67,Main!$C$47,FALSE)","v":"NR"},{"$f":"VLOOKUP(C865,Main!$A$49:$I$67,Main!$E$47,FALSE)&\":\"&\" \"&VLOOKUP(C865,Main!$A$49:$I$67,Main!$F$47,FALSE)","v":"Minimum COP @ 5°F:: 1.75"},{"$f":"VLOOKUP(C865,Main!$A$49:$I$67,Main!$G$47,FALSE)","v":15},{"$f":"VLOOKUP(C865,Main!$A$49:$I$67,Main!$H$47,FALSE)","v":3.1},{"$f":"VLOOKUP(C865,Main!$A$49:$I$67,Main!$I$47,FALSE)","v":16.100000000000001},2614]
["SD","HURON REGIONAL ARPT","6A",7650,1493,-5.25,84.9,0.10150000000000001,"44.398N",-8.1999999999999993,15.9,21.4,33,46.1,58,68,73.5,71.7,62.6,48.3,32.9,20.399999999999999,1056,800,542,191,27,0,0,0,9,152,521,917,0,0,14,73,276,539,729,672,386,100,7,0,10.6,13.64,21,31.82,43.7,56.3,59.9,57.38,46.2,20.7,20.7,8.1999999999999993,0.84644913627639151,0.1291054834361921,73,41,22,27,{"$f":"IF(OR(C866=\"OA\",C866=\"OB\",C866=\"1B\",C866=\"1A\",C866=\"2A\",C866=\"2B\",C866=\"3A\",C866=\"3B\",C866=\"3C\"),TAN((LEFT(I866, 5)+VLOOKUP(C866,Main!$K$3:$L$21,2,FALSE))*PI()/180),IF(Checklist!$I$385=\"No\",TAN((LEFT(I866, 5)+VLOOKUP(C866,Main!$K$3:$L$21,2,FALSE))*PI()/180),\"NR\"))","v":"NR"},{"$f":"VLOOKUP(C866,Main!$A$49:$I$67,Main!$B$47,FALSE)","v":"NR"},{"$f":"VLOOKUP(C866,Main!$A$49:$I$67,Main!$C$47,FALSE)","v":"NR"},{"$f":"VLOOKUP(C866,Main!$A$49:$I$67,Main!$E$47,FALSE)&\":\"&\" \"&VLOOKUP(C866,Main!$A$49:$I$67,Main!$F$47,FALSE)","v":"Minimum COP @ 5°F:: 1.75"},{"$f":"VLOOKUP(C866,Main!$A$49:$I$67,Main!$G$47,FALSE)","v":15},{"$f":"VLOOKUP(C866,Main!$A$49:$I$67,Main!$H$47,FALSE)","v":3.1},{"$f":"VLOOKUP(C866,Main!$A$49:$I$67,Main!$I$47,FALSE)","v":16.100000000000001},2796]
["SD","MITCHELL (AWOS)","6A",7283,1366,-9.25,82.6,0.10150000000000001,"43.774N",-5.8,18.100000000000001,22.7,33.700000000000003,47.1,59,68.900000000000006,74.599999999999994,71.8,63.3,50.1,34.700000000000003,22.1,987,765,523,168,21,0,0,0,5,119,469,865,0,0,17,82,298,567,763,677,403,122,10,0,12.6,13.46,15.8,38.119999999999997,45.3,56.48,64.22,63.32,51.6,18.899999999999999,18.899999999999999,18.7,0.83967935871743482,0.13330403574306013,72,40,21,26,{"$f":"IF(OR(C867=\"OA\",C867=\"OB\",C867=\"1B\",C867=\"1A\",C867=\"2A\",C867=\"2B\",C867=\"3A\",C867=\"3B\",C867=\"3C\"),TAN((LEFT(I867, 5)+VLOOKUP(C867,Main!$K$3:$L$21,2,FALSE))*PI()/180),IF(Checklist!$I$385=\"No\",TAN((LEFT(I867, 5)+VLOOKUP(C867,Main!$K$3:$L$21,2,FALSE))*PI()/180),\"NR\"))","v":"NR"},{"$f":"VLOOKUP(C867,Main!$A$49:$I$67,Main!$B$47,FALSE)","v":"NR"},{"$f":"VLOOKUP(C867,Main!$A$49:$I$67,Main!$C$47,FALSE)","v":"NR"},{"$f":"VLOOKUP(C867,Main!$A$49:$I$67,Main!$E$47,FALSE)&\":\"&\" \"&VLOOKUP(C867,Main!$A$49:$I$67,Main!$F$47,FALSE)","v":"Minimum COP @ 5°F:: 1.75"},{"$f":"VLOOKUP(C867,Main!$A$49:$I$67,Main!$G$47,FALSE)","v":15},{"$f":"VLOOKUP(C867,Main!$A$49:$I$67,Main!$H$47,FALSE)","v":3.1},{"$f":"VLOOKUP(C867,Main!$A$49:$I$67,Main!$I$47,FALSE)","v":16.100000000000001},2939]
["SD","MOBRIDGE","6A",7925,1341,-2.5499999999999998,80.8,0.10150000000000001,"45.546N",-8.6999999999999993,16,20.3,31.1,44.9,55.8,65.900000000000006,73.599999999999994,72,62.2,47.3,32.4,19.5,1053,833,596,213,42,0,0,0,10,163,531,946,0,0,9,61,221,479,732,681,375,79,4,0,10.199999999999999,18.68,22.3,32.36,42.3,52.7,62.6,58.28,47.5,19.2,19.2,7.2,0.84615384615384615,0.12826385707741639,74,42,23,28,{"$f":"IF(OR(C868=\"OA\",C868=\"OB\",C868=\"1B\",C868=\"1A\",C868=\"2A\",C868=\"2B\",C868=\"3A\",C868=\"3B\",C868=\"3C\"),TAN((LEFT(I868, 5)+VLOOKUP(C868,Main!$K$3:$L$21,2,FALSE))*PI()/180),IF(Checklist!$I$385=\"No\",TAN((LEFT(I868, 5)+VLOOKUP(C868,Main!$K$3:$L$21,2,FALSE))*PI()/180),\"NR\"))","v":"NR"},{"$f":"VLOOKUP(C868,Main!$A$49:$I$67,Main!$B$47,FALSE)","v":"NR"},{"$f":"VLOOKUP(C868,Main!$A$49:$I$67,Main!$C$47,FALSE)","v":"NR"},{"$f":"VLOOKUP(C868,Main!$A$49:$I$67,Main!$E$47,FALSE)&\":\"&\" \"&VLOOKUP(C868,Main!$A$49:$I$67,Main!$F$47,FALSE)","v":"Minimum COP @ 5°F:: 1.75"},{"$f":"VLOOKUP(C868,Main!$A$49:$I$67,Main!$G$47,FALSE)","v":15},{"$f":"VLOOKUP(C868,Main!$A$49:$I$67,Main!$H$47,FALSE)","v":3.1},{"$f":"VLOOKUP(C868,Main!$A$49:$I$67,Main!$I$47,FALSE)","v":16.100000000000001},2641]
["SD","PIERRE MUNICIPAL AP","5A",7180,1494,-0.55000000000000004,85.6,0.10150000000000001,"44.381N",-5,20.100000000000001,24.5,34.700000000000003,46.7,57.7,67.8,75.2,73.599999999999994,64.2,49.4,34.299999999999997,23,925,714,491,177,29,0,0,0,6,134,479,836,0,0,15,78,268,534,781,731,431,114,7,0,9.3000000000000007,14.9,26.1,33.799999999999997,43.7,57.02,57.38,58.28,46,25.9,25.9,9.5,0.83298538622129437,0.13476490188818957,72,40,21,26,{"$f":"IF(OR(C869=\"OA\",C869=\"OB\",C869=\"1B\",C869=\"1A\",C869=\"2A\",C869=\"2B\",C869=\"3A\",C869=\"3B\",C869=\"3C\"),TAN((LEFT(I869, 5)+VLOOKUP(C869,Main!$K$3:$L$21,2,FALSE))*PI()/180),IF(Checklist!$I$385=\"No\",TAN((LEFT(I869, 5)+VLOOKUP(C869,Main!$K$3:$L$21,2,FALSE))*PI()/180),\"NR\"))","v":"NR"},{"$f":"VLOOKUP(C869,Main!$A$49:$I$67,Main!$B$47,FALSE)","v":"NR"},{"$f":"VLOOKUP(C869,Main!$A$49:$I$67,Main!$C$47,FALSE)","v":"NR"},{"$f":"VLOOKUP(C869,Main!$A$49:$I$67,Main!$E$47,FALSE)&\":\"&\" \"&VLOOKUP(C869,Main!$A$49:$I$67,Main!$F$47,FALSE)","v":"Minimum COP @ 5°F:: 1.75"},{"$f":"VLOOKUP(C869,Main!$A$49:$I$67,Main!$G$47,FALSE)","v":15},{"$f":"VLOOKUP(C869,Main!$A$49:$I$67,Main!$H$47,FALSE)","v":3.1},{"$f":"VLOOKUP(C869,Main!$A$49:$I$67,Main!$I$47,FALSE)","v":16.100000000000001},2959]
["SD","RAPID CITY REGIONAL ARPT","5B",7069,1539,8.75,76.8,0.10150000000000001,"44.043N",-3.4,25,27.4,35.700000000000003,44.6,54.8,64.599999999999994,72.8,71.900000000000006,62,48.1,35,25.9,775,633,458,217,47,3,0,0,13,156,462,747,0,1,16,55,195,440,706,680,372,98,11,0,9.9,11.66,22.3,29.48,39.6,50.72,55.58,50.54,39.9,20.8,20.8,15.8,0.81395348837209303,0.13778484366719659,71,40,21,26,{"$f":"IF(OR(C870=\"OA\",C870=\"OB\",C870=\"1B\",C870=\"1A\",C870=\"2A\",C870=\"2B\",C870=\"3A\",C870=\"3B\",C870=\"3C\"),TAN((LEFT(I870, 5)+VLOOKUP(C870,Main!$K$3:$L$21,2,FALSE))*PI()/180),IF(Checklist!$I$385=\"No\",TAN((LEFT(I870, 5)+VLOOKUP(C870,Main!$K$3:$L$21,2,FALSE))*PI()/180),\"NR\"))","v":"NR"},{"$f":"VLOOKUP(C870,Main!$A$49:$I$67,Main!$B$47,FALSE)","v":"NR"},{"$f":"VLOOKUP(C870,Main!$A$49:$I$67,Main!$C$47,FALSE)","v":"NR"},{"$f":"VLOOKUP(C870,Main!$A$49:$I$67,Main!$E$47,FALSE)&\":\"&\" \"&VLOOKUP(C870,Main!$A$49:$I$67,Main!$F$47,FALSE)","v":"Minimum COP @ 5°F:: 1.75"},{"$f":"VLOOKUP(C870,Main!$A$49:$I$67,Main!$G$47,FALSE)","v":15},{"$f":"VLOOKUP(C870,Main!$A$49:$I$67,Main!$H$47,FALSE)","v":3.1},{"$f":"VLOOKUP(C870,Main!$A$49:$I$67,Main!$I$47,FALSE)","v":16.100000000000001},2574]
["SD","SIOUX FALLS FOSS FIELD","6A",7510,1476,-1.65,79.900000000000006,0.10150000000000001,"43.578N",-6.5,17.100000000000001,22,33.5,46.4,58.2,68.400000000000006,73.2,71.099999999999994,62.4,48.9,33.6,21,1020,784,529,185,25,0,0,0,8,140,500,898,0,0,16,78,278,553,718,653,381,108,8,0,4.5,10.76,25.3,33.26,47.7,57.74,62.6,59,49.8,24.8,24.8,12.7,0.84282907662082518,0.13205151460185016,73,41,22,27,{"$f":"IF(OR(C871=\"OA\",C871=\"OB\",C871=\"1B\",C871=\"1A\",C871=\"2A\",C871=\"2B\",C871=\"3A\",C871=\"3B\",C871=\"3C\"),TAN((LEFT(I871, 5)+VLOOKUP(C871,Main!$K$3:$L$21,2,FALSE))*PI()/180),IF(Checklist!$I$385=\"No\",TAN((LEFT(I871, 5)+VLOOKUP(C871,Main!$K$3:$L$21,2,FALSE))*PI()/180),\"NR\"))","v":"NR"},{"$f":"VLOOKUP(C871,Main!$A$49:$I$67,Main!$B$47,FALSE)","v":"NR"},{"$f":"VLOOKUP(C871,Main!$A$49:$I$67,Main!$C$47,FALSE)","v":"NR"},{"$f":"VLOOKUP(C871,Main!$A$49:$I$67,Main!$E$47,FALSE)&\":\"&\" \"&VLOOKUP(C871,Main!$A$49:$I$67,Main!$F$47,FALSE)","v":"Minimum COP @ 5°F:: 1.75"},{"$f":"VLOOKUP(C871,Main!$A$49:$I$67,Main!$G$47,FALSE)","v":15},{"$f":"VLOOKUP(C871,Main!$A$49:$I$67,Main!$H$47,FALSE)","v":3.1},{"$f":"VLOOKUP(C871,Main!$A$49:$I$67,Main!$I$47,FALSE)","v":16.100000000000001},2793]
["SD","WATERTOWN MUNICIPAL AP","6A",8441,1291,-8.4,77.2,0.10150000000000001,"44.905N",-10.6,13.1,16.7,28.5,43.3,55.6,65.7,71.5,69.099999999999994,60,46.3,30.9,17.8,1144,932,674,248,47,1,0,0,14,186,578,999,0,0,7,47,220,471,665,592,313,72,4,0,12.7,4.28,24.3,35.06,46.4,52.7,60.98,57.38,50.5,27.5,27.5,4.0999999999999996,0.85428051001821492,0.12516333127020149,76,44,24,29,{"$f":"IF(OR(C872=\"OA\",C872=\"OB\",C872=\"1B\",C872=\"1A\",C872=\"2A\",C872=\"2B\",C872=\"3A\",C872=\"3B\",C872=\"3C\"),TAN((LEFT(I872, 5)+VLOOKUP(C872,Main!$K$3:$L$21,2,FALSE))*PI()/180),IF(Checklist!$I$385=\"No\",TAN((LEFT(I872, 5)+VLOOKUP(C872,Main!$K$3:$L$21,2,FALSE))*PI()/180),\"NR\"))","v":"NR"},{"$f":"VLOOKUP(C872,Main!$A$49:$I$67,Main!$B$47,FALSE)","v":"NR"},{"$f":"VLOOKUP(C872,Main!$A$49:$I$67,Main!$C$47,FALSE)","v":"NR"},{"$f":"VLOOKUP(C872,Main!$A$49:$I$67,Main!$E$47,FALSE)&\":\"&\" \"&VLOOKUP(C872,Main!$A$49:$I$67,Main!$F$47,FALSE)","v":"Minimum COP @ 5°F:: 1.75"},{"$f":"VLOOKUP(C872,Main!$A$49:$I$67,Main!$G$47,FALSE)","v":15},{"$f":"VLOOKUP(C872,Main!$A$49:$I$67,Main!$H$47,FALSE)","v":3.1},{"$f":"VLOOKUP(C872,Main!$A$49:$I$67,Main!$I$47,FALSE)","v":16.100000000000001},2391]
["SK","MOOSE JAW AP",7,9705,1408,-12.3,74.7,0.18329999999999999,"50.330N",-17.3,10.9,12.9,24.1,40.299999999999997,51.2,59.8,66.099999999999994,64.5,55.6,41.1,26.4,13.2,1213,1039,804,315,90,6,0,0,38,303,709,1140,0,0,1,25,127,300,500,450,207,27,2,0,2.1,3.74,16.3,27.5,34.5,46.94,54.32,51.08,42.1,18.5,18.5,4.0999999999999996,0.85989492119089317,0.11533221380818097,89,56,32,37,{"$f":"IF(OR(C873=\"OA\",C873=\"OB\",C873=\"1B\",C873=\"1A\",C873=\"2A\",C873=\"2B\",C873=\"3A\",C873=\"3B\",C873=\"3C\"),TAN((LEFT(I873, 5)+VLOOKUP(C873,Main!$K$3:$L$21,2,FALSE))*PI()/180),IF(Checklist!$I$385=\"No\",TAN((LEFT(I873, 5)+VLOOKUP(C873,Main!$K$3:$L$21,2,FALSE))*PI()/180),\"NR\"))","v":"NR"},{"$f":"VLOOKUP(C873,Main!$A$49:$I$67,Main!$B$47,FALSE)","v":"NR"},{"$f":"VLOOKUP(C873,Main!$A$49:$I$67,Main!$C$47,FALSE)","v":"NR"},{"$f":"VLOOKUP(C873,Main!$A$49:$I$67,Main!$E$47,FALSE)&\":\"&\" \"&VLOOKUP(C873,Main!$A$49:$I$67,Main!$F$47,FALSE)","v":"Minimum COP @ 5°F:: 1.75"},{"$f":"VLOOKUP(C873,Main!$A$49:$I$67,Main!$G$47,FALSE)","v":15},{"$f":"VLOOKUP(C873,Main!$A$49:$I$67,Main!$H$47,FALSE)","v":3.1},{"$f":"VLOOKUP(C873,Main!$A$49:$I$67,Main!$I$47,FALSE)","v":16.100000000000001},1639]
["SK","PRINCE ALBERT AP",7,11167,1315,-15.45,72.099999999999994,0.18329999999999999,"53.210N",-26.3,1.1000000000000001,6.8,19.2,37.200000000000003,49.9,59.2,64.099999999999994,62.3,52.3,37.9,19.8,5.2,1514,1211,955,397,108,8,0,2,64,387,905,1389,0,0,0,12,106,285,439,382,133,11,0,0,-2.7,-0.94,9.9,24.8,32.9,46.22,54.32,51.26,42.4,17.2,17.2,0.3,0.88041853512705526,0.10432489753804705,95,61,37,42,{"$f":"IF(OR(C874=\"OA\",C874=\"OB\",C874=\"1B\",C874=\"1A\",C874=\"2A\",C874=\"2B\",C874=\"3A\",C874=\"3B\",C874=\"3C\"),TAN((LEFT(I874, 5)+VLOOKUP(C874,Main!$K$3:$L$21,2,FALSE))*PI()/180),IF(Checklist!$I$385=\"No\",TAN((LEFT(I874, 5)+VLOOKUP(C874,Main!$K$3:$L$21,2,FALSE))*PI()/180),\"NR\"))","v":"NR"},{"$f":"VLOOKUP(C874,Main!$A$49:$I$67,Main!$B$47,FALSE)","v":"NR"},{"$f":"VLOOKUP(C874,Main!$A$49:$I$67,Main!$C$47,FALSE)","v":"NR"},{"$f":"VLOOKUP(C874,Main!$A$49:$I$67,Main!$E$47,FALSE)&\":\"&\" \"&VLOOKUP(C874,Main!$A$49:$I$67,Main!$F$47,FALSE)","v":"Minimum COP @ 5°F:: 1.75"},{"$f":"VLOOKUP(C874,Main!$A$49:$I$67,Main!$G$47,FALSE)","v":15},{"$f":"VLOOKUP(C874,Main!$A$49:$I$67,Main!$H$47,FALSE)","v":3.1},{"$f":"VLOOKUP(C874,Main!$A$49:$I$67,Main!$I$47,FALSE)","v":16.100000000000001},1368]
["SK","REGINA",7,10393,1404,-12.75,73,0.18329999999999999,"50.430N",-21.2,7,7.9,20.9,39.4,50.9,59.8,66,63.7,54.8,39.700000000000003,23.1,9.8000000000000007,1334,1180,902,339,94,4,0,0,44,341,807,1246,0,0,0,21,123,299,495,427,188,23,0,0,1.8,3.74,16.899999999999999,27.86,34.5,45.86,53.06,51.08,42.3,19.2,19.2,3.6,0.86885245901639341,0.11028966185916858,92,58,34,39,{"$f":"IF(OR(C875=\"OA\",C875=\"OB\",C875=\"1B\",C875=\"1A\",C875=\"2A\",C875=\"2B\",C875=\"3A\",C875=\"3B\",C875=\"3C\"),TAN((LEFT(I875, 5)+VLOOKUP(C875,Main!$K$3:$L$21,2,FALSE))*PI()/180),IF(Checklist!$I$385=\"No\",TAN((LEFT(I875, 5)+VLOOKUP(C875,Main!$K$3:$L$21,2,FALSE))*PI()/180),\"NR\"))","v":"NR"},{"$f":"VLOOKUP(C875,Main!$A$49:$I$67,Main!$B$47,FALSE)","v":"NR"},{"$f":"VLOOKUP(C875,Main!$A$49:$I$67,Main!$C$47,FALSE)","v":"NR"},{"$f":"VLOOKUP(C875,Main!$A$49:$I$67,Main!$E$47,FALSE)&\":\"&\" \"&VLOOKUP(C875,Main!$A$49:$I$67,Main!$F$47,FALSE)","v":"Minimum COP @ 5°F:: 1.75"},{"$f":"VLOOKUP(C875,Main!$A$49:$I$67,Main!$G$47,FALSE)","v":15},{"$f":"VLOOKUP(C875,Main!$A$49:$I$67,Main!$H$47,FALSE)","v":3.1},{"$f":"VLOOKUP(C875,Main!$A$49:$I$67,Main!$I$47,FALSE)","v":16.100000000000001},1576]
["SK","SASKATOON",7,10628,1340,-12.9,73.8,0.18329999999999999,"52.170N",-24,4,8.8000000000000007,21.3,39.200000000000003,51.1,59.7,64.5,63.3,53.8,39,21.8,7.9,1425,1154,891,346,88,6,0,2,54,359,845,1306,0,0,0,21,124,296,451,414,168,18,0,0,0.9,2.48,14.4,27.32,34,47.66,55.04,51.08,43,18.5,18.5,3.6,0.875,0.10693301997649823,93,59,35,40,{"$f":"IF(OR(C876=\"OA\",C876=\"OB\",C876=\"1B\",C876=\"1A\",C876=\"2A\",C876=\"2B\",C876=\"3A\",C876=\"3B\",C876=\"3C\"),TAN((LEFT(I876, 5)+VLOOKUP(C876,Main!$K$3:$L$21,2,FALSE))*PI()/180),IF(Checklist!$I$385=\"No\",TAN((LEFT(I876, 5)+VLOOKUP(C876,Main!$K$3:$L$21,2,FALSE))*PI()/180),\"NR\"))","v":"NR"},{"$f":"VLOOKUP(C876,Main!$A$49:$I$67,Main!$B$47,FALSE)","v":"NR"},{"$f":"VLOOKUP(C876,Main!$A$49:$I$67,Main!$C$47,FALSE)","v":"NR"},{"$f":"VLOOKUP(C876,Main!$A$49:$I$67,Main!$E$47,FALSE)&\":\"&\" \"&VLOOKUP(C876,Main!$A$49:$I$67,Main!$F$47,FALSE)","v":"Minimum COP @ 5°F:: 1.75"},{"$f":"VLOOKUP(C876,Main!$A$49:$I$67,Main!$G$47,FALSE)","v":15},{"$f":"VLOOKUP(C876,Main!$A$49:$I$67,Main!$H$47,FALSE)","v":3.1},{"$f":"VLOOKUP(C876,Main!$A$49:$I$67,Main!$I$47,FALSE)","v":16.100000000000001},1492]
["TN","BRISTOL TRI CITY AIRPORT","4A",4177,1528,30,75.400000000000006,9.6600000000000005E-2,"36.473N",17.899999999999999,36.6,39.9,47.3,56.3,64.3,72,75,74.099999999999994,67.900000000000006,56.7,46.4,39.1,429,298,160,33,2,0,0,0,0,28,169,354,13,16,77,224,446,659,775,748,537,236,59,16,26.8,24.08,31.1,39.92,52.3,62.6,64.760000000000005,64.040000000000006,57.9,36.700000000000003,36.700000000000003,25.5,0.74522292993630568,0.19636402869935804,62,31,15,20,{"$f":"IF(OR(C877=\"OA\",C877=\"OB\",C877=\"1B\",C877=\"1A\",C877=\"2A\",C877=\"2B\",C877=\"3A\",C877=\"3B\",C877=\"3C\"),TAN((LEFT(I877, 5)+VLOOKUP(C877,Main!$K$3:$L$21,2,FALSE))*PI()/180),IF(Checklist!$I$385=\"No\",TAN((LEFT(I877, 5)+VLOOKUP(C877,Main!$K$3:$L$21,2,FALSE))*PI()/180),\"NR\"))","v":"NR"},{"$f":"VLOOKUP(C877,Main!$A$49:$I$67,Main!$B$47,FALSE)","v":0.5},{"$f":"VLOOKUP(C877,Main!$A$49:$I$67,Main!$C$47,FALSE)","v":0.25},{"$f":"VLOOKUP(C877,Main!$A$49:$I$67,Main!$E$47,FALSE)&\":\"&\" \"&VLOOKUP(C877,Main!$A$49:$I$67,Main!$F$47,FALSE)","v":"Minimum HSPF:: 9.6"},{"$f":"VLOOKUP(C877,Main!$A$49:$I$67,Main!$G$47,FALSE)","v":18},{"$f":"VLOOKUP(C877,Main!$A$49:$I$67,Main!$H$47,FALSE)","v":3.1},{"$f":"VLOOKUP(C877,Main!$A$49:$I$67,Main!$I$47,FALSE)","v":16.100000000000001},3806]
["TN","CHATTANOOGA LOVELL FIELD AP","3A",3093,1544,35.15,82.2,9.6600000000000005E-2,"35.031N",23.7,41.8,45.2,52.8,61.4,69.2,76.8,79.900000000000006,79.599999999999994,73.099999999999994,61.8,50.9,43.8,288,177,74,7,0,0,0,0,0,5,86,231,32,43,159,351,594,803,927,916,694,371,112,40,31.1,32.54,39.700000000000003,45.32,56.5,67.459999999999994,68.36,68.900000000000006,63.7,41.9,41.9,30.2,0.69465648854961837,0.22207308889024466,59,29,13,18,{"$f":"IF(OR(C878=\"OA\",C878=\"OB\",C878=\"1B\",C878=\"1A\",C878=\"2A\",C878=\"2B\",C878=\"3A\",C878=\"3B\",C878=\"3C\"),TAN((LEFT(I878, 5)+VLOOKUP(C878,Main!$K$3:$L$21,2,FALSE))*PI()/180),IF(Checklist!$I$385=\"No\",TAN((LEFT(I878, 5)+VLOOKUP(C878,Main!$K$3:$L$21,2,FALSE))*PI()/180),\"NR\"))","v":0.70098813880257826},{"$f":"VLOOKUP(C878,Main!$A$49:$I$67,Main!$B$47,FALSE)","v":0.6},{"$f":"VLOOKUP(C878,Main!$A$49:$I$67,Main!$C$47,FALSE)","v":0.25},{"$f":"VLOOKUP(C878,Main!$A$49:$I$67,Main!$E$47,FALSE)&\":\"&\" \"&VLOOKUP(C878,Main!$A$49:$I$67,Main!$F$47,FALSE)","v":"Minimum HSPF:: 9.6"},{"$f":"VLOOKUP(C878,Main!$A$49:$I$67,Main!$G$47,FALSE)","v":18},{"$f":"VLOOKUP(C878,Main!$A$49:$I$67,Main!$H$47,FALSE)","v":3.1},{"$f":"VLOOKUP(C878,Main!$A$49:$I$67,Main!$I$47,FALSE)","v":16.100000000000001},5042]
["TN","CROSSVILLE MEMORIAL AP","4A",4184,1398,28.7,76.3,9.6600000000000005E-2,"35.951N",16.399999999999999,36.6,39.799999999999997,47.1,56.3,63.9,71,74.400000000000006,73.7,67.5,57,46.9,39.4,433,305,178,40,3,0,0,0,0,30,166,351,18,20,87,231,433,630,756,736,525,247,74,23,32.5,31.28,36.9,46.04,55,63.32,67.459999999999994,62.42,62.1,41.9,41.9,30.2,0.74522292993630568,0.19065577205112089,62,32,15,20,{"$f":"IF(OR(C879=\"OA\",C879=\"OB\",C879=\"1B\",C879=\"1A\",C879=\"2A\",C879=\"2B\",C879=\"3A\",C879=\"3B\",C879=\"3C\"),TAN((LEFT(I879, 5)+VLOOKUP(C879,Main!$K$3:$L$21,2,FALSE))*PI()/180),IF(Checklist!$I$385=\"No\",TAN((LEFT(I879, 5)+VLOOKUP(C879,Main!$K$3:$L$21,2,FALSE))*PI()/180),\"NR\"))","v":"NR"},{"$f":"VLOOKUP(C879,Main!$A$49:$I$67,Main!$B$47,FALSE)","v":0.5},{"$f":"VLOOKUP(C879,Main!$A$49:$I$67,Main!$C$47,FALSE)","v":0.25},{"$f":"VLOOKUP(C879,Main!$A$49:$I$67,Main!$E$47,FALSE)&\":\"&\" \"&VLOOKUP(C879,Main!$A$49:$I$67,Main!$F$47,FALSE)","v":"Minimum HSPF:: 9.6"},{"$f":"VLOOKUP(C879,Main!$A$49:$I$67,Main!$G$47,FALSE)","v":18},{"$f":"VLOOKUP(C879,Main!$A$49:$I$67,Main!$H$47,FALSE)","v":3.1},{"$f":"VLOOKUP(C879,Main!$A$49:$I$67,Main!$I$47,FALSE)","v":16.100000000000001},3780]
["TN","DYERSBURG MUNICIPAL AP","3A",3568,1626,24.05,82.4,9.6600000000000005E-2,"36.000N",19.2,38.799999999999997,42.1,50.5,60.4,69.3,77.400000000000006,79.7,79.2,71.400000000000006,61,49.4,40.9,381,261,122,17,0,0,0,0,0,12,126,312,33,40,138,327,599,821,922,904,643,352,107,30,28.2,29.84,31.6,42.08,51.4,67.64,68.900000000000006,63.68,63.9,40.299999999999997,40.299999999999997,30.7,0.72602739726027399,0.20159503766061143,60,30,14,19,{"$f":"IF(OR(C880=\"OA\",C880=\"OB\",C880=\"1B\",C880=\"1A\",C880=\"2A\",C880=\"2B\",C880=\"3A\",C880=\"3B\",C880=\"3C\"),TAN((LEFT(I880, 5)+VLOOKUP(C880,Main!$K$3:$L$21,2,FALSE))*PI()/180),IF(Checklist!$I$385=\"No\",TAN((LEFT(I880, 5)+VLOOKUP(C880,Main!$K$3:$L$21,2,FALSE))*PI()/180),\"NR\"))","v":0.7265425280053609},{"$f":"VLOOKUP(C880,Main!$A$49:$I$67,Main!$B$47,FALSE)","v":0.6},{"$f":"VLOOKUP(C880,Main!$A$49:$I$67,Main!$C$47,FALSE)","v":0.25},{"$f":"VLOOKUP(C880,Main!$A$49:$I$67,Main!$E$47,FALSE)&\":\"&\" \"&VLOOKUP(C880,Main!$A$49:$I$67,Main!$F$47,FALSE)","v":"Minimum HSPF:: 9.6"},{"$f":"VLOOKUP(C880,Main!$A$49:$I$67,Main!$G$47,FALSE)","v":18},{"$f":"VLOOKUP(C880,Main!$A$49:$I$67,Main!$H$47,FALSE)","v":3.1},{"$f":"VLOOKUP(C880,Main!$A$49:$I$67,Main!$I$47,FALSE)","v":16.100000000000001},4916]
["TN","JACKSON MCKELLAR-SIPES REGL A","3A",3436,1552,18.25,80.8,9.6600000000000005E-2,"35.593N",19.899999999999999,39.700000000000003,43.2,51.3,60.8,69.099999999999994,76.599999999999994,79.400000000000006,78.8,71.599999999999994,60.7,49.8,42,356,238,111,17,0,0,0,0,0,13,124,292,37,48,150,340,591,798,913,891,649,345,117,44,28,37.4,42.3,52.34,54.7,66.2,68.180000000000007,65.3,61.9,43.9,43.9,32.9,0.71731448763250882,0.2045288531775018,60,29,14,19,{"$f":"IF(OR(C881=\"OA\",C881=\"OB\",C881=\"1B\",C881=\"1A\",C881=\"2A\",C881=\"2B\",C881=\"3A\",C881=\"3B\",C881=\"3C\"),TAN((LEFT(I881, 5)+VLOOKUP(C881,Main!$K$3:$L$21,2,FALSE))*PI()/180),IF(Checklist!$I$385=\"No\",TAN((LEFT(I881, 5)+VLOOKUP(C881,Main!$K$3:$L$21,2,FALSE))*PI()/180),\"NR\"))","v":0.71566572534294348},{"$f":"VLOOKUP(C881,Main!$A$49:$I$67,Main!$B$47,FALSE)","v":0.6},{"$f":"VLOOKUP(C881,Main!$A$49:$I$67,Main!$C$47,FALSE)","v":0.25},{"$f":"VLOOKUP(C881,Main!$A$49:$I$67,Main!$E$47,FALSE)&\":\"&\" \"&VLOOKUP(C881,Main!$A$49:$I$67,Main!$F$47,FALSE)","v":"Minimum HSPF:: 9.6"},{"$f":"VLOOKUP(C881,Main!$A$49:$I$67,Main!$G$47,FALSE)","v":18},{"$f":"VLOOKUP(C881,Main!$A$49:$I$67,Main!$H$47,FALSE)","v":3.1},{"$f":"VLOOKUP(C881,Main!$A$49:$I$67,Main!$I$47,FALSE)","v":16.100000000000001},4923]
["TN","KNOXVILLE MCGHEE TYSON AP","3A",3532,1565,32.35,80.400000000000006,9.6600000000000005E-2,"35.818N",21.6,39.299999999999997,43,50.5,59.6,67.599999999999994,75.099999999999994,78.2,77.599999999999994,71.3,59.9,49.1,41.6,355,228,113,17,0,0,0,0,0,13,119,288,25,33,129,306,546,754,875,855,640,319,93,28,25.3,27.86,38.1,43.16,55.6,65.48,66.56,68,59.5,40.5,40.5,29.3,0.72125435540069693,0.21202236719478099,60,30,14,19,{"$f":"IF(OR(C882=\"OA\",C882=\"OB\",C882=\"1B\",C882=\"1A\",C882=\"2A\",C882=\"2B\",C882=\"3A\",C882=\"3B\",C882=\"3C\"),TAN((LEFT(I882, 5)+VLOOKUP(C882,Main!$K$3:$L$21,2,FALSE))*PI()/180),IF(Checklist!$I$385=\"No\",TAN((LEFT(I882, 5)+VLOOKUP(C882,Main!$K$3:$L$21,2,FALSE))*PI()/180),\"NR\"))","v":0.72148809810707892},{"$f":"VLOOKUP(C882,Main!$A$49:$I$67,Main!$B$47,FALSE)","v":0.6},{"$f":"VLOOKUP(C882,Main!$A$49:$I$67,Main!$C$47,FALSE)","v":0.25},{"$f":"VLOOKUP(C882,Main!$A$49:$I$67,Main!$E$47,FALSE)&\":\"&\" \"&VLOOKUP(C882,Main!$A$49:$I$67,Main!$F$47,FALSE)","v":"Minimum HSPF:: 9.6"},{"$f":"VLOOKUP(C882,Main!$A$49:$I$67,Main!$G$47,FALSE)","v":18},{"$f":"VLOOKUP(C882,Main!$A$49:$I$67,Main!$H$47,FALSE)","v":3.1},{"$f":"VLOOKUP(C882,Main!$A$49:$I$67,Main!$I$47,FALSE)","v":16.100000000000001},4603]
["TN","MEMPHIS INTERNATIONAL AP","3A",2884,1640,31.8,84,9.6600000000000005E-2,"35.056N",23.8,42.3,46.1,54.1,63.3,71.8,79.7,82.4,82.1,75.400000000000006,64.2,52.8,44.5,289,178,72,7,0,0,0,0,0,4,78,228,49,69,199,405,676,892,1005,994,763,443,162,59,30.7,29.48,42.1,47.12,60.8,66.2,69.08,66.92,65.5,42.3,42.3,30,0.68871595330739299,0.22257551669316375,58,28,13,18,{"$f":"IF(OR(C883=\"OA\",C883=\"OB\",C883=\"1B\",C883=\"1A\",C883=\"2A\",C883=\"2B\",C883=\"3A\",C883=\"3B\",C883=\"3C\"),TAN((LEFT(I883, 5)+VLOOKUP(C883,Main!$K$3:$L$21,2,FALSE))*PI()/180),IF(Checklist!$I$385=\"No\",TAN((LEFT(I883, 5)+VLOOKUP(C883,Main!$K$3:$L$21,2,FALSE))*PI()/180),\"NR\"))","v":0.7015088575925843},{"$f":"VLOOKUP(C883,Main!$A$49:$I$67,Main!$B$47,FALSE)","v":0.6},{"$f":"VLOOKUP(C883,Main!$A$49:$I$67,Main!$C$47,FALSE)","v":0.25},{"$f":"VLOOKUP(C883,Main!$A$49:$I$67,Main!$E$47,FALSE)&\":\"&\" \"&VLOOKUP(C883,Main!$A$49:$I$67,Main!$F$47,FALSE)","v":"Minimum HSPF:: 9.6"},{"$f":"VLOOKUP(C883,Main!$A$49:$I$67,Main!$G$47,FALSE)","v":18},{"$f":"VLOOKUP(C883,Main!$A$49:$I$67,Main!$H$47,FALSE)","v":3.1},{"$f":"VLOOKUP(C883,Main!$A$49:$I$67,Main!$I$47,FALSE)","v":16.100000000000001},5716]
["TN","NASHVILLE INTERNATIONAL AP","3A",3491,1577,31.55,83.3,9.6600000000000005E-2,"36.119N",19.899999999999999,39.200000000000003,42.8,50.7,60.2,68.400000000000006,76.3,79.8,79.2,72.2,60.8,49.8,41.8,367,243,116,18,0,0,0,0,0,11,116,291,31,41,139,323,570,789,924,905,666,346,111,37,27.3,26.24,40.299999999999997,42.98,56.3,64.760000000000005,68.72,68.72,60.3,35.4,35.4,31.1,0.72222222222222221,0.2045288531775018,60,30,14,19,{"$f":"IF(OR(C884=\"OA\",C884=\"OB\",C884=\"1B\",C884=\"1A\",C884=\"2A\",C884=\"2B\",C884=\"3A\",C884=\"3B\",C884=\"3C\"),TAN((LEFT(I884, 5)+VLOOKUP(C884,Main!$K$3:$L$21,2,FALSE))*PI()/180),IF(Checklist!$I$385=\"No\",TAN((LEFT(I884, 5)+VLOOKUP(C884,Main!$K$3:$L$21,2,FALSE))*PI()/180),\"NR\"))","v":0.729479917257434},{"$f":"VLOOKUP(C884,Main!$A$49:$I$67,Main!$B$47,FALSE)","v":0.6},{"$f":"VLOOKUP(C884,Main!$A$49:$I$67,Main!$C$47,FALSE)","v":0.25},{"$f":"VLOOKUP(C884,Main!$A$49:$I$67,Main!$E$47,FALSE)&\":\"&\" \"&VLOOKUP(C884,Main!$A$49:$I$67,Main!$F$47,FALSE)","v":"Minimum HSPF:: 9.6"},{"$f":"VLOOKUP(C884,Main!$A$49:$I$67,Main!$G$47,FALSE)","v":18},{"$f":"VLOOKUP(C884,Main!$A$49:$I$67,Main!$H$47,FALSE)","v":3.1},{"$f":"VLOOKUP(C884,Main!$A$49:$I$67,Main!$I$47,FALSE)","v":16.100000000000001},4882]
["TX","ABILENE DYESS AFB","3B",2509,1963,23.65,91.9,0.10929999999999999,"32.417N",23.4,44.7,49.3,56.8,65.2,74.3,82.2,84.4,83.6,75.599999999999994,66.2,54.5,46.6,224,121,59,6,0,0,0,0,0,6,66,190,61,101,269,463,753,966,1065,1043,768,509,200,84,26.6,25.16,27.5,37.76,56.3,64.22,64.400000000000006,61.16,53.8,35.1,35.1,30.9,0.6566523605150214,0.22057932371833716,58,27,14,19,{"$f":"IF(OR(C885=\"OA\",C885=\"OB\",C885=\"1B\",C885=\"1A\",C885=\"2A\",C885=\"2B\",C885=\"3A\",C885=\"3B\",C885=\"3C\"),TAN((LEFT(I885, 5)+VLOOKUP(C885,Main!$K$3:$L$21,2,FALSE))*PI()/180),IF(Checklist!$I$385=\"No\",TAN((LEFT(I885, 5)+VLOOKUP(C885,Main!$K$3:$L$21,2,FALSE))*PI()/180),\"NR\"))","v":0.63486414927085699},{"$f":"VLOOKUP(C885,Main!$A$49:$I$67,Main!$B$47,FALSE)","v":"NR"},{"$f":"VLOOKUP(C885,Main!$A$49:$I$67,Main!$C$47,FALSE)","v":0.25},{"$f":"VLOOKUP(C885,Main!$A$49:$I$67,Main!$E$47,FALSE)&\":\"&\" \"&VLOOKUP(C885,Main!$A$49:$I$67,Main!$F$47,FALSE)","v":"Minimum HSPF:: 9.6"},{"$f":"VLOOKUP(C885,Main!$A$49:$I$67,Main!$G$47,FALSE)","v":18},{"$f":"VLOOKUP(C885,Main!$A$49:$I$67,Main!$H$47,FALSE)","v":3.1},{"$f":"VLOOKUP(C885,Main!$A$49:$I$67,Main!$I$47,FALSE)","v":16.100000000000001},6282]
["TX","ABILENE REGIONAL AP [UT]","3B",2444,1868,24.95,87.6,0.10929999999999999,"32.411N",24.6,45.8,49.6,57,65.3,73.3,80.400000000000006,83.3,83,75.7,66.099999999999994,54.7,46.3,202,122,49,7,0,0,0,0,0,5,64,190,72,110,267,466,723,911,1032,1023,771,504,206,77,24.4,29.84,39,45.32,58.1,60.62,61.7,62.78,57.4,38.1,38.1,27,0.63963963963963966,0.22667829119442021,57,27,13,18,{"$f":"IF(OR(C886=\"OA\",C886=\"OB\",C886=\"1B\",C886=\"1A\",C886=\"2A\",C886=\"2B\",C886=\"3A\",C886=\"3B\",C886=\"3C\"),TAN((LEFT(I886, 5)+VLOOKUP(C886,Main!$K$3:$L$21,2,FALSE))*PI()/180),IF(Checklist!$I$385=\"No\",TAN((LEFT(I886, 5)+VLOOKUP(C886,Main!$K$3:$L$21,2,FALSE))*PI()/180),\"NR\"))","v":0.63486414927085699},{"$f":"VLOOKUP(C886,Main!$A$49:$I$67,Main!$B$47,FALSE)","v":"NR"},{"$f":"VLOOKUP(C886,Main!$A$49:$I$67,Main!$C$47,FALSE)","v":0.25},{"$f":"VLOOKUP(C886,Main!$A$49:$I$67,Main!$E$47,FALSE)&\":\"&\" \"&VLOOKUP(C886,Main!$A$49:$I$67,Main!$F$47,FALSE)","v":"Minimum HSPF:: 9.6"},{"$f":"VLOOKUP(C886,Main!$A$49:$I$67,Main!$G$47,FALSE)","v":18},{"$f":"VLOOKUP(C886,Main!$A$49:$I$67,Main!$H$47,FALSE)","v":3.1},{"$f":"VLOOKUP(C886,Main!$A$49:$I$67,Main!$I$47,FALSE)","v":16.100000000000001},6162]
["TX","ALICE INTL AP","2A",849,1689,45.2,88.5,0.10929999999999999,"27.741N",37.200000000000003,58.2,61.4,67.2,73.8,79.7,84.2,85.6,86.1,81.599999999999994,74.8,65.599999999999994,59.2,32,19,4,0,0,0,0,0,0,1,5,25,287,338,538,714,922,1027,1102,1119,949,771,474,311,50.5,46.04,52.5,66.38,72,70.88,71.959999999999994,72.86,66,54.5,54.5,50.7,"NR",0.31941031941031939,52,23,11,16,{"$f":"IF(OR(C887=\"OA\",C887=\"OB\",C887=\"1B\",C887=\"1A\",C887=\"2A\",C887=\"2B\",C887=\"3A\",C887=\"3B\",C887=\"3C\"),TAN((LEFT(I887, 5)+VLOOKUP(C887,Main!$K$3:$L$21,2,FALSE))*PI()/180),IF(Checklist!$I$385=\"No\",TAN((LEFT(I887, 5)+VLOOKUP(C887,Main!$K$3:$L$21,2,FALSE))*PI()/180),\"NR\"))","v":0.52590262691737233},{"$f":"VLOOKUP(C887,Main!$A$49:$I$67,Main!$B$47,FALSE)","v":0.6},{"$f":"VLOOKUP(C887,Main!$A$49:$I$67,Main!$C$47,FALSE)","v":0.25},{"$f":"VLOOKUP(C887,Main!$A$49:$I$67,Main!$E$47,FALSE)&\":\"&\" \"&VLOOKUP(C887,Main!$A$49:$I$67,Main!$F$47,FALSE)","v":"Minimum HSPF:: 9.6"},{"$f":"VLOOKUP(C887,Main!$A$49:$I$67,Main!$G$47,FALSE)","v":18},{"$f":"VLOOKUP(C887,Main!$A$49:$I$67,Main!$H$47,FALSE)","v":3.1},{"$f":"VLOOKUP(C887,Main!$A$49:$I$67,Main!$I$47,FALSE)","v":16.100000000000001},8552]
["TX","AMARILLO INTERNATIONAL AP [CANYON - UT]","4B",4043,1817,30.05,83.8,0.10929999999999999,"35.230N",15.8,37.9,40.9,48.6,56.7,66.2,75.400000000000006,78.400000000000006,77.2,69.8,58.6,46.6,37.9,387,280,145,40,3,0,0,0,1,27,175,388,11,26,103,242,507,761,882,844,596,293,73,12,20.3,24.08,28,36.86,45.7,59.18,59.72,60.62,52,27.5,27.5,20.7,0.73421926910299007,0.18846432639536087,62,32,15,20,{"$f":"IF(OR(C888=\"OA\",C888=\"OB\",C888=\"1B\",C888=\"1A\",C888=\"2A\",C888=\"2B\",C888=\"3A\",C888=\"3B\",C888=\"3C\"),TAN((LEFT(I888, 5)+VLOOKUP(C888,Main!$K$3:$L$21,2,FALSE))*PI()/180),IF(Checklist!$I$385=\"No\",TAN((LEFT(I888, 5)+VLOOKUP(C888,Main!$K$3:$L$21,2,FALSE))*PI()/180),\"NR\"))","v":"NR"},{"$f":"VLOOKUP(C888,Main!$A$49:$I$67,Main!$B$47,FALSE)","v":"NR"},{"$f":"VLOOKUP(C888,Main!$A$49:$I$67,Main!$C$47,FALSE)","v":0.25},{"$f":"VLOOKUP(C888,Main!$A$49:$I$67,Main!$E$47,FALSE)&\":\"&\" \"&VLOOKUP(C888,Main!$A$49:$I$67,Main!$F$47,FALSE)","v":"Minimum HSPF:: 9.6"},{"$f":"VLOOKUP(C888,Main!$A$49:$I$67,Main!$G$47,FALSE)","v":18},{"$f":"VLOOKUP(C888,Main!$A$49:$I$67,Main!$H$47,FALSE)","v":3.1},{"$f":"VLOOKUP(C888,Main!$A$49:$I$67,Main!$I$47,FALSE)","v":16.100000000000001},4350]
["TX","AUSTIN MUELLER MUNICIPAL AP [UT]","2A",1634,1667,42.45,84.4,0.10929999999999999,"30.183N",30.2,51.2,55,61.1,68.7,76.099999999999994,82.2,84.1,84.9,79.2,70.099999999999994,59.5,52.1,101,55,16,1,0,0,0,0,0,1,23,89,137,195,361,560,809,967,1058,1081,877,625,308,154,41,42.08,50.2,61.34,64.8,69.98,70.88,70.34,62.6,52.9,52.9,42.6,0.6,0.26026026026026028,55,25,11,16,{"$f":"IF(OR(C889=\"OA\",C889=\"OB\",C889=\"1B\",C889=\"1A\",C889=\"2A\",C889=\"2B\",C889=\"3A\",C889=\"3B\",C889=\"3C\"),TAN((LEFT(I889, 5)+VLOOKUP(C889,Main!$K$3:$L$21,2,FALSE))*PI()/180),IF(Checklist!$I$385=\"No\",TAN((LEFT(I889, 5)+VLOOKUP(C889,Main!$K$3:$L$21,2,FALSE))*PI()/180),\"NR\"))","v":0.5815466846557793},{"$f":"VLOOKUP(C889,Main!$A$49:$I$67,Main!$B$47,FALSE)","v":0.6},{"$f":"VLOOKUP(C889,Main!$A$49:$I$67,Main!$C$47,FALSE)","v":0.25},{"$f":"VLOOKUP(C889,Main!$A$49:$I$67,Main!$E$47,FALSE)&\":\"&\" \"&VLOOKUP(C889,Main!$A$49:$I$67,Main!$F$47,FALSE)","v":"Minimum HSPF:: 9.6"},{"$f":"VLOOKUP(C889,Main!$A$49:$I$67,Main!$G$47,FALSE)","v":18},{"$f":"VLOOKUP(C889,Main!$A$49:$I$67,Main!$H$47,FALSE)","v":3.1},{"$f":"VLOOKUP(C889,Main!$A$49:$I$67,Main!$I$47,FALSE)","v":16.100000000000001},7132]
["TX","BROWNSVILLE S PADRE ISL INTL","1A",509,1696,53.8,84,0.10929999999999999,"25.914N",42.5,62,65,69.599999999999994,75.099999999999994,80.400000000000006,84.2,84.8,85.3,81.8,76.400000000000006,69,62.9,14,7,1,0,0,0,0,0,0,0,2,11,385,428,609,753,941,1026,1080,1095,955,818,572,411,52.7,52.34,57.7,67.819999999999993,70.7,74.84,74.48,73.22,73.400000000000006,60.3,60.3,53.2,"NR",0.38579756226815043,51,22,9,14,{"$f":"IF(OR(C890=\"OA\",C890=\"OB\",C890=\"1B\",C890=\"1A\",C890=\"2A\",C890=\"2B\",C890=\"3A\",C890=\"3B\",C890=\"3C\"),TAN((LEFT(I890, 5)+VLOOKUP(C890,Main!$K$3:$L$21,2,FALSE))*PI()/180),IF(Checklist!$I$385=\"No\",TAN((LEFT(I890, 5)+VLOOKUP(C890,Main!$K$3:$L$21,2,FALSE))*PI()/180),\"NR\"))","v":0.48578961334478948},{"$f":"VLOOKUP(C890,Main!$A$49:$I$67,Main!$B$47,FALSE)","v":0.6},{"$f":"VLOOKUP(C890,Main!$A$49:$I$67,Main!$C$47,FALSE)","v":0.25},{"$f":"VLOOKUP(C890,Main!$A$49:$I$67,Main!$E$47,FALSE)&\":\"&\" \"&VLOOKUP(C890,Main!$A$49:$I$67,Main!$F$47,FALSE)","v":"Minimum HSPF:: 9.6"},{"$f":"VLOOKUP(C890,Main!$A$49:$I$67,Main!$G$47,FALSE)","v":18},{"$f":"VLOOKUP(C890,Main!$A$49:$I$67,Main!$H$47,FALSE)","v":3.1},{"$f":"VLOOKUP(C890,Main!$A$49:$I$67,Main!$I$47,FALSE)","v":16.100000000000001},9073]
["TX","CAMP MABRY","2A",1498,1774,36,86,0.10929999999999999,"30.32N",32.4,52.2,55.6,61.7,69.099999999999994,76.5,82.1,84.7,85.2,79.900000000000006,70.900000000000006,60.8,52.8,87,50,15,1,0,0,0,0,0,1,16,77,156,206,379,575,822,963,1075,1090,897,650,340,163,37.200000000000003,42.44,44.2,57.74,65.7,69.44,71.239999999999995,67.64,65.5,48.7,48.7,37.200000000000003,"NR",0.27634375948982687,54,24,11,16,{"$f":"IF(OR(C891=\"OA\",C891=\"OB\",C891=\"1B\",C891=\"1A\",C891=\"2A\",C891=\"2B\",C891=\"3A\",C891=\"3B\",C891=\"3C\"),TAN((LEFT(I891, 5)+VLOOKUP(C891,Main!$K$3:$L$21,2,FALSE))*PI()/180),IF(Checklist!$I$385=\"No\",TAN((LEFT(I891, 5)+VLOOKUP(C891,Main!$K$3:$L$21,2,FALSE))*PI()/180),\"NR\"))","v":0.58482117518815979},{"$f":"VLOOKUP(C891,Main!$A$49:$I$67,Main!$B$47,FALSE)","v":0.6},{"$f":"VLOOKUP(C891,Main!$A$49:$I$67,Main!$C$47,FALSE)","v":0.25},{"$f":"VLOOKUP(C891,Main!$A$49:$I$67,Main!$E$47,FALSE)&\":\"&\" \"&VLOOKUP(C891,Main!$A$49:$I$67,Main!$F$47,FALSE)","v":"Minimum HSPF:: 9.6"},{"$f":"VLOOKUP(C891,Main!$A$49:$I$67,Main!$G$47,FALSE)","v":18},{"$f":"VLOOKUP(C891,Main!$A$49:$I$67,Main!$H$47,FALSE)","v":3.1},{"$f":"VLOOKUP(C891,Main!$A$49:$I$67,Main!$I$47,FALSE)","v":16.100000000000001},7316]
["TX","CHILDRESS MUNICIPAL AP","3B",3075,1741,32.9,86.4,0.10929999999999999,"34.427N",21,41.9,45.2,53.6,62.5,71.5,79.8,83,82,74.099999999999994,63.3,51.6,42.6,282,192,79,14,1,0,0,0,0,10,93,262,30,59,191,390,666,895,1024,993,724,421,142,33,26.6,34.340000000000003,36.1,45.68,57,59.54,62.96,64.22,56.8,41,41,26.8,0.69348659003831414,0.20931569867740077,59,29,14,19,{"$f":"IF(OR(C892=\"OA\",C892=\"OB\",C892=\"1B\",C892=\"1A\",C892=\"2A\",C892=\"2B\",C892=\"3A\",C892=\"3B\",C892=\"3C\"),TAN((LEFT(I892, 5)+VLOOKUP(C892,Main!$K$3:$L$21,2,FALSE))*PI()/180),IF(Checklist!$I$385=\"No\",TAN((LEFT(I892, 5)+VLOOKUP(C892,Main!$K$3:$L$21,2,FALSE))*PI()/180),\"NR\"))","v":0.68522713260751311},{"$f":"VLOOKUP(C892,Main!$A$49:$I$67,Main!$B$47,FALSE)","v":"NR"},{"$f":"VLOOKUP(C892,Main!$A$49:$I$67,Main!$C$47,FALSE)","v":0.25},{"$f":"VLOOKUP(C892,Main!$A$49:$I$67,Main!$E$47,FALSE)&\":\"&\" \"&VLOOKUP(C892,Main!$A$49:$I$67,Main!$F$47,FALSE)","v":"Minimum HSPF:: 9.6"},{"$f":"VLOOKUP(C892,Main!$A$49:$I$67,Main!$G$47,FALSE)","v":18},{"$f":"VLOOKUP(C892,Main!$A$49:$I$67,Main!$H$47,FALSE)","v":3.1},{"$f":"VLOOKUP(C892,Main!$A$49:$I$67,Main!$I$47,FALSE)","v":16.100000000000001},5568]
["TX","COLLEGE STATION EASTERWOOD FL","2A",1568,1594,44.5,86.7,0.10929999999999999,"30.589N",31.7,51.6,55.3,61.4,68.7,76.2,82.6,84.6,85.3,80.099999999999994,70.8,60.1,52.9,95,52,15,1,0,0,0,0,0,1,21,81,147,201,369,561,812,977,1074,1094,902,645,325,169,39.700000000000003,46.94,47.8,52.52,62.8,73.58,71.78,70.88,66,48,48,40.5,0.6,0.27101481646936193,54,25,12,17,{"$f":"IF(OR(C893=\"OA\",C893=\"OB\",C893=\"1B\",C893=\"1A\",C893=\"2A\",C893=\"2B\",C893=\"3A\",C893=\"3B\",C893=\"3C\"),TAN((LEFT(I893, 5)+VLOOKUP(C893,Main!$K$3:$L$21,2,FALSE))*PI()/180),IF(Checklist!$I$385=\"No\",TAN((LEFT(I893, 5)+VLOOKUP(C893,Main!$K$3:$L$21,2,FALSE))*PI()/180),\"NR\"))","v":0.59092729629031604},{"$f":"VLOOKUP(C893,Main!$A$49:$I$67,Main!$B$47,FALSE)","v":0.6},{"$f":"VLOOKUP(C893,Main!$A$49:$I$67,Main!$C$47,FALSE)","v":0.25},{"$f":"VLOOKUP(C893,Main!$A$49:$I$67,Main!$E$47,FALSE)&\":\"&\" \"&VLOOKUP(C893,Main!$A$49:$I$67,Main!$F$47,FALSE)","v":"Minimum HSPF:: 9.6"},{"$f":"VLOOKUP(C893,Main!$A$49:$I$67,Main!$G$47,FALSE)","v":18},{"$f":"VLOOKUP(C893,Main!$A$49:$I$67,Main!$H$47,FALSE)","v":3.1},{"$f":"VLOOKUP(C893,Main!$A$49:$I$67,Main!$I$47,FALSE)","v":16.100000000000001},7276]
["TX","CORPUS CHRISTI INTL ARPT [UT]","2A",826,1656,45.6,82.2,0.10929999999999999,"27.774N",38.299999999999997,58.1,61.5,66.7,73,78.5,82.9,84.1,85.1,81.400000000000006,74.8,65.900000000000006,59.4,29,16,3,0,0,0,0,0,0,0,5,25,279,337,522,689,884,988,1058,1087,941,771,481,317,45.9,48.92,56.8,63.86,68,74.84,74.3,73.94,71.099999999999994,59.2,59.2,47.1,"NR",0.3312403312403312,52,22,9,14,{"$f":"IF(OR(C894=\"OA\",C894=\"OB\",C894=\"1B\",C894=\"1A\",C894=\"2A\",C894=\"2B\",C894=\"3A\",C894=\"3B\",C894=\"3C\"),TAN((LEFT(I894, 5)+VLOOKUP(C894,Main!$K$3:$L$21,2,FALSE))*PI()/180),IF(Checklist!$I$385=\"No\",TAN((LEFT(I894, 5)+VLOOKUP(C894,Main!$K$3:$L$21,2,FALSE))*PI()/180),\"NR\"))","v":0.52657122344431306},{"$f":"VLOOKUP(C894,Main!$A$49:$I$67,Main!$B$47,FALSE)","v":0.6},{"$f":"VLOOKUP(C894,Main!$A$49:$I$67,Main!$C$47,FALSE)","v":0.25},{"$f":"VLOOKUP(C894,Main!$A$49:$I$67,Main!$E$47,FALSE)&\":\"&\" \"&VLOOKUP(C894,Main!$A$49:$I$67,Main!$F$47,FALSE)","v":"Minimum HSPF:: 9.6"},{"$f":"VLOOKUP(C894,Main!$A$49:$I$67,Main!$G$47,FALSE)","v":18},{"$f":"VLOOKUP(C894,Main!$A$49:$I$67,Main!$H$47,FALSE)","v":3.1},{"$f":"VLOOKUP(C894,Main!$A$49:$I$67,Main!$I$47,FALSE)","v":16.100000000000001},8354]
["TX","CORPUS CHRISTI NAS","2A",705,1658,50.25,83.1,0.10929999999999999,"27.683N",41.5,58.8,62,67.099999999999994,73.099999999999994,78.8,83.8,84.7,85.3,82.2,76.099999999999994,67.3,60.4,23,13,3,0,0,0,0,0,0,0,3,17,296,348,531,694,892,1014,1075,1094,965,811,522,339,53.8,57.74,62.8,60.62,70.900000000000006,74.3,76.819999999999993,75.2,75.400000000000006,63.5,63.5,50.4,"NR",0.37123916369199383,51,22,9,14,{"$f":"IF(OR(C895=\"OA\",C895=\"OB\",C895=\"1B\",C895=\"1A\",C895=\"2A\",C895=\"2B\",C895=\"3A\",C895=\"3B\",C895=\"3C\"),TAN((LEFT(I895, 5)+VLOOKUP(C895,Main!$K$3:$L$21,2,FALSE))*PI()/180),IF(Checklist!$I$385=\"No\",TAN((LEFT(I895, 5)+VLOOKUP(C895,Main!$K$3:$L$21,2,FALSE))*PI()/180),\"NR\"))","v":0.5245665375258286},{"$f":"VLOOKUP(C895,Main!$A$49:$I$67,Main!$B$47,FALSE)","v":0.6},{"$f":"VLOOKUP(C895,Main!$A$49:$I$67,Main!$C$47,FALSE)","v":0.25},{"$f":"VLOOKUP(C895,Main!$A$49:$I$67,Main!$E$47,FALSE)&\":\"&\" \"&VLOOKUP(C895,Main!$A$49:$I$67,Main!$F$47,FALSE)","v":"Minimum HSPF:: 9.6"},{"$f":"VLOOKUP(C895,Main!$A$49:$I$67,Main!$G$47,FALSE)","v":18},{"$f":"VLOOKUP(C895,Main!$A$49:$I$67,Main!$H$47,FALSE)","v":3.1},{"$f":"VLOOKUP(C895,Main!$A$49:$I$67,Main!$I$47,FALSE)","v":16.100000000000001},8581]
["TX","COTULLA FAA AP","2B",1044,1787,51.8,88.7,0.10929999999999999,"28.457N",35.4,55.7,59.6,66.5,74.099999999999994,80.2,85.7,85.6,87.2,81.5,74.3,64.400000000000006,56.2,42,24,3,0,0,0,0,0,0,0,6,41,217,291,515,725,937,1071,1103,1152,944,753,438,233,48.4,51.8,57.6,50.54,66.400000000000006,69.08,72.319999999999993,69.62,67.5,48.2,48.2,36.9,"NR",0.30177416680484159,53,23,12,17,{"$f":"IF(OR(C896=\"OA\",C896=\"OB\",C896=\"1B\",C896=\"1A\",C896=\"2A\",C896=\"2B\",C896=\"3A\",C896=\"3B\",C896=\"3C\"),TAN((LEFT(I896, 5)+VLOOKUP(C896,Main!$K$3:$L$21,2,FALSE))*PI()/180),IF(Checklist!$I$385=\"No\",TAN((LEFT(I896, 5)+VLOOKUP(C896,Main!$K$3:$L$21,2,FALSE))*PI()/180),\"NR\"))","v":0.54182630754235273},{"$f":"VLOOKUP(C896,Main!$A$49:$I$67,Main!$B$47,FALSE)","v":0.6},{"$f":"VLOOKUP(C896,Main!$A$49:$I$67,Main!$C$47,FALSE)","v":0.25},{"$f":"VLOOKUP(C896,Main!$A$49:$I$67,Main!$E$47,FALSE)&\":\"&\" \"&VLOOKUP(C896,Main!$A$49:$I$67,Main!$F$47,FALSE)","v":"Minimum HSPF:: 9.6"},{"$f":"VLOOKUP(C896,Main!$A$49:$I$67,Main!$G$47,FALSE)","v":18},{"$f":"VLOOKUP(C896,Main!$A$49:$I$67,Main!$H$47,FALSE)","v":3.1},{"$f":"VLOOKUP(C896,Main!$A$49:$I$67,Main!$I$47,FALSE)","v":16.100000000000001},8379]
["TX","COX FLD","3A",2665,1695,25.6,83.3,0.10929999999999999,"33.633N",25.1,44,47.7,55.5,63.3,71.3,79.2,82.5,83.4,75.599999999999994,64.900000000000006,53.7,45.4,239,151,50,5,0,0,0,0,0,3,62,206,54,87,220,403,659,875,1006,1035,769,466,173,63,30.6,31.1,32.700000000000003,44.6,57.7,67.459999999999994,68.72,65.84,60.1,36.5,36.5,30.9,0.66666666666666663,0.2293202293202293,58,28,13,18,{"$f":"IF(OR(C897=\"OA\",C897=\"OB\",C897=\"1B\",C897=\"1A\",C897=\"2A\",C897=\"2B\",C897=\"3A\",C897=\"3B\",C897=\"3C\"),TAN((LEFT(I897, 5)+VLOOKUP(C897,Main!$K$3:$L$21,2,FALSE))*PI()/180),IF(Checklist!$I$385=\"No\",TAN((LEFT(I897, 5)+VLOOKUP(C897,Main!$K$3:$L$21,2,FALSE))*PI()/180),\"NR\"))","v":0.66515340272272305},{"$f":"VLOOKUP(C897,Main!$A$49:$I$67,Main!$B$47,FALSE)","v":0.6},{"$f":"VLOOKUP(C897,Main!$A$49:$I$67,Main!$C$47,FALSE)","v":0.25},{"$f":"VLOOKUP(C897,Main!$A$49:$I$67,Main!$E$47,FALSE)&\":\"&\" \"&VLOOKUP(C897,Main!$A$49:$I$67,Main!$F$47,FALSE)","v":"Minimum HSPF:: 9.6"},{"$f":"VLOOKUP(C897,Main!$A$49:$I$67,Main!$G$47,FALSE)","v":18},{"$f":"VLOOKUP(C897,Main!$A$49:$I$67,Main!$H$47,FALSE)","v":3.1},{"$f":"VLOOKUP(C897,Main!$A$49:$I$67,Main!$I$47,FALSE)","v":16.100000000000001},5810]
["TX","DALHART MUNICIPAL AP","4B",4492,1785,28.7,80.099999999999994,0.10929999999999999,"36.017N",13.4,35.700000000000003,38.9,46.5,54.7,64.5,74.3,77.5,76.099999999999994,68.599999999999994,56.5,44.5,35.5,445,321,175,49,5,0,0,0,1,36,209,454,3,11,66,191,455,730,851,810,560,238,43,5,22.1,17.239999999999998,17.8,32.9,40.1,55.58,57.38,55.76,49.8,25.5,25.5,21.7,0.75384615384615383,0.18018018018018014,64,33,16,21,{"$f":"IF(OR(C898=\"OA\",C898=\"OB\",C898=\"1B\",C898=\"1A\",C898=\"2A\",C898=\"2B\",C898=\"3A\",C898=\"3B\",C898=\"3C\"),TAN((LEFT(I898, 5)+VLOOKUP(C898,Main!$K$3:$L$21,2,FALSE))*PI()/180),IF(Checklist!$I$385=\"No\",TAN((LEFT(I898, 5)+VLOOKUP(C898,Main!$K$3:$L$21,2,FALSE))*PI()/180),\"NR\"))","v":"NR"},{"$f":"VLOOKUP(C898,Main!$A$49:$I$67,Main!$B$47,FALSE)","v":"NR"},{"$f":"VLOOKUP(C898,Main!$A$49:$I$67,Main!$C$47,FALSE)","v":0.25},{"$f":"VLOOKUP(C898,Main!$A$49:$I$67,Main!$E$47,FALSE)&\":\"&\" \"&VLOOKUP(C898,Main!$A$49:$I$67,Main!$F$47,FALSE)","v":"Minimum HSPF:: 9.6"},{"$f":"VLOOKUP(C898,Main!$A$49:$I$67,Main!$G$47,FALSE)","v":18},{"$f":"VLOOKUP(C898,Main!$A$49:$I$67,Main!$H$47,FALSE)","v":3.1},{"$f":"VLOOKUP(C898,Main!$A$49:$I$67,Main!$I$47,FALSE)","v":16.100000000000001},3963]
["TX","DALLAS-FORT WORTH INTL AP","2A",2161,1786,37.049999999999997,88,0.10929999999999999,"32.898N",27.6,47,51,58.1,66.099999999999994,74.400000000000006,82.2,85.8,86.1,78.7,68.099999999999994,56.8,48.2,172,100,33,2,0,0,0,0,0,2,40,150,80,127,286,484,757,967,1110,1118,862,563,244,93,30.7,35.6,45.9,54.32,62.4,64.760000000000005,70.7,70.34,62.8,45.3,45.3,28.6,0.61904761904761907,0.2435108375702435,56,26,13,18,{"$f":"IF(OR(C899=\"OA\",C899=\"OB\",C899=\"1B\",C899=\"1A\",C899=\"2A\",C899=\"2B\",C899=\"3A\",C899=\"3B\",C899=\"3C\"),TAN((LEFT(I899, 5)+VLOOKUP(C899,Main!$K$3:$L$21,2,FALSE))*PI()/180),IF(Checklist!$I$385=\"No\",TAN((LEFT(I899, 5)+VLOOKUP(C899,Main!$K$3:$L$21,2,FALSE))*PI()/180),\"NR\"))","v":0.64668146263472015},{"$f":"VLOOKUP(C899,Main!$A$49:$I$67,Main!$B$47,FALSE)","v":0.6},{"$f":"VLOOKUP(C899,Main!$A$49:$I$67,Main!$C$47,FALSE)","v":0.25},{"$f":"VLOOKUP(C899,Main!$A$49:$I$67,Main!$E$47,FALSE)&\":\"&\" \"&VLOOKUP(C899,Main!$A$49:$I$67,Main!$F$47,FALSE)","v":"Minimum HSPF:: 9.6"},{"$f":"VLOOKUP(C899,Main!$A$49:$I$67,Main!$G$47,FALSE)","v":18},{"$f":"VLOOKUP(C899,Main!$A$49:$I$67,Main!$H$47,FALSE)","v":3.1},{"$f":"VLOOKUP(C899,Main!$A$49:$I$67,Main!$I$47,FALSE)","v":16.100000000000001},6691]
["TX","DALLAS/ADDISON ARPT","2A",2031,1733,25.9,94.1,0.10929999999999999,"32.852N",28.7,47.9,51.8,59,67,75.099999999999994,82.9,86.6,86.9,79.400000000000006,68.8,57.4,48.9,156,90,29,1,0,0,0,0,0,2,35,136,92,141,307,510,778,986,1133,1143,883,583,257,102,29.5,31.28,32.9,45.5,56.1,68.36,68.72,67.819999999999993,55.8,40.299999999999997,40.299999999999997,30.9,0.60199004975124382,0.25032666254040298,56,26,14,19,{"$f":"IF(OR(C900=\"OA\",C900=\"OB\",C900=\"1B\",C900=\"1A\",C900=\"2A\",C900=\"2B\",C900=\"3A\",C900=\"3B\",C900=\"3C\"),TAN((LEFT(I900, 5)+VLOOKUP(C900,Main!$K$3:$L$21,2,FALSE))*PI()/180),IF(Checklist!$I$385=\"No\",TAN((LEFT(I900, 5)+VLOOKUP(C900,Main!$K$3:$L$21,2,FALSE))*PI()/180),\"NR\"))","v":0.64569182104255407},{"$f":"VLOOKUP(C900,Main!$A$49:$I$67,Main!$B$47,FALSE)","v":0.6},{"$f":"VLOOKUP(C900,Main!$A$49:$I$67,Main!$C$47,FALSE)","v":0.25},{"$f":"VLOOKUP(C900,Main!$A$49:$I$67,Main!$E$47,FALSE)&\":\"&\" \"&VLOOKUP(C900,Main!$A$49:$I$67,Main!$F$47,FALSE)","v":"Minimum HSPF:: 9.6"},{"$f":"VLOOKUP(C900,Main!$A$49:$I$67,Main!$G$47,FALSE)","v":18},{"$f":"VLOOKUP(C900,Main!$A$49:$I$67,Main!$H$47,FALSE)","v":3.1},{"$f":"VLOOKUP(C900,Main!$A$49:$I$67,Main!$I$47,FALSE)","v":16.100000000000001},6915]
["TX","DALLAS/REDBIRD ARPT","2A",2112,1742,29.4,90,0.10929999999999999,"32.681N",28,48,50.7,58.2,66.3,74.099999999999994,81.7,85.4,86.4,78.7,68.099999999999994,57.4,48.4,158,109,31,2,0,0,0,0,0,0,36,148,97,127,285,491,747,951,1097,1127,861,560,257,100,35.799999999999997,31.82,48.7,57.56,64.599999999999994,67.099999999999994,68.540000000000006,64.400000000000006,63,38.799999999999997,38.799999999999997,35.1,0.6,0.2459459459459459,56,26,13,18,{"$f":"IF(OR(C901=\"OA\",C901=\"OB\",C901=\"1B\",C901=\"1A\",C901=\"2A\",C901=\"2B\",C901=\"3A\",C901=\"3B\",C901=\"3C\"),TAN((LEFT(I901, 5)+VLOOKUP(C901,Main!$K$3:$L$21,2,FALSE))*PI()/180),IF(Checklist!$I$385=\"No\",TAN((LEFT(I901, 5)+VLOOKUP(C901,Main!$K$3:$L$21,2,FALSE))*PI()/180),\"NR\"))","v":0.64149576743292902},{"$f":"VLOOKUP(C901,Main!$A$49:$I$67,Main!$B$47,FALSE)","v":0.6},{"$f":"VLOOKUP(C901,Main!$A$49:$I$67,Main!$C$47,FALSE)","v":0.25},{"$f":"VLOOKUP(C901,Main!$A$49:$I$67,Main!$E$47,FALSE)&\":\"&\" \"&VLOOKUP(C901,Main!$A$49:$I$67,Main!$F$47,FALSE)","v":"Minimum HSPF:: 9.6"},{"$f":"VLOOKUP(C901,Main!$A$49:$I$67,Main!$G$47,FALSE)","v":18},{"$f":"VLOOKUP(C901,Main!$A$49:$I$67,Main!$H$47,FALSE)","v":3.1},{"$f":"VLOOKUP(C901,Main!$A$49:$I$67,Main!$I$47,FALSE)","v":16.100000000000001},6700]
["TX","DEL RIO [UT]","2B",1269,1688,49.2,85.5,0.10929999999999999,"29.378N",34.6,53.2,57.9,65.2,72.7,79.5,85.2,86.3,86.7,80.7,72.2,60.9,53.3,55,26,6,0,0,0,0,0,0,1,12,50,155,248,476,680,914,1055,1126,1137,922,689,337,152,42.1,47.3,34.299999999999997,51.44,64.900000000000006,66.2,68,67.28,61.7,49.3,49.3,38.5,"NR",0.29454604304903709,{"$f":"ROUNDDOWN((33.97238548+(2.143484655*3.14219615)+(0.00253108806*D902)+(-0.2767683543*J902)+(66.9384076*H902)+((3.14219615-3.14219615)^2*-1.607593659)+((J902-12.48681818)*(H902-0.2016890909)*-1.8168457)+8.4234),0)","v":53},{"$f":"ROUNDDOWN((2.975122788+(0.003896731237*D902)+(59.88697433*H902)+((D902-5520.854545)*(H902-0.2016890909)*0.01119327314)+5.3792),0)","v":24},11,{"$f":"ROUNDDOWN(BK902+5.9089,0)","v":16},{"$f":"IF(OR(C902=\"OA\",C902=\"OB\",C902=\"1B\",C902=\"1A\",C902=\"2A\",C902=\"2B\",C902=\"3A\",C902=\"3B\",C902=\"3C\"),TAN((LEFT(I902, 5)+VLOOKUP(C902,Main!$K$3:$L$21,2,FALSE))*PI()/180),IF(Checklist!$I$385=\"No\",TAN((LEFT(I902, 5)+VLOOKUP(C902,Main!$K$3:$L$21,2,FALSE))*PI()/180),\"NR\"))","v":0.56278140382555086},{"$f":"VLOOKUP(C902,Main!$A$49:$I$67,Main!$B$47,FALSE)","v":0.6},{"$f":"VLOOKUP(C902,Main!$A$49:$I$67,Main!$C$47,FALSE)","v":0.25},{"$f":"VLOOKUP(C902,Main!$A$49:$I$67,Main!$E$47,FALSE)&\":\"&\" \"&VLOOKUP(C902,Main!$A$49:$I$67,Main!$F$47,FALSE)","v":"Minimum HSPF:: 9.6"},{"$f":"VLOOKUP(C902,Main!$A$49:$I$67,Main!$G$47,FALSE)","v":18},{"$f":"VLOOKUP(C902,Main!$A$49:$I$67,Main!$H$47,FALSE)","v":3.1},{"$f":"VLOOKUP(C902,Main!$A$49:$I$67,Main!$I$47,FALSE)","v":16.100000000000001},7891]
["TX","DEL RIO LAUGHLIN AFB","2B",1179,1674,50.45,92.1,0.10929999999999999,"29.367N",34.299999999999997,54,59.5,65.7,73.099999999999994,80.099999999999994,85.9,86.9,87.4,81.2,72.599999999999994,61.5,54.5,52,22,5,0,0,0,0,0,0,1,13,45,176,287,493,693,935,1076,1143,1158,936,703,359,186,41.7,41.72,55.2,57.2,61.9,68.36,65.84,69.08,65.099999999999994,49.1,49.1,43.2,"NR",0.29192397144919396,53,23,13,18,{"$f":"IF(OR(C903=\"OA\",C903=\"OB\",C903=\"1B\",C903=\"1A\",C903=\"2A\",C903=\"2B\",C903=\"3A\",C903=\"3B\",C903=\"3C\"),TAN((LEFT(I903, 5)+VLOOKUP(C903,Main!$K$3:$L$21,2,FALSE))*PI()/180),IF(Checklist!$I$385=\"No\",TAN((LEFT(I903, 5)+VLOOKUP(C903,Main!$K$3:$L$21,2,FALSE))*PI()/180),\"NR\"))","v":0.56255161489308303},{"$f":"VLOOKUP(C903,Main!$A$49:$I$67,Main!$B$47,FALSE)","v":0.6},{"$f":"VLOOKUP(C903,Main!$A$49:$I$67,Main!$C$47,FALSE)","v":0.25},{"$f":"VLOOKUP(C903,Main!$A$49:$I$67,Main!$E$47,FALSE)&\":\"&\" \"&VLOOKUP(C903,Main!$A$49:$I$67,Main!$F$47,FALSE)","v":"Minimum HSPF:: 9.6"},{"$f":"VLOOKUP(C903,Main!$A$49:$I$67,Main!$G$47,FALSE)","v":18},{"$f":"VLOOKUP(C903,Main!$A$49:$I$67,Main!$H$47,FALSE)","v":3.1},{"$f":"VLOOKUP(C903,Main!$A$49:$I$67,Main!$I$47,FALSE)","v":16.100000000000001},8145]
["TX","DRAUGHON MILLER CEN","2A",1978,1720,30.8,84,0.10929999999999999,"31.150N",28,48.8,52.1,58.9,67.099999999999994,74.5,81.3,83.9,84.4,78.099999999999994,68.599999999999994,57.5,49.8,139,82,28,2,0,0,0,0,0,1,34,122,102,142,304,513,760,938,1051,1067,844,577,259,116,34.5,34.159999999999997,35.200000000000003,45.68,66.7,69.8,69.260000000000005,67.099999999999994,58.6,45.5,45.5,38.5,0.6,0.2459459459459459,56,26,12,17,{"$f":"IF(OR(C904=\"OA\",C904=\"OB\",C904=\"1B\",C904=\"1A\",C904=\"2A\",C904=\"2B\",C904=\"3A\",C904=\"3B\",C904=\"3C\"),TAN((LEFT(I904, 5)+VLOOKUP(C904,Main!$K$3:$L$21,2,FALSE))*PI()/180),IF(Checklist!$I$385=\"No\",TAN((LEFT(I904, 5)+VLOOKUP(C904,Main!$K$3:$L$21,2,FALSE))*PI()/180),\"NR\"))","v":0.60442941840629261},{"$f":"VLOOKUP(C904,Main!$A$49:$I$67,Main!$B$47,FALSE)","v":0.6},{"$f":"VLOOKUP(C904,Main!$A$49:$I$67,Main!$C$47,FALSE)","v":0.25},{"$f":"VLOOKUP(C904,Main!$A$49:$I$67,Main!$E$47,FALSE)&\":\"&\" \"&VLOOKUP(C904,Main!$A$49:$I$67,Main!$F$47,FALSE)","v":"Minimum HSPF:: 9.6"},{"$f":"VLOOKUP(C904,Main!$A$49:$I$67,Main!$G$47,FALSE)","v":18},{"$f":"VLOOKUP(C904,Main!$A$49:$I$67,Main!$H$47,FALSE)","v":3.1},{"$f":"VLOOKUP(C904,Main!$A$49:$I$67,Main!$I$47,FALSE)","v":16.100000000000001},6673]
["TX","EL PASO INTERNATIONAL AP [UT]","3B",2300,2065,43.6,85.5,0.10929999999999999,"31.811N",28.4,46.3,50.9,57.9,66,75.099999999999994,83.5,83.3,81.7,76,66.099999999999994,53.7,45.7,148,66,17,2,0,0,0,0,0,3,45,168,34,91,263,483,779,1005,1033,981,780,503,157,36,26.6,23.72,22.1,27.14,36.700000000000003,42.62,58.28,53.6,52.2,29.3,29.3,23.4,0.64125560538116588,0.24843024843024838,57,27,{"$f":"ROUNDDOWN(-18.64576148+(5.900367721*3.14219615)+(0.002662134083*D905)+(38.92365332*H905)+((BT905-3890.577273)*(G905-78.59)*0.00005765875867)+((D905-5520.854545)*(H905-0.2016890909)*0.006047043516),0)","v":12},17,{"$f":"IF(OR(C905=\"OA\",C905=\"OB\",C905=\"1B\",C905=\"1A\",C905=\"2A\",C905=\"2B\",C905=\"3A\",C905=\"3B\",C905=\"3C\"),TAN((LEFT(I905, 5)+VLOOKUP(C905,Main!$K$3:$L$21,2,FALSE))*PI()/180),IF(Checklist!$I$385=\"No\",TAN((LEFT(I905, 5)+VLOOKUP(C905,Main!$K$3:$L$21,2,FALSE))*PI()/180),\"NR\"))","v":0.62026792423618593},{"$f":"VLOOKUP(C905,Main!$A$49:$I$67,Main!$B$47,FALSE)","v":"NR"},{"$f":"VLOOKUP(C905,Main!$A$49:$I$67,Main!$C$47,FALSE)","v":0.25},{"$f":"VLOOKUP(C905,Main!$A$49:$I$67,Main!$E$47,FALSE)&\":\"&\" \"&VLOOKUP(C905,Main!$A$49:$I$67,Main!$F$47,FALSE)","v":"Minimum HSPF:: 9.6"},{"$f":"VLOOKUP(C905,Main!$A$49:$I$67,Main!$G$47,FALSE)","v":18},{"$f":"VLOOKUP(C905,Main!$A$49:$I$67,Main!$H$47,FALSE)","v":3.1},{"$f":"VLOOKUP(C905,Main!$A$49:$I$67,Main!$I$47,FALSE)","v":16.100000000000001},6145]
["TX","FORT HOOD","2A",1720,1782,40.049999999999997,85.3,0.10929999999999999,"31.133N",30.8,49.9,54.4,61.2,68.2,75.3,83.5,85.1,86.5,79.8,70.2,59.4,52,121,67,21,2,0,0,0,0,0,2,28,92,118,189,367,548,785,1004,1090,1132,894,630,309,154,34.200000000000003,39.92,38.1,47.84,61.5,69.08,68.540000000000006,67.64,58.3,42.6,42.6,33.799999999999997,0.6,0.26445800639349021,55,25,12,17,{"$f":"IF(OR(C906=\"OA\",C906=\"OB\",C906=\"1B\",C906=\"1A\",C906=\"2A\",C906=\"2B\",C906=\"3A\",C906=\"3B\",C906=\"3C\"),TAN((LEFT(I906, 5)+VLOOKUP(C906,Main!$K$3:$L$21,2,FALSE))*PI()/180),IF(Checklist!$I$385=\"No\",TAN((LEFT(I906, 5)+VLOOKUP(C906,Main!$K$3:$L$21,2,FALSE))*PI()/180),\"NR\"))","v":0.60395292712420212},{"$f":"VLOOKUP(C906,Main!$A$49:$I$67,Main!$B$47,FALSE)","v":0.6},{"$f":"VLOOKUP(C906,Main!$A$49:$I$67,Main!$C$47,FALSE)","v":0.25},{"$f":"VLOOKUP(C906,Main!$A$49:$I$67,Main!$E$47,FALSE)&\":\"&\" \"&VLOOKUP(C906,Main!$A$49:$I$67,Main!$F$47,FALSE)","v":"Minimum HSPF:: 9.6"},{"$f":"VLOOKUP(C906,Main!$A$49:$I$67,Main!$G$47,FALSE)","v":18},{"$f":"VLOOKUP(C906,Main!$A$49:$I$67,Main!$H$47,FALSE)","v":3.1},{"$f":"VLOOKUP(C906,Main!$A$49:$I$67,Main!$I$47,FALSE)","v":16.100000000000001},7220]
["TX","FORT WORTH ALLIANCE","2A",2397,1660,35.4,85.1,0.10929999999999999,"32.973N",25.4,45.8,49.3,57.1,64.900000000000006,73.2,81.599999999999994,85.4,85.6,77.5,66.8,55.6,46.6,202,123,42,4,0,0,0,0,0,3,50,182,72,104,262,451,718,947,1096,1105,825,523,218,77,34.200000000000003,34.880000000000003,41.9,48.2,62.6,70.16,67.64,68.72,62.8,39.200000000000003,39.200000000000003,27.1,0.63963963963963966,0.23093516051262528,57,27,13,18,{"$f":"IF(OR(C907=\"OA\",C907=\"OB\",C907=\"1B\",C907=\"1A\",C907=\"2A\",C907=\"2B\",C907=\"3A\",C907=\"3B\",C907=\"3C\"),TAN((LEFT(I907, 5)+VLOOKUP(C907,Main!$K$3:$L$21,2,FALSE))*PI()/180),IF(Checklist!$I$385=\"No\",TAN((LEFT(I907, 5)+VLOOKUP(C907,Main!$K$3:$L$21,2,FALSE))*PI()/180),\"NR\"))","v":0.6486634299630768},{"$f":"VLOOKUP(C907,Main!$A$49:$I$67,Main!$B$47,FALSE)","v":0.6},{"$f":"VLOOKUP(C907,Main!$A$49:$I$67,Main!$C$47,FALSE)","v":0.25},{"$f":"VLOOKUP(C907,Main!$A$49:$I$67,Main!$E$47,FALSE)&\":\"&\" \"&VLOOKUP(C907,Main!$A$49:$I$67,Main!$F$47,FALSE)","v":"Minimum HSPF:: 9.6"},{"$f":"VLOOKUP(C907,Main!$A$49:$I$67,Main!$G$47,FALSE)","v":18},{"$f":"VLOOKUP(C907,Main!$A$49:$I$67,Main!$H$47,FALSE)","v":3.1},{"$f":"VLOOKUP(C907,Main!$A$49:$I$67,Main!$I$47,FALSE)","v":16.100000000000001},6398]
["TX","FORT WORTH MEACHAM","2A",2241,1636,38.9,88.2,0.10929999999999999,"32.819N",26.8,46.7,50.5,57.5,65.5,73.8,81.8,85.4,85.6,78,67.5,56.4,47.8,182,108,39,3,0,0,0,0,0,3,43,158,80,123,272,468,737,955,1097,1105,839,545,234,90,34.200000000000003,41.9,42.8,48.92,65.099999999999994,69.08,69.08,67.64,63,41.7,41.7,34.700000000000003,0.62441314553990601,0.23878247179218048,57,27,13,18,{"$f":"IF(OR(C908=\"OA\",C908=\"OB\",C908=\"1B\",C908=\"1A\",C908=\"2A\",C908=\"2B\",C908=\"3A\",C908=\"3B\",C908=\"3C\"),TAN((LEFT(I908, 5)+VLOOKUP(C908,Main!$K$3:$L$21,2,FALSE))*PI()/180),IF(Checklist!$I$385=\"No\",TAN((LEFT(I908, 5)+VLOOKUP(C908,Main!$K$3:$L$21,2,FALSE))*PI()/180),\"NR\"))","v":0.64470307126569726},{"$f":"VLOOKUP(C908,Main!$A$49:$I$67,Main!$B$47,FALSE)","v":0.6},{"$f":"VLOOKUP(C908,Main!$A$49:$I$67,Main!$C$47,FALSE)","v":0.25},{"$f":"VLOOKUP(C908,Main!$A$49:$I$67,Main!$E$47,FALSE)&\":\"&\" \"&VLOOKUP(C908,Main!$A$49:$I$67,Main!$F$47,FALSE)","v":"Minimum HSPF:: 9.6"},{"$f":"VLOOKUP(C908,Main!$A$49:$I$67,Main!$G$47,FALSE)","v":18},{"$f":"VLOOKUP(C908,Main!$A$49:$I$67,Main!$H$47,FALSE)","v":3.1},{"$f":"VLOOKUP(C908,Main!$A$49:$I$67,Main!$I$47,FALSE)","v":16.100000000000001},6545]
["TX","FORT WORTH NAS","2A",2092,1732,39,85.3,0.10929999999999999,"32.767N",28.1,47.4,51.7,58.9,66.3,75.099999999999994,82.9,86.3,86.1,79.400000000000006,68.400000000000006,57.3,48.4,162,89,35,3,0,0,0,0,0,2,39,146,83,136,310,493,777,988,1125,1120,882,572,256,95,33.1,43.34,47.5,53.6,61,66.02,67.099999999999994,68.36,63.3,38.299999999999997,38.299999999999997,27.9,0.61165048543689327,0.2465623518255097,56,26,12,17,{"$f":"IF(OR(C909=\"OA\",C909=\"OB\",C909=\"1B\",C909=\"1A\",C909=\"2A\",C909=\"2B\",C909=\"3A\",C909=\"3B\",C909=\"3C\"),TAN((LEFT(I909, 5)+VLOOKUP(C909,Main!$K$3:$L$21,2,FALSE))*PI()/180),IF(Checklist!$I$385=\"No\",TAN((LEFT(I909, 5)+VLOOKUP(C909,Main!$K$3:$L$21,2,FALSE))*PI()/180),\"NR\"))","v":0.6434683848584607},{"$f":"VLOOKUP(C909,Main!$A$49:$I$67,Main!$B$47,FALSE)","v":0.6},{"$f":"VLOOKUP(C909,Main!$A$49:$I$67,Main!$C$47,FALSE)","v":0.25},{"$f":"VLOOKUP(C909,Main!$A$49:$I$67,Main!$E$47,FALSE)&\":\"&\" \"&VLOOKUP(C909,Main!$A$49:$I$67,Main!$F$47,FALSE)","v":"Minimum HSPF:: 9.6"},{"$f":"VLOOKUP(C909,Main!$A$49:$I$67,Main!$G$47,FALSE)","v":18},{"$f":"VLOOKUP(C909,Main!$A$49:$I$67,Main!$H$47,FALSE)","v":3.1},{"$f":"VLOOKUP(C909,Main!$A$49:$I$67,Main!$I$47,FALSE)","v":16.100000000000001},6837]
["TX","GALVESTON/SCHOLES","2A",990,1654,47.1,82.9,0.10929999999999999,"29.273N",39.6,55.6,58.1,64.099999999999994,70.5,77.2,83.3,84.6,85.3,81.7,74.3,64.599999999999994,57.3,40,20,4,0,0,0,0,0,0,0,5,29,213,247,440,614,844,998,1074,1094,952,754,442,255,54.7,55.22,52.7,57.38,69.3,72.5,75.2,75.739999999999995,73.2,53.4,53.4,43,"NR",0.34640274076893796,52,23,10,15,{"$f":"IF(OR(C910=\"OA\",C910=\"OB\",C910=\"1B\",C910=\"1A\",C910=\"2A\",C910=\"2B\",C910=\"3A\",C910=\"3B\",C910=\"3C\"),TAN((LEFT(I910, 5)+VLOOKUP(C910,Main!$K$3:$L$21,2,FALSE))*PI()/180),IF(Checklist!$I$385=\"No\",TAN((LEFT(I910, 5)+VLOOKUP(C910,Main!$K$3:$L$21,2,FALSE))*PI()/180),\"NR\"))","v":0.56048554157048303},{"$f":"VLOOKUP(C910,Main!$A$49:$I$67,Main!$B$47,FALSE)","v":0.6},{"$f":"VLOOKUP(C910,Main!$A$49:$I$67,Main!$C$47,FALSE)","v":0.25},{"$f":"VLOOKUP(C910,Main!$A$49:$I$67,Main!$E$47,FALSE)&\":\"&\" \"&VLOOKUP(C910,Main!$A$49:$I$67,Main!$F$47,FALSE)","v":"Minimum HSPF:: 9.6"},{"$f":"VLOOKUP(C910,Main!$A$49:$I$67,Main!$G$47,FALSE)","v":18},{"$f":"VLOOKUP(C910,Main!$A$49:$I$67,Main!$H$47,FALSE)","v":3.1},{"$f":"VLOOKUP(C910,Main!$A$49:$I$67,Main!$I$47,FALSE)","v":16.100000000000001},7927]
["TX","GEORGETOWN (AWOS)","2A",1948,1782,28.05,84.7,0.10929999999999999,"30.679N",28.3,49.6,52.4,58.5,66.599999999999994,74.5,79.8,83.2,83.7,78,69.2,57.5,50.2,127,79,30,2,0,0,0,0,0,3,33,114,115,147,293,501,761,895,1028,1044,841,599,258,121,30.2,35.06,36.299999999999997,44.78,61.7,67.819999999999993,63.32,66.92,57.9,41.4,41.4,35.4,0.6,0.24780447954251478,56,26,12,17,{"$f":"IF(OR(C911=\"OA\",C911=\"OB\",C911=\"1B\",C911=\"1A\",C911=\"2A\",C911=\"2B\",C911=\"3A\",C911=\"3B\",C911=\"3C\"),TAN((LEFT(I911, 5)+VLOOKUP(C911,Main!$K$3:$L$21,2,FALSE))*PI()/180),IF(Checklist!$I$385=\"No\",TAN((LEFT(I911, 5)+VLOOKUP(C911,Main!$K$3:$L$21,2,FALSE))*PI()/180),\"NR\"))","v":0.59304857772378672},{"$f":"VLOOKUP(C911,Main!$A$49:$I$67,Main!$B$47,FALSE)","v":0.6},{"$f":"VLOOKUP(C911,Main!$A$49:$I$67,Main!$C$47,FALSE)","v":0.25},{"$f":"VLOOKUP(C911,Main!$A$49:$I$67,Main!$E$47,FALSE)&\":\"&\" \"&VLOOKUP(C911,Main!$A$49:$I$67,Main!$F$47,FALSE)","v":"Minimum HSPF:: 9.6"},{"$f":"VLOOKUP(C911,Main!$A$49:$I$67,Main!$G$47,FALSE)","v":18},{"$f":"VLOOKUP(C911,Main!$A$49:$I$67,Main!$H$47,FALSE)","v":3.1},{"$f":"VLOOKUP(C911,Main!$A$49:$I$67,Main!$I$47,FALSE)","v":16.100000000000001},6603]
["TX","HARLINGEN RIO GRANDE VALLEY I","1A",578,1670,54.15,84.2,0.10929999999999999,"26.228N",41.1,61.3,64.7,69.599999999999994,75.400000000000006,80.599999999999994,84.5,85.3,85.7,81.8,76.2,68,62.2,17,8,1,0,0,0,0,0,0,0,2,12,366,419,607,762,950,1035,1096,1107,955,812,542,391,55.8,52.52,58.5,63.5,70.7,73.94,72.14,73.94,71.8,56.5,56.5,58.5,"NR",0.36571887873003112,51,22,10,15,{"$f":"IF(OR(C912=\"OA\",C912=\"OB\",C912=\"1B\",C912=\"1A\",C912=\"2A\",C912=\"2B\",C912=\"3A\",C912=\"3B\",C912=\"3C\"),TAN((LEFT(I912, 5)+VLOOKUP(C912,Main!$K$3:$L$21,2,FALSE))*PI()/180),IF(Checklist!$I$385=\"No\",TAN((LEFT(I912, 5)+VLOOKUP(C912,Main!$K$3:$L$21,2,FALSE))*PI()/180),\"NR\"))","v":0.49249465998201181},{"$f":"VLOOKUP(C912,Main!$A$49:$I$67,Main!$B$47,FALSE)","v":0.6},{"$f":"VLOOKUP(C912,Main!$A$49:$I$67,Main!$C$47,FALSE)","v":0.25},{"$f":"VLOOKUP(C912,Main!$A$49:$I$67,Main!$E$47,FALSE)&\":\"&\" \"&VLOOKUP(C912,Main!$A$49:$I$67,Main!$F$47,FALSE)","v":"Minimum HSPF:: 9.6"},{"$f":"VLOOKUP(C912,Main!$A$49:$I$67,Main!$G$47,FALSE)","v":18},{"$f":"VLOOKUP(C912,Main!$A$49:$I$67,Main!$H$47,FALSE)","v":3.1},{"$f":"VLOOKUP(C912,Main!$A$49:$I$67,Main!$I$47,FALSE)","v":16.100000000000001},9042]
["TX","HONDO MUNICIPAL AP","2B",1518,1669,44.25,82.6,0.10929999999999999,"29.360N",30.6,51.8,56,62.3,69.599999999999994,76.599999999999994,82.4,83.4,84.4,79.099999999999994,70.8,59.8,52.5,77,39,10,0,0,0,0,0,0,1,21,73,132,206,389,588,825,971,1035,1065,872,646,316,150,40.299999999999997,42.8,51.4,57.56,64.599999999999994,70.34,66.739999999999995,69.08,66,49.3,49.3,33.4,0.6,0.26304379245555715,54,24,11,16,{"$f":"IF(OR(C913=\"OA\",C913=\"OB\",C913=\"1B\",C913=\"1A\",C913=\"2A\",C913=\"2B\",C913=\"3A\",C913=\"3B\",C913=\"3C\"),TAN((LEFT(I913, 5)+VLOOKUP(C913,Main!$K$3:$L$21,2,FALSE))*PI()/180),IF(Checklist!$I$385=\"No\",TAN((LEFT(I913, 5)+VLOOKUP(C913,Main!$K$3:$L$21,2,FALSE))*PI()/180),\"NR\"))","v":0.56255161489308303},{"$f":"VLOOKUP(C913,Main!$A$49:$I$67,Main!$B$47,FALSE)","v":0.6},{"$f":"VLOOKUP(C913,Main!$A$49:$I$67,Main!$C$47,FALSE)","v":0.25},{"$f":"VLOOKUP(C913,Main!$A$49:$I$67,Main!$E$47,FALSE)&\":\"&\" \"&VLOOKUP(C913,Main!$A$49:$I$67,Main!$F$47,FALSE)","v":"Minimum HSPF:: 9.6"},{"$f":"VLOOKUP(C913,Main!$A$49:$I$67,Main!$G$47,FALSE)","v":18},{"$f":"VLOOKUP(C913,Main!$A$49:$I$67,Main!$H$47,FALSE)","v":3.1},{"$f":"VLOOKUP(C913,Main!$A$49:$I$67,Main!$I$47,FALSE)","v":16.100000000000001},7195]
["TX","HOUSTON BUSH INTERCONTINENTAL","2A",1340,1630,43.25,84.6,0.10929999999999999,"29.980N",34.1,53.6,57,62.9,69.599999999999994,77,82.4,84,84.4,79.7,71.099999999999994,61.3,54.8,67,35,8,0,0,0,0,0,0,1,14,58,180,230,408,587,836,973,1055,1068,892,656,353,206,41.5,43.52,49.1,59.54,65.8,71.78,72.86,73.22,67.599999999999994,53.8,53.8,43.7,"NR",0.29020170613090968,54,24,11,16,{"$f":"IF(OR(C914=\"OA\",C914=\"OB\",C914=\"1B\",C914=\"1A\",C914=\"2A\",C914=\"2B\",C914=\"3A\",C914=\"3B\",C914=\"3C\"),TAN((LEFT(I914, 5)+VLOOKUP(C914,Main!$K$3:$L$21,2,FALSE))*PI()/180),IF(Checklist!$I$385=\"No\",TAN((LEFT(I914, 5)+VLOOKUP(C914,Main!$K$3:$L$21,2,FALSE))*PI()/180),\"NR\"))","v":0.57688494181580485},{"$f":"VLOOKUP(C914,Main!$A$49:$I$67,Main!$B$47,FALSE)","v":0.6},{"$f":"VLOOKUP(C914,Main!$A$49:$I$67,Main!$C$47,FALSE)","v":0.25},{"$f":"VLOOKUP(C914,Main!$A$49:$I$67,Main!$E$47,FALSE)&\":\"&\" \"&VLOOKUP(C914,Main!$A$49:$I$67,Main!$F$47,FALSE)","v":"Minimum HSPF:: 9.6"},{"$f":"VLOOKUP(C914,Main!$A$49:$I$67,Main!$G$47,FALSE)","v":18},{"$f":"VLOOKUP(C914,Main!$A$49:$I$67,Main!$H$47,FALSE)","v":3.1},{"$f":"VLOOKUP(C914,Main!$A$49:$I$67,Main!$I$47,FALSE)","v":16.100000000000001},7444]
["TX","HOUSTON ELLINGTON AFB [CLEAR LAKE - UT]","2A",1167,1600,38.200000000000003,81.099999999999994,0.10929999999999999,"29.617N",37,55,58.2,63,69.8,77,82.5,84.4,84.4,80.7,72.400000000000006,62.4,56.2,48,20,7,0,0,0,0,0,0,1,11,37,204,249,410,595,836,974,1066,1067,921,694,384,230,42.3,46.04,44.2,56.48,67.3,72.14,72.5,74.48,67.5,55.2,55.2,47.3,"NR",0.31734960767218828,53,23,10,15,{"$f":"IF(OR(C915=\"OA\",C915=\"OB\",C915=\"1B\",C915=\"1A\",C915=\"2A\",C915=\"2B\",C915=\"3A\",C915=\"3B\",C915=\"3C\"),TAN((LEFT(I915, 5)+VLOOKUP(C915,Main!$K$3:$L$21,2,FALSE))*PI()/180),IF(Checklist!$I$385=\"No\",TAN((LEFT(I915, 5)+VLOOKUP(C915,Main!$K$3:$L$21,2,FALSE))*PI()/180),\"NR\"))","v":0.56830994501663912},{"$f":"VLOOKUP(C915,Main!$A$49:$I$67,Main!$B$47,FALSE)","v":0.6},{"$f":"VLOOKUP(C915,Main!$A$49:$I$67,Main!$C$47,FALSE)","v":0.25},{"$f":"VLOOKUP(C915,Main!$A$49:$I$67,Main!$E$47,FALSE)&\":\"&\" \"&VLOOKUP(C915,Main!$A$49:$I$67,Main!$F$47,FALSE)","v":"Minimum HSPF:: 9.6"},{"$f":"VLOOKUP(C915,Main!$A$49:$I$67,Main!$G$47,FALSE)","v":18},{"$f":"VLOOKUP(C915,Main!$A$49:$I$67,Main!$H$47,FALSE)","v":3.1},{"$f":"VLOOKUP(C915,Main!$A$49:$I$67,Main!$I$47,FALSE)","v":16.100000000000001},7630]
["TX","HOUSTON WILLIAM P HOBBY AP","2A",1139,1567,55.05,82.6,0.10929999999999999,"29.638N",36.700000000000003,55.2,58.3,63.8,70.2,77.2,82.6,84,84.5,80.5,72.3,62.7,56.4,50,26,6,0,0,0,0,0,0,1,10,42,210,260,434,606,845,979,1054,1070,914,691,390,240,54.7,52.52,54.9,55.04,66.599999999999994,74.12,73.400000000000006,71.78,66.400000000000006,52,52,45.3,"NR",0.31430791814178394,53,23,10,15,{"$f":"IF(OR(C916=\"OA\",C916=\"OB\",C916=\"1B\",C916=\"1A\",C916=\"2A\",C916=\"2B\",C916=\"3A\",C916=\"3B\",C916=\"3C\"),TAN((LEFT(I916, 5)+VLOOKUP(C916,Main!$K$3:$L$21,2,FALSE))*PI()/180),IF(Checklist!$I$385=\"No\",TAN((LEFT(I916, 5)+VLOOKUP(C916,Main!$K$3:$L$21,2,FALSE))*PI()/180),\"NR\"))","v":0.56877184247558399},{"$f":"VLOOKUP(C916,Main!$A$49:$I$67,Main!$B$47,FALSE)","v":0.6},{"$f":"VLOOKUP(C916,Main!$A$49:$I$67,Main!$C$47,FALSE)","v":0.25},{"$f":"VLOOKUP(C916,Main!$A$49:$I$67,Main!$E$47,FALSE)&\":\"&\" \"&VLOOKUP(C916,Main!$A$49:$I$67,Main!$F$47,FALSE)","v":"Minimum HSPF:: 9.6"},{"$f":"VLOOKUP(C916,Main!$A$49:$I$67,Main!$G$47,FALSE)","v":18},{"$f":"VLOOKUP(C916,Main!$A$49:$I$67,Main!$H$47,FALSE)","v":3.1},{"$f":"VLOOKUP(C916,Main!$A$49:$I$67,Main!$I$47,FALSE)","v":16.100000000000001},7693]
["TX","HOUSTON/D.W. HOOKS","2A",1458,1556,42.55,82.4,0.10929999999999999,"30.068N",32.9,53,56,62.3,69.400000000000006,76.400000000000006,82,83.3,84.1,79.5,70.3,60.8,53.4,79,46,10,1,0,0,0,0,0,0,13,71,173,214,390,581,820,960,1031,1059,885,628,336,177,44.8,50.36,53.2,64.760000000000005,66.599999999999994,71.959999999999994,73.400000000000006,70.88,68,48.2,48.2,43.9,"NR",0.28028028028028024,54,24,11,16,{"$f":"IF(OR(C917=\"OA\",C917=\"OB\",C917=\"1B\",C917=\"1A\",C917=\"2A\",C917=\"2B\",C917=\"3A\",C917=\"3B\",C917=\"3C\"),TAN((LEFT(I917, 5)+VLOOKUP(C917,Main!$K$3:$L$21,2,FALSE))*PI()/180),IF(Checklist!$I$385=\"No\",TAN((LEFT(I917, 5)+VLOOKUP(C917,Main!$K$3:$L$21,2,FALSE))*PI()/180),\"NR\"))","v":0.57874737779348739},{"$f":"VLOOKUP(C917,Main!$A$49:$I$67,Main!$B$47,FALSE)","v":0.6},{"$f":"VLOOKUP(C917,Main!$A$49:$I$67,Main!$C$47,FALSE)","v":0.25},{"$f":"VLOOKUP(C917,Main!$A$49:$I$67,Main!$E$47,FALSE)&\":\"&\" \"&VLOOKUP(C917,Main!$A$49:$I$67,Main!$F$47,FALSE)","v":"Minimum HSPF:: 9.6"},{"$f":"VLOOKUP(C917,Main!$A$49:$I$67,Main!$G$47,FALSE)","v":18},{"$f":"VLOOKUP(C917,Main!$A$49:$I$67,Main!$H$47,FALSE)","v":3.1},{"$f":"VLOOKUP(C917,Main!$A$49:$I$67,Main!$I$47,FALSE)","v":16.100000000000001},7254]
["TX","KINGSVILLE","2A",842,1680,49.9,87.1,0.10929999999999999,"27.500N",37.6,57.8,61.8,66.900000000000006,73.599999999999994,79.599999999999994,84.6,85.6,85.8,81.599999999999994,74.7,65.3,60,32,16,5,0,0,0,0,0,0,0,6,24,275,346,530,709,918,1037,1103,1110,947,767,464,334,51.3,42.98,57,64.400000000000006,68,71.959999999999994,74.66,72.14,66,61.5,61.5,51.1,"NR",0.3236130867709815,52,23,11,16,{"$f":"IF(OR(C918=\"OA\",C918=\"OB\",C918=\"1B\",C918=\"1A\",C918=\"2A\",C918=\"2B\",C918=\"3A\",C918=\"3B\",C918=\"3C\"),TAN((LEFT(I918, 5)+VLOOKUP(C918,Main!$K$3:$L$21,2,FALSE))*PI()/180),IF(Checklist!$I$385=\"No\",TAN((LEFT(I918, 5)+VLOOKUP(C918,Main!$K$3:$L$21,2,FALSE))*PI()/180),\"NR\"))","v":0.52056705055174624},{"$f":"VLOOKUP(C918,Main!$A$49:$I$67,Main!$B$47,FALSE)","v":0.6},{"$f":"VLOOKUP(C918,Main!$A$49:$I$67,Main!$C$47,FALSE)","v":0.25},{"$f":"VLOOKUP(C918,Main!$A$49:$I$67,Main!$E$47,FALSE)&\":\"&\" \"&VLOOKUP(C918,Main!$A$49:$I$67,Main!$F$47,FALSE)","v":"Minimum HSPF:: 9.6"},{"$f":"VLOOKUP(C918,Main!$A$49:$I$67,Main!$G$47,FALSE)","v":18},{"$f":"VLOOKUP(C918,Main!$A$49:$I$67,Main!$H$47,FALSE)","v":3.1},{"$f":"VLOOKUP(C918,Main!$A$49:$I$67,Main!$I$47,FALSE)","v":16.100000000000001},8540]
["TX","LAREDO INTL AP [UT]","1B",783,1803,34.950000000000003,88.5,0.10929999999999999,"27.544N",39.200000000000003,58.5,62.9,69.5,76.900000000000006,83,87.8,88.2,88.6,83.1,76.3,66.400000000000006,58.9,28,13,3,0,0,0,0,0,0,1,5,24,292,374,606,806,1024,1133,1183,1196,992,817,496,300,38.299999999999997,30.02,41.2,50.36,61.9,69.44,68.540000000000006,69.08,63.7,50.2,50.2,38.1,"NR",0.34159159159159158,52,22,11,16,{"$f":"IF(OR(C919=\"OA\",C919=\"OB\",C919=\"1B\",C919=\"1A\",C919=\"2A\",C919=\"2B\",C919=\"3A\",C919=\"3B\",C919=\"3C\"),TAN((LEFT(I919, 5)+VLOOKUP(C919,Main!$K$3:$L$21,2,FALSE))*PI()/180),IF(Checklist!$I$385=\"No\",TAN((LEFT(I919, 5)+VLOOKUP(C919,Main!$K$3:$L$21,2,FALSE))*PI()/180),\"NR\"))","v":0.52145469173456371},{"$f":"VLOOKUP(C919,Main!$A$49:$I$67,Main!$B$47,FALSE)","v":0.6},{"$f":"VLOOKUP(C919,Main!$A$49:$I$67,Main!$C$47,FALSE)","v":0.25},{"$f":"VLOOKUP(C919,Main!$A$49:$I$67,Main!$E$47,FALSE)&\":\"&\" \"&VLOOKUP(C919,Main!$A$49:$I$67,Main!$F$47,FALSE)","v":"Minimum HSPF:: 9.6"},{"$f":"VLOOKUP(C919,Main!$A$49:$I$67,Main!$G$47,FALSE)","v":18},{"$f":"VLOOKUP(C919,Main!$A$49:$I$67,Main!$H$47,FALSE)","v":3.1},{"$f":"VLOOKUP(C919,Main!$A$49:$I$67,Main!$I$47,FALSE)","v":16.100000000000001},9219]
["TX","LONGVIEW GREGG COUNTY AP [OVERTON - UT]","2A",2121,1686,40.85,87.4,0.10929999999999999,"32.385N",28.1,48,51.1,58.5,66.099999999999994,73.7,80.8,83.4,84.2,77.599999999999994,66.900000000000006,56.9,48.5,161,100,27,2,0,0,0,0,0,1,37,149,99,132,291,485,733,923,1037,1059,827,525,243,103,40.799999999999997,37.4,42.1,53.6,62.4,63.14,69.8,69.8,60.8,44.4,44.4,37,0.6,0.2465623518255097,56,26,12,17,{"$f":"IF(OR(C920=\"OA\",C920=\"OB\",C920=\"1B\",C920=\"1A\",C920=\"2A\",C920=\"2B\",C920=\"3A\",C920=\"3B\",C920=\"3C\"),TAN((LEFT(I920, 5)+VLOOKUP(C920,Main!$K$3:$L$21,2,FALSE))*PI()/180),IF(Checklist!$I$385=\"No\",TAN((LEFT(I920, 5)+VLOOKUP(C920,Main!$K$3:$L$21,2,FALSE))*PI()/180),\"NR\"))","v":0.63412975676133077},{"$f":"VLOOKUP(C920,Main!$A$49:$I$67,Main!$B$47,FALSE)","v":0.6},{"$f":"VLOOKUP(C920,Main!$A$49:$I$67,Main!$C$47,FALSE)","v":0.25},{"$f":"VLOOKUP(C920,Main!$A$49:$I$67,Main!$E$47,FALSE)&\":\"&\" \"&VLOOKUP(C920,Main!$A$49:$I$67,Main!$F$47,FALSE)","v":"Minimum HSPF:: 9.6"},{"$f":"VLOOKUP(C920,Main!$A$49:$I$67,Main!$G$47,FALSE)","v":18},{"$f":"VLOOKUP(C920,Main!$A$49:$I$67,Main!$H$47,FALSE)","v":3.1},{"$f":"VLOOKUP(C920,Main!$A$49:$I$67,Main!$I$47,FALSE)","v":16.100000000000001},6457]
["TX","LUBBOCK INTERNATIONAL AP","3B",3256,1850,27.4,82.9,0.10929999999999999,"33.666N",20.2,41.2,45.1,52.6,61.2,70.400000000000006,78.7,80.7,79.5,72,61.8,50.1,41.5,292,187,85,18,1,0,0,0,1,13,110,289,20,49,165,355,634,860,951,914,662,380,112,24,24.1,25.88,29.1,34.159999999999997,46.9,55.76,60.26,60.8,57.4,32.5,32.5,25.3,0.70149253731343275,0.20581250706773718,60,29,14,19,{"$f":"IF(OR(C921=\"OA\",C921=\"OB\",C921=\"1B\",C921=\"1A\",C921=\"2A\",C921=\"2B\",C921=\"3A\",C921=\"3B\",C921=\"3C\"),TAN((LEFT(I921, 5)+VLOOKUP(C921,Main!$K$3:$L$21,2,FALSE))*PI()/180),IF(Checklist!$I$385=\"No\",TAN((LEFT(I921, 5)+VLOOKUP(C921,Main!$K$3:$L$21,2,FALSE))*PI()/180),\"NR\"))","v":0.66590892000244317},{"$f":"VLOOKUP(C921,Main!$A$49:$I$67,Main!$B$47,FALSE)","v":"NR"},{"$f":"VLOOKUP(C921,Main!$A$49:$I$67,Main!$C$47,FALSE)","v":0.25},{"$f":"VLOOKUP(C921,Main!$A$49:$I$67,Main!$E$47,FALSE)&\":\"&\" \"&VLOOKUP(C921,Main!$A$49:$I$67,Main!$F$47,FALSE)","v":"Minimum HSPF:: 9.6"},{"$f":"VLOOKUP(C921,Main!$A$49:$I$67,Main!$G$47,FALSE)","v":18},{"$f":"VLOOKUP(C921,Main!$A$49:$I$67,Main!$H$47,FALSE)","v":3.1},{"$f":"VLOOKUP(C921,Main!$A$49:$I$67,Main!$I$47,FALSE)","v":16.100000000000001},5126]
["TX","LUFKIN ANGELINA CO","2A",1831,1683,38.4,83.1,0.10929999999999999,"31.236N",29.7,49.8,53.7,60.1,67.099999999999994,74.8,80.8,83,83.3,78,68.2,57.9,51.1,123,63,19,1,0,0,0,0,0,1,31,106,118,166,331,514,768,925,1024,1033,841,566,270,139,41.7,38.840000000000003,48.7,57.56,65.5,70.16,72.86,70.16,66.599999999999994,54,54,38.1,0.6,0.25686260673205841,55,25,11,16,{"$f":"IF(OR(C922=\"OA\",C922=\"OB\",C922=\"1B\",C922=\"1A\",C922=\"2A\",C922=\"2B\",C922=\"3A\",C922=\"3B\",C922=\"3C\"),TAN((LEFT(I922, 5)+VLOOKUP(C922,Main!$K$3:$L$21,2,FALSE))*PI()/180),IF(Checklist!$I$385=\"No\",TAN((LEFT(I922, 5)+VLOOKUP(C922,Main!$K$3:$L$21,2,FALSE))*PI()/180),\"NR\"))","v":0.60633739705307665},{"$f":"VLOOKUP(C922,Main!$A$49:$I$67,Main!$B$47,FALSE)","v":0.6},{"$f":"VLOOKUP(C922,Main!$A$49:$I$67,Main!$C$47,FALSE)","v":0.25},{"$f":"VLOOKUP(C922,Main!$A$49:$I$67,Main!$E$47,FALSE)&\":\"&\" \"&VLOOKUP(C922,Main!$A$49:$I$67,Main!$F$47,FALSE)","v":"Minimum HSPF:: 9.6"},{"$f":"VLOOKUP(C922,Main!$A$49:$I$67,Main!$G$47,FALSE)","v":18},{"$f":"VLOOKUP(C922,Main!$A$49:$I$67,Main!$H$47,FALSE)","v":3.1},{"$f":"VLOOKUP(C922,Main!$A$49:$I$67,Main!$I$47,FALSE)","v":16.100000000000001},6695]
["TX","MARFA AP","3B",3298,2088,30,76.099999999999994,0.10929999999999999,"30.371N",19.399999999999999,41.9,45.7,51.5,58.8,67.099999999999994,74.099999999999994,73.400000000000006,72.599999999999994,67.8,59.7,49.3,42.5,258,153,68,12,1,0,0,0,1,12,96,243,7,33,114,275,531,722,725,700,533,311,74,12,28.8,32.72,29.5,30.74,31.8,43.34,46.4,49.46,40.799999999999997,30.4,30.4,20.7,0.69348659003831414,0.20242464686909131,60,30,14,19,{"$f":"IF(OR(C923=\"OA\",C923=\"OB\",C923=\"1B\",C923=\"1A\",C923=\"2A\",C923=\"2B\",C923=\"3A\",C923=\"3B\",C923=\"3C\"),TAN((LEFT(I923, 5)+VLOOKUP(C923,Main!$K$3:$L$21,2,FALSE))*PI()/180),IF(Checklist!$I$385=\"No\",TAN((LEFT(I923, 5)+VLOOKUP(C923,Main!$K$3:$L$21,2,FALSE))*PI()/180),\"NR\"))","v":0.58599290320247011},{"$f":"VLOOKUP(C923,Main!$A$49:$I$67,Main!$B$47,FALSE)","v":"NR"},{"$f":"VLOOKUP(C923,Main!$A$49:$I$67,Main!$C$47,FALSE)","v":0.25},{"$f":"VLOOKUP(C923,Main!$A$49:$I$67,Main!$E$47,FALSE)&\":\"&\" \"&VLOOKUP(C923,Main!$A$49:$I$67,Main!$F$47,FALSE)","v":"Minimum HSPF:: 9.6"},{"$f":"VLOOKUP(C923,Main!$A$49:$I$67,Main!$G$47,FALSE)","v":18},{"$f":"VLOOKUP(C923,Main!$A$49:$I$67,Main!$H$47,FALSE)","v":3.1},{"$f":"VLOOKUP(C923,Main!$A$49:$I$67,Main!$I$47,FALSE)","v":16.100000000000001},4037]
["TX","MC GREGOR (AWOS)","2A",2087,1848,32.799999999999997,84.2,0.10929999999999999,"31.485N",27.7,48.1,51.4,57.8,66.5,74.5,81.599999999999994,84.7,85.2,78.2,67.8,57.4,49.1,158,94,34,1,0,0,0,0,0,1,34,135,98,134,276,496,760,949,1074,1090,845,554,256,107,34,35.42,34.200000000000003,44.42,62.6,69.08,64.58,65.66,59.2,43.2,43.2,37.799999999999997,0.6,0.24411508282476022,56,26,12,17,{"$f":"IF(OR(C924=\"OA\",C924=\"OB\",C924=\"1B\",C924=\"1A\",C924=\"2A\",C924=\"2B\",C924=\"3A\",C924=\"3B\",C924=\"3C\"),TAN((LEFT(I924, 5)+VLOOKUP(C924,Main!$K$3:$L$21,2,FALSE))*PI()/180),IF(Checklist!$I$385=\"No\",TAN((LEFT(I924, 5)+VLOOKUP(C924,Main!$K$3:$L$21,2,FALSE))*PI()/180),\"NR\"))","v":0.61232074206991505},{"$f":"VLOOKUP(C924,Main!$A$49:$I$67,Main!$B$47,FALSE)","v":0.6},{"$f":"VLOOKUP(C924,Main!$A$49:$I$67,Main!$C$47,FALSE)","v":0.25},{"$f":"VLOOKUP(C924,Main!$A$49:$I$67,Main!$E$47,FALSE)&\":\"&\" \"&VLOOKUP(C924,Main!$A$49:$I$67,Main!$F$47,FALSE)","v":"Minimum HSPF:: 9.6"},{"$f":"VLOOKUP(C924,Main!$A$49:$I$67,Main!$G$47,FALSE)","v":18},{"$f":"VLOOKUP(C924,Main!$A$49:$I$67,Main!$H$47,FALSE)","v":3.1},{"$f":"VLOOKUP(C924,Main!$A$49:$I$67,Main!$I$47,FALSE)","v":16.100000000000001},6639]
["TX","MCALLEN MILLER INTL AP [EDINBURG - UT]","1B",532,1727,48.5,84.9,0.10929999999999999,"26.176N",42.1,61.9,65.599999999999994,71.099999999999994,76.900000000000006,82,86.1,86.9,87.4,83.2,77.3,69,62.6,15,8,1,0,0,0,0,0,0,0,2,12,383,444,654,806,991,1082,1144,1160,995,848,571,404,50.5,56.12,55.8,62.06,68.7,71.78,71.42,74.66,72.3,57.6,57.6,47.3,"NR",0.37983929875821765,51,22,10,15,{"$f":"IF(OR(C925=\"OA\",C925=\"OB\",C925=\"1B\",C925=\"1A\",C925=\"2A\",C925=\"2B\",C925=\"3A\",C925=\"3B\",C925=\"3C\"),TAN((LEFT(I925, 5)+VLOOKUP(C925,Main!$K$3:$L$21,2,FALSE))*PI()/180),IF(Checklist!$I$385=\"No\",TAN((LEFT(I925, 5)+VLOOKUP(C925,Main!$K$3:$L$21,2,FALSE))*PI()/180),\"NR\"))","v":0.49141079523808928},{"$f":"VLOOKUP(C925,Main!$A$49:$I$67,Main!$B$47,FALSE)","v":0.6},{"$f":"VLOOKUP(C925,Main!$A$49:$I$67,Main!$C$47,FALSE)","v":0.25},{"$f":"VLOOKUP(C925,Main!$A$49:$I$67,Main!$E$47,FALSE)&\":\"&\" \"&VLOOKUP(C925,Main!$A$49:$I$67,Main!$F$47,FALSE)","v":"Minimum HSPF:: 9.6"},{"$f":"VLOOKUP(C925,Main!$A$49:$I$67,Main!$G$47,FALSE)","v":18},{"$f":"VLOOKUP(C925,Main!$A$49:$I$67,Main!$H$47,FALSE)","v":3.1},{"$f":"VLOOKUP(C925,Main!$A$49:$I$67,Main!$I$47,FALSE)","v":16.100000000000001},9482]
["TX","MIDLAND INTERNATIONAL AP","2B",2554,1936,39.4,84.6,0.10929999999999999,"31.948N",24.4,44.9,49.1,56.5,65.099999999999994,74.099999999999994,81.599999999999994,82.5,81.599999999999994,74.7,65.3,53.2,45.3,206,118,45,7,0,0,0,0,0,5,71,196,47,93,245,461,748,949,1006,979,740,479,167,49,25.7,29.12,28,40.64,48.2,57.02,59,58.46,57.2,40.6,40.6,29.5,0.65367965367965375,0.22563848251921642,58,27,13,18,{"$f":"IF(OR(C926=\"OA\",C926=\"OB\",C926=\"1B\",C926=\"1A\",C926=\"2A\",C926=\"2B\",C926=\"3A\",C926=\"3B\",C926=\"3C\"),TAN((LEFT(I926, 5)+VLOOKUP(C926,Main!$K$3:$L$21,2,FALSE))*PI()/180),IF(Checklist!$I$385=\"No\",TAN((LEFT(I926, 5)+VLOOKUP(C926,Main!$K$3:$L$21,2,FALSE))*PI()/180),\"NR\"))","v":0.62341421546834908},{"$f":"VLOOKUP(C926,Main!$A$49:$I$67,Main!$B$47,FALSE)","v":0.6},{"$f":"VLOOKUP(C926,Main!$A$49:$I$67,Main!$C$47,FALSE)","v":0.25},{"$f":"VLOOKUP(C926,Main!$A$49:$I$67,Main!$E$47,FALSE)&\":\"&\" \"&VLOOKUP(C926,Main!$A$49:$I$67,Main!$F$47,FALSE)","v":"Minimum HSPF:: 9.6"},{"$f":"VLOOKUP(C926,Main!$A$49:$I$67,Main!$G$47,FALSE)","v":18},{"$f":"VLOOKUP(C926,Main!$A$49:$I$67,Main!$H$47,FALSE)","v":3.1},{"$f":"VLOOKUP(C926,Main!$A$49:$I$67,Main!$I$47,FALSE)","v":16.100000000000001},5963]
["TX","MINERAL WELLS MUNICIPAL AP","3A",2442,1715,37.15,89.1,0.10929999999999999,"32.782N",24.4,45.4,47.9,57.5,65.900000000000006,72.900000000000006,80.7,83.8,84.4,76.5,65.900000000000006,55.8,46,206,153,39,5,0,0,0,0,0,2,51,196,64,96,272,482,709,922,1048,1065,795,495,226,71,33.799999999999997,37.58,29.7,41.9,59.5,67.819999999999993,67.459999999999994,66.739999999999995,60.6,38.700000000000003,38.700000000000003,34.5,0.64601769911504425,0.22563848251921642,57,27,13,18,{"$f":"IF(OR(C927=\"OA\",C927=\"OB\",C927=\"1B\",C927=\"1A\",C927=\"2A\",C927=\"2B\",C927=\"3A\",C927=\"3B\",C927=\"3C\"),TAN((LEFT(I927, 5)+VLOOKUP(C927,Main!$K$3:$L$21,2,FALSE))*PI()/180),IF(Checklist!$I$385=\"No\",TAN((LEFT(I927, 5)+VLOOKUP(C927,Main!$K$3:$L$21,2,FALSE))*PI()/180),\"NR\"))","v":0.64396209288278039},{"$f":"VLOOKUP(C927,Main!$A$49:$I$67,Main!$B$47,FALSE)","v":0.6},{"$f":"VLOOKUP(C927,Main!$A$49:$I$67,Main!$C$47,FALSE)","v":0.25},{"$f":"VLOOKUP(C927,Main!$A$49:$I$67,Main!$E$47,FALSE)&\":\"&\" \"&VLOOKUP(C927,Main!$A$49:$I$67,Main!$F$47,FALSE)","v":"Minimum HSPF:: 9.6"},{"$f":"VLOOKUP(C927,Main!$A$49:$I$67,Main!$G$47,FALSE)","v":18},{"$f":"VLOOKUP(C927,Main!$A$49:$I$67,Main!$H$47,FALSE)","v":3.1},{"$f":"VLOOKUP(C927,Main!$A$49:$I$67,Main!$I$47,FALSE)","v":16.100000000000001},6245]
["TX","NACOGDOCHES (AWOS)","2A",2144,1692,32.200000000000003,85.3,0.10929999999999999,"31.578N",27.6,48.1,51.8,58.1,65.5,73.5,79.7,82.3,82.3,76.7,66.3,56.1,49,158,88,32,2,0,0,0,0,0,2,42,139,99,137,283,468,730,892,1002,1000,802,508,224,108,34.700000000000003,38.299999999999997,36.9,48.92,61.5,70.52,69.260000000000005,69.08,60.8,47.8,47.8,39.9,0.6,0.2435108375702435,56,26,12,17,{"$f":"IF(OR(C928=\"OA\",C928=\"OB\",C928=\"1B\",C928=\"1A\",C928=\"2A\",C928=\"2B\",C928=\"3A\",C928=\"3B\",C928=\"3C\"),TAN((LEFT(I928, 5)+VLOOKUP(C928,Main!$K$3:$L$21,2,FALSE))*PI()/180),IF(Checklist!$I$385=\"No\",TAN((LEFT(I928, 5)+VLOOKUP(C928,Main!$K$3:$L$21,2,FALSE))*PI()/180),\"NR\"))","v":0.61448256866421813},{"$f":"VLOOKUP(C928,Main!$A$49:$I$67,Main!$B$47,FALSE)","v":0.6},{"$f":"VLOOKUP(C928,Main!$A$49:$I$67,Main!$C$47,FALSE)","v":0.25},{"$f":"VLOOKUP(C928,Main!$A$49:$I$67,Main!$E$47,FALSE)&\":\"&\" \"&VLOOKUP(C928,Main!$A$49:$I$67,Main!$F$47,FALSE)","v":"Minimum HSPF:: 9.6"},{"$f":"VLOOKUP(C928,Main!$A$49:$I$67,Main!$G$47,FALSE)","v":18},{"$f":"VLOOKUP(C928,Main!$A$49:$I$67,Main!$H$47,FALSE)","v":3.1},{"$f":"VLOOKUP(C928,Main!$A$49:$I$67,Main!$I$47,FALSE)","v":16.100000000000001},6253]
["TX","PALACIOS MUNICIPAL AP","2A",1101,1600,36.799999999999997,81.900000000000006,0.10929999999999999,"28.725N",36.299999999999997,55.3,58.4,63.8,70.400000000000006,77.2,82.8,84.2,84.4,80.3,72.8,63.6,56.8,46,26,6,0,0,0,0,0,0,1,10,39,210,262,435,611,843,983,1060,1067,910,708,417,251,45.7,49.82,48.6,62.24,72,75.2,75.38,74.84,68.400000000000006,54.9,54.9,48,"NR",0.31034188762895382,53,23,10,15,{"$f":"IF(OR(C929=\"OA\",C929=\"OB\",C929=\"1B\",C929=\"1A\",C929=\"2A\",C929=\"2B\",C929=\"3A\",C929=\"3B\",C929=\"3C\"),TAN((LEFT(I929, 5)+VLOOKUP(C929,Main!$K$3:$L$21,2,FALSE))*PI()/180),IF(Checklist!$I$385=\"No\",TAN((LEFT(I929, 5)+VLOOKUP(C929,Main!$K$3:$L$21,2,FALSE))*PI()/180),\"NR\"))","v":0.54793778930276849},{"$f":"VLOOKUP(C929,Main!$A$49:$I$67,Main!$B$47,FALSE)","v":0.6},{"$f":"VLOOKUP(C929,Main!$A$49:$I$67,Main!$C$47,FALSE)","v":0.25},{"$f":"VLOOKUP(C929,Main!$A$49:$I$67,Main!$E$47,FALSE)&\":\"&\" \"&VLOOKUP(C929,Main!$A$49:$I$67,Main!$F$47,FALSE)","v":"Minimum HSPF:: 9.6"},{"$f":"VLOOKUP(C929,Main!$A$49:$I$67,Main!$G$47,FALSE)","v":18},{"$f":"VLOOKUP(C929,Main!$A$49:$I$67,Main!$H$47,FALSE)","v":3.1},{"$f":"VLOOKUP(C929,Main!$A$49:$I$67,Main!$I$47,FALSE)","v":16.100000000000001},7757]
["TX","PORT ARTHUR JEFFERSON COUNTY","2A",1328,1654,47.95,80.8,0.10929999999999999,"29.951N",35,53.5,56.8,62.5,68.900000000000006,76.2,81.7,83,83.3,79.400000000000006,70.900000000000006,61.3,55,66,33,9,0,0,0,0,0,0,1,12,54,176,222,395,568,811,950,1023,1034,883,648,351,209,42.1,45.14,55.9,61.34,68.5,73.040000000000006,74.48,73.94,70.5,56.7,56.7,45.9,"NR",0.29811629811629814,53,24,10,15,{"$f":"IF(OR(C930=\"OA\",C930=\"OB\",C930=\"1B\",C930=\"1A\",C930=\"2A\",C930=\"2B\",C930=\"3A\",C930=\"3B\",C930=\"3C\"),TAN((LEFT(I930, 5)+VLOOKUP(C930,Main!$K$3:$L$21,2,FALSE))*PI()/180),IF(Checklist!$I$385=\"No\",TAN((LEFT(I930, 5)+VLOOKUP(C930,Main!$K$3:$L$21,2,FALSE))*PI()/180),\"NR\"))","v":0.57618730200117585},{"$f":"VLOOKUP(C930,Main!$A$49:$I$67,Main!$B$47,FALSE)","v":0.6},{"$f":"VLOOKUP(C930,Main!$A$49:$I$67,Main!$C$47,FALSE)","v":0.25},{"$f":"VLOOKUP(C930,Main!$A$49:$I$67,Main!$E$47,FALSE)&\":\"&\" \"&VLOOKUP(C930,Main!$A$49:$I$67,Main!$F$47,FALSE)","v":"Minimum HSPF:: 9.6"},{"$f":"VLOOKUP(C930,Main!$A$49:$I$67,Main!$G$47,FALSE)","v":18},{"$f":"VLOOKUP(C930,Main!$A$49:$I$67,Main!$H$47,FALSE)","v":3.1},{"$f":"VLOOKUP(C930,Main!$A$49:$I$67,Main!$I$47,FALSE)","v":16.100000000000001},7270]
["TX","RANDOLPH AFB","2A",1455,1723,31.7,82.8,0.10929999999999999,"29.533N",31.9,52.4,57,62.2,68.900000000000006,76.400000000000006,82.6,84.5,85.1,79.5,70.7,60.4,53.6,79,39,13,1,0,0,0,0,0,2,21,71,152,236,390,569,819,978,1071,1088,884,644,334,184,37.6,38.659999999999997,39.9,48.74,67.599999999999994,69.98,70.34,69.62,61.9,45,45,37.799999999999997,"NR",0.27251628359661595,54,24,11,16,{"$f":"IF(OR(C931=\"OA\",C931=\"OB\",C931=\"1B\",C931=\"1A\",C931=\"2A\",C931=\"2B\",C931=\"3A\",C931=\"3B\",C931=\"3C\"),TAN((LEFT(I931, 5)+VLOOKUP(C931,Main!$K$3:$L$21,2,FALSE))*PI()/180),IF(Checklist!$I$385=\"No\",TAN((LEFT(I931, 5)+VLOOKUP(C931,Main!$K$3:$L$21,2,FALSE))*PI()/180),\"NR\"))","v":0.56646418520642139},{"$f":"VLOOKUP(C931,Main!$A$49:$I$67,Main!$B$47,FALSE)","v":0.6},{"$f":"VLOOKUP(C931,Main!$A$49:$I$67,Main!$C$47,FALSE)","v":0.25},{"$f":"VLOOKUP(C931,Main!$A$49:$I$67,Main!$E$47,FALSE)&\":\"&\" \"&VLOOKUP(C931,Main!$A$49:$I$67,Main!$F$47,FALSE)","v":"Minimum HSPF:: 9.6"},{"$f":"VLOOKUP(C931,Main!$A$49:$I$67,Main!$G$47,FALSE)","v":18},{"$f":"VLOOKUP(C931,Main!$A$49:$I$67,Main!$H$47,FALSE)","v":3.1},{"$f":"VLOOKUP(C931,Main!$A$49:$I$67,Main!$I$47,FALSE)","v":16.100000000000001},7349]
["TX","ROCKPORT/ARANSAS CO","2A",871,1725,52.6,82.8,0.10929999999999999,"28.084N",38.799999999999997,57.4,60.3,65.900000000000006,72.599999999999994,78.7,83.8,84.4,85.4,81.900000000000006,75.2,66.099999999999994,58.4,35,19,4,0,0,0,0,0,0,0,4,24,264,307,496,678,891,1013,1067,1096,957,782,487,285,52.3,55.04,60.8,63.86,72.099999999999994,75.2,76.099999999999994,75.739999999999995,72.900000000000006,63.5,63.5,55.6,"NR",0.33691225472047387,52,23,10,15,{"$f":"IF(OR(C932=\"OA\",C932=\"OB\",C932=\"1B\",C932=\"1A\",C932=\"2A\",C932=\"2B\",C932=\"3A\",C932=\"3B\",C932=\"3C\"),TAN((LEFT(I932, 5)+VLOOKUP(C932,Main!$K$3:$L$21,2,FALSE))*PI()/180),IF(Checklist!$I$385=\"No\",TAN((LEFT(I932, 5)+VLOOKUP(C932,Main!$K$3:$L$21,2,FALSE))*PI()/180),\"NR\"))","v":0.5335017713678184},{"$f":"VLOOKUP(C932,Main!$A$49:$I$67,Main!$B$47,FALSE)","v":0.6},{"$f":"VLOOKUP(C932,Main!$A$49:$I$67,Main!$C$47,FALSE)","v":0.25},{"$f":"VLOOKUP(C932,Main!$A$49:$I$67,Main!$E$47,FALSE)&\":\"&\" \"&VLOOKUP(C932,Main!$A$49:$I$67,Main!$F$47,FALSE)","v":"Minimum HSPF:: 9.6"},{"$f":"VLOOKUP(C932,Main!$A$49:$I$67,Main!$G$47,FALSE)","v":18},{"$f":"VLOOKUP(C932,Main!$A$49:$I$67,Main!$H$47,FALSE)","v":3.1},{"$f":"VLOOKUP(C932,Main!$A$49:$I$67,Main!$I$47,FALSE)","v":16.100000000000001},8323]
["TX","SAN ANGELO MATHIS FIELD","2B",2185,1880,33.950000000000003,85.5,0.10929999999999999,"31.352N",26,47.4,51.2,58.7,67,75.2,81.7,83.7,83.1,76.099999999999994,66.5,55.4,48,160,91,32,4,0,0,0,0,0,3,50,149,80,125,301,513,783,952,1043,1026,783,516,213,88,27.7,33.979999999999997,34.5,47.3,57,61.7,63.86,63.68,59.4,44.2,44.2,31.3,0.61165048543689327,0.23423423423423423,57,26,12,17,{"$f":"IF(OR(C933=\"OA\",C933=\"OB\",C933=\"1B\",C933=\"1A\",C933=\"2A\",C933=\"2B\",C933=\"3A\",C933=\"3B\",C933=\"3C\"),TAN((LEFT(I933, 5)+VLOOKUP(C933,Main!$K$3:$L$21,2,FALSE))*PI()/180),IF(Checklist!$I$385=\"No\",TAN((LEFT(I933, 5)+VLOOKUP(C933,Main!$K$3:$L$21,2,FALSE))*PI()/180),\"NR\"))","v":0.60920543246531},{"$f":"VLOOKUP(C933,Main!$A$49:$I$67,Main!$B$47,FALSE)","v":0.6},{"$f":"VLOOKUP(C933,Main!$A$49:$I$67,Main!$C$47,FALSE)","v":0.25},{"$f":"VLOOKUP(C933,Main!$A$49:$I$67,Main!$E$47,FALSE)&\":\"&\" \"&VLOOKUP(C933,Main!$A$49:$I$67,Main!$F$47,FALSE)","v":"Minimum HSPF:: 9.6"},{"$f":"VLOOKUP(C933,Main!$A$49:$I$67,Main!$G$47,FALSE)","v":18},{"$f":"VLOOKUP(C933,Main!$A$49:$I$67,Main!$H$47,FALSE)","v":3.1},{"$f":"VLOOKUP(C933,Main!$A$49:$I$67,Main!$I$47,FALSE)","v":16.100000000000001},6423]
["TX","SAN ANTONIO INTL AP","2A",1380,1800,41.6,84.6,0.10929999999999999,"29.544N",33,52.9,56.9,62.8,70,77.099999999999994,83,84.7,85.6,80,71.5,61.1,53.9,70,37,11,1,0,0,0,0,0,1,16,61,159,231,407,602,842,991,1077,1105,901,668,349,183,39.4,40.1,41.5,56.66,65.5,70.52,70.34,69.44,65.7,49.3,49.3,40.6,"NR",0.2810810810810811,54,24,11,16,{"$f":"IF(OR(C934=\"OA\",C934=\"OB\",C934=\"1B\",C934=\"1A\",C934=\"2A\",C934=\"2B\",C934=\"3A\",C934=\"3B\",C934=\"3C\"),TAN((LEFT(I934, 5)+VLOOKUP(C934,Main!$K$3:$L$21,2,FALSE))*PI()/180),IF(Checklist!$I$385=\"No\",TAN((LEFT(I934, 5)+VLOOKUP(C934,Main!$K$3:$L$21,2,FALSE))*PI()/180),\"NR\"))","v":0.56669474534572339},{"$f":"VLOOKUP(C934,Main!$A$49:$I$67,Main!$B$47,FALSE)","v":0.6},{"$f":"VLOOKUP(C934,Main!$A$49:$I$67,Main!$C$47,FALSE)","v":0.25},{"$f":"VLOOKUP(C934,Main!$A$49:$I$67,Main!$E$47,FALSE)&\":\"&\" \"&VLOOKUP(C934,Main!$A$49:$I$67,Main!$F$47,FALSE)","v":"Minimum HSPF:: 9.6"},{"$f":"VLOOKUP(C934,Main!$A$49:$I$67,Main!$G$47,FALSE)","v":18},{"$f":"VLOOKUP(C934,Main!$A$49:$I$67,Main!$H$47,FALSE)","v":3.1},{"$f":"VLOOKUP(C934,Main!$A$49:$I$67,Main!$I$47,FALSE)","v":16.100000000000001},7515]
["TX","SAN ANTONIO KELLY FIELD AFB","2A",1359,1787,32.799999999999997,86,0.10929999999999999,"29.383N",33.1,53.1,57.5,62.8,70.400000000000006,77.8,83.3,85,85.6,80.099999999999994,71.5,60.8,54.3,68,33,11,1,0,0,0,0,0,1,18,55,165,243,407,613,862,998,1086,1104,902,669,342,190,37,39.200000000000003,40.799999999999997,49.28,66.900000000000006,67.28,71.42,69.260000000000005,62.1,48.2,48.2,40.5,"NR",0.28188647099821884,54,24,11,16,{"$f":"IF(OR(C935=\"OA\",C935=\"OB\",C935=\"1B\",C935=\"1A\",C935=\"2A\",C935=\"2B\",C935=\"3A\",C935=\"3B\",C935=\"3C\"),TAN((LEFT(I935, 5)+VLOOKUP(C935,Main!$K$3:$L$21,2,FALSE))*PI()/180),IF(Checklist!$I$385=\"No\",TAN((LEFT(I935, 5)+VLOOKUP(C935,Main!$K$3:$L$21,2,FALSE))*PI()/180),\"NR\"))","v":0.56301123790397678},{"$f":"VLOOKUP(C935,Main!$A$49:$I$67,Main!$B$47,FALSE)","v":0.6},{"$f":"VLOOKUP(C935,Main!$A$49:$I$67,Main!$C$47,FALSE)","v":0.25},{"$f":"VLOOKUP(C935,Main!$A$49:$I$67,Main!$E$47,FALSE)&\":\"&\" \"&VLOOKUP(C935,Main!$A$49:$I$67,Main!$F$47,FALSE)","v":"Minimum HSPF:: 9.6"},{"$f":"VLOOKUP(C935,Main!$A$49:$I$67,Main!$G$47,FALSE)","v":18},{"$f":"VLOOKUP(C935,Main!$A$49:$I$67,Main!$H$47,FALSE)","v":3.1},{"$f":"VLOOKUP(C935,Main!$A$49:$I$67,Main!$I$47,FALSE)","v":16.100000000000001},7581]
["TX","SAN ANTONIO/STINSON","2A",1274,1690,47.1,84.9,0.10929999999999999,"29.339N",33.799999999999997,53.6,57.6,64.2,71.5,78,83.7,84.8,86.2,80.8,72.3,62.3,54.2,63,35,5,1,0,0,0,0,0,1,11,54,176,249,444,644,867,1012,1078,1122,923,691,379,184,41.5,33.26,45.7,62.96,64.8,69.98,66.56,69.44,67.3,50,50,36.700000000000003,"NR",0.28765607712976127,53,24,11,16,{"$f":"IF(OR(C936=\"OA\",C936=\"OB\",C936=\"1B\",C936=\"1A\",C936=\"2A\",C936=\"2B\",C936=\"3A\",C936=\"3B\",C936=\"3C\"),TAN((LEFT(I936, 5)+VLOOKUP(C936,Main!$K$3:$L$21,2,FALSE))*PI()/180),IF(Checklist!$I$385=\"No\",TAN((LEFT(I936, 5)+VLOOKUP(C936,Main!$K$3:$L$21,2,FALSE))*PI()/180),\"NR\"))","v":0.56186251869854864},{"$f":"VLOOKUP(C936,Main!$A$49:$I$67,Main!$B$47,FALSE)","v":0.6},{"$f":"VLOOKUP(C936,Main!$A$49:$I$67,Main!$C$47,FALSE)","v":0.25},{"$f":"VLOOKUP(C936,Main!$A$49:$I$67,Main!$E$47,FALSE)&\":\"&\" \"&VLOOKUP(C936,Main!$A$49:$I$67,Main!$F$47,FALSE)","v":"Minimum HSPF:: 9.6"},{"$f":"VLOOKUP(C936,Main!$A$49:$I$67,Main!$G$47,FALSE)","v":18},{"$f":"VLOOKUP(C936,Main!$A$49:$I$67,Main!$H$47,FALSE)","v":3.1},{"$f":"VLOOKUP(C936,Main!$A$49:$I$67,Main!$I$47,FALSE)","v":16.100000000000001},7769]
["TX","TYLER/POUNDS FLD","2A",2074,1666,42.9,88.9,0.10929999999999999,"32.354N",28.5,48,51.2,58.8,66.5,73.900000000000006,80.900000000000006,83.8,84.7,78,67.5,57.5,48.7,162,101,27,2,0,0,0,0,0,1,32,143,99,133,298,498,740,926,1048,1077,841,543,258,103,37,40.28,43.2,54.14,58.5,69.8,72.319999999999993,66.2,60.8,40.299999999999997,40.299999999999997,36.299999999999997,0.6,0.2490591857680465,56,26,13,18,{"$f":"IF(OR(C937=\"OA\",C937=\"OB\",C937=\"1B\",C937=\"1A\",C937=\"2A\",C937=\"2B\",C937=\"3A\",C937=\"3B\",C937=\"3C\"),TAN((LEFT(I937, 5)+VLOOKUP(C937,Main!$K$3:$L$21,2,FALSE))*PI()/180),IF(Checklist!$I$385=\"No\",TAN((LEFT(I937, 5)+VLOOKUP(C937,Main!$K$3:$L$21,2,FALSE))*PI()/180),\"NR\"))","v":0.63339585177002822},{"$f":"VLOOKUP(C937,Main!$A$49:$I$67,Main!$B$47,FALSE)","v":0.6},{"$f":"VLOOKUP(C937,Main!$A$49:$I$67,Main!$C$47,FALSE)","v":0.25},{"$f":"VLOOKUP(C937,Main!$A$49:$I$67,Main!$E$47,FALSE)&\":\"&\" \"&VLOOKUP(C937,Main!$A$49:$I$67,Main!$F$47,FALSE)","v":"Minimum HSPF:: 9.6"},{"$f":"VLOOKUP(C937,Main!$A$49:$I$67,Main!$G$47,FALSE)","v":18},{"$f":"VLOOKUP(C937,Main!$A$49:$I$67,Main!$H$47,FALSE)","v":3.1},{"$f":"VLOOKUP(C937,Main!$A$49:$I$67,Main!$I$47,FALSE)","v":16.100000000000001},6564]
["TX","VICTORIA REGIONAL AP","1B",1164,1680,48.2,83.3,0.10929999999999999,"28.861N",34.5,54.9,58.4,63.9,70.400000000000006,77.2,82.5,84.1,84.7,80.3,72.400000000000006,62.7,56.1,54,28,6,0,0,0,0,0,0,1,10,47,207,263,438,614,843,976,1057,1075,908,694,392,237,47.1,46.58,51.1,59.54,67.5,71.959999999999994,74.48,73.040000000000006,70,54,54,45,"NR",0.29366680112948768,53,23,10,15,{"$f":"IF(OR(C938=\"OA\",C938=\"OB\",C938=\"1B\",C938=\"1A\",C938=\"2A\",C938=\"2B\",C938=\"3A\",C938=\"3B\",C938=\"3C\"),TAN((LEFT(I938, 5)+VLOOKUP(C938,Main!$K$3:$L$21,2,FALSE))*PI()/180),IF(Checklist!$I$385=\"No\",TAN((LEFT(I938, 5)+VLOOKUP(C938,Main!$K$3:$L$21,2,FALSE))*PI()/180),\"NR\"))","v":0.55111913047713046},{"$f":"VLOOKUP(C938,Main!$A$49:$I$67,Main!$B$47,FALSE)","v":0.6},{"$f":"VLOOKUP(C938,Main!$A$49:$I$67,Main!$C$47,FALSE)","v":0.25},{"$f":"VLOOKUP(C938,Main!$A$49:$I$67,Main!$E$47,FALSE)&\":\"&\" \"&VLOOKUP(C938,Main!$A$49:$I$67,Main!$F$47,FALSE)","v":"Minimum HSPF:: 9.6"},{"$f":"VLOOKUP(C938,Main!$A$49:$I$67,Main!$G$47,FALSE)","v":18},{"$f":"VLOOKUP(C938,Main!$A$49:$I$67,Main!$H$47,FALSE)","v":3.1},{"$f":"VLOOKUP(C938,Main!$A$49:$I$67,Main!$I$47,FALSE)","v":16.100000000000001},7704]
["TX","WACO REGIONAL AP","2A",2008,1771,37.049999999999997,89.2,0.10929999999999999,"31.619N",28.2,48.3,52.1,58.9,66.8,74.7,82.2,85.5,85.7,78.7,68.599999999999994,57.6,49.4,146,82,27,2,0,0,0,0,0,2,36,130,95,141,302,507,767,965,1099,1105,862,579,263,112,36.700000000000003,41,48.2,55.94,61.5,68,67.28,68.180000000000007,67.099999999999994,47.1,47.1,34,0.6,0.24718185522205621,56,26,13,18,{"$f":"IF(OR(C939=\"OA\",C939=\"OB\",C939=\"1B\",C939=\"1A\",C939=\"2A\",C939=\"2B\",C939=\"3A\",C939=\"3B\",C939=\"3C\"),TAN((LEFT(I939, 5)+VLOOKUP(C939,Main!$K$3:$L$21,2,FALSE))*PI()/180),IF(Checklist!$I$385=\"No\",TAN((LEFT(I939, 5)+VLOOKUP(C939,Main!$K$3:$L$21,2,FALSE))*PI()/180),\"NR\"))","v":0.61544472000453265},{"$f":"VLOOKUP(C939,Main!$A$49:$I$67,Main!$B$47,FALSE)","v":0.6},{"$f":"VLOOKUP(C939,Main!$A$49:$I$67,Main!$C$47,FALSE)","v":0.25},{"$f":"VLOOKUP(C939,Main!$A$49:$I$67,Main!$E$47,FALSE)&\":\"&\" \"&VLOOKUP(C939,Main!$A$49:$I$67,Main!$F$47,FALSE)","v":"Minimum HSPF:: 9.6"},{"$f":"VLOOKUP(C939,Main!$A$49:$I$67,Main!$G$47,FALSE)","v":18},{"$f":"VLOOKUP(C939,Main!$A$49:$I$67,Main!$H$47,FALSE)","v":3.1},{"$f":"VLOOKUP(C939,Main!$A$49:$I$67,Main!$I$47,FALSE)","v":16.100000000000001},6797]
["TX","WICHITA FALLS MUNICIPAL ARPT","3A",2793,1797,33.25,88.9,0.10929999999999999,"33.979N",22.7,43.2,47,55.1,63.5,72.5,80.8,85.1,84.6,76.400000000000006,65.2,53.3,43.9,254,163,64,7,0,0,0,0,0,6,74,235,44,79,221,412,697,925,1088,1073,792,478,173,47,28.2,33.26,40.799999999999997,49.82,58.5,62.78,65.84,65.12,61.2,40.799999999999997,40.799999999999997,30.7,0.67741935483870963,0.21717081319730325,58,28,14,19,{"$f":"IF(OR(C940=\"OA\",C940=\"OB\",C940=\"1B\",C940=\"1A\",C940=\"2A\",C940=\"2B\",C940=\"3A\",C940=\"3B\",C940=\"3C\"),TAN((LEFT(I940, 5)+VLOOKUP(C940,Main!$K$3:$L$21,2,FALSE))*PI()/180),IF(Checklist!$I$385=\"No\",TAN((LEFT(I940, 5)+VLOOKUP(C940,Main!$K$3:$L$21,2,FALSE))*PI()/180),\"NR\"))","v":0.67374696954465174},{"$f":"VLOOKUP(C940,Main!$A$49:$I$67,Main!$B$47,FALSE)","v":0.6},{"$f":"VLOOKUP(C940,Main!$A$49:$I$67,Main!$C$47,FALSE)","v":0.25},{"$f":"VLOOKUP(C940,Main!$A$49:$I$67,Main!$E$47,FALSE)&\":\"&\" \"&VLOOKUP(C940,Main!$A$49:$I$67,Main!$F$47,FALSE)","v":"Minimum HSPF:: 9.6"},{"$f":"VLOOKUP(C940,Main!$A$49:$I$67,Main!$G$47,FALSE)","v":18},{"$f":"VLOOKUP(C940,Main!$A$49:$I$67,Main!$H$47,FALSE)","v":3.1},{"$f":"VLOOKUP(C940,Main!$A$49:$I$67,Main!$I$47,FALSE)","v":16.100000000000001},6029]
["TX","WINK WINKLER COUNTY AP","2B",2332,1940,37.85,90,0.10929999999999999,"31.780N",24.3,45.9,50.6,58.1,66.900000000000006,75.8,84.3,84.4,83.6,76.599999999999994,66.5,54,45.9,176,86,29,3,0,0,0,0,0,4,59,175,50,103,280,510,801,1028,1066,1043,798,514,180,49,29.1,25.7,39.200000000000003,30.38,43.2,55.04,61.52,57.2,56.7,39.700000000000003,39.700000000000003,19.600000000000001,0.63800904977375572,0.22512214731894364,57,27,13,18,{"$f":"IF(OR(C941=\"OA\",C941=\"OB\",C941=\"1B\",C941=\"1A\",C941=\"2A\",C941=\"2B\",C941=\"3A\",C941=\"3B\",C941=\"3C\"),TAN((LEFT(I941, 5)+VLOOKUP(C941,Main!$K$3:$L$21,2,FALSE))*PI()/180),IF(Checklist!$I$385=\"No\",TAN((LEFT(I941, 5)+VLOOKUP(C941,Main!$K$3:$L$21,2,FALSE))*PI()/180),\"NR\"))","v":0.61954311543153195},{"$f":"VLOOKUP(C941,Main!$A$49:$I$67,Main!$B$47,FALSE)","v":0.6},{"$f":"VLOOKUP(C941,Main!$A$49:$I$67,Main!$C$47,FALSE)","v":0.25},{"$f":"VLOOKUP(C941,Main!$A$49:$I$67,Main!$E$47,FALSE)&\":\"&\" \"&VLOOKUP(C941,Main!$A$49:$I$67,Main!$F$47,FALSE)","v":"Minimum HSPF:: 9.6"},{"$f":"VLOOKUP(C941,Main!$A$49:$I$67,Main!$G$47,FALSE)","v":18},{"$f":"VLOOKUP(C941,Main!$A$49:$I$67,Main!$H$47,FALSE)","v":3.1},{"$f":"VLOOKUP(C941,Main!$A$49:$I$67,Main!$I$47,FALSE)","v":16.100000000000001},6422]
["UT","CEDAR CITY MUNICIPAL AP","5B",5920,1894,20.6,80.400000000000006,9.9699999999999997E-2,"37.709N",7.7,30.3,34.299999999999997,41.7,47.6,57.1,67.099999999999994,74.3,72.3,63.6,51,38.700000000000003,29.4,610,441,269,134,27,2,0,0,3,83,343,638,0,0,12,61,247,514,752,691,412,115,5,0,18.899999999999999,18.5,25.7,22.1,28.2,29.12,40.64,42.44,35.1,22.3,22.3,18.100000000000001,0.79274611398963735,0.16314822284971536,67,36,19,24,{"$f":"IF(OR(C942=\"OA\",C942=\"OB\",C942=\"1B\",C942=\"1A\",C942=\"2A\",C942=\"2B\",C942=\"3A\",C942=\"3B\",C942=\"3C\"),TAN((LEFT(I942, 5)+VLOOKUP(C942,Main!$K$3:$L$21,2,FALSE))*PI()/180),IF(Checklist!$I$385=\"No\",TAN((LEFT(I942, 5)+VLOOKUP(C942,Main!$K$3:$L$21,2,FALSE))*PI()/180),\"NR\"))","v":"NR"},{"$f":"VLOOKUP(C942,Main!$A$49:$I$67,Main!$B$47,FALSE)","v":"NR"},{"$f":"VLOOKUP(C942,Main!$A$49:$I$67,Main!$C$47,FALSE)","v":"NR"},{"$f":"VLOOKUP(C942,Main!$A$49:$I$67,Main!$E$47,FALSE)&\":\"&\" \"&VLOOKUP(C942,Main!$A$49:$I$67,Main!$F$47,FALSE)","v":"Minimum COP @ 5°F:: 1.75"},{"$f":"VLOOKUP(C942,Main!$A$49:$I$67,Main!$G$47,FALSE)","v":15},{"$f":"VLOOKUP(C942,Main!$A$49:$I$67,Main!$H$47,FALSE)","v":3.1},{"$f":"VLOOKUP(C942,Main!$A$49:$I$67,Main!$I$47,FALSE)","v":16.100000000000001},2809]
["UT","MOAB/CANYONLANDS [UO]","5B",5383,1865,28.05,84.2,9.9699999999999997E-2,"38.750N",7,26.7,35,45.6,53.3,63.7,74.599999999999994,81.900000000000006,77.8,68.8,54.6,40.1,27.8,722,420,173,50,6,0,0,0,0,37,305,690,0,0,37,150,431,738,990,861,563,181,8,0,18.3,19.04,29.3,23.18,26.6,35.78,36.32,40.82,45.3,21.4,21.4,19.8,0.80629539951573848,0.16127603012848912,66,35,18,23,{"$f":"IF(OR(C943=\"OA\",C943=\"OB\",C943=\"1B\",C943=\"1A\",C943=\"2A\",C943=\"2B\",C943=\"3A\",C943=\"3B\",C943=\"3C\"),TAN((LEFT(I943, 5)+VLOOKUP(C943,Main!$K$3:$L$21,2,FALSE))*PI()/180),IF(Checklist!$I$385=\"No\",TAN((LEFT(I943, 5)+VLOOKUP(C943,Main!$K$3:$L$21,2,FALSE))*PI()/180),\"NR\"))","v":"NR"},{"$f":"VLOOKUP(C943,Main!$A$49:$I$67,Main!$B$47,FALSE)","v":"NR"},{"$f":"VLOOKUP(C943,Main!$A$49:$I$67,Main!$C$47,FALSE)","v":"NR"},{"$f":"VLOOKUP(C943,Main!$A$49:$I$67,Main!$E$47,FALSE)&\":\"&\" \"&VLOOKUP(C943,Main!$A$49:$I$67,Main!$F$47,FALSE)","v":"Minimum COP @ 5°F:: 1.75"},{"$f":"VLOOKUP(C943,Main!$A$49:$I$67,Main!$G$47,FALSE)","v":15},{"$f":"VLOOKUP(C943,Main!$A$49:$I$67,Main!$H$47,FALSE)","v":3.1},{"$f":"VLOOKUP(C943,Main!$A$49:$I$67,Main!$I$47,FALSE)","v":16.100000000000001},3959]
["UT","OGDEN HILL AFB","5B",5977,1712,27.05,81.3,9.9699999999999997E-2,"41.117N",12.2,28.5,32.799999999999997,42.2,48.3,58,67.3,76.7,75.099999999999994,65.099999999999994,51.5,38.700000000000003,29.3,666,482,262,129,25,2,0,0,4,80,347,643,0,0,20,77,274,521,827,779,458,127,9,0,23.7,22.64,26.1,28.22,32,33.979999999999997,34.700000000000003,35.78,33.4,28.4,28.4,24.1,0.79746835443037978,0.17630533759566019,67,37,19,24,{"$f":"IF(OR(C944=\"OA\",C944=\"OB\",C944=\"1B\",C944=\"1A\",C944=\"2A\",C944=\"2B\",C944=\"3A\",C944=\"3B\",C944=\"3C\"),TAN((LEFT(I944, 5)+VLOOKUP(C944,Main!$K$3:$L$21,2,FALSE))*PI()/180),IF(Checklist!$I$385=\"No\",TAN((LEFT(I944, 5)+VLOOKUP(C944,Main!$K$3:$L$21,2,FALSE))*PI()/180),\"NR\"))","v":"NR"},{"$f":"VLOOKUP(C944,Main!$A$49:$I$67,Main!$B$47,FALSE)","v":"NR"},{"$f":"VLOOKUP(C944,Main!$A$49:$I$67,Main!$C$47,FALSE)","v":"NR"},{"$f":"VLOOKUP(C944,Main!$A$49:$I$67,Main!$E$47,FALSE)&\":\"&\" \"&VLOOKUP(C944,Main!$A$49:$I$67,Main!$F$47,FALSE)","v":"Minimum COP @ 5°F:: 1.75"},{"$f":"VLOOKUP(C944,Main!$A$49:$I$67,Main!$G$47,FALSE)","v":15},{"$f":"VLOOKUP(C944,Main!$A$49:$I$67,Main!$H$47,FALSE)","v":3.1},{"$f":"VLOOKUP(C944,Main!$A$49:$I$67,Main!$I$47,FALSE)","v":16.100000000000001},3092]
["UT","OGDEN HINKLEY AIRPORT","5B",5846,1802,29.5,81.7,9.9699999999999997E-2,"41.196N",12.2,28,32.700000000000003,42.7,49.2,58.4,68.2,78.900000000000006,75.7,65.8,52.3,40.1,29.8,681,483,250,111,23,1,0,0,3,65,310,627,0,0,24,86,284,546,895,797,476,136,12,0,19.2,23.18,21.6,31.28,32,38.479999999999997,40.46,49.28,35.200000000000003,27.7,27.7,24.1,0.8,0.17630533759566019,67,36,19,24,{"$f":"IF(OR(C945=\"OA\",C945=\"OB\",C945=\"1B\",C945=\"1A\",C945=\"2A\",C945=\"2B\",C945=\"3A\",C945=\"3B\",C945=\"3C\"),TAN((LEFT(I945, 5)+VLOOKUP(C945,Main!$K$3:$L$21,2,FALSE))*PI()/180),IF(Checklist!$I$385=\"No\",TAN((LEFT(I945, 5)+VLOOKUP(C945,Main!$K$3:$L$21,2,FALSE))*PI()/180),\"NR\"))","v":"NR"},{"$f":"VLOOKUP(C945,Main!$A$49:$I$67,Main!$B$47,FALSE)","v":"NR"},{"$f":"VLOOKUP(C945,Main!$A$49:$I$67,Main!$C$47,FALSE)","v":"NR"},{"$f":"VLOOKUP(C945,Main!$A$49:$I$67,Main!$E$47,FALSE)&\":\"&\" \"&VLOOKUP(C945,Main!$A$49:$I$67,Main!$F$47,FALSE)","v":"Minimum COP @ 5°F:: 1.75"},{"$f":"VLOOKUP(C945,Main!$A$49:$I$67,Main!$G$47,FALSE)","v":15},{"$f":"VLOOKUP(C945,Main!$A$49:$I$67,Main!$H$47,FALSE)","v":3.1},{"$f":"VLOOKUP(C945,Main!$A$49:$I$67,Main!$I$47,FALSE)","v":16.100000000000001},3256]
["UT","PROVO MUNI (AWOS)","5B",5972,1738,25.25,79.5,9.9699999999999997E-2,"40.219N",11.9,29.6,33.4,42.7,48.8,58.4,66.7,74.8,73.400000000000006,62.7,50.4,37.5,29.6,634,466,243,108,19,2,0,0,4,84,381,633,0,0,18,73,281,503,768,724,384,97,6,0,26.1,23.18,27.9,32,36.5,42.44,47.84,51.98,38.5,30,30,21.9,0.79166666666666663,0.17536252830370475,67,37,19,24,{"$f":"IF(OR(C946=\"OA\",C946=\"OB\",C946=\"1B\",C946=\"1A\",C946=\"2A\",C946=\"2B\",C946=\"3A\",C946=\"3B\",C946=\"3C\"),TAN((LEFT(I946, 5)+VLOOKUP(C946,Main!$K$3:$L$21,2,FALSE))*PI()/180),IF(Checklist!$I$385=\"No\",TAN((LEFT(I946, 5)+VLOOKUP(C946,Main!$K$3:$L$21,2,FALSE))*PI()/180),\"NR\"))","v":"NR"},{"$f":"VLOOKUP(C946,Main!$A$49:$I$67,Main!$B$47,FALSE)","v":"NR"},{"$f":"VLOOKUP(C946,Main!$A$49:$I$67,Main!$C$47,FALSE)","v":"NR"},{"$f":"VLOOKUP(C946,Main!$A$49:$I$67,Main!$E$47,FALSE)&\":\"&\" \"&VLOOKUP(C946,Main!$A$49:$I$67,Main!$F$47,FALSE)","v":"Minimum COP @ 5°F:: 1.75"},{"$f":"VLOOKUP(C946,Main!$A$49:$I$67,Main!$G$47,FALSE)","v":15},{"$f":"VLOOKUP(C946,Main!$A$49:$I$67,Main!$H$47,FALSE)","v":3.1},{"$f":"VLOOKUP(C946,Main!$A$49:$I$67,Main!$I$47,FALSE)","v":16.100000000000001},2854]
["UT","SAINT GEORGE (AWOS)","3B",2974,2018,41.1,95,9.9699999999999997E-2,"37.100N",27.8,42.6,46.9,55.3,61.9,72.900000000000006,82.2,88.5,86.3,78.400000000000006,64.5,50.2,40.799999999999997,235,114,27,6,0,0,0,0,0,2,77,288,4,27,192,363,711,965,1193,1126,852,452,83,3,26.1,35.24,23.4,25.7,21.7,30.02,42.08,47.12,37.6,32.700000000000003,32.700000000000003,23.2,0.70588235294117652,0.24472233427457304,58,28,15,20,{"$f":"IF(OR(C947=\"OA\",C947=\"OB\",C947=\"1B\",C947=\"1A\",C947=\"2A\",C947=\"2B\",C947=\"3A\",C947=\"3B\",C947=\"3C\"),TAN((LEFT(I947, 5)+VLOOKUP(C947,Main!$K$3:$L$21,2,FALSE))*PI()/180),IF(Checklist!$I$385=\"No\",TAN((LEFT(I947, 5)+VLOOKUP(C947,Main!$K$3:$L$21,2,FALSE))*PI()/180),\"NR\"))","v":0.7562940600292124},{"$f":"VLOOKUP(C947,Main!$A$49:$I$67,Main!$B$47,FALSE)","v":"NR"},{"$f":"VLOOKUP(C947,Main!$A$49:$I$67,Main!$C$47,FALSE)","v":0.25},{"$f":"VLOOKUP(C947,Main!$A$49:$I$67,Main!$E$47,FALSE)&\":\"&\" \"&VLOOKUP(C947,Main!$A$49:$I$67,Main!$F$47,FALSE)","v":"Minimum HSPF:: 9.6"},{"$f":"VLOOKUP(C947,Main!$A$49:$I$67,Main!$G$47,FALSE)","v":18},{"$f":"VLOOKUP(C947,Main!$A$49:$I$67,Main!$H$47,FALSE)","v":3.1},{"$f":"VLOOKUP(C947,Main!$A$49:$I$67,Main!$I$47,FALSE)","v":16.100000000000001},5971]
["UT","SALT LAKE CITY INT ARPT [ISIS]","5B",5466,1663,27.4,82.4,9.9699999999999997E-2,"40.778N",14.4,30.2,35.1,44.4,50.6,60.2,70.099999999999994,79.8,77.8,67.5,53.6,40.5,30.8,614,420,205,89,14,1,0,0,1,54,302,597,0,1,32,106,331,603,924,862,526,164,16,1,22.6,24.44,29.7,31.82,39.700000000000003,38.299999999999997,46.94,43.88,41.2,28.4,28.4,25.2,0.78835978835978848,0.18354175070592979,66,35,18,23,{"$f":"IF(OR(C948=\"OA\",C948=\"OB\",C948=\"1B\",C948=\"1A\",C948=\"2A\",C948=\"2B\",C948=\"3A\",C948=\"3B\",C948=\"3C\"),TAN((LEFT(I948, 5)+VLOOKUP(C948,Main!$K$3:$L$21,2,FALSE))*PI()/180),IF(Checklist!$I$385=\"No\",TAN((LEFT(I948, 5)+VLOOKUP(C948,Main!$K$3:$L$21,2,FALSE))*PI()/180),\"NR\"))","v":"NR"},{"$f":"VLOOKUP(C948,Main!$A$49:$I$67,Main!$B$47,FALSE)","v":"NR"},{"$f":"VLOOKUP(C948,Main!$A$49:$I$67,Main!$C$47,FALSE)","v":"NR"},{"$f":"VLOOKUP(C948,Main!$A$49:$I$67,Main!$E$47,FALSE)&\":\"&\" \"&VLOOKUP(C948,Main!$A$49:$I$67,Main!$F$47,FALSE)","v":"Minimum COP @ 5°F:: 1.75"},{"$f":"VLOOKUP(C948,Main!$A$49:$I$67,Main!$G$47,FALSE)","v":15},{"$f":"VLOOKUP(C948,Main!$A$49:$I$67,Main!$H$47,FALSE)","v":3.1},{"$f":"VLOOKUP(C948,Main!$A$49:$I$67,Main!$I$47,FALSE)","v":16.100000000000001},3566]
["UT","VERNAL","5B",7127,1737,19.75,74.3,9.9699999999999997E-2,"40.443N",-1.1000000000000001,18.100000000000001,26.5,39.299999999999997,47.2,57,66.3,74.400000000000006,70.7,61.5,48.5,34.799999999999997,20.6,989,659,339,131,27,1,0,0,6,111,456,913,0,0,7,48,244,490,756,643,352,63,0,0,19.399999999999999,21.38,25.9,28.76,34,36.86,42.08,39.56,48.7,24.8,24.8,14.7,0.83967935871743482,0.14237102514960692,71,40,22,27,{"$f":"IF(OR(C949=\"OA\",C949=\"OB\",C949=\"1B\",C949=\"1A\",C949=\"2A\",C949=\"2B\",C949=\"3A\",C949=\"3B\",C949=\"3C\"),TAN((LEFT(I949, 5)+VLOOKUP(C949,Main!$K$3:$L$21,2,FALSE))*PI()/180),IF(Checklist!$I$385=\"No\",TAN((LEFT(I949, 5)+VLOOKUP(C949,Main!$K$3:$L$21,2,FALSE))*PI()/180),\"NR\"))","v":"NR"},{"$f":"VLOOKUP(C949,Main!$A$49:$I$67,Main!$B$47,FALSE)","v":"NR"},{"$f":"VLOOKUP(C949,Main!$A$49:$I$67,Main!$C$47,FALSE)","v":"NR"},{"$f":"VLOOKUP(C949,Main!$A$49:$I$67,Main!$E$47,FALSE)&\":\"&\" \"&VLOOKUP(C949,Main!$A$49:$I$67,Main!$F$47,FALSE)","v":"Minimum COP @ 5°F:: 1.75"},{"$f":"VLOOKUP(C949,Main!$A$49:$I$67,Main!$G$47,FALSE)","v":15},{"$f":"VLOOKUP(C949,Main!$A$49:$I$67,Main!$H$47,FALSE)","v":3.1},{"$f":"VLOOKUP(C949,Main!$A$49:$I$67,Main!$I$47,FALSE)","v":16.100000000000001},2603]
["UT","WENDOVER USAF AUXILIARY FIELD","5B",5864,1769,21.35,82.8,9.9699999999999997E-2,"40.721N",10.5,27.5,33.4,43.2,50.5,60.6,70.400000000000006,79.900000000000006,77.099999999999994,66.5,51.5,37.4,27.9,697,465,232,85,10,1,0,0,0,65,381,687,0,0,20,98,340,613,926,840,495,112,3,0,18.3,21.56,23.4,25.16,32.5,30.56,37.22,38.479999999999997,31.5,17.600000000000001,17.600000000000001,18.3,0.80246913580246915,0.17109283196239716,67,36,19,24,{"$f":"IF(OR(C950=\"OA\",C950=\"OB\",C950=\"1B\",C950=\"1A\",C950=\"2A\",C950=\"2B\",C950=\"3A\",C950=\"3B\",C950=\"3C\"),TAN((LEFT(I950, 5)+VLOOKUP(C950,Main!$K$3:$L$21,2,FALSE))*PI()/180),IF(Checklist!$I$385=\"No\",TAN((LEFT(I950, 5)+VLOOKUP(C950,Main!$K$3:$L$21,2,FALSE))*PI()/180),\"NR\"))","v":"NR"},{"$f":"VLOOKUP(C950,Main!$A$49:$I$67,Main!$B$47,FALSE)","v":"NR"},{"$f":"VLOOKUP(C950,Main!$A$49:$I$67,Main!$C$47,FALSE)","v":"NR"},{"$f":"VLOOKUP(C950,Main!$A$49:$I$67,Main!$E$47,FALSE)&\":\"&\" \"&VLOOKUP(C950,Main!$A$49:$I$67,Main!$F$47,FALSE)","v":"Minimum COP @ 5°F:: 1.75"},{"$f":"VLOOKUP(C950,Main!$A$49:$I$67,Main!$G$47,FALSE)","v":15},{"$f":"VLOOKUP(C950,Main!$A$49:$I$67,Main!$H$47,FALSE)","v":3.1},{"$f":"VLOOKUP(C950,Main!$A$49:$I$67,Main!$I$47,FALSE)","v":16.100000000000001},3447]
["VA","ABINGDON","4A",4215,1478,23.9,80.099999999999994,0.10680000000000001,"36.683N",17.8,36,39.4,47.1,56.1,64.2,71.599999999999994,74.099999999999994,73.900000000000006,67.900000000000006,57.2,46.7,38.9,451,313,170,39,2,0,0,0,0,31,163,361,17,17,81,223,444,648,746,741,538,255,65,17,31.8,24.62,32.200000000000003,35.42,44.2,59.18,62.6,62.42,49.3,30.2,30.2,30.9,0.75,0.19597286529557442,62,32,16,21,{"$f":"IF(OR(C951=\"OA\",C951=\"OB\",C951=\"1B\",C951=\"1A\",C951=\"2A\",C951=\"2B\",C951=\"3A\",C951=\"3B\",C951=\"3C\"),TAN((LEFT(I951, 5)+VLOOKUP(C951,Main!$K$3:$L$21,2,FALSE))*PI()/180),IF(Checklist!$I$385=\"No\",TAN((LEFT(I951, 5)+VLOOKUP(C951,Main!$K$3:$L$21,2,FALSE))*PI()/180),\"NR\"))","v":"NR"},{"$f":"VLOOKUP(C951,Main!$A$49:$I$67,Main!$B$47,FALSE)","v":0.5},{"$f":"VLOOKUP(C951,Main!$A$49:$I$67,Main!$C$47,FALSE)","v":0.25},{"$f":"VLOOKUP(C951,Main!$A$49:$I$67,Main!$E$47,FALSE)&\":\"&\" \"&VLOOKUP(C951,Main!$A$49:$I$67,Main!$F$47,FALSE)","v":"Minimum HSPF:: 9.6"},{"$f":"VLOOKUP(C951,Main!$A$49:$I$67,Main!$G$47,FALSE)","v":18},{"$f":"VLOOKUP(C951,Main!$A$49:$I$67,Main!$H$47,FALSE)","v":3.1},{"$f":"VLOOKUP(C951,Main!$A$49:$I$67,Main!$I$47,FALSE)","v":16.100000000000001},3792]
["VA","CHARLOTTESVILLE FAA","4A",4202,1421,32,80.8,0.10680000000000001,"38.139N",19.399999999999999,36.4,38.9,46.8,56.7,64.599999999999994,72.900000000000006,76.099999999999994,74.900000000000006,67.5,57,47.8,39.299999999999997,440,326,182,30,2,0,0,0,0,26,144,350,18,14,82,230,454,686,810,772,526,242,76,19,18.3,32.54,31.1,41.36,56.1,62.24,64.58,64.58,59.7,34.5,34.5,29.8,0.74683544303797467,0.20242464686909131,62,32,15,20,{"$f":"IF(OR(C952=\"OA\",C952=\"OB\",C952=\"1B\",C952=\"1A\",C952=\"2A\",C952=\"2B\",C952=\"3A\",C952=\"3B\",C952=\"3C\"),TAN((LEFT(I952, 5)+VLOOKUP(C952,Main!$K$3:$L$21,2,FALSE))*PI()/180),IF(Checklist!$I$385=\"No\",TAN((LEFT(I952, 5)+VLOOKUP(C952,Main!$K$3:$L$21,2,FALSE))*PI()/180),\"NR\"))","v":"NR"},{"$f":"VLOOKUP(C952,Main!$A$49:$I$67,Main!$B$47,FALSE)","v":0.5},{"$f":"VLOOKUP(C952,Main!$A$49:$I$67,Main!$C$47,FALSE)","v":0.25},{"$f":"VLOOKUP(C952,Main!$A$49:$I$67,Main!$E$47,FALSE)&\":\"&\" \"&VLOOKUP(C952,Main!$A$49:$I$67,Main!$F$47,FALSE)","v":"Minimum HSPF:: 9.6"},{"$f":"VLOOKUP(C952,Main!$A$49:$I$67,Main!$G$47,FALSE)","v":18},{"$f":"VLOOKUP(C952,Main!$A$49:$I$67,Main!$H$47,FALSE)","v":3.1},{"$f":"VLOOKUP(C952,Main!$A$49:$I$67,Main!$I$47,FALSE)","v":16.100000000000001},3929]
["VA","DANVILLE FAA AP","4A",3649,1434,35.1,81.5,0.10680000000000001,"36.573N",21.7,39.6,42,49.4,58.7,66.599999999999994,74.599999999999994,78,77.2,70,59.3,49.1,41.7,351,252,129,18,0,0,0,0,0,15,119,287,30,27,110,279,515,738,867,843,601,304,91,30,25.2,34.340000000000003,35.4,45.32,55.2,64.58,66.92,69.08,61.2,32.9,32.9,34.700000000000003,0.71830985915492951,0.2124802988733874,61,30,14,19,{"$f":"IF(OR(C953=\"OA\",C953=\"OB\",C953=\"1B\",C953=\"1A\",C953=\"2A\",C953=\"2B\",C953=\"3A\",C953=\"3B\",C953=\"3C\"),TAN((LEFT(I953, 5)+VLOOKUP(C953,Main!$K$3:$L$21,2,FALSE))*PI()/180),IF(Checklist!$I$385=\"No\",TAN((LEFT(I953, 5)+VLOOKUP(C953,Main!$K$3:$L$21,2,FALSE))*PI()/180),\"NR\"))","v":"NR"},{"$f":"VLOOKUP(C953,Main!$A$49:$I$67,Main!$B$47,FALSE)","v":0.5},{"$f":"VLOOKUP(C953,Main!$A$49:$I$67,Main!$C$47,FALSE)","v":0.25},{"$f":"VLOOKUP(C953,Main!$A$49:$I$67,Main!$E$47,FALSE)&\":\"&\" \"&VLOOKUP(C953,Main!$A$49:$I$67,Main!$F$47,FALSE)","v":"Minimum HSPF:: 9.6"},{"$f":"VLOOKUP(C953,Main!$A$49:$I$67,Main!$G$47,FALSE)","v":18},{"$f":"VLOOKUP(C953,Main!$A$49:$I$67,Main!$H$47,FALSE)","v":3.1},{"$f":"VLOOKUP(C953,Main!$A$49:$I$67,Main!$I$47,FALSE)","v":16.100000000000001},4435]
["VA","DAVISON AAF","4A",4229,1463,20.85,83.7,0.10680000000000001,"38.717N",19.2,35.799999999999997,39.1,46,56.6,65,73.7,78.599999999999994,76.3,69.400000000000006,57.7,47,39.200000000000003,453,322,189,24,1,0,0,0,0,17,155,354,14,16,64,222,467,710,887,816,583,255,64,19,21.9,24.98,27,33.799999999999997,50.2,64.400000000000006,68.900000000000006,65.84,61.9,33.1,33.1,31.3,0.75155279503105588,0.20159503766061143,62,32,16,21,{"$f":"IF(OR(C954=\"OA\",C954=\"OB\",C954=\"1B\",C954=\"1A\",C954=\"2A\",C954=\"2B\",C954=\"3A\",C954=\"3B\",C954=\"3C\"),TAN((LEFT(I954, 5)+VLOOKUP(C954,Main!$K$3:$L$21,2,FALSE))*PI()/180),IF(Checklist!$I$385=\"No\",TAN((LEFT(I954, 5)+VLOOKUP(C954,Main!$K$3:$L$21,2,FALSE))*PI()/180),\"NR\"))","v":"NR"},{"$f":"VLOOKUP(C954,Main!$A$49:$I$67,Main!$B$47,FALSE)","v":0.5},{"$f":"VLOOKUP(C954,Main!$A$49:$I$67,Main!$C$47,FALSE)","v":0.25},{"$f":"VLOOKUP(C954,Main!$A$49:$I$67,Main!$E$47,FALSE)&\":\"&\" \"&VLOOKUP(C954,Main!$A$49:$I$67,Main!$F$47,FALSE)","v":"Minimum HSPF:: 9.6"},{"$f":"VLOOKUP(C954,Main!$A$49:$I$67,Main!$G$47,FALSE)","v":18},{"$f":"VLOOKUP(C954,Main!$A$49:$I$67,Main!$H$47,FALSE)","v":3.1},{"$f":"VLOOKUP(C954,Main!$A$49:$I$67,Main!$I$47,FALSE)","v":16.100000000000001},4117]
["VA","FARMVILLE","4A",3867,1489,28.75,82.2,0.10680000000000001,"37.358N",18.8,38.5,40.4,48.5,58,66,74.400000000000006,78.5,77.2,69.599999999999994,58.6,48.3,41.3,386,290,149,21,0,0,0,0,0,16,142,300,29,22,101,261,498,733,883,844,587,282,91,31,24.8,27.68,25.5,45.68,57,61.7,63.32,62.78,60.4,43.3,43.3,32,0.72881355932203384,0.19995605361459018,61,31,15,20,{"$f":"IF(OR(C955=\"OA\",C955=\"OB\",C955=\"1B\",C955=\"1A\",C955=\"2A\",C955=\"2B\",C955=\"3A\",C955=\"3B\",C955=\"3C\"),TAN((LEFT(I955, 5)+VLOOKUP(C955,Main!$K$3:$L$21,2,FALSE))*PI()/180),IF(Checklist!$I$385=\"No\",TAN((LEFT(I955, 5)+VLOOKUP(C955,Main!$K$3:$L$21,2,FALSE))*PI()/180),\"NR\"))","v":"NR"},{"$f":"VLOOKUP(C955,Main!$A$49:$I$67,Main!$B$47,FALSE)","v":0.5},{"$f":"VLOOKUP(C955,Main!$A$49:$I$67,Main!$C$47,FALSE)","v":0.25},{"$f":"VLOOKUP(C955,Main!$A$49:$I$67,Main!$E$47,FALSE)&\":\"&\" \"&VLOOKUP(C955,Main!$A$49:$I$67,Main!$F$47,FALSE)","v":"Minimum HSPF:: 9.6"},{"$f":"VLOOKUP(C955,Main!$A$49:$I$67,Main!$G$47,FALSE)","v":18},{"$f":"VLOOKUP(C955,Main!$A$49:$I$67,Main!$H$47,FALSE)","v":3.1},{"$f":"VLOOKUP(C955,Main!$A$49:$I$67,Main!$I$47,FALSE)","v":16.100000000000001},4362]
["VA","FRANKLIN NAAS","3A",3252,1556,38.950000000000003,82.4,0.10680000000000001,"36.698N",23.4,41.6,43.8,50.9,60.2,68.3,76.599999999999994,80.2,78.7,72.599999999999994,61.7,51.5,44.6,311,215,109,12,0,0,0,0,0,7,86,224,51,42,136,317,569,797,937,889,678,370,131,55,29.1,33.26,38.799999999999997,45.68,56.8,61.7,68.540000000000006,67.28,64.599999999999994,40.299999999999997,40.299999999999997,33.1,0.69696969696969691,0.22057932371833716,59,29,14,19,{"$f":"IF(OR(C956=\"OA\",C956=\"OB\",C956=\"1B\",C956=\"1A\",C956=\"2A\",C956=\"2B\",C956=\"3A\",C956=\"3B\",C956=\"3C\"),TAN((LEFT(I956, 5)+VLOOKUP(C956,Main!$K$3:$L$21,2,FALSE))*PI()/180),IF(Checklist!$I$385=\"No\",TAN((LEFT(I956, 5)+VLOOKUP(C956,Main!$K$3:$L$21,2,FALSE))*PI()/180),\"NR\"))","v":0.74510556236097714},{"$f":"VLOOKUP(C956,Main!$A$49:$I$67,Main!$B$47,FALSE)","v":0.6},{"$f":"VLOOKUP(C956,Main!$A$49:$I$67,Main!$C$47,FALSE)","v":0.25},{"$f":"VLOOKUP(C956,Main!$A$49:$I$67,Main!$E$47,FALSE)&\":\"&\" \"&VLOOKUP(C956,Main!$A$49:$I$67,Main!$F$47,FALSE)","v":"Minimum HSPF:: 9.6"},{"$f":"VLOOKUP(C956,Main!$A$49:$I$67,Main!$G$47,FALSE)","v":18},{"$f":"VLOOKUP(C956,Main!$A$49:$I$67,Main!$H$47,FALSE)","v":3.1},{"$f":"VLOOKUP(C956,Main!$A$49:$I$67,Main!$I$47,FALSE)","v":16.100000000000001},4972]
["VA","HILLSVILLE","4A",4600,1627,17.149999999999999,76.099999999999994,0.10680000000000001,"36.766N",16,35.4,37.299999999999997,44.8,54.5,62.2,69.400000000000006,72.400000000000006,71.7,65.099999999999994,55.7,45.4,38.299999999999997,469,366,223,56,4,0,0,0,1,37,194,381,17,9,62,192,384,583,695,674,455,213,56,18,24.6,26.06,25.7,36.5,42.6,60.98,62.6,64.760000000000005,53.8,29.7,29.7,27.1,0.754601226993865,0.1891891891891892,64,33,16,21,{"$f":"IF(OR(C957=\"OA\",C957=\"OB\",C957=\"1B\",C957=\"1A\",C957=\"2A\",C957=\"2B\",C957=\"3A\",C957=\"3B\",C957=\"3C\"),TAN((LEFT(I957, 5)+VLOOKUP(C957,Main!$K$3:$L$21,2,FALSE))*PI()/180),IF(Checklist!$I$385=\"No\",TAN((LEFT(I957, 5)+VLOOKUP(C957,Main!$K$3:$L$21,2,FALSE))*PI()/180),\"NR\"))","v":"NR"},{"$f":"VLOOKUP(C957,Main!$A$49:$I$67,Main!$B$47,FALSE)","v":0.5},{"$f":"VLOOKUP(C957,Main!$A$49:$I$67,Main!$C$47,FALSE)","v":0.25},{"$f":"VLOOKUP(C957,Main!$A$49:$I$67,Main!$E$47,FALSE)&\":\"&\" \"&VLOOKUP(C957,Main!$A$49:$I$67,Main!$F$47,FALSE)","v":"Minimum HSPF:: 9.6"},{"$f":"VLOOKUP(C957,Main!$A$49:$I$67,Main!$G$47,FALSE)","v":18},{"$f":"VLOOKUP(C957,Main!$A$49:$I$67,Main!$H$47,FALSE)","v":3.1},{"$f":"VLOOKUP(C957,Main!$A$49:$I$67,Main!$I$47,FALSE)","v":16.100000000000001},3358]
["VA","HOT SPRINGS/INGALLS","5A",6113,1423,9.1,70.900000000000006,0.10680000000000001,"37.950N",7.1,28.3,30.7,38.299999999999997,48.9,57.8,65.5,69,68.099999999999994,61.1,51.4,40.299999999999997,32.299999999999997,681,542,392,146,26,1,0,3,6,97,321,556,8,3,31,113,267,464,588,564,340,139,29,7,24.3,20.48,27.7,32.72,37,51.08,58.28,55.4,45.7,30.4,30.4,25.7,0.79848866498740545,0.1615408511960236,68,37,20,25,{"$f":"IF(OR(C958=\"OA\",C958=\"OB\",C958=\"1B\",C958=\"1A\",C958=\"2A\",C958=\"2B\",C958=\"3A\",C958=\"3B\",C958=\"3C\"),TAN((LEFT(I958, 5)+VLOOKUP(C958,Main!$K$3:$L$21,2,FALSE))*PI()/180),IF(Checklist!$I$385=\"No\",TAN((LEFT(I958, 5)+VLOOKUP(C958,Main!$K$3:$L$21,2,FALSE))*PI()/180),\"NR\"))","v":"NR"},{"$f":"VLOOKUP(C958,Main!$A$49:$I$67,Main!$B$47,FALSE)","v":"NR"},{"$f":"VLOOKUP(C958,Main!$A$49:$I$67,Main!$C$47,FALSE)","v":"NR"},{"$f":"VLOOKUP(C958,Main!$A$49:$I$67,Main!$E$47,FALSE)&\":\"&\" \"&VLOOKUP(C958,Main!$A$49:$I$67,Main!$F$47,FALSE)","v":"Minimum COP @ 5°F:: 1.75"},{"$f":"VLOOKUP(C958,Main!$A$49:$I$67,Main!$G$47,FALSE)","v":15},{"$f":"VLOOKUP(C958,Main!$A$49:$I$67,Main!$H$47,FALSE)","v":3.1},{"$f":"VLOOKUP(C958,Main!$A$49:$I$67,Main!$I$47,FALSE)","v":16.100000000000001},2553]
["VA","LANGLEY AFB","3A",3415,1472,26.15,83.5,0.10680000000000001,"37.083N",24.9,40.4,43,49.2,58.6,66.7,75,79.3,77.400000000000006,71.900000000000006,61.4,51.5,44.3,330,231,130,17,0,0,0,0,0,6,81,228,33,34,107,275,517,751,909,848,656,359,125,52,34.5,29.66,30.9,40.64,55,63.68,71.959999999999994,66.2,59.7,36.9,36.9,26.1,0.71014492753623193,0.22825609832570387,60,30,14,19,{"$f":"IF(OR(C959=\"OA\",C959=\"OB\",C959=\"1B\",C959=\"1A\",C959=\"2A\",C959=\"2B\",C959=\"3A\",C959=\"3B\",C959=\"3C\"),TAN((LEFT(I959, 5)+VLOOKUP(C959,Main!$K$3:$L$21,2,FALSE))*PI()/180),IF(Checklist!$I$385=\"No\",TAN((LEFT(I959, 5)+VLOOKUP(C959,Main!$K$3:$L$21,2,FALSE))*PI()/180),\"NR\"))","v":0.75574548004840381},{"$f":"VLOOKUP(C959,Main!$A$49:$I$67,Main!$B$47,FALSE)","v":0.6},{"$f":"VLOOKUP(C959,Main!$A$49:$I$67,Main!$C$47,FALSE)","v":0.25},{"$f":"VLOOKUP(C959,Main!$A$49:$I$67,Main!$E$47,FALSE)&\":\"&\" \"&VLOOKUP(C959,Main!$A$49:$I$67,Main!$F$47,FALSE)","v":"Minimum HSPF:: 9.6"},{"$f":"VLOOKUP(C959,Main!$A$49:$I$67,Main!$G$47,FALSE)","v":18},{"$f":"VLOOKUP(C959,Main!$A$49:$I$67,Main!$H$47,FALSE)","v":3.1},{"$f":"VLOOKUP(C959,Main!$A$49:$I$67,Main!$I$47,FALSE)","v":16.100000000000001},4666]
["VA","LEESBURG/GODFREY","4A",4431,1465,20.75,81.7,0.10680000000000001,"39.078N",18.2,34.799999999999997,36.9,45.5,55.7,64.7,73.900000000000006,77.900000000000006,76.8,69.099999999999994,57.4,46.5,37.9,485,375,203,37,1,0,0,0,0,20,166,387,14,9,63,209,458,716,866,831,573,250,61,13,25,21.02,26.4,34.700000000000003,51.6,62.06,66.2,63.68,53.1,30.2,30.2,26.4,0.75903614457831325,0.19754694453489635,63,33,16,21,{"$f":"IF(OR(C960=\"OA\",C960=\"OB\",C960=\"1B\",C960=\"1A\",C960=\"2A\",C960=\"2B\",C960=\"3A\",C960=\"3B\",C960=\"3C\"),TAN((LEFT(I960, 5)+VLOOKUP(C960,Main!$K$3:$L$21,2,FALSE))*PI()/180),IF(Checklist!$I$385=\"No\",TAN((LEFT(I960, 5)+VLOOKUP(C960,Main!$K$3:$L$21,2,FALSE))*PI()/180),\"NR\"))","v":"NR"},{"$f":"VLOOKUP(C960,Main!$A$49:$I$67,Main!$B$47,FALSE)","v":0.5},{"$f":"VLOOKUP(C960,Main!$A$49:$I$67,Main!$C$47,FALSE)","v":0.25},{"$f":"VLOOKUP(C960,Main!$A$49:$I$67,Main!$E$47,FALSE)&\":\"&\" \"&VLOOKUP(C960,Main!$A$49:$I$67,Main!$F$47,FALSE)","v":"Minimum HSPF:: 9.6"},{"$f":"VLOOKUP(C960,Main!$A$49:$I$67,Main!$G$47,FALSE)","v":18},{"$f":"VLOOKUP(C960,Main!$A$49:$I$67,Main!$H$47,FALSE)","v":3.1},{"$f":"VLOOKUP(C960,Main!$A$49:$I$67,Main!$I$47,FALSE)","v":16.100000000000001},4063]
["VA","LYNCHBURG REGIONAL ARPT","4A",4192,1599,27.05,79.3,0.10680000000000001,"37.321N",19.7,36.799999999999997,39.299999999999997,47,56.7,64.2,72.2,76,74.599999999999994,67.7,57,47,39.200000000000003,424,314,173,29,1,0,0,0,0,24,158,353,15,13,81,231,440,665,805,762,531,240,67,18,18.100000000000001,25.7,34.700000000000003,40.64,51.8,62.96,67.099999999999994,64.400000000000006,60.3,34.9,34.9,26.8,0.74358974358974361,0.20368194281237759,62,32,15,20,{"$f":"IF(OR(C961=\"OA\",C961=\"OB\",C961=\"1B\",C961=\"1A\",C961=\"2A\",C961=\"2B\",C961=\"3A\",C961=\"3B\",C961=\"3C\"),TAN((LEFT(I961, 5)+VLOOKUP(C961,Main!$K$3:$L$21,2,FALSE))*PI()/180),IF(Checklist!$I$385=\"No\",TAN((LEFT(I961, 5)+VLOOKUP(C961,Main!$K$3:$L$21,2,FALSE))*PI()/180),\"NR\"))","v":"NR"},{"$f":"VLOOKUP(C961,Main!$A$49:$I$67,Main!$B$47,FALSE)","v":0.5},{"$f":"VLOOKUP(C961,Main!$A$49:$I$67,Main!$C$47,FALSE)","v":0.25},{"$f":"VLOOKUP(C961,Main!$A$49:$I$67,Main!$E$47,FALSE)&\":\"&\" \"&VLOOKUP(C961,Main!$A$49:$I$67,Main!$F$47,FALSE)","v":"Minimum HSPF:: 9.6"},{"$f":"VLOOKUP(C961,Main!$A$49:$I$67,Main!$G$47,FALSE)","v":18},{"$f":"VLOOKUP(C961,Main!$A$49:$I$67,Main!$H$47,FALSE)","v":3.1},{"$f":"VLOOKUP(C961,Main!$A$49:$I$67,Main!$I$47,FALSE)","v":16.100000000000001},3868]
["VA","MANASSAS MUNI(AWOS)","4A",4826,1678,18.399999999999999,78.3,0.10680000000000001,"38.721N",16.100000000000001,33.299999999999997,36.200000000000003,43.4,54.4,62.2,71.8,76,74.5,67.5,55.2,45.2,35.6,528,393,245,44,3,0,0,0,0,31,192,454,12,8,39,177,380,655,805,760,526,193,48,9,26.2,21.38,24.3,34.159999999999997,41.5,61.16,67.459999999999994,63.68,54.9,27.9,27.9,28.6,0.76945244956772341,0.18955371556527625,64,34,17,22,{"$f":"IF(OR(C962=\"OA\",C962=\"OB\",C962=\"1B\",C962=\"1A\",C962=\"2A\",C962=\"2B\",C962=\"3A\",C962=\"3B\",C962=\"3C\"),TAN((LEFT(I962, 5)+VLOOKUP(C962,Main!$K$3:$L$21,2,FALSE))*PI()/180),IF(Checklist!$I$385=\"No\",TAN((LEFT(I962, 5)+VLOOKUP(C962,Main!$K$3:$L$21,2,FALSE))*PI()/180),\"NR\"))","v":"NR"},{"$f":"VLOOKUP(C962,Main!$A$49:$I$67,Main!$B$47,FALSE)","v":0.5},{"$f":"VLOOKUP(C962,Main!$A$49:$I$67,Main!$C$47,FALSE)","v":0.25},{"$f":"VLOOKUP(C962,Main!$A$49:$I$67,Main!$E$47,FALSE)&\":\"&\" \"&VLOOKUP(C962,Main!$A$49:$I$67,Main!$F$47,FALSE)","v":"Minimum HSPF:: 9.6"},{"$f":"VLOOKUP(C962,Main!$A$49:$I$67,Main!$G$47,FALSE)","v":18},{"$f":"VLOOKUP(C962,Main!$A$49:$I$67,Main!$H$47,FALSE)","v":3.1},{"$f":"VLOOKUP(C962,Main!$A$49:$I$67,Main!$I$47,FALSE)","v":16.100000000000001},3612]
["VA","MARION / WYTHEVILLE","4A",4837,1460,21.65,73,0.10680000000000001,"36.895N",12.3,33.299999999999997,36.1,44.9,53.8,62.1,69.8,73.099999999999994,72.2,65.400000000000006,54.7,43.7,37,534,397,223,64,7,0,0,0,1,54,229,414,15,9,64,179,382,593,715,687,463,199,39,12,18,29.48,34,32.36,45.1,57.74,60.98,62.96,52.2,36.1,36.1,21,0.76945244956772341,0.17662186423407247,65,34,17,22,{"$f":"IF(OR(C963=\"OA\",C963=\"OB\",C963=\"1B\",C963=\"1A\",C963=\"2A\",C963=\"2B\",C963=\"3A\",C963=\"3B\",C963=\"3C\"),TAN((LEFT(I963, 5)+VLOOKUP(C963,Main!$K$3:$L$21,2,FALSE))*PI()/180),IF(Checklist!$I$385=\"No\",TAN((LEFT(I963, 5)+VLOOKUP(C963,Main!$K$3:$L$21,2,FALSE))*PI()/180),\"NR\"))","v":"NR"},{"$f":"VLOOKUP(C963,Main!$A$49:$I$67,Main!$B$47,FALSE)","v":0.5},{"$f":"VLOOKUP(C963,Main!$A$49:$I$67,Main!$C$47,FALSE)","v":0.25},{"$f":"VLOOKUP(C963,Main!$A$49:$I$67,Main!$E$47,FALSE)&\":\"&\" \"&VLOOKUP(C963,Main!$A$49:$I$67,Main!$F$47,FALSE)","v":"Minimum HSPF:: 9.6"},{"$f":"VLOOKUP(C963,Main!$A$49:$I$67,Main!$G$47,FALSE)","v":18},{"$f":"VLOOKUP(C963,Main!$A$49:$I$67,Main!$H$47,FALSE)","v":3.1},{"$f":"VLOOKUP(C963,Main!$A$49:$I$67,Main!$I$47,FALSE)","v":16.100000000000001},3357]
["VA","MARTINSVILLE","4A",3900,1573,24.35,80.2,0.10680000000000001,"36.631N",18.899999999999999,38.5,41.3,48.4,58.1,65.599999999999994,73.7,77.099999999999994,76,68.8,57.9,47.5,40.4,379,264,148,23,1,0,0,0,0,20,146,321,23,20,98,264,486,710,840,807,564,266,72,22,31.6,25.52,26.8,39.020000000000003,45.9,62.78,65.84,66.739999999999995,57.6,31.3,31.3,28.8,0.72881355932203384,0.20036329608631032,62,31,15,20,{"$f":"IF(OR(C964=\"OA\",C964=\"OB\",C964=\"1B\",C964=\"1A\",C964=\"2A\",C964=\"2B\",C964=\"3A\",C964=\"3B\",C964=\"3C\"),TAN((LEFT(I964, 5)+VLOOKUP(C964,Main!$K$3:$L$21,2,FALSE))*PI()/180),IF(Checklist!$I$385=\"No\",TAN((LEFT(I964, 5)+VLOOKUP(C964,Main!$K$3:$L$21,2,FALSE))*PI()/180),\"NR\"))","v":"NR"},{"$f":"VLOOKUP(C964,Main!$A$49:$I$67,Main!$B$47,FALSE)","v":0.5},{"$f":"VLOOKUP(C964,Main!$A$49:$I$67,Main!$C$47,FALSE)","v":0.25},{"$f":"VLOOKUP(C964,Main!$A$49:$I$67,Main!$E$47,FALSE)&\":\"&\" \"&VLOOKUP(C964,Main!$A$49:$I$67,Main!$F$47,FALSE)","v":"Minimum HSPF:: 9.6"},{"$f":"VLOOKUP(C964,Main!$A$49:$I$67,Main!$G$47,FALSE)","v":18},{"$f":"VLOOKUP(C964,Main!$A$49:$I$67,Main!$H$47,FALSE)","v":3.1},{"$f":"VLOOKUP(C964,Main!$A$49:$I$67,Main!$I$47,FALSE)","v":16.100000000000001},4172]
["VA","MELFA/ACCOMACK ARPT","4A",3646,1495,30.1,84,0.10680000000000001,"37.647N",24.6,40,41.2,47.6,56.9,65.900000000000006,74.7,79.2,77.099999999999994,70.7,61.4,50.8,43.2,344,271,157,26,0,0,0,0,0,6,95,251,34,25,82,233,492,741,905,840,622,359,118,41,27.9,28.04,29.7,46.76,57,64.22,68,70.7,59.2,42.8,42.8,37.200000000000003,0.7142857142857143,0.22667829119442021,60,30,15,20,{"$f":"IF(OR(C965=\"OA\",C965=\"OB\",C965=\"1B\",C965=\"1A\",C965=\"2A\",C965=\"2B\",C965=\"3A\",C965=\"3B\",C965=\"3C\"),TAN((LEFT(I965, 5)+VLOOKUP(C965,Main!$K$3:$L$21,2,FALSE))*PI()/180),IF(Checklist!$I$385=\"No\",TAN((LEFT(I965, 5)+VLOOKUP(C965,Main!$K$3:$L$21,2,FALSE))*PI()/180),\"NR\"))","v":"NR"},{"$f":"VLOOKUP(C965,Main!$A$49:$I$67,Main!$B$47,FALSE)","v":0.5},{"$f":"VLOOKUP(C965,Main!$A$49:$I$67,Main!$C$47,FALSE)","v":0.25},{"$f":"VLOOKUP(C965,Main!$A$49:$I$67,Main!$E$47,FALSE)&\":\"&\" \"&VLOOKUP(C965,Main!$A$49:$I$67,Main!$F$47,FALSE)","v":"Minimum HSPF:: 9.6"},{"$f":"VLOOKUP(C965,Main!$A$49:$I$67,Main!$G$47,FALSE)","v":18},{"$f":"VLOOKUP(C965,Main!$A$49:$I$67,Main!$H$47,FALSE)","v":3.1},{"$f":"VLOOKUP(C965,Main!$A$49:$I$67,Main!$I$47,FALSE)","v":16.100000000000001},4492]
["VA","NEWPORT NEWS","3A",3408,1546,38.75,83.8,0.10680000000000001,"37.132N",24.3,40.799999999999997,42.6,49.4,59,66.900000000000006,75.3,79.900000000000006,77.900000000000006,71.8,61.5,51.5,44.1,324,241,129,18,0,0,0,0,0,5,85,235,38,35,111,287,523,759,927,864,655,361,130,52,31.8,29.66,40.1,44.24,57.4,64.760000000000005,71.599999999999994,64.94,65.5,35.4,35.4,37.6,0.70588235294117652,0.22512214731894364,{"$f":"ROUNDDOWN((33.97238548+(2.143484655*3.14219615)+(0.00253108806*D966)+(-0.2767683543*J966)+(66.9384076*H966)+((3.14219615-3.14219615)^2*-1.607593659)+((J966-12.48681818)*(H966-0.2016890909)*-1.8168457)+8.4234),0)","v":60},{"$f":"ROUNDDOWN((2.975122788+(0.003896731237*D966)+(59.88697433*H966)+((D966-5520.854545)*(H966-0.2016890909)*0.01119327314)+5.3792),0)","v":30},14,{"$f":"ROUNDDOWN(BK966+5.9089,0)","v":19},{"$f":"IF(OR(C966=\"OA\",C966=\"OB\",C966=\"1B\",C966=\"1A\",C966=\"2A\",C966=\"2B\",C966=\"3A\",C966=\"3B\",C966=\"3C\"),TAN((LEFT(I966, 5)+VLOOKUP(C966,Main!$K$3:$L$21,2,FALSE))*PI()/180),IF(Checklist!$I$385=\"No\",TAN((LEFT(I966, 5)+VLOOKUP(C966,Main!$K$3:$L$21,2,FALSE))*PI()/180),\"NR\"))","v":0.75711747334424817},{"$f":"VLOOKUP(C966,Main!$A$49:$I$67,Main!$B$47,FALSE)","v":0.6},{"$f":"VLOOKUP(C966,Main!$A$49:$I$67,Main!$C$47,FALSE)","v":0.25},{"$f":"VLOOKUP(C966,Main!$A$49:$I$67,Main!$E$47,FALSE)&\":\"&\" \"&VLOOKUP(C966,Main!$A$49:$I$67,Main!$F$47,FALSE)","v":"Minimum HSPF:: 9.6"},{"$f":"VLOOKUP(C966,Main!$A$49:$I$67,Main!$G$47,FALSE)","v":18},{"$f":"VLOOKUP(C966,Main!$A$49:$I$67,Main!$H$47,FALSE)","v":3.1},{"$f":"VLOOKUP(C966,Main!$A$49:$I$67,Main!$I$47,FALSE)","v":16.100000000000001},4742]
["VA","NORFOLK INTERNATIONAL AP","3A",3165,1545,33.549999999999997,82.2,0.10680000000000001,"36.903N",26.6,42.1,43.7,50.2,59.4,67.3,75.8,80.2,78.400000000000006,72.900000000000006,62.8,52.9,45.6,287,216,114,14,0,0,0,0,0,2,62,196,42,40,121,297,537,774,935,879,687,399,147,59,26.1,26.96,34.700000000000003,46.22,54.9,63.68,68.900000000000006,69.44,61.5,43.5,43.5,36.700000000000003,0.69111969111969107,0.23762893328110718,59,29,14,19,{"$f":"IF(OR(C967=\"OA\",C967=\"OB\",C967=\"1B\",C967=\"1A\",C967=\"2A\",C967=\"2B\",C967=\"3A\",C967=\"3B\",C967=\"3C\"),TAN((LEFT(I967, 5)+VLOOKUP(C967,Main!$K$3:$L$21,2,FALSE))*PI()/180),IF(Checklist!$I$385=\"No\",TAN((LEFT(I967, 5)+VLOOKUP(C967,Main!$K$3:$L$21,2,FALSE))*PI()/180),\"NR\"))","v":0.75082123803876466},{"$f":"VLOOKUP(C967,Main!$A$49:$I$67,Main!$B$47,FALSE)","v":0.6},{"$f":"VLOOKUP(C967,Main!$A$49:$I$67,Main!$C$47,FALSE)","v":0.25},{"$f":"VLOOKUP(C967,Main!$A$49:$I$67,Main!$E$47,FALSE)&\":\"&\" \"&VLOOKUP(C967,Main!$A$49:$I$67,Main!$F$47,FALSE)","v":"Minimum HSPF:: 9.6"},{"$f":"VLOOKUP(C967,Main!$A$49:$I$67,Main!$G$47,FALSE)","v":18},{"$f":"VLOOKUP(C967,Main!$A$49:$I$67,Main!$H$47,FALSE)","v":3.1},{"$f":"VLOOKUP(C967,Main!$A$49:$I$67,Main!$I$47,FALSE)","v":16.100000000000001},4917]
["VA","NORFOLK NAS","3A",2972,1469,38.950000000000003,82.9,0.10680000000000001,"36.937N",27.6,42.9,44.5,51,60.5,68.5,76.8,81.2,79.3,74,64,53.9,46.7,266,198,101,10,0,0,0,0,0,1,50,171,47,45,131,324,574,803,966,909,720,436,168,68,31.8,31.46,43.3,50.9,55.4,64.400000000000006,68.72,69.98,61.3,38.700000000000003,38.700000000000003,38.5,0.68127490039840644,0.2435108375702435,58,29,13,18,{"$f":"IF(OR(C968=\"OA\",C968=\"OB\",C968=\"1B\",C968=\"1A\",C968=\"2A\",C968=\"2B\",C968=\"3A\",C968=\"3B\",C968=\"3C\"),TAN((LEFT(I968, 5)+VLOOKUP(C968,Main!$K$3:$L$21,2,FALSE))*PI()/180),IF(Checklist!$I$385=\"No\",TAN((LEFT(I968, 5)+VLOOKUP(C968,Main!$K$3:$L$21,2,FALSE))*PI()/180),\"NR\"))","v":0.7516403285607729},{"$f":"VLOOKUP(C968,Main!$A$49:$I$67,Main!$B$47,FALSE)","v":0.6},{"$f":"VLOOKUP(C968,Main!$A$49:$I$67,Main!$C$47,FALSE)","v":0.25},{"$f":"VLOOKUP(C968,Main!$A$49:$I$67,Main!$E$47,FALSE)&\":\"&\" \"&VLOOKUP(C968,Main!$A$49:$I$67,Main!$F$47,FALSE)","v":"Minimum HSPF:: 9.6"},{"$f":"VLOOKUP(C968,Main!$A$49:$I$67,Main!$G$47,FALSE)","v":18},{"$f":"VLOOKUP(C968,Main!$A$49:$I$67,Main!$H$47,FALSE)","v":3.1},{"$f":"VLOOKUP(C968,Main!$A$49:$I$67,Main!$I$47,FALSE)","v":16.100000000000001},5191]
["VA","OCEANA NAS","3A",3262,1486,34.25,82.9,0.10680000000000001,"36.817N",25.9,42,43.5,49.8,58.6,66.400000000000006,74.8,79.3,77.5,72,62.4,52.4,45.4,290,223,121,18,0,0,0,0,0,4,71,205,43,41,114,275,508,743,909,854,661,387,142,62,29.1,36.86,43.3,47.66,56.7,67.459999999999994,69.62,70.88,64,43.5,43.5,31.6,0.69230769230769229,0.23367785838094624,59,29,{"$f":"ROUNDDOWN(-18.64576148+(5.900367721*3.14219615)+(0.002662134083*D969)+(38.92365332*H969)+((BT969-3890.577273)*(G969-78.59)*0.00005765875867)+((D969-5520.854545)*(H969-0.2016890909)*0.006047043516),0)","v":14},19,{"$f":"IF(OR(C969=\"OA\",C969=\"OB\",C969=\"1B\",C969=\"1A\",C969=\"2A\",C969=\"2B\",C969=\"3A\",C969=\"3B\",C969=\"3C\"),TAN((LEFT(I969, 5)+VLOOKUP(C969,Main!$K$3:$L$21,2,FALSE))*PI()/180),IF(Checklist!$I$385=\"No\",TAN((LEFT(I969, 5)+VLOOKUP(C969,Main!$K$3:$L$21,2,FALSE))*PI()/180),\"NR\"))","v":0.74836782422930626},{"$f":"VLOOKUP(C969,Main!$A$49:$I$67,Main!$B$47,FALSE)","v":0.6},{"$f":"VLOOKUP(C969,Main!$A$49:$I$67,Main!$C$47,FALSE)","v":0.25},{"$f":"VLOOKUP(C969,Main!$A$49:$I$67,Main!$E$47,FALSE)&\":\"&\" \"&VLOOKUP(C969,Main!$A$49:$I$67,Main!$F$47,FALSE)","v":"Minimum HSPF:: 9.6"},{"$f":"VLOOKUP(C969,Main!$A$49:$I$67,Main!$G$47,FALSE)","v":18},{"$f":"VLOOKUP(C969,Main!$A$49:$I$67,Main!$H$47,FALSE)","v":3.1},{"$f":"VLOOKUP(C969,Main!$A$49:$I$67,Main!$I$47,FALSE)","v":16.100000000000001},4739]
["VA","QUANTICO MCAS","4A",4129,1541,24.55,78.599999999999994,0.10680000000000001,"38.504N",20.5,36.4,38.799999999999997,46.3,56.8,65.400000000000006,74,78.400000000000006,76.7,69.7,58.3,47.9,39.6,433,327,185,24,0,0,0,0,0,13,132,340,11,13,69,227,477,721,882,828,592,272,70,17,28.6,24.44,34.700000000000003,44.06,49.3,65.3,66.92,67.459999999999994,61.7,40.5,40.5,31.3,0.74683544303797467,0.20711237553342815,62,32,15,20,{"$f":"IF(OR(C970=\"OA\",C970=\"OB\",C970=\"1B\",C970=\"1A\",C970=\"2A\",C970=\"2B\",C970=\"3A\",C970=\"3B\",C970=\"3C\"),TAN((LEFT(I970, 5)+VLOOKUP(C970,Main!$K$3:$L$21,2,FALSE))*PI()/180),IF(Checklist!$I$385=\"No\",TAN((LEFT(I970, 5)+VLOOKUP(C970,Main!$K$3:$L$21,2,FALSE))*PI()/180),\"NR\"))","v":"NR"},{"$f":"VLOOKUP(C970,Main!$A$49:$I$67,Main!$B$47,FALSE)","v":0.5},{"$f":"VLOOKUP(C970,Main!$A$49:$I$67,Main!$C$47,FALSE)","v":0.25},{"$f":"VLOOKUP(C970,Main!$A$49:$I$67,Main!$E$47,FALSE)&\":\"&\" \"&VLOOKUP(C970,Main!$A$49:$I$67,Main!$F$47,FALSE)","v":"Minimum HSPF:: 9.6"},{"$f":"VLOOKUP(C970,Main!$A$49:$I$67,Main!$G$47,FALSE)","v":18},{"$f":"VLOOKUP(C970,Main!$A$49:$I$67,Main!$H$47,FALSE)","v":3.1},{"$f":"VLOOKUP(C970,Main!$A$49:$I$67,Main!$I$47,FALSE)","v":16.100000000000001},4179]
["VA","RICHMOND INTERNATIONAL AP","4A",3634,1557,29.95,84.4,0.10680000000000001,"37.505N",22.1,39.200000000000003,41.5,48.9,58.8,66.7,75.2,79.400000000000006,77.5,70.900000000000006,60.2,50.2,42.2,363,267,140,19,0,0,0,0,0,9,105,278,28,27,106,282,519,757,912,854,628,324,112,36,23.5,26.06,31.8,44.78,54.1,60.44,69.08,66.02,63.9,37.6,37.6,32.700000000000003,0.72222222222222221,0.21433197903786136,61,30,15,20,{"$f":"IF(OR(C971=\"OA\",C971=\"OB\",C971=\"1B\",C971=\"1A\",C971=\"2A\",C971=\"2B\",C971=\"3A\",C971=\"3B\",C971=\"3C\"),TAN((LEFT(I971, 5)+VLOOKUP(C971,Main!$K$3:$L$21,2,FALSE))*PI()/180),IF(Checklist!$I$385=\"No\",TAN((LEFT(I971, 5)+VLOOKUP(C971,Main!$K$3:$L$21,2,FALSE))*PI()/180),\"NR\"))","v":"NR"},{"$f":"VLOOKUP(C971,Main!$A$49:$I$67,Main!$B$47,FALSE)","v":0.5},{"$f":"VLOOKUP(C971,Main!$A$49:$I$67,Main!$C$47,FALSE)","v":0.25},{"$f":"VLOOKUP(C971,Main!$A$49:$I$67,Main!$E$47,FALSE)&\":\"&\" \"&VLOOKUP(C971,Main!$A$49:$I$67,Main!$F$47,FALSE)","v":"Minimum HSPF:: 9.6"},{"$f":"VLOOKUP(C971,Main!$A$49:$I$67,Main!$G$47,FALSE)","v":18},{"$f":"VLOOKUP(C971,Main!$A$49:$I$67,Main!$H$47,FALSE)","v":3.1},{"$f":"VLOOKUP(C971,Main!$A$49:$I$67,Main!$I$47,FALSE)","v":16.100000000000001},4585]
["VA","ROANOKE REGIONAL AP","4A",3961,1542,30.3,77,0.10680000000000001,"37.317N",20.6,37.9,40.4,47.9,57.5,65.2,73.099999999999994,76.8,75.5,68.5,58.2,48.1,40.200000000000003,394,286,158,27,1,0,0,0,0,18,138,323,19,18,92,252,472,693,832,790,555,273,81,20,19.899999999999999,21.74,33.4,41.9,48.7,60.62,64.22,64.760000000000005,59,40.799999999999997,40.799999999999997,25.9,0.73421926910299007,0.20754932147337207,62,31,15,20,{"$f":"IF(OR(C972=\"OA\",C972=\"OB\",C972=\"1B\",C972=\"1A\",C972=\"2A\",C972=\"2B\",C972=\"3A\",C972=\"3B\",C972=\"3C\"),TAN((LEFT(I972, 5)+VLOOKUP(C972,Main!$K$3:$L$21,2,FALSE))*PI()/180),IF(Checklist!$I$385=\"No\",TAN((LEFT(I972, 5)+VLOOKUP(C972,Main!$K$3:$L$21,2,FALSE))*PI()/180),\"NR\"))","v":"NR"},{"$f":"VLOOKUP(C972,Main!$A$49:$I$67,Main!$B$47,FALSE)","v":0.5},{"$f":"VLOOKUP(C972,Main!$A$49:$I$67,Main!$C$47,FALSE)","v":0.25},{"$f":"VLOOKUP(C972,Main!$A$49:$I$67,Main!$E$47,FALSE)&\":\"&\" \"&VLOOKUP(C972,Main!$A$49:$I$67,Main!$F$47,FALSE)","v":"Minimum HSPF:: 9.6"},{"$f":"VLOOKUP(C972,Main!$A$49:$I$67,Main!$G$47,FALSE)","v":18},{"$f":"VLOOKUP(C972,Main!$A$49:$I$67,Main!$H$47,FALSE)","v":3.1},{"$f":"VLOOKUP(C972,Main!$A$49:$I$67,Main!$I$47,FALSE)","v":16.100000000000001},4097]
["VA","SHANNON ARPT","4A",4011,1528,21.25,83.5,0.10680000000000001,"38.267N",18.8,37.299999999999997,39.4,47,57.3,66.099999999999994,74.5,78.5,77.5,70,58.8,48.4,40.4,420,316,178,27,0,0,0,0,0,16,131,322,28,19,83,248,501,735,885,854,601,289,83,26,27.7,24.8,27,36.14,50.9,63.68,63.5,67.099999999999994,57.6,32,32,32.4,0.73941368078175895,0.19995605361459018,62,31,15,20,{"$f":"IF(OR(C973=\"OA\",C973=\"OB\",C973=\"1B\",C973=\"1A\",C973=\"2A\",C973=\"2B\",C973=\"3A\",C973=\"3B\",C973=\"3C\"),TAN((LEFT(I973, 5)+VLOOKUP(C973,Main!$K$3:$L$21,2,FALSE))*PI()/180),IF(Checklist!$I$385=\"No\",TAN((LEFT(I973, 5)+VLOOKUP(C973,Main!$K$3:$L$21,2,FALSE))*PI()/180),\"NR\"))","v":"NR"},{"$f":"VLOOKUP(C973,Main!$A$49:$I$67,Main!$B$47,FALSE)","v":0.5},{"$f":"VLOOKUP(C973,Main!$A$49:$I$67,Main!$C$47,FALSE)","v":0.25},{"$f":"VLOOKUP(C973,Main!$A$49:$I$67,Main!$E$47,FALSE)&\":\"&\" \"&VLOOKUP(C973,Main!$A$49:$I$67,Main!$F$47,FALSE)","v":"Minimum HSPF:: 9.6"},{"$f":"VLOOKUP(C973,Main!$A$49:$I$67,Main!$G$47,FALSE)","v":18},{"$f":"VLOOKUP(C973,Main!$A$49:$I$67,Main!$H$47,FALSE)","v":3.1},{"$f":"VLOOKUP(C973,Main!$A$49:$I$67,Main!$I$47,FALSE)","v":16.100000000000001},4352]
["VA","STAUNTON/SHENANDOAH","4A",4467,1542,19.25,83.8,0.10680000000000001,"38.264N",16.399999999999999,35.6,37.6,45.4,55.5,64.2,72.7,76,74.7,67.400000000000006,56.2,45.8,38.1,468,361,207,38,2,0,0,0,0,32,183,387,20,12,65,201,442,681,807,767,521,223,55,17,28.6,24.44,26.8,32.36,42.3,54.86,64.760000000000005,69.98,61.3,28,28,30.6,0.75308641975308643,0.19065577205112089,63,33,16,21,{"$f":"IF(OR(C974=\"OA\",C974=\"OB\",C974=\"1B\",C974=\"1A\",C974=\"2A\",C974=\"2B\",C974=\"3A\",C974=\"3B\",C974=\"3C\"),TAN((LEFT(I974, 5)+VLOOKUP(C974,Main!$K$3:$L$21,2,FALSE))*PI()/180),IF(Checklist!$I$385=\"No\",TAN((LEFT(I974, 5)+VLOOKUP(C974,Main!$K$3:$L$21,2,FALSE))*PI()/180),\"NR\"))","v":"NR"},{"$f":"VLOOKUP(C974,Main!$A$49:$I$67,Main!$B$47,FALSE)","v":0.5},{"$f":"VLOOKUP(C974,Main!$A$49:$I$67,Main!$C$47,FALSE)","v":0.25},{"$f":"VLOOKUP(C974,Main!$A$49:$I$67,Main!$E$47,FALSE)&\":\"&\" \"&VLOOKUP(C974,Main!$A$49:$I$67,Main!$F$47,FALSE)","v":"Minimum HSPF:: 9.6"},{"$f":"VLOOKUP(C974,Main!$A$49:$I$67,Main!$G$47,FALSE)","v":18},{"$f":"VLOOKUP(C974,Main!$A$49:$I$67,Main!$H$47,FALSE)","v":3.1},{"$f":"VLOOKUP(C974,Main!$A$49:$I$67,Main!$I$47,FALSE)","v":16.100000000000001},3811]
["VA","VIRGINIA TECH ARPT","4A",4798,1447,28.7,73.900000000000006,0.10680000000000001,"37.208N",15.9,33.799999999999997,36.5,44.4,54,62.2,69.8,72.900000000000006,72.2,65.3,54.9,44.4,36.6,512,385,227,53,5,0,0,0,1,42,210,424,11,7,52,173,382,593,711,689,460,193,43,9,20.100000000000001,24.08,20.7,35.6,49.6,57.2,62.42,60.26,57,37,37,24.4,0.76608187134502925,0.18882606214659955,64,34,17,22,{"$f":"IF(OR(C975=\"OA\",C975=\"OB\",C975=\"1B\",C975=\"1A\",C975=\"2A\",C975=\"2B\",C975=\"3A\",C975=\"3B\",C975=\"3C\"),TAN((LEFT(I975, 5)+VLOOKUP(C975,Main!$K$3:$L$21,2,FALSE))*PI()/180),IF(Checklist!$I$385=\"No\",TAN((LEFT(I975, 5)+VLOOKUP(C975,Main!$K$3:$L$21,2,FALSE))*PI()/180),\"NR\"))","v":"NR"},{"$f":"VLOOKUP(C975,Main!$A$49:$I$67,Main!$B$47,FALSE)","v":0.5},{"$f":"VLOOKUP(C975,Main!$A$49:$I$67,Main!$C$47,FALSE)","v":0.25},{"$f":"VLOOKUP(C975,Main!$A$49:$I$67,Main!$E$47,FALSE)&\":\"&\" \"&VLOOKUP(C975,Main!$A$49:$I$67,Main!$F$47,FALSE)","v":"Minimum HSPF:: 9.6"},{"$f":"VLOOKUP(C975,Main!$A$49:$I$67,Main!$G$47,FALSE)","v":18},{"$f":"VLOOKUP(C975,Main!$A$49:$I$67,Main!$H$47,FALSE)","v":3.1},{"$f":"VLOOKUP(C975,Main!$A$49:$I$67,Main!$I$47,FALSE)","v":16.100000000000001},3323]
["VA","WASHINGTON DC DULLES INT AR [STERLING - ISIS]","4A",4591,1484,29,80.400000000000006,0.10680000000000001,"38.941N",17.3,34.4,36.5,44.5,55,63.6,72.400000000000006,76.8,75.5,68,56.3,46.1,37.6,497,388,228,43,2,0,0,0,0,28,176,399,12,9,58,193,424,673,832,790,541,224,60,15,20.7,24.08,30.4,39.92,53.6,61.16,66.56,63.86,59.7,36.700000000000003,36.700000000000003,23.4,0.76190476190476186,0.19404019404019401,63,33,16,21,{"$f":"IF(OR(C976=\"OA\",C976=\"OB\",C976=\"1B\",C976=\"1A\",C976=\"2A\",C976=\"2B\",C976=\"3A\",C976=\"3B\",C976=\"3C\"),TAN((LEFT(I976, 5)+VLOOKUP(C976,Main!$K$3:$L$21,2,FALSE))*PI()/180),IF(Checklist!$I$385=\"No\",TAN((LEFT(I976, 5)+VLOOKUP(C976,Main!$K$3:$L$21,2,FALSE))*PI()/180),\"NR\"))","v":"NR"},{"$f":"VLOOKUP(C976,Main!$A$49:$I$67,Main!$B$47,FALSE)","v":0.5},{"$f":"VLOOKUP(C976,Main!$A$49:$I$67,Main!$C$47,FALSE)","v":0.25},{"$f":"VLOOKUP(C976,Main!$A$49:$I$67,Main!$E$47,FALSE)&\":\"&\" \"&VLOOKUP(C976,Main!$A$49:$I$67,Main!$F$47,FALSE)","v":"Minimum HSPF:: 9.6"},{"$f":"VLOOKUP(C976,Main!$A$49:$I$67,Main!$G$47,FALSE)","v":18},{"$f":"VLOOKUP(C976,Main!$A$49:$I$67,Main!$H$47,FALSE)","v":3.1},{"$f":"VLOOKUP(C976,Main!$A$49:$I$67,Main!$I$47,FALSE)","v":16.100000000000001},3831]
["VA","WASHINGTON DC REAGAN AP","4A",3901,1458,32.9,85.8,0.10680000000000001,"38.848N",21.6,37.200000000000003,39.4,47.1,57.4,66.3,75.400000000000006,80,78.400000000000006,71.3,59.9,49.4,40.9,411,310,167,23,0,0,0,0,0,9,108,302,13,14,76,244,505,762,930,881,639,316,91,20,23.4,20.3,27.7,42.62,53.2,63.32,65.48,63.68,60.6,39.700000000000003,39.700000000000003,32.700000000000003,0.74025974025974028,0.21202236719478099,61,31,15,20,{"$f":"IF(OR(C977=\"OA\",C977=\"OB\",C977=\"1B\",C977=\"1A\",C977=\"2A\",C977=\"2B\",C977=\"3A\",C977=\"3B\",C977=\"3C\"),TAN((LEFT(I977, 5)+VLOOKUP(C977,Main!$K$3:$L$21,2,FALSE))*PI()/180),IF(Checklist!$I$385=\"No\",TAN((LEFT(I977, 5)+VLOOKUP(C977,Main!$K$3:$L$21,2,FALSE))*PI()/180),\"NR\"))","v":"NR"},{"$f":"VLOOKUP(C977,Main!$A$49:$I$67,Main!$B$47,FALSE)","v":0.5},{"$f":"VLOOKUP(C977,Main!$A$49:$I$67,Main!$C$47,FALSE)","v":0.25},{"$f":"VLOOKUP(C977,Main!$A$49:$I$67,Main!$E$47,FALSE)&\":\"&\" \"&VLOOKUP(C977,Main!$A$49:$I$67,Main!$F$47,FALSE)","v":"Minimum HSPF:: 9.6"},{"$f":"VLOOKUP(C977,Main!$A$49:$I$67,Main!$G$47,FALSE)","v":18},{"$f":"VLOOKUP(C977,Main!$A$49:$I$67,Main!$H$47,FALSE)","v":3.1},{"$f":"VLOOKUP(C977,Main!$A$49:$I$67,Main!$I$47,FALSE)","v":16.100000000000001},4491]
["VA","WINCHESTER RGNL","4A",4583,1515,17.55,82.8,0.10680000000000001,"39.143N",18.2,34.799999999999997,36.700000000000003,44.7,54.9,63.6,72.3,76.5,75,67.599999999999994,56.2,46.1,37.4,488,382,222,44,2,0,0,0,0,30,175,403,17,10,58,190,425,668,820,774,527,223,58,12,27.5,22.28,24.4,32.54,42.6,62.42,60.62,65.3,53.2,28.6,28.6,28.4,0.75903614457831325,0.19754694453489635,63,33,16,21,{"$f":"IF(OR(C978=\"OA\",C978=\"OB\",C978=\"1B\",C978=\"1A\",C978=\"2A\",C978=\"2B\",C978=\"3A\",C978=\"3B\",C978=\"3C\"),TAN((LEFT(I978, 5)+VLOOKUP(C978,Main!$K$3:$L$21,2,FALSE))*PI()/180),IF(Checklist!$I$385=\"No\",TAN((LEFT(I978, 5)+VLOOKUP(C978,Main!$K$3:$L$21,2,FALSE))*PI()/180),\"NR\"))","v":"NR"},{"$f":"VLOOKUP(C978,Main!$A$49:$I$67,Main!$B$47,FALSE)","v":0.5},{"$f":"VLOOKUP(C978,Main!$A$49:$I$67,Main!$C$47,FALSE)","v":0.25},{"$f":"VLOOKUP(C978,Main!$A$49:$I$67,Main!$E$47,FALSE)&\":\"&\" \"&VLOOKUP(C978,Main!$A$49:$I$67,Main!$F$47,FALSE)","v":"Minimum HSPF:: 9.6"},{"$f":"VLOOKUP(C978,Main!$A$49:$I$67,Main!$G$47,FALSE)","v":18},{"$f":"VLOOKUP(C978,Main!$A$49:$I$67,Main!$H$47,FALSE)","v":3.1},{"$f":"VLOOKUP(C978,Main!$A$49:$I$67,Main!$I$47,FALSE)","v":16.100000000000001},3782]
["VA","WISE/LONESOME PINE","4A",4746,1510,20.399999999999999,73.8,0.10680000000000001,"36.988N",12.1,33.200000000000003,36.4,44.8,54.6,62,69,72.400000000000006,72,65.5,55.5,45.4,37,535,395,232,61,7,0,0,0,2,46,200,418,14,13,70,200,381,571,694,681,467,215,61,14,24.4,27.68,26.8,31.28,47.3,58.82,65.3,60.62,55.6,34.700000000000003,34.700000000000003,20.100000000000001,0.77011494252873558,0.17598994343180388,64,34,17,22,{"$f":"IF(OR(C979=\"OA\",C979=\"OB\",C979=\"1B\",C979=\"1A\",C979=\"2A\",C979=\"2B\",C979=\"3A\",C979=\"3B\",C979=\"3C\"),TAN((LEFT(I979, 5)+VLOOKUP(C979,Main!$K$3:$L$21,2,FALSE))*PI()/180),IF(Checklist!$I$385=\"No\",TAN((LEFT(I979, 5)+VLOOKUP(C979,Main!$K$3:$L$21,2,FALSE))*PI()/180),\"NR\"))","v":"NR"},{"$f":"VLOOKUP(C979,Main!$A$49:$I$67,Main!$B$47,FALSE)","v":0.5},{"$f":"VLOOKUP(C979,Main!$A$49:$I$67,Main!$C$47,FALSE)","v":0.25},{"$f":"VLOOKUP(C979,Main!$A$49:$I$67,Main!$E$47,FALSE)&\":\"&\" \"&VLOOKUP(C979,Main!$A$49:$I$67,Main!$F$47,FALSE)","v":"Minimum HSPF:: 9.6"},{"$f":"VLOOKUP(C979,Main!$A$49:$I$67,Main!$G$47,FALSE)","v":18},{"$f":"VLOOKUP(C979,Main!$A$49:$I$67,Main!$H$47,FALSE)","v":3.1},{"$f":"VLOOKUP(C979,Main!$A$49:$I$67,Main!$I$47,FALSE)","v":16.100000000000001},3381]
["VT","BURLINGTON INTERNATIONAL AP","6A",7227,1340,19.3,79.5,0.15690000000000001,"44.468N",-1.8,20.100000000000001,22,31.5,44.9,57,66.5,70.900000000000006,69.3,61.1,49.2,38.5,27.1,929,785,581,204,21,0,0,0,6,119,360,710,1,0,8,51,238,496,648,598,340,94,15,1,12,11.66,19.8,30.02,42.1,55.22,57.74,57.02,50.2,27,27,19.2,0.83298538622129437,0.14094323549910942,77,45,24,29,{"$f":"IF(OR(C980=\"OA\",C980=\"OB\",C980=\"1B\",C980=\"1A\",C980=\"2A\",C980=\"2B\",C980=\"3A\",C980=\"3B\",C980=\"3C\"),TAN((LEFT(I980, 5)+VLOOKUP(C980,Main!$K$3:$L$21,2,FALSE))*PI()/180),IF(Checklist!$I$385=\"No\",TAN((LEFT(I980, 5)+VLOOKUP(C980,Main!$K$3:$L$21,2,FALSE))*PI()/180),\"NR\"))","v":"NR"},{"$f":"VLOOKUP(C980,Main!$A$49:$I$67,Main!$B$47,FALSE)","v":"NR"},{"$f":"VLOOKUP(C980,Main!$A$49:$I$67,Main!$C$47,FALSE)","v":"NR"},{"$f":"VLOOKUP(C980,Main!$A$49:$I$67,Main!$E$47,FALSE)&\":\"&\" \"&VLOOKUP(C980,Main!$A$49:$I$67,Main!$F$47,FALSE)","v":"Minimum COP @ 5°F:: 1.75"},{"$f":"VLOOKUP(C980,Main!$A$49:$I$67,Main!$G$47,FALSE)","v":15},{"$f":"VLOOKUP(C980,Main!$A$49:$I$67,Main!$H$47,FALSE)","v":3.1},{"$f":"VLOOKUP(C980,Main!$A$49:$I$67,Main!$I$47,FALSE)","v":16.100000000000001},2490]
["VT","MONTPELIER AP","6A",8078,1212,13.35,75.400000000000006,0.15690000000000001,"44.204N",-4.8,17.7,19.8,29.1,42.1,53.8,63,67,65.5,57.7,46.3,35.4,24,1001,846,652,269,44,1,0,0,16,173,445,805,1,0,4,33,162,390,526,480,248,58,8,0,19.899999999999999,6.8,22.8,32.54,37.9,54.32,54.32,58.46,52.5,30.6,30.6,15.3,0.84095427435387671,0.13513513513513511,80,47,27,32,{"$f":"IF(OR(C981=\"OA\",C981=\"OB\",C981=\"1B\",C981=\"1A\",C981=\"2A\",C981=\"2B\",C981=\"3A\",C981=\"3B\",C981=\"3C\"),TAN((LEFT(I981, 5)+VLOOKUP(C981,Main!$K$3:$L$21,2,FALSE))*PI()/180),IF(Checklist!$I$385=\"No\",TAN((LEFT(I981, 5)+VLOOKUP(C981,Main!$K$3:$L$21,2,FALSE))*PI()/180),\"NR\"))","v":"NR"},{"$f":"VLOOKUP(C981,Main!$A$49:$I$67,Main!$B$47,FALSE)","v":"NR"},{"$f":"VLOOKUP(C981,Main!$A$49:$I$67,Main!$C$47,FALSE)","v":"NR"},{"$f":"VLOOKUP(C981,Main!$A$49:$I$67,Main!$E$47,FALSE)&\":\"&\" \"&VLOOKUP(C981,Main!$A$49:$I$67,Main!$F$47,FALSE)","v":"Minimum COP @ 5°F:: 1.75"},{"$f":"VLOOKUP(C981,Main!$A$49:$I$67,Main!$G$47,FALSE)","v":15},{"$f":"VLOOKUP(C981,Main!$A$49:$I$67,Main!$H$47,FALSE)","v":3.1},{"$f":"VLOOKUP(C981,Main!$A$49:$I$67,Main!$I$47,FALSE)","v":16.100000000000001},1910]
["VT","RUTLAND STATE","6A",7404,1363,10.35,76.599999999999994,0.15690000000000001,"43.533N",-0.3,20.6,23,31.8,44.1,55.3,64.099999999999994,68.2,66.599999999999994,59.3,47.9,38,27.1,912,756,572,220,29,0,0,0,9,138,373,710,1,0,6,43,192,424,563,515,289,74,13,1,8.1,10.039999999999999,17.2,33.619999999999997,44.8,53.42,60.26,56.84,52.9,24.6,24.6,15.1,0.83122362869198307,0.14403862134462428,77,45,25,30,{"$f":"IF(OR(C982=\"OA\",C982=\"OB\",C982=\"1B\",C982=\"1A\",C982=\"2A\",C982=\"2B\",C982=\"3A\",C982=\"3B\",C982=\"3C\"),TAN((LEFT(I982, 5)+VLOOKUP(C982,Main!$K$3:$L$21,2,FALSE))*PI()/180),IF(Checklist!$I$385=\"No\",TAN((LEFT(I982, 5)+VLOOKUP(C982,Main!$K$3:$L$21,2,FALSE))*PI()/180),\"NR\"))","v":"NR"},{"$f":"VLOOKUP(C982,Main!$A$49:$I$67,Main!$B$47,FALSE)","v":"NR"},{"$f":"VLOOKUP(C982,Main!$A$49:$I$67,Main!$C$47,FALSE)","v":"NR"},{"$f":"VLOOKUP(C982,Main!$A$49:$I$67,Main!$E$47,FALSE)&\":\"&\" \"&VLOOKUP(C982,Main!$A$49:$I$67,Main!$F$47,FALSE)","v":"Minimum COP @ 5°F:: 1.75"},{"$f":"VLOOKUP(C982,Main!$A$49:$I$67,Main!$G$47,FALSE)","v":15},{"$f":"VLOOKUP(C982,Main!$A$49:$I$67,Main!$H$47,FALSE)","v":3.1},{"$f":"VLOOKUP(C982,Main!$A$49:$I$67,Main!$I$47,FALSE)","v":16.100000000000001},2121]
["VT","SPRINGFIELD/HARTNES","6A",7292,1239,9.75,72,0.15690000000000001,"43.344N",0.8,20.8,23.9,31.8,44.6,55.8,64.7,69.5,67.8,60.3,48,37.5,27.3,905,732,569,202,28,0,0,0,6,133,383,704,0,0,4,41,207,441,606,553,315,72,9,1,13.1,13.46,27.7,32.18,45.3,54.86,57.02,57.74,53.8,29.7,29.7,25.9,0.83050847457627119,0.14639639639639637,76,45,25,30,{"$f":"IF(OR(C983=\"OA\",C983=\"OB\",C983=\"1B\",C983=\"1A\",C983=\"2A\",C983=\"2B\",C983=\"3A\",C983=\"3B\",C983=\"3C\"),TAN((LEFT(I983, 5)+VLOOKUP(C983,Main!$K$3:$L$21,2,FALSE))*PI()/180),IF(Checklist!$I$385=\"No\",TAN((LEFT(I983, 5)+VLOOKUP(C983,Main!$K$3:$L$21,2,FALSE))*PI()/180),\"NR\"))","v":"NR"},{"$f":"VLOOKUP(C983,Main!$A$49:$I$67,Main!$B$47,FALSE)","v":"NR"},{"$f":"VLOOKUP(C983,Main!$A$49:$I$67,Main!$C$47,FALSE)","v":"NR"},{"$f":"VLOOKUP(C983,Main!$A$49:$I$67,Main!$E$47,FALSE)&\":\"&\" \"&VLOOKUP(C983,Main!$A$49:$I$67,Main!$F$47,FALSE)","v":"Minimum COP @ 5°F:: 1.75"},{"$f":"VLOOKUP(C983,Main!$A$49:$I$67,Main!$G$47,FALSE)","v":15},{"$f":"VLOOKUP(C983,Main!$A$49:$I$67,Main!$H$47,FALSE)","v":3.1},{"$f":"VLOOKUP(C983,Main!$A$49:$I$67,Main!$I$47,FALSE)","v":16.100000000000001},2249]
["WA","BELLINGHAM INTL AP","4C",5339,1204,33.049999999999997,65.3,8.2600000000000007E-2,"48.794N",23.7,39.700000000000003,41.4,44.6,48.9,54.4,58.9,63.1,63.2,58.3,50.5,43.7,39.1,323,243,176,69,11,0,0,0,1,54,203,341,4,2,8,37,147,266,406,409,248,69,14,3,34.9,32.72,30.7,42.08,45.7,50.72,53.78,54.32,50.5,37.4,37.4,36.9,0.72318339100346019,0.22207308889024466,64,34,19,24,{"$f":"IF(OR(C984=\"OA\",C984=\"OB\",C984=\"1B\",C984=\"1A\",C984=\"2A\",C984=\"2B\",C984=\"3A\",C984=\"3B\",C984=\"3C\"),TAN((LEFT(I984, 5)+VLOOKUP(C984,Main!$K$3:$L$21,2,FALSE))*PI()/180),IF(Checklist!$I$385=\"No\",TAN((LEFT(I984, 5)+VLOOKUP(C984,Main!$K$3:$L$21,2,FALSE))*PI()/180),\"NR\"))","v":"NR"},{"$f":"VLOOKUP(C984,Main!$A$49:$I$67,Main!$B$47,FALSE)","v":"NR"},{"$f":"VLOOKUP(C984,Main!$A$49:$I$67,Main!$C$47,FALSE)","v":"NR"},{"$f":"VLOOKUP(C984,Main!$A$49:$I$67,Main!$E$47,FALSE)&\":\"&\" \"&VLOOKUP(C984,Main!$A$49:$I$67,Main!$F$47,FALSE)","v":"Minimum HSPF:: 9.6"},{"$f":"VLOOKUP(C984,Main!$A$49:$I$67,Main!$G$47,FALSE)","v":18},{"$f":"VLOOKUP(C984,Main!$A$49:$I$67,Main!$H$47,FALSE)","v":3.1},{"$f":"VLOOKUP(C984,Main!$A$49:$I$67,Main!$I$47,FALSE)","v":16.100000000000001},1613]
["WA","BREMERTON NATIONAL","5C",5641,1226,33.25,67.8,8.2600000000000007E-2,"47.483N",26.6,38.9,40.1,43.5,47.1,53.2,57.9,63.2,63.4,58.9,50,42.6,38.200000000000003,346,277,209,116,27,2,0,0,2,63,229,367,1,0,9,30,126,239,411,414,269,63,7,1,34.200000000000003,35.42,37.4,37.58,41.5,48.2,50.9,52.16,43.5,38.700000000000003,38.700000000000003,37.9,0.73154362416107377,0.23762893328110718,64,35,19,24,{"$f":"IF(OR(C985=\"OA\",C985=\"OB\",C985=\"1B\",C985=\"1A\",C985=\"2A\",C985=\"2B\",C985=\"3A\",C985=\"3B\",C985=\"3C\"),TAN((LEFT(I985, 5)+VLOOKUP(C985,Main!$K$3:$L$21,2,FALSE))*PI()/180),IF(Checklist!$I$385=\"No\",TAN((LEFT(I985, 5)+VLOOKUP(C985,Main!$K$3:$L$21,2,FALSE))*PI()/180),\"NR\"))","v":"NR"},{"$f":"VLOOKUP(C985,Main!$A$49:$I$67,Main!$B$47,FALSE)","v":"NR"},{"$f":"VLOOKUP(C985,Main!$A$49:$I$67,Main!$C$47,FALSE)","v":"NR"},{"$f":"VLOOKUP(C985,Main!$A$49:$I$67,Main!$E$47,FALSE)&\":\"&\" \"&VLOOKUP(C985,Main!$A$49:$I$67,Main!$F$47,FALSE)","v":"Minimum HSPF:: 9.6"},{"$f":"VLOOKUP(C985,Main!$A$49:$I$67,Main!$G$47,FALSE)","v":18},{"$f":"VLOOKUP(C985,Main!$A$49:$I$67,Main!$H$47,FALSE)","v":3.1},{"$f":"VLOOKUP(C985,Main!$A$49:$I$67,Main!$I$47,FALSE)","v":16.100000000000001},1570]
["WA","EPHRATA AP FCWOS","5B",5758,1510,11,88.2,8.2600000000000007E-2,"47.308N",13.5,29.5,35.1,43.1,50.2,59.5,67.099999999999994,76.5,73.900000000000006,65.3,51.3,37.4,29.7,637,416,224,74,7,0,0,0,1,67,382,631,0,0,9,78,302,514,821,742,460,108,4,0,24.1,26.6,30.4,32.9,41,44.78,45.68,44.06,41,30.4,30.4,28.2,0.79220779220779225,0.18051078601537315,65,35,17,22,{"$f":"IF(OR(C986=\"OA\",C986=\"OB\",C986=\"1B\",C986=\"1A\",C986=\"2A\",C986=\"2B\",C986=\"3A\",C986=\"3B\",C986=\"3C\"),TAN((LEFT(I986, 5)+VLOOKUP(C986,Main!$K$3:$L$21,2,FALSE))*PI()/180),IF(Checklist!$I$385=\"No\",TAN((LEFT(I986, 5)+VLOOKUP(C986,Main!$K$3:$L$21,2,FALSE))*PI()/180),\"NR\"))","v":"NR"},{"$f":"VLOOKUP(C986,Main!$A$49:$I$67,Main!$B$47,FALSE)","v":"NR"},{"$f":"VLOOKUP(C986,Main!$A$49:$I$67,Main!$C$47,FALSE)","v":"NR"},{"$f":"VLOOKUP(C986,Main!$A$49:$I$67,Main!$E$47,FALSE)&\":\"&\" \"&VLOOKUP(C986,Main!$A$49:$I$67,Main!$F$47,FALSE)","v":"Minimum COP @ 5°F:: 1.75"},{"$f":"VLOOKUP(C986,Main!$A$49:$I$67,Main!$G$47,FALSE)","v":15},{"$f":"VLOOKUP(C986,Main!$A$49:$I$67,Main!$H$47,FALSE)","v":3.1},{"$f":"VLOOKUP(C986,Main!$A$49:$I$67,Main!$I$47,FALSE)","v":16.100000000000001},3038]
["WA","FAIRCHILD AFB","5B",6792,1381,14.5,79.900000000000006,8.2600000000000007E-2,"47.633N",11.2,28.5,32.200000000000003,39.4,46,53.9,60.2,69.400000000000006,68.400000000000006,60.4,46.8,35.6,28.1,666,497,332,155,41,4,0,0,7,149,434,680,0,0,2,34,161,311,601,572,318,50,0,0,26.6,27.68,27.3,31.1,36.5,42.26,37.94,40.28,32.5,30.9,30.9,21.7,0.79949874686716793,0.17320137038446898,68,38,20,25,{"$f":"IF(OR(C987=\"OA\",C987=\"OB\",C987=\"1B\",C987=\"1A\",C987=\"2A\",C987=\"2B\",C987=\"3A\",C987=\"3B\",C987=\"3C\"),TAN((LEFT(I987, 5)+VLOOKUP(C987,Main!$K$3:$L$21,2,FALSE))*PI()/180),IF(Checklist!$I$385=\"No\",TAN((LEFT(I987, 5)+VLOOKUP(C987,Main!$K$3:$L$21,2,FALSE))*PI()/180),\"NR\"))","v":"NR"},{"$f":"VLOOKUP(C987,Main!$A$49:$I$67,Main!$B$47,FALSE)","v":"NR"},{"$f":"VLOOKUP(C987,Main!$A$49:$I$67,Main!$C$47,FALSE)","v":"NR"},{"$f":"VLOOKUP(C987,Main!$A$49:$I$67,Main!$E$47,FALSE)&\":\"&\" \"&VLOOKUP(C987,Main!$A$49:$I$67,Main!$F$47,FALSE)","v":"Minimum COP @ 5°F:: 1.75"},{"$f":"VLOOKUP(C987,Main!$A$49:$I$67,Main!$G$47,FALSE)","v":15},{"$f":"VLOOKUP(C987,Main!$A$49:$I$67,Main!$H$47,FALSE)","v":3.1},{"$f":"VLOOKUP(C987,Main!$A$49:$I$67,Main!$I$47,FALSE)","v":16.100000000000001},2049]
["WA","FELTS FLD","5B",6122,1375,28.15,76.8,8.2600000000000007E-2,"47.683N",14.2,31.6,34.6,41.2,47.6,55.9,62.2,70.8,69.8,61.6,48.8,38,30.7,570,432,276,115,20,1,0,0,3,104,365,597,0,0,4,43,205,368,645,615,350,67,4,0,28.9,30.38,27,33.08,36.700000000000003,46.58,47.12,46.58,49.6,33.1,33.1,28.4,0.78552278820375343,0.18285943936501556,66,36,19,24,{"$f":"IF(OR(C988=\"OA\",C988=\"OB\",C988=\"1B\",C988=\"1A\",C988=\"2A\",C988=\"2B\",C988=\"3A\",C988=\"3B\",C988=\"3C\"),TAN((LEFT(I988, 5)+VLOOKUP(C988,Main!$K$3:$L$21,2,FALSE))*PI()/180),IF(Checklist!$I$385=\"No\",TAN((LEFT(I988, 5)+VLOOKUP(C988,Main!$K$3:$L$21,2,FALSE))*PI()/180),\"NR\"))","v":"NR"},{"$f":"VLOOKUP(C988,Main!$A$49:$I$67,Main!$B$47,FALSE)","v":"NR"},{"$f":"VLOOKUP(C988,Main!$A$49:$I$67,Main!$C$47,FALSE)","v":"NR"},{"$f":"VLOOKUP(C988,Main!$A$49:$I$67,Main!$E$47,FALSE)&\":\"&\" \"&VLOOKUP(C988,Main!$A$49:$I$67,Main!$F$47,FALSE)","v":"Minimum COP @ 5°F:: 1.75"},{"$f":"VLOOKUP(C988,Main!$A$49:$I$67,Main!$G$47,FALSE)","v":15},{"$f":"VLOOKUP(C988,Main!$A$49:$I$67,Main!$H$47,FALSE)","v":3.1},{"$f":"VLOOKUP(C988,Main!$A$49:$I$67,Main!$I$47,FALSE)","v":16.100000000000001},2301]
["WA","GRAY AAF","4C",5164,1158,21.65,70.5,8.2600000000000007E-2,"47.083N",24.5,40,41.6,44.9,48.7,54.8,59.7,65.2,65.400000000000006,60.4,51.3,43.9,38.5,314,238,170,82,15,0,0,0,0,45,198,360,3,3,12,44,163,291,473,477,313,87,16,4,34.299999999999997,34.520000000000003,35.1,35.78,42.8,47.66,51.8,51.8,52.3,34.9,34.9,34.200000000000003,0.72881355932203384,0.22615719167443304,63,33,18,23,{"$f":"IF(OR(C989=\"OA\",C989=\"OB\",C989=\"1B\",C989=\"1A\",C989=\"2A\",C989=\"2B\",C989=\"3A\",C989=\"3B\",C989=\"3C\"),TAN((LEFT(I989, 5)+VLOOKUP(C989,Main!$K$3:$L$21,2,FALSE))*PI()/180),IF(Checklist!$I$385=\"No\",TAN((LEFT(I989, 5)+VLOOKUP(C989,Main!$K$3:$L$21,2,FALSE))*PI()/180),\"NR\"))","v":"NR"},{"$f":"VLOOKUP(C989,Main!$A$49:$I$67,Main!$B$47,FALSE)","v":"NR"},{"$f":"VLOOKUP(C989,Main!$A$49:$I$67,Main!$C$47,FALSE)","v":"NR"},{"$f":"VLOOKUP(C989,Main!$A$49:$I$67,Main!$E$47,FALSE)&\":\"&\" \"&VLOOKUP(C989,Main!$A$49:$I$67,Main!$F$47,FALSE)","v":"Minimum HSPF:: 9.6"},{"$f":"VLOOKUP(C989,Main!$A$49:$I$67,Main!$G$47,FALSE)","v":18},{"$f":"VLOOKUP(C989,Main!$A$49:$I$67,Main!$H$47,FALSE)","v":3.1},{"$f":"VLOOKUP(C989,Main!$A$49:$I$67,Main!$I$47,FALSE)","v":16.100000000000001},1886]
["WA","HANFORD","5B",4784,1484,2.75,83.3,8.2600000000000007E-2,"46.567N",15.2,33.799999999999997,38.4,46.9,55.3,63.5,71.099999999999994,76.099999999999994,76.5,67.900000000000006,55.2,42.2,32.6,502,332,130,19,1,0,0,0,0,30,255,541,1,8,35,178,419,632,810,821,538,191,19,1,25.7,23,29.5,30.56,32.700000000000003,41,42.62,40.64,36,31.8,31.8,24.8,0.77401129943502822,0.18632268632268634,63,32,16,21,{"$f":"IF(OR(C990=\"OA\",C990=\"OB\",C990=\"1B\",C990=\"1A\",C990=\"2A\",C990=\"2B\",C990=\"3A\",C990=\"3B\",C990=\"3C\"),TAN((LEFT(I990, 5)+VLOOKUP(C990,Main!$K$3:$L$21,2,FALSE))*PI()/180),IF(Checklist!$I$385=\"No\",TAN((LEFT(I990, 5)+VLOOKUP(C990,Main!$K$3:$L$21,2,FALSE))*PI()/180),\"NR\"))","v":"NR"},{"$f":"VLOOKUP(C990,Main!$A$49:$I$67,Main!$B$47,FALSE)","v":"NR"},{"$f":"VLOOKUP(C990,Main!$A$49:$I$67,Main!$C$47,FALSE)","v":"NR"},{"$f":"VLOOKUP(C990,Main!$A$49:$I$67,Main!$E$47,FALSE)&\":\"&\" \"&VLOOKUP(C990,Main!$A$49:$I$67,Main!$F$47,FALSE)","v":"Minimum COP @ 5°F:: 1.75"},{"$f":"VLOOKUP(C990,Main!$A$49:$I$67,Main!$G$47,FALSE)","v":15},{"$f":"VLOOKUP(C990,Main!$A$49:$I$67,Main!$H$47,FALSE)","v":3.1},{"$f":"VLOOKUP(C990,Main!$A$49:$I$67,Main!$I$47,FALSE)","v":16.100000000000001},3653]
["WA","HOQUIAM AP","4C",5076,1219,30.65,64.2,8.2600000000000007E-2,"46.973N",30.7,43.1,43.8,45.8,48.6,53.2,57.3,60.3,60.9,59.1,52.7,46,42.5,216,176,141,72,15,0,0,0,0,21,136,235,3,3,12,30,113,219,320,339,274,106,17,3,39.9,37.58,40.299999999999997,43.34,44.4,51.26,54.86,54.68,53.6,43,43,40.6,0.68627450980392157,0.2637490036953844,62,33,18,23,{"$f":"IF(OR(C991=\"OA\",C991=\"OB\",C991=\"1B\",C991=\"1A\",C991=\"2A\",C991=\"2B\",C991=\"3A\",C991=\"3B\",C991=\"3C\"),TAN((LEFT(I991, 5)+VLOOKUP(C991,Main!$K$3:$L$21,2,FALSE))*PI()/180),IF(Checklist!$I$385=\"No\",TAN((LEFT(I991, 5)+VLOOKUP(C991,Main!$K$3:$L$21,2,FALSE))*PI()/180),\"NR\"))","v":"NR"},{"$f":"VLOOKUP(C991,Main!$A$49:$I$67,Main!$B$47,FALSE)","v":"NR"},{"$f":"VLOOKUP(C991,Main!$A$49:$I$67,Main!$C$47,FALSE)","v":"NR"},{"$f":"VLOOKUP(C991,Main!$A$49:$I$67,Main!$E$47,FALSE)&\":\"&\" \"&VLOOKUP(C991,Main!$A$49:$I$67,Main!$F$47,FALSE)","v":"Minimum HSPF:: 9.6"},{"$f":"VLOOKUP(C991,Main!$A$49:$I$67,Main!$G$47,FALSE)","v":18},{"$f":"VLOOKUP(C991,Main!$A$49:$I$67,Main!$H$47,FALSE)","v":3.1},{"$f":"VLOOKUP(C991,Main!$A$49:$I$67,Main!$I$47,FALSE)","v":16.100000000000001},1439]
["WA","KELSO WB AP","4C",4832,1266,35.049999999999997,68.7,8.2600000000000007E-2,"46.117N",26.8,40.799999999999997,42.2,46.3,49.9,55.8,60.2,65.599999999999994,65.8,61.5,52.8,45.2,40.299999999999997,288,220,135,60,9,0,0,0,0,29,164,305,3,2,21,58,188,305,484,491,345,114,19,3,35.200000000000003,36.32,41.2,41.36,44.1,49.46,52.7,54.5,51.1,41,41,34.9,0.71119133574007221,0.23878247179218048,62,33,17,22,{"$f":"IF(OR(C992=\"OA\",C992=\"OB\",C992=\"1B\",C992=\"1A\",C992=\"2A\",C992=\"2B\",C992=\"3A\",C992=\"3B\",C992=\"3C\"),TAN((LEFT(I992, 5)+VLOOKUP(C992,Main!$K$3:$L$21,2,FALSE))*PI()/180),IF(Checklist!$I$385=\"No\",TAN((LEFT(I992, 5)+VLOOKUP(C992,Main!$K$3:$L$21,2,FALSE))*PI()/180),\"NR\"))","v":"NR"},{"$f":"VLOOKUP(C992,Main!$A$49:$I$67,Main!$B$47,FALSE)","v":"NR"},{"$f":"VLOOKUP(C992,Main!$A$49:$I$67,Main!$C$47,FALSE)","v":"NR"},{"$f":"VLOOKUP(C992,Main!$A$49:$I$67,Main!$E$47,FALSE)&\":\"&\" \"&VLOOKUP(C992,Main!$A$49:$I$67,Main!$F$47,FALSE)","v":"Minimum HSPF:: 9.6"},{"$f":"VLOOKUP(C992,Main!$A$49:$I$67,Main!$G$47,FALSE)","v":18},{"$f":"VLOOKUP(C992,Main!$A$49:$I$67,Main!$H$47,FALSE)","v":3.1},{"$f":"VLOOKUP(C992,Main!$A$49:$I$67,Main!$I$47,FALSE)","v":16.100000000000001},2033]
["WA","MOSES LAKE GRANT COUNTY AP","5B",5760,1511,30.65,81.5,8.2600000000000007E-2,"47.208N",12.9,30.2,36,43.6,50.1,58.7,65.900000000000006,74.099999999999994,72.5,63.6,50.3,37.799999999999997,29.7,613,392,207,70,8,0,0,0,1,78,372,631,0,0,10,73,279,477,747,698,408,87,5,1,26.8,31.28,34.299999999999997,35.6,39.200000000000003,45.68,48.92,50.54,41.2,33.4,33.4,29.5,0.79112271540469981,0.17854515132192081,65,35,18,23,{"$f":"IF(OR(C993=\"OA\",C993=\"OB\",C993=\"1B\",C993=\"1A\",C993=\"2A\",C993=\"2B\",C993=\"3A\",C993=\"3B\",C993=\"3C\"),TAN((LEFT(I993, 5)+VLOOKUP(C993,Main!$K$3:$L$21,2,FALSE))*PI()/180),IF(Checklist!$I$385=\"No\",TAN((LEFT(I993, 5)+VLOOKUP(C993,Main!$K$3:$L$21,2,FALSE))*PI()/180),\"NR\"))","v":"NR"},{"$f":"VLOOKUP(C993,Main!$A$49:$I$67,Main!$B$47,FALSE)","v":"NR"},{"$f":"VLOOKUP(C993,Main!$A$49:$I$67,Main!$C$47,FALSE)","v":"NR"},{"$f":"VLOOKUP(C993,Main!$A$49:$I$67,Main!$E$47,FALSE)&\":\"&\" \"&VLOOKUP(C993,Main!$A$49:$I$67,Main!$F$47,FALSE)","v":"Minimum COP @ 5°F:: 1.75"},{"$f":"VLOOKUP(C993,Main!$A$49:$I$67,Main!$G$47,FALSE)","v":15},{"$f":"VLOOKUP(C993,Main!$A$49:$I$67,Main!$H$47,FALSE)","v":3.1},{"$f":"VLOOKUP(C993,Main!$A$49:$I$67,Main!$I$47,FALSE)","v":16.100000000000001},2785]
["WA","OLYMPIA AIRPORT","4C",5377,1188,35.5,72.099999999999994,8.2600000000000007E-2,"46.973N",24.3,39.6,40.799999999999997,44.3,48.2,54,58.8,64.099999999999994,64.2,59.4,50.5,43.4,38.799999999999997,323,259,185,94,19,1,0,0,0,54,211,350,2,2,9,38,144,263,437,439,283,71,11,2,37.9,34.340000000000003,37.9,40.82,45,49.46,52.16,51.44,51.8,42.3,42.3,36.9,0.72602739726027399,0.22512214731894364,64,34,18,23,{"$f":"IF(OR(C994=\"OA\",C994=\"OB\",C994=\"1B\",C994=\"1A\",C994=\"2A\",C994=\"2B\",C994=\"3A\",C994=\"3B\",C994=\"3C\"),TAN((LEFT(I994, 5)+VLOOKUP(C994,Main!$K$3:$L$21,2,FALSE))*PI()/180),IF(Checklist!$I$385=\"No\",TAN((LEFT(I994, 5)+VLOOKUP(C994,Main!$K$3:$L$21,2,FALSE))*PI()/180),\"NR\"))","v":"NR"},{"$f":"VLOOKUP(C994,Main!$A$49:$I$67,Main!$B$47,FALSE)","v":"NR"},{"$f":"VLOOKUP(C994,Main!$A$49:$I$67,Main!$C$47,FALSE)","v":"NR"},{"$f":"VLOOKUP(C994,Main!$A$49:$I$67,Main!$E$47,FALSE)&\":\"&\" \"&VLOOKUP(C994,Main!$A$49:$I$67,Main!$F$47,FALSE)","v":"Minimum HSPF:: 9.6"},{"$f":"VLOOKUP(C994,Main!$A$49:$I$67,Main!$G$47,FALSE)","v":18},{"$f":"VLOOKUP(C994,Main!$A$49:$I$67,Main!$H$47,FALSE)","v":3.1},{"$f":"VLOOKUP(C994,Main!$A$49:$I$67,Main!$I$47,FALSE)","v":16.100000000000001},1701]
["WA","PASCO","5B",4945,1540,30.2,78.3,8.2600000000000007E-2,"46.267N",16.399999999999999,35.200000000000003,39.1,46.3,53,61.1,67.7,75.2,73.599999999999994,64.7,52.3,41.2,33.799999999999997,463,308,146,32,3,0,0,0,0,56,282,504,3,3,31,122,349,531,781,730,442,128,19,2,31.1,28.94,36.700000000000003,42.08,42.4,50.54,51.26,51.44,45.1,37.6,37.6,30.9,0.76608187134502925,0.19065577205112089,63,33,16,21,{"$f":"IF(OR(C995=\"OA\",C995=\"OB\",C995=\"1B\",C995=\"1A\",C995=\"2A\",C995=\"2B\",C995=\"3A\",C995=\"3B\",C995=\"3C\"),TAN((LEFT(I995, 5)+VLOOKUP(C995,Main!$K$3:$L$21,2,FALSE))*PI()/180),IF(Checklist!$I$385=\"No\",TAN((LEFT(I995, 5)+VLOOKUP(C995,Main!$K$3:$L$21,2,FALSE))*PI()/180),\"NR\"))","v":"NR"},{"$f":"VLOOKUP(C995,Main!$A$49:$I$67,Main!$B$47,FALSE)","v":"NR"},{"$f":"VLOOKUP(C995,Main!$A$49:$I$67,Main!$C$47,FALSE)","v":"NR"},{"$f":"VLOOKUP(C995,Main!$A$49:$I$67,Main!$E$47,FALSE)&\":\"&\" \"&VLOOKUP(C995,Main!$A$49:$I$67,Main!$F$47,FALSE)","v":"Minimum COP @ 5°F:: 1.75"},{"$f":"VLOOKUP(C995,Main!$A$49:$I$67,Main!$G$47,FALSE)","v":15},{"$f":"VLOOKUP(C995,Main!$A$49:$I$67,Main!$H$47,FALSE)","v":3.1},{"$f":"VLOOKUP(C995,Main!$A$49:$I$67,Main!$I$47,FALSE)","v":16.100000000000001},3141]
["WA","PULLMAN/MOSCOW RGNL","5B",6458,1451,24.45,76.599999999999994,8.2600000000000007E-2,"46.744N",13.6,32.200000000000003,34.700000000000003,40.799999999999997,46.3,53.2,58.9,66.7,66.400000000000006,59.5,48,37.700000000000003,31.1,551,429,292,149,45,6,0,0,7,128,374,587,0,0,6,37,145,274,519,508,291,65,5,0,26.1,27.5,31.3,38.299999999999997,39.9,44.78,42.44,41.72,48.7,26.4,26.4,29.1,0.78319783197831983,0.18084260731319554,67,37,19,24,{"$f":"IF(OR(C996=\"OA\",C996=\"OB\",C996=\"1B\",C996=\"1A\",C996=\"2A\",C996=\"2B\",C996=\"3A\",C996=\"3B\",C996=\"3C\"),TAN((LEFT(I996, 5)+VLOOKUP(C996,Main!$K$3:$L$21,2,FALSE))*PI()/180),IF(Checklist!$I$385=\"No\",TAN((LEFT(I996, 5)+VLOOKUP(C996,Main!$K$3:$L$21,2,FALSE))*PI()/180),\"NR\"))","v":"NR"},{"$f":"VLOOKUP(C996,Main!$A$49:$I$67,Main!$B$47,FALSE)","v":"NR"},{"$f":"VLOOKUP(C996,Main!$A$49:$I$67,Main!$C$47,FALSE)","v":"NR"},{"$f":"VLOOKUP(C996,Main!$A$49:$I$67,Main!$E$47,FALSE)&\":\"&\" \"&VLOOKUP(C996,Main!$A$49:$I$67,Main!$F$47,FALSE)","v":"Minimum COP @ 5°F:: 1.75"},{"$f":"VLOOKUP(C996,Main!$A$49:$I$67,Main!$G$47,FALSE)","v":15},{"$f":"VLOOKUP(C996,Main!$A$49:$I$67,Main!$H$47,FALSE)","v":3.1},{"$f":"VLOOKUP(C996,Main!$A$49:$I$67,Main!$I$47,FALSE)","v":16.100000000000001},1850]
["WA","QUILLAYUTE STATE AIRPORT","5C",5652,1097,36.549999999999997,65.3,8.2600000000000007E-2,"47.938N",27.8,41.8,42.4,44,46.9,51.5,55.4,59.2,59.7,57.2,50.5,44.9,40.9,256,216,190,111,35,2,0,0,2,48,168,284,3,2,5,19,80,165,286,299,217,63,14,2,38.299999999999997,37.94,39.700000000000003,41.54,45.3,48.92,53.24,53.6,51.3,42.3,42.3,38.5,0.70479704797047971,0.24472233427457304,64,35,20,25,{"$f":"IF(OR(C997=\"OA\",C997=\"OB\",C997=\"1B\",C997=\"1A\",C997=\"2A\",C997=\"2B\",C997=\"3A\",C997=\"3B\",C997=\"3C\"),TAN((LEFT(I997, 5)+VLOOKUP(C997,Main!$K$3:$L$21,2,FALSE))*PI()/180),IF(Checklist!$I$385=\"No\",TAN((LEFT(I997, 5)+VLOOKUP(C997,Main!$K$3:$L$21,2,FALSE))*PI()/180),\"NR\"))","v":"NR"},{"$f":"VLOOKUP(C997,Main!$A$49:$I$67,Main!$B$47,FALSE)","v":"NR"},{"$f":"VLOOKUP(C997,Main!$A$49:$I$67,Main!$C$47,FALSE)","v":"NR"},{"$f":"VLOOKUP(C997,Main!$A$49:$I$67,Main!$E$47,FALSE)&\":\"&\" \"&VLOOKUP(C997,Main!$A$49:$I$67,Main!$F$47,FALSE)","v":"Minimum HSPF:: 9.6"},{"$f":"VLOOKUP(C997,Main!$A$49:$I$67,Main!$G$47,FALSE)","v":18},{"$f":"VLOOKUP(C997,Main!$A$49:$I$67,Main!$H$47,FALSE)","v":3.1},{"$f":"VLOOKUP(C997,Main!$A$49:$I$67,Main!$I$47,FALSE)","v":16.100000000000001},1155]
["WA","RENTON MUNI","4C",4504,1257,36.75,72,8.2600000000000007E-2,"47.493N",29.2,42.3,43.5,46.5,50.6,56.5,61.8,67,67.3,62.2,53.6,46.1,41.7,246,184,126,47,4,0,0,0,0,20,141,262,6,2,18,66,204,352,527,535,366,133,23,5,37.200000000000003,35.42,41,41.72,45.1,50.18,53.24,53.78,52,41.4,41.4,38.1,0.69581749049429653,0.25355252159375874,61,32,16,21,{"$f":"IF(OR(C998=\"OA\",C998=\"OB\",C998=\"1B\",C998=\"1A\",C998=\"2A\",C998=\"2B\",C998=\"3A\",C998=\"3B\",C998=\"3C\"),TAN((LEFT(I998, 5)+VLOOKUP(C998,Main!$K$3:$L$21,2,FALSE))*PI()/180),IF(Checklist!$I$385=\"No\",TAN((LEFT(I998, 5)+VLOOKUP(C998,Main!$K$3:$L$21,2,FALSE))*PI()/180),\"NR\"))","v":"NR"},{"$f":"VLOOKUP(C998,Main!$A$49:$I$67,Main!$B$47,FALSE)","v":"NR"},{"$f":"VLOOKUP(C998,Main!$A$49:$I$67,Main!$C$47,FALSE)","v":"NR"},{"$f":"VLOOKUP(C998,Main!$A$49:$I$67,Main!$E$47,FALSE)&\":\"&\" \"&VLOOKUP(C998,Main!$A$49:$I$67,Main!$F$47,FALSE)","v":"Minimum HSPF:: 9.6"},{"$f":"VLOOKUP(C998,Main!$A$49:$I$67,Main!$G$47,FALSE)","v":18},{"$f":"VLOOKUP(C998,Main!$A$49:$I$67,Main!$H$47,FALSE)","v":3.1},{"$f":"VLOOKUP(C998,Main!$A$49:$I$67,Main!$I$47,FALSE)","v":16.100000000000001},2237]
["WA","SEATTLE BOEING FIELD [ISIS]","4C",4354,1214,32.049999999999997,72,8.2600000000000007E-2,"47.530N",29.4,42.7,44.1,47.3,51.5,57.4,62.1,67.400000000000006,67.5,62.9,53.9,46.4,41.8,232,170,109,37,3,0,0,0,0,17,133,259,6,6,25,81,233,364,540,542,386,137,25,5,36,35.42,40.299999999999997,42.44,45.9,49.46,52.16,54.32,48.9,43,43,38.799999999999997,0.69465648854961837,0.2548662652289595,61,31,16,21,{"$f":"IF(OR(C999=\"OA\",C999=\"OB\",C999=\"1B\",C999=\"1A\",C999=\"2A\",C999=\"2B\",C999=\"3A\",C999=\"3B\",C999=\"3C\"),TAN((LEFT(I999, 5)+VLOOKUP(C999,Main!$K$3:$L$21,2,FALSE))*PI()/180),IF(Checklist!$I$385=\"No\",TAN((LEFT(I999, 5)+VLOOKUP(C999,Main!$K$3:$L$21,2,FALSE))*PI()/180),\"NR\"))","v":"NR"},{"$f":"VLOOKUP(C999,Main!$A$49:$I$67,Main!$B$47,FALSE)","v":"NR"},{"$f":"VLOOKUP(C999,Main!$A$49:$I$67,Main!$C$47,FALSE)","v":"NR"},{"$f":"VLOOKUP(C999,Main!$A$49:$I$67,Main!$E$47,FALSE)&\":\"&\" \"&VLOOKUP(C999,Main!$A$49:$I$67,Main!$F$47,FALSE)","v":"Minimum HSPF:: 9.6"},{"$f":"VLOOKUP(C999,Main!$A$49:$I$67,Main!$G$47,FALSE)","v":18},{"$f":"VLOOKUP(C999,Main!$A$49:$I$67,Main!$H$47,FALSE)","v":3.1},{"$f":"VLOOKUP(C999,Main!$A$49:$I$67,Main!$I$47,FALSE)","v":16.100000000000001},2350]
["WA","SEATTLE SEATTLE-TACOMA INTL A","4C",4705,1240,37.25,69.3,8.2600000000000007E-2,"47.444N",29.5,41.9,43.3,46.2,50.1,55.9,60.6,66,66.099999999999994,61.7,52.8,45.6,41,254,192,136,56,7,0,0,0,0,24,149,283,4,4,17,59,191,317,495,499,352,110,17,3,34.200000000000003,35.24,37.200000000000003,41.54,45.5,48.02,50.72,53.42,51.3,41.5,41.5,36.5,0.70370370370370372,0.25552825552825553,62,32,17,22,{"$f":"IF(OR(C1000=\"OA\",C1000=\"OB\",C1000=\"1B\",C1000=\"1A\",C1000=\"2A\",C1000=\"2B\",C1000=\"3A\",C1000=\"3B\",C1000=\"3C\"),TAN((LEFT(I1000, 5)+VLOOKUP(C1000,Main!$K$3:$L$21,2,FALSE))*PI()/180),IF(Checklist!$I$385=\"No\",TAN((LEFT(I1000, 5)+VLOOKUP(C1000,Main!$K$3:$L$21,2,FALSE))*PI()/180),\"NR\"))","v":"NR"},{"$f":"VLOOKUP(C1000,Main!$A$49:$I$67,Main!$B$47,FALSE)","v":"NR"},{"$f":"VLOOKUP(C1000,Main!$A$49:$I$67,Main!$C$47,FALSE)","v":"NR"},{"$f":"VLOOKUP(C1000,Main!$A$49:$I$67,Main!$E$47,FALSE)&\":\"&\" \"&VLOOKUP(C1000,Main!$A$49:$I$67,Main!$F$47,FALSE)","v":"Minimum HSPF:: 9.6"},{"$f":"VLOOKUP(C1000,Main!$A$49:$I$67,Main!$G$47,FALSE)","v":18},{"$f":"VLOOKUP(C1000,Main!$A$49:$I$67,Main!$H$47,FALSE)","v":3.1},{"$f":"VLOOKUP(C1000,Main!$A$49:$I$67,Main!$I$47,FALSE)","v":16.100000000000001},2068]
["WA","SNOHOMISH CO","4C",5192,1232,40.1,67.8,8.2600000000000007E-2,"47.908N",28.9,41,42.1,44.7,48.5,53.7,58.3,62.9,63.7,59.7,51.7,44.7,40.200000000000003,282,223,175,82,17,1,0,0,0,32,173,305,3,1,10,38,133,250,401,426,291,86,13,2,39.9,34.700000000000003,38.5,40.28,45.9,49.64,52.7,53.06,51.4,41,41,37,0.71223021582733814,0.25160710582705464,63,33,18,23,{"$f":"IF(OR(C1001=\"OA\",C1001=\"OB\",C1001=\"1B\",C1001=\"1A\",C1001=\"2A\",C1001=\"2B\",C1001=\"3A\",C1001=\"3B\",C1001=\"3C\"),TAN((LEFT(I1001, 5)+VLOOKUP(C1001,Main!$K$3:$L$21,2,FALSE))*PI()/180),IF(Checklist!$I$385=\"No\",TAN((LEFT(I1001, 5)+VLOOKUP(C1001,Main!$K$3:$L$21,2,FALSE))*PI()/180),\"NR\"))","v":"NR"},{"$f":"VLOOKUP(C1001,Main!$A$49:$I$67,Main!$B$47,FALSE)","v":"NR"},{"$f":"VLOOKUP(C1001,Main!$A$49:$I$67,Main!$C$47,FALSE)","v":"NR"},{"$f":"VLOOKUP(C1001,Main!$A$49:$I$67,Main!$E$47,FALSE)&\":\"&\" \"&VLOOKUP(C1001,Main!$A$49:$I$67,Main!$F$47,FALSE)","v":"Minimum HSPF:: 9.6"},{"$f":"VLOOKUP(C1001,Main!$A$49:$I$67,Main!$G$47,FALSE)","v":18},{"$f":"VLOOKUP(C1001,Main!$A$49:$I$67,Main!$H$47,FALSE)","v":3.1},{"$f":"VLOOKUP(C1001,Main!$A$49:$I$67,Main!$I$47,FALSE)","v":16.100000000000001},1654]
["WA","SPOKANE INTERNATIONAL AP [CHENEY - UO]","5B",6627,1410,21.8,75.400000000000006,8.2600000000000007E-2,"47.622N",11.2,29.3,32.6,39.700000000000003,46.3,54.8,61.1,70.400000000000006,69.400000000000006,61.1,47.5,35.700000000000003,28.3,641,488,324,148,34,3,0,0,5,133,430,672,0,0,3,37,183,337,632,601,338,56,2,0,23.5,23.18,28.4,32,37.6,40.28,44.78,43.34,39,30.2,30.2,25.9,0.79848866498740545,0.17320137038446898,68,37,20,25,{"$f":"IF(OR(C1002=\"OA\",C1002=\"OB\",C1002=\"1B\",C1002=\"1A\",C1002=\"2A\",C1002=\"2B\",C1002=\"3A\",C1002=\"3B\",C1002=\"3C\"),TAN((LEFT(I1002, 5)+VLOOKUP(C1002,Main!$K$3:$L$21,2,FALSE))*PI()/180),IF(Checklist!$I$385=\"No\",TAN((LEFT(I1002, 5)+VLOOKUP(C1002,Main!$K$3:$L$21,2,FALSE))*PI()/180),\"NR\"))","v":"NR"},{"$f":"VLOOKUP(C1002,Main!$A$49:$I$67,Main!$B$47,FALSE)","v":"NR"},{"$f":"VLOOKUP(C1002,Main!$A$49:$I$67,Main!$C$47,FALSE)","v":"NR"},{"$f":"VLOOKUP(C1002,Main!$A$49:$I$67,Main!$E$47,FALSE)&\":\"&\" \"&VLOOKUP(C1002,Main!$A$49:$I$67,Main!$F$47,FALSE)","v":"Minimum COP @ 5°F:: 1.75"},{"$f":"VLOOKUP(C1002,Main!$A$49:$I$67,Main!$G$47,FALSE)","v":15},{"$f":"VLOOKUP(C1002,Main!$A$49:$I$67,Main!$H$47,FALSE)","v":3.1},{"$f":"VLOOKUP(C1002,Main!$A$49:$I$67,Main!$I$47,FALSE)","v":16.100000000000001},2189]
["WA","STAMPEDE PASS","4C",8844,1376,25.55,67.099999999999994,8.2600000000000007E-2,"47.277N",12,27.4,29.4,33.4,37.700000000000003,44.2,49.6,57.1,57.6,53.2,42,32.6,26.4,701,578,515,375,223,107,23,18,55,267,524,731,0,0,1,7,44,94,243,254,152,21,1,0,28.2,22.82,26.2,29.84,35.6,41.54,45.68,46.94,41.5,27.1,27.1,24.6,0.80769230769230771,0.17567567567567566,73,43,26,31,{"$f":"IF(OR(C1003=\"OA\",C1003=\"OB\",C1003=\"1B\",C1003=\"1A\",C1003=\"2A\",C1003=\"2B\",C1003=\"3A\",C1003=\"3B\",C1003=\"3C\"),TAN((LEFT(I1003, 5)+VLOOKUP(C1003,Main!$K$3:$L$21,2,FALSE))*PI()/180),IF(Checklist!$I$385=\"No\",TAN((LEFT(I1003, 5)+VLOOKUP(C1003,Main!$K$3:$L$21,2,FALSE))*PI()/180),\"NR\"))","v":"NR"},{"$f":"VLOOKUP(C1003,Main!$A$49:$I$67,Main!$B$47,FALSE)","v":"NR"},{"$f":"VLOOKUP(C1003,Main!$A$49:$I$67,Main!$C$47,FALSE)","v":"NR"},{"$f":"VLOOKUP(C1003,Main!$A$49:$I$67,Main!$E$47,FALSE)&\":\"&\" \"&VLOOKUP(C1003,Main!$A$49:$I$67,Main!$F$47,FALSE)","v":"Minimum HSPF:: 9.6"},{"$f":"VLOOKUP(C1003,Main!$A$49:$I$67,Main!$G$47,FALSE)","v":18},{"$f":"VLOOKUP(C1003,Main!$A$49:$I$67,Main!$H$47,FALSE)","v":3.1},{"$f":"VLOOKUP(C1003,Main!$A$49:$I$67,Main!$I$47,FALSE)","v":16.100000000000001},817]
["WA","TACOMA MCCHORD AFB","4C",5161,1182,34.799999999999997,71.099999999999994,8.2600000000000007E-2,"47.150N",24.5,40,41.5,44.9,48.8,54.8,59.7,65,65.099999999999994,60,51,43.9,39.200000000000003,312,239,168,79,14,0,0,0,0,48,198,336,3,3,11,44,163,290,464,469,300,80,14,3,34,30.92,33.799999999999997,34.700000000000003,42.4,46.04,52.34,52.88,47.7,33.799999999999997,33.799999999999997,36,0.72222222222222221,0.22615719167443304,63,33,17,22,{"$f":"IF(OR(C1004=\"OA\",C1004=\"OB\",C1004=\"1B\",C1004=\"1A\",C1004=\"2A\",C1004=\"2B\",C1004=\"3A\",C1004=\"3B\",C1004=\"3C\"),TAN((LEFT(I1004, 5)+VLOOKUP(C1004,Main!$K$3:$L$21,2,FALSE))*PI()/180),IF(Checklist!$I$385=\"No\",TAN((LEFT(I1004, 5)+VLOOKUP(C1004,Main!$K$3:$L$21,2,FALSE))*PI()/180),\"NR\"))","v":"NR"},{"$f":"VLOOKUP(C1004,Main!$A$49:$I$67,Main!$B$47,FALSE)","v":"NR"},{"$f":"VLOOKUP(C1004,Main!$A$49:$I$67,Main!$C$47,FALSE)","v":"NR"},{"$f":"VLOOKUP(C1004,Main!$A$49:$I$67,Main!$E$47,FALSE)&\":\"&\" \"&VLOOKUP(C1004,Main!$A$49:$I$67,Main!$F$47,FALSE)","v":"Minimum HSPF:: 9.6"},{"$f":"VLOOKUP(C1004,Main!$A$49:$I$67,Main!$G$47,FALSE)","v":18},{"$f":"VLOOKUP(C1004,Main!$A$49:$I$67,Main!$H$47,FALSE)","v":3.1},{"$f":"VLOOKUP(C1004,Main!$A$49:$I$67,Main!$I$47,FALSE)","v":16.100000000000001},1844]
["WA","TACOMA NARROWS","4C",4792,1242,39.4,70.3,8.2600000000000007E-2,"47.268N",30.9,41.9,43,45.8,49.7,55.3,60,65,64.900000000000006,61.1,52.9,45.4,41.4,254,198,144,62,10,0,0,0,0,17,154,269,4,2,15,53,174,300,466,463,334,108,15,3,38.1,37.76,37.799999999999997,41,43,48.2,51.98,53.6,52.3,42.1,42.1,39.200000000000003,0.6992481203007519,0.26517083120856705,62,32,17,22,{"$f":"IF(OR(C1005=\"OA\",C1005=\"OB\",C1005=\"1B\",C1005=\"1A\",C1005=\"2A\",C1005=\"2B\",C1005=\"3A\",C1005=\"3B\",C1005=\"3C\"),TAN((LEFT(I1005, 5)+VLOOKUP(C1005,Main!$K$3:$L$21,2,FALSE))*PI()/180),IF(Checklist!$I$385=\"No\",TAN((LEFT(I1005, 5)+VLOOKUP(C1005,Main!$K$3:$L$21,2,FALSE))*PI()/180),\"NR\"))","v":"NR"},{"$f":"VLOOKUP(C1005,Main!$A$49:$I$67,Main!$B$47,FALSE)","v":"NR"},{"$f":"VLOOKUP(C1005,Main!$A$49:$I$67,Main!$C$47,FALSE)","v":"NR"},{"$f":"VLOOKUP(C1005,Main!$A$49:$I$67,Main!$E$47,FALSE)&\":\"&\" \"&VLOOKUP(C1005,Main!$A$49:$I$67,Main!$F$47,FALSE)","v":"Minimum HSPF:: 9.6"},{"$f":"VLOOKUP(C1005,Main!$A$49:$I$67,Main!$G$47,FALSE)","v":18},{"$f":"VLOOKUP(C1005,Main!$A$49:$I$67,Main!$H$47,FALSE)","v":3.1},{"$f":"VLOOKUP(C1005,Main!$A$49:$I$67,Main!$I$47,FALSE)","v":16.100000000000001},1937]
["WA","THE DALLES MUNICIPAL ARPT","5B",4663,1498,35.9,80.599999999999994,8.2600000000000007E-2,"45.619N",21.8,37.1,40.4,46.7,52.4,60.5,66.7,75,74.099999999999994,66.7,54.7,42.4,36,400,271,129,35,1,0,0,0,0,26,243,434,2,2,26,107,328,502,776,748,502,170,16,1,31.5,31.28,35.799999999999997,39.92,43.2,47.84,52.88,51.44,45.7,35.799999999999997,35.799999999999997,34.299999999999997,0.75,0.2129402129402129,62,32,16,21,{"$f":"IF(OR(C1006=\"OA\",C1006=\"OB\",C1006=\"1B\",C1006=\"1A\",C1006=\"2A\",C1006=\"2B\",C1006=\"3A\",C1006=\"3B\",C1006=\"3C\"),TAN((LEFT(I1006, 5)+VLOOKUP(C1006,Main!$K$3:$L$21,2,FALSE))*PI()/180),IF(Checklist!$I$385=\"No\",TAN((LEFT(I1006, 5)+VLOOKUP(C1006,Main!$K$3:$L$21,2,FALSE))*PI()/180),\"NR\"))","v":"NR"},{"$f":"VLOOKUP(C1006,Main!$A$49:$I$67,Main!$B$47,FALSE)","v":"NR"},{"$f":"VLOOKUP(C1006,Main!$A$49:$I$67,Main!$C$47,FALSE)","v":"NR"},{"$f":"VLOOKUP(C1006,Main!$A$49:$I$67,Main!$E$47,FALSE)&\":\"&\" \"&VLOOKUP(C1006,Main!$A$49:$I$67,Main!$F$47,FALSE)","v":"Minimum COP @ 5°F:: 1.75"},{"$f":"VLOOKUP(C1006,Main!$A$49:$I$67,Main!$G$47,FALSE)","v":15},{"$f":"VLOOKUP(C1006,Main!$A$49:$I$67,Main!$H$47,FALSE)","v":3.1},{"$f":"VLOOKUP(C1006,Main!$A$49:$I$67,Main!$I$47,FALSE)","v":16.100000000000001},3180]
["WA","WALLA WALLA CITY COUNTY AP","5B",4810,1460,30.75,81.7,8.2600000000000007E-2,"46.095N",17.3,36.6,39.700000000000003,46.8,52.4,59.8,66.5,76.3,75.2,66.900000000000006,53.8,42.4,35.1,424,294,136,39,4,0,0,0,0,39,252,468,7,6,37,111,308,495,816,781,507,157,23,6,30.6,30.56,30.9,38.119999999999997,41,46.94,44.96,48.74,45.9,36,36,30.4,0.75683890577507595,0.19404019404019401,63,32,16,21,{"$f":"IF(OR(C1007=\"OA\",C1007=\"OB\",C1007=\"1B\",C1007=\"1A\",C1007=\"2A\",C1007=\"2B\",C1007=\"3A\",C1007=\"3B\",C1007=\"3C\"),TAN((LEFT(I1007, 5)+VLOOKUP(C1007,Main!$K$3:$L$21,2,FALSE))*PI()/180),IF(Checklist!$I$385=\"No\",TAN((LEFT(I1007, 5)+VLOOKUP(C1007,Main!$K$3:$L$21,2,FALSE))*PI()/180),\"NR\"))","v":"NR"},{"$f":"VLOOKUP(C1007,Main!$A$49:$I$67,Main!$B$47,FALSE)","v":"NR"},{"$f":"VLOOKUP(C1007,Main!$A$49:$I$67,Main!$C$47,FALSE)","v":"NR"},{"$f":"VLOOKUP(C1007,Main!$A$49:$I$67,Main!$E$47,FALSE)&\":\"&\" \"&VLOOKUP(C1007,Main!$A$49:$I$67,Main!$F$47,FALSE)","v":"Minimum COP @ 5°F:: 1.75"},{"$f":"VLOOKUP(C1007,Main!$A$49:$I$67,Main!$G$47,FALSE)","v":15},{"$f":"VLOOKUP(C1007,Main!$A$49:$I$67,Main!$H$47,FALSE)","v":3.1},{"$f":"VLOOKUP(C1007,Main!$A$49:$I$67,Main!$I$47,FALSE)","v":16.100000000000001},3254]
["WA","WENATCHEE/PANGBORN","5B",5720,1456,25.6,80.400000000000006,8.2600000000000007E-2,"47.398N",13.7,29.3,35,43.5,51.3,59.7,66.2,75,73.8,65.5,51.2,38,29.2,641,421,212,54,4,0,0,0,0,66,363,643,0,0,12,92,305,486,775,739,465,103,3,0,27.1,29.12,27.7,31.46,39.200000000000003,41.36,47.3,50.72,44.8,31.6,31.6,26.2,0.79381443298969079,0.18117565078891046,65,35,18,23,{"$f":"IF(OR(C1008=\"OA\",C1008=\"OB\",C1008=\"1B\",C1008=\"1A\",C1008=\"2A\",C1008=\"2B\",C1008=\"3A\",C1008=\"3B\",C1008=\"3C\"),TAN((LEFT(I1008, 5)+VLOOKUP(C1008,Main!$K$3:$L$21,2,FALSE))*PI()/180),IF(Checklist!$I$385=\"No\",TAN((LEFT(I1008, 5)+VLOOKUP(C1008,Main!$K$3:$L$21,2,FALSE))*PI()/180),\"NR\"))","v":"NR"},{"$f":"VLOOKUP(C1008,Main!$A$49:$I$67,Main!$B$47,FALSE)","v":"NR"},{"$f":"VLOOKUP(C1008,Main!$A$49:$I$67,Main!$C$47,FALSE)","v":"NR"},{"$f":"VLOOKUP(C1008,Main!$A$49:$I$67,Main!$E$47,FALSE)&\":\"&\" \"&VLOOKUP(C1008,Main!$A$49:$I$67,Main!$F$47,FALSE)","v":"Minimum COP @ 5°F:: 1.75"},{"$f":"VLOOKUP(C1008,Main!$A$49:$I$67,Main!$G$47,FALSE)","v":15},{"$f":"VLOOKUP(C1008,Main!$A$49:$I$67,Main!$H$47,FALSE)","v":3.1},{"$f":"VLOOKUP(C1008,Main!$A$49:$I$67,Main!$I$47,FALSE)","v":16.100000000000001},2980]
["WA","WHIDBEY ISLAND NAS","5C",5473,1223,38.75,59.5,8.2600000000000007E-2,"48.350N",27.2,41.7,42.5,45.4,48.8,52.8,56.6,59.2,59.6,56.4,50.7,45.2,40.9,261,215,152,66,13,0,0,0,1,46,160,284,4,3,10,29,101,199,284,297,194,67,17,3,37.9,37.04,36.700000000000003,43.88,46.4,49.82,52.7,51.98,51.4,43,43,37.799999999999997,0.70479704797047971,0.24112347641759407,64,34,20,25,{"$f":"IF(OR(C1009=\"OA\",C1009=\"OB\",C1009=\"1B\",C1009=\"1A\",C1009=\"2A\",C1009=\"2B\",C1009=\"3A\",C1009=\"3B\",C1009=\"3C\"),TAN((LEFT(I1009, 5)+VLOOKUP(C1009,Main!$K$3:$L$21,2,FALSE))*PI()/180),IF(Checklist!$I$385=\"No\",TAN((LEFT(I1009, 5)+VLOOKUP(C1009,Main!$K$3:$L$21,2,FALSE))*PI()/180),\"NR\"))","v":"NR"},{"$f":"VLOOKUP(C1009,Main!$A$49:$I$67,Main!$B$47,FALSE)","v":"NR"},{"$f":"VLOOKUP(C1009,Main!$A$49:$I$67,Main!$C$47,FALSE)","v":"NR"},{"$f":"VLOOKUP(C1009,Main!$A$49:$I$67,Main!$E$47,FALSE)&\":\"&\" \"&VLOOKUP(C1009,Main!$A$49:$I$67,Main!$F$47,FALSE)","v":"Minimum HSPF:: 9.6"},{"$f":"VLOOKUP(C1009,Main!$A$49:$I$67,Main!$G$47,FALSE)","v":18},{"$f":"VLOOKUP(C1009,Main!$A$49:$I$67,Main!$H$47,FALSE)","v":3.1},{"$f":"VLOOKUP(C1009,Main!$A$49:$I$67,Main!$I$47,FALSE)","v":16.100000000000001},1208]
["WA","WILLIAM R FAIRCHILD","5C",5922,1263,36.15,66.400000000000006,8.2600000000000007E-2,"48.120N",27.6,39.5,40.299999999999997,42.7,46.6,51.3,55.9,60,60.3,57.3,49.2,43.1,39.200000000000003,325,271,226,115,33,2,0,0,1,64,212,334,1,1,1,14,73,179,309,320,220,41,5,0,35.6,36.86,37,38.119999999999997,43.3,49.46,50.9,51.26,48.4,40.1,40.1,35.6,0.72222222222222221,0.2435108375702435,65,35,20,25,{"$f":"IF(OR(C1010=\"OA\",C1010=\"OB\",C1010=\"1B\",C1010=\"1A\",C1010=\"2A\",C1010=\"2B\",C1010=\"3A\",C1010=\"3B\",C1010=\"3C\"),TAN((LEFT(I1010, 5)+VLOOKUP(C1010,Main!$K$3:$L$21,2,FALSE))*PI()/180),IF(Checklist!$I$385=\"No\",TAN((LEFT(I1010, 5)+VLOOKUP(C1010,Main!$K$3:$L$21,2,FALSE))*PI()/180),\"NR\"))","v":"NR"},{"$f":"VLOOKUP(C1010,Main!$A$49:$I$67,Main!$B$47,FALSE)","v":"NR"},{"$f":"VLOOKUP(C1010,Main!$A$49:$I$67,Main!$C$47,FALSE)","v":"NR"},{"$f":"VLOOKUP(C1010,Main!$A$49:$I$67,Main!$E$47,FALSE)&\":\"&\" \"&VLOOKUP(C1010,Main!$A$49:$I$67,Main!$F$47,FALSE)","v":"Minimum HSPF:: 9.6"},{"$f":"VLOOKUP(C1010,Main!$A$49:$I$67,Main!$G$47,FALSE)","v":18},{"$f":"VLOOKUP(C1010,Main!$A$49:$I$67,Main!$H$47,FALSE)","v":3.1},{"$f":"VLOOKUP(C1010,Main!$A$49:$I$67,Main!$I$47,FALSE)","v":16.100000000000001},1164]
["WA","YAKIMA AIR TERMINAL","5B",5845,1460,22.75,76.3,8.2600000000000007E-2,"46.568N",13.8,31.6,36.6,43.3,49.5,57.8,64.400000000000006,72.099999999999994,70.2,62.2,49.5,37.9,30,571,376,218,84,12,0,0,0,2,92,368,619,0,1,11,71,254,432,685,627,367,75,6,0,26.2,28.58,30,35.6,39.700000000000003,44.78,47.48,45.32,40.6,25.9,25.9,23.9,0.78947368421052633,0.18150992320734013,65,35,18,23,{"$f":"IF(OR(C1011=\"OA\",C1011=\"OB\",C1011=\"1B\",C1011=\"1A\",C1011=\"2A\",C1011=\"2B\",C1011=\"3A\",C1011=\"3B\",C1011=\"3C\"),TAN((LEFT(I1011, 5)+VLOOKUP(C1011,Main!$K$3:$L$21,2,FALSE))*PI()/180),IF(Checklist!$I$385=\"No\",TAN((LEFT(I1011, 5)+VLOOKUP(C1011,Main!$K$3:$L$21,2,FALSE))*PI()/180),\"NR\"))","v":"NR"},{"$f":"VLOOKUP(C1011,Main!$A$49:$I$67,Main!$B$47,FALSE)","v":"NR"},{"$f":"VLOOKUP(C1011,Main!$A$49:$I$67,Main!$C$47,FALSE)","v":"NR"},{"$f":"VLOOKUP(C1011,Main!$A$49:$I$67,Main!$E$47,FALSE)&\":\"&\" \"&VLOOKUP(C1011,Main!$A$49:$I$67,Main!$F$47,FALSE)","v":"Minimum COP @ 5°F:: 1.75"},{"$f":"VLOOKUP(C1011,Main!$A$49:$I$67,Main!$G$47,FALSE)","v":15},{"$f":"VLOOKUP(C1011,Main!$A$49:$I$67,Main!$H$47,FALSE)","v":3.1},{"$f":"VLOOKUP(C1011,Main!$A$49:$I$67,Main!$I$47,FALSE)","v":16.100000000000001},2529]
["WI","APPLETON/OUTAGAMIE","6A",7210,1327,16.600000000000001,76.099999999999994,0.13250000000000001,"44.267N",-0.3,19.100000000000001,24.7,32.700000000000003,46.4,56.3,66.900000000000006,71.8,69.400000000000006,62.7,49.7,37,24.9,959,709,543,168,32,0,0,0,5,115,400,779,0,0,8,59,226,508,676,601,387,107,9,1,19.399999999999999,28.04,24.6,30.38,39.700000000000003,58.28,59.72,60.26,50.5,29.3,29.3,23.9,0.83640081799591004,0.14403862134462428,74,43,23,28,{"$f":"IF(OR(C1012=\"OA\",C1012=\"OB\",C1012=\"1B\",C1012=\"1A\",C1012=\"2A\",C1012=\"2B\",C1012=\"3A\",C1012=\"3B\",C1012=\"3C\"),TAN((LEFT(I1012, 5)+VLOOKUP(C1012,Main!$K$3:$L$21,2,FALSE))*PI()/180),IF(Checklist!$I$385=\"No\",TAN((LEFT(I1012, 5)+VLOOKUP(C1012,Main!$K$3:$L$21,2,FALSE))*PI()/180),\"NR\"))","v":"NR"},{"$f":"VLOOKUP(C1012,Main!$A$49:$I$67,Main!$B$47,FALSE)","v":"NR"},{"$f":"VLOOKUP(C1012,Main!$A$49:$I$67,Main!$C$47,FALSE)","v":"NR"},{"$f":"VLOOKUP(C1012,Main!$A$49:$I$67,Main!$E$47,FALSE)&\":\"&\" \"&VLOOKUP(C1012,Main!$A$49:$I$67,Main!$F$47,FALSE)","v":"Minimum COP @ 5°F:: 1.75"},{"$f":"VLOOKUP(C1012,Main!$A$49:$I$67,Main!$G$47,FALSE)","v":15},{"$f":"VLOOKUP(C1012,Main!$A$49:$I$67,Main!$H$47,FALSE)","v":3.1},{"$f":"VLOOKUP(C1012,Main!$A$49:$I$67,Main!$I$47,FALSE)","v":16.100000000000001},2582]
["WI","EAU CLAIRE COUNTY AP","6A",7843,1382,-7.15,83.8,0.13250000000000001,"44.867N",-8,15.1,19.7,31.5,45.5,57.4,67.2,71.3,69.400000000000006,60.7,47.9,33.6,20.399999999999999,1082,850,586,200,26,0,0,0,12,149,498,916,0,0,13,66,257,517,661,603,332,85,7,0,3.4,8.6,21.9,30.38,41.2,53.96,61.52,58.46,51.3,25,25,8.1,0.84877126654064272,0.12944523470839259,77,45,24,29,{"$f":"IF(OR(C1013=\"OA\",C1013=\"OB\",C1013=\"1B\",C1013=\"1A\",C1013=\"2A\",C1013=\"2B\",C1013=\"3A\",C1013=\"3B\",C1013=\"3C\"),TAN((LEFT(I1013, 5)+VLOOKUP(C1013,Main!$K$3:$L$21,2,FALSE))*PI()/180),IF(Checklist!$I$385=\"No\",TAN((LEFT(I1013, 5)+VLOOKUP(C1013,Main!$K$3:$L$21,2,FALSE))*PI()/180),\"NR\"))","v":"NR"},{"$f":"VLOOKUP(C1013,Main!$A$49:$I$67,Main!$B$47,FALSE)","v":"NR"},{"$f":"VLOOKUP(C1013,Main!$A$49:$I$67,Main!$C$47,FALSE)","v":"NR"},{"$f":"VLOOKUP(C1013,Main!$A$49:$I$67,Main!$E$47,FALSE)&\":\"&\" \"&VLOOKUP(C1013,Main!$A$49:$I$67,Main!$F$47,FALSE)","v":"Minimum COP @ 5°F:: 1.75"},{"$f":"VLOOKUP(C1013,Main!$A$49:$I$67,Main!$G$47,FALSE)","v":15},{"$f":"VLOOKUP(C1013,Main!$A$49:$I$67,Main!$H$47,FALSE)","v":3.1},{"$f":"VLOOKUP(C1013,Main!$A$49:$I$67,Main!$I$47,FALSE)","v":16.100000000000001},2541]
["WI","GREEN BAY AUSTIN STRAUBEL INT","6A",7590,1376,1.5,79.7,0.13250000000000001,"44.479N",-2.8,18.100000000000001,21.3,31.9,44.6,56.1,66.099999999999994,69.900000000000006,68.3,60.2,48.4,35.9,23.8,988,802,572,210,32,0,0,0,10,133,429,813,0,0,11,48,220,485,618,566,315,85,6,0,7.2,10.94,23.9,33.08,46.8,56.3,62.42,59.36,53.1,28.6,28.6,18.5,0.83967935871743482,0.13895251183386775,76,44,24,29,{"$f":"IF(OR(C1014=\"OA\",C1014=\"OB\",C1014=\"1B\",C1014=\"1A\",C1014=\"2A\",C1014=\"2B\",C1014=\"3A\",C1014=\"3B\",C1014=\"3C\"),TAN((LEFT(I1014, 5)+VLOOKUP(C1014,Main!$K$3:$L$21,2,FALSE))*PI()/180),IF(Checklist!$I$385=\"No\",TAN((LEFT(I1014, 5)+VLOOKUP(C1014,Main!$K$3:$L$21,2,FALSE))*PI()/180),\"NR\"))","v":"NR"},{"$f":"VLOOKUP(C1014,Main!$A$49:$I$67,Main!$B$47,FALSE)","v":"NR"},{"$f":"VLOOKUP(C1014,Main!$A$49:$I$67,Main!$C$47,FALSE)","v":"NR"},{"$f":"VLOOKUP(C1014,Main!$A$49:$I$67,Main!$E$47,FALSE)&\":\"&\" \"&VLOOKUP(C1014,Main!$A$49:$I$67,Main!$F$47,FALSE)","v":"Minimum COP @ 5°F:: 1.75"},{"$f":"VLOOKUP(C1014,Main!$A$49:$I$67,Main!$G$47,FALSE)","v":15},{"$f":"VLOOKUP(C1014,Main!$A$49:$I$67,Main!$H$47,FALSE)","v":3.1},{"$f":"VLOOKUP(C1014,Main!$A$49:$I$67,Main!$I$47,FALSE)","v":16.100000000000001},2354]
["WI","JANESVILLE/ROCK CO.","5A",6601,1297,19.2,73,0.13250000000000001,"42.62N",0.5,22.5,25.4,36.6,49,58.1,67.400000000000006,71.7,71,63.7,52,40.799999999999997,25.1,852,689,430,130,18,0,0,0,3,80,303,775,0,0,14,100,270,523,674,652,413,143,26,1,24.8,26.42,24.3,27.86,40.799999999999997,52.7,57.56,58.1,50.2,29.5,29.5,28.8,0.82417582417582413,0.14574574574574573,73,41,22,27,{"$f":"IF(OR(C1015=\"OA\",C1015=\"OB\",C1015=\"1B\",C1015=\"1A\",C1015=\"2A\",C1015=\"2B\",C1015=\"3A\",C1015=\"3B\",C1015=\"3C\"),TAN((LEFT(I1015, 5)+VLOOKUP(C1015,Main!$K$3:$L$21,2,FALSE))*PI()/180),IF(Checklist!$I$385=\"No\",TAN((LEFT(I1015, 5)+VLOOKUP(C1015,Main!$K$3:$L$21,2,FALSE))*PI()/180),\"NR\"))","v":"NR"},{"$f":"VLOOKUP(C1015,Main!$A$49:$I$67,Main!$B$47,FALSE)","v":"NR"},{"$f":"VLOOKUP(C1015,Main!$A$49:$I$67,Main!$C$47,FALSE)","v":"NR"},{"$f":"VLOOKUP(C1015,Main!$A$49:$I$67,Main!$E$47,FALSE)&\":\"&\" \"&VLOOKUP(C1015,Main!$A$49:$I$67,Main!$F$47,FALSE)","v":"Minimum COP @ 5°F:: 1.75"},{"$f":"VLOOKUP(C1015,Main!$A$49:$I$67,Main!$G$47,FALSE)","v":15},{"$f":"VLOOKUP(C1015,Main!$A$49:$I$67,Main!$H$47,FALSE)","v":3.1},{"$f":"VLOOKUP(C1015,Main!$A$49:$I$67,Main!$I$47,FALSE)","v":16.100000000000001},2816]
["WI","LA CROSSE MUNICIPAL ARPT","5A",7026,1410,5.35,82.9,0.13250000000000001,"43.879N",-4.2,18.399999999999999,22.9,34.799999999999997,48.4,60,69.8,73.8,71.7,63.3,50.9,36.799999999999997,23.6,981,759,493,143,12,0,0,0,5,100,409,820,0,0,22,94,322,594,738,673,405,128,13,1,5.7,14.18,23.9,35.6,44.1,59.72,65.48,61.16,50.5,26.4,26.4,8.6,0.83870967741935487,0.13625814179830797,74,42,22,27,{"$f":"IF(OR(C1016=\"OA\",C1016=\"OB\",C1016=\"1B\",C1016=\"1A\",C1016=\"2A\",C1016=\"2B\",C1016=\"3A\",C1016=\"3B\",C1016=\"3C\"),TAN((LEFT(I1016, 5)+VLOOKUP(C1016,Main!$K$3:$L$21,2,FALSE))*PI()/180),IF(Checklist!$I$385=\"No\",TAN((LEFT(I1016, 5)+VLOOKUP(C1016,Main!$K$3:$L$21,2,FALSE))*PI()/180),\"NR\"))","v":"NR"},{"$f":"VLOOKUP(C1016,Main!$A$49:$I$67,Main!$B$47,FALSE)","v":"NR"},{"$f":"VLOOKUP(C1016,Main!$A$49:$I$67,Main!$C$47,FALSE)","v":"NR"},{"$f":"VLOOKUP(C1016,Main!$A$49:$I$67,Main!$E$47,FALSE)&\":\"&\" \"&VLOOKUP(C1016,Main!$A$49:$I$67,Main!$F$47,FALSE)","v":"Minimum COP @ 5°F:: 1.75"},{"$f":"VLOOKUP(C1016,Main!$A$49:$I$67,Main!$G$47,FALSE)","v":15},{"$f":"VLOOKUP(C1016,Main!$A$49:$I$67,Main!$H$47,FALSE)","v":3.1},{"$f":"VLOOKUP(C1016,Main!$A$49:$I$67,Main!$I$47,FALSE)","v":16.100000000000001},2990]
["WI","LONE ROCK FAA AP","5A",7138,1286,10.6,78.099999999999994,0.13250000000000001,"43.212N",-5.2,18.899999999999999,21.5,34.9,48.1,58.7,68.599999999999994,72.3,70.3,62,49.5,37.700000000000003,23.3,963,797,494,143,20,0,0,0,5,123,383,829,0,0,25,87,290,558,692,629,367,108,13,1,11.3,18.32,28.2,38.299999999999997,49.1,59.36,62.24,57.38,51.4,36.9,36.9,19.600000000000001,0.83706720977596738,0.13439669177374094,75,42,23,28,{"$f":"IF(OR(C1017=\"OA\",C1017=\"OB\",C1017=\"1B\",C1017=\"1A\",C1017=\"2A\",C1017=\"2B\",C1017=\"3A\",C1017=\"3B\",C1017=\"3C\"),TAN((LEFT(I1017, 5)+VLOOKUP(C1017,Main!$K$3:$L$21,2,FALSE))*PI()/180),IF(Checklist!$I$385=\"No\",TAN((LEFT(I1017, 5)+VLOOKUP(C1017,Main!$K$3:$L$21,2,FALSE))*PI()/180),\"NR\"))","v":"NR"},{"$f":"VLOOKUP(C1017,Main!$A$49:$I$67,Main!$B$47,FALSE)","v":"NR"},{"$f":"VLOOKUP(C1017,Main!$A$49:$I$67,Main!$C$47,FALSE)","v":"NR"},{"$f":"VLOOKUP(C1017,Main!$A$49:$I$67,Main!$E$47,FALSE)&\":\"&\" \"&VLOOKUP(C1017,Main!$A$49:$I$67,Main!$F$47,FALSE)","v":"Minimum COP @ 5°F:: 1.75"},{"$f":"VLOOKUP(C1017,Main!$A$49:$I$67,Main!$G$47,FALSE)","v":15},{"$f":"VLOOKUP(C1017,Main!$A$49:$I$67,Main!$H$47,FALSE)","v":3.1},{"$f":"VLOOKUP(C1017,Main!$A$49:$I$67,Main!$I$47,FALSE)","v":16.100000000000001},2770]
["WI","MADISON DANE CO REGIONAL ARPT [ISIS]","5A",7083,1426,0.6,80.8,0.13250000000000001,"43.141N",-1.2,19.8,23.8,34.700000000000003,46.9,58.1,68.099999999999994,71.8,69.900000000000006,61.7,49.9,37,24.9,935,734,496,164,20,0,0,0,7,112,400,780,0,0,21,72,271,544,675,617,358,110,11,1,8.4,11.84,26.6,33.26,50,55.94,65.48,61.88,52.2,25.5,25.5,14.9,0.8340248962655602,0.1421652866739572,74,42,23,28,{"$f":"IF(OR(C1018=\"OA\",C1018=\"OB\",C1018=\"1B\",C1018=\"1A\",C1018=\"2A\",C1018=\"2B\",C1018=\"3A\",C1018=\"3B\",C1018=\"3C\"),TAN((LEFT(I1018, 5)+VLOOKUP(C1018,Main!$K$3:$L$21,2,FALSE))*PI()/180),IF(Checklist!$I$385=\"No\",TAN((LEFT(I1018, 5)+VLOOKUP(C1018,Main!$K$3:$L$21,2,FALSE))*PI()/180),\"NR\"))","v":"NR"},{"$f":"VLOOKUP(C1018,Main!$A$49:$I$67,Main!$B$47,FALSE)","v":"NR"},{"$f":"VLOOKUP(C1018,Main!$A$49:$I$67,Main!$C$47,FALSE)","v":"NR"},{"$f":"VLOOKUP(C1018,Main!$A$49:$I$67,Main!$E$47,FALSE)&\":\"&\" \"&VLOOKUP(C1018,Main!$A$49:$I$67,Main!$F$47,FALSE)","v":"Minimum COP @ 5°F:: 1.75"},{"$f":"VLOOKUP(C1018,Main!$A$49:$I$67,Main!$G$47,FALSE)","v":15},{"$f":"VLOOKUP(C1018,Main!$A$49:$I$67,Main!$H$47,FALSE)","v":3.1},{"$f":"VLOOKUP(C1018,Main!$A$49:$I$67,Main!$I$47,FALSE)","v":16.100000000000001},2680]
["WI","MANITOWOC MUNI AWOS","6A",7573,1298,9.85,76.599999999999994,0.13250000000000001,"44.133N",0.5,20.2,22.7,31.9,42.8,53.2,63.3,68.599999999999994,67.400000000000006,60,48.7,37,25.3,923,764,565,238,46,0,0,0,6,120,395,765,0,0,4,22,144,401,577,539,305,80,4,1,10,18.68,21.9,37.04,43.7,53.96,59.36,60.26,51.4,34.700000000000003,34.700000000000003,18.7,0.83263598326359833,0.14574574574574573,75,44,24,29,{"$f":"IF(OR(C1019=\"OA\",C1019=\"OB\",C1019=\"1B\",C1019=\"1A\",C1019=\"2A\",C1019=\"2B\",C1019=\"3A\",C1019=\"3B\",C1019=\"3C\"),TAN((LEFT(I1019, 5)+VLOOKUP(C1019,Main!$K$3:$L$21,2,FALSE))*PI()/180),IF(Checklist!$I$385=\"No\",TAN((LEFT(I1019, 5)+VLOOKUP(C1019,Main!$K$3:$L$21,2,FALSE))*PI()/180),\"NR\"))","v":"NR"},{"$f":"VLOOKUP(C1019,Main!$A$49:$I$67,Main!$B$47,FALSE)","v":"NR"},{"$f":"VLOOKUP(C1019,Main!$A$49:$I$67,Main!$C$47,FALSE)","v":"NR"},{"$f":"VLOOKUP(C1019,Main!$A$49:$I$67,Main!$E$47,FALSE)&\":\"&\" \"&VLOOKUP(C1019,Main!$A$49:$I$67,Main!$F$47,FALSE)","v":"Minimum COP @ 5°F:: 1.75"},{"$f":"VLOOKUP(C1019,Main!$A$49:$I$67,Main!$G$47,FALSE)","v":15},{"$f":"VLOOKUP(C1019,Main!$A$49:$I$67,Main!$H$47,FALSE)","v":3.1},{"$f":"VLOOKUP(C1019,Main!$A$49:$I$67,Main!$I$47,FALSE)","v":16.100000000000001},2077]
["WI","MARSHFIELD MUNI","6A",8053,1320,-0.85,73.900000000000006,0.13250000000000001,"44.638N",-7.9,14.4,18.899999999999999,30.6,44.3,55.8,65.3,69.7,67.8,59.5,47.1,33.4,21.1,1104,870,614,218,33,1,0,0,13,168,504,896,0,0,12,45,214,460,612,552,298,79,5,0,17.100000000000001,17.78,25.5,34.880000000000003,40.1,55.58,59.36,58.82,54,26.8,26.8,10.6,0.85074626865671643,0.12961578178969482,78,45,25,30,{"$f":"IF(OR(C1020=\"OA\",C1020=\"OB\",C1020=\"1B\",C1020=\"1A\",C1020=\"2A\",C1020=\"2B\",C1020=\"3A\",C1020=\"3B\",C1020=\"3C\"),TAN((LEFT(I1020, 5)+VLOOKUP(C1020,Main!$K$3:$L$21,2,FALSE))*PI()/180),IF(Checklist!$I$385=\"No\",TAN((LEFT(I1020, 5)+VLOOKUP(C1020,Main!$K$3:$L$21,2,FALSE))*PI()/180),\"NR\"))","v":"NR"},{"$f":"VLOOKUP(C1020,Main!$A$49:$I$67,Main!$B$47,FALSE)","v":"NR"},{"$f":"VLOOKUP(C1020,Main!$A$49:$I$67,Main!$C$47,FALSE)","v":"NR"},{"$f":"VLOOKUP(C1020,Main!$A$49:$I$67,Main!$E$47,FALSE)&\":\"&\" \"&VLOOKUP(C1020,Main!$A$49:$I$67,Main!$F$47,FALSE)","v":"Minimum COP @ 5°F:: 1.75"},{"$f":"VLOOKUP(C1020,Main!$A$49:$I$67,Main!$G$47,FALSE)","v":15},{"$f":"VLOOKUP(C1020,Main!$A$49:$I$67,Main!$H$47,FALSE)","v":3.1},{"$f":"VLOOKUP(C1020,Main!$A$49:$I$67,Main!$I$47,FALSE)","v":16.100000000000001},2277]
["WI","MILWAUKEE MITCHELL INTL AP","5A",6676,1384,11.2,78.400000000000006,0.13250000000000001,"42.955N",3.6,23.4,26.6,35.700000000000003,45.8,56.2,66.8,72.2,71.400000000000006,63.7,52.2,39.6,28.3,826,654,463,185,32,0,0,0,2,73,330,674,0,0,19,59,225,505,689,662,413,140,17,1,13.3,13.82,27.5,33.08,46.4,53.96,59.9,61.7,55,27.9,27.9,17.100000000000001,0.820627802690583,0.15276145710928316,72,41,22,27,{"$f":"IF(OR(C1021=\"OA\",C1021=\"OB\",C1021=\"1B\",C1021=\"1A\",C1021=\"2A\",C1021=\"2B\",C1021=\"3A\",C1021=\"3B\",C1021=\"3C\"),TAN((LEFT(I1021, 5)+VLOOKUP(C1021,Main!$K$3:$L$21,2,FALSE))*PI()/180),IF(Checklist!$I$385=\"No\",TAN((LEFT(I1021, 5)+VLOOKUP(C1021,Main!$K$3:$L$21,2,FALSE))*PI()/180),\"NR\"))","v":"NR"},{"$f":"VLOOKUP(C1021,Main!$A$49:$I$67,Main!$B$47,FALSE)","v":"NR"},{"$f":"VLOOKUP(C1021,Main!$A$49:$I$67,Main!$C$47,FALSE)","v":"NR"},{"$f":"VLOOKUP(C1021,Main!$A$49:$I$67,Main!$E$47,FALSE)&\":\"&\" \"&VLOOKUP(C1021,Main!$A$49:$I$67,Main!$F$47,FALSE)","v":"Minimum COP @ 5°F:: 1.75"},{"$f":"VLOOKUP(C1021,Main!$A$49:$I$67,Main!$G$47,FALSE)","v":15},{"$f":"VLOOKUP(C1021,Main!$A$49:$I$67,Main!$H$47,FALSE)","v":3.1},{"$f":"VLOOKUP(C1021,Main!$A$49:$I$67,Main!$I$47,FALSE)","v":16.100000000000001},2730]
["WI","MINOCQUA/WOODRUFF","6A",8677,1292,2.85,78.3,0.13250000000000001,"45.928N",-8.1999999999999993,14.7,16.7,27.7,41.1,53.4,62.7,66.900000000000006,65.099999999999994,57.3,45,32.700000000000003,19.100000000000001,1093,933,701,300,62,2,0,1,27,217,523,957,0,0,9,32,166,384,524,468,247,62,4,0,6.4,12.38,19.399999999999999,32.54,35.799999999999997,51.8,55.76,56.12,49.1,27.1,27.1,5.5,0.84990619136960599,0.1291054834361921,79,47,26,31,{"$f":"IF(OR(C1022=\"OA\",C1022=\"OB\",C1022=\"1B\",C1022=\"1A\",C1022=\"2A\",C1022=\"2B\",C1022=\"3A\",C1022=\"3B\",C1022=\"3C\"),TAN((LEFT(I1022, 5)+VLOOKUP(C1022,Main!$K$3:$L$21,2,FALSE))*PI()/180),IF(Checklist!$I$385=\"No\",TAN((LEFT(I1022, 5)+VLOOKUP(C1022,Main!$K$3:$L$21,2,FALSE))*PI()/180),\"NR\"))","v":"NR"},{"$f":"VLOOKUP(C1022,Main!$A$49:$I$67,Main!$B$47,FALSE)","v":"NR"},{"$f":"VLOOKUP(C1022,Main!$A$49:$I$67,Main!$C$47,FALSE)","v":"NR"},{"$f":"VLOOKUP(C1022,Main!$A$49:$I$67,Main!$E$47,FALSE)&\":\"&\" \"&VLOOKUP(C1022,Main!$A$49:$I$67,Main!$F$47,FALSE)","v":"Minimum COP @ 5°F:: 1.75"},{"$f":"VLOOKUP(C1022,Main!$A$49:$I$67,Main!$G$47,FALSE)","v":15},{"$f":"VLOOKUP(C1022,Main!$A$49:$I$67,Main!$H$47,FALSE)","v":3.1},{"$f":"VLOOKUP(C1022,Main!$A$49:$I$67,Main!$I$47,FALSE)","v":16.100000000000001},1896]
["WI","MOSINEE/CENTRAL WI","6A",8303,1341,0.75,72.5,0.13250000000000001,"44.783N",-7.3,14.8,20.6,29.2,42.7,53.5,63.8,68.400000000000006,66.5,59.1,46.4,32,20.6,1092,822,653,257,51,2,0,0,19,176,542,911,0,0,7,38,161,416,571,510,291,64,2,0,3,16.88,19.899999999999999,29.84,40.299999999999997,55.04,57.74,58.46,48.2,24.1,24.1,3.9,0.84962406015037595,0.13064857686371631,78,46,26,31,{"$f":"IF(OR(C1023=\"OA\",C1023=\"OB\",C1023=\"1B\",C1023=\"1A\",C1023=\"2A\",C1023=\"2B\",C1023=\"3A\",C1023=\"3B\",C1023=\"3C\"),TAN((LEFT(I1023, 5)+VLOOKUP(C1023,Main!$K$3:$L$21,2,FALSE))*PI()/180),IF(Checklist!$I$385=\"No\",TAN((LEFT(I1023, 5)+VLOOKUP(C1023,Main!$K$3:$L$21,2,FALSE))*PI()/180),\"NR\"))","v":"NR"},{"$f":"VLOOKUP(C1023,Main!$A$49:$I$67,Main!$B$47,FALSE)","v":"NR"},{"$f":"VLOOKUP(C1023,Main!$A$49:$I$67,Main!$C$47,FALSE)","v":"NR"},{"$f":"VLOOKUP(C1023,Main!$A$49:$I$67,Main!$E$47,FALSE)&\":\"&\" \"&VLOOKUP(C1023,Main!$A$49:$I$67,Main!$F$47,FALSE)","v":"Minimum COP @ 5°F:: 1.75"},{"$f":"VLOOKUP(C1023,Main!$A$49:$I$67,Main!$G$47,FALSE)","v":15},{"$f":"VLOOKUP(C1023,Main!$A$49:$I$67,Main!$H$47,FALSE)","v":3.1},{"$f":"VLOOKUP(C1023,Main!$A$49:$I$67,Main!$I$47,FALSE)","v":16.100000000000001},2060]
["WI","PHILLIPS/PRICE CO.","6A",8731,1344,4.8499999999999996,73.2,0.13250000000000001,"45.709N",-12.5,12.6,16.5,28,41.4,53.9,63.5,67.5,65.900000000000006,57.5,45.4,31.3,18.600000000000001,1158,938,691,290,55,3,0,0,27,204,563,974,0,0,10,32,177,408,543,493,252,61,3,0,8.4,3.74,17.8,35.6,37,51.26,58.46,58.46,53.8,28.4,28.4,17.399999999999999,0.85559566787003605,0.12220916568742654,80,47,27,32,{"$f":"IF(OR(C1024=\"OA\",C1024=\"OB\",C1024=\"1B\",C1024=\"1A\",C1024=\"2A\",C1024=\"2B\",C1024=\"3A\",C1024=\"3B\",C1024=\"3C\"),TAN((LEFT(I1024, 5)+VLOOKUP(C1024,Main!$K$3:$L$21,2,FALSE))*PI()/180),IF(Checklist!$I$385=\"No\",TAN((LEFT(I1024, 5)+VLOOKUP(C1024,Main!$K$3:$L$21,2,FALSE))*PI()/180),\"NR\"))","v":"NR"},{"$f":"VLOOKUP(C1024,Main!$A$49:$I$67,Main!$B$47,FALSE)","v":"NR"},{"$f":"VLOOKUP(C1024,Main!$A$49:$I$67,Main!$C$47,FALSE)","v":"NR"},{"$f":"VLOOKUP(C1024,Main!$A$49:$I$67,Main!$E$47,FALSE)&\":\"&\" \"&VLOOKUP(C1024,Main!$A$49:$I$67,Main!$F$47,FALSE)","v":"Minimum COP @ 5°F:: 1.75"},{"$f":"VLOOKUP(C1024,Main!$A$49:$I$67,Main!$G$47,FALSE)","v":15},{"$f":"VLOOKUP(C1024,Main!$A$49:$I$67,Main!$H$47,FALSE)","v":3.1},{"$f":"VLOOKUP(C1024,Main!$A$49:$I$67,Main!$I$47,FALSE)","v":16.100000000000001},1979]
["WI","RHINELANDER ONEIDA","6A",8801,1223,4.8,78.599999999999994,0.13250000000000001,"45.631N",-9.3000000000000007,13.5,16.899999999999999,27.7,41.4,53.5,62.4,67.2,64.8,56.8,44.4,32,18.100000000000001,1133,928,702,293,66,5,0,0,31,227,544,987,0,0,11,35,174,376,533,460,236,52,3,0,10.199999999999999,2.48,21.7,34.340000000000003,42.6,57.56,59,57.2,49.8,27.3,27.3,2.7,0.85321100917431192,{"$f":"IF(ISBLANK($J1025),\"-\",IF((14.7-(0.742*10))/(0.74*(68-$J1025))<0,0.5,MIN((14.7-(0.742*10))/(0.74*(68-$J1025)),0.5)))","v":0.12726827733296037},80,48,27,32,{"$f":"IF(OR(C1025=\"OA\",C1025=\"OB\",C1025=\"1B\",C1025=\"1A\",C1025=\"2A\",C1025=\"2B\",C1025=\"3A\",C1025=\"3B\",C1025=\"3C\"),TAN((LEFT(I1025, 5)+VLOOKUP(C1025,Main!$K$3:$L$21,2,FALSE))*PI()/180),IF(Checklist!$I$385=\"No\",TAN((LEFT(I1025, 5)+VLOOKUP(C1025,Main!$K$3:$L$21,2,FALSE))*PI()/180),\"NR\"))","v":"NR"},{"$f":"VLOOKUP(C1025,Main!$A$49:$I$67,Main!$B$47,FALSE)","v":"NR"},{"$f":"VLOOKUP(C1025,Main!$A$49:$I$67,Main!$C$47,FALSE)","v":"NR"},{"$f":"VLOOKUP(C1025,Main!$A$49:$I$67,Main!$E$47,FALSE)&\":\"&\" \"&VLOOKUP(C1025,Main!$A$49:$I$67,Main!$F$47,FALSE)","v":"Minimum COP @ 5°F:: 1.75"},{"$f":"VLOOKUP(C1025,Main!$A$49:$I$67,Main!$G$47,FALSE)","v":15},{"$f":"VLOOKUP(C1025,Main!$A$49:$I$67,Main!$H$47,FALSE)","v":3.1},{"$f":"VLOOKUP(C1025,Main!$A$49:$I$67,Main!$I$47,FALSE)","v":16.100000000000001},1880]
["WI","RICE LAKE MUNICIPAL","5A",8186,1312,2.4,76.8,0.13250000000000001,"45.419N",-9.1,14.4,17.8,30.1,44.6,55.2,64.8,69.8,67,59.2,46.6,33.799999999999997,19.5,1105,900,629,211,41,1,0,0,16,175,491,945,0,0,11,49,202,443,614,528,292,70,6,0,8.1,6.26,21.2,37.04,37.799999999999997,57.56,63.32,62.78,54.9,21,21,8.4,{"$f":"IF(MIN(K1026:V1026)>60,\"NR\",IF((60-MIN(K1026:V1026))/(68-MIN(K1026:V1026))<0.5,\"NR\",MAX(0.6,(60-MIN(K1026:V1026))/(68-MIN(K1026:V1026)))))","v":0.85074626865671643},0.12759841553615872,78,46,25,30,{"$f":"IF(OR(C1026=\"OA\",C1026=\"OB\",C1026=\"1B\",C1026=\"1A\",C1026=\"2A\",C1026=\"2B\",C1026=\"3A\",C1026=\"3B\",C1026=\"3C\"),TAN((LEFT(I1026, 5)+VLOOKUP(C1026,Main!$K$3:$L$21,2,FALSE))*PI()/180),IF(Checklist!$I$385=\"No\",TAN((LEFT(I1026, 5)+VLOOKUP(C1026,Main!$K$3:$L$21,2,FALSE))*PI()/180),\"NR\"))","v":"NR"},{"$f":"VLOOKUP(C1026,Main!$A$49:$I$67,Main!$B$47,FALSE)","v":"NR"},{"$f":"VLOOKUP(C1026,Main!$A$49:$I$67,Main!$C$47,FALSE)","v":"NR"},{"$f":"VLOOKUP(C1026,Main!$A$49:$I$67,Main!$E$47,FALSE)&\":\"&\" \"&VLOOKUP(C1026,Main!$A$49:$I$67,Main!$F$47,FALSE)","v":"Minimum COP @ 5°F:: 1.75"},{"$f":"VLOOKUP(C1026,Main!$A$49:$I$67,Main!$G$47,FALSE)","v":15},{"$f":"VLOOKUP(C1026,Main!$A$49:$I$67,Main!$H$47,FALSE)","v":3.1},{"$f":"VLOOKUP(C1026,Main!$A$49:$I$67,Main!$I$47,FALSE)","v":16.100000000000001},2215]
["WI","STURGEON BAY","6A",7725,1294,16.600000000000001,74.8,0.13250000000000001,"44.850N",-0.1,19.2,21.4,30.2,41.9,53.2,63.4,68.5,67.400000000000006,60.1,48.9,36.6,25.6,956,800,618,263,49,1,0,0,7,118,407,758,0,0,3,21,149,403,573,539,308,85,5,0,12.7,17.420000000000002,20.3,31.46,37,52.88,54.5,59,53.6,28.9,28.9,20.8,0.83606557377049184,0.14446164225899907,75,44,25,30,{"$f":"IF(OR(C1027=\"OA\",C1027=\"OB\",C1027=\"1B\",C1027=\"1A\",C1027=\"2A\",C1027=\"2B\",C1027=\"3A\",C1027=\"3B\",C1027=\"3C\"),TAN((LEFT(I1027, 5)+VLOOKUP(C1027,Main!$K$3:$L$21,2,FALSE))*PI()/180),IF(Checklist!$I$385=\"No\",TAN((LEFT(I1027, 5)+VLOOKUP(C1027,Main!$K$3:$L$21,2,FALSE))*PI()/180),\"NR\"))","v":"NR"},{"$f":"VLOOKUP(C1027,Main!$A$49:$I$67,Main!$B$47,FALSE)","v":"NR"},{"$f":"VLOOKUP(C1027,Main!$A$49:$I$67,Main!$C$47,FALSE)","v":"NR"},{"$f":"VLOOKUP(C1027,Main!$A$49:$I$67,Main!$E$47,FALSE)&\":\"&\" \"&VLOOKUP(C1027,Main!$A$49:$I$67,Main!$F$47,FALSE)","v":"Minimum COP @ 5°F:: 1.75"},{"$f":"VLOOKUP(C1027,Main!$A$49:$I$67,Main!$G$47,FALSE)","v":15},{"$f":"VLOOKUP(C1027,Main!$A$49:$I$67,Main!$H$47,FALSE)","v":3.1},{"$f":"VLOOKUP(C1027,Main!$A$49:$I$67,Main!$I$47,FALSE)","v":16.100000000000001},2086]
["WI","WATERTOWN","5A",7043,1335,20.3,76.8,0.13250000000000001,"43.167N",-0.4,20.2,23.8,34.5,46.9,57.8,67.7,71.8,70,62.2,50.4,37.5,25,923,733,505,164,19,0,0,0,6,109,389,777,0,0,24,71,260,531,675,620,371,122,13,1,18.7,15.98,22.1,41,48.2,60.08,65.66,63.32,59.2,34,34,27.5,0.83263598326359833,0.14382803856488063,74,42,23,28,{"$f":"IF(OR(C1028=\"OA\",C1028=\"OB\",C1028=\"1B\",C1028=\"1A\",C1028=\"2A\",C1028=\"2B\",C1028=\"3A\",C1028=\"3B\",C1028=\"3C\"),TAN((LEFT(I1028, 5)+VLOOKUP(C1028,Main!$K$3:$L$21,2,FALSE))*PI()/180),IF(Checklist!$I$385=\"No\",TAN((LEFT(I1028, 5)+VLOOKUP(C1028,Main!$K$3:$L$21,2,FALSE))*PI()/180),\"NR\"))","v":"NR"},{"$f":"VLOOKUP(C1028,Main!$A$49:$I$67,Main!$B$47,FALSE)","v":"NR"},{"$f":"VLOOKUP(C1028,Main!$A$49:$I$67,Main!$C$47,FALSE)","v":"NR"},{"$f":"VLOOKUP(C1028,Main!$A$49:$I$67,Main!$E$47,FALSE)&\":\"&\" \"&VLOOKUP(C1028,Main!$A$49:$I$67,Main!$F$47,FALSE)","v":"Minimum COP @ 5°F:: 1.75"},{"$f":"VLOOKUP(C1028,Main!$A$49:$I$67,Main!$G$47,FALSE)","v":15},{"$f":"VLOOKUP(C1028,Main!$A$49:$I$67,Main!$H$47,FALSE)","v":3.1},{"$f":"VLOOKUP(C1028,Main!$A$49:$I$67,Main!$I$47,FALSE)","v":16.100000000000001},2688]
["WI","WAUSAU MUNICIPAL ARPT","6A",8025,1292,13.1,79.5,0.13250000000000001,"44.929N",-7.1,15.5,19.600000000000001,30.5,44.1,56.1,65.7,69.7,68,59.3,47,33.299999999999997,20.8,1070,852,614,228,35,1,0,0,15,164,505,905,0,0,11,50,224,473,609,557,294,72,4,0,9.6999999999999993,5.9,11.8,35.42,36.299999999999997,57.74,57.02,61.34,52,26.4,26.4,17.399999999999999,0.84761904761904761,0.13099650915895922,77,45,25,30,{"$f":"IF(OR(C1029=\"OA\",C1029=\"OB\",C1029=\"1B\",C1029=\"1A\",C1029=\"2A\",C1029=\"2B\",C1029=\"3A\",C1029=\"3B\",C1029=\"3C\"),TAN((LEFT(I1029, 5)+VLOOKUP(C1029,Main!$K$3:$L$21,2,FALSE))*PI()/180),IF(Checklist!$I$385=\"No\",TAN((LEFT(I1029, 5)+VLOOKUP(C1029,Main!$K$3:$L$21,2,FALSE))*PI()/180),\"NR\"))","v":"NR"},{"$f":"VLOOKUP(C1029,Main!$A$49:$I$67,Main!$B$47,FALSE)","v":"NR"},{"$f":"VLOOKUP(C1029,Main!$A$49:$I$67,Main!$C$47,FALSE)","v":"NR"},{"$f":"VLOOKUP(C1029,Main!$A$49:$I$67,Main!$E$47,FALSE)&\":\"&\" \"&VLOOKUP(C1029,Main!$A$49:$I$67,Main!$F$47,FALSE)","v":"Minimum COP @ 5°F:: 1.75"},{"$f":"VLOOKUP(C1029,Main!$A$49:$I$67,Main!$G$47,FALSE)","v":15},{"$f":"VLOOKUP(C1029,Main!$A$49:$I$67,Main!$H$47,FALSE)","v":3.1},{"$f":"VLOOKUP(C1029,Main!$A$49:$I$67,Main!$I$47,FALSE)","v":16.100000000000001},2294]
["WI","WITTMAN RGNL","6A",7343,1329,3.55,76.099999999999994,0.13250000000000001,"43.984N",-1.6,18.7,22.2,32.700000000000003,45.8,56.7,66.8,71.5,69.400000000000006,61.6,49.4,36.799999999999997,24.1,970,779,553,180,28,0,0,0,5,119,404,803,0,0,17,55,235,506,666,601,353,102,9,1,10.4,8.7799999999999994,30.7,37.4,41.4,55.76,58.46,61.52,53.1,31.6,31.6,6.6,0.83772819472616633,0.14134824479652064,{"$f":"ROUNDDOWN((33.97238548+(2.143484655*3.14219615)+(0.00253108806*D1030)+(-0.2767683543*J1030)+(66.9384076*H1030)+((3.14219615-3.14219615)^2*-1.607593659)+((J1030-12.48681818)*(H1030-0.2016890909)*-1.8168457)+8.4234),0)","v":75},{"$f":"ROUNDDOWN((2.975122788+(0.003896731237*D1030)+(59.88697433*H1030)+((D1030-5520.854545)*(H1030-0.2016890909)*0.01119327314)+5.3792),0)","v":43},24,{"$f":"ROUNDDOWN(BK1030+5.9089,0)","v":29},{"$f":"IF(OR(C1030=\"OA\",C1030=\"OB\",C1030=\"1B\",C1030=\"1A\",C1030=\"2A\",C1030=\"2B\",C1030=\"3A\",C1030=\"3B\",C1030=\"3C\"),TAN((LEFT(I1030, 5)+VLOOKUP(C1030,Main!$K$3:$L$21,2,FALSE))*PI()/180),IF(Checklist!$I$385=\"No\",TAN((LEFT(I1030, 5)+VLOOKUP(C1030,Main!$K$3:$L$21,2,FALSE))*PI()/180),\"NR\"))","v":"NR"},{"$f":"VLOOKUP(C1030,Main!$A$49:$I$67,Main!$B$47,FALSE)","v":"NR"},{"$f":"VLOOKUP(C1030,Main!$A$49:$I$67,Main!$C$47,FALSE)","v":"NR"},{"$f":"VLOOKUP(C1030,Main!$A$49:$I$67,Main!$E$47,FALSE)&\":\"&\" \"&VLOOKUP(C1030,Main!$A$49:$I$67,Main!$F$47,FALSE)","v":"Minimum COP @ 5°F:: 1.75"},{"$f":"VLOOKUP(C1030,Main!$A$49:$I$67,Main!$G$47,FALSE)","v":15},{"$f":"VLOOKUP(C1030,Main!$A$49:$I$67,Main!$H$47,FALSE)","v":3.1},{"$f":"VLOOKUP(C1030,Main!$A$49:$I$67,Main!$I$47,FALSE)","v":16.100000000000001},2545]
["WV","BECKLEY RALEIGH CO MEM AP","4A",5197,1353,19.899999999999999,71.8,9.3799999999999994E-2,"37.784N",12,32.299999999999997,34.799999999999997,42.2,53,60.3,67.599999999999994,70.7,69.8,63.5,53.5,43.6,35.4,561,435,294,82,12,0,0,0,3,64,242,465,12,9,53,173,333,528,642,613,408,172,50,13,27.5,26.6,33.1,41.18,47.8,59.9,64.22,62.96,55.6,32.200000000000003,32.200000000000003,17.600000000000001,0.77591036414565828,0.17567567567567566,65,34,17,22,{"$f":"IF(OR(C1031=\"OA\",C1031=\"OB\",C1031=\"1B\",C1031=\"1A\",C1031=\"2A\",C1031=\"2B\",C1031=\"3A\",C1031=\"3B\",C1031=\"3C\"),TAN((LEFT(I1031, 5)+VLOOKUP(C1031,Main!$K$3:$L$21,2,FALSE))*PI()/180),IF(Checklist!$I$385=\"No\",TAN((LEFT(I1031, 5)+VLOOKUP(C1031,Main!$K$3:$L$21,2,FALSE))*PI()/180),\"NR\"))","v":"NR"},{"$f":"VLOOKUP(C1031,Main!$A$49:$I$67,Main!$B$47,FALSE)","v":0.5},{"$f":"VLOOKUP(C1031,Main!$A$49:$I$67,Main!$C$47,FALSE)","v":0.25},{"$f":"VLOOKUP(C1031,Main!$A$49:$I$67,Main!$E$47,FALSE)&\":\"&\" \"&VLOOKUP(C1031,Main!$A$49:$I$67,Main!$F$47,FALSE)","v":"Minimum HSPF:: 9.6"},{"$f":"VLOOKUP(C1031,Main!$A$49:$I$67,Main!$G$47,FALSE)","v":18},{"$f":"VLOOKUP(C1031,Main!$A$49:$I$67,Main!$H$47,FALSE)","v":3.1},{"$f":"VLOOKUP(C1031,Main!$A$49:$I$67,Main!$I$47,FALSE)","v":16.100000000000001},3006]
["WV","BLUEFIELD/MERCER CO [NREL]","4A",4716,1384,19.850000000000001,72.099999999999994,9.3799999999999994E-2,"37.296N",13.9,34.4,36.4,44.4,55.3,62.3,69.3,72.3,71.5,65.400000000000006,55.3,45.7,37,498,392,249,67,9,0,0,0,3,52,200,423,15,12,75,225,390,579,692,667,466,217,70,20,19.399999999999999,27.86,31.1,34.700000000000003,47.7,59.9,63.14,62.78,52.5,30.7,30.7,28.2,0.76190476190476186,0.18184543138332415,63,33,16,21,{"$f":"IF(OR(C1032=\"OA\",C1032=\"OB\",C1032=\"1B\",C1032=\"1A\",C1032=\"2A\",C1032=\"2B\",C1032=\"3A\",C1032=\"3B\",C1032=\"3C\"),TAN((LEFT(I1032, 5)+VLOOKUP(C1032,Main!$K$3:$L$21,2,FALSE))*PI()/180),IF(Checklist!$I$385=\"No\",TAN((LEFT(I1032, 5)+VLOOKUP(C1032,Main!$K$3:$L$21,2,FALSE))*PI()/180),\"NR\"))","v":"NR"},{"$f":"VLOOKUP(C1032,Main!$A$49:$I$67,Main!$B$47,FALSE)","v":0.5},{"$f":"VLOOKUP(C1032,Main!$A$49:$I$67,Main!$C$47,FALSE)","v":0.25},{"$f":"VLOOKUP(C1032,Main!$A$49:$I$67,Main!$E$47,FALSE)&\":\"&\" \"&VLOOKUP(C1032,Main!$A$49:$I$67,Main!$F$47,FALSE)","v":"Minimum HSPF:: 9.6"},{"$f":"VLOOKUP(C1032,Main!$A$49:$I$67,Main!$G$47,FALSE)","v":18},{"$f":"VLOOKUP(C1032,Main!$A$49:$I$67,Main!$H$47,FALSE)","v":3.1},{"$f":"VLOOKUP(C1032,Main!$A$49:$I$67,Main!$I$47,FALSE)","v":16.100000000000001},3428]
["WV","CHARLESTON YEAGER ARPT","4A",4402,1473,12.3,79.2,9.3799999999999994E-2,"38.379N",15.8,35.200000000000003,38,45.9,56.8,64,71.900000000000006,75.099999999999994,74.099999999999994,67.3,56.4,46.4,38.299999999999997,479,353,213,41,3,0,0,0,0,33,179,383,21,18,85,246,438,657,779,748,520,231,72,21,19,25.16,32.4,39.020000000000003,51.8,62.24,68.180000000000007,65.48,58.3,36.5,36.5,25.9,0.75609756097560976,0.18846432639536087,62,32,{"$f":"ROUNDDOWN(-18.64576148+(5.900367721*3.14219615)+(0.002662134083*D1033)+(38.92365332*H1033)+((BT1033-3890.577273)*(G1033-78.59)*0.00005765875867)+((D1033-5520.854545)*(H1033-0.2016890909)*0.006047043516),0)","v":15},20,{"$f":"IF(OR(C1033=\"OA\",C1033=\"OB\",C1033=\"1B\",C1033=\"1A\",C1033=\"2A\",C1033=\"2B\",C1033=\"3A\",C1033=\"3B\",C1033=\"3C\"),TAN((LEFT(I1033, 5)+VLOOKUP(C1033,Main!$K$3:$L$21,2,FALSE))*PI()/180),IF(Checklist!$I$385=\"No\",TAN((LEFT(I1033, 5)+VLOOKUP(C1033,Main!$K$3:$L$21,2,FALSE))*PI()/180),\"NR\"))","v":"NR"},{"$f":"VLOOKUP(C1033,Main!$A$49:$I$67,Main!$B$47,FALSE)","v":0.5},{"$f":"VLOOKUP(C1033,Main!$A$49:$I$67,Main!$C$47,FALSE)","v":0.25},{"$f":"VLOOKUP(C1033,Main!$A$49:$I$67,Main!$E$47,FALSE)&\":\"&\" \"&VLOOKUP(C1033,Main!$A$49:$I$67,Main!$F$47,FALSE)","v":"Minimum HSPF:: 9.6"},{"$f":"VLOOKUP(C1033,Main!$A$49:$I$67,Main!$G$47,FALSE)","v":18},{"$f":"VLOOKUP(C1033,Main!$A$49:$I$67,Main!$H$47,FALSE)","v":3.1},{"$f":"VLOOKUP(C1033,Main!$A$49:$I$67,Main!$I$47,FALSE)","v":16.100000000000001},3836]
["WV","ELKINS ELKINS-RANDOLPH CO ARP","5A",5712,1355,6.85,71.2,9.3799999999999994E-2,"38.885N",8.1999999999999993,30.3,32.4,40.1,50.6,58.7,66.599999999999994,70.2,69.400000000000006,62.5,51.4,41.4,33.700000000000003,620,498,339,104,16,0,0,0,3,83,286,515,9,4,33,121,287,498,625,600,380,126,28,9,16.3,24.44,30.9,36.14,47.5,58.28,62.6,61.7,54.3,34.299999999999997,34.299999999999997,24.4,0.7877984084880636,0.1645123384253819,66,35,19,24,{"$f":"IF(OR(C1034=\"OA\",C1034=\"OB\",C1034=\"1B\",C1034=\"1A\",C1034=\"2A\",C1034=\"2B\",C1034=\"3A\",C1034=\"3B\",C1034=\"3C\"),TAN((LEFT(I1034, 5)+VLOOKUP(C1034,Main!$K$3:$L$21,2,FALSE))*PI()/180),IF(Checklist!$I$385=\"No\",TAN((LEFT(I1034, 5)+VLOOKUP(C1034,Main!$K$3:$L$21,2,FALSE))*PI()/180),\"NR\"))","v":"NR"},{"$f":"VLOOKUP(C1034,Main!$A$49:$I$67,Main!$B$47,FALSE)","v":"NR"},{"$f":"VLOOKUP(C1034,Main!$A$49:$I$67,Main!$C$47,FALSE)","v":"NR"},{"$f":"VLOOKUP(C1034,Main!$A$49:$I$67,Main!$E$47,FALSE)&\":\"&\" \"&VLOOKUP(C1034,Main!$A$49:$I$67,Main!$F$47,FALSE)","v":"Minimum COP @ 5°F:: 1.75"},{"$f":"VLOOKUP(C1034,Main!$A$49:$I$67,Main!$G$47,FALSE)","v":15},{"$f":"VLOOKUP(C1034,Main!$A$49:$I$67,Main!$H$47,FALSE)","v":3.1},{"$f":"VLOOKUP(C1034,Main!$A$49:$I$67,Main!$I$47,FALSE)","v":16.100000000000001},2720]
["WV","HARRISON MARION RGN","4A",5001,1339,24,76.599999999999994,9.3799999999999994E-2,"39.296N",12.4,31.7,33.799999999999997,42.9,54.8,62.3,69.900000000000006,72.900000000000006,72.099999999999994,65.5,54.3,44.8,36.200000000000003,584,461,274,54,6,0,0,0,1,52,207,445,16,7,54,199,386,598,710,686,465,186,50,16,25.9,26.06,32.4,43.52,49.3,57.92,64.58,63.5,56.5,30.2,30.2,22.3,0.77961432506887063,0.17693952945751507,64,34,17,22,{"$f":"IF(OR(C1035=\"OA\",C1035=\"OB\",C1035=\"1B\",C1035=\"1A\",C1035=\"2A\",C1035=\"2B\",C1035=\"3A\",C1035=\"3B\",C1035=\"3C\"),TAN((LEFT(I1035, 5)+VLOOKUP(C1035,Main!$K$3:$L$21,2,FALSE))*PI()/180),IF(Checklist!$I$385=\"No\",TAN((LEFT(I1035, 5)+VLOOKUP(C1035,Main!$K$3:$L$21,2,FALSE))*PI()/180),\"NR\"))","v":"NR"},{"$f":"VLOOKUP(C1035,Main!$A$49:$I$67,Main!$B$47,FALSE)","v":0.5},{"$f":"VLOOKUP(C1035,Main!$A$49:$I$67,Main!$C$47,FALSE)","v":0.25},{"$f":"VLOOKUP(C1035,Main!$A$49:$I$67,Main!$E$47,FALSE)&\":\"&\" \"&VLOOKUP(C1035,Main!$A$49:$I$67,Main!$F$47,FALSE)","v":"Minimum HSPF:: 9.6"},{"$f":"VLOOKUP(C1035,Main!$A$49:$I$67,Main!$G$47,FALSE)","v":18},{"$f":"VLOOKUP(C1035,Main!$A$49:$I$67,Main!$H$47,FALSE)","v":3.1},{"$f":"VLOOKUP(C1035,Main!$A$49:$I$67,Main!$I$47,FALSE)","v":16.100000000000001},3373]
["WV","HUNTINGTON TRI-STATE ARPT","4A",4398,1446,23.65,79.3,9.3799999999999994E-2,"38.365N",15.8,34.799999999999997,37.9,46.1,57,64.400000000000006,72.400000000000006,75.7,74.599999999999994,67.7,56.6,46.5,38.1,492,356,210,39,3,0,0,0,0,32,179,389,20,18,90,247,450,672,797,764,530,237,73,20,24.1,23.54,33.6,38.840000000000003,55,61.7,66.56,65.66,58.8,32.9,32.9,26.1,0.75903614457831325,0.18846432639536087,62,32,15,20,{"$f":"IF(OR(C1036=\"OA\",C1036=\"OB\",C1036=\"1B\",C1036=\"1A\",C1036=\"2A\",C1036=\"2B\",C1036=\"3A\",C1036=\"3B\",C1036=\"3C\"),TAN((LEFT(I1036, 5)+VLOOKUP(C1036,Main!$K$3:$L$21,2,FALSE))*PI()/180),IF(Checklist!$I$385=\"No\",TAN((LEFT(I1036, 5)+VLOOKUP(C1036,Main!$K$3:$L$21,2,FALSE))*PI()/180),\"NR\"))","v":"NR"},{"$f":"VLOOKUP(C1036,Main!$A$49:$I$67,Main!$B$47,FALSE)","v":0.5},{"$f":"VLOOKUP(C1036,Main!$A$49:$I$67,Main!$C$47,FALSE)","v":0.25},{"$f":"VLOOKUP(C1036,Main!$A$49:$I$67,Main!$E$47,FALSE)&\":\"&\" \"&VLOOKUP(C1036,Main!$A$49:$I$67,Main!$F$47,FALSE)","v":"Minimum HSPF:: 9.6"},{"$f":"VLOOKUP(C1036,Main!$A$49:$I$67,Main!$G$47,FALSE)","v":18},{"$f":"VLOOKUP(C1036,Main!$A$49:$I$67,Main!$H$47,FALSE)","v":3.1},{"$f":"VLOOKUP(C1036,Main!$A$49:$I$67,Main!$I$47,FALSE)","v":16.100000000000001},3918]
["WV","LEWISBURG/GREENBRIE","5A",5624,1294,14.15,72.5,9.3799999999999994E-2,"37.867N",11.8,30.2,32.200000000000003,41,51.8,59,66.5,69.599999999999994,69.400000000000006,62.7,51.9,42.4,33.299999999999997,617,500,315,87,17,0,0,0,4,81,256,522,5,2,35,143,294,495,609,601,386,139,27,5,28.4,23,31.6,37.76,43,58.46,63.14,60.98,52.9,27.7,27.7,28.6,0.78835978835978848,0.17505049533519282,66,35,18,23,{"$f":"IF(OR(C1037=\"OA\",C1037=\"OB\",C1037=\"1B\",C1037=\"1A\",C1037=\"2A\",C1037=\"2B\",C1037=\"3A\",C1037=\"3B\",C1037=\"3C\"),TAN((LEFT(I1037, 5)+VLOOKUP(C1037,Main!$K$3:$L$21,2,FALSE))*PI()/180),IF(Checklist!$I$385=\"No\",TAN((LEFT(I1037, 5)+VLOOKUP(C1037,Main!$K$3:$L$21,2,FALSE))*PI()/180),\"NR\"))","v":"NR"},{"$f":"VLOOKUP(C1037,Main!$A$49:$I$67,Main!$B$47,FALSE)","v":"NR"},{"$f":"VLOOKUP(C1037,Main!$A$49:$I$67,Main!$C$47,FALSE)","v":"NR"},{"$f":"VLOOKUP(C1037,Main!$A$49:$I$67,Main!$E$47,FALSE)&\":\"&\" \"&VLOOKUP(C1037,Main!$A$49:$I$67,Main!$F$47,FALSE)","v":"Minimum COP @ 5°F:: 1.75"},{"$f":"VLOOKUP(C1037,Main!$A$49:$I$67,Main!$G$47,FALSE)","v":15},{"$f":"VLOOKUP(C1037,Main!$A$49:$I$67,Main!$H$47,FALSE)","v":3.1},{"$f":"VLOOKUP(C1037,Main!$A$49:$I$67,Main!$I$47,FALSE)","v":16.100000000000001},2741]
["WV","MARTINSBURG EASTERN WV REG AP","4A",4859,1355,21.75,77.2,9.3799999999999994E-2,"39.402N",16.100000000000001,33.1,35.299999999999997,43.3,54,62.5,71.3,75.7,73.8,66.5,55.3,45.3,36.200000000000003,534,417,253,51,4,0,0,0,0,35,191,438,9,6,46,171,392,639,796,738,496,198,49,11,22.3,30.56,30.6,40.82,50.2,59.36,64.040000000000006,63.86,59.2,34.200000000000003,34.200000000000003,28.4,0.77077363896848139,0.18955371556527625,63,33,16,21,{"$f":"IF(OR(C1038=\"OA\",C1038=\"OB\",C1038=\"1B\",C1038=\"1A\",C1038=\"2A\",C1038=\"2B\",C1038=\"3A\",C1038=\"3B\",C1038=\"3C\"),TAN((LEFT(I1038, 5)+VLOOKUP(C1038,Main!$K$3:$L$21,2,FALSE))*PI()/180),IF(Checklist!$I$385=\"No\",TAN((LEFT(I1038, 5)+VLOOKUP(C1038,Main!$K$3:$L$21,2,FALSE))*PI()/180),\"NR\"))","v":"NR"},{"$f":"VLOOKUP(C1038,Main!$A$49:$I$67,Main!$B$47,FALSE)","v":0.5},{"$f":"VLOOKUP(C1038,Main!$A$49:$I$67,Main!$C$47,FALSE)","v":0.25},{"$f":"VLOOKUP(C1038,Main!$A$49:$I$67,Main!$E$47,FALSE)&\":\"&\" \"&VLOOKUP(C1038,Main!$A$49:$I$67,Main!$F$47,FALSE)","v":"Minimum HSPF:: 9.6"},{"$f":"VLOOKUP(C1038,Main!$A$49:$I$67,Main!$G$47,FALSE)","v":18},{"$f":"VLOOKUP(C1038,Main!$A$49:$I$67,Main!$H$47,FALSE)","v":3.1},{"$f":"VLOOKUP(C1038,Main!$A$49:$I$67,Main!$I$47,FALSE)","v":16.100000000000001},3551]
["WV","MORGANTOWN HART FIELD","4A",4987,1242,9.5,74.099999999999994,9.3799999999999994E-2,"39.643N",12.9,32.5,34.6,42.6,53.8,62,70,73.599999999999994,72.5,65.599999999999994,54.9,45,36.4,559,440,286,70,7,0,0,0,1,49,211,439,16,10,58,184,378,600,730,697,470,199,62,17,19.2,26.6,32.700000000000003,42.26,50.2,59.9,64.040000000000006,62.42,56.7,32.5,32.5,30.2,0.77464788732394363,0.17854515132192081,64,34,17,22,{"$f":"IF(OR(C1039=\"OA\",C1039=\"OB\",C1039=\"1B\",C1039=\"1A\",C1039=\"2A\",C1039=\"2B\",C1039=\"3A\",C1039=\"3B\",C1039=\"3C\"),TAN((LEFT(I1039, 5)+VLOOKUP(C1039,Main!$K$3:$L$21,2,FALSE))*PI()/180),IF(Checklist!$I$385=\"No\",TAN((LEFT(I1039, 5)+VLOOKUP(C1039,Main!$K$3:$L$21,2,FALSE))*PI()/180),\"NR\"))","v":"NR"},{"$f":"VLOOKUP(C1039,Main!$A$49:$I$67,Main!$B$47,FALSE)","v":0.5},{"$f":"VLOOKUP(C1039,Main!$A$49:$I$67,Main!$C$47,FALSE)","v":0.25},{"$f":"VLOOKUP(C1039,Main!$A$49:$I$67,Main!$E$47,FALSE)&\":\"&\" \"&VLOOKUP(C1039,Main!$A$49:$I$67,Main!$F$47,FALSE)","v":"Minimum HSPF:: 9.6"},{"$f":"VLOOKUP(C1039,Main!$A$49:$I$67,Main!$G$47,FALSE)","v":18},{"$f":"VLOOKUP(C1039,Main!$A$49:$I$67,Main!$H$47,FALSE)","v":3.1},{"$f":"VLOOKUP(C1039,Main!$A$49:$I$67,Main!$I$47,FALSE)","v":16.100000000000001},3421]
["WV","PARKERSBURG WOOD COUNTY AP","4A",4886,1268,22.55,79.5,9.3799999999999994E-2,"39.345N",13.6,32.700000000000003,35.200000000000003,43.6,54.7,62.9,70.7,74.3,73.099999999999994,66.099999999999994,54.9,44.7,36.200000000000003,552,424,264,57,4,0,0,0,0,45,216,443,16,11,65,199,404,622,753,717,484,197,58,14,16.899999999999999,23,32.200000000000003,43.34,52.3,64.22,66.739999999999995,64.94,58.1,36,36,25,0.77337110481586402,0.18084260731319554,64,33,16,21,{"$f":"IF(OR(C1040=\"OA\",C1040=\"OB\",C1040=\"1B\",C1040=\"1A\",C1040=\"2A\",C1040=\"2B\",C1040=\"3A\",C1040=\"3B\",C1040=\"3C\"),TAN((LEFT(I1040, 5)+VLOOKUP(C1040,Main!$K$3:$L$21,2,FALSE))*PI()/180),IF(Checklist!$I$385=\"No\",TAN((LEFT(I1040, 5)+VLOOKUP(C1040,Main!$K$3:$L$21,2,FALSE))*PI()/180),\"NR\"))","v":"NR"},{"$f":"VLOOKUP(C1040,Main!$A$49:$I$67,Main!$B$47,FALSE)","v":0.5},{"$f":"VLOOKUP(C1040,Main!$A$49:$I$67,Main!$C$47,FALSE)","v":0.25},{"$f":"VLOOKUP(C1040,Main!$A$49:$I$67,Main!$E$47,FALSE)&\":\"&\" \"&VLOOKUP(C1040,Main!$A$49:$I$67,Main!$F$47,FALSE)","v":"Minimum HSPF:: 9.6"},{"$f":"VLOOKUP(C1040,Main!$A$49:$I$67,Main!$G$47,FALSE)","v":18},{"$f":"VLOOKUP(C1040,Main!$A$49:$I$67,Main!$H$47,FALSE)","v":3.1},{"$f":"VLOOKUP(C1040,Main!$A$49:$I$67,Main!$I$47,FALSE)","v":16.100000000000001},3540]
["WV","WHEELING OHIO COUNTY AP","5A",5433,1342,21.3,75.599999999999994,9.3799999999999994E-2,"40.176N",10.4,29.3,31.5,40.6,52.7,61.4,68.7,72.5,71.599999999999994,64.900000000000006,53.8,44,33.9,652,524,338,78,8,0,0,0,1,61,232,511,10,7,47,160,361,561,699,669,448,179,51,11,30.4,19.04,25.3,42.44,45.9,57.56,63.32,60.98,52.9,31.6,31.6,21.4,0.79328165374676995,0.17079579579579576,65,35,18,23,{"$f":"IF(OR(C1041=\"OA\",C1041=\"OB\",C1041=\"1B\",C1041=\"1A\",C1041=\"2A\",C1041=\"2B\",C1041=\"3A\",C1041=\"3B\",C1041=\"3C\"),TAN((LEFT(I1041, 5)+VLOOKUP(C1041,Main!$K$3:$L$21,2,FALSE))*PI()/180),IF(Checklist!$I$385=\"No\",TAN((LEFT(I1041, 5)+VLOOKUP(C1041,Main!$K$3:$L$21,2,FALSE))*PI()/180),\"NR\"))","v":"NR"},{"$f":"VLOOKUP(C1041,Main!$A$49:$I$67,Main!$B$47,FALSE)","v":"NR"},{"$f":"VLOOKUP(C1041,Main!$A$49:$I$67,Main!$C$47,FALSE)","v":"NR"},{"$f":"VLOOKUP(C1041,Main!$A$49:$I$67,Main!$E$47,FALSE)&\":\"&\" \"&VLOOKUP(C1041,Main!$A$49:$I$67,Main!$F$47,FALSE)","v":"Minimum COP @ 5°F:: 1.75"},{"$f":"VLOOKUP(C1041,Main!$A$49:$I$67,Main!$G$47,FALSE)","v":15},{"$f":"VLOOKUP(C1041,Main!$A$49:$I$67,Main!$H$47,FALSE)","v":3.1},{"$f":"VLOOKUP(C1041,Main!$A$49:$I$67,Main!$I$47,FALSE)","v":16.100000000000001},3203]
["WY","CASPER NATRONA CO INTL AP","6B",7308,1577,15.1,75.900000000000006,0.1008,"42.898N",-1,25.9,27.6,36.200000000000003,42.8,52.6,62.6,71.2,69.7,59.4,46.1,34.4,25.3,747,626,437,247,70,6,0,0,21,189,477,765,0,0,8,31,150,384,658,609,303,68,8,0,11.3,14,21.4,23.36,33.6,39.74,44.6,39.74,32.4,19,19,13.6,0.81264637002341922,0.1425773599686643,72,40,22,27,{"$f":"IF(OR(C1042=\"OA\",C1042=\"OB\",C1042=\"1B\",C1042=\"1A\",C1042=\"2A\",C1042=\"2B\",C1042=\"3A\",C1042=\"3B\",C1042=\"3C\"),TAN((LEFT(I1042, 5)+VLOOKUP(C1042,Main!$K$3:$L$21,2,FALSE))*PI()/180),IF(Checklist!$I$385=\"No\",TAN((LEFT(I1042, 5)+VLOOKUP(C1042,Main!$K$3:$L$21,2,FALSE))*PI()/180),\"NR\"))","v":"NR"},{"$f":"VLOOKUP(C1042,Main!$A$49:$I$67,Main!$B$47,FALSE)","v":"NR"},{"$f":"VLOOKUP(C1042,Main!$A$49:$I$67,Main!$C$47,FALSE)","v":"NR"},{"$f":"VLOOKUP(C1042,Main!$A$49:$I$67,Main!$E$47,FALSE)&\":\"&\" \"&VLOOKUP(C1042,Main!$A$49:$I$67,Main!$F$47,FALSE)","v":"Minimum COP @ 5°F:: 1.75"},{"$f":"VLOOKUP(C1042,Main!$A$49:$I$67,Main!$G$47,FALSE)","v":15},{"$f":"VLOOKUP(C1042,Main!$A$49:$I$67,Main!$H$47,FALSE)","v":3.1},{"$f":"VLOOKUP(C1042,Main!$A$49:$I$67,Main!$I$47,FALSE)","v":16.100000000000001},2219]
["WY","CHEYENNE MUNICIPAL ARPT","5B",7056,1607,14,73.8,0.1008,"41.150N",2.6,29.1,29.3,36.5,42.6,52.1,62.3,69.400000000000006,67.7,58.9,46.4,35.799999999999997,28.3,648,579,425,252,79,5,0,0,23,182,435,671,0,1,8,29,145,375,600,548,290,70,9,0,12,12.2,18.100000000000001,24.98,34,40.64,44.06,45.68,37.6,14,14,15.4,0.79848866498740545,0.15042565501281097,71,40,22,27,{"$f":"IF(OR(C1043=\"OA\",C1043=\"OB\",C1043=\"1B\",C1043=\"1A\",C1043=\"2A\",C1043=\"2B\",C1043=\"3A\",C1043=\"3B\",C1043=\"3C\"),TAN((LEFT(I1043, 5)+VLOOKUP(C1043,Main!$K$3:$L$21,2,FALSE))*PI()/180),IF(Checklist!$I$385=\"No\",TAN((LEFT(I1043, 5)+VLOOKUP(C1043,Main!$K$3:$L$21,2,FALSE))*PI()/180),\"NR\"))","v":"NR"},{"$f":"VLOOKUP(C1043,Main!$A$49:$I$67,Main!$B$47,FALSE)","v":"NR"},{"$f":"VLOOKUP(C1043,Main!$A$49:$I$67,Main!$C$47,FALSE)","v":"NR"},{"$f":"VLOOKUP(C1043,Main!$A$49:$I$67,Main!$E$47,FALSE)&\":\"&\" \"&VLOOKUP(C1043,Main!$A$49:$I$67,Main!$F$47,FALSE)","v":"Minimum COP @ 5°F:: 1.75"},{"$f":"VLOOKUP(C1043,Main!$A$49:$I$67,Main!$G$47,FALSE)","v":15},{"$f":"VLOOKUP(C1043,Main!$A$49:$I$67,Main!$H$47,FALSE)","v":3.1},{"$f":"VLOOKUP(C1043,Main!$A$49:$I$67,Main!$I$47,FALSE)","v":16.100000000000001},2075]
["WY","CODY MUNI (AWOS)","6B",7364,1579,3.5,78.099999999999994,0.1008,"44.517N",-3.7,26.2,27.3,36.299999999999997,42.9,52.4,61,69.900000000000006,68.400000000000006,59.1,45.9,34.5,26.7,737,637,434,250,75,9,0,1,23,201,477,724,0,0,10,37,148,340,617,571,295,73,13,0,15.3,12.2,15.8,23.9,30.2,38.479999999999997,39.74,37.04,34.700000000000003,21.2,21.2,13.1,0.80861244019138756,0.13720833804515811,72,41,22,27,{"$f":"IF(OR(C1044=\"OA\",C1044=\"OB\",C1044=\"1B\",C1044=\"1A\",C1044=\"2A\",C1044=\"2B\",C1044=\"3A\",C1044=\"3B\",C1044=\"3C\"),TAN((LEFT(I1044, 5)+VLOOKUP(C1044,Main!$K$3:$L$21,2,FALSE))*PI()/180),IF(Checklist!$I$385=\"No\",TAN((LEFT(I1044, 5)+VLOOKUP(C1044,Main!$K$3:$L$21,2,FALSE))*PI()/180),\"NR\"))","v":"NR"},{"$f":"VLOOKUP(C1044,Main!$A$49:$I$67,Main!$B$47,FALSE)","v":"NR"},{"$f":"VLOOKUP(C1044,Main!$A$49:$I$67,Main!$C$47,FALSE)","v":"NR"},{"$f":"VLOOKUP(C1044,Main!$A$49:$I$67,Main!$E$47,FALSE)&\":\"&\" \"&VLOOKUP(C1044,Main!$A$49:$I$67,Main!$F$47,FALSE)","v":"Minimum COP @ 5°F:: 1.75"},{"$f":"VLOOKUP(C1044,Main!$A$49:$I$67,Main!$G$47,FALSE)","v":15},{"$f":"VLOOKUP(C1044,Main!$A$49:$I$67,Main!$H$47,FALSE)","v":3.1},{"$f":"VLOOKUP(C1044,Main!$A$49:$I$67,Main!$I$47,FALSE)","v":16.100000000000001},2104]
["WY","GILLETTE/GILLETTE-C","6B",7417,1438,1,79.7,0.1008,"44.339N",-2.4,25.6,26.6,35.5,42.9,52.1,62.4,71.400000000000006,70.2,60.1,46.1,34.200000000000003,25.5,757,656,461,252,78,5,0,1,22,192,484,762,0,1,11,40,144,378,664,628,324,71,10,1,13.6,21.74,20.5,31.64,36.5,46.76,51.8,44.78,44.2,22.3,22.3,20.3,0.81176470588235294,0.13974201474201473,72,41,22,27,{"$f":"IF(OR(C1045=\"OA\",C1045=\"OB\",C1045=\"1B\",C1045=\"1A\",C1045=\"2A\",C1045=\"2B\",C1045=\"3A\",C1045=\"3B\",C1045=\"3C\"),TAN((LEFT(I1045, 5)+VLOOKUP(C1045,Main!$K$3:$L$21,2,FALSE))*PI()/180),IF(Checklist!$I$385=\"No\",TAN((LEFT(I1045, 5)+VLOOKUP(C1045,Main!$K$3:$L$21,2,FALSE))*PI()/180),\"NR\"))","v":"NR"},{"$f":"VLOOKUP(C1045,Main!$A$49:$I$67,Main!$B$47,FALSE)","v":"NR"},{"$f":"VLOOKUP(C1045,Main!$A$49:$I$67,Main!$C$47,FALSE)","v":"NR"},{"$f":"VLOOKUP(C1045,Main!$A$49:$I$67,Main!$E$47,FALSE)&\":\"&\" \"&VLOOKUP(C1045,Main!$A$49:$I$67,Main!$F$47,FALSE)","v":"Minimum COP @ 5°F:: 1.75"},{"$f":"VLOOKUP(C1045,Main!$A$49:$I$67,Main!$G$47,FALSE)","v":15},{"$f":"VLOOKUP(C1045,Main!$A$49:$I$67,Main!$H$47,FALSE)","v":3.1},{"$f":"VLOOKUP(C1045,Main!$A$49:$I$67,Main!$I$47,FALSE)","v":16.100000000000001},2272]
["WY","JACKSON HOLE","6B",10239,1576,2.2000000000000002,65.3,0.1008,"43.600N",-9,15.8,16.8,26.8,35.799999999999997,45.5,52.4,59.9,59,50.2,39.6,25.1,15.6,1062,929,718,425,172,47,6,4,70,329,748,1065,0,0,0,0,33,119,314,283,78,5,0,0,16.7,8.42,20.5,23.54,26.8,36.5,35.06,40.82,36.700000000000003,18.3,18.3,13.8,0.84732824427480913,0.12776412776412777,80,48,30,35,{"$f":"IF(OR(C1046=\"OA\",C1046=\"OB\",C1046=\"1B\",C1046=\"1A\",C1046=\"2A\",C1046=\"2B\",C1046=\"3A\",C1046=\"3B\",C1046=\"3C\"),TAN((LEFT(I1046, 5)+VLOOKUP(C1046,Main!$K$3:$L$21,2,FALSE))*PI()/180),IF(Checklist!$I$385=\"No\",TAN((LEFT(I1046, 5)+VLOOKUP(C1046,Main!$K$3:$L$21,2,FALSE))*PI()/180),\"NR\"))","v":"NR"},{"$f":"VLOOKUP(C1046,Main!$A$49:$I$67,Main!$B$47,FALSE)","v":"NR"},{"$f":"VLOOKUP(C1046,Main!$A$49:$I$67,Main!$C$47,FALSE)","v":"NR"},{"$f":"VLOOKUP(C1046,Main!$A$49:$I$67,Main!$E$47,FALSE)&\":\"&\" \"&VLOOKUP(C1046,Main!$A$49:$I$67,Main!$F$47,FALSE)","v":"Minimum COP @ 5°F:: 1.75"},{"$f":"VLOOKUP(C1046,Main!$A$49:$I$67,Main!$G$47,FALSE)","v":15},{"$f":"VLOOKUP(C1046,Main!$A$49:$I$67,Main!$H$47,FALSE)","v":3.1},{"$f":"VLOOKUP(C1046,Main!$A$49:$I$67,Main!$I$47,FALSE)","v":16.100000000000001},832]
["WY","LANDER HUNT FIELD","6B",7486,1679,5.75,76.5,0.1008,"42.815N",-1.8,22.8,25.9,36.5,43.9,53.6,63.3,72.2,70.5,60.4,46.3,32.700000000000003,22.2,843,675,424,220,62,6,0,0,18,184,523,861,0,0,6,39,175,404,689,637,329,68,3,0,12.2,7.52,18.899999999999999,22.46,29.3,36.5,42.44,38.479999999999997,31.3,17.100000000000001,17.100000000000001,11.7,0.8253275109170306,0.14094323549910942,72,41,22,27,{"$f":"IF(OR(C1047=\"OA\",C1047=\"OB\",C1047=\"1B\",C1047=\"1A\",C1047=\"2A\",C1047=\"2B\",C1047=\"3A\",C1047=\"3B\",C1047=\"3C\"),TAN((LEFT(I1047, 5)+VLOOKUP(C1047,Main!$K$3:$L$21,2,FALSE))*PI()/180),IF(Checklist!$I$385=\"No\",TAN((LEFT(I1047, 5)+VLOOKUP(C1047,Main!$K$3:$L$21,2,FALSE))*PI()/180),\"NR\"))","v":"NR"},{"$f":"VLOOKUP(C1047,Main!$A$49:$I$67,Main!$B$47,FALSE)","v":"NR"},{"$f":"VLOOKUP(C1047,Main!$A$49:$I$67,Main!$C$47,FALSE)","v":"NR"},{"$f":"VLOOKUP(C1047,Main!$A$49:$I$67,Main!$E$47,FALSE)&\":\"&\" \"&VLOOKUP(C1047,Main!$A$49:$I$67,Main!$F$47,FALSE)","v":"Minimum COP @ 5°F:: 1.75"},{"$f":"VLOOKUP(C1047,Main!$A$49:$I$67,Main!$G$47,FALSE)","v":15},{"$f":"VLOOKUP(C1047,Main!$A$49:$I$67,Main!$H$47,FALSE)","v":3.1},{"$f":"VLOOKUP(C1047,Main!$A$49:$I$67,Main!$I$47,FALSE)","v":16.100000000000001},2350]
["WY","LARAMIE GENERAL BREES FIELD","5B",8648,1641,17.45,68.400000000000006,0.1008,"41.317N",-3.4,22.4,23.7,31.9,38.1,47.7,57.7,64.5,62.6,54.1,42.4,30.2,21.6,855,735,563,363,135,15,0,1,40,261,593,879,0,0,1,6,63,244,451,392,163,25,1,0,13.6,15.98,19.8,22.46,33.299999999999997,35.06,45.86,41.36,40.299999999999997,17.399999999999999,17.399999999999999,14.2,0.82758620689655171,0.13778484366719659,75,44,26,31,{"$f":"IF(OR(C1048=\"OA\",C1048=\"OB\",C1048=\"1B\",C1048=\"1A\",C1048=\"2A\",C1048=\"2B\",C1048=\"3A\",C1048=\"3B\",C1048=\"3C\"),TAN((LEFT(I1048, 5)+VLOOKUP(C1048,Main!$K$3:$L$21,2,FALSE))*PI()/180),IF(Checklist!$I$385=\"No\",TAN((LEFT(I1048, 5)+VLOOKUP(C1048,Main!$K$3:$L$21,2,FALSE))*PI()/180),\"NR\"))","v":"NR"},{"$f":"VLOOKUP(C1048,Main!$A$49:$I$67,Main!$B$47,FALSE)","v":"NR"},{"$f":"VLOOKUP(C1048,Main!$A$49:$I$67,Main!$C$47,FALSE)","v":"NR"},{"$f":"VLOOKUP(C1048,Main!$A$49:$I$67,Main!$E$47,FALSE)&\":\"&\" \"&VLOOKUP(C1048,Main!$A$49:$I$67,Main!$F$47,FALSE)","v":"Minimum COP @ 5°F:: 1.75"},{"$f":"VLOOKUP(C1048,Main!$A$49:$I$67,Main!$G$47,FALSE)","v":15},{"$f":"VLOOKUP(C1048,Main!$A$49:$I$67,Main!$H$47,FALSE)","v":3.1},{"$f":"VLOOKUP(C1048,Main!$A$49:$I$67,Main!$I$47,FALSE)","v":16.100000000000001},1346]
["WY","RAWLINS MUNICIPAL AP","6B",8166,1752,20.65,73.900000000000006,0.1008,"41.800N",-1.2,22.4,22.9,33.200000000000003,40.700000000000003,50,60.3,69.5,66.099999999999994,56.8,43.9,31.2,21.9,855,760,522,291,107,9,0,0,20,225,564,870,0,0,2,13,107,317,605,500,223,35,1,0,18.3,19.579999999999998,19,22.46,30,37.22,38.119999999999997,41.9,34.200000000000003,20.8,20.8,16.3,0.82646420824295008,0.1421652866739572,74,43,24,29,{"$f":"IF(OR(C1049=\"OA\",C1049=\"OB\",C1049=\"1B\",C1049=\"1A\",C1049=\"2A\",C1049=\"2B\",C1049=\"3A\",C1049=\"3B\",C1049=\"3C\"),TAN((LEFT(I1049, 5)+VLOOKUP(C1049,Main!$K$3:$L$21,2,FALSE))*PI()/180),IF(Checklist!$I$385=\"No\",TAN((LEFT(I1049, 5)+VLOOKUP(C1049,Main!$K$3:$L$21,2,FALSE))*PI()/180),\"NR\"))","v":"NR"},{"$f":"VLOOKUP(C1049,Main!$A$49:$I$67,Main!$B$47,FALSE)","v":"NR"},{"$f":"VLOOKUP(C1049,Main!$A$49:$I$67,Main!$C$47,FALSE)","v":"NR"},{"$f":"VLOOKUP(C1049,Main!$A$49:$I$67,Main!$E$47,FALSE)&\":\"&\" \"&VLOOKUP(C1049,Main!$A$49:$I$67,Main!$F$47,FALSE)","v":"Minimum COP @ 5°F:: 1.75"},{"$f":"VLOOKUP(C1049,Main!$A$49:$I$67,Main!$G$47,FALSE)","v":15},{"$f":"VLOOKUP(C1049,Main!$A$49:$I$67,Main!$H$47,FALSE)","v":3.1},{"$f":"VLOOKUP(C1049,Main!$A$49:$I$67,Main!$I$47,FALSE)","v":16.100000000000001},1803]
["WY","RIVERTON MUNICIPL AP","6B",7667,1657,9.4,79.2,0.1008,"43.064N",-2.2000000000000002,21.3,25.1,35.9,43.8,53.7,63.5,73.400000000000006,70.3,59.6,45.7,32,20.9,890,698,444,221,65,5,0,0,20,192,542,902,0,0,6,36,179,411,726,628,309,58,2,0,14.2,9.86,18,30.02,33.299999999999997,34.520000000000003,38.659999999999997,40.82,41.9,21,21,13.5,0.83014861995753719,0.14014014014014012,73,41,22,27,{"$f":"IF(OR(C1050=\"OA\",C1050=\"OB\",C1050=\"1B\",C1050=\"1A\",C1050=\"2A\",C1050=\"2B\",C1050=\"3A\",C1050=\"3B\",C1050=\"3C\"),TAN((LEFT(I1050, 5)+VLOOKUP(C1050,Main!$K$3:$L$21,2,FALSE))*PI()/180),IF(Checklist!$I$385=\"No\",TAN((LEFT(I1050, 5)+VLOOKUP(C1050,Main!$K$3:$L$21,2,FALSE))*PI()/180),\"NR\"))","v":"NR"},{"$f":"VLOOKUP(C1050,Main!$A$49:$I$67,Main!$B$47,FALSE)","v":"NR"},{"$f":"VLOOKUP(C1050,Main!$A$49:$I$67,Main!$C$47,FALSE)","v":"NR"},{"$f":"VLOOKUP(C1050,Main!$A$49:$I$67,Main!$E$47,FALSE)&\":\"&\" \"&VLOOKUP(C1050,Main!$A$49:$I$67,Main!$F$47,FALSE)","v":"Minimum COP @ 5°F:: 1.75"},{"$f":"VLOOKUP(C1050,Main!$A$49:$I$67,Main!$G$47,FALSE)","v":15},{"$f":"VLOOKUP(C1050,Main!$A$49:$I$67,Main!$H$47,FALSE)","v":3.1},{"$f":"VLOOKUP(C1050,Main!$A$49:$I$67,Main!$I$47,FALSE)","v":16.100000000000001},2355]
["WY","SHERIDAN COUNTY ARPT","6B",7466,1533,6.9,75.599999999999994,0.1008,"44.769N",-4.4000000000000004,24.3,26.9,35.799999999999997,43.6,52.6,61.5,70.8,69.5,59.4,46,33.6,24.1,796,648,448,227,65,6,0,0,19,191,500,802,0,1,8,35,144,352,643,605,302,66,7,0,11.5,15.44,22.3,29.84,40.799999999999997,46.58,50.36,47.84,39.6,21.6,21.6,15.6,0.8177676537585421,0.13588173809168283,72,41,22,27,{"$f":"IF(OR(C1051=\"OA\",C1051=\"OB\",C1051=\"1B\",C1051=\"1A\",C1051=\"2A\",C1051=\"2B\",C1051=\"3A\",C1051=\"3B\",C1051=\"3C\"),TAN((LEFT(I1051, 5)+VLOOKUP(C1051,Main!$K$3:$L$21,2,FALSE))*PI()/180),IF(Checklist!$I$385=\"No\",TAN((LEFT(I1051, 5)+VLOOKUP(C1051,Main!$K$3:$L$21,2,FALSE))*PI()/180),\"NR\"))","v":"NR"},{"$f":"VLOOKUP(C1051,Main!$A$49:$I$67,Main!$B$47,FALSE)","v":"NR"},{"$f":"VLOOKUP(C1051,Main!$A$49:$I$67,Main!$C$47,FALSE)","v":"NR"},{"$f":"VLOOKUP(C1051,Main!$A$49:$I$67,Main!$E$47,FALSE)&\":\"&\" \"&VLOOKUP(C1051,Main!$A$49:$I$67,Main!$F$47,FALSE)","v":"Minimum COP @ 5°F:: 1.75"},{"$f":"VLOOKUP(C1051,Main!$A$49:$I$67,Main!$G$47,FALSE)","v":15},{"$f":"VLOOKUP(C1051,Main!$A$49:$I$67,Main!$H$47,FALSE)","v":3.1},{"$f":"VLOOKUP(C1051,Main!$A$49:$I$67,Main!$I$47,FALSE)","v":16.100000000000001},2163]
["WY","WORLAND MUNICIPAL","6B",7668,1605,12.45,78.599999999999994,0.1008,"43.966N",-7.5,18.3,22.1,37.299999999999997,46.1,55.2,65.400000000000006,74.3,71,60.9,46.3,32.299999999999997,18.2,984,780,402,169,44,2,0,0,7,170,533,985,0,0,9,53,206,463,754,650,335,56,2,0,11.1,17.059999999999999,18.7,28.4,37.6,42.8,46.58,43.88,37.4,21.9,21.9,12.7,0.8393574297188755,0.13030248791838195,73,41,22,27,{"$f":"IF(OR(C1052=\"OA\",C1052=\"OB\",C1052=\"1B\",C1052=\"1A\",C1052=\"2A\",C1052=\"2B\",C1052=\"3A\",C1052=\"3B\",C1052=\"3C\"),TAN((LEFT(I1052, 5)+VLOOKUP(C1052,Main!$K$3:$L$21,2,FALSE))*PI()/180),IF(Checklist!$I$385=\"No\",TAN((LEFT(I1052, 5)+VLOOKUP(C1052,Main!$K$3:$L$21,2,FALSE))*PI()/180),\"NR\"))","v":"NR"},{"$f":"VLOOKUP(C1052,Main!$A$49:$I$67,Main!$B$47,FALSE)","v":"NR"},{"$f":"VLOOKUP(C1052,Main!$A$49:$I$67,Main!$C$47,FALSE)","v":"NR"},{"$f":"VLOOKUP(C1052,Main!$A$49:$I$67,Main!$E$47,FALSE)&\":\"&\" \"&VLOOKUP(C1052,Main!$A$49:$I$67,Main!$F$47,FALSE)","v":"Minimum COP @ 5°F:: 1.75"},{"$f":"VLOOKUP(C1052,Main!$A$49:$I$67,Main!$G$47,FALSE)","v":15},{"$f":"VLOOKUP(C1052,Main!$A$49:$I$67,Main!$H$47,FALSE)","v":3.1},{"$f":"VLOOKUP(C1052,Main!$A$49:$I$67,Main!$I$47,FALSE)","v":16.100000000000001},2528]
["YT","WHITEHORSE",7,12188,1015,-22.9,63.9,0.13600000000000001,"60.710N",-30.2,2.6,10.8,18.8,34.1,45.4,54.5,57.6,54.8,45.1,32.5,14.9,7.3,1470,1099,968,476,172,16,2,16,167,543,1053,1322,0,0,0,0,31,149,238,164,21,1,0,0,-2.4,3.38,6.1,18.14,27,37.4,43.16,42.08,34.9,12,12,3.9,0.87767584097859319,0.10018164804315516,92,59,37,42,{"$f":"IF(OR(C1053=\"OA\",C1053=\"OB\",C1053=\"1B\",C1053=\"1A\",C1053=\"2A\",C1053=\"2B\",C1053=\"3A\",C1053=\"3B\",C1053=\"3C\"),TAN((LEFT(I1053, 5)+VLOOKUP(C1053,Main!$K$3:$L$21,2,FALSE))*PI()/180),IF(Checklist!$I$385=\"No\",TAN((LEFT(I1053, 5)+VLOOKUP(C1053,Main!$K$3:$L$21,2,FALSE))*PI()/180),\"NR\"))","v":"NR"},{"$f":"VLOOKUP(C1053,Main!$A$49:$I$67,Main!$B$47,FALSE)","v":"NR"},{"$f":"VLOOKUP(C1053,Main!$A$49:$I$67,Main!$C$47,FALSE)","v":"NR"},{"$f":"VLOOKUP(C1053,Main!$A$49:$I$67,Main!$E$47,FALSE)&\":\"&\" \"&VLOOKUP(C1053,Main!$A$49:$I$67,Main!$F$47,FALSE)","v":"Minimum COP @ 5°F:: 1.75"},{"$f":"VLOOKUP(C1053,Main!$A$49:$I$67,Main!$G$47,FALSE)","v":15},{"$f":"VLOOKUP(C1053,Main!$A$49:$I$67,Main!$H$47,FALSE)","v":3.1},{"$f":"VLOOKUP(C1053,Main!$A$49:$I$67,Main!$I$47,FALSE)","v":16.100000000000001},604]
["AB","EDMONTON-STONY P",7,9616,1282,-8.5,69.599999999999994,0.1086,"53.5475N",-14.6,15,18,26,40,51,58,63,61,52,41,26,15,"###",901,750,326,83,6,0,4,64,311,728,"###",0,0,0,17,124,253,401,338,136,17,0,0,4.5999999999999996,7.34,13.1,23.72,32.4,44.42,51.62,48.74,39.700000000000003,27.86,17.600000000000001,5,{"$f":"IF(MIN(K1054:V1054)>60,\"NR\",IF((60-MIN(K1054:V1054))/(68-MIN(K1054:V1054))<0.5,\"NR\",MAX(0.6,(60-MIN(K1054:V1054))/(68-MIN(K1054:V1054)))))","v":0.84905660377358494},0.11910215300045808,{"$f":"ROUNDDOWN((33.97238548+(2.143484655*3.14219615)+(0.00253108806*D1054)+(-0.2767683543*J1054)+(66.9384076*H1054)+((3.14219615-3.14219615)^2*-1.607593659)+((J1054-12.48681818)*(H1054-0.2016890909)*-1.8168457)+8.4234),0)","v":80},{"$f":"ROUNDDOWN((2.975122788+(0.003896731237*D1054)+(59.88697433*H1054)+((D1054-5520.854545)*(H1054-0.2016890909)*0.01119327314)+5.3792),0)","v":48},{"$f":"ROUNDDOWN(-18.64576148+(5.900367721*3.14219615)+(0.002662134083*D1054)+(38.92365332*H1054)+((BT1054-3890.577273)*(G1054-78.59)*0.00005765875867)+((D1054-5520.854545)*(H1054-0.2016890909)*0.006047043516),0)","v":28},{"$f":"ROUNDDOWN(BK1054+5.9089,0)","v":33},{"$f":"IF(OR(C1054=\"OA\",C1054=\"OB\",C1054=\"1B\",C1054=\"1A\",C1054=\"2A\",C1054=\"2B\",C1054=\"3A\",C1054=\"3B\",C1054=\"3C\"),TAN((LEFT(I1054, 5)+VLOOKUP(C1054,Main!$K$3:$L$21,2,FALSE))*PI()/180),IF(Checklist!$I$385=\"No\",TAN((LEFT(I1054, 5)+VLOOKUP(C1054,Main!$K$3:$L$21,2,FALSE))*PI()/180),\"NR\"))","v":"NR"},{"$f":"VLOOKUP(C1054,Main!$A$49:$I$67,Main!$B$47,FALSE)","v":"NR"},{"$f":"VLOOKUP(C1054,Main!$A$49:$I$67,Main!$C$47,FALSE)","v":"NR"},{"$f":"VLOOKUP(C1054,Main!$A$49:$I$67,Main!$E$47,FALSE)&\":\"&\" \"&VLOOKUP(C1054,Main!$A$49:$I$67,Main!$F$47,FALSE)","v":"Minimum COP @ 5°F:: 1.75"},{"$f":"VLOOKUP(C1054,Main!$A$49:$I$67,Main!$G$47,FALSE)","v":15},{"$f":"VLOOKUP(C1054,Main!$A$49:$I$67,Main!$H$47,FALSE)","v":3.1},{"$f":"VLOOKUP(C1054,Main!$A$49:$I$67,Main!$I$47,FALSE)","v":16.100000000000001},1286]
["AK","HOONAH","6B",8407,950,6.35,74.8,0.18920000000000001,"58.096N",13.2,31,30,32,39,47,53,57,57,50,42,34,31,604,548,550,336,121,12,1,1,47,251,473,588,0,0,0,0,29,107,216,202,46,2,0,0,18.100000000000001,21.56,26.2,30.56,38.1,44.06,47.48,46.4,41.9,35.6,27.9,18.100000000000001,0.78947368421052633,0.17952258828171236,79,52,30,35,{"$f":"IF(OR(C1055=\"OA\",C1055=\"OB\",C1055=\"1B\",C1055=\"1A\",C1055=\"2A\",C1055=\"2B\",C1055=\"3A\",C1055=\"3B\",C1055=\"3C\"),TAN((LEFT(I1055, 5)+VLOOKUP(C1055,Main!$K$3:$L$21,2,FALSE))*PI()/180),IF(Checklist!$I$385=\"No\",TAN((LEFT(I1055, 5)+VLOOKUP(C1055,Main!$K$3:$L$21,2,FALSE))*PI()/180),\"NR\"))","v":"NR"},{"$f":"VLOOKUP(C1055,Main!$A$49:$I$67,Main!$B$47,FALSE)","v":"NR"},{"$f":"VLOOKUP(C1055,Main!$A$49:$I$67,Main!$C$47,FALSE)","v":"NR"},{"$f":"VLOOKUP(C1055,Main!$A$49:$I$67,Main!$E$47,FALSE)&\":\"&\" \"&VLOOKUP(C1055,Main!$A$49:$I$67,Main!$F$47,FALSE)","v":"Minimum COP @ 5°F:: 1.75"},{"$f":"VLOOKUP(C1055,Main!$A$49:$I$67,Main!$G$47,FALSE)","v":15},{"$f":"VLOOKUP(C1055,Main!$A$49:$I$67,Main!$H$47,FALSE)","v":3.1},{"$f":"VLOOKUP(C1055,Main!$A$49:$I$67,Main!$I$47,FALSE)","v":16.100000000000001},602]
["AK","HUSLIA",8,13729,831,5.45,75.2,0.18920000000000001,"65.698N",-39.4,-3,6,7.8,26,45,57,59,53,43,25,7.1,1.5,"###","###","###",732,211,15,6,33,215,786,"###","###",0,0,0,4,50,235,295,130,17,0,0,0,13.1,13.82,21.2,32,43.7,55.4,59.72,60.08,54.3,42.62,33.4,19.399999999999999,0.88732394366197187,9.1599979868136283E-2,106,72,43,48,{"$f":"IF(OR(C1056=\"OA\",C1056=\"OB\",C1056=\"1B\",C1056=\"1A\",C1056=\"2A\",C1056=\"2B\",C1056=\"3A\",C1056=\"3B\",C1056=\"3C\"),TAN((LEFT(I1056, 5)+VLOOKUP(C1056,Main!$K$3:$L$21,2,FALSE))*PI()/180),IF(Checklist!$I$385=\"No\",TAN((LEFT(I1056, 5)+VLOOKUP(C1056,Main!$K$3:$L$21,2,FALSE))*PI()/180),\"NR\"))","v":"NR"},{"$f":"VLOOKUP(C1056,Main!$A$49:$I$67,Main!$B$47,FALSE)","v":"NR"},{"$f":"VLOOKUP(C1056,Main!$A$49:$I$67,Main!$C$47,FALSE)","v":"NR"},{"$f":"VLOOKUP(C1056,Main!$A$49:$I$67,Main!$E$47,FALSE)&\":\"&\" \"&VLOOKUP(C1056,Main!$A$49:$I$67,Main!$F$47,FALSE)","v":"Minimum COP @ 5°F:: 1.75"},{"$f":"VLOOKUP(C1056,Main!$A$49:$I$67,Main!$G$47,FALSE)","v":15},{"$f":"VLOOKUP(C1056,Main!$A$49:$I$67,Main!$H$47,FALSE)","v":3.1},{"$f":"VLOOKUP(C1056,Main!$A$49:$I$67,Main!$I$47,FALSE)","v":16.100000000000001},731]
["AK","MINCHUMINA",8,13398,1005,16.25,79,0.18920000000000001,"63.886N",-32.6,-4,3.5,11,31,48,58,60,55,45,26,6.8,-1,"###","###","###",583,138,6,3,17,170,738,"###","###",0,0,0,1,59,242,312,167,22,0,0,0,19.2,19.579999999999998,26.2,35.42,46.2,56.66,60.26,61.52,55.2,43.16,34.299999999999997,23,0.88888888888888884,9.7791628606737957E-2,103,70,42,47,{"$f":"IF(OR(C1057=\"OA\",C1057=\"OB\",C1057=\"1B\",C1057=\"1A\",C1057=\"2A\",C1057=\"2B\",C1057=\"3A\",C1057=\"3B\",C1057=\"3C\"),TAN((LEFT(I1057, 5)+VLOOKUP(C1057,Main!$K$3:$L$21,2,FALSE))*PI()/180),IF(Checklist!$I$385=\"No\",TAN((LEFT(I1057, 5)+VLOOKUP(C1057,Main!$K$3:$L$21,2,FALSE))*PI()/180),\"NR\"))","v":"NR"},{"$f":"VLOOKUP(C1057,Main!$A$49:$I$67,Main!$B$47,FALSE)","v":"NR"},{"$f":"VLOOKUP(C1057,Main!$A$49:$I$67,Main!$C$47,FALSE)","v":"NR"},{"$f":"VLOOKUP(C1057,Main!$A$49:$I$67,Main!$E$47,FALSE)&\":\"&\" \"&VLOOKUP(C1057,Main!$A$49:$I$67,Main!$F$47,FALSE)","v":"Minimum COP @ 5°F:: 1.75"},{"$f":"VLOOKUP(C1057,Main!$A$49:$I$67,Main!$G$47,FALSE)","v":15},{"$f":"VLOOKUP(C1057,Main!$A$49:$I$67,Main!$H$47,FALSE)","v":3.1},{"$f":"VLOOKUP(C1057,Main!$A$49:$I$67,Main!$I$47,FALSE)","v":16.100000000000001},803]
["AL","GADSEN MUNI AWOS","3A",3086,1083,-16.5,73.599999999999994,0.1114,"33.967N",22.7,42,47,54,60,69,76,79,79,73,62,50,44,301,158,68,9,0,0,0,0,0,9,93,237,40,64,175,321,581,777,902,884,680,369,106,46,-7.8,-7.42,4.5999999999999996,20.84,34.9,45.32,53.24,52.88,46.6,34.700000000000003,23,2.2999999999999998,0.69230769230769229,0.21717081319730325,59,29,13,18,{"$f":"IF(OR(C1058=\"OA\",C1058=\"OB\",C1058=\"1B\",C1058=\"1A\",C1058=\"2A\",C1058=\"2B\",C1058=\"3A\",C1058=\"3B\",C1058=\"3C\"),TAN((LEFT(I1058, 5)+VLOOKUP(C1058,Main!$K$3:$L$21,2,FALSE))*PI()/180),IF(Checklist!$I$385=\"No\",TAN((LEFT(I1058, 5)+VLOOKUP(C1058,Main!$K$3:$L$21,2,FALSE))*PI()/180),\"NR\"))","v":0.67349323985348142},{"$f":"VLOOKUP(C1058,Main!$A$49:$I$67,Main!$B$47,FALSE)","v":0.6},{"$f":"VLOOKUP(C1058,Main!$A$49:$I$67,Main!$C$47,FALSE)","v":0.25},{"$f":"VLOOKUP(C1058,Main!$A$49:$I$67,Main!$E$47,FALSE)&\":\"&\" \"&VLOOKUP(C1058,Main!$A$49:$I$67,Main!$F$47,FALSE)","v":"Minimum HSPF:: 9.6"},{"$f":"VLOOKUP(C1058,Main!$A$49:$I$67,Main!$G$47,FALSE)","v":18},{"$f":"VLOOKUP(C1058,Main!$A$49:$I$67,Main!$H$47,FALSE)","v":3.1},{"$f":"VLOOKUP(C1058,Main!$A$49:$I$67,Main!$I$47,FALSE)","v":16.100000000000001},4945]
["AL","TROY AIR FIELD","3A",2133,1608,4.3499999999999996,73.900000000000006,0.1114,"31.861N",27.3,47,52,58,65,72,79,81,80,76,66,56,50,174,85,31,2,0,0,0,0,0,2,35,121,94,127,271,443,687,861,950,943,788,499,209,126,10.4,10.94,18.100000000000001,29.48,41.5,53.6,57.38,57.02,51.4,39.74,30.6,18,0.61904761904761907,0.24171591739159304,56,26,11,16,{"$f":"IF(OR(C1059=\"OA\",C1059=\"OB\",C1059=\"1B\",C1059=\"1A\",C1059=\"2A\",C1059=\"2B\",C1059=\"3A\",C1059=\"3B\",C1059=\"3C\"),TAN((LEFT(I1059, 5)+VLOOKUP(C1059,Main!$K$3:$L$21,2,FALSE))*PI()/180),IF(Checklist!$I$385=\"No\",TAN((LEFT(I1059, 5)+VLOOKUP(C1059,Main!$K$3:$L$21,2,FALSE))*PI()/180),\"NR\"))","v":0.62147698588389433},{"$f":"VLOOKUP(C1059,Main!$A$49:$I$67,Main!$B$47,FALSE)","v":0.6},{"$f":"VLOOKUP(C1059,Main!$A$49:$I$67,Main!$C$47,FALSE)","v":0.25},{"$f":"VLOOKUP(C1059,Main!$A$49:$I$67,Main!$E$47,FALSE)&\":\"&\" \"&VLOOKUP(C1059,Main!$A$49:$I$67,Main!$F$47,FALSE)","v":"Minimum HSPF:: 9.6"},{"$f":"VLOOKUP(C1059,Main!$A$49:$I$67,Main!$G$47,FALSE)","v":18},{"$f":"VLOOKUP(C1059,Main!$A$49:$I$67,Main!$H$47,FALSE)","v":3.1},{"$f":"VLOOKUP(C1059,Main!$A$49:$I$67,Main!$I$47,FALSE)","v":16.100000000000001},5998]
["AZ","SHOW LOW MUNI AP","3B",5146,1978,-6.25,72.7,0.1145,"34.264N",13.9,33,38,45,50,57,69,72,69,64,54,44,34,525,345,191,79,21,0,0,0,1,43,215,504,0,2,21,84,249,576,671,598,422,152,24,1,-0.6,3.02,13.1,25.34,35.6,48.02,55.22,53.96,47.1,35.78,26.1,10.6,0.77142857142857146,0.18184543138332415,66,35,18,23,{"$f":"IF(OR(C1060=\"OA\",C1060=\"OB\",C1060=\"1B\",C1060=\"1A\",C1060=\"2A\",C1060=\"2B\",C1060=\"3A\",C1060=\"3B\",C1060=\"3C\"),TAN((LEFT(I1060, 5)+VLOOKUP(C1060,Main!$K$3:$L$21,2,FALSE))*PI()/180),IF(Checklist!$I$385=\"No\",TAN((LEFT(I1060, 5)+VLOOKUP(C1060,Main!$K$3:$L$21,2,FALSE))*PI()/180),\"NR\"))","v":0.68113124022098814},{"$f":"VLOOKUP(C1060,Main!$A$49:$I$67,Main!$B$47,FALSE)","v":"NR"},{"$f":"VLOOKUP(C1060,Main!$A$49:$I$67,Main!$C$47,FALSE)","v":0.25},{"$f":"VLOOKUP(C1060,Main!$A$49:$I$67,Main!$E$47,FALSE)&\":\"&\" \"&VLOOKUP(C1060,Main!$A$49:$I$67,Main!$F$47,FALSE)","v":"Minimum HSPF:: 9.6"},{"$f":"VLOOKUP(C1060,Main!$A$49:$I$67,Main!$G$47,FALSE)","v":18},{"$f":"VLOOKUP(C1060,Main!$A$49:$I$67,Main!$H$47,FALSE)","v":3.1},{"$f":"VLOOKUP(C1060,Main!$A$49:$I$67,Main!$I$47,FALSE)","v":16.100000000000001},2800]
["BC","MERRITT","6A",7327,1392,34.4,80.099999999999994,0.1183,"50.1125N",4.5999999999999996,25,27,35,43,52,59,65,66,59,48,38,29,777,659,472,232,51,4,0,1,7,127,373,657,0,0,1,12,106,261,473,485,272,54,7,0,30.6,37.04,45.1,50.54,53.1,64.22,68.900000000000006,67.28,59.5,50.9,42.1,27.5,0.81395348837209303,0.15517094381447694,73,42,22,27,{"$f":"IF(OR(C1061=\"OA\",C1061=\"OB\",C1061=\"1B\",C1061=\"1A\",C1061=\"2A\",C1061=\"2B\",C1061=\"3A\",C1061=\"3B\",C1061=\"3C\"),TAN((LEFT(I1061, 5)+VLOOKUP(C1061,Main!$K$3:$L$21,2,FALSE))*PI()/180),IF(Checklist!$I$385=\"No\",TAN((LEFT(I1061, 5)+VLOOKUP(C1061,Main!$K$3:$L$21,2,FALSE))*PI()/180),\"NR\"))","v":"NR"},{"$f":"VLOOKUP(C1061,Main!$A$49:$I$67,Main!$B$47,FALSE)","v":"NR"},{"$f":"VLOOKUP(C1061,Main!$A$49:$I$67,Main!$C$47,FALSE)","v":"NR"},{"$f":"VLOOKUP(C1061,Main!$A$49:$I$67,Main!$E$47,FALSE)&\":\"&\" \"&VLOOKUP(C1061,Main!$A$49:$I$67,Main!$F$47,FALSE)","v":"Minimum COP @ 5°F:: 1.75"},{"$f":"VLOOKUP(C1061,Main!$A$49:$I$67,Main!$G$47,FALSE)","v":15},{"$f":"VLOOKUP(C1061,Main!$A$49:$I$67,Main!$H$47,FALSE)","v":3.1},{"$f":"VLOOKUP(C1061,Main!$A$49:$I$67,Main!$I$47,FALSE)","v":16.100000000000001},1671]
["CA","CHINA LAKE NAF","3B",2431,1740,37.75,81,0.15659999999999999,"35.688N",26.5,46,50,58,64,72,82,88,86,79,66,54,44,152,75,13,2,0,0,0,0,0,1,35,196,24,69,249,424,669,961,"###","###",857,483,147,16,39,44.96,46,48.74,64,68.540000000000006,70.88,70.34,67.5,64.040000000000006,43.7,35.4,0.66666666666666663,0.23705633344187557,59,28,13,18,{"$f":"IF(OR(C1062=\"OA\",C1062=\"OB\",C1062=\"1B\",C1062=\"1A\",C1062=\"2A\",C1062=\"2B\",C1062=\"3A\",C1062=\"3B\",C1062=\"3C\"),TAN((LEFT(I1062, 5)+VLOOKUP(C1062,Main!$K$3:$L$21,2,FALSE))*PI()/180),IF(Checklist!$I$385=\"No\",TAN((LEFT(I1062, 5)+VLOOKUP(C1062,Main!$K$3:$L$21,2,FALSE))*PI()/180),\"NR\"))","v":0.71804372331426092},{"$f":"VLOOKUP(C1062,Main!$A$49:$I$67,Main!$B$47,FALSE)","v":"NR"},{"$f":"VLOOKUP(C1062,Main!$A$49:$I$67,Main!$C$47,FALSE)","v":0.25},{"$f":"VLOOKUP(C1062,Main!$A$49:$I$67,Main!$E$47,FALSE)&\":\"&\" \"&VLOOKUP(C1062,Main!$A$49:$I$67,Main!$F$47,FALSE)","v":"Minimum HSPF:: 9.6"},{"$f":"VLOOKUP(C1062,Main!$A$49:$I$67,Main!$G$47,FALSE)","v":18},{"$f":"VLOOKUP(C1062,Main!$A$49:$I$67,Main!$H$47,FALSE)","v":3.1},{"$f":"VLOOKUP(C1062,Main!$A$49:$I$67,Main!$I$47,FALSE)","v":16.100000000000001},6210]
["CA","SANTA ANA-JOHN WAYNE AP","3B",1106,1843,11.85,57.6,0.15659999999999999,"33.680N",44.9,58,58,60,62,65,68,72,73,72,69,63,57,2,1,0,0,0,0,0,0,0,0,0,2,249,222,310,361,462,539,688,715,672,572,386,231,22.1,24.98,22.1,32.54,34.299999999999997,46.58,51.8,50.18,42.1,36.86,29.3,25.9,"NR",0.42588042588042579,52,24,8,13,{"$f":"IF(OR(C1063=\"OA\",C1063=\"OB\",C1063=\"1B\",C1063=\"1A\",C1063=\"2A\",C1063=\"2B\",C1063=\"3A\",C1063=\"3B\",C1063=\"3C\"),TAN((LEFT(I1063, 5)+VLOOKUP(C1063,Main!$K$3:$L$21,2,FALSE))*PI()/180),IF(Checklist!$I$385=\"No\",TAN((LEFT(I1063, 5)+VLOOKUP(C1063,Main!$K$3:$L$21,2,FALSE))*PI()/180),\"NR\"))","v":0.66641289092643863},{"$f":"VLOOKUP(C1063,Main!$A$49:$I$67,Main!$B$47,FALSE)","v":"NR"},{"$f":"VLOOKUP(C1063,Main!$A$49:$I$67,Main!$C$47,FALSE)","v":0.25},{"$f":"VLOOKUP(C1063,Main!$A$49:$I$67,Main!$E$47,FALSE)&\":\"&\" \"&VLOOKUP(C1063,Main!$A$49:$I$67,Main!$F$47,FALSE)","v":"Minimum HSPF:: 9.6"},{"$f":"VLOOKUP(C1063,Main!$A$49:$I$67,Main!$G$47,FALSE)","v":18},{"$f":"VLOOKUP(C1063,Main!$A$49:$I$67,Main!$H$47,FALSE)","v":3.1},{"$f":"VLOOKUP(C1063,Main!$A$49:$I$67,Main!$I$47,FALSE)","v":16.100000000000001},5407]
["CA","SOUTH LAKE TAHOE-LAKE TAHOE AP","6B",7490,1863,-39.1,61.7,0.15659999999999999,"38.898N",9.1,31,31,36,40,48,56,63,61,55,46,37,31,605,527,440,292,116,17,0,0,25,155,384,588,0,0,0,2,48,196,395,335,168,22,1,0,-14.6,4.46,5.4,16.52,27,33.979999999999997,43.34,37.58,27.7,26.6,2.7,3.6,0.78378378378378377,0.16702610930115175,75,45,28,33,{"$f":"IF(OR(C1064=\"OA\",C1064=\"OB\",C1064=\"1B\",C1064=\"1A\",C1064=\"2A\",C1064=\"2B\",C1064=\"3A\",C1064=\"3B\",C1064=\"3C\"),TAN((LEFT(I1064, 5)+VLOOKUP(C1064,Main!$K$3:$L$21,2,FALSE))*PI()/180),IF(Checklist!$I$385=\"No\",TAN((LEFT(I1064, 5)+VLOOKUP(C1064,Main!$K$3:$L$21,2,FALSE))*PI()/180),\"NR\"))","v":"NR"},{"$f":"VLOOKUP(C1064,Main!$A$49:$I$67,Main!$B$47,FALSE)","v":"NR"},{"$f":"VLOOKUP(C1064,Main!$A$49:$I$67,Main!$C$47,FALSE)","v":"NR"},{"$f":"VLOOKUP(C1064,Main!$A$49:$I$67,Main!$E$47,FALSE)&\":\"&\" \"&VLOOKUP(C1064,Main!$A$49:$I$67,Main!$F$47,FALSE)","v":"Minimum COP @ 5°F:: 1.75"},{"$f":"VLOOKUP(C1064,Main!$A$49:$I$67,Main!$G$47,FALSE)","v":15},{"$f":"VLOOKUP(C1064,Main!$A$49:$I$67,Main!$H$47,FALSE)","v":3.1},{"$f":"VLOOKUP(C1064,Main!$A$49:$I$67,Main!$I$47,FALSE)","v":16.100000000000001},1167]
["CA","TWENTYNINE PALMS","3B",1739,2134,-43.6,65.8,0.15659999999999999,"34.300N",34.200000000000003,51,54,61,67,75,85,90,89,82,70,58,50,67,32,4,1,0,0,0,0,0,0,14,80,85,141,337,497,774,"###","###","###",965,609,259,67,-16.600000000000001,5.18,9.3000000000000007,24.26,28.9,39.020000000000003,43.7,41.72,28,26.24,5.2,-24.2,0.6,0.29106029106029108,56,26,9,14,{"$f":"IF(OR(C1065=\"OA\",C1065=\"OB\",C1065=\"1B\",C1065=\"1A\",C1065=\"2A\",C1065=\"2B\",C1065=\"3A\",C1065=\"3B\",C1065=\"3C\"),TAN((LEFT(I1065, 5)+VLOOKUP(C1065,Main!$K$3:$L$21,2,FALSE))*PI()/180),IF(Checklist!$I$385=\"No\",TAN((LEFT(I1065, 5)+VLOOKUP(C1065,Main!$K$3:$L$21,2,FALSE))*PI()/180),\"NR\"))","v":0.68215374936893913},{"$f":"VLOOKUP(C1065,Main!$A$49:$I$67,Main!$B$47,FALSE)","v":"NR"},{"$f":"VLOOKUP(C1065,Main!$A$49:$I$67,Main!$C$47,FALSE)","v":0.25},{"$f":"VLOOKUP(C1065,Main!$A$49:$I$67,Main!$E$47,FALSE)&\":\"&\" \"&VLOOKUP(C1065,Main!$A$49:$I$67,Main!$F$47,FALSE)","v":"Minimum HSPF:: 9.6"},{"$f":"VLOOKUP(C1065,Main!$A$49:$I$67,Main!$G$47,FALSE)","v":18},{"$f":"VLOOKUP(C1065,Main!$A$49:$I$67,Main!$H$47,FALSE)","v":3.1},{"$f":"VLOOKUP(C1065,Main!$A$49:$I$67,Main!$I$47,FALSE)","v":16.100000000000001},7240]
["HI","LANAI AP","1A",4,1898,25.2,74.5,0.28339999999999999,"20.790N",59.8,68,69,69,71,71,73,75,75,75,74,72,70,0,0,0,0,0,0,0,0,0,0,0,0,571,518,582,615,661,690,758,773,742,736,651,615,18.3,21.2,18.899999999999999,23.9,31.8,32.54,39.200000000000003,50.36,41.2,32.54,22.1,19.8,"NR",0.5,44,20,7,12,{"$f":"IF(OR(C1066=\"OA\",C1066=\"OB\",C1066=\"1B\",C1066=\"1A\",C1066=\"2A\",C1066=\"2B\",C1066=\"3A\",C1066=\"3B\",C1066=\"3C\"),TAN((LEFT(I1066, 5)+VLOOKUP(C1066,Main!$K$3:$L$21,2,FALSE))*PI()/180),IF(Checklist!$I$385=\"No\",TAN((LEFT(I1066, 5)+VLOOKUP(C1066,Main!$K$3:$L$21,2,FALSE))*PI()/180),\"NR\"))","v":0.37966466123678516},{"$f":"VLOOKUP(C1066,Main!$A$49:$I$67,Main!$B$47,FALSE)","v":0.6},{"$f":"VLOOKUP(C1066,Main!$A$49:$I$67,Main!$C$47,FALSE)","v":0.25},{"$f":"VLOOKUP(C1066,Main!$A$49:$I$67,Main!$E$47,FALSE)&\":\"&\" \"&VLOOKUP(C1066,Main!$A$49:$I$67,Main!$F$47,FALSE)","v":"Minimum HSPF:: 9.6"},{"$f":"VLOOKUP(C1066,Main!$A$49:$I$67,Main!$G$47,FALSE)","v":18},{"$f":"VLOOKUP(C1066,Main!$A$49:$I$67,Main!$H$47,FALSE)","v":3.1},{"$f":"VLOOKUP(C1066,Main!$A$49:$I$67,Main!$I$47,FALSE)","v":16.100000000000001},7912]
["KS","OLATHE-JOHNSON COUNTY INDUSTRIAL AP","4A",4873,1562,40.5,93,0.1145,"38.832N",9.1,31,34,45,55,65,75,79,78,70,57,45,34,607,454,235,50,3,0,0,0,0,40,214,515,4,12,75,212,476,735,901,856,587,252,58,7,18.100000000000001,25.7,28,25.34,34.200000000000003,30.2,36.5,40.28,29.5,24.44,25.5,23,0.78378378378378377,0.16702610930115175,66,34,17,22,{"$f":"IF(OR(C1067=\"OA\",C1067=\"OB\",C1067=\"1B\",C1067=\"1A\",C1067=\"2A\",C1067=\"2B\",C1067=\"3A\",C1067=\"3B\",C1067=\"3C\"),TAN((LEFT(I1067, 5)+VLOOKUP(C1067,Main!$K$3:$L$21,2,FALSE))*PI()/180),IF(Checklist!$I$385=\"No\",TAN((LEFT(I1067, 5)+VLOOKUP(C1067,Main!$K$3:$L$21,2,FALSE))*PI()/180),\"NR\"))","v":"NR"},{"$f":"VLOOKUP(C1067,Main!$A$49:$I$67,Main!$B$47,FALSE)","v":0.5},{"$f":"VLOOKUP(C1067,Main!$A$49:$I$67,Main!$C$47,FALSE)","v":0.25},{"$f":"VLOOKUP(C1067,Main!$A$49:$I$67,Main!$E$47,FALSE)&\":\"&\" \"&VLOOKUP(C1067,Main!$A$49:$I$67,Main!$F$47,FALSE)","v":"Minimum HSPF:: 9.6"},{"$f":"VLOOKUP(C1067,Main!$A$49:$I$67,Main!$G$47,FALSE)","v":18},{"$f":"VLOOKUP(C1067,Main!$A$49:$I$67,Main!$H$47,FALSE)","v":3.1},{"$f":"VLOOKUP(C1067,Main!$A$49:$I$67,Main!$I$47,FALSE)","v":16.100000000000001},4175]
["MN","FERGUS FALLS AWOS","6A",8575,1256,53.55,73,0.1132,"46.283N",-15.1,11,13,29,44,57,67,72,69,61,47,31,15,"###","###",669,243,40,0,0,0,8,182,584,"###",0,0,8,52,260,518,677,587,344,73,5,0,46.4,49.28,51.6,50,56.5,56.66,60.62,62.06,60.8,57.38,50.7,43.2,0.85964912280701755,0.11838553354798842,78,45,25,30,{"$f":"IF(OR(C1068=\"OA\",C1068=\"OB\",C1068=\"1B\",C1068=\"1A\",C1068=\"2A\",C1068=\"2B\",C1068=\"3A\",C1068=\"3B\",C1068=\"3C\"),TAN((LEFT(I1068, 5)+VLOOKUP(C1068,Main!$K$3:$L$21,2,FALSE))*PI()/180),IF(Checklist!$I$385=\"No\",TAN((LEFT(I1068, 5)+VLOOKUP(C1068,Main!$K$3:$L$21,2,FALSE))*PI()/180),\"NR\"))","v":"NR"},{"$f":"VLOOKUP(C1068,Main!$A$49:$I$67,Main!$B$47,FALSE)","v":"NR"},{"$f":"VLOOKUP(C1068,Main!$A$49:$I$67,Main!$C$47,FALSE)","v":"NR"},{"$f":"VLOOKUP(C1068,Main!$A$49:$I$67,Main!$E$47,FALSE)&\":\"&\" \"&VLOOKUP(C1068,Main!$A$49:$I$67,Main!$F$47,FALSE)","v":"Minimum COP @ 5°F:: 1.75"},{"$f":"VLOOKUP(C1068,Main!$A$49:$I$67,Main!$G$47,FALSE)","v":15},{"$f":"VLOOKUP(C1068,Main!$A$49:$I$67,Main!$H$47,FALSE)","v":3.1},{"$f":"VLOOKUP(C1068,Main!$A$49:$I$67,Main!$I$47,FALSE)","v":16.100000000000001},2524]
["MN","MARSHALL MUNI-RYAN FIELD AWOS","6A",7804,1363,26.95,65.3,0.1132,"44.450N",-8.3000000000000007,15,19,32,45,58,68,72,69,62,49,34,20,"###",859,585,213,33,0,0,0,9,145,498,936,0,0,13,63,275,543,689,600,377,102,12,0,22.3,18.14,25.3,25.7,30,30.74,36.86,36.86,31.6,25.7,20.7,20.3,0.84905660377358494,0.12893627572526656,75,43,24,29,{"$f":"IF(OR(C1069=\"OA\",C1069=\"OB\",C1069=\"1B\",C1069=\"1A\",C1069=\"2A\",C1069=\"2B\",C1069=\"3A\",C1069=\"3B\",C1069=\"3C\"),TAN((LEFT(I1069, 5)+VLOOKUP(C1069,Main!$K$3:$L$21,2,FALSE))*PI()/180),IF(Checklist!$I$385=\"No\",TAN((LEFT(I1069, 5)+VLOOKUP(C1069,Main!$K$3:$L$21,2,FALSE))*PI()/180),\"NR\"))","v":"NR"},{"$f":"VLOOKUP(C1069,Main!$A$49:$I$67,Main!$B$47,FALSE)","v":"NR"},{"$f":"VLOOKUP(C1069,Main!$A$49:$I$67,Main!$C$47,FALSE)","v":"NR"},{"$f":"VLOOKUP(C1069,Main!$A$49:$I$67,Main!$E$47,FALSE)&\":\"&\" \"&VLOOKUP(C1069,Main!$A$49:$I$67,Main!$F$47,FALSE)","v":"Minimum COP @ 5°F:: 1.75"},{"$f":"VLOOKUP(C1069,Main!$A$49:$I$67,Main!$G$47,FALSE)","v":15},{"$f":"VLOOKUP(C1069,Main!$A$49:$I$67,Main!$H$47,FALSE)","v":3.1},{"$f":"VLOOKUP(C1069,Main!$A$49:$I$67,Main!$I$47,FALSE)","v":16.100000000000001},2674]
["MN","TWO HARBORS MUNI AP",7,9313,1299,44.15,92.7,0.1132,"47.049N",-10.9,12,15,27,39,50,60,66,64,56,44,30,18,"###",976,730,355,96,8,0,0,33,231,601,"###",0,0,2,11,99,291,491,425,206,32,2,0,29.5,23.18,32.200000000000003,35.6,38.1,48.02,49.64,48.02,48.2,34.340000000000003,30,20.5,0.8571428571428571,0.12468742506765319,79,47,25,30,{"$f":"IF(OR(C1070=\"OA\",C1070=\"OB\",C1070=\"1B\",C1070=\"1A\",C1070=\"2A\",C1070=\"2B\",C1070=\"3A\",C1070=\"3B\",C1070=\"3C\"),TAN((LEFT(I1070, 5)+VLOOKUP(C1070,Main!$K$3:$L$21,2,FALSE))*PI()/180),IF(Checklist!$I$385=\"No\",TAN((LEFT(I1070, 5)+VLOOKUP(C1070,Main!$K$3:$L$21,2,FALSE))*PI()/180),\"NR\"))","v":"NR"},{"$f":"VLOOKUP(C1070,Main!$A$49:$I$67,Main!$B$47,FALSE)","v":"NR"},{"$f":"VLOOKUP(C1070,Main!$A$49:$I$67,Main!$C$47,FALSE)","v":"NR"},{"$f":"VLOOKUP(C1070,Main!$A$49:$I$67,Main!$E$47,FALSE)&\":\"&\" \"&VLOOKUP(C1070,Main!$A$49:$I$67,Main!$F$47,FALSE)","v":"Minimum COP @ 5°F:: 1.75"},{"$f":"VLOOKUP(C1070,Main!$A$49:$I$67,Main!$G$47,FALSE)","v":15},{"$f":"VLOOKUP(C1070,Main!$A$49:$I$67,Main!$H$47,FALSE)","v":3.1},{"$f":"VLOOKUP(C1070,Main!$A$49:$I$67,Main!$I$47,FALSE)","v":16.100000000000001},1559]
["MS","GREENVILLE MUNI AP","3A",2566,1665,66.2,73.400000000000006,0.1065,"33.483N",26.6,44,47,56,65,73,80,82,82,77,65,54,47,243,164,49,4,0,0,0,0,0,2,59,177,65,80,243,440,701,897,986,986,796,478,188,87,61.7,62.78,61.2,62.96,62.4,65.3,65.12,66.56,67.8,65.3,63.3,59.5,0.66666666666666663,0.23762893328110718,57,27,11,16,{"$f":"IF(OR(C1071=\"OA\",C1071=\"OB\",C1071=\"1B\",C1071=\"1A\",C1071=\"2A\",C1071=\"2B\",C1071=\"3A\",C1071=\"3B\",C1071=\"3C\"),TAN((LEFT(I1071, 5)+VLOOKUP(C1071,Main!$K$3:$L$21,2,FALSE))*PI()/180),IF(Checklist!$I$385=\"No\",TAN((LEFT(I1071, 5)+VLOOKUP(C1071,Main!$K$3:$L$21,2,FALSE))*PI()/180),\"NR\"))","v":0.66138368814877235},{"$f":"VLOOKUP(C1071,Main!$A$49:$I$67,Main!$B$47,FALSE)","v":0.6},{"$f":"VLOOKUP(C1071,Main!$A$49:$I$67,Main!$C$47,FALSE)","v":0.25},{"$f":"VLOOKUP(C1071,Main!$A$49:$I$67,Main!$E$47,FALSE)&\":\"&\" \"&VLOOKUP(C1071,Main!$A$49:$I$67,Main!$F$47,FALSE)","v":"Minimum HSPF:: 9.6"},{"$f":"VLOOKUP(C1071,Main!$A$49:$I$67,Main!$G$47,FALSE)","v":18},{"$f":"VLOOKUP(C1071,Main!$A$49:$I$67,Main!$H$47,FALSE)","v":3.1},{"$f":"VLOOKUP(C1071,Main!$A$49:$I$67,Main!$I$47,FALSE)","v":16.100000000000001},5947]
["NE","CHADRON MUNI AP","5B",6861,1608,20.6,82.2,0.10009999999999999,"42.837N",-1.8,26,26,38,46,55,67,76,73,63,48,36,25,751,668,394,173,49,0,0,0,8,143,420,785,0,1,21,67,216,520,801,714,402,93,8,0,21.6,24.62,36.700000000000003,47.12,57,65.3,67.64,64.040000000000006,60.3,44.6,34.5,19.2,0.81395348837209303,0.14094323549910942,71,39,21,26,{"$f":"IF(OR(C1072=\"OA\",C1072=\"OB\",C1072=\"1B\",C1072=\"1A\",C1072=\"2A\",C1072=\"2B\",C1072=\"3A\",C1072=\"3B\",C1072=\"3C\"),TAN((LEFT(I1072, 5)+VLOOKUP(C1072,Main!$K$3:$L$21,2,FALSE))*PI()/180),IF(Checklist!$I$385=\"No\",TAN((LEFT(I1072, 5)+VLOOKUP(C1072,Main!$K$3:$L$21,2,FALSE))*PI()/180),\"NR\"))","v":"NR"},{"$f":"VLOOKUP(C1072,Main!$A$49:$I$67,Main!$B$47,FALSE)","v":"NR"},{"$f":"VLOOKUP(C1072,Main!$A$49:$I$67,Main!$C$47,FALSE)","v":"NR"},{"$f":"VLOOKUP(C1072,Main!$A$49:$I$67,Main!$E$47,FALSE)&\":\"&\" \"&VLOOKUP(C1072,Main!$A$49:$I$67,Main!$F$47,FALSE)","v":"Minimum COP @ 5°F:: 1.75"},{"$f":"VLOOKUP(C1072,Main!$A$49:$I$67,Main!$G$47,FALSE)","v":15},{"$f":"VLOOKUP(C1072,Main!$A$49:$I$67,Main!$H$47,FALSE)","v":3.1},{"$f":"VLOOKUP(C1072,Main!$A$49:$I$67,Main!$I$47,FALSE)","v":16.100000000000001},2843]
["NE","ONEILL-BAKER FIELD","5A",6663,1434,2.25,80.099999999999994,0.10009999999999999,"42.470N",-0.7,24,27,37,48,58,69,75,72,64,50,37,26,809,651,430,153,23,1,0,0,5,118,396,751,0,2,28,88,283,565,777,687,430,121,18,0,10.8,14.18,23.4,34.880000000000003,42.8,53.96,61.52,59.54,52.2,41.54,26.1,18,0.81818181818181823,0.14319996852747943,70,39,20,25,{"$f":"IF(OR(C1073=\"OA\",C1073=\"OB\",C1073=\"1B\",C1073=\"1A\",C1073=\"2A\",C1073=\"2B\",C1073=\"3A\",C1073=\"3B\",C1073=\"3C\"),TAN((LEFT(I1073, 5)+VLOOKUP(C1073,Main!$K$3:$L$21,2,FALSE))*PI()/180),IF(Checklist!$I$385=\"No\",TAN((LEFT(I1073, 5)+VLOOKUP(C1073,Main!$K$3:$L$21,2,FALSE))*PI()/180),\"NR\"))","v":"NR"},{"$f":"VLOOKUP(C1073,Main!$A$49:$I$67,Main!$B$47,FALSE)","v":"NR"},{"$f":"VLOOKUP(C1073,Main!$A$49:$I$67,Main!$C$47,FALSE)","v":"NR"},{"$f":"VLOOKUP(C1073,Main!$A$49:$I$67,Main!$E$47,FALSE)&\":\"&\" \"&VLOOKUP(C1073,Main!$A$49:$I$67,Main!$F$47,FALSE)","v":"Minimum COP @ 5°F:: 1.75"},{"$f":"VLOOKUP(C1073,Main!$A$49:$I$67,Main!$G$47,FALSE)","v":15},{"$f":"VLOOKUP(C1073,Main!$A$49:$I$67,Main!$H$47,FALSE)","v":3.1},{"$f":"VLOOKUP(C1073,Main!$A$49:$I$67,Main!$I$47,FALSE)","v":16.100000000000001},2999]
["NE","IMPERIAL MUNI AP","5B",5904,1629,0.95,77.7,0.10009999999999999,"40.510N",4.8,30,30,41,50,59,71,77,74,66,52,39,29,635,550,297,117,24,0,0,0,4,90,341,646,1,2,31,101,315,641,849,757,485,141,15,0,10.6,20.3,14.7,35.42,41.5,51.62,59.72,63.86,50,35.78,26.1,11.3,0.79487179487179482,0.15566199110502907,68,36,19,24,{"$f":"IF(OR(C1074=\"OA\",C1074=\"OB\",C1074=\"1B\",C1074=\"1A\",C1074=\"2A\",C1074=\"2B\",C1074=\"3A\",C1074=\"3B\",C1074=\"3C\"),TAN((LEFT(I1074, 5)+VLOOKUP(C1074,Main!$K$3:$L$21,2,FALSE))*PI()/180),IF(Checklist!$I$385=\"No\",TAN((LEFT(I1074, 5)+VLOOKUP(C1074,Main!$K$3:$L$21,2,FALSE))*PI()/180),\"NR\"))","v":"NR"},{"$f":"VLOOKUP(C1074,Main!$A$49:$I$67,Main!$B$47,FALSE)","v":"NR"},{"$f":"VLOOKUP(C1074,Main!$A$49:$I$67,Main!$C$47,FALSE)","v":"NR"},{"$f":"VLOOKUP(C1074,Main!$A$49:$I$67,Main!$E$47,FALSE)&\":\"&\" \"&VLOOKUP(C1074,Main!$A$49:$I$67,Main!$F$47,FALSE)","v":"Minimum COP @ 5°F:: 1.75"},{"$f":"VLOOKUP(C1074,Main!$A$49:$I$67,Main!$G$47,FALSE)","v":15},{"$f":"VLOOKUP(C1074,Main!$A$49:$I$67,Main!$H$47,FALSE)","v":3.1},{"$f":"VLOOKUP(C1074,Main!$A$49:$I$67,Main!$I$47,FALSE)","v":16.100000000000001},3338]
["NE","ORD-SHARP FIELD","5A",6542,1535,5.55,80.2,0.10009999999999999,"41.623N",0.6,25,26,39,49,59,70,75,73,64,50,37,26,772,672,380,131,22,0,0,0,4,116,399,751,0,1,26,99,301,604,788,697,435,112,11,0,7.2,-0.94,25.7,29.48,43.2,54.68,57.74,56.3,49.3,29.66,26.6,14.7,0.81395348837209303,0.14596198572459698,70,38,20,25,{"$f":"IF(OR(C1075=\"OA\",C1075=\"OB\",C1075=\"1B\",C1075=\"1A\",C1075=\"2A\",C1075=\"2B\",C1075=\"3A\",C1075=\"3B\",C1075=\"3C\"),TAN((LEFT(I1075, 5)+VLOOKUP(C1075,Main!$K$3:$L$21,2,FALSE))*PI()/180),IF(Checklist!$I$385=\"No\",TAN((LEFT(I1075, 5)+VLOOKUP(C1075,Main!$K$3:$L$21,2,FALSE))*PI()/180),\"NR\"))","v":"NR"},{"$f":"VLOOKUP(C1075,Main!$A$49:$I$67,Main!$B$47,FALSE)","v":"NR"},{"$f":"VLOOKUP(C1075,Main!$A$49:$I$67,Main!$C$47,FALSE)","v":"NR"},{"$f":"VLOOKUP(C1075,Main!$A$49:$I$67,Main!$E$47,FALSE)&\":\"&\" \"&VLOOKUP(C1075,Main!$A$49:$I$67,Main!$F$47,FALSE)","v":"Minimum COP @ 5°F:: 1.75"},{"$f":"VLOOKUP(C1075,Main!$A$49:$I$67,Main!$G$47,FALSE)","v":15},{"$f":"VLOOKUP(C1075,Main!$A$49:$I$67,Main!$H$47,FALSE)","v":3.1},{"$f":"VLOOKUP(C1075,Main!$A$49:$I$67,Main!$I$47,FALSE)","v":16.100000000000001},3074]
["NM","LAS CRUCES INTL AP","3B",2692,2073,34.1,85.5,0.1128,"32.283N",26.8,44,48,56,63,70,81,82,80,74,64,52,44,194,105,27,2,0,0,0,0,0,4,58,210,15,57,200,378,630,923,980,919,718,431,118,20,38.700000000000003,43.52,45,52.88,59.9,68.72,70.7,71.239999999999995,61.2,50.9,41.4,41.9,0.66666666666666663,0.23878247179218048,58,28,13,18,{"$f":"IF(OR(C1076=\"OA\",C1076=\"OB\",C1076=\"1B\",C1076=\"1A\",C1076=\"2A\",C1076=\"2B\",C1076=\"3A\",C1076=\"3B\",C1076=\"3C\"),TAN((LEFT(I1076, 5)+VLOOKUP(C1076,Main!$K$3:$L$21,2,FALSE))*PI()/180),IF(Checklist!$I$385=\"No\",TAN((LEFT(I1076, 5)+VLOOKUP(C1076,Main!$K$3:$L$21,2,FALSE))*PI()/180),\"NR\"))","v":0.63168529771352611},{"$f":"VLOOKUP(C1076,Main!$A$49:$I$67,Main!$B$47,FALSE)","v":"NR"},{"$f":"VLOOKUP(C1076,Main!$A$49:$I$67,Main!$C$47,FALSE)","v":0.25},{"$f":"VLOOKUP(C1076,Main!$A$49:$I$67,Main!$E$47,FALSE)&\":\"&\" \"&VLOOKUP(C1076,Main!$A$49:$I$67,Main!$F$47,FALSE)","v":"Minimum HSPF:: 9.6"},{"$f":"VLOOKUP(C1076,Main!$A$49:$I$67,Main!$G$47,FALSE)","v":18},{"$f":"VLOOKUP(C1076,Main!$A$49:$I$67,Main!$H$47,FALSE)","v":3.1},{"$f":"VLOOKUP(C1076,Main!$A$49:$I$67,Main!$I$47,FALSE)","v":16.100000000000001},5389]
["NM","TUCUMCARI AP","4B",3724,1878,0.05,81.099999999999994,0.1128,"35.182N",16.8,39,42,51,59,67,78,81,79,72,60,48,39,358,250,107,23,4,0,0,0,0,22,148,358,14,33,130,288,539,844,961,898,659,321,86,16,18.899999999999999,12.02,22.6,31.46,43.2,46.94,57.02,53.78,42.4,30.56,24.6,15.8,0.72413793103448276,0.19214527027027026,62,31,15,20,{"$f":"IF(OR(C1077=\"OA\",C1077=\"OB\",C1077=\"1B\",C1077=\"1A\",C1077=\"2A\",C1077=\"2B\",C1077=\"3A\",C1077=\"3B\",C1077=\"3C\"),TAN((LEFT(I1077, 5)+VLOOKUP(C1077,Main!$K$3:$L$21,2,FALSE))*PI()/180),IF(Checklist!$I$385=\"No\",TAN((LEFT(I1077, 5)+VLOOKUP(C1077,Main!$K$3:$L$21,2,FALSE))*PI()/180),\"NR\"))","v":"NR"},{"$f":"VLOOKUP(C1077,Main!$A$49:$I$67,Main!$B$47,FALSE)","v":"NR"},{"$f":"VLOOKUP(C1077,Main!$A$49:$I$67,Main!$C$47,FALSE)","v":0.25},{"$f":"VLOOKUP(C1077,Main!$A$49:$I$67,Main!$E$47,FALSE)&\":\"&\" \"&VLOOKUP(C1077,Main!$A$49:$I$67,Main!$F$47,FALSE)","v":"Minimum HSPF:: 9.6"},{"$f":"VLOOKUP(C1077,Main!$A$49:$I$67,Main!$G$47,FALSE)","v":18},{"$f":"VLOOKUP(C1077,Main!$A$49:$I$67,Main!$H$47,FALSE)","v":3.1},{"$f":"VLOOKUP(C1077,Main!$A$49:$I$67,Main!$I$47,FALSE)","v":16.100000000000001},4789]
["OK","BARTLESVILLE-PHILLIPS FIELD","4A",4021,1535,22.2,82.9,9.2999999999999999E-2,"36.767N",14.6,36,39,50,59,68,76,81,80,72,60,48,38,461,334,135,23,1,0,0,0,0,21,151,398,10,29,123,296,545,790,950,921,650,318,88,13,19.399999999999999,21.2,20.7,33.979999999999997,39.9,55.22,59.9,57.2,47.1,37.4,24.6,20.100000000000001,0.75,0.18422917299321792,61,31,15,20,{"$f":"IF(OR(C1078=\"OA\",C1078=\"OB\",C1078=\"1B\",C1078=\"1A\",C1078=\"2A\",C1078=\"2B\",C1078=\"3A\",C1078=\"3B\",C1078=\"3C\"),TAN((LEFT(I1078, 5)+VLOOKUP(C1078,Main!$K$3:$L$21,2,FALSE))*PI()/180),IF(Checklist!$I$385=\"No\",TAN((LEFT(I1078, 5)+VLOOKUP(C1078,Main!$K$3:$L$21,2,FALSE))*PI()/180),\"NR\"))","v":"NR"},{"$f":"VLOOKUP(C1078,Main!$A$49:$I$67,Main!$B$47,FALSE)","v":0.5},{"$f":"VLOOKUP(C1078,Main!$A$49:$I$67,Main!$C$47,FALSE)","v":0.25},{"$f":"VLOOKUP(C1078,Main!$A$49:$I$67,Main!$E$47,FALSE)&\":\"&\" \"&VLOOKUP(C1078,Main!$A$49:$I$67,Main!$F$47,FALSE)","v":"Minimum HSPF:: 9.6"},{"$f":"VLOOKUP(C1078,Main!$A$49:$I$67,Main!$G$47,FALSE)","v":18},{"$f":"VLOOKUP(C1078,Main!$A$49:$I$67,Main!$H$47,FALSE)","v":3.1},{"$f":"VLOOKUP(C1078,Main!$A$49:$I$67,Main!$I$47,FALSE)","v":16.100000000000001},4733]
["ON","BARRIE","6A",7935,1352,4.0999999999999996,81.7,0.1862,"44.380N",-2.2000000000000002,19,21,29,41,53,63,67,66,59,47,37,25,965,807,656,290,65,4,0,0,13,151,386,769,0,0,6,27,145,403,525,486,273,66,7,1,7,17.600000000000001,25,37.04,45.7,54.14,61.34,57.38,48.6,35.24,20.3,7.9,0.83673469387755106,0.14014014014014012,81,50,27,32,{"$f":"IF(OR(C1079=\"OA\",C1079=\"OB\",C1079=\"1B\",C1079=\"1A\",C1079=\"2A\",C1079=\"2B\",C1079=\"3A\",C1079=\"3B\",C1079=\"3C\"),TAN((LEFT(I1079, 5)+VLOOKUP(C1079,Main!$K$3:$L$21,2,FALSE))*PI()/180),IF(Checklist!$I$385=\"No\",TAN((LEFT(I1079, 5)+VLOOKUP(C1079,Main!$K$3:$L$21,2,FALSE))*PI()/180),\"NR\"))","v":"NR"},{"$f":"VLOOKUP(C1079,Main!$A$49:$I$67,Main!$B$47,FALSE)","v":"NR"},{"$f":"VLOOKUP(C1079,Main!$A$49:$I$67,Main!$C$47,FALSE)","v":"NR"},{"$f":"VLOOKUP(C1079,Main!$A$49:$I$67,Main!$E$47,FALSE)&\":\"&\" \"&VLOOKUP(C1079,Main!$A$49:$I$67,Main!$F$47,FALSE)","v":"Minimum COP @ 5°F:: 1.75"},{"$f":"VLOOKUP(C1079,Main!$A$49:$I$67,Main!$G$47,FALSE)","v":15},{"$f":"VLOOKUP(C1079,Main!$A$49:$I$67,Main!$H$47,FALSE)","v":3.1},{"$f":"VLOOKUP(C1079,Main!$A$49:$I$67,Main!$I$47,FALSE)","v":16.100000000000001},1939]
["ON","LAKESHORE","5A",5952,1319,9.35,81.099999999999994,0.1862,"42.300N",10.1,26,30,37,49,59,70,74,72,66,54,43,32,748,567,426,117,11,0,0,0,2,48,243,563,0,1,17,83,292,588,741,671,476,159,29,5,16.7,17.420000000000002,26.2,38.840000000000003,50.5,57.2,61.7,58.1,46.9,37.94,24.8,21.9,0.80952380952380953,0.16991084348597302,73,42,22,27,{"$f":"IF(OR(C1080=\"OA\",C1080=\"OB\",C1080=\"1B\",C1080=\"1A\",C1080=\"2A\",C1080=\"2B\",C1080=\"3A\",C1080=\"3B\",C1080=\"3C\"),TAN((LEFT(I1080, 5)+VLOOKUP(C1080,Main!$K$3:$L$21,2,FALSE))*PI()/180),IF(Checklist!$I$385=\"No\",TAN((LEFT(I1080, 5)+VLOOKUP(C1080,Main!$K$3:$L$21,2,FALSE))*PI()/180),\"NR\"))","v":"NR"},{"$f":"VLOOKUP(C1080,Main!$A$49:$I$67,Main!$B$47,FALSE)","v":"NR"},{"$f":"VLOOKUP(C1080,Main!$A$49:$I$67,Main!$C$47,FALSE)","v":"NR"},{"$f":"VLOOKUP(C1080,Main!$A$49:$I$67,Main!$E$47,FALSE)&\":\"&\" \"&VLOOKUP(C1080,Main!$A$49:$I$67,Main!$F$47,FALSE)","v":"Minimum COP @ 5°F:: 1.75"},{"$f":"VLOOKUP(C1080,Main!$A$49:$I$67,Main!$G$47,FALSE)","v":15},{"$f":"VLOOKUP(C1080,Main!$A$49:$I$67,Main!$H$47,FALSE)","v":3.1},{"$f":"VLOOKUP(C1080,Main!$A$49:$I$67,Main!$I$47,FALSE)","v":16.100000000000001},3062]
["ON","MOOSE FACTORY",7,11969,1198,31.35,87.4,0.1862,"51.291N",-24.6,-1,1,13,28,44,55,61,60,53,41,26,8.5,"###","###","###",652,259,55,2,5,67,310,718,"###",0,0,0,2,64,206,355,321,144,23,1,0,26.4,29.48,31.3,26.24,32.700000000000003,23,49.1,45.5,43,42.08,26.2,12.4,0.88405797101449279,0.1062401494366937,97,65,36,41,{"$f":"IF(OR(C1081=\"OA\",C1081=\"OB\",C1081=\"1B\",C1081=\"1A\",C1081=\"2A\",C1081=\"2B\",C1081=\"3A\",C1081=\"3B\",C1081=\"3C\"),TAN((LEFT(I1081, 5)+VLOOKUP(C1081,Main!$K$3:$L$21,2,FALSE))*PI()/180),IF(Checklist!$I$385=\"No\",TAN((LEFT(I1081, 5)+VLOOKUP(C1081,Main!$K$3:$L$21,2,FALSE))*PI()/180),\"NR\"))","v":"NR"},{"$f":"VLOOKUP(C1081,Main!$A$49:$I$67,Main!$B$47,FALSE)","v":"NR"},{"$f":"VLOOKUP(C1081,Main!$A$49:$I$67,Main!$C$47,FALSE)","v":"NR"},{"$f":"VLOOKUP(C1081,Main!$A$49:$I$67,Main!$E$47,FALSE)&\":\"&\" \"&VLOOKUP(C1081,Main!$A$49:$I$67,Main!$F$47,FALSE)","v":"Minimum COP @ 5°F:: 1.75"},{"$f":"VLOOKUP(C1081,Main!$A$49:$I$67,Main!$G$47,FALSE)","v":15},{"$f":"VLOOKUP(C1081,Main!$A$49:$I$67,Main!$H$47,FALSE)","v":3.1},{"$f":"VLOOKUP(C1081,Main!$A$49:$I$67,Main!$I$47,FALSE)","v":16.100000000000001},1116]
["ON","MUSKOKA AP","6A",8516,1357,30.95,81.5,0.1862,"44.973N",-9.9,15,17,26,40,53,62,67,65,58,46,34,22,"###",937,739,312,60,2,0,0,15,180,476,858,0,0,3,25,159,366,529,476,262,59,2,0,19.8,26.6,25,31.46,44.4,52.34,57.56,59.36,52.9,41,28.8,23.4,0.84905660377358494,0.12628803386184642,85,52,29,34,{"$f":"IF(OR(C1082=\"OA\",C1082=\"OB\",C1082=\"1B\",C1082=\"1A\",C1082=\"2A\",C1082=\"2B\",C1082=\"3A\",C1082=\"3B\",C1082=\"3C\"),TAN((LEFT(I1082, 5)+VLOOKUP(C1082,Main!$K$3:$L$21,2,FALSE))*PI()/180),IF(Checklist!$I$385=\"No\",TAN((LEFT(I1082, 5)+VLOOKUP(C1082,Main!$K$3:$L$21,2,FALSE))*PI()/180),\"NR\"))","v":"NR"},{"$f":"VLOOKUP(C1082,Main!$A$49:$I$67,Main!$B$47,FALSE)","v":"NR"},{"$f":"VLOOKUP(C1082,Main!$A$49:$I$67,Main!$C$47,FALSE)","v":"NR"},{"$f":"VLOOKUP(C1082,Main!$A$49:$I$67,Main!$E$47,FALSE)&\":\"&\" \"&VLOOKUP(C1082,Main!$A$49:$I$67,Main!$F$47,FALSE)","v":"Minimum COP @ 5°F:: 1.75"},{"$f":"VLOOKUP(C1082,Main!$A$49:$I$67,Main!$G$47,FALSE)","v":15},{"$f":"VLOOKUP(C1082,Main!$A$49:$I$67,Main!$H$47,FALSE)","v":3.1},{"$f":"VLOOKUP(C1082,Main!$A$49:$I$67,Main!$I$47,FALSE)","v":16.100000000000001},1881]
["QC","BAGOTVILLE AP",7,9956,1254,25.35,83.3,8.1299999999999997E-2,"48.335N",-15.7,5.6,9.5,21,36,51,61,66,64,55,43,30,15,"###","###",887,422,88,5,0,0,29,246,611,"###",0,0,1,3,109,335,494,431,192,25,1,0,26.1,25.16,33.1,51.8,60.3,66.739999999999995,63.86,60.26,52.7,46.22,32.200000000000003,22.3,0.87179487179487181,0.1175368917304401,77,46,25,30,{"$f":"IF(OR(C1083=\"OA\",C1083=\"OB\",C1083=\"1B\",C1083=\"1A\",C1083=\"2A\",C1083=\"2B\",C1083=\"3A\",C1083=\"3B\",C1083=\"3C\"),TAN((LEFT(I1083, 5)+VLOOKUP(C1083,Main!$K$3:$L$21,2,FALSE))*PI()/180),IF(Checklist!$I$385=\"No\",TAN((LEFT(I1083, 5)+VLOOKUP(C1083,Main!$K$3:$L$21,2,FALSE))*PI()/180),\"NR\"))","v":"NR"},{"$f":"VLOOKUP(C1083,Main!$A$49:$I$67,Main!$B$47,FALSE)","v":"NR"},{"$f":"VLOOKUP(C1083,Main!$A$49:$I$67,Main!$C$47,FALSE)","v":"NR"},{"$f":"VLOOKUP(C1083,Main!$A$49:$I$67,Main!$E$47,FALSE)&\":\"&\" \"&VLOOKUP(C1083,Main!$A$49:$I$67,Main!$F$47,FALSE)","v":"Minimum COP @ 5°F:: 1.75"},{"$f":"VLOOKUP(C1083,Main!$A$49:$I$67,Main!$G$47,FALSE)","v":15},{"$f":"VLOOKUP(C1083,Main!$A$49:$I$67,Main!$H$47,FALSE)","v":3.1},{"$f":"VLOOKUP(C1083,Main!$A$49:$I$67,Main!$I$47,FALSE)","v":16.100000000000001},1591]
["SC","NORTH MYRTLE BEACH-GRAND STRAND FIELD","3A",2353,1678,35.9,82.2,0.11749999999999999,"33.683N",27.8,46,50,55,62,71,77,80,79,75,66,56,49,200,100,46,2,0,0,0,0,0,1,34,131,76,100,204,374,643,814,932,903,760,503,214,102,30.9,42.98,48.6,53.42,60.1,68.540000000000006,72.680000000000007,69.260000000000005,64.8,52.34,49.1,36.9,0.63636363636363635,0.24472233427457304,57,27,12,17,{"$f":"IF(OR(C1084=\"OA\",C1084=\"OB\",C1084=\"1B\",C1084=\"1A\",C1084=\"2A\",C1084=\"2B\",C1084=\"3A\",C1084=\"3B\",C1084=\"3C\"),TAN((LEFT(I1084, 5)+VLOOKUP(C1084,Main!$K$3:$L$21,2,FALSE))*PI()/180),IF(Checklist!$I$385=\"No\",TAN((LEFT(I1084, 5)+VLOOKUP(C1084,Main!$K$3:$L$21,2,FALSE))*PI()/180),\"NR\"))","v":0.66641289092643863},{"$f":"VLOOKUP(C1084,Main!$A$49:$I$67,Main!$B$47,FALSE)","v":0.6},{"$f":"VLOOKUP(C1084,Main!$A$49:$I$67,Main!$C$47,FALSE)","v":0.25},{"$f":"VLOOKUP(C1084,Main!$A$49:$I$67,Main!$E$47,FALSE)&\":\"&\" \"&VLOOKUP(C1084,Main!$A$49:$I$67,Main!$F$47,FALSE)","v":"Minimum HSPF:: 9.6"},{"$f":"VLOOKUP(C1084,Main!$A$49:$I$67,Main!$G$47,FALSE)","v":18},{"$f":"VLOOKUP(C1084,Main!$A$49:$I$67,Main!$H$47,FALSE)","v":3.1},{"$f":"VLOOKUP(C1084,Main!$A$49:$I$67,Main!$I$47,FALSE)","v":16.100000000000001},5625]
["TX","DALLAS-LOVE FIELD","2A",1996,1733,31.25,91.4,0.10929999999999999,"32.852N",28.5,48,52,59,67,75,83,87,87,80,69,58,49,161,97,30,2,0,0,0,0,0,1,29,128,95,147,319,516,788,993,"###","###",904,596,271,107,34.9,34.880000000000003,41.7,45.68,63.3,68,69.260000000000005,67.819999999999993,66.7,58.64,38.700000000000003,40.299999999999997,0.6,0.2490591857680465,56,26,13,18,{"$f":"IF(OR(C1085=\"OA\",C1085=\"OB\",C1085=\"1B\",C1085=\"1A\",C1085=\"2A\",C1085=\"2B\",C1085=\"3A\",C1085=\"3B\",C1085=\"3C\"),TAN((LEFT(I1085, 5)+VLOOKUP(C1085,Main!$K$3:$L$21,2,FALSE))*PI()/180),IF(Checklist!$I$385=\"No\",TAN((LEFT(I1085, 5)+VLOOKUP(C1085,Main!$K$3:$L$21,2,FALSE))*PI()/180),\"NR\"))","v":0.64569182104255407},{"$f":"VLOOKUP(C1085,Main!$A$49:$I$67,Main!$B$47,FALSE)","v":0.6},{"$f":"VLOOKUP(C1085,Main!$A$49:$I$67,Main!$C$47,FALSE)","v":0.25},{"$f":"VLOOKUP(C1085,Main!$A$49:$I$67,Main!$E$47,FALSE)&\":\"&\" \"&VLOOKUP(C1085,Main!$A$49:$I$67,Main!$F$47,FALSE)","v":"Minimum HSPF:: 9.6"},{"$f":"VLOOKUP(C1085,Main!$A$49:$I$67,Main!$G$47,FALSE)","v":18},{"$f":"VLOOKUP(C1085,Main!$A$49:$I$67,Main!$H$47,FALSE)","v":3.1},{"$f":"VLOOKUP(C1085,Main!$A$49:$I$67,Main!$I$47,FALSE)","v":16.100000000000001},7035]
["TX","GREENVILLE MUNICIPAL AP","3A",2349,1650,32.9,85.6,0.10929999999999999,"33.068N",27.6,46,49,58,64,73,81,84,85,78,67,56,48,201,131,37,4,0,0,0,0,0,2,44,158,64,101,272,436,708,926,"###","###",827,520,232,86,29.3,36.68,36.700000000000003,48.92,66,68.72,69.98,69.08,57.2,49.82,41.4,33.799999999999997,0.63636363636363635,0.2435108375702435,57,27,13,18,{"$f":"IF(OR(C1086=\"OA\",C1086=\"OB\",C1086=\"1B\",C1086=\"1A\",C1086=\"2A\",C1086=\"2B\",C1086=\"3A\",C1086=\"3B\",C1086=\"3C\"),TAN((LEFT(I1086, 5)+VLOOKUP(C1086,Main!$K$3:$L$21,2,FALSE))*PI()/180),IF(Checklist!$I$385=\"No\",TAN((LEFT(I1086, 5)+VLOOKUP(C1086,Main!$K$3:$L$21,2,FALSE))*PI()/180),\"NR\"))","v":0.65089743933100186},{"$f":"VLOOKUP(C1086,Main!$A$49:$I$67,Main!$B$47,FALSE)","v":0.6},{"$f":"VLOOKUP(C1086,Main!$A$49:$I$67,Main!$C$47,FALSE)","v":0.25},{"$f":"VLOOKUP(C1086,Main!$A$49:$I$67,Main!$E$47,FALSE)&\":\"&\" \"&VLOOKUP(C1086,Main!$A$49:$I$67,Main!$F$47,FALSE)","v":"Minimum HSPF:: 9.6"},{"$f":"VLOOKUP(C1086,Main!$A$49:$I$67,Main!$G$47,FALSE)","v":18},{"$f":"VLOOKUP(C1086,Main!$A$49:$I$67,Main!$H$47,FALSE)","v":3.1},{"$f":"VLOOKUP(C1086,Main!$A$49:$I$67,Main!$I$47,FALSE)","v":16.100000000000001},6295]
["TX","KILLEEN MUNI AWOS","2A",1847,1795,29.95,83.7,0.10929999999999999,"31.083N",28.7,50,53,60,68,75,82,85,85,79,69,59,50,128,78,26,1,0,0,0,0,0,1,29,113,115,169,333,527,787,951,"###","###",863,596,288,125,31.5,32.9,34.700000000000003,43.7,65.099999999999994,66.56,66.92,67.64,57.9,47.84,42.1,34.5,0.6,0.25032666254040298,55,25,12,17,{"$f":"IF(OR(C1087=\"OA\",C1087=\"OB\",C1087=\"1B\",C1087=\"1A\",C1087=\"2A\",C1087=\"2B\",C1087=\"3A\",C1087=\"3B\",C1087=\"3C\"),TAN((LEFT(I1087, 5)+VLOOKUP(C1087,Main!$K$3:$L$21,2,FALSE))*PI()/180),IF(Checklist!$I$385=\"No\",TAN((LEFT(I1087, 5)+VLOOKUP(C1087,Main!$K$3:$L$21,2,FALSE))*PI()/180),\"NR\"))","v":0.60276257717112147},{"$f":"VLOOKUP(C1087,Main!$A$49:$I$67,Main!$B$47,FALSE)","v":0.6},{"$f":"VLOOKUP(C1087,Main!$A$49:$I$67,Main!$C$47,FALSE)","v":0.25},{"$f":"VLOOKUP(C1087,Main!$A$49:$I$67,Main!$E$47,FALSE)&\":\"&\" \"&VLOOKUP(C1087,Main!$A$49:$I$67,Main!$F$47,FALSE)","v":"Minimum HSPF:: 9.6"},{"$f":"VLOOKUP(C1087,Main!$A$49:$I$67,Main!$G$47,FALSE)","v":18},{"$f":"VLOOKUP(C1087,Main!$A$49:$I$67,Main!$H$47,FALSE)","v":3.1},{"$f":"VLOOKUP(C1087,Main!$A$49:$I$67,Main!$I$47,FALSE)","v":16.100000000000001},6913]
["UT","BLANDING MUNI AP","5B",5499,1839,28.5,81.3,9.9699999999999997E-2,"37.583N",14.8,30,36,44,50,58,72,74,74,65,53,41,32,628,400,225,83,21,0,0,0,3,45,285,565,0,1,26,90,267,645,757,729,437,138,7,0,28.2,21.56,26.8,24.8,29.7,31.82,31.82,30.56,30.7,29.3,26.4,20.7,0.78947368421052633,0.18492176386913226,66,35,18,23,{"$f":"IF(OR(C1088=\"OA\",C1088=\"OB\",C1088=\"1B\",C1088=\"1A\",C1088=\"2A\",C1088=\"2B\",C1088=\"3A\",C1088=\"3B\",C1088=\"3C\"),TAN((LEFT(I1088, 5)+VLOOKUP(C1088,Main!$K$3:$L$21,2,FALSE))*PI()/180),IF(Checklist!$I$385=\"No\",TAN((LEFT(I1088, 5)+VLOOKUP(C1088,Main!$K$3:$L$21,2,FALSE))*PI()/180),\"NR\"))","v":"NR"},{"$f":"VLOOKUP(C1088,Main!$A$49:$I$67,Main!$B$47,FALSE)","v":"NR"},{"$f":"VLOOKUP(C1088,Main!$A$49:$I$67,Main!$C$47,FALSE)","v":"NR"},{"$f":"VLOOKUP(C1088,Main!$A$49:$I$67,Main!$E$47,FALSE)&\":\"&\" \"&VLOOKUP(C1088,Main!$A$49:$I$67,Main!$F$47,FALSE)","v":"Minimum COP @ 5°F:: 1.75"},{"$f":"VLOOKUP(C1088,Main!$A$49:$I$67,Main!$G$47,FALSE)","v":15},{"$f":"VLOOKUP(C1088,Main!$A$49:$I$67,Main!$H$47,FALSE)","v":3.1},{"$f":"VLOOKUP(C1088,Main!$A$49:$I$67,Main!$I$47,FALSE)","v":16.100000000000001},3097]
["UT","BRYCE CANYON AP","5B",8673,1827,18.399999999999999,67.5,9.9699999999999997E-2,"37.706N",-2.9,21,24,32,39,47,57,64,61,54,43,32,21,900,742,564,322,130,10,0,0,26,233,545,906,0,0,0,2,46,227,436,353,147,10,0,0,9.1,13.64,19,20.3,28.8,25.7,34.340000000000003,40.1,28.6,28.76,16,14.4,0.82978723404255317,{"$f":"IF(ISBLANK($J1089),\"-\",IF((14.7-(0.742*10))/(0.74*(68-$J1089))<0,0.5,MIN((14.7-(0.742*10))/(0.74*(68-$J1089)),0.5)))","v":0.13875652803720503},75,44,26,31,{"$f":"IF(OR(C1089=\"OA\",C1089=\"OB\",C1089=\"1B\",C1089=\"1A\",C1089=\"2A\",C1089=\"2B\",C1089=\"3A\",C1089=\"3B\",C1089=\"3C\"),TAN((LEFT(I1089, 5)+VLOOKUP(C1089,Main!$K$3:$L$21,2,FALSE))*PI()/180),IF(Checklist!$I$385=\"No\",TAN((LEFT(I1089, 5)+VLOOKUP(C1089,Main!$K$3:$L$21,2,FALSE))*PI()/180),\"NR\"))","v":"NR"},{"$f":"VLOOKUP(C1089,Main!$A$49:$I$67,Main!$B$47,FALSE)","v":"NR"},{"$f":"VLOOKUP(C1089,Main!$A$49:$I$67,Main!$C$47,FALSE)","v":"NR"},{"$f":"VLOOKUP(C1089,Main!$A$49:$I$67,Main!$E$47,FALSE)&\":\"&\" \"&VLOOKUP(C1089,Main!$A$49:$I$67,Main!$F$47,FALSE)","v":"Minimum COP @ 5°F:: 1.75"},{"$f":"VLOOKUP(C1089,Main!$A$49:$I$67,Main!$G$47,FALSE)","v":15},{"$f":"VLOOKUP(C1089,Main!$A$49:$I$67,Main!$H$47,FALSE)","v":3.1},{"$f":"VLOOKUP(C1089,Main!$A$49:$I$67,Main!$I$47,FALSE)","v":16.100000000000001},1221]
["UT","HANKSVILLE AP","5B",4998,1770,23,92.8,9.9699999999999997E-2,"38.417N",11.9,31,37,47,54,63,76,82,78,69,55,41,30,592,359,135,31,3,0,0,0,0,35,283,628,0,2,51,163,408,791,996,865,583,180,17,0,23.4,23,31.6,25.34,31.8,31.1,36.14,35.96,37.799999999999997,30.56,30.2,21.9,0.78947368421052633,0.17536252830370475,65,34,17,22,{"$f":"IF(OR(C1090=\"OA\",C1090=\"OB\",C1090=\"1B\",C1090=\"1A\",C1090=\"2A\",C1090=\"2B\",C1090=\"3A\",C1090=\"3B\",C1090=\"3C\"),TAN((LEFT(I1090, 5)+VLOOKUP(C1090,Main!$K$3:$L$21,2,FALSE))*PI()/180),IF(Checklist!$I$385=\"No\",TAN((LEFT(I1090, 5)+VLOOKUP(C1090,Main!$K$3:$L$21,2,FALSE))*PI()/180),\"NR\"))","v":"NR"},{"$f":"VLOOKUP(C1090,Main!$A$49:$I$67,Main!$B$47,FALSE)","v":"NR"},{"$f":"VLOOKUP(C1090,Main!$A$49:$I$67,Main!$C$47,FALSE)","v":"NR"},{"$f":"VLOOKUP(C1090,Main!$A$49:$I$67,Main!$E$47,FALSE)&\":\"&\" \"&VLOOKUP(C1090,Main!$A$49:$I$67,Main!$F$47,FALSE)","v":"Minimum COP @ 5°F:: 1.75"},{"$f":"VLOOKUP(C1090,Main!$A$49:$I$67,Main!$G$47,FALSE)","v":15},{"$f":"VLOOKUP(C1090,Main!$A$49:$I$67,Main!$H$47,FALSE)","v":3.1},{"$f":"VLOOKUP(C1090,Main!$A$49:$I$67,Main!$I$47,FALSE)","v":16.100000000000001},4056]
["VA","PULASKI-NEW RIVER VALLEY AP","4A",4406,1452,21.9,73.2,0.10680000000000001,"37.133N",17.600000000000001,35,38,46,55,64,71,74,73,67,57,46,39,464,340,199,42,3,0,0,0,0,30,180,367,11,16,67,204,434,637,756,719,509,232,55,15,28.4,26.96,27.5,35.6,42.6,54.14,55.58,53.96,53.1,44.06,30.6,25.3,0.75757575757575757,0.19519519519519518,63,33,16,21,{"$f":"IF(OR(C1091=\"OA\",C1091=\"OB\",C1091=\"1B\",C1091=\"1A\",C1091=\"2A\",C1091=\"2B\",C1091=\"3A\",C1091=\"3B\",C1091=\"3C\"),TAN((LEFT(I1091, 5)+VLOOKUP(C1091,Main!$K$3:$L$21,2,FALSE))*PI()/180),IF(Checklist!$I$385=\"No\",TAN((LEFT(I1091, 5)+VLOOKUP(C1091,Main!$K$3:$L$21,2,FALSE))*PI()/180),\"NR\"))","v":"NR"},{"$f":"VLOOKUP(C1091,Main!$A$49:$I$67,Main!$B$47,FALSE)","v":0.5},{"$f":"VLOOKUP(C1091,Main!$A$49:$I$67,Main!$C$47,FALSE)","v":0.25},{"$f":"VLOOKUP(C1091,Main!$A$49:$I$67,Main!$E$47,FALSE)&\":\"&\" \"&VLOOKUP(C1091,Main!$A$49:$I$67,Main!$F$47,FALSE)","v":"Minimum HSPF:: 9.6"},{"$f":"VLOOKUP(C1091,Main!$A$49:$I$67,Main!$G$47,FALSE)","v":18},{"$f":"VLOOKUP(C1091,Main!$A$49:$I$67,Main!$H$47,FALSE)","v":3.1},{"$f":"VLOOKUP(C1091,Main!$A$49:$I$67,Main!$I$47,FALSE)","v":16.100000000000001},3655]
["WY","EVANSTON-UINTA COUNTY AP-BURNS FIELD","6B",8259,1694,11.6,72.099999999999994,0.1008,"41.273N",2.9,22,24,32,40,49,59,69,66,57,44,32,22,864,738,572,318,129,21,0,0,32,218,533,870,0,0,1,11,92,297,575,494,241,39,1,0,10.6,15.98,22.6,23.18,28.9,31.1,36.32,42.8,40.1,25.16,21.7,15.1,0.82608695652173914,0.15111886079628017,74,43,24,29,{"$f":"IF(OR(C1092=\"OA\",C1092=\"OB\",C1092=\"1B\",C1092=\"1A\",C1092=\"2A\",C1092=\"2B\",C1092=\"3A\",C1092=\"3B\",C1092=\"3C\"),TAN((LEFT(I1092, 5)+VLOOKUP(C1092,Main!$K$3:$L$21,2,FALSE))*PI()/180),IF(Checklist!$I$385=\"No\",TAN((LEFT(I1092, 5)+VLOOKUP(C1092,Main!$K$3:$L$21,2,FALSE))*PI()/180),\"NR\"))","v":"NR"},{"$f":"VLOOKUP(C1092,Main!$A$49:$I$67,Main!$B$47,FALSE)","v":"NR"},{"$f":"VLOOKUP(C1092,Main!$A$49:$I$67,Main!$C$47,FALSE)","v":"NR"},{"$f":"VLOOKUP(C1092,Main!$A$49:$I$67,Main!$E$47,FALSE)&\":\"&\" \"&VLOOKUP(C1092,Main!$A$49:$I$67,Main!$F$47,FALSE)","v":"Minimum COP @ 5°F:: 1.75"},{"$f":"VLOOKUP(C1092,Main!$A$49:$I$67,Main!$G$47,FALSE)","v":15},{"$f":"VLOOKUP(C1092,Main!$A$49:$I$67,Main!$H$47,FALSE)","v":3.1},{"$f":"VLOOKUP(C1092,Main!$A$49:$I$67,Main!$I$47,FALSE)","v":16.100000000000001},1751]
["WY","GREEN RIVER-GREATER GREEN RIVER INTERGALACTIC SPACEPORT","6B",7977,1695,0.5,70.5,0.1008,"41.595N",1.1000000000000001,22,25,34,41,51,61,70,67,58,44,32,22,859,709,498,283,100,11,0,0,30,215,545,868,0,0,2,17,117,351,621,539,259,42,1,0,15.6,18.5,17.2,24.62,30.2,32,38.840000000000003,36.68,30.9,24.44,21.4,12.4,0.82608695652173914,0.14705288247889142,73,42,24,29,{"$f":"IF(OR(C1093=\"OA\",C1093=\"OB\",C1093=\"1B\",C1093=\"1A\",C1093=\"2A\",C1093=\"2B\",C1093=\"3A\",C1093=\"3B\",C1093=\"3C\"),TAN((LEFT(I1093, 5)+VLOOKUP(C1093,Main!$K$3:$L$21,2,FALSE))*PI()/180),IF(Checklist!$I$385=\"No\",TAN((LEFT(I1093, 5)+VLOOKUP(C1093,Main!$K$3:$L$21,2,FALSE))*PI()/180),\"NR\"))","v":"NR"},{"$f":"VLOOKUP(C1093,Main!$A$49:$I$67,Main!$B$47,FALSE)","v":"NR"},{"$f":"VLOOKUP(C1093,Main!$A$49:$I$67,Main!$C$47,FALSE)","v":"NR"},{"$f":"VLOOKUP(C1093,Main!$A$49:$I$67,Main!$E$47,FALSE)&\":\"&\" \"&VLOOKUP(C1093,Main!$A$49:$I$67,Main!$F$47,FALSE)","v":"Minimum COP @ 5°F:: 1.75"},{"$f":"VLOOKUP(C1093,Main!$A$49:$I$67,Main!$G$47,FALSE)","v":15},{"$f":"VLOOKUP(C1093,Main!$A$49:$I$67,Main!$H$47,FALSE)","v":3.1},{"$f":"VLOOKUP(C1093,Main!$A$49:$I$67,Main!$I$47,FALSE)","v":16.100000000000001},1949]
[null,null,null,null,null,null,null,null,null,null,null,null,null,null,null,null,null,null,null,null,null,null,null,null,null,null,null,null,null,null,null,null,null,null,null,null,null,null,null,null,null,null,null,null,null,null,null,null,null,null,null,null,null,null,null,null,null,null,null,null,null,null,null,null,{"$f":"IF(OR(C1094=\"OA\",C1094=\"OB\",C1094=\"1B\",C1094=\"1A\",C1094=\"2A\",C1094=\"2B\",C1094=\"3A\",C1094=\"3B\",C1094=\"3C\"),TAN((LEFT(I1094, 5)+VLOOKUP(C1094,Main!$K$3:$L$21,2,FALSE))*PI()/180),IF(Checklist!$I$385=\"No\",TAN((LEFT(I1094, 5)+VLOOKUP(C1094,Main!$K$3:$L$21,2,FALSE))*PI()/180),\"NR\"))","v":"NR"}]
[null,null,null,null,null,null,null,null,null,null,null,null,null,null,null,null,null,null,null,null,null,null,null,null,null,null,null,null,null,null,null,null,null,null,null,null,null,null,null,null,null,null,null,null,null,null,null,null,null,null,null,null,null,null,null,null,null,null,null,null,null,null,null,null,{"$f":"IF(OR(C1095=\"OA\",C1095=\"OB\",C1095=\"1B\",C1095=\"1A\",C1095=\"2A\",C1095=\"2B\",C1095=\"3A\",C1095=\"3B\",C1095=\"3C\"),TAN((LEFT(I1095, 5)+VLOOKUP(C1095,Main!$K$3:$L$21,2,FALSE))*PI()/180),IF(Checklist!$I$385=\"No\",TAN((LEFT(I1095, 5)+VLOOKUP(C1095,Main!$K$3:$L$21,2,FALSE))*PI()/180),\"NR\"))","v":"NR"}]
[null,null,null,null,null,null,null,null,null,null,null,null,null,null,null,null,null,null,null,null,null,null,null,null,null,null,null,null,null,null,null,null,null,null,null,null,null,null,null,null,null,null,null,null,null,null,null,null,null,null,null,null,null,null,null,null,null,null,null,null,null,null,null,null,{"$f":"IF(OR(C1096=\"OA\",C1096=\"OB\",C1096=\"1B\",C1096=\"1A\",C1096=\"2A\",C1096=\"2B\",C1096=\"3A\",C1096=\"3B\",C1096=\"3C\"),TAN((LEFT(I1096, 5)+VLOOKUP(C1096,Main!$K$3:$L$21,2,FALSE))*PI()/180),IF(Checklist!$I$385=\"No\",TAN((LEFT(I1096, 5)+VLOOKUP(C1096,Main!$K$3:$L$21,2,FALSE))*PI()/180),\"NR\"))","v":"NR"}]
[null,null,null,null,null,null,null,null,null,null,null,null,null,null,null,null,null,null,null,null,null,null,null,null,null,null,null,null,null,null,null,null,null,null,null,null,null,null,null,null,null,null,null,null,null,null,null,null,null,null,null,null,null,null,null,null,null,null,null,null,null,null,null,null,{"$f":"IF(OR(C1097=\"OA\",C1097=\"OB\",C1097=\"1B\",C1097=\"1A\",C1097=\"2A\",C1097=\"2B\",C1097=\"3A\",C1097=\"3B\",C1097=\"3C\"),TAN((LEFT(I1097, 5)+VLOOKUP(C1097,Main!$K$3:$L$21,2,FALSE))*PI()/180),IF(Checklist!$I$385=\"No\",TAN((LEFT(I1097, 5)+VLOOKUP(C1097,Main!$K$3:$L$21,2,FALSE))*PI()/180),\"NR\"))","v":"NR"}]
[null,null,null,null,null,null,null,null,null,null,null,null,null,null,null,null,null,null,null,null,null,null,null,null,null,null,null,null,null,null,null,null,null,null,null,null,null,null,null,null,null,null,null,null,null,null,null,null,null,null,null,null,null,null,null,null,null,null,null,null,null,null,null,null,{"$f":"IF(OR(C1098=\"OA\",C1098=\"OB\",C1098=\"1B\",C1098=\"1A\",C1098=\"2A\",C1098=\"2B\",C1098=\"3A\",C1098=\"3B\",C1098=\"3C\"),TAN((LEFT(I1098, 5)+VLOOKUP(C1098,Main!$K$3:$L$21,2,FALSE))*PI()/180),IF(Checklist!$I$385=\"No\",TAN((LEFT(I1098, 5)+VLOOKUP(C1098,Main!$K$3:$L$21,2,FALSE))*PI()/180),\"NR\"))","v":"NR"}]
[null,null,null,null,null,null,null,null,null,null,null,null,null,null,null,null,null,null,null,null,null,null,null,null,null,null,null,null,null,null,null,null,null,null,null,null,null,null,null,null,null,null,null,null,null,null,null,null,null,null,null,null,null,null,null,null,null,null,null,null,null,null,null,null,{"$f":"IF(OR(C1099=\"OA\",C1099=\"OB\",C1099=\"1B\",C1099=\"1A\",C1099=\"2A\",C1099=\"2B\",C1099=\"3A\",C1099=\"3B\",C1099=\"3C\"),TAN((LEFT(I1099, 5)+VLOOKUP(C1099,Main!$K$3:$L$21,2,FALSE))*PI()/180),IF(Checklist!$I$385=\"No\",TAN((LEFT(I1099, 5)+VLOOKUP(C1099,Main!$K$3:$L$21,2,FALSE))*PI()/180),\"NR\"))","v":"NR"}]
[null,null,null,null,null,null,null,null,null,null,null,null,null,null,null,null,null,null,null,null,null,null,null,null,null,null,null,null,null,null,null,null,null,null,null,null,null,null,null,null,null,null,null,null,null,null,null,null,null,null,null,null,null,null,null,null,null,null,null,null,null,null,null,null,{"$f":"IF(OR(C1100=\"OA\",C1100=\"OB\",C1100=\"1B\",C1100=\"1A\",C1100=\"2A\",C1100=\"2B\",C1100=\"3A\",C1100=\"3B\",C1100=\"3C\"),TAN((LEFT(I1100, 5)+VLOOKUP(C1100,Main!$K$3:$L$21,2,FALSE))*PI()/180),IF(Checklist!$I$385=\"No\",TAN((LEFT(I1100, 5)+VLOOKUP(C1100,Main!$K$3:$L$21,2,FALSE))*PI()/180),\"NR\"))","v":"NR"}]
[null,null,null,null,null,null,null,null,null,null,null,null,null,null,null,null,null,null,null,null,null,null,null,null,null,null,null,null,null,null,null,null,null,null,null,null,null,null,null,null,null,null,null,null,null,null,null,null,null,null,null,null,null,null,null,null,null,null,null,null,null,null,null,null,{"$f":"IF(OR(C1101=\"OA\",C1101=\"OB\",C1101=\"1B\",C1101=\"1A\",C1101=\"2A\",C1101=\"2B\",C1101=\"3A\",C1101=\"3B\",C1101=\"3C\"),TAN((LEFT(I1101, 5)+VLOOKUP(C1101,Main!$K$3:$L$21,2,FALSE))*PI()/180),IF(Checklist!$I$385=\"No\",TAN((LEFT(I1101, 5)+VLOOKUP(C1101,Main!$K$3:$L$21,2,FALSE))*PI()/180),\"NR\"))","v":"NR"}]
[null,null,null,null,null,null,null,null,null,null,null,null,null,null,null,null,null,null,null,null,null,null,null,null,null,null,null,null,null,null,null,null,null,null,null,null,null,null,null,null,null,null,null,null,null,null,null,null,null,null,null,null,null,null,null,null,null,null,null,null,null,null,null,null,{"$f":"IF(OR(C1102=\"OA\",C1102=\"OB\",C1102=\"1B\",C1102=\"1A\",C1102=\"2A\",C1102=\"2B\",C1102=\"3A\",C1102=\"3B\",C1102=\"3C\"),TAN((LEFT(I1102, 5)+VLOOKUP(C1102,Main!$K$3:$L$21,2,FALSE))*PI()/180),IF(Checklist!$I$385=\"No\",TAN((LEFT(I1102, 5)+VLOOKUP(C1102,Main!$K$3:$L$21,2,FALSE))*PI()/180),\"NR\"))","v":"NR"}]
[null,null,null,null,null,null,null,null,null,null,null,null,null,null,null,null,null,null,null,null,null,null,null,null,null,null,null,null,null,null,null,null,null,null,null,null,null,null,null,null,null,null,null,null,null,null,null,null,null,null,null,null,null,null,null,null,null,null,null,null,null,null,null,null,{"$f":"IF(OR(C1103=\"OA\",C1103=\"OB\",C1103=\"1B\",C1103=\"1A\",C1103=\"2A\",C1103=\"2B\",C1103=\"3A\",C1103=\"3B\",C1103=\"3C\"),TAN((LEFT(I1103, 5)+VLOOKUP(C1103,Main!$K$3:$L$21,2,FALSE))*PI()/180),IF(Checklist!$I$385=\"No\",TAN((LEFT(I1103, 5)+VLOOKUP(C1103,Main!$K$3:$L$21,2,FALSE))*PI()/180),\"NR\"))","v":"NR"}]
[null,null,null,null,null,null,null,null,null,null,null,null,null,null,null,null,null,null,null,null,null,null,null,null,null,null,null,null,null,null,null,null,null,null,null,null,null,null,null,null,null,null,null,null,null,null,null,null,null,null,null,null,null,null,null,null,null,null,null,null,null,null,null,null,{"$f":"IF(OR(C1104=\"OA\",C1104=\"OB\",C1104=\"1B\",C1104=\"1A\",C1104=\"2A\",C1104=\"2B\",C1104=\"3A\",C1104=\"3B\",C1104=\"3C\"),TAN((LEFT(I1104, 5)+VLOOKUP(C1104,Main!$K$3:$L$21,2,FALSE))*PI()/180),IF(Checklist!$I$385=\"No\",TAN((LEFT(I1104, 5)+VLOOKUP(C1104,Main!$K$3:$L$21,2,FALSE))*PI()/180),\"NR\"))","v":"NR"}]
[null,null,null,null,null,null,null,null,null,null,null,null,null,null,null,null,null,null,null,null,null,null,null,null,null,null,null,null,null,null,null,null,null,null,null,null,null,null,null,null,null,null,null,null,null,null,null,null,null,null,null,null,null,null,null,null,null,null,null,null,null,null,null,null,{"$f":"IF(OR(C1105=\"OA\",C1105=\"OB\",C1105=\"1B\",C1105=\"1A\",C1105=\"2A\",C1105=\"2B\",C1105=\"3A\",C1105=\"3B\",C1105=\"3C\"),TAN((LEFT(I1105, 5)+VLOOKUP(C1105,Main!$K$3:$L$21,2,FALSE))*PI()/180),IF(Checklist!$I$385=\"No\",TAN((LEFT(I1105, 5)+VLOOKUP(C1105,Main!$K$3:$L$21,2,FALSE))*PI()/180),\"NR\"))","v":"NR"}]
[null,null,null,null,null,null,null,null,null,null,null,null,null,null,null,null,null,null,null,null,null,null,null,null,null,null,null,null,null,null,null,null,null,null,null,null,null,null,null,null,null,null,null,null,null,null,null,null,null,null,null,null,null,null,null,null,null,null,null,null,null,null,null,null,{"$f":"IF(OR(C1106=\"OA\",C1106=\"OB\",C1106=\"1B\",C1106=\"1A\",C1106=\"2A\",C1106=\"2B\",C1106=\"3A\",C1106=\"3B\",C1106=\"3C\"),TAN((LEFT(I1106, 5)+VLOOKUP(C1106,Main!$K$3:$L$21,2,FALSE))*PI()/180),IF(Checklist!$I$385=\"No\",TAN((LEFT(I1106, 5)+VLOOKUP(C1106,Main!$K$3:$L$21,2,FALSE))*PI()/180),\"NR\"))","v":"NR"}]
[null,null,null,null,null,null,null,null,null,null,null,null,null,null,null,null,null,null,null,null,null,null,null,null,null,null,null,null,null,null,null,null,null,null,null,null,null,null,null,null,null,null,null,null,null,null,null,null,null,null,null,null,null,null,null,null,null,null,null,null,null,null,null,null,{"$f":"IF(OR(C1107=\"OA\",C1107=\"OB\",C1107=\"1B\",C1107=\"1A\",C1107=\"2A\",C1107=\"2B\",C1107=\"3A\",C1107=\"3B\",C1107=\"3C\"),TAN((LEFT(I1107, 5)+VLOOKUP(C1107,Main!$K$3:$L$21,2,FALSE))*PI()/180),IF(Checklist!$I$385=\"No\",TAN((LEFT(I1107, 5)+VLOOKUP(C1107,Main!$K$3:$L$21,2,FALSE))*PI()/180),\"NR\"))","v":"NR"}]
[null,null,null,null,null,null,null,null,null,null,null,null,null,null,null,null,null,null,null,null,null,null,null,null,null,null,null,null,null,null,null,null,null,null,null,null,null,null,null,null,null,null,null,null,null,null,null,null,null,null,null,null,null,null,null,null,null,null,null,null,null,null,null,null,{"$f":"IF(OR(C1108=\"OA\",C1108=\"OB\",C1108=\"1B\",C1108=\"1A\",C1108=\"2A\",C1108=\"2B\",C1108=\"3A\",C1108=\"3B\",C1108=\"3C\"),TAN((LEFT(I1108, 5)+VLOOKUP(C1108,Main!$K$3:$L$21,2,FALSE))*PI()/180),IF(Checklist!$I$385=\"No\",TAN((LEFT(I1108, 5)+VLOOKUP(C1108,Main!$K$3:$L$21,2,FALSE))*PI()/180),\"NR\"))","v":"NR"}]
[null,null,null,null,null,null,null,null,null,null,null,null,null,null,null,null,null,null,null,null,null,null,null,null,null,null,null,null,null,null,null,null,null,null,null,null,null,null,null,null,null,null,null,null,null,null,null,null,null,null,null,null,null,null,null,null,null,null,null,null,null,null,null,null,{"$f":"IF(OR(C1109=\"OA\",C1109=\"OB\",C1109=\"1B\",C1109=\"1A\",C1109=\"2A\",C1109=\"2B\",C1109=\"3A\",C1109=\"3B\",C1109=\"3C\"),TAN((LEFT(I1109, 5)+VLOOKUP(C1109,Main!$K$3:$L$21,2,FALSE))*PI()/180),IF(Checklist!$I$385=\"No\",TAN((LEFT(I1109, 5)+VLOOKUP(C1109,Main!$K$3:$L$21,2,FALSE))*PI()/180),\"NR\"))","v":"NR"}]
[null,null,null,null,null,null,null,null,null,null,null,null,null,null,null,null,null,null,null,null,null,null,null,null,null,null,null,null,null,null,null,null,null,null,null,null,null,null,null,null,null,null,null,null,null,null,null,null,null,null,null,null,null,null,null,null,null,null,null,null,null,null,null,null,{"$f":"IF(OR(C1110=\"OA\",C1110=\"OB\",C1110=\"1B\",C1110=\"1A\",C1110=\"2A\",C1110=\"2B\",C1110=\"3A\",C1110=\"3B\",C1110=\"3C\"),TAN((LEFT(I1110, 5)+VLOOKUP(C1110,Main!$K$3:$L$21,2,FALSE))*PI()/180),IF(Checklist!$I$385=\"No\",TAN((LEFT(I1110, 5)+VLOOKUP(C1110,Main!$K$3:$L$21,2,FALSE))*PI()/180),\"NR\"))","v":"NR"}]
[null,null,null,null,null,null,null,null,null,null,null,null,null,null,null,null,null,null,null,null,null,null,null,null,null,null,null,null,null,null,null,null,null,null,null,null,null,null,null,null,null,null,null,null,null,null,null,null,null,null,null,null,null,null,null,null,null,null,null,null,null,null,null,null,{"$f":"IF(OR(C1111=\"OA\",C1111=\"OB\",C1111=\"1B\",C1111=\"1A\",C1111=\"2A\",C1111=\"2B\",C1111=\"3A\",C1111=\"3B\",C1111=\"3C\"),TAN((LEFT(I1111, 5)+VLOOKUP(C1111,Main!$K$3:$L$21,2,FALSE))*PI()/180),IF(Checklist!$I$385=\"No\",TAN((LEFT(I1111, 5)+VLOOKUP(C1111,Main!$K$3:$L$21,2,FALSE))*PI()/180),\"NR\"))","v":"NR"}]
[null,null,null,null,null,null,null,null,null,null,null,null,null,null,null,null,null,null,null,null,null,null,null,null,null,null,null,null,null,null,null,null,null,null,null,null,null,null,null,null,null,null,null,null,null,null,null,null,null,null,null,null,null,null,null,null,null,null,null,null,null,null,null,null,{"$f":"IF(OR(C1112=\"OA\",C1112=\"OB\",C1112=\"1B\",C1112=\"1A\",C1112=\"2A\",C1112=\"2B\",C1112=\"3A\",C1112=\"3B\",C1112=\"3C\"),TAN((LEFT(I1112, 5)+VLOOKUP(C1112,Main!$K$3:$L$21,2,FALSE))*PI()/180),IF(Checklist!$I$385=\"No\",TAN((LEFT(I1112, 5)+VLOOKUP(C1112,Main!$K$3:$L$21,2,FALSE))*PI()/180),\"NR\"))","v":"NR"}]
[null,null,null,null,null,null,null,null,null,null,null,null,null,null,null,null,null,null,null,null,null,null,null,null,null,null,null,null,null,null,null,null,null,null,null,null,null,null,null,null,null,null,null,null,null,null,null,null,null,null,null,null,null,null,null,null,null,null,null,null,null,null,null,null,{"$f":"IF(OR(C1113=\"OA\",C1113=\"OB\",C1113=\"1B\",C1113=\"1A\",C1113=\"2A\",C1113=\"2B\",C1113=\"3A\",C1113=\"3B\",C1113=\"3C\"),TAN((LEFT(I1113, 5)+VLOOKUP(C1113,Main!$K$3:$L$21,2,FALSE))*PI()/180),IF(Checklist!$I$385=\"No\",TAN((LEFT(I1113, 5)+VLOOKUP(C1113,Main!$K$3:$L$21,2,FALSE))*PI()/180),\"NR\"))","v":"NR"}]
[null,null,null,null,null,null,null,null,null,null,null,null,null,null,null,null,null,null,null,null,null,null,null,null,null,null,null,null,null,null,null,null,null,null,null,null,null,null,null,null,null,null,null,null,null,null,null,null,null,null,null,null,null,null,null,null,null,null,null,null,null,null,null,null,{"$f":"IF(OR(C1114=\"OA\",C1114=\"OB\",C1114=\"1B\",C1114=\"1A\",C1114=\"2A\",C1114=\"2B\",C1114=\"3A\",C1114=\"3B\",C1114=\"3C\"),TAN((LEFT(I1114, 5)+VLOOKUP(C1114,Main!$K$3:$L$21,2,FALSE))*PI()/180),IF(Checklist!$I$385=\"No\",TAN((LEFT(I1114, 5)+VLOOKUP(C1114,Main!$K$3:$L$21,2,FALSE))*PI()/180),\"NR\"))","v":"NR"}]
[null,null,null,null,null,null,null,null,null,null,null,null,null,null,null,null,null,null,null,null,null,null,null,null,null,null,null,null,null,null,null,null,null,null,null,null,null,null,null,null,null,null,null,null,null,null,null,null,null,null,null,null,null,null,null,null,null,null,null,null,null,null,null,null,{"$f":"IF(OR(C1115=\"OA\",C1115=\"OB\",C1115=\"1B\",C1115=\"1A\",C1115=\"2A\",C1115=\"2B\",C1115=\"3A\",C1115=\"3B\",C1115=\"3C\"),TAN((LEFT(I1115, 5)+VLOOKUP(C1115,Main!$K$3:$L$21,2,FALSE))*PI()/180),IF(Checklist!$I$385=\"No\",TAN((LEFT(I1115, 5)+VLOOKUP(C1115,Main!$K$3:$L$21,2,FALSE))*PI()/180),\"NR\"))","v":"NR"}]
[null,null,null,null,null,null,null,null,null,null,null,null,null,null,null,null,null,null,null,null,null,null,null,null,null,null,null,null,null,null,null,null,null,null,null,null,null,null,null,null,null,null,null,null,null,null,null,null,null,null,null,null,null,null,null,null,null,null,null,null,null,null,null,null,{"$f":"IF(OR(C1116=\"OA\",C1116=\"OB\",C1116=\"1B\",C1116=\"1A\",C1116=\"2A\",C1116=\"2B\",C1116=\"3A\",C1116=\"3B\",C1116=\"3C\"),TAN((LEFT(I1116, 5)+VLOOKUP(C1116,Main!$K$3:$L$21,2,FALSE))*PI()/180),IF(Checklist!$I$385=\"No\",TAN((LEFT(I1116, 5)+VLOOKUP(C1116,Main!$K$3:$L$21,2,FALSE))*PI()/180),\"NR\"))","v":"NR"}]
[null,null,null,null,null,null,null,null,null,null,null,null,null,null,null,null,null,null,null,null,null,null,null,null,null,null,null,null,null,null,null,null,null,null,null,null,null,null,null,null,null,null,null,null,null,null,null,null,null,null,null,null,null,null,null,null,null,null,null,null,null,null,null,null,{"$f":"IF(OR(C1117=\"OA\",C1117=\"OB\",C1117=\"1B\",C1117=\"1A\",C1117=\"2A\",C1117=\"2B\",C1117=\"3A\",C1117=\"3B\",C1117=\"3C\"),TAN((LEFT(I1117, 5)+VLOOKUP(C1117,Main!$K$3:$L$21,2,FALSE))*PI()/180),IF(Checklist!$I$385=\"No\",TAN((LEFT(I1117, 5)+VLOOKUP(C1117,Main!$K$3:$L$21,2,FALSE))*PI()/180),\"NR\"))","v":"NR"}]
[null,null,null,null,null,null,null,null,null,null,null,null,null,null,null,null,null,null,null,null,null,null,null,null,null,null,null,null,null,null,null,null,null,null,null,null,null,null,null,null,null,null,null,null,null,null,null,null,null,null,null,null,null,null,null,null,null,null,null,null,null,null,null,null,{"$f":"IF(OR(C1118=\"OA\",C1118=\"OB\",C1118=\"1B\",C1118=\"1A\",C1118=\"2A\",C1118=\"2B\",C1118=\"3A\",C1118=\"3B\",C1118=\"3C\"),TAN((LEFT(I1118, 5)+VLOOKUP(C1118,Main!$K$3:$L$21,2,FALSE))*PI()/180),IF(Checklist!$I$385=\"No\",TAN((LEFT(I1118, 5)+VLOOKUP(C1118,Main!$K$3:$L$21,2,FALSE))*PI()/180),\"NR\"))","v":"NR"}]
[null,null,null,null,null,null,null,null,null,null,null,null,null,null,null,null,null,null,null,null,null,null,null,null,null,null,null,null,null,null,null,null,null,null,null,null,null,null,null,null,null,null,null,null,null,null,null,null,null,null,null,null,null,null,null,null,null,null,null,null,null,null,null,null,{"$f":"IF(OR(C1119=\"OA\",C1119=\"OB\",C1119=\"1B\",C1119=\"1A\",C1119=\"2A\",C1119=\"2B\",C1119=\"3A\",C1119=\"3B\",C1119=\"3C\"),TAN((LEFT(I1119, 5)+VLOOKUP(C1119,Main!$K$3:$L$21,2,FALSE))*PI()/180),IF(Checklist!$I$385=\"No\",TAN((LEFT(I1119, 5)+VLOOKUP(C1119,Main!$K$3:$L$21,2,FALSE))*PI()/180),\"NR\"))","v":"NR"}]
[null,null,null,null,null,null,null,null,null,null,null,null,null,null,null,null,null,null,null,null,null,null,null,null,null,null,null,null,null,null,null,null,null,null,null,null,null,null,null,null,null,null,null,null,null,null,null,null,null,null,null,null,null,null,null,null,null,null,null,null,null,null,null,null,{"$f":"IF(OR(C1120=\"OA\",C1120=\"OB\",C1120=\"1B\",C1120=\"1A\",C1120=\"2A\",C1120=\"2B\",C1120=\"3A\",C1120=\"3B\",C1120=\"3C\"),TAN((LEFT(I1120, 5)+VLOOKUP(C1120,Main!$K$3:$L$21,2,FALSE))*PI()/180),IF(Checklist!$I$385=\"No\",TAN((LEFT(I1120, 5)+VLOOKUP(C1120,Main!$K$3:$L$21,2,FALSE))*PI()/180),\"NR\"))","v":"NR"}]
[null,null,null,null,null,null,null,null,null,null,null,null,null,null,null,null,null,null,null,null,null,null,null,null,null,null,null,null,null,null,null,null,null,null,null,null,null,null,null,null,null,null,null,null,null,null,null,null,null,null,null,null,null,null,null,null,null,null,null,null,null,null,null,null,{"$f":"IF(OR(C1121=\"OA\",C1121=\"OB\",C1121=\"1B\",C1121=\"1A\",C1121=\"2A\",C1121=\"2B\",C1121=\"3A\",C1121=\"3B\",C1121=\"3C\"),TAN((LEFT(I1121, 5)+VLOOKUP(C1121,Main!$K$3:$L$21,2,FALSE))*PI()/180),IF(Checklist!$I$385=\"No\",TAN((LEFT(I1121, 5)+VLOOKUP(C1121,Main!$K$3:$L$21,2,FALSE))*PI()/180),\"NR\"))","v":"NR"}]
[null,null,null,null,null,null,null,null,null,null,null,null,null,null,null,null,null,null,null,null,null,null,null,null,null,null,null,null,null,null,null,null,null,null,null,null,null,null,null,null,null,null,null,null,null,null,null,null,null,null,null,null,null,null,null,null,null,null,null,null,null,null,null,null,{"$f":"IF(OR(C1122=\"OA\",C1122=\"OB\",C1122=\"1B\",C1122=\"1A\",C1122=\"2A\",C1122=\"2B\",C1122=\"3A\",C1122=\"3B\",C1122=\"3C\"),TAN((LEFT(I1122, 5)+VLOOKUP(C1122,Main!$K$3:$L$21,2,FALSE))*PI()/180),IF(Checklist!$I$385=\"No\",TAN((LEFT(I1122, 5)+VLOOKUP(C1122,Main!$K$3:$L$21,2,FALSE))*PI()/180),\"NR\"))","v":"NR"}]
[null,null,null,null,null,null,null,null,null,null,null,null,null,null,null,null,null,null,null,null,null,null,null,null,null,null,null,null,null,null,null,null,null,null,null,null,null,null,null,null,null,null,null,null,null,null,null,null,null,null,null,null,null,null,null,null,null,null,null,null,null,null,null,null,{"$f":"IF(OR(C1123=\"OA\",C1123=\"OB\",C1123=\"1B\",C1123=\"1A\",C1123=\"2A\",C1123=\"2B\",C1123=\"3A\",C1123=\"3B\",C1123=\"3C\"),TAN((LEFT(I1123, 5)+VLOOKUP(C1123,Main!$K$3:$L$21,2,FALSE))*PI()/180),IF(Checklist!$I$385=\"No\",TAN((LEFT(I1123, 5)+VLOOKUP(C1123,Main!$K$3:$L$21,2,FALSE))*PI()/180),\"NR\"))","v":"NR"}]
[null,null,null,null,null,null,null,null,null,null,null,null,null,null,null,null,null,null,null,null,null,null,null,null,null,null,null,null,null,null,null,null,null,null,null,null,null,null,null,null,null,null,null,null,null,null,null,null,null,null,null,null,null,null,null,null,null,null,null,null,null,null,null,null,{"$f":"IF(OR(C1124=\"OA\",C1124=\"OB\",C1124=\"1B\",C1124=\"1A\",C1124=\"2A\",C1124=\"2B\",C1124=\"3A\",C1124=\"3B\",C1124=\"3C\"),TAN((LEFT(I1124, 5)+VLOOKUP(C1124,Main!$K$3:$L$21,2,FALSE))*PI()/180),IF(Checklist!$I$385=\"No\",TAN((LEFT(I1124, 5)+VLOOKUP(C1124,Main!$K$3:$L$21,2,FALSE))*PI()/180),\"NR\"))","v":"NR"}]
[null,null,null,null,null,null,null,null,null,null,null,null,null,null,null,null,null,null,null,null,null,null,null,null,null,null,null,null,null,null,null,null,null,null,null,null,null,null,null,null,null,null,null,null,null,null,null,null,null,null,null,null,null,null,null,null,null,null,null,null,null,null,null,null,{"$f":"IF(OR(C1125=\"OA\",C1125=\"OB\",C1125=\"1B\",C1125=\"1A\",C1125=\"2A\",C1125=\"2B\",C1125=\"3A\",C1125=\"3B\",C1125=\"3C\"),TAN((LEFT(I1125, 5)+VLOOKUP(C1125,Main!$K$3:$L$21,2,FALSE))*PI()/180),IF(Checklist!$I$385=\"No\",TAN((LEFT(I1125, 5)+VLOOKUP(C1125,Main!$K$3:$L$21,2,FALSE))*PI()/180),\"NR\"))","v":"NR"}]
[null,null,null,null,null,null,null,null,null,null,null,null,null,null,null,null,null,null,null,null,null,null,null,null,null,null,null,null,null,null,null,null,null,null,null,null,null,null,null,null,null,null,null,null,null,null,null,null,null,null,null,null,null,null,null,null,null,null,null,null,null,null,null,null,{"$f":"IF(OR(C1126=\"OA\",C1126=\"OB\",C1126=\"1B\",C1126=\"1A\",C1126=\"2A\",C1126=\"2B\",C1126=\"3A\",C1126=\"3B\",C1126=\"3C\"),TAN((LEFT(I1126, 5)+VLOOKUP(C1126,Main!$K$3:$L$21,2,FALSE))*PI()/180),IF(Checklist!$I$385=\"No\",TAN((LEFT(I1126, 5)+VLOOKUP(C1126,Main!$K$3:$L$21,2,FALSE))*PI()/180),\"NR\"))","v":"NR"}]
[null,null,null,null,null,null,null,null,null,null,null,null,null,null,null,null,null,null,null,null,null,null,null,null,null,null,null,null,null,null,null,null,null,null,null,null,null,null,null,null,null,null,null,null,null,null,null,null,null,null,null,null,null,null,null,null,null,null,null,null,null,null,null,null,{"$f":"IF(OR(C1127=\"OA\",C1127=\"OB\",C1127=\"1B\",C1127=\"1A\",C1127=\"2A\",C1127=\"2B\",C1127=\"3A\",C1127=\"3B\",C1127=\"3C\"),TAN((LEFT(I1127, 5)+VLOOKUP(C1127,Main!$K$3:$L$21,2,FALSE))*PI()/180),IF(Checklist!$I$385=\"No\",TAN((LEFT(I1127, 5)+VLOOKUP(C1127,Main!$K$3:$L$21,2,FALSE))*PI()/180),\"NR\"))","v":"NR"}]
[null,null,null,null,null,null,null,null,null,null,null,null,null,null,null,null,null,null,null,null,null,null,null,null,null,null,null,null,null,null,null,null,null,null,null,null,null,null,null,null,null,null,null,null,null,null,null,null,null,null,null,null,null,null,null,null,null,null,null,null,null,null,null,null,{"$f":"IF(OR(C1128=\"OA\",C1128=\"OB\",C1128=\"1B\",C1128=\"1A\",C1128=\"2A\",C1128=\"2B\",C1128=\"3A\",C1128=\"3B\",C1128=\"3C\"),TAN((LEFT(I1128, 5)+VLOOKUP(C1128,Main!$K$3:$L$21,2,FALSE))*PI()/180),IF(Checklist!$I$385=\"No\",TAN((LEFT(I1128, 5)+VLOOKUP(C1128,Main!$K$3:$L$21,2,FALSE))*PI()/180),\"NR\"))","v":"NR"}]
[null,null,null,null,null,null,null,null,null,null,null,null,null,null,null,null,null,null,null,null,null,null,null,null,null,null,null,null,null,null,null,null,null,null,null,null,null,null,null,null,null,null,null,null,null,null,null,null,null,null,null,null,null,null,null,null,null,null,null,null,null,null,null,null,{"$f":"IF(OR(C1129=\"OA\",C1129=\"OB\",C1129=\"1B\",C1129=\"1A\",C1129=\"2A\",C1129=\"2B\",C1129=\"3A\",C1129=\"3B\",C1129=\"3C\"),TAN((LEFT(I1129, 5)+VLOOKUP(C1129,Main!$K$3:$L$21,2,FALSE))*PI()/180),IF(Checklist!$I$385=\"No\",TAN((LEFT(I1129, 5)+VLOOKUP(C1129,Main!$K$3:$L$21,2,FALSE))*PI()/180),\"NR\"))","v":"NR"}]
[null,null,null,null,null,null,null,null,null,null,null,null,null,null,null,null,null,null,null,null,null,null,null,null,null,null,null,null,null,null,null,null,null,null,null,null,null,null,null,null,null,null,null,null,null,null,null,null,null,null,null,null,null,null,null,null,null,null,null,null,null,null,null,null,{"$f":"IF(OR(C1130=\"OA\",C1130=\"OB\",C1130=\"1B\",C1130=\"1A\",C1130=\"2A\",C1130=\"2B\",C1130=\"3A\",C1130=\"3B\",C1130=\"3C\"),TAN((LEFT(I1130, 5)+VLOOKUP(C1130,Main!$K$3:$L$21,2,FALSE))*PI()/180),IF(Checklist!$I$385=\"No\",TAN((LEFT(I1130, 5)+VLOOKUP(C1130,Main!$K$3:$L$21,2,FALSE))*PI()/180),\"NR\"))","v":"NR"}]
[null,null,null,null,null,null,null,null,null,null,null,null,null,null,null,null,null,null,null,null,null,null,null,null,null,null,null,null,null,null,null,null,null,null,null,null,null,null,null,null,null,null,null,null,null,null,null,null,null,null,null,null,null,null,null,null,null,null,null,null,null,null,null,null,{"$f":"IF(OR(C1131=\"OA\",C1131=\"OB\",C1131=\"1B\",C1131=\"1A\",C1131=\"2A\",C1131=\"2B\",C1131=\"3A\",C1131=\"3B\",C1131=\"3C\"),TAN((LEFT(I1131, 5)+VLOOKUP(C1131,Main!$K$3:$L$21,2,FALSE))*PI()/180),IF(Checklist!$I$385=\"No\",TAN((LEFT(I1131, 5)+VLOOKUP(C1131,Main!$K$3:$L$21,2,FALSE))*PI()/180),\"NR\"))","v":"NR"}]
[null,null,null,null,null,null,null,null,null,null,null,null,null,null,null,null,null,null,null,null,null,null,null,null,null,null,null,null,null,null,null,null,null,null,null,null,null,null,null,null,null,null,null,null,null,null,null,null,null,null,null,null,null,null,null,null,null,null,null,null,null,null,null,null,{"$f":"IF(OR(C1132=\"OA\",C1132=\"OB\",C1132=\"1B\",C1132=\"1A\",C1132=\"2A\",C1132=\"2B\",C1132=\"3A\",C1132=\"3B\",C1132=\"3C\"),TAN((LEFT(I1132, 5)+VLOOKUP(C1132,Main!$K$3:$L$21,2,FALSE))*PI()/180),IF(Checklist!$I$385=\"No\",TAN((LEFT(I1132, 5)+VLOOKUP(C1132,Main!$K$3:$L$21,2,FALSE))*PI()/180),\"NR\"))","v":"NR"}]
[null,null,null,null,null,null,null,null,null,null,null,null,null,null,null,null,null,null,null,null,null,null,null,null,null,null,null,null,null,null,null,null,null,null,null,null,null,null,null,null,null,null,null,null,null,null,null,null,null,null,null,null,null,null,null,null,null,null,null,null,null,null,null,null,{"$f":"IF(OR(C1133=\"OA\",C1133=\"OB\",C1133=\"1B\",C1133=\"1A\",C1133=\"2A\",C1133=\"2B\",C1133=\"3A\",C1133=\"3B\",C1133=\"3C\"),TAN((LEFT(I1133, 5)+VLOOKUP(C1133,Main!$K$3:$L$21,2,FALSE))*PI()/180),IF(Checklist!$I$385=\"No\",TAN((LEFT(I1133, 5)+VLOOKUP(C1133,Main!$K$3:$L$21,2,FALSE))*PI()/180),\"NR\"))","v":"NR"}]
[null,null,null,null,null,null,null,null,null,null,null,null,null,null,null,null,null,null,null,null,null,null,null,null,null,null,null,null,null,null,null,null,null,null,null,null,null,null,null,null,null,null,null,null,null,null,null,null,null,null,null,null,null,null,null,null,null,null,null,null,null,null,null,null,{"$f":"IF(OR(C1134=\"OA\",C1134=\"OB\",C1134=\"1B\",C1134=\"1A\",C1134=\"2A\",C1134=\"2B\",C1134=\"3A\",C1134=\"3B\",C1134=\"3C\"),TAN((LEFT(I1134, 5)+VLOOKUP(C1134,Main!$K$3:$L$21,2,FALSE))*PI()/180),IF(Checklist!$I$385=\"No\",TAN((LEFT(I1134, 5)+VLOOKUP(C1134,Main!$K$3:$L$21,2,FALSE))*PI()/180),\"NR\"))","v":"NR"}]
[null,null,null,null,null,null,null,null,null,null,null,null,null,null,null,null,null,null,null,null,null,null,null,null,null,null,null,null,null,null,null,null,null,null,null,null,null,null,null,null,null,null,null,null,null,null,null,null,null,null,null,null,null,null,null,null,null,null,null,null,null,null,null,null,{"$f":"IF(OR(C1135=\"OA\",C1135=\"OB\",C1135=\"1B\",C1135=\"1A\",C1135=\"2A\",C1135=\"2B\",C1135=\"3A\",C1135=\"3B\",C1135=\"3C\"),TAN((LEFT(I1135, 5)+VLOOKUP(C1135,Main!$K$3:$L$21,2,FALSE))*PI()/180),IF(Checklist!$I$385=\"No\",TAN((LEFT(I1135, 5)+VLOOKUP(C1135,Main!$K$3:$L$21,2,FALSE))*PI()/180),\"NR\"))","v":"NR"}]
[null,null,null,null,null,null,null,null,null,null,null,null,null,null,null,null,null,null,null,null,null,null,null,null,null,null,null,null,null,null,null,null,null,null,null,null,null,null,null,null,null,null,null,null,null,null,null,null,null,null,null,null,null,null,null,null,null,null,null,null,null,null,null,null,{"$f":"IF(OR(C1136=\"OA\",C1136=\"OB\",C1136=\"1B\",C1136=\"1A\",C1136=\"2A\",C1136=\"2B\",C1136=\"3A\",C1136=\"3B\",C1136=\"3C\"),TAN((LEFT(I1136, 5)+VLOOKUP(C1136,Main!$K$3:$L$21,2,FALSE))*PI()/180),IF(Checklist!$I$385=\"No\",TAN((LEFT(I1136, 5)+VLOOKUP(C1136,Main!$K$3:$L$21,2,FALSE))*PI()/180),\"NR\"))","v":"NR"}]
[null,null,null,null,null,null,null,null,null,null,null,null,null,null,null,null,null,null,null,null,null,null,null,null,null,null,null,null,null,null,null,null,null,null,null,null,null,null,null,null,null,null,null,null,null,null,null,null,null,null,null,null,null,null,null,null,null,null,null,null,null,null,null,null,{"$f":"IF(OR(C1137=\"OA\",C1137=\"OB\",C1137=\"1B\",C1137=\"1A\",C1137=\"2A\",C1137=\"2B\",C1137=\"3A\",C1137=\"3B\",C1137=\"3C\"),TAN((LEFT(I1137, 5)+VLOOKUP(C1137,Main!$K$3:$L$21,2,FALSE))*PI()/180),IF(Checklist!$I$385=\"No\",TAN((LEFT(I1137, 5)+VLOOKUP(C1137,Main!$K$3:$L$21,2,FALSE))*PI()/180),\"NR\"))","v":"NR"}]
[null,null,null,null,null,null,null,null,null,null,null,null,null,null,null,null,null,null,null,null,null,null,null,null,null,null,null,null,null,null,null,null,null,null,null,null,null,null,null,null,null,null,null,null,null,null,null,null,null,null,null,null,null,null,null,null,null,null,null,null,null,null,null,null,{"$f":"IF(OR(C1138=\"OA\",C1138=\"OB\",C1138=\"1B\",C1138=\"1A\",C1138=\"2A\",C1138=\"2B\",C1138=\"3A\",C1138=\"3B\",C1138=\"3C\"),TAN((LEFT(I1138, 5)+VLOOKUP(C1138,Main!$K$3:$L$21,2,FALSE))*PI()/180),IF(Checklist!$I$385=\"No\",TAN((LEFT(I1138, 5)+VLOOKUP(C1138,Main!$K$3:$L$21,2,FALSE))*PI()/180),\"NR\"))","v":"NR"}]
[null,null,null,null,null,null,null,null,null,null,null,null,null,null,null,null,null,null,null,null,null,null,null,null,null,null,null,null,null,null,null,null,null,null,null,null,null,null,null,null,null,null,null,null,null,null,null,null,null,null,null,null,null,null,null,null,null,null,null,null,null,null,null,null,{"$f":"IF(OR(C1139=\"OA\",C1139=\"OB\",C1139=\"1B\",C1139=\"1A\",C1139=\"2A\",C1139=\"2B\",C1139=\"3A\",C1139=\"3B\",C1139=\"3C\"),TAN((LEFT(I1139, 5)+VLOOKUP(C1139,Main!$K$3:$L$21,2,FALSE))*PI()/180),IF(Checklist!$I$385=\"No\",TAN((LEFT(I1139, 5)+VLOOKUP(C1139,Main!$K$3:$L$21,2,FALSE))*PI()/180),\"NR\"))","v":"NR"}]
[null,null,null,null,null,null,null,null,null,null,null,null,null,null,null,null,null,null,null,null,null,null,null,null,null,null,null,null,null,null,null,null,null,null,null,null,null,null,null,null,null,null,null,null,null,null,null,null,null,null,null,null,null,null,null,null,null,null,null,null,null,null,null,null,{"$f":"IF(OR(C1140=\"OA\",C1140=\"OB\",C1140=\"1B\",C1140=\"1A\",C1140=\"2A\",C1140=\"2B\",C1140=\"3A\",C1140=\"3B\",C1140=\"3C\"),TAN((LEFT(I1140, 5)+VLOOKUP(C1140,Main!$K$3:$L$21,2,FALSE))*PI()/180),IF(Checklist!$I$385=\"No\",TAN((LEFT(I1140, 5)+VLOOKUP(C1140,Main!$K$3:$L$21,2,FALSE))*PI()/180),\"NR\"))","v":"NR"}]
[null,null,null,null,null,null,null,null,null,null,null,null,null,null,null,null,null,null,null,null,null,null,null,null,null,null,null,null,null,null,null,null,null,null,null,null,null,null,null,null,null,null,null,null,null,null,null,null,null,null,null,null,null,null,null,null,null,null,null,null,null,null,null,null,{"$f":"IF(OR(C1141=\"OA\",C1141=\"OB\",C1141=\"1B\",C1141=\"1A\",C1141=\"2A\",C1141=\"2B\",C1141=\"3A\",C1141=\"3B\",C1141=\"3C\"),TAN((LEFT(I1141, 5)+VLOOKUP(C1141,Main!$K$3:$L$21,2,FALSE))*PI()/180),IF(Checklist!$I$385=\"No\",TAN((LEFT(I1141, 5)+VLOOKUP(C1141,Main!$K$3:$L$21,2,FALSE))*PI()/180),\"NR\"))","v":"NR"}]
[null,null,null,null,null,null,null,null,null,null,null,null,null,null,null,null,null,null,null,null,null,null,null,null,null,null,null,null,null,null,null,null,null,null,null,null,null,null,null,null,null,null,null,null,null,null,null,null,null,null,null,null,null,null,null,null,null,null,null,null,null,null,null,null,{"$f":"IF(OR(C1142=\"OA\",C1142=\"OB\",C1142=\"1B\",C1142=\"1A\",C1142=\"2A\",C1142=\"2B\",C1142=\"3A\",C1142=\"3B\",C1142=\"3C\"),TAN((LEFT(I1142, 5)+VLOOKUP(C1142,Main!$K$3:$L$21,2,FALSE))*PI()/180),IF(Checklist!$I$385=\"No\",TAN((LEFT(I1142, 5)+VLOOKUP(C1142,Main!$K$3:$L$21,2,FALSE))*PI()/180),\"NR\"))","v":"NR"}]
[null,null,null,null,null,null,null,null,null,null,null,null,null,null,null,null,null,null,null,null,null,null,null,null,null,null,null,null,null,null,null,null,null,null,null,null,null,null,null,null,null,null,null,null,null,null,null,null,null,null,null,null,null,null,null,null,null,null,null,null,null,null,null,null,{"$f":"IF(OR(C1143=\"OA\",C1143=\"OB\",C1143=\"1B\",C1143=\"1A\",C1143=\"2A\",C1143=\"2B\",C1143=\"3A\",C1143=\"3B\",C1143=\"3C\"),TAN((LEFT(I1143, 5)+VLOOKUP(C1143,Main!$K$3:$L$21,2,FALSE))*PI()/180),IF(Checklist!$I$385=\"No\",TAN((LEFT(I1143, 5)+VLOOKUP(C1143,Main!$K$3:$L$21,2,FALSE))*PI()/180),\"NR\"))","v":"NR"}]
[null,null,null,null,null,null,null,null,null,null,null,null,null,null,null,null,null,null,null,null,null,null,null,null,null,null,null,null,null,null,null,null,null,null,null,null,null,null,null,null,null,null,null,null,null,null,null,null,null,null,null,null,null,null,null,null,null,null,null,null,null,null,null,null,{"$f":"IF(OR(C1144=\"OA\",C1144=\"OB\",C1144=\"1B\",C1144=\"1A\",C1144=\"2A\",C1144=\"2B\",C1144=\"3A\",C1144=\"3B\",C1144=\"3C\"),TAN((LEFT(I1144, 5)+VLOOKUP(C1144,Main!$K$3:$L$21,2,FALSE))*PI()/180),IF(Checklist!$I$385=\"No\",TAN((LEFT(I1144, 5)+VLOOKUP(C1144,Main!$K$3:$L$21,2,FALSE))*PI()/180),\"NR\"))","v":"NR"}]
[null,null,null,null,null,null,null,null,null,null,null,null,null,null,null,null,null,null,null,null,null,null,null,null,null,null,null,null,null,null,null,null,null,null,null,null,null,null,null,null,null,null,null,null,null,null,null,null,null,null,null,null,null,null,null,null,null,null,null,null,null,null,null,null,{"$f":"IF(OR(C1145=\"OA\",C1145=\"OB\",C1145=\"1B\",C1145=\"1A\",C1145=\"2A\",C1145=\"2B\",C1145=\"3A\",C1145=\"3B\",C1145=\"3C\"),TAN((LEFT(I1145, 5)+VLOOKUP(C1145,Main!$K$3:$L$21,2,FALSE))*PI()/180),IF(Checklist!$I$385=\"No\",TAN((LEFT(I1145, 5)+VLOOKUP(C1145,Main!$K$3:$L$21,2,FALSE))*PI()/180),\"NR\"))","v":"NR"}]
[null,null,null,null,null,null,null,null,null,null,null,null,null,null,null,null,null,null,null,null,null,null,null,null,null,null,null,null,null,null,null,null,null,null,null,null,null,null,null,null,null,null,null,null,null,null,null,null,null,null,null,null,null,null,null,null,null,null,null,null,null,null,null,null,{"$f":"IF(OR(C1146=\"OA\",C1146=\"OB\",C1146=\"1B\",C1146=\"1A\",C1146=\"2A\",C1146=\"2B\",C1146=\"3A\",C1146=\"3B\",C1146=\"3C\"),TAN((LEFT(I1146, 5)+VLOOKUP(C1146,Main!$K$3:$L$21,2,FALSE))*PI()/180),IF(Checklist!$I$385=\"No\",TAN((LEFT(I1146, 5)+VLOOKUP(C1146,Main!$K$3:$L$21,2,FALSE))*PI()/180),\"NR\"))","v":"NR"}]
[null,null,null,null,null,null,null,null,null,null,null,null,null,null,null,null,null,null,null,null,null,null,null,null,null,null,null,null,null,null,null,null,null,null,null,null,null,null,null,null,null,null,null,null,null,null,null,null,null,null,null,null,null,null,null,null,null,null,null,null,null,null,null,null,{"$f":"IF(OR(C1147=\"OA\",C1147=\"OB\",C1147=\"1B\",C1147=\"1A\",C1147=\"2A\",C1147=\"2B\",C1147=\"3A\",C1147=\"3B\",C1147=\"3C\"),TAN((LEFT(I1147, 5)+VLOOKUP(C1147,Main!$K$3:$L$21,2,FALSE))*PI()/180),IF(Checklist!$I$385=\"No\",TAN((LEFT(I1147, 5)+VLOOKUP(C1147,Main!$K$3:$L$21,2,FALSE))*PI()/180),\"NR\"))","v":"NR"}]
[null,null,null,null,null,null,null,null,null,null,null,null,null,null,null,null,null,null,null,null,null,null,null,null,null,null,null,null,null,null,null,null,null,null,null,null,null,null,null,null,null,null,null,null,null,null,null,null,null,null,null,null,null,null,null,null,null,null,null,null,null,null,null,null,{"$f":"IF(OR(C1148=\"OA\",C1148=\"OB\",C1148=\"1B\",C1148=\"1A\",C1148=\"2A\",C1148=\"2B\",C1148=\"3A\",C1148=\"3B\",C1148=\"3C\"),TAN((LEFT(I1148, 5)+VLOOKUP(C1148,Main!$K$3:$L$21,2,FALSE))*PI()/180),IF(Checklist!$I$385=\"No\",TAN((LEFT(I1148, 5)+VLOOKUP(C1148,Main!$K$3:$L$21,2,FALSE))*PI()/180),\"NR\"))","v":"NR"}]
[null,null,null,null,null,null,null,null,null,null,null,null,null,null,null,null,null,null,null,null,null,null,null,null,null,null,null,null,null,null,null,null,null,null,null,null,null,null,null,null,null,null,null,null,null,null,null,null,null,null,null,null,null,null,null,null,null,null,null,null,null,null,null,null,{"$f":"IF(OR(C1149=\"OA\",C1149=\"OB\",C1149=\"1B\",C1149=\"1A\",C1149=\"2A\",C1149=\"2B\",C1149=\"3A\",C1149=\"3B\",C1149=\"3C\"),TAN((LEFT(I1149, 5)+VLOOKUP(C1149,Main!$K$3:$L$21,2,FALSE))*PI()/180),IF(Checklist!$I$385=\"No\",TAN((LEFT(I1149, 5)+VLOOKUP(C1149,Main!$K$3:$L$21,2,FALSE))*PI()/180),\"NR\"))","v":"NR"}]
[null,null,null,null,null,null,null,null,null,null,null,null,null,null,null,null,null,null,null,null,null,null,null,null,null,null,null,null,null,null,null,null,null,null,null,null,null,null,null,null,null,null,null,null,null,null,null,null,null,null,null,null,null,null,null,null,null,null,null,null,null,null,null,null,{"$f":"IF(OR(C1150=\"OA\",C1150=\"OB\",C1150=\"1B\",C1150=\"1A\",C1150=\"2A\",C1150=\"2B\",C1150=\"3A\",C1150=\"3B\",C1150=\"3C\"),TAN((LEFT(I1150, 5)+VLOOKUP(C1150,Main!$K$3:$L$21,2,FALSE))*PI()/180),IF(Checklist!$I$385=\"No\",TAN((LEFT(I1150, 5)+VLOOKUP(C1150,Main!$K$3:$L$21,2,FALSE))*PI()/180),\"NR\"))","v":"NR"}]
[null,null,null,null,null,null,null,null,null,null,null,null,null,null,null,null,null,null,null,null,null,null,null,null,null,null,null,null,null,null,null,null,null,null,null,null,null,null,null,null,null,null,null,null,null,null,null,null,null,null,null,null,null,null,null,null,null,null,null,null,null,null,null,null,{"$f":"IF(OR(C1151=\"OA\",C1151=\"OB\",C1151=\"1B\",C1151=\"1A\",C1151=\"2A\",C1151=\"2B\",C1151=\"3A\",C1151=\"3B\",C1151=\"3C\"),TAN((LEFT(I1151, 5)+VLOOKUP(C1151,Main!$K$3:$L$21,2,FALSE))*PI()/180),IF(Checklist!$I$385=\"No\",TAN((LEFT(I1151, 5)+VLOOKUP(C1151,Main!$K$3:$L$21,2,FALSE))*PI()/180),\"NR\"))","v":"NR"}]
[null,null,null,null,null,null,null,null,null,null,null,null,null,null,null,null,null,null,null,null,null,null,null,null,null,null,null,null,null,null,null,null,null,null,null,null,null,null,null,null,null,null,null,null,null,null,null,null,null,null,null,null,null,null,null,null,null,null,null,null,null,null,null,null,{"$f":"IF(OR(C1152=\"OA\",C1152=\"OB\",C1152=\"1B\",C1152=\"1A\",C1152=\"2A\",C1152=\"2B\",C1152=\"3A\",C1152=\"3B\",C1152=\"3C\"),TAN((LEFT(I1152, 5)+VLOOKUP(C1152,Main!$K$3:$L$21,2,FALSE))*PI()/180),IF(Checklist!$I$385=\"No\",TAN((LEFT(I1152, 5)+VLOOKUP(C1152,Main!$K$3:$L$21,2,FALSE))*PI()/180),\"NR\"))","v":"NR"}]
[null,null,null,null,null,null,null,null,null,null,null,null,null,null,null,null,null,null,null,null,null,null,null,null,null,null,null,null,null,null,null,null,null,null,null,null,null,null,null,null,null,null,null,null,null,null,null,null,null,null,null,null,null,null,null,null,null,null,null,null,null,null,null,null,{"$f":"IF(OR(C1153=\"OA\",C1153=\"OB\",C1153=\"1B\",C1153=\"1A\",C1153=\"2A\",C1153=\"2B\",C1153=\"3A\",C1153=\"3B\",C1153=\"3C\"),TAN((LEFT(I1153, 5)+VLOOKUP(C1153,Main!$K$3:$L$21,2,FALSE))*PI()/180),IF(Checklist!$I$385=\"No\",TAN((LEFT(I1153, 5)+VLOOKUP(C1153,Main!$K$3:$L$21,2,FALSE))*PI()/180),\"NR\"))","v":"NR"}]
[null,null,null,null,null,null,null,null,null,null,null,null,null,null,null,null,null,null,null,null,null,null,null,null,null,null,null,null,null,null,null,null,null,null,null,null,null,null,null,null,null,null,null,null,null,null,null,null,null,null,null,null,null,null,null,null,null,null,null,null,null,null,null,null,{"$f":"IF(OR(C1154=\"OA\",C1154=\"OB\",C1154=\"1B\",C1154=\"1A\",C1154=\"2A\",C1154=\"2B\",C1154=\"3A\",C1154=\"3B\",C1154=\"3C\"),TAN((LEFT(I1154, 5)+VLOOKUP(C1154,Main!$K$3:$L$21,2,FALSE))*PI()/180),IF(Checklist!$I$385=\"No\",TAN((LEFT(I1154, 5)+VLOOKUP(C1154,Main!$K$3:$L$21,2,FALSE))*PI()/180),\"NR\"))","v":"NR"}]
[null,null,null,null,null,null,null,null,null,null,null,null,null,null,null,null,null,null,null,null,null,null,null,null,null,null,null,null,null,null,null,null,null,null,null,null,null,null,null,null,null,null,null,null,null,null,null,null,null,null,null,null,null,null,null,null,null,null,null,null,null,null,null,null,{"$f":"IF(OR(C1155=\"OA\",C1155=\"OB\",C1155=\"1B\",C1155=\"1A\",C1155=\"2A\",C1155=\"2B\",C1155=\"3A\",C1155=\"3B\",C1155=\"3C\"),TAN((LEFT(I1155, 5)+VLOOKUP(C1155,Main!$K$3:$L$21,2,FALSE))*PI()/180),IF(Checklist!$I$385=\"No\",TAN((LEFT(I1155, 5)+VLOOKUP(C1155,Main!$K$3:$L$21,2,FALSE))*PI()/180),\"NR\"))","v":"NR"}]
[null,null,null,null,null,null,null,null,null,null,null,null,null,null,null,null,null,null,null,null,null,null,null,null,null,null,null,null,null,null,null,null,null,null,null,null,null,null,null,null,null,null,null,null,null,null,null,null,null,null,null,null,null,null,null,null,null,null,null,null,null,null,null,null,{"$f":"IF(OR(C1156=\"OA\",C1156=\"OB\",C1156=\"1B\",C1156=\"1A\",C1156=\"2A\",C1156=\"2B\",C1156=\"3A\",C1156=\"3B\",C1156=\"3C\"),TAN((LEFT(I1156, 5)+VLOOKUP(C1156,Main!$K$3:$L$21,2,FALSE))*PI()/180),IF(Checklist!$I$385=\"No\",TAN((LEFT(I1156, 5)+VLOOKUP(C1156,Main!$K$3:$L$21,2,FALSE))*PI()/180),\"NR\"))","v":"NR"}]
[null,null,null,null,null,null,null,null,null,null,null,null,null,null,null,null,null,null,null,null,null,null,null,null,null,null,null,null,null,null,null,null,null,null,null,null,null,null,null,null,null,null,null,null,null,null,null,null,null,null,null,null,null,null,null,null,null,null,null,null,null,null,null,null,{"$f":"IF(OR(C1157=\"OA\",C1157=\"OB\",C1157=\"1B\",C1157=\"1A\",C1157=\"2A\",C1157=\"2B\",C1157=\"3A\",C1157=\"3B\",C1157=\"3C\"),TAN((LEFT(I1157, 5)+VLOOKUP(C1157,Main!$K$3:$L$21,2,FALSE))*PI()/180),IF(Checklist!$I$385=\"No\",TAN((LEFT(I1157, 5)+VLOOKUP(C1157,Main!$K$3:$L$21,2,FALSE))*PI()/180),\"NR\"))","v":"NR"}]
[null,null,null,null,null,null,null,null,null,null,null,null,null,null,null,null,null,null,null,null,null,null,null,null,null,null,null,null,null,null,null,null,null,null,null,null,null,null,null,null,null,null,null,null,null,null,null,null,null,null,null,null,null,null,null,null,null,null,null,null,null,null,null,null,{"$f":"IF(OR(C1158=\"OA\",C1158=\"OB\",C1158=\"1B\",C1158=\"1A\",C1158=\"2A\",C1158=\"2B\",C1158=\"3A\",C1158=\"3B\",C1158=\"3C\"),TAN((LEFT(I1158, 5)+VLOOKUP(C1158,Main!$K$3:$L$21,2,FALSE))*PI()/180),IF(Checklist!$I$385=\"No\",TAN((LEFT(I1158, 5)+VLOOKUP(C1158,Main!$K$3:$L$21,2,FALSE))*PI()/180),\"NR\"))","v":"NR"}]
[null,null,null,null,null,null,null,null,null,null,null,null,null,null,null,null,null,null,null,null,null,null,null,null,null,null,null,null,null,null,null,null,null,null,null,null,null,null,null,null,null,null,null,null,null,null,null,null,null,null,null,null,null,null,null,null,null,null,null,null,null,null,null,null,{"$f":"IF(OR(C1159=\"OA\",C1159=\"OB\",C1159=\"1B\",C1159=\"1A\",C1159=\"2A\",C1159=\"2B\",C1159=\"3A\",C1159=\"3B\",C1159=\"3C\"),TAN((LEFT(I1159, 5)+VLOOKUP(C1159,Main!$K$3:$L$21,2,FALSE))*PI()/180),IF(Checklist!$I$385=\"No\",TAN((LEFT(I1159, 5)+VLOOKUP(C1159,Main!$K$3:$L$21,2,FALSE))*PI()/180),\"NR\"))","v":"NR"}]
[null,null,null,null,null,null,null,null,null,null,null,null,null,null,null,null,null,null,null,null,null,null,null,null,null,null,null,null,null,null,null,null,null,null,null,null,null,null,null,null,null,null,null,null,null,null,null,null,null,null,null,null,null,null,null,null,null,null,null,null,null,null,null,null,{"$f":"IF(OR(C1160=\"OA\",C1160=\"OB\",C1160=\"1B\",C1160=\"1A\",C1160=\"2A\",C1160=\"2B\",C1160=\"3A\",C1160=\"3B\",C1160=\"3C\"),TAN((LEFT(I1160, 5)+VLOOKUP(C1160,Main!$K$3:$L$21,2,FALSE))*PI()/180),IF(Checklist!$I$385=\"No\",TAN((LEFT(I1160, 5)+VLOOKUP(C1160,Main!$K$3:$L$21,2,FALSE))*PI()/180),\"NR\"))","v":"NR"}]
[null,null,null,null,null,null,null,null,null,null,null,null,null,null,null,null,null,null,null,null,null,null,null,null,null,null,null,null,null,null,null,null,null,null,null,null,null,null,null,null,null,null,null,null,null,null,null,null,null,null,null,null,null,null,null,null,null,null,null,null,null,null,null,null,{"$f":"IF(OR(C1161=\"OA\",C1161=\"OB\",C1161=\"1B\",C1161=\"1A\",C1161=\"2A\",C1161=\"2B\",C1161=\"3A\",C1161=\"3B\",C1161=\"3C\"),TAN((LEFT(I1161, 5)+VLOOKUP(C1161,Main!$K$3:$L$21,2,FALSE))*PI()/180),IF(Checklist!$I$385=\"No\",TAN((LEFT(I1161, 5)+VLOOKUP(C1161,Main!$K$3:$L$21,2,FALSE))*PI()/180),\"NR\"))","v":"NR"}]
[null,null,null,null,null,null,null,null,null,null,null,null,null,null,null,null,null,null,null,null,null,null,null,null,null,null,null,null,null,null,null,null,null,null,null,null,null,null,null,null,null,null,null,null,null,null,null,null,null,null,null,null,null,null,null,null,null,null,null,null,null,null,null,null,{"$f":"IF(OR(C1162=\"OA\",C1162=\"OB\",C1162=\"1B\",C1162=\"1A\",C1162=\"2A\",C1162=\"2B\",C1162=\"3A\",C1162=\"3B\",C1162=\"3C\"),TAN((LEFT(I1162, 5)+VLOOKUP(C1162,Main!$K$3:$L$21,2,FALSE))*PI()/180),IF(Checklist!$I$385=\"No\",TAN((LEFT(I1162, 5)+VLOOKUP(C1162,Main!$K$3:$L$21,2,FALSE))*PI()/180),\"NR\"))","v":"NR"}]
[null,null,null,null,null,null,null,null,null,null,null,null,null,null,null,null,null,null,null,null,null,null,null,null,null,null,null,null,null,null,null,null,null,null,null,null,null,null,null,null,null,null,null,null,null,null,null,null,null,null,null,null,null,null,null,null,null,null,null,null,null,null,null,null,{"$f":"IF(OR(C1163=\"OA\",C1163=\"OB\",C1163=\"1B\",C1163=\"1A\",C1163=\"2A\",C1163=\"2B\",C1163=\"3A\",C1163=\"3B\",C1163=\"3C\"),TAN((LEFT(I1163, 5)+VLOOKUP(C1163,Main!$K$3:$L$21,2,FALSE))*PI()/180),IF(Checklist!$I$385=\"No\",TAN((LEFT(I1163, 5)+VLOOKUP(C1163,Main!$K$3:$L$21,2,FALSE))*PI()/180),\"NR\"))","v":"NR"}]
[null,null,null,null,null,null,null,null,null,null,null,null,null,null,null,null,null,null,null,null,null,null,null,null,null,null,null,null,null,null,null,null,null,null,null,null,null,null,null,null,null,null,null,null,null,null,null,null,null,null,null,null,null,null,null,null,null,null,null,null,null,null,null,null,{"$f":"IF(OR(C1164=\"OA\",C1164=\"OB\",C1164=\"1B\",C1164=\"1A\",C1164=\"2A\",C1164=\"2B\",C1164=\"3A\",C1164=\"3B\",C1164=\"3C\"),TAN((LEFT(I1164, 5)+VLOOKUP(C1164,Main!$K$3:$L$21,2,FALSE))*PI()/180),IF(Checklist!$I$385=\"No\",TAN((LEFT(I1164, 5)+VLOOKUP(C1164,Main!$K$3:$L$21,2,FALSE))*PI()/180),\"NR\"))","v":"NR"}]
[null,null,null,null,null,null,null,null,null,null,null,null,null,null,null,null,null,null,null,null,null,null,null,null,null,null,null,null,null,null,null,null,null,null,null,null,null,null,null,null,null,null,null,null,null,null,null,null,null,null,null,null,null,null,null,null,null,null,null,null,null,null,null,null,{"$f":"IF(OR(C1165=\"OA\",C1165=\"OB\",C1165=\"1B\",C1165=\"1A\",C1165=\"2A\",C1165=\"2B\",C1165=\"3A\",C1165=\"3B\",C1165=\"3C\"),TAN((LEFT(I1165, 5)+VLOOKUP(C1165,Main!$K$3:$L$21,2,FALSE))*PI()/180),IF(Checklist!$I$385=\"No\",TAN((LEFT(I1165, 5)+VLOOKUP(C1165,Main!$K$3:$L$21,2,FALSE))*PI()/180),\"NR\"))","v":"NR"}]
[null,null,null,null,null,null,null,null,null,null,null,null,null,null,null,null,null,null,null,null,null,null,null,null,null,null,null,null,null,null,null,null,null,null,null,null,null,null,null,null,null,null,null,null,null,null,null,null,null,null,null,null,null,null,null,null,null,null,null,null,null,null,null,null,{"$f":"IF(OR(C1166=\"OA\",C1166=\"OB\",C1166=\"1B\",C1166=\"1A\",C1166=\"2A\",C1166=\"2B\",C1166=\"3A\",C1166=\"3B\",C1166=\"3C\"),TAN((LEFT(I1166, 5)+VLOOKUP(C1166,Main!$K$3:$L$21,2,FALSE))*PI()/180),IF(Checklist!$I$385=\"No\",TAN((LEFT(I1166, 5)+VLOOKUP(C1166,Main!$K$3:$L$21,2,FALSE))*PI()/180),\"NR\"))","v":"NR"}]
[null,null,null,null,null,null,null,null,null,null,null,null,null,null,null,null,null,null,null,null,null,null,null,null,null,null,null,null,null,null,null,null,null,null,null,null,null,null,null,null,null,null,null,null,null,null,null,null,null,null,null,null,null,null,null,null,null,null,null,null,null,null,null,null,{"$f":"IF(OR(C1167=\"OA\",C1167=\"OB\",C1167=\"1B\",C1167=\"1A\",C1167=\"2A\",C1167=\"2B\",C1167=\"3A\",C1167=\"3B\",C1167=\"3C\"),TAN((LEFT(I1167, 5)+VLOOKUP(C1167,Main!$K$3:$L$21,2,FALSE))*PI()/180),IF(Checklist!$I$385=\"No\",TAN((LEFT(I1167, 5)+VLOOKUP(C1167,Main!$K$3:$L$21,2,FALSE))*PI()/180),\"NR\"))","v":"NR"}]
[null,null,null,null,null,null,null,null,null,null,null,null,null,null,null,null,null,null,null,null,null,null,null,null,null,null,null,null,null,null,null,null,null,null,null,null,null,null,null,null,null,null,null,null,null,null,null,null,null,null,null,null,null,null,null,null,null,null,null,null,null,null,null,null,{"$f":"IF(OR(C1168=\"OA\",C1168=\"OB\",C1168=\"1B\",C1168=\"1A\",C1168=\"2A\",C1168=\"2B\",C1168=\"3A\",C1168=\"3B\",C1168=\"3C\"),TAN((LEFT(I1168, 5)+VLOOKUP(C1168,Main!$K$3:$L$21,2,FALSE))*PI()/180),IF(Checklist!$I$385=\"No\",TAN((LEFT(I1168, 5)+VLOOKUP(C1168,Main!$K$3:$L$21,2,FALSE))*PI()/180),\"NR\"))","v":"NR"}]
[null,null,null,null,null,null,null,null,null,null,null,null,null,null,null,null,null,null,null,null,null,null,null,null,null,null,null,null,null,null,null,null,null,null,null,null,null,null,null,null,null,null,null,null,null,null,null,null,null,null,null,null,null,null,null,null,null,null,null,null,null,null,null,null,{"$f":"IF(OR(C1169=\"OA\",C1169=\"OB\",C1169=\"1B\",C1169=\"1A\",C1169=\"2A\",C1169=\"2B\",C1169=\"3A\",C1169=\"3B\",C1169=\"3C\"),TAN((LEFT(I1169, 5)+VLOOKUP(C1169,Main!$K$3:$L$21,2,FALSE))*PI()/180),IF(Checklist!$I$385=\"No\",TAN((LEFT(I1169, 5)+VLOOKUP(C1169,Main!$K$3:$L$21,2,FALSE))*PI()/180),\"NR\"))","v":"NR"}]
[null,null,null,null,null,null,null,null,null,null,null,null,null,null,null,null,null,null,null,null,null,null,null,null,null,null,null,null,null,null,null,null,null,null,null,null,null,null,null,null,null,null,null,null,null,null,null,null,null,null,null,null,null,null,null,null,null,null,null,null,null,null,null,null,{"$f":"IF(OR(C1170=\"OA\",C1170=\"OB\",C1170=\"1B\",C1170=\"1A\",C1170=\"2A\",C1170=\"2B\",C1170=\"3A\",C1170=\"3B\",C1170=\"3C\"),TAN((LEFT(I1170, 5)+VLOOKUP(C1170,Main!$K$3:$L$21,2,FALSE))*PI()/180),IF(Checklist!$I$385=\"No\",TAN((LEFT(I1170, 5)+VLOOKUP(C1170,Main!$K$3:$L$21,2,FALSE))*PI()/180),\"NR\"))","v":"NR"}]
[null,null,null,null,null,null,null,null,null,null,null,null,null,null,null,null,null,null,null,null,null,null,null,null,null,null,null,null,null,null,null,null,null,null,null,null,null,null,null,null,null,null,null,null,null,null,null,null,null,null,null,null,null,null,null,null,null,null,null,null,null,null,null,null,{"$f":"IF(OR(C1171=\"OA\",C1171=\"OB\",C1171=\"1B\",C1171=\"1A\",C1171=\"2A\",C1171=\"2B\",C1171=\"3A\",C1171=\"3B\",C1171=\"3C\"),TAN((LEFT(I1171, 5)+VLOOKUP(C1171,Main!$K$3:$L$21,2,FALSE))*PI()/180),IF(Checklist!$I$385=\"No\",TAN((LEFT(I1171, 5)+VLOOKUP(C1171,Main!$K$3:$L$21,2,FALSE))*PI()/180),\"NR\"))","v":"NR"}]
[null,null,null,null,null,null,null,null,null,null,null,null,null,null,null,null,null,null,null,null,null,null,null,null,null,null,null,null,null,null,null,null,null,null,null,null,null,null,null,null,null,null,null,null,null,null,null,null,null,null,null,null,null,null,null,null,null,null,null,null,null,null,null,null,{"$f":"IF(OR(C1172=\"OA\",C1172=\"OB\",C1172=\"1B\",C1172=\"1A\",C1172=\"2A\",C1172=\"2B\",C1172=\"3A\",C1172=\"3B\",C1172=\"3C\"),TAN((LEFT(I1172, 5)+VLOOKUP(C1172,Main!$K$3:$L$21,2,FALSE))*PI()/180),IF(Checklist!$I$385=\"No\",TAN((LEFT(I1172, 5)+VLOOKUP(C1172,Main!$K$3:$L$21,2,FALSE))*PI()/180),\"NR\"))","v":"NR"}]
[null,null,null,null,null,null,null,null,null,null,null,null,null,null,null,null,null,null,null,null,null,null,null,null,null,null,null,null,null,null,null,null,null,null,null,null,null,null,null,null,null,null,null,null,null,null,null,null,null,null,null,null,null,null,null,null,null,null,null,null,null,null,null,null,{"$f":"IF(OR(C1173=\"OA\",C1173=\"OB\",C1173=\"1B\",C1173=\"1A\",C1173=\"2A\",C1173=\"2B\",C1173=\"3A\",C1173=\"3B\",C1173=\"3C\"),TAN((LEFT(I1173, 5)+VLOOKUP(C1173,Main!$K$3:$L$21,2,FALSE))*PI()/180),IF(Checklist!$I$385=\"No\",TAN((LEFT(I1173, 5)+VLOOKUP(C1173,Main!$K$3:$L$21,2,FALSE))*PI()/180),\"NR\"))","v":"NR"}]
[null,null,null,null,null,null,null,null,null,null,null,null,null,null,null,null,null,null,null,null,null,null,null,null,null,null,null,null,null,null,null,null,null,null,null,null,null,null,null,null,null,null,null,null,null,null,null,null,null,null,null,null,null,null,null,null,null,null,null,null,null,null,null,null,{"$f":"IF(OR(C1174=\"OA\",C1174=\"OB\",C1174=\"1B\",C1174=\"1A\",C1174=\"2A\",C1174=\"2B\",C1174=\"3A\",C1174=\"3B\",C1174=\"3C\"),TAN((LEFT(I1174, 5)+VLOOKUP(C1174,Main!$K$3:$L$21,2,FALSE))*PI()/180),IF(Checklist!$I$385=\"No\",TAN((LEFT(I1174, 5)+VLOOKUP(C1174,Main!$K$3:$L$21,2,FALSE))*PI()/180),\"NR\"))","v":"NR"}]
[null,null,null,null,null,null,null,null,null,null,null,null,null,null,null,null,null,null,null,null,null,null,null,null,null,null,null,null,null,null,null,null,null,null,null,null,null,null,null,null,null,null,null,null,null,null,null,null,null,null,null,null,null,null,null,null,null,null,null,null,null,null,null,null,{"$f":"IF(OR(C1175=\"OA\",C1175=\"OB\",C1175=\"1B\",C1175=\"1A\",C1175=\"2A\",C1175=\"2B\",C1175=\"3A\",C1175=\"3B\",C1175=\"3C\"),TAN((LEFT(I1175, 5)+VLOOKUP(C1175,Main!$K$3:$L$21,2,FALSE))*PI()/180),IF(Checklist!$I$385=\"No\",TAN((LEFT(I1175, 5)+VLOOKUP(C1175,Main!$K$3:$L$21,2,FALSE))*PI()/180),\"NR\"))","v":"NR"}]
[null,null,null,null,null,null,null,null,null,null,null,null,null,null,null,null,null,null,null,null,null,null,null,null,null,null,null,null,null,null,null,null,null,null,null,null,null,null,null,null,null,null,null,null,null,null,null,null,null,null,null,null,null,null,null,null,null,null,null,null,null,null,null,null,{"$f":"IF(OR(C1176=\"OA\",C1176=\"OB\",C1176=\"1B\",C1176=\"1A\",C1176=\"2A\",C1176=\"2B\",C1176=\"3A\",C1176=\"3B\",C1176=\"3C\"),TAN((LEFT(I1176, 5)+VLOOKUP(C1176,Main!$K$3:$L$21,2,FALSE))*PI()/180),IF(Checklist!$I$385=\"No\",TAN((LEFT(I1176, 5)+VLOOKUP(C1176,Main!$K$3:$L$21,2,FALSE))*PI()/180),\"NR\"))","v":"NR"}]
[null,null,null,null,null,null,null,null,null,null,null,null,null,null,null,null,null,null,null,null,null,null,null,null,null,null,null,null,null,null,null,null,null,null,null,null,null,null,null,null,null,null,null,null,null,null,null,null,null,null,null,null,null,null,null,null,null,null,null,null,null,null,null,null,{"$f":"IF(OR(C1177=\"OA\",C1177=\"OB\",C1177=\"1B\",C1177=\"1A\",C1177=\"2A\",C1177=\"2B\",C1177=\"3A\",C1177=\"3B\",C1177=\"3C\"),TAN((LEFT(I1177, 5)+VLOOKUP(C1177,Main!$K$3:$L$21,2,FALSE))*PI()/180),IF(Checklist!$I$385=\"No\",TAN((LEFT(I1177, 5)+VLOOKUP(C1177,Main!$K$3:$L$21,2,FALSE))*PI()/180),\"NR\"))","v":"NR"}]
[null,null,null,null,null,null,null,null,null,null,null,null,null,null,null,null,null,null,null,null,null,null,null,null,null,null,null,null,null,null,null,null,null,null,null,null,null,null,null,null,null,null,null,null,null,null,null,null,null,null,null,null,null,null,null,null,null,null,null,null,null,null,null,null,{"$f":"IF(OR(C1178=\"OA\",C1178=\"OB\",C1178=\"1B\",C1178=\"1A\",C1178=\"2A\",C1178=\"2B\",C1178=\"3A\",C1178=\"3B\",C1178=\"3C\"),TAN((LEFT(I1178, 5)+VLOOKUP(C1178,Main!$K$3:$L$21,2,FALSE))*PI()/180),IF(Checklist!$I$385=\"No\",TAN((LEFT(I1178, 5)+VLOOKUP(C1178,Main!$K$3:$L$21,2,FALSE))*PI()/180),\"NR\"))","v":"NR"}]
[null,null,null,null,null,null,null,null,null,null,null,null,null,null,null,null,null,null,null,null,null,null,null,null,null,null,null,null,null,null,null,null,null,null,null,null,null,null,null,null,null,null,null,null,null,null,null,null,null,null,null,null,null,null,null,null,null,null,null,null,null,null,null,null,{"$f":"IF(OR(C1179=\"OA\",C1179=\"OB\",C1179=\"1B\",C1179=\"1A\",C1179=\"2A\",C1179=\"2B\",C1179=\"3A\",C1179=\"3B\",C1179=\"3C\"),TAN((LEFT(I1179, 5)+VLOOKUP(C1179,Main!$K$3:$L$21,2,FALSE))*PI()/180),IF(Checklist!$I$385=\"No\",TAN((LEFT(I1179, 5)+VLOOKUP(C1179,Main!$K$3:$L$21,2,FALSE))*PI()/180),\"NR\"))","v":"NR"}]
[null,null,null,null,null,null,null,null,null,null,null,null,null,null,null,null,null,null,null,null,null,null,null,null,null,null,null,null,null,null,null,null,null,null,null,null,null,null,null,null,null,null,null,null,null,null,null,null,null,null,null,null,null,null,null,null,null,null,null,null,null,null,null,null,{"$f":"IF(OR(C1180=\"OA\",C1180=\"OB\",C1180=\"1B\",C1180=\"1A\",C1180=\"2A\",C1180=\"2B\",C1180=\"3A\",C1180=\"3B\",C1180=\"3C\"),TAN((LEFT(I1180, 5)+VLOOKUP(C1180,Main!$K$3:$L$21,2,FALSE))*PI()/180),IF(Checklist!$I$385=\"No\",TAN((LEFT(I1180, 5)+VLOOKUP(C1180,Main!$K$3:$L$21,2,FALSE))*PI()/180),\"NR\"))","v":"NR"}]
[null,null,null,null,null,null,null,null,null,null,null,null,null,null,null,null,null,null,null,null,null,null,null,null,null,null,null,null,null,null,null,null,null,null,null,null,null,null,null,null,null,null,null,null,null,null,null,null,null,null,null,null,null,null,null,null,null,null,null,null,null,null,null,null,{"$f":"IF(OR(C1181=\"OA\",C1181=\"OB\",C1181=\"1B\",C1181=\"1A\",C1181=\"2A\",C1181=\"2B\",C1181=\"3A\",C1181=\"3B\",C1181=\"3C\"),TAN((LEFT(I1181, 5)+VLOOKUP(C1181,Main!$K$3:$L$21,2,FALSE))*PI()/180),IF(Checklist!$I$385=\"No\",TAN((LEFT(I1181, 5)+VLOOKUP(C1181,Main!$K$3:$L$21,2,FALSE))*PI()/180),\"NR\"))","v":"NR"}]
[null,null,null,null,null,null,null,null,null,null,null,null,null,null,null,null,null,null,null,null,null,null,null,null,null,null,null,null,null,null,null,null,null,null,null,null,null,null,null,null,null,null,null,null,null,null,null,null,null,null,null,null,null,null,null,null,null,null,null,null,null,null,null,null,{"$f":"IF(OR(C1182=\"OA\",C1182=\"OB\",C1182=\"1B\",C1182=\"1A\",C1182=\"2A\",C1182=\"2B\",C1182=\"3A\",C1182=\"3B\",C1182=\"3C\"),TAN((LEFT(I1182, 5)+VLOOKUP(C1182,Main!$K$3:$L$21,2,FALSE))*PI()/180),IF(Checklist!$I$385=\"No\",TAN((LEFT(I1182, 5)+VLOOKUP(C1182,Main!$K$3:$L$21,2,FALSE))*PI()/180),\"NR\"))","v":"NR"}]
[null,null,null,null,null,null,null,null,null,null,null,null,null,null,null,null,null,null,null,null,null,null,null,null,null,null,null,null,null,null,null,null,null,null,null,null,null,null,null,null,null,null,null,null,null,null,null,null,null,null,null,null,null,null,null,null,null,null,null,null,null,null,null,null,{"$f":"IF(OR(C1183=\"OA\",C1183=\"OB\",C1183=\"1B\",C1183=\"1A\",C1183=\"2A\",C1183=\"2B\",C1183=\"3A\",C1183=\"3B\",C1183=\"3C\"),TAN((LEFT(I1183, 5)+VLOOKUP(C1183,Main!$K$3:$L$21,2,FALSE))*PI()/180),IF(Checklist!$I$385=\"No\",TAN((LEFT(I1183, 5)+VLOOKUP(C1183,Main!$K$3:$L$21,2,FALSE))*PI()/180),\"NR\"))","v":"NR"}]
[null,null,null,null,null,null,null,null,null,null,null,null,null,null,null,null,null,null,null,null,null,null,null,null,null,null,null,null,null,null,null,null,null,null,null,null,null,null,null,null,null,null,null,null,null,null,null,null,null,null,null,null,null,null,null,null,null,null,null,null,null,null,null,null,{"$f":"IF(OR(C1184=\"OA\",C1184=\"OB\",C1184=\"1B\",C1184=\"1A\",C1184=\"2A\",C1184=\"2B\",C1184=\"3A\",C1184=\"3B\",C1184=\"3C\"),TAN((LEFT(I1184, 5)+VLOOKUP(C1184,Main!$K$3:$L$21,2,FALSE))*PI()/180),IF(Checklist!$I$385=\"No\",TAN((LEFT(I1184, 5)+VLOOKUP(C1184,Main!$K$3:$L$21,2,FALSE))*PI()/180),\"NR\"))","v":"NR"}]
[null,null,null,null,null,null,null,null,null,null,null,null,null,null,null,null,null,null,null,null,null,null,null,null,null,null,null,null,null,null,null,null,null,null,null,null,null,null,null,null,null,null,null,null,null,null,null,null,null,null,null,null,null,null,null,null,null,null,null,null,null,null,null,null,{"$f":"IF(OR(C1185=\"OA\",C1185=\"OB\",C1185=\"1B\",C1185=\"1A\",C1185=\"2A\",C1185=\"2B\",C1185=\"3A\",C1185=\"3B\",C1185=\"3C\"),TAN((LEFT(I1185, 5)+VLOOKUP(C1185,Main!$K$3:$L$21,2,FALSE))*PI()/180),IF(Checklist!$I$385=\"No\",TAN((LEFT(I1185, 5)+VLOOKUP(C1185,Main!$K$3:$L$21,2,FALSE))*PI()/180),\"NR\"))","v":"NR"}]
[null,null,null,null,null,null,null,null,null,null,null,null,null,null,null,null,null,null,null,null,null,null,null,null,null,null,null,null,null,null,null,null,null,null,null,null,null,null,null,null,null,null,null,null,null,null,null,null,null,null,null,null,null,null,null,null,null,null,null,null,null,null,null,null,{"$f":"IF(OR(C1186=\"OA\",C1186=\"OB\",C1186=\"1B\",C1186=\"1A\",C1186=\"2A\",C1186=\"2B\",C1186=\"3A\",C1186=\"3B\",C1186=\"3C\"),TAN((LEFT(I1186, 5)+VLOOKUP(C1186,Main!$K$3:$L$21,2,FALSE))*PI()/180),IF(Checklist!$I$385=\"No\",TAN((LEFT(I1186, 5)+VLOOKUP(C1186,Main!$K$3:$L$21,2,FALSE))*PI()/180),\"NR\"))","v":"NR"}]
[null,null,null,null,null,null,null,null,null,null,null,null,null,null,null,null,null,null,null,null,null,null,null,null,null,null,null,null,null,null,null,null,null,null,null,null,null,null,null,null,null,null,null,null,null,null,null,null,null,null,null,null,null,null,null,null,null,null,null,null,null,null,null,null,{"$f":"IF(OR(C1187=\"OA\",C1187=\"OB\",C1187=\"1B\",C1187=\"1A\",C1187=\"2A\",C1187=\"2B\",C1187=\"3A\",C1187=\"3B\",C1187=\"3C\"),TAN((LEFT(I1187, 5)+VLOOKUP(C1187,Main!$K$3:$L$21,2,FALSE))*PI()/180),IF(Checklist!$I$385=\"No\",TAN((LEFT(I1187, 5)+VLOOKUP(C1187,Main!$K$3:$L$21,2,FALSE))*PI()/180),\"NR\"))","v":"NR"}]
[null,null,null,null,null,null,null,null,null,null,null,null,null,null,null,null,null,null,null,null,null,null,null,null,null,null,null,null,null,null,null,null,null,null,null,null,null,null,null,null,null,null,null,null,null,null,null,null,null,null,null,null,null,null,null,null,null,null,null,null,null,null,null,null,{"$f":"IF(OR(C1188=\"OA\",C1188=\"OB\",C1188=\"1B\",C1188=\"1A\",C1188=\"2A\",C1188=\"2B\",C1188=\"3A\",C1188=\"3B\",C1188=\"3C\"),TAN((LEFT(I1188, 5)+VLOOKUP(C1188,Main!$K$3:$L$21,2,FALSE))*PI()/180),IF(Checklist!$I$385=\"No\",TAN((LEFT(I1188, 5)+VLOOKUP(C1188,Main!$K$3:$L$21,2,FALSE))*PI()/180),\"NR\"))","v":"NR"}]
[null,null,null,null,null,null,null,null,null,null,null,null,null,null,null,null,null,null,null,null,null,null,null,null,null,null,null,null,null,null,null,null,null,null,null,null,null,null,null,null,null,null,null,null,null,null,null,null,null,null,null,null,null,null,null,null,null,null,null,null,null,null,null,null,{"$f":"IF(OR(C1189=\"OA\",C1189=\"OB\",C1189=\"1B\",C1189=\"1A\",C1189=\"2A\",C1189=\"2B\",C1189=\"3A\",C1189=\"3B\",C1189=\"3C\"),TAN((LEFT(I1189, 5)+VLOOKUP(C1189,Main!$K$3:$L$21,2,FALSE))*PI()/180),IF(Checklist!$I$385=\"No\",TAN((LEFT(I1189, 5)+VLOOKUP(C1189,Main!$K$3:$L$21,2,FALSE))*PI()/180),\"NR\"))","v":"NR"}]
[null,null,null,null,null,null,null,null,null,null,null,null,null,null,null,null,null,null,null,null,null,null,null,null,null,null,null,null,null,null,null,null,null,null,null,null,null,null,null,null,null,null,null,null,null,null,null,null,null,null,null,null,null,null,null,null,null,null,null,null,null,null,null,null,{"$f":"IF(OR(C1190=\"OA\",C1190=\"OB\",C1190=\"1B\",C1190=\"1A\",C1190=\"2A\",C1190=\"2B\",C1190=\"3A\",C1190=\"3B\",C1190=\"3C\"),TAN((LEFT(I1190, 5)+VLOOKUP(C1190,Main!$K$3:$L$21,2,FALSE))*PI()/180),IF(Checklist!$I$385=\"No\",TAN((LEFT(I1190, 5)+VLOOKUP(C1190,Main!$K$3:$L$21,2,FALSE))*PI()/180),\"NR\"))","v":"NR"}]
[null,null,null,null,null,null,null,null,null,null,null,null,null,null,null,null,null,null,null,null,null,null,null,null,null,null,null,null,null,null,null,null,null,null,null,null,null,null,null,null,null,null,null,null,null,null,null,null,null,null,null,null,null,null,null,null,null,null,null,null,null,null,null,null,{"$f":"IF(OR(C1191=\"OA\",C1191=\"OB\",C1191=\"1B\",C1191=\"1A\",C1191=\"2A\",C1191=\"2B\",C1191=\"3A\",C1191=\"3B\",C1191=\"3C\"),TAN((LEFT(I1191, 5)+VLOOKUP(C1191,Main!$K$3:$L$21,2,FALSE))*PI()/180),IF(Checklist!$I$385=\"No\",TAN((LEFT(I1191, 5)+VLOOKUP(C1191,Main!$K$3:$L$21,2,FALSE))*PI()/180),\"NR\"))","v":"NR"}]
[null,null,null,null,null,null,null,null,null,null,null,null,null,null,null,null,null,null,null,null,null,null,null,null,null,null,null,null,null,null,null,null,null,null,null,null,null,null,null,null,null,null,null,null,null,null,null,null,null,null,null,null,null,null,null,null,null,null,null,null,null,null,null,null,{"$f":"IF(OR(C1192=\"OA\",C1192=\"OB\",C1192=\"1B\",C1192=\"1A\",C1192=\"2A\",C1192=\"2B\",C1192=\"3A\",C1192=\"3B\",C1192=\"3C\"),TAN((LEFT(I1192, 5)+VLOOKUP(C1192,Main!$K$3:$L$21,2,FALSE))*PI()/180),IF(Checklist!$I$385=\"No\",TAN((LEFT(I1192, 5)+VLOOKUP(C1192,Main!$K$3:$L$21,2,FALSE))*PI()/180),\"NR\"))","v":"NR"}]
[null,null,null,null,null,null,null,null,null,null,null,null,null,null,null,null,null,null,null,null,null,null,null,null,null,null,null,null,null,null,null,null,null,null,null,null,null,null,null,null,null,null,null,null,null,null,null,null,null,null,null,null,null,null,null,null,null,null,null,null,null,null,null,null,{"$f":"IF(OR(C1193=\"OA\",C1193=\"OB\",C1193=\"1B\",C1193=\"1A\",C1193=\"2A\",C1193=\"2B\",C1193=\"3A\",C1193=\"3B\",C1193=\"3C\"),TAN((LEFT(I1193, 5)+VLOOKUP(C1193,Main!$K$3:$L$21,2,FALSE))*PI()/180),IF(Checklist!$I$385=\"No\",TAN((LEFT(I1193, 5)+VLOOKUP(C1193,Main!$K$3:$L$21,2,FALSE))*PI()/180),\"NR\"))","v":"NR"}]
[null,null,null,null,null,null,null,null,null,null,null,null,null,null,null,null,null,null,null,null,null,null,null,null,null,null,null,null,null,null,null,null,null,null,null,null,null,null,null,null,null,null,null,null,null,null,null,null,null,null,null,null,null,null,null,null,null,null,null,null,null,null,null,null,{"$f":"IF(OR(C1194=\"OA\",C1194=\"OB\",C1194=\"1B\",C1194=\"1A\",C1194=\"2A\",C1194=\"2B\",C1194=\"3A\",C1194=\"3B\",C1194=\"3C\"),TAN((LEFT(I1194, 5)+VLOOKUP(C1194,Main!$K$3:$L$21,2,FALSE))*PI()/180),IF(Checklist!$I$385=\"No\",TAN((LEFT(I1194, 5)+VLOOKUP(C1194,Main!$K$3:$L$21,2,FALSE))*PI()/180),\"NR\"))","v":"NR"}]
[null,null,null,null,null,null,null,null,null,null,null,null,null,null,null,null,null,null,null,null,null,null,null,null,null,null,null,null,null,null,null,null,null,null,null,null,null,null,null,null,null,null,null,null,null,null,null,null,null,null,null,null,null,null,null,null,null,null,null,null,null,null,null,null,{"$f":"IF(OR(C1195=\"OA\",C1195=\"OB\",C1195=\"1B\",C1195=\"1A\",C1195=\"2A\",C1195=\"2B\",C1195=\"3A\",C1195=\"3B\",C1195=\"3C\"),TAN((LEFT(I1195, 5)+VLOOKUP(C1195,Main!$K$3:$L$21,2,FALSE))*PI()/180),IF(Checklist!$I$385=\"No\",TAN((LEFT(I1195, 5)+VLOOKUP(C1195,Main!$K$3:$L$21,2,FALSE))*PI()/180),\"NR\"))","v":"NR"}]
[null,null,null,null,null,null,null,null,null,null,null,null,null,null,null,null,null,null,null,null,null,null,null,null,null,null,null,null,null,null,null,null,null,null,null,null,null,null,null,null,null,null,null,null,null,null,null,null,null,null,null,null,null,null,null,null,null,null,null,null,null,null,null,null,{"$f":"IF(OR(C1196=\"OA\",C1196=\"OB\",C1196=\"1B\",C1196=\"1A\",C1196=\"2A\",C1196=\"2B\",C1196=\"3A\",C1196=\"3B\",C1196=\"3C\"),TAN((LEFT(I1196, 5)+VLOOKUP(C1196,Main!$K$3:$L$21,2,FALSE))*PI()/180),IF(Checklist!$I$385=\"No\",TAN((LEFT(I1196, 5)+VLOOKUP(C1196,Main!$K$3:$L$21,2,FALSE))*PI()/180),\"NR\"))","v":"NR"}]
[null,null,null,null,null,null,null,null,null,null,null,null,null,null,null,null,null,null,null,null,null,null,null,null,null,null,null,null,null,null,null,null,null,null,null,null,null,null,null,null,null,null,null,null,null,null,null,null,null,null,null,null,null,null,null,null,null,null,null,null,null,null,null,null,{"$f":"IF(OR(C1197=\"OA\",C1197=\"OB\",C1197=\"1B\",C1197=\"1A\",C1197=\"2A\",C1197=\"2B\",C1197=\"3A\",C1197=\"3B\",C1197=\"3C\"),TAN((LEFT(I1197, 5)+VLOOKUP(C1197,Main!$K$3:$L$21,2,FALSE))*PI()/180),IF(Checklist!$I$385=\"No\",TAN((LEFT(I1197, 5)+VLOOKUP(C1197,Main!$K$3:$L$21,2,FALSE))*PI()/180),\"NR\"))","v":"NR"}]
[null,null,null,null,null,null,null,null,null,null,null,null,null,null,null,null,null,null,null,null,null,null,null,null,null,null,null,null,null,null,null,null,null,null,null,null,null,null,null,null,null,null,null,null,null,null,null,null,null,null,null,null,null,null,null,null,null,null,null,null,null,null,null,null,{"$f":"IF(OR(C1198=\"OA\",C1198=\"OB\",C1198=\"1B\",C1198=\"1A\",C1198=\"2A\",C1198=\"2B\",C1198=\"3A\",C1198=\"3B\",C1198=\"3C\"),TAN((LEFT(I1198, 5)+VLOOKUP(C1198,Main!$K$3:$L$21,2,FALSE))*PI()/180),IF(Checklist!$I$385=\"No\",TAN((LEFT(I1198, 5)+VLOOKUP(C1198,Main!$K$3:$L$21,2,FALSE))*PI()/180),\"NR\"))","v":"NR"}]
[null,null,null,null,null,null,null,null,null,null,null,null,null,null,null,null,null,null,null,null,null,null,null,null,null,null,null,null,null,null,null,null,null,null,null,null,null,null,null,null,null,null,null,null,null,null,null,null,null,null,null,null,null,null,null,null,null,null,null,null,null,null,null,null,{"$f":"IF(OR(C1199=\"OA\",C1199=\"OB\",C1199=\"1B\",C1199=\"1A\",C1199=\"2A\",C1199=\"2B\",C1199=\"3A\",C1199=\"3B\",C1199=\"3C\"),TAN((LEFT(I1199, 5)+VLOOKUP(C1199,Main!$K$3:$L$21,2,FALSE))*PI()/180),IF(Checklist!$I$385=\"No\",TAN((LEFT(I1199, 5)+VLOOKUP(C1199,Main!$K$3:$L$21,2,FALSE))*PI()/180),\"NR\"))","v":"NR"}]
[null,null,null,null,null,null,null,null,null,null,null,null,null,null,null,null,null,null,null,null,null,null,null,null,null,null,null,null,null,null,null,null,null,null,null,null,null,null,null,null,null,null,null,null,null,null,null,null,null,null,null,null,null,null,null,null,null,null,null,null,null,null,null,null,{"$f":"IF(OR(C1200=\"OA\",C1200=\"OB\",C1200=\"1B\",C1200=\"1A\",C1200=\"2A\",C1200=\"2B\",C1200=\"3A\",C1200=\"3B\",C1200=\"3C\"),TAN((LEFT(I1200, 5)+VLOOKUP(C1200,Main!$K$3:$L$21,2,FALSE))*PI()/180),IF(Checklist!$I$385=\"No\",TAN((LEFT(I1200, 5)+VLOOKUP(C1200,Main!$K$3:$L$21,2,FALSE))*PI()/180),\"NR\"))","v":"NR"}]
[null,null,null,null,null,null,null,null,null,null,null,null,null,null,null,null,null,null,null,null,null,null,null,null,null,null,null,null,null,null,null,null,null,null,null,null,null,null,null,null,null,null,null,null,null,null,null,null,null,null,null,null,null,null,null,null,null,null,null,null,null,null,null,null,{"$f":"IF(OR(C1201=\"OA\",C1201=\"OB\",C1201=\"1B\",C1201=\"1A\",C1201=\"2A\",C1201=\"2B\",C1201=\"3A\",C1201=\"3B\",C1201=\"3C\"),TAN((LEFT(I1201, 5)+VLOOKUP(C1201,Main!$K$3:$L$21,2,FALSE))*PI()/180),IF(Checklist!$I$385=\"No\",TAN((LEFT(I1201, 5)+VLOOKUP(C1201,Main!$K$3:$L$21,2,FALSE))*PI()/180),\"NR\"))","v":"NR"}]
[null,null,null,null,null,null,null,null,null,null,null,null,null,null,null,null,null,null,null,null,null,null,null,null,null,null,null,null,null,null,null,null,null,null,null,null,null,null,null,null,null,null,null,null,null,null,null,null,null,null,null,null,null,null,null,null,null,null,null,null,null,null,null,null,{"$f":"IF(OR(C1202=\"OA\",C1202=\"OB\",C1202=\"1B\",C1202=\"1A\",C1202=\"2A\",C1202=\"2B\",C1202=\"3A\",C1202=\"3B\",C1202=\"3C\"),TAN((LEFT(I1202, 5)+VLOOKUP(C1202,Main!$K$3:$L$21,2,FALSE))*PI()/180),IF(Checklist!$I$385=\"No\",TAN((LEFT(I1202, 5)+VLOOKUP(C1202,Main!$K$3:$L$21,2,FALSE))*PI()/180),\"NR\"))","v":"NR"}]
[null,null,null,null,null,null,null,null,null,null,null,null,null,null,null,null,null,null,null,null,null,null,null,null,null,null,null,null,null,null,null,null,null,null,null,null,null,null,null,null,null,null,null,null,null,null,null,null,null,null,null,null,null,null,null,null,null,null,null,null,null,null,null,null,{"$f":"IF(OR(C1203=\"OA\",C1203=\"OB\",C1203=\"1B\",C1203=\"1A\",C1203=\"2A\",C1203=\"2B\",C1203=\"3A\",C1203=\"3B\",C1203=\"3C\"),TAN((LEFT(I1203, 5)+VLOOKUP(C1203,Main!$K$3:$L$21,2,FALSE))*PI()/180),IF(Checklist!$I$385=\"No\",TAN((LEFT(I1203, 5)+VLOOKUP(C1203,Main!$K$3:$L$21,2,FALSE))*PI()/180),\"NR\"))","v":"NR"}]
[null,null,null,null,null,null,null,null,null,null,null,null,null,null,null,null,null,null,null,null,null,null,null,null,null,null,null,null,null,null,null,null,null,null,null,null,null,null,null,null,null,null,null,null,null,null,null,null,null,null,null,null,null,null,null,null,null,null,null,null,null,null,null,null,{"$f":"IF(OR(C1204=\"OA\",C1204=\"OB\",C1204=\"1B\",C1204=\"1A\",C1204=\"2A\",C1204=\"2B\",C1204=\"3A\",C1204=\"3B\",C1204=\"3C\"),TAN((LEFT(I1204, 5)+VLOOKUP(C1204,Main!$K$3:$L$21,2,FALSE))*PI()/180),IF(Checklist!$I$385=\"No\",TAN((LEFT(I1204, 5)+VLOOKUP(C1204,Main!$K$3:$L$21,2,FALSE))*PI()/180),\"NR\"))","v":"NR"}]
[null,null,null,null,null,null,null,null,null,null,null,null,null,null,null,null,null,null,null,null,null,null,null,null,null,null,null,null,null,null,null,null,null,null,null,null,null,null,null,null,null,null,null,null,null,null,null,null,null,null,null,null,null,null,null,null,null,null,null,null,null,null,null,null,{"$f":"IF(OR(C1205=\"OA\",C1205=\"OB\",C1205=\"1B\",C1205=\"1A\",C1205=\"2A\",C1205=\"2B\",C1205=\"3A\",C1205=\"3B\",C1205=\"3C\"),TAN((LEFT(I1205, 5)+VLOOKUP(C1205,Main!$K$3:$L$21,2,FALSE))*PI()/180),IF(Checklist!$I$385=\"No\",TAN((LEFT(I1205, 5)+VLOOKUP(C1205,Main!$K$3:$L$21,2,FALSE))*PI()/180),\"NR\"))","v":"NR"}]
[null,null,null,null,null,null,null,null,null,null,null,null,null,null,null,null,null,null,null,null,null,null,null,null,null,null,null,null,null,null,null,null,null,null,null,null,null,null,null,null,null,null,null,null,null,null,null,null,null,null,null,null,null,null,null,null,null,null,null,null,null,null,null,null,{"$f":"IF(OR(C1206=\"OA\",C1206=\"OB\",C1206=\"1B\",C1206=\"1A\",C1206=\"2A\",C1206=\"2B\",C1206=\"3A\",C1206=\"3B\",C1206=\"3C\"),TAN((LEFT(I1206, 5)+VLOOKUP(C1206,Main!$K$3:$L$21,2,FALSE))*PI()/180),IF(Checklist!$I$385=\"No\",TAN((LEFT(I1206, 5)+VLOOKUP(C1206,Main!$K$3:$L$21,2,FALSE))*PI()/180),\"NR\"))","v":"NR"}]
[null,null,null,null,null,null,null,null,null,null,null,null,null,null,null,null,null,null,null,null,null,null,null,null,null,null,null,null,null,null,null,null,null,null,null,null,null,null,null,null,null,null,null,null,null,null,null,null,null,null,null,null,null,null,null,null,null,null,null,null,null,null,null,null,{"$f":"IF(OR(C1207=\"OA\",C1207=\"OB\",C1207=\"1B\",C1207=\"1A\",C1207=\"2A\",C1207=\"2B\",C1207=\"3A\",C1207=\"3B\",C1207=\"3C\"),TAN((LEFT(I1207, 5)+VLOOKUP(C1207,Main!$K$3:$L$21,2,FALSE))*PI()/180),IF(Checklist!$I$385=\"No\",TAN((LEFT(I1207, 5)+VLOOKUP(C1207,Main!$K$3:$L$21,2,FALSE))*PI()/180),\"NR\"))","v":"NR"}]
[null,null,null,null,null,null,null,null,null,null,null,null,null,null,null,null,null,null,null,null,null,null,null,null,null,null,null,null,null,null,null,null,null,null,null,null,null,null,null,null,null,null,null,null,null,null,null,null,null,null,null,null,null,null,null,null,null,null,null,null,null,null,null,null,{"$f":"IF(OR(C1208=\"OA\",C1208=\"OB\",C1208=\"1B\",C1208=\"1A\",C1208=\"2A\",C1208=\"2B\",C1208=\"3A\",C1208=\"3B\",C1208=\"3C\"),TAN((LEFT(I1208, 5)+VLOOKUP(C1208,Main!$K$3:$L$21,2,FALSE))*PI()/180),IF(Checklist!$I$385=\"No\",TAN((LEFT(I1208, 5)+VLOOKUP(C1208,Main!$K$3:$L$21,2,FALSE))*PI()/180),\"NR\"))","v":"NR"}]
[null,null,null,null,null,null,null,null,null,null,null,null,null,null,null,null,null,null,null,null,null,null,null,null,null,null,null,null,null,null,null,null,null,null,null,null,null,null,null,null,null,null,null,null,null,null,null,null,null,null,null,null,null,null,null,null,null,null,null,null,null,null,null,null,{"$f":"IF(OR(C1209=\"OA\",C1209=\"OB\",C1209=\"1B\",C1209=\"1A\",C1209=\"2A\",C1209=\"2B\",C1209=\"3A\",C1209=\"3B\",C1209=\"3C\"),TAN((LEFT(I1209, 5)+VLOOKUP(C1209,Main!$K$3:$L$21,2,FALSE))*PI()/180),IF(Checklist!$I$385=\"No\",TAN((LEFT(I1209, 5)+VLOOKUP(C1209,Main!$K$3:$L$21,2,FALSE))*PI()/180),\"NR\"))","v":"NR"}]
[null,null,null,null,null,null,null,null,null,null,null,null,null,null,null,null,null,null,null,null,null,null,null,null,null,null,null,null,null,null,null,null,null,null,null,null,null,null,null,null,null,null,null,null,null,null,null,null,null,null,null,null,null,null,null,null,null,null,null,null,null,null,null,null,{"$f":"IF(OR(C1210=\"OA\",C1210=\"OB\",C1210=\"1B\",C1210=\"1A\",C1210=\"2A\",C1210=\"2B\",C1210=\"3A\",C1210=\"3B\",C1210=\"3C\"),TAN((LEFT(I1210, 5)+VLOOKUP(C1210,Main!$K$3:$L$21,2,FALSE))*PI()/180),IF(Checklist!$I$385=\"No\",TAN((LEFT(I1210, 5)+VLOOKUP(C1210,Main!$K$3:$L$21,2,FALSE))*PI()/180),\"NR\"))","v":"NR"}]
[null,null,null,null,null,null,null,null,null,null,null,null,null,null,null,null,null,null,null,null,null,null,null,null,null,null,null,null,null,null,null,null,null,null,null,null,null,null,null,null,null,null,null,null,null,null,null,null,null,null,null,null,null,null,null,null,null,null,null,null,null,null,null,null,{"$f":"IF(OR(C1211=\"OA\",C1211=\"OB\",C1211=\"1B\",C1211=\"1A\",C1211=\"2A\",C1211=\"2B\",C1211=\"3A\",C1211=\"3B\",C1211=\"3C\"),TAN((LEFT(I1211, 5)+VLOOKUP(C1211,Main!$K$3:$L$21,2,FALSE))*PI()/180),IF(Checklist!$I$385=\"No\",TAN((LEFT(I1211, 5)+VLOOKUP(C1211,Main!$K$3:$L$21,2,FALSE))*PI()/180),\"NR\"))","v":"NR"}]
[null,null,null,null,null,null,null,null,null,null,null,null,null,null,null,null,null,null,null,null,null,null,null,null,null,null,null,null,null,null,null,null,null,null,null,null,null,null,null,null,null,null,null,null,null,null,null,null,null,null,null,null,null,null,null,null,null,null,null,null,null,null,null,null,{"$f":"IF(OR(C1212=\"OA\",C1212=\"OB\",C1212=\"1B\",C1212=\"1A\",C1212=\"2A\",C1212=\"2B\",C1212=\"3A\",C1212=\"3B\",C1212=\"3C\"),TAN((LEFT(I1212, 5)+VLOOKUP(C1212,Main!$K$3:$L$21,2,FALSE))*PI()/180),IF(Checklist!$I$385=\"No\",TAN((LEFT(I1212, 5)+VLOOKUP(C1212,Main!$K$3:$L$21,2,FALSE))*PI()/180),\"NR\"))","v":"NR"}]
[null,null,null,null,null,null,null,null,null,null,null,null,null,null,null,null,null,null,null,null,null,null,null,null,null,null,null,null,null,null,null,null,null,null,null,null,null,null,null,null,null,null,null,null,null,null,null,null,null,null,null,null,null,null,null,null,null,null,null,null,null,null,null,null,{"$f":"IF(OR(C1213=\"OA\",C1213=\"OB\",C1213=\"1B\",C1213=\"1A\",C1213=\"2A\",C1213=\"2B\",C1213=\"3A\",C1213=\"3B\",C1213=\"3C\"),TAN((LEFT(I1213, 5)+VLOOKUP(C1213,Main!$K$3:$L$21,2,FALSE))*PI()/180),IF(Checklist!$I$385=\"No\",TAN((LEFT(I1213, 5)+VLOOKUP(C1213,Main!$K$3:$L$21,2,FALSE))*PI()/180),\"NR\"))","v":"NR"}]
[null,null,null,null,null,null,null,null,null,null,null,null,null,null,null,null,null,null,null,null,null,null,null,null,null,null,null,null,null,null,null,null,null,null,null,null,null,null,null,null,null,null,null,null,null,null,null,null,null,null,null,null,null,null,null,null,null,null,null,null,null,null,null,null,{"$f":"IF(OR(C1214=\"OA\",C1214=\"OB\",C1214=\"1B\",C1214=\"1A\",C1214=\"2A\",C1214=\"2B\",C1214=\"3A\",C1214=\"3B\",C1214=\"3C\"),TAN((LEFT(I1214, 5)+VLOOKUP(C1214,Main!$K$3:$L$21,2,FALSE))*PI()/180),IF(Checklist!$I$385=\"No\",TAN((LEFT(I1214, 5)+VLOOKUP(C1214,Main!$K$3:$L$21,2,FALSE))*PI()/180),\"NR\"))","v":"NR"}]
[null,null,null,null,null,null,null,null,null,null,null,null,null,null,null,null,null,null,null,null,null,null,null,null,null,null,null,null,null,null,null,null,null,null,null,null,null,null,null,null,null,null,null,null,null,null,null,null,null,null,null,null,null,null,null,null,null,null,null,null,null,null,null,null,{"$f":"IF(OR(C1215=\"OA\",C1215=\"OB\",C1215=\"1B\",C1215=\"1A\",C1215=\"2A\",C1215=\"2B\",C1215=\"3A\",C1215=\"3B\",C1215=\"3C\"),TAN((LEFT(I1215, 5)+VLOOKUP(C1215,Main!$K$3:$L$21,2,FALSE))*PI()/180),IF(Checklist!$I$385=\"No\",TAN((LEFT(I1215, 5)+VLOOKUP(C1215,Main!$K$3:$L$21,2,FALSE))*PI()/180),\"NR\"))","v":"NR"}]
[null,null,null,null,null,null,null,null,null,null,null,null,null,null,null,null,null,null,null,null,null,null,null,null,null,null,null,null,null,null,null,null,null,null,null,null,null,null,null,null,null,null,null,null,null,null,null,null,null,null,null,null,null,null,null,null,null,null,null,null,null,null,null,null,{"$f":"IF(OR(C1216=\"OA\",C1216=\"OB\",C1216=\"1B\",C1216=\"1A\",C1216=\"2A\",C1216=\"2B\",C1216=\"3A\",C1216=\"3B\",C1216=\"3C\"),TAN((LEFT(I1216, 5)+VLOOKUP(C1216,Main!$K$3:$L$21,2,FALSE))*PI()/180),IF(Checklist!$I$385=\"No\",TAN((LEFT(I1216, 5)+VLOOKUP(C1216,Main!$K$3:$L$21,2,FALSE))*PI()/180),\"NR\"))","v":"NR"}]
[null,null,null,null,null,null,null,null,null,null,null,null,null,null,null,null,null,null,null,null,null,null,null,null,null,null,null,null,null,null,null,null,null,null,null,null,null,null,null,null,null,null,null,null,null,null,null,null,null,null,null,null,null,null,null,null,null,null,null,null,null,null,null,null,{"$f":"IF(OR(C1217=\"OA\",C1217=\"OB\",C1217=\"1B\",C1217=\"1A\",C1217=\"2A\",C1217=\"2B\",C1217=\"3A\",C1217=\"3B\",C1217=\"3C\"),TAN((LEFT(I1217, 5)+VLOOKUP(C1217,Main!$K$3:$L$21,2,FALSE))*PI()/180),IF(Checklist!$I$385=\"No\",TAN((LEFT(I1217, 5)+VLOOKUP(C1217,Main!$K$3:$L$21,2,FALSE))*PI()/180),\"NR\"))","v":"NR"}]
[null,null,null,null,null,null,null,null,null,null,null,null,null,null,null,null,null,null,null,null,null,null,null,null,null,null,null,null,null,null,null,null,null,null,null,null,null,null,null,null,null,null,null,null,null,null,null,null,null,null,null,null,null,null,null,null,null,null,null,null,null,null,null,null,{"$f":"IF(OR(C1218=\"OA\",C1218=\"OB\",C1218=\"1B\",C1218=\"1A\",C1218=\"2A\",C1218=\"2B\",C1218=\"3A\",C1218=\"3B\",C1218=\"3C\"),TAN((LEFT(I1218, 5)+VLOOKUP(C1218,Main!$K$3:$L$21,2,FALSE))*PI()/180),IF(Checklist!$I$385=\"No\",TAN((LEFT(I1218, 5)+VLOOKUP(C1218,Main!$K$3:$L$21,2,FALSE))*PI()/180),\"NR\"))","v":"NR"}]
[null,null,null,null,null,null,null,null,null,null,null,null,null,null,null,null,null,null,null,null,null,null,null,null,null,null,null,null,null,null,null,null,null,null,null,null,null,null,null,null,null,null,null,null,null,null,null,null,null,null,null,null,null,null,null,null,null,null,null,null,null,null,null,null,{"$f":"IF(OR(C1219=\"OA\",C1219=\"OB\",C1219=\"1B\",C1219=\"1A\",C1219=\"2A\",C1219=\"2B\",C1219=\"3A\",C1219=\"3B\",C1219=\"3C\"),TAN((LEFT(I1219, 5)+VLOOKUP(C1219,Main!$K$3:$L$21,2,FALSE))*PI()/180),IF(Checklist!$I$385=\"No\",TAN((LEFT(I1219, 5)+VLOOKUP(C1219,Main!$K$3:$L$21,2,FALSE))*PI()/180),\"NR\"))","v":"NR"}]
[null,null,null,null,null,null,null,null,null,null,null,null,null,null,null,null,null,null,null,null,null,null,null,null,null,null,null,null,null,null,null,null,null,null,null,null,null,null,null,null,null,null,null,null,null,null,null,null,null,null,null,null,null,null,null,null,null,null,null,null,null,null,null,null,{"$f":"IF(OR(C1220=\"OA\",C1220=\"OB\",C1220=\"1B\",C1220=\"1A\",C1220=\"2A\",C1220=\"2B\",C1220=\"3A\",C1220=\"3B\",C1220=\"3C\"),TAN((LEFT(I1220, 5)+VLOOKUP(C1220,Main!$K$3:$L$21,2,FALSE))*PI()/180),IF(Checklist!$I$385=\"No\",TAN((LEFT(I1220, 5)+VLOOKUP(C1220,Main!$K$3:$L$21,2,FALSE))*PI()/180),\"NR\"))","v":"NR"}]
[null,null,null,null,null,null,null,null,null,null,null,null,null,null,null,null,null,null,null,null,null,null,null,null,null,null,null,null,null,null,null,null,null,null,null,null,null,null,null,null,null,null,null,null,null,null,null,null,null,null,null,null,null,null,null,null,null,null,null,null,null,null,null,null,{"$f":"IF(OR(C1221=\"OA\",C1221=\"OB\",C1221=\"1B\",C1221=\"1A\",C1221=\"2A\",C1221=\"2B\",C1221=\"3A\",C1221=\"3B\",C1221=\"3C\"),TAN((LEFT(I1221, 5)+VLOOKUP(C1221,Main!$K$3:$L$21,2,FALSE))*PI()/180),IF(Checklist!$I$385=\"No\",TAN((LEFT(I1221, 5)+VLOOKUP(C1221,Main!$K$3:$L$21,2,FALSE))*PI()/180),\"NR\"))","v":"NR"}]
[null,null,null,null,null,null,null,null,null,null,null,null,null,null,null,null,null,null,null,null,null,null,null,null,null,null,null,null,null,null,null,null,null,null,null,null,null,null,null,null,null,null,null,null,null,null,null,null,null,null,null,null,null,null,null,null,null,null,null,null,null,null,null,null,{"$f":"IF(OR(C1222=\"OA\",C1222=\"OB\",C1222=\"1B\",C1222=\"1A\",C1222=\"2A\",C1222=\"2B\",C1222=\"3A\",C1222=\"3B\",C1222=\"3C\"),TAN((LEFT(I1222, 5)+VLOOKUP(C1222,Main!$K$3:$L$21,2,FALSE))*PI()/180),IF(Checklist!$I$385=\"No\",TAN((LEFT(I1222, 5)+VLOOKUP(C1222,Main!$K$3:$L$21,2,FALSE))*PI()/180),\"NR\"))","v":"NR"}]
[null,null,null,null,null,null,null,null,null,null,null,null,null,null,null,null,null,null,null,null,null,null,null,null,null,null,null,null,null,null,null,null,null,null,null,null,null,null,null,null,null,null,null,null,null,null,null,null,null,null,null,null,null,null,null,null,null,null,null,null,null,null,null,null,{"$f":"IF(OR(C1223=\"OA\",C1223=\"OB\",C1223=\"1B\",C1223=\"1A\",C1223=\"2A\",C1223=\"2B\",C1223=\"3A\",C1223=\"3B\",C1223=\"3C\"),TAN((LEFT(I1223, 5)+VLOOKUP(C1223,Main!$K$3:$L$21,2,FALSE))*PI()/180),IF(Checklist!$I$385=\"No\",TAN((LEFT(I1223, 5)+VLOOKUP(C1223,Main!$K$3:$L$21,2,FALSE))*PI()/180),\"NR\"))","v":"NR"}]
[null,null,null,null,null,null,null,null,null,null,null,null,null,null,null,null,null,null,null,null,null,null,null,null,null,null,null,null,null,null,null,null,null,null,null,null,null,null,null,null,null,null,null,null,null,null,null,null,null,null,null,null,null,null,null,null,null,null,null,null,null,null,null,null,{"$f":"IF(OR(C1224=\"OA\",C1224=\"OB\",C1224=\"1B\",C1224=\"1A\",C1224=\"2A\",C1224=\"2B\",C1224=\"3A\",C1224=\"3B\",C1224=\"3C\"),TAN((LEFT(I1224, 5)+VLOOKUP(C1224,Main!$K$3:$L$21,2,FALSE))*PI()/180),IF(Checklist!$I$385=\"No\",TAN((LEFT(I1224, 5)+VLOOKUP(C1224,Main!$K$3:$L$21,2,FALSE))*PI()/180),\"NR\"))","v":"NR"}]
[null,null,null,null,null,null,null,null,null,null,null,null,null,null,null,null,null,null,null,null,null,null,null,null,null,null,null,null,null,null,null,null,null,null,null,null,null,null,null,null,null,null,null,null,null,null,null,null,null,null,null,null,null,null,null,null,null,null,null,null,null,null,null,null,{"$f":"IF(OR(C1225=\"OA\",C1225=\"OB\",C1225=\"1B\",C1225=\"1A\",C1225=\"2A\",C1225=\"2B\",C1225=\"3A\",C1225=\"3B\",C1225=\"3C\"),TAN((LEFT(I1225, 5)+VLOOKUP(C1225,Main!$K$3:$L$21,2,FALSE))*PI()/180),IF(Checklist!$I$385=\"No\",TAN((LEFT(I1225, 5)+VLOOKUP(C1225,Main!$K$3:$L$21,2,FALSE))*PI()/180),\"NR\"))","v":"NR"}]
[null,null,null,null,null,null,null,null,null,null,null,null,null,null,null,null,null,null,null,null,null,null,null,null,null,null,null,null,null,null,null,null,null,null,null,null,null,null,null,null,null,null,null,null,null,null,null,null,null,null,null,null,null,null,null,null,null,null,null,null,null,null,null,null,{"$f":"IF(OR(C1226=\"OA\",C1226=\"OB\",C1226=\"1B\",C1226=\"1A\",C1226=\"2A\",C1226=\"2B\",C1226=\"3A\",C1226=\"3B\",C1226=\"3C\"),TAN((LEFT(I1226, 5)+VLOOKUP(C1226,Main!$K$3:$L$21,2,FALSE))*PI()/180),IF(Checklist!$I$385=\"No\",TAN((LEFT(I1226, 5)+VLOOKUP(C1226,Main!$K$3:$L$21,2,FALSE))*PI()/180),\"NR\"))","v":"NR"}]
[null,null,null,null,null,null,null,null,null,null,null,null,null,null,null,null,null,null,null,null,null,null,null,null,null,null,null,null,null,null,null,null,null,null,null,null,null,null,null,null,null,null,null,null,null,null,null,null,null,null,null,null,null,null,null,null,null,null,null,null,null,null,null,null,{"$f":"IF(OR(C1227=\"OA\",C1227=\"OB\",C1227=\"1B\",C1227=\"1A\",C1227=\"2A\",C1227=\"2B\",C1227=\"3A\",C1227=\"3B\",C1227=\"3C\"),TAN((LEFT(I1227, 5)+VLOOKUP(C1227,Main!$K$3:$L$21,2,FALSE))*PI()/180),IF(Checklist!$I$385=\"No\",TAN((LEFT(I1227, 5)+VLOOKUP(C1227,Main!$K$3:$L$21,2,FALSE))*PI()/180),\"NR\"))","v":"NR"}]
[null,null,null,null,null,null,null,null,null,null,null,null,null,null,null,null,null,null,null,null,null,null,null,null,null,null,null,null,null,null,null,null,null,null,null,null,null,null,null,null,null,null,null,null,null,null,null,null,null,null,null,null,null,null,null,null,null,null,null,null,null,null,null,null,{"$f":"IF(OR(C1228=\"OA\",C1228=\"OB\",C1228=\"1B\",C1228=\"1A\",C1228=\"2A\",C1228=\"2B\",C1228=\"3A\",C1228=\"3B\",C1228=\"3C\"),TAN((LEFT(I1228, 5)+VLOOKUP(C1228,Main!$K$3:$L$21,2,FALSE))*PI()/180),IF(Checklist!$I$385=\"No\",TAN((LEFT(I1228, 5)+VLOOKUP(C1228,Main!$K$3:$L$21,2,FALSE))*PI()/180),\"NR\"))","v":"NR"}]
[null,null,null,null,null,null,null,null,null,null,null,null,null,null,null,null,null,null,null,null,null,null,null,null,null,null,null,null,null,null,null,null,null,null,null,null,null,null,null,null,null,null,null,null,null,null,null,null,null,null,null,null,null,null,null,null,null,null,null,null,null,null,null,null,{"$f":"IF(OR(C1229=\"OA\",C1229=\"OB\",C1229=\"1B\",C1229=\"1A\",C1229=\"2A\",C1229=\"2B\",C1229=\"3A\",C1229=\"3B\",C1229=\"3C\"),TAN((LEFT(I1229, 5)+VLOOKUP(C1229,Main!$K$3:$L$21,2,FALSE))*PI()/180),IF(Checklist!$I$385=\"No\",TAN((LEFT(I1229, 5)+VLOOKUP(C1229,Main!$K$3:$L$21,2,FALSE))*PI()/180),\"NR\"))","v":"NR"}]
[null,null,null,null,null,null,null,null,null,null,null,null,null,null,null,null,null,null,null,null,null,null,null,null,null,null,null,null,null,null,null,null,null,null,null,null,null,null,null,null,null,null,null,null,null,null,null,null,null,null,null,null,null,null,null,null,null,null,null,null,null,null,null,null,{"$f":"IF(OR(C1230=\"OA\",C1230=\"OB\",C1230=\"1B\",C1230=\"1A\",C1230=\"2A\",C1230=\"2B\",C1230=\"3A\",C1230=\"3B\",C1230=\"3C\"),TAN((LEFT(I1230, 5)+VLOOKUP(C1230,Main!$K$3:$L$21,2,FALSE))*PI()/180),IF(Checklist!$I$385=\"No\",TAN((LEFT(I1230, 5)+VLOOKUP(C1230,Main!$K$3:$L$21,2,FALSE))*PI()/180),\"NR\"))","v":"NR"}]
[null,null,null,null,null,null,null,null,null,null,null,null,null,null,null,null,null,null,null,null,null,null,null,null,null,null,null,null,null,null,null,null,null,null,null,null,null,null,null,null,null,null,null,null,null,null,null,null,null,null,null,null,null,null,null,null,null,null,null,null,null,null,null,null,{"$f":"IF(OR(C1231=\"OA\",C1231=\"OB\",C1231=\"1B\",C1231=\"1A\",C1231=\"2A\",C1231=\"2B\",C1231=\"3A\",C1231=\"3B\",C1231=\"3C\"),TAN((LEFT(I1231, 5)+VLOOKUP(C1231,Main!$K$3:$L$21,2,FALSE))*PI()/180),IF(Checklist!$I$385=\"No\",TAN((LEFT(I1231, 5)+VLOOKUP(C1231,Main!$K$3:$L$21,2,FALSE))*PI()/180),\"NR\"))","v":"NR"}]
[null,null,null,null,null,null,null,null,null,null,null,null,null,null,null,null,null,null,null,null,null,null,null,null,null,null,null,null,null,null,null,null,null,null,null,null,null,null,null,null,null,null,null,null,null,null,null,null,null,null,null,null,null,null,null,null,null,null,null,null,null,null,null,null,{"$f":"IF(OR(C1232=\"OA\",C1232=\"OB\",C1232=\"1B\",C1232=\"1A\",C1232=\"2A\",C1232=\"2B\",C1232=\"3A\",C1232=\"3B\",C1232=\"3C\"),TAN((LEFT(I1232, 5)+VLOOKUP(C1232,Main!$K$3:$L$21,2,FALSE))*PI()/180),IF(Checklist!$I$385=\"No\",TAN((LEFT(I1232, 5)+VLOOKUP(C1232,Main!$K$3:$L$21,2,FALSE))*PI()/180),\"NR\"))","v":"NR"}]
[null,null,null,null,null,null,null,null,null,null,null,null,null,null,null,null,null,null,null,null,null,null,null,null,null,null,null,null,null,null,null,null,null,null,null,null,null,null,null,null,null,null,null,null,null,null,null,null,null,null,null,null,null,null,null,null,null,null,null,null,null,null,null,null,{"$f":"IF(OR(C1233=\"OA\",C1233=\"OB\",C1233=\"1B\",C1233=\"1A\",C1233=\"2A\",C1233=\"2B\",C1233=\"3A\",C1233=\"3B\",C1233=\"3C\"),TAN((LEFT(I1233, 5)+VLOOKUP(C1233,Main!$K$3:$L$21,2,FALSE))*PI()/180),IF(Checklist!$I$385=\"No\",TAN((LEFT(I1233, 5)+VLOOKUP(C1233,Main!$K$3:$L$21,2,FALSE))*PI()/180),\"NR\"))","v":"NR"}]
[null,null,null,null,null,null,null,null,null,null,null,null,null,null,null,null,null,null,null,null,null,null,null,null,null,null,null,null,null,null,null,null,null,null,null,null,null,null,null,null,null,null,null,null,null,null,null,null,null,null,null,null,null,null,null,null,null,null,null,null,null,null,null,null,{"$f":"IF(OR(C1234=\"OA\",C1234=\"OB\",C1234=\"1B\",C1234=\"1A\",C1234=\"2A\",C1234=\"2B\",C1234=\"3A\",C1234=\"3B\",C1234=\"3C\"),TAN((LEFT(I1234, 5)+VLOOKUP(C1234,Main!$K$3:$L$21,2,FALSE))*PI()/180),IF(Checklist!$I$385=\"No\",TAN((LEFT(I1234, 5)+VLOOKUP(C1234,Main!$K$3:$L$21,2,FALSE))*PI()/180),\"NR\"))","v":"NR"}]
[null,null,null,null,null,null,null,null,null,null,null,null,null,null,null,null,null,null,null,null,null,null,null,null,null,null,null,null,null,null,null,null,null,null,null,null,null,null,null,null,null,null,null,null,null,null,null,null,null,null,null,null,null,null,null,null,null,null,null,null,null,null,null,null,{"$f":"IF(OR(C1235=\"OA\",C1235=\"OB\",C1235=\"1B\",C1235=\"1A\",C1235=\"2A\",C1235=\"2B\",C1235=\"3A\",C1235=\"3B\",C1235=\"3C\"),TAN((LEFT(I1235, 5)+VLOOKUP(C1235,Main!$K$3:$L$21,2,FALSE))*PI()/180),IF(Checklist!$I$385=\"No\",TAN((LEFT(I1235, 5)+VLOOKUP(C1235,Main!$K$3:$L$21,2,FALSE))*PI()/180),\"NR\"))","v":"NR"}]
[null,null,null,null,null,null,null,null,null,null,null,null,null,null,null,null,null,null,null,null,null,null,null,null,null,null,null,null,null,null,null,null,null,null,null,null,null,null,null,null,null,null,null,null,null,null,null,null,null,null,null,null,null,null,null,null,null,null,null,null,null,null,null,null,{"$f":"IF(OR(C1236=\"OA\",C1236=\"OB\",C1236=\"1B\",C1236=\"1A\",C1236=\"2A\",C1236=\"2B\",C1236=\"3A\",C1236=\"3B\",C1236=\"3C\"),TAN((LEFT(I1236, 5)+VLOOKUP(C1236,Main!$K$3:$L$21,2,FALSE))*PI()/180),IF(Checklist!$I$385=\"No\",TAN((LEFT(I1236, 5)+VLOOKUP(C1236,Main!$K$3:$L$21,2,FALSE))*PI()/180),\"NR\"))","v":"NR"}]
[null,null,null,null,null,null,null,null,null,null,null,null,null,null,null,null,null,null,null,null,null,null,null,null,null,null,null,null,null,null,null,null,null,null,null,null,null,null,null,null,null,null,null,null,null,null,null,null,null,null,null,null,null,null,null,null,null,null,null,null,null,null,null,null,{"$f":"IF(OR(C1237=\"OA\",C1237=\"OB\",C1237=\"1B\",C1237=\"1A\",C1237=\"2A\",C1237=\"2B\",C1237=\"3A\",C1237=\"3B\",C1237=\"3C\"),TAN((LEFT(I1237, 5)+VLOOKUP(C1237,Main!$K$3:$L$21,2,FALSE))*PI()/180),IF(Checklist!$I$385=\"No\",TAN((LEFT(I1237, 5)+VLOOKUP(C1237,Main!$K$3:$L$21,2,FALSE))*PI()/180),\"NR\"))","v":"NR"}]
[null,null,null,null,null,null,null,null,null,null,null,null,null,null,null,null,null,null,null,null,null,null,null,null,null,null,null,null,null,null,null,null,null,null,null,null,null,null,null,null,null,null,null,null,null,null,null,null,null,null,null,null,null,null,null,null,null,null,null,null,null,null,null,null,{"$f":"IF(OR(C1238=\"OA\",C1238=\"OB\",C1238=\"1B\",C1238=\"1A\",C1238=\"2A\",C1238=\"2B\",C1238=\"3A\",C1238=\"3B\",C1238=\"3C\"),TAN((LEFT(I1238, 5)+VLOOKUP(C1238,Main!$K$3:$L$21,2,FALSE))*PI()/180),IF(Checklist!$I$385=\"No\",TAN((LEFT(I1238, 5)+VLOOKUP(C1238,Main!$K$3:$L$21,2,FALSE))*PI()/180),\"NR\"))","v":"NR"}]
[null,null,null,null,null,null,null,null,null,null,null,null,null,null,null,null,null,null,null,null,null,null,null,null,null,null,null,null,null,null,null,null,null,null,null,null,null,null,null,null,null,null,null,null,null,null,null,null,null,null,null,null,null,null,null,null,null,null,null,null,null,null,null,null,{"$f":"IF(OR(C1239=\"OA\",C1239=\"OB\",C1239=\"1B\",C1239=\"1A\",C1239=\"2A\",C1239=\"2B\",C1239=\"3A\",C1239=\"3B\",C1239=\"3C\"),TAN((LEFT(I1239, 5)+VLOOKUP(C1239,Main!$K$3:$L$21,2,FALSE))*PI()/180),IF(Checklist!$I$385=\"No\",TAN((LEFT(I1239, 5)+VLOOKUP(C1239,Main!$K$3:$L$21,2,FALSE))*PI()/180),\"NR\"))","v":"NR"}]
[null,null,null,null,null,null,null,null,null,null,null,null,null,null,null,null,null,null,null,null,null,null,null,null,null,null,null,null,null,null,null,null,null,null,null,null,null,null,null,null,null,null,null,null,null,null,null,null,null,null,null,null,null,null,null,null,null,null,null,null,null,null,null,null,{"$f":"IF(OR(C1240=\"OA\",C1240=\"OB\",C1240=\"1B\",C1240=\"1A\",C1240=\"2A\",C1240=\"2B\",C1240=\"3A\",C1240=\"3B\",C1240=\"3C\"),TAN((LEFT(I1240, 5)+VLOOKUP(C1240,Main!$K$3:$L$21,2,FALSE))*PI()/180),IF(Checklist!$I$385=\"No\",TAN((LEFT(I1240, 5)+VLOOKUP(C1240,Main!$K$3:$L$21,2,FALSE))*PI()/180),\"NR\"))","v":"NR"}]
[null,null,null,null,null,null,null,null,null,null,null,null,null,null,null,null,null,null,null,null,null,null,null,null,null,null,null,null,null,null,null,null,null,null,null,null,null,null,null,null,null,null,null,null,null,null,null,null,null,null,null,null,null,null,null,null,null,null,null,null,null,null,null,null,{"$f":"IF(OR(C1241=\"OA\",C1241=\"OB\",C1241=\"1B\",C1241=\"1A\",C1241=\"2A\",C1241=\"2B\",C1241=\"3A\",C1241=\"3B\",C1241=\"3C\"),TAN((LEFT(I1241, 5)+VLOOKUP(C1241,Main!$K$3:$L$21,2,FALSE))*PI()/180),IF(Checklist!$I$385=\"No\",TAN((LEFT(I1241, 5)+VLOOKUP(C1241,Main!$K$3:$L$21,2,FALSE))*PI()/180),\"NR\"))","v":"NR"}]
[null,null,null,null,null,null,null,null,null,null,null,null,null,null,null,null,null,null,null,null,null,null,null,null,null,null,null,null,null,null,null,null,null,null,null,null,null,null,null,null,null,null,null,null,null,null,null,null,null,null,null,null,null,null,null,null,null,null,null,null,null,null,null,null,{"$f":"IF(OR(C1242=\"OA\",C1242=\"OB\",C1242=\"1B\",C1242=\"1A\",C1242=\"2A\",C1242=\"2B\",C1242=\"3A\",C1242=\"3B\",C1242=\"3C\"),TAN((LEFT(I1242, 5)+VLOOKUP(C1242,Main!$K$3:$L$21,2,FALSE))*PI()/180),IF(Checklist!$I$385=\"No\",TAN((LEFT(I1242, 5)+VLOOKUP(C1242,Main!$K$3:$L$21,2,FALSE))*PI()/180),\"NR\"))","v":"NR"}]

{"sheet":"Effective R-Values","index":8,"n_rows":80,"n_cols":26,"rows_kept":80,"cut":false,"hidden":true,"merged":[[79,1,79,3],[79,5,79,6],[66,1,66,3],[66,5,66,6],[68,3,68,6],[69,1,69,6],[76,1,76,6],[77,1,78,6],[53,3,53,6],[54,1,54,6],[63,1,63,4],[63,5,64,5],[63,6,64,6],[64,1,65,3],[64,4,65,4],[51,1,51,3],[51,5,51,6],[23,8,24,8],[40,3,40,6],[41,1,41,6],[48,1,48,4],[48,5,49,5],[48,6,49,6],[49,1,50,3],[49,4,50,4],[30,17,30,18],[30,19,30,20],[11,8,12,8],[29,1,29,6],[30,1,31,1],[30,2,30,4],[15,8,18,8],[19,8,22,8],[25,8,31,8],[1,8,9,8],[3,1,3,6],[4,1,5,2],[4,3,4,6],[5,3,6,3],[5,4,5,6]]}
[null,"the R-values from the prescriptive path should not include air films when calculating effective R-value",null,null,null,null,null,null,"Material Type","Material Name","Typical R/in",null,"Framing Factor","%"]
[null,"Climate",{"$f":"Checklist!T10","v":"5A"},null,null,null,null,null,"Cavity Insulation (vapor open)","Fiberglass (Medium Density Batts)",3.7,null,"-",1,null,1,"Wall Type B (1)","Wall Type B (2)","Wall Type C","Wall Type D","Wall (SIP)","Wall (ICF)","Double-Stud Wall",{"$f":"C32","v":"User Defined Wall (1)"},{"$f":"D32","v":"User Defined Wall (2)"},{"$f":"E32","v":"User Defined Wall (3)"}]
[null,null,null,null,null,null,null,null,null,"Fiberglass (Loose-Fill Attic)",2.8,null,"Wall Wood Frame (16\" o.c.)",{"$f":"1-0.25","v":0.75},null,2,"Continous Exterior Insulation","Exterior Sheathing","Continous Exterior Insulation","Exterior Sheathing","Exterior Sheathing","Exterior Sheathing","Exterior Sheathing","-","-","-"]
[null,"User-Defined Inputs",null,null,null,null,null,null,null,"Fiberglass (Blown-in Medium-Density Wall)",4.2,null,"Wall Wood Frame (24\" o.c.)",{"$f":"1-0.22","v":0.78},null,3,"Sheathing","Continous Insulation","Sheathing","Insulated Cavity (vapor closed)","Continous Insulation","Continous Exterior Insulation","Insulated Cavity (1)","-","-","-"]
[null,"Materials",null,"Assemblies",null,null,null,null,null,"Mineral Wool (Medium Density Batts)",4,null,"-",1,null,4,"Insulated Cavity","Sheathing","Structure / Insulated Cavity (optional)","Interior Finish","Sheathing","Structure","Insulated Cavity (2)","-","-","-"]
[null,null,null,"Layer","Roofs",null,null,null,null,"Mineral Wool (Loose-Fill Attic)",3,null,"Roof Wood Frame (16\" o.c.)",{"$f":"1-0.1","v":0.9},null,5,"Interior Finish","Insulated Cavity","Interior Finish","-","Interior Finish","Continous Insulation","Sheathing","-","-","-"]
[null,"Material Name","R-value/in (@75F?)",null,"User Defined Roof (1)","User Defined Roof (2)","User Defined Roof (3)",null,null,"Mineral Wool (Blown-in Wall)",3.7,null,"Roof Wood Frame (24\" o.c.)",{"$f":"1-0.07","v":0.92999999999999994},null,6,"-","Interior Finish","-","-","-","Interior Finish","Insulated Cavity (3)","-","-","-"]
[null,{"$f":"Checklist!M83","v":"Pink Panther XPS"},{"$f":"Checklist!Q83","v":5.0999999999999996},1,null,null,null,null,null,"Cellulose (Loose-Fill) Attic",3.5,null,"-",1,null,7,"-","-","-","-","-","-","Interior Finish","-","-","-"]
[null,{"$f":"Checklist!M84","v":"Gravel"},{"$f":"Checklist!Q84","v":0.2},2,null,null,null,null,null,"Cellulose (Blown-in Wall)",3.8,null,"Wall Wood Frame (16\" o.c)",0.78,null,8,"-","-","-","-","-","-","-","-","-","-"]
[null,{"$f":"Checklist!M85","v":0},{"$f":"Checklist!Q85","v":0},3,null,null,null,null,null,"Open-Cell Spray Polyurethane Foam",3.8,null,"Wall Wood Frame (24\" o.c)",0.8,null,9,{"$f":"IF(IFERROR(VLOOKUP($C$2,P32:U48,5,FALSE)=\"no\",\"-\"),\"This wall type has no vapor control requirements in this climate zone.\",(\"This wall type\"&\" \"&IFERROR(VLOOKUP($C$2,P32:U48,6),)&\" \"&\"interior vapor control so long as the sheathing-to-cavity R-value ratio is >\"&IFERROR(VLOOKUP($C$2,P32:U48,5,FALSE),\"-\")&\".\"))","v":"This wall type allows Class III interior vapor control so long as the sheathing-to-cavity R-value ratio is >0.35."},{"$f":"IF(IFERROR(VLOOKUP($C$2,P32:U48,5,FALSE)=\"no\",\"-\"),\"This wall type has no vapor control requirements in this climate zone.\",(\"This wall type\"&\" \"&IFERROR(VLOOKUP($C$2,P32:U48,6),)&\" \"&\"interior vapor control so long as the sheathing-to-cavity R-value ratio is >\"&IFERROR(VLOOKUP($C$2,P32:U48,5,FALSE),\"-\")&\".\"))","v":"This wall type allows Class III interior vapor control so long as the sheathing-to-cavity R-value ratio is >0.35."},"This wall type recommends Class I or II vapor control on the inside assuming the outboard components are moisture tolerant. The exterior of the vapor control layer is best detailed as a drainage plane water control layer.","This wall type requires an effective airflow control layer on the inside of the insulation and/or framing.","This wall type requires an effective airflow control layer on the inside of the insulation and/or framing.","This wall type requires an effective airflow control layer on the inside of the insulation and/or framing.",{"$f":"HYPERLINK(\"https://www.buildingscience.com/documents/enclosures-that-work/high-r-value-wall-assemblies/high-r-value-double-stud-wall-construction?topic=doctypes/enclosures-that-work/etw-high-r-value-enclosure-assemblie\",\"This wall type should be designed to align with Building Science Corporation's Enclosures That Work: Wall - Double Stud Wall Construction published on Nov. 15, 2014.\")","v":"This wall type should be designed to align with Building Science Corporation's Enclosures That Work: Wall - Double Stud Wall Construction published on Nov. 15, 2014."},"PHIUS review required to confirm no moisture risk.","PHIUS review required to confirm no moisture risk.","PHIUS review required to confirm no moisture risk."]
[null,{"$f":"Checklist!M86","v":0},{"$f":"Checklist!Q86","v":0},4,null,null,null,null,"Cavity Insulation (vapor closed)","Closed-Cell Spray Polyurethane Foam",6.5,null,"-",1,null,10,"Framed assemblies with some insulation value outside of the framing or structure.","Framed assemblies with some insulation value outside of the framing or structure.","Assemblies with most (>75%) of the insulation outboard of the structure.","Assemblies with insulation comprised of only air-impermeable insulation.","Structurally Insulated Panel with insulation comprised of only air-impermeable insulation.","Insulated Concrete Form with insulation comprised of only air-impermeable insulation.","Only interior-load bearing types allowed.","-","-","-"]
[null,{"$f":"Checklist!M87","v":0},{"$f":"Checklist!Q87","v":0},5,null,null,null,null,"Sheathing","Orient Strand Board (OSB)",1.1000000000000001,null,"Floor Wood Frame (16\" o.c.)",0.87]
[null,{"$f":"Checklist!M88","v":0},{"$f":"Checklist!Q88","v":0},null,null,null,null,null,null,"Plywood",1.4,null,"Floor Wood Frame (24\" o.c.)",0.9,null,1,"Roof Type A","Roof Type B","Roof Type C (1)","Roof Type C (2)","Roof Type D","Roof (SIP)",{"$f":"E7","v":"User Defined Roof (1)"},"User Defined Roof (2)","User Defined Roof (3)"]
[null,{"$f":"Checklist!M89","v":0},{"$f":"Checklist!Q89","v":0},null,null,null,null,null,"Interior Finish","Gypsum Wall Board",{"$f":"AVERAGE(0.896,0.9)","v":0.89800000000000002},null,null,null,null,2,"Continous Exterior Insulation","Insulated Cavity","Continous Exterior Insulation","Exterior Sheathing","Exterior Sheathing","Exterior Sheathing","-","-","-"]
[null,null,null,null,null,null,null,null,"Continuous Insulation (vapor open)","Mineral Wool Board",4,null,null,null,null,3,"Sheathing","Interior Finish","Sheathing","Insulated Cavity (1) (vapor closed)","Insulated Cavity (vapor closed)","Continous Exterior Insulation","-","-","-"]
[null,null,null,null,null,null,null,null,"Continuous Insulation (vapor closed)","Expanded Polystyrene (EPS)",4,null,null,null,null,4,"Insulated Cavity (optional)","-","Insulated Cavity","Insulated Cavity (2) (vapor open)","Interior Finish","Sheathing","-","-","-"]
[null,null,null,null,null,null,null,null,null,"Extruded Polystyrene (XPS)",5,null,null,null,null,5,"Interior Finish","-","Interior Finish","Interior Finish","-","Interior Finish","-","-","-"]
[null,null,null,null,null,null,null,null,null,"Graphite Expanded Polystyrene (GPS)",4.7,null,null,null,null,6,"-","-","-","-","-","-","-","-","-"]
[null,null,null,null,null,null,null,null,null,"Polyisocyanurate",5.8,null,null,null,null,7,"This roof type does not require additional vapor control if a Class II vapor control insulation layer is used.",{"$f":"\"This roof type\"&\" \"&IFERROR(VLOOKUP($C$2,P32:U48,2,FALSE),)&\" \"&\"interior vapor control in this climate as long as it is well-vented (minimum of 1-1/2 inch vent gap) above the insulation.\"","v":"This roof type allows Class III interior vapor control in this climate as long as it is well-vented (minimum of 1-1/2 inch vent gap) above the insulation."},{"$f":"\"This roof type\"&\" \"&IFERROR(VLOOKUP($C$2,P32:U48,4),)&\" \"&\"interior vapor control so long as the outer air-impermeable insulation R-value is >\"&IFERROR(VLOOKUP($C$2,P32:U48,3,FALSE),\"-\")&\"% of the total R-value.\"","v":"This roof type allows Class III interior vapor control so long as the outer air-impermeable insulation R-value is >35% of the total R-value."},{"$f":"\"This roof type\"&\" \"&IFERROR(VLOOKUP($C$2,P32:U48,4),)&\" \"&\"interior vapor control so long as the outer air-impermeable insulation R-value is >\"&IFERROR(VLOOKUP($C$2,P32:U48,3,FALSE),\"-\")&\"% of the total R-value.\"","v":"This roof type allows Class III interior vapor control so long as the outer air-impermeable insulation R-value is >35% of the total R-value."},"This roof type requires an effective airflow control layer on the inside of the insulation and/or framing.","This roof type requires an effective airflow control layer on the inside of the insulation and/or framing.","PHIUS review required to confirm no moisture risk.","PHIUS review required to confirm no moisture risk.","PHIUS review required to confirm no moisture risk."]
[null,null,null,null,null,null,null,null,"Structure","Concrete",6.25E-2,null,null,null,null,8,"Unvented roof assemblies with most (>75%) of the insulation ouboard of the structure.","Well vented roof assemblies (minimum of 1-1/2\" vent gap) with all or most of the insulation inside of the sheathing and between the framing members.","Unvented roof assemblies with some insulation provided by air-impereable insulation.","Unvented roof assemblies with some insulation provided by air-impereable insulation.","Unvented roof assemblies with insulation comprised of only air-impermeable insulation.","Structurally Insulated Panel with insulation comprised of only air-impermeable insulation.","-","-","-"]
[null,null,null,null,null,null,null,null,null,"Brick",0.36]
[null,null,null,null,null,null,null,null,null,"Concrete Masonry Unit (CMU)",0.11,null,null,null,null,1,"Slab on Grade Type A",{"$f":"F32","v":"User Defined Slab on Grade (1)"},"Overhang Floor Type B","Overhang Floor Type C (1)","Overhang Floor Type C (2)","Overhang Floor (SIP)",{"$f":"G32","v":"User Defined Overhang Floor (1)"}]
[null,null,null,null,null,null,null,null,null,"Aerated Autoclave Concrete (AAC)",1.2,null,null,null,null,2,"Continous Exterior Insulation","-","Netting / Exterior GWB","Exterior Sheathing","Continous Exterior Insulation","Exterior Sheathing","-"]
[null,null,null,null,null,null,null,null,"Still Air Space","Air Space <= 1/2\" (R-0.6)",0.6,null,null,null,null,3,"Concrete Slab","-","Insulated Cavity (vapor open)","Insulated Cavity (vapor closed)","Exterior Sheathing","Continous Exterior Insulation","-"]
[null,null,null,null,null,null,null,null,null,"Air Space > 1/2\" (R-1.0)",1,null,null,null,null,4,"Subfloor (optional)","-","Subfloor (optional)","Subfloor (optional)","Insulated Cavity (vapor closed)","Sheathing","-"]
[null,null,null,null,null,null,null,null,"User Defined",{"$f":"B8","v":"Pink Panther XPS"},{"$f":"C8","v":5.0999999999999996},null,null,null,null,5,"-","-","-","-","Subfloor (optional)","Subfloor (optional)","-"]
[null,null,null,null,null,null,null,null,null,{"$f":"B9","v":"Gravel"},0.2,null,null,null,null,6,"-","-","-","-","-","-","-"]
[null,null,null,null,null,null,null,null,null,0,0,null,null,null,null,7,"Does not typically have hygrothermal concerns as long as the vapor control layer (Class I) is installed between the concrete and the rigid insulation.","PHIUS review required to confirm no moisture risk.","Fiberglass or mineral wool is preferable to cellulose.","This floor type requires an effective airflow control layer on the inside of the insulation and/or framing.","This floor type requires an effective airflow control layer on the inside of the insulation and/or framing.","This floor type requires an effective airflow control layer on the inside of the insulation and/or framing.","PHIUS review required to confirm no moisture risk."]
[null,null,null,null,null,null,null,null,null,0,0,null,null,null,null,8,"Typical slab on grade. Be sure to only use insulation types graded to be used in contact with the ground.","-","Overhang floor (over crawlspace or cantilevered) without rigid insulation on the bottom using air permeable cavity insulation.","Overhang floor (over crawlspace or cantilevered) with cavity insulation comprised of only air-impermeable insulation.","Overhang floor (over crawlspace or cantilevered) with cavity insulation comprised of only air-impermeable insulation and continuous rigid insulation outboard of the sheathing/framing.","Structurally Insulated Panel with insulation comprised of only air-impermeable insulation.","-"]
[null,"Assemblies",null,null,null,null,null,null,null,0,0]
[null,"Layer","Walls",null,null,"Slab on Grade Floor","Overhang Floor",null,null,0,0,null,null,null,null,null,"Roof (b)","Roof (c)",null,"Wall (b)"]
[null,null,"User Defined Wall (1)","User Defined Wall (2)","User Defined Wall (3)","User Defined Slab on Grade (1)","User Defined Overhang Floor (1)",null,null,{"$f":"B14","v":0},{"$f":"C14","v":0},null,null,null,null,"Zone","Vapor Control","% of Total","Vapor Control","Sheathing to Cavity","Vapor Control"]
[null,1,null,null,null,null,null,null,null,null,null,null,null,null,null,"1A","does not require",15,"does not require","NR","does not require"]
[null,2,null,null,null,null,null,null,null,null,null,null,null,null,null,"2A","does not require",15,"does not require","NR","does not require"]
[null,3,null,null,null,null,null,null,null,null,null,null,null,null,null,"2B","does not require",15,"does not require","NR","does not require"]
[null,4,null,null,null,null,null,null,null,null,null,null,null,null,null,"3A","does not require",15,"does not require","NR","does not require"]
[null,5,null,null,null,null,null,null,null,null,null,null,null,null,null,"3B","does not require",15,"does not require","NR","does not require"]
[null,6,null,null,null,null,null,null,null,null,null,null,null,null,null,"3C","does not require",25,"allows Class III","NR","does not require"]
[null,7,null,null,null,null,null,null,null,null,null,null,null,null,null,"4A","allows Class III",35,"does not require","NR","does not require"]
[null,null,null,null,null,null,null,null,null,null,null,null,null,null,null,"4B","allows Class III",35,"does not require","NR","does not require"]
[null,"Step 1: Choose Roof Assembly Type >","Roof (SIP)",{"$f":"HLOOKUP(C41,$P$13:$Y$20,$P$20,FALSE)","v":"Structurally Insulated Panel with insulation comprised of only air-impermeable insulation."},null,null,null,null,null,null,null,null,null,null,null,"4C","allows Class III",25,"allows Class III",0.2,"allows Class III"]
[null,"Step 2: Fill in assembly materials, thicknesses & framing.",null,null,null,null,null,null,null,null,null,null,null,null,null,"5A","allows Class III",35,"allows Class III",0.35,"allows Class III"]
[null,"Material Layer","Material Type","Material Thickness (in)","Framing Type","R/in","Effective R-Value",null,null,null,null,null,null,null,null,"5B","allows Class III",35,"allows Class III",0.35,"allows Class III"]
[null,{"$f":"HLOOKUP(C41,$Q$13:$Y$18,$P$14,FALSE)","v":"Exterior Sheathing"},null,null,"-",{"$f":"IFERROR(VLOOKUP(C44,$J$2:$K$31,2,FALSE),)","v":0},{"$f":"IF(LEFT(C44,3)=\"air\",F44, IFERROR(VLOOKUP(E44,$M$2:$N$7,2,FALSE)*D44*F44+(1-VLOOKUP(E44,$M$2:$N$7,2,FALSE))*1.25,))","v":0},null,null,null,null,null,null,null,null,"5C","allows Class III",35,"allows Class III",0.35,"allows Class III"]
[null,{"$f":"HLOOKUP(C41,$Q$13:$Y$18,$P$15,FALSE)","v":"Continous Exterior Insulation"},null,null,"-",{"$f":"IFERROR(VLOOKUP(C45,$J$2:$K$31,2,FALSE),)","v":0},{"$f":"IF(LEFT(C45,3)=\"air\",F45, IFERROR(VLOOKUP(E45,$M$2:$N$7,2,FALSE)*D45*F45+(1-VLOOKUP(E45,$M$2:$N$7,2,FALSE))*1.25,))","v":0},null,null,null,null,null,null,null,null,"6A","allows Class III",50,"allows Class III",0.5,"allows Class III"]
[null,{"$f":"HLOOKUP(C41,$Q$13:$Y$18,$P$16,FALSE)","v":"Sheathing"},null,null,"-",{"$f":"IFERROR(VLOOKUP(C46,$J$2:$K$31,2,FALSE),)","v":0},{"$f":"IF(LEFT(C46,3)=\"air\",F46, IFERROR(VLOOKUP(E46,$M$2:$N$7,2,FALSE)*D46*F46+(1-VLOOKUP(E46,$M$2:$N$7,2,FALSE))*1.25,))","v":0},null,null,null,null,null,null,null,null,"6B","allows Class III",50,"allows Class III",0.5,"allows Class III"]
[null,{"$f":"HLOOKUP(C41,$Q$13:$Y$18,$P$17,FALSE)","v":"Interior Finish"},null,null,"-",{"$f":"IFERROR(VLOOKUP(C47,$J$2:$K$31,2,FALSE),)","v":0},{"$f":"IF(LEFT(C47,3)=\"air\",F47, IFERROR(VLOOKUP(E47,$M$2:$N$7,2,FALSE)*D47*F47+(1-VLOOKUP(E47,$M$2:$N$7,2,FALSE))*1.25,))","v":0},null,null,null,null,null,null,null,null,7,"allows Class III",65,"allows Class III",0.7,"allows Class III"]
[null,{"$f":"HLOOKUP(C41,$Q$13:$Y$18,$P$18,FALSE)","v":"-"},null,null,"-",{"$f":"IFERROR(VLOOKUP(C48,$J$2:$K$31,2,FALSE),)","v":0},{"$f":"IF(LEFT(C48,3)=\"air\",F48, IFERROR(VLOOKUP(E48,$M$2:$N$7,2,FALSE)*D48*F48+(1-VLOOKUP(E48,$M$2:$N$7,2,FALSE))*1.25,))","v":0},null,null,null,null,null,null,null,null,8,"allows Class III",65,"allows Class III",0.7,"allows Class III"]
[null,"Step 3: Review hygrothermal & moisture guidelines.",null,null,null,"Required Ratio","Calculated Ratio"]
[null,{"$f":"HLOOKUP(C41,$Q$13:$Y$19,$P$19,FALSE)","v":"This roof type requires an effective airflow control layer on the inside of the insulation and/or framing."},null,null,{"$f":"IF(LEFT(RIGHT(C41,5),1)=\"C\",IF(G51>F51,\"Ok, meets ratio.\",\"Does not meet ratio.\"),\"-\")","v":"-"}]
[null,null,null,null,null,{"$f":"IFERROR(IF(LEFT(RIGHT(C41,5),1)=\"C\",VLOOKUP($C$2,$P$32:$U$48,3,FALSE)/100,\"-\"),\"n/a\")","v":"-"},{"$f":"IFERROR(IF(LEFT(RIGHT(C41,5),5)=\"C (1)\",(F44*D44)/SUMPRODUCT(D44:D48,F44:F48),IF(LEFT(RIGHT(C41,5),5)=\"C (2)\",SUMPRODUCT(F44:F45,D44:D45)/SUMPRODUCT(D44:D48,F44:F48),\"-\")),)","v":"-"}]
[null,"Step 4: Review Effective R-Value to confirm compliance with required R-value.",null,null,"Effective R-Value",{"$f":"SUM(G44:G48)","v":0}]
[]
[null,"Step 1: Choose Wall Assembly Type >","Double-Stud Wall",{"$f":"HLOOKUP(C54,$P$2:$Y$11,$P$11,FALSE)","v":"Only interior-load bearing types allowed."}]
[null,"Step 2: Fill in assembly materials, thicknesses & framing."]
[null,"Material Layer","Material Type","Material Thickness (in)","Framing Type","R/in","Effective R-Value"]
[null,{"$f":"HLOOKUP(C54,$Q$2:$Z$9,$P$3,FALSE)","v":"Exterior Sheathing"},null,null,"-",{"$f":"IFERROR(VLOOKUP(C57,$J$2:$K$34,2,FALSE),)","v":0},{"$f":"IF(LEFT(C57,3)=\"air\",F57, IFERROR(VLOOKUP(E57,$M$2:$N$7,2,FALSE)*D57*F57+(1-VLOOKUP(E57,$M$2:$N$7,2,FALSE))*1.25,))","v":0}]
[null,{"$f":"HLOOKUP(C54,$Q$2:$Z$9,$P$4,FALSE)","v":"Insulated Cavity (1)"},null,null,"-",0,0]
[null,{"$f":"HLOOKUP(C54,$Q$2:$Z$9,$P$5,FALSE)","v":"Insulated Cavity (2)"},null,null,"-",0,0]
[null,{"$f":"HLOOKUP(C54,$Q$2:$Z$9,$P$6,FALSE)","v":"Sheathing"},null,null,"-",0,0]
[null,{"$f":"HLOOKUP(C54,$Q$2:$Z$9,$P$7,FALSE)","v":"Insulated Cavity (3)"},null,null,"-",0,0]
[null,{"$f":"HLOOKUP(C54,$Q$2:$Z$9,$P$8,FALSE)","v":"Interior Finish"},null,null,"-",0,0]
[null,{"$f":"HLOOKUP(C54,$Q$2:$Z$9,$P$9,FALSE)","v":"-"},null,null,"-",0,0]
[null,"Step 3: Review hygrothermal & moisture guidelines.",null,null,null,"Required Ratio","Calculated Ratio"]
[null,{"$f":"IF(C54=\"Double-Stud Wall\",HYPERLINK(\"https://www.buildingscience.com/documents/enclosures-that-work/high-r-value-wall-assemblies/high-r-value-double-stud-wall-construction?topic=doctypes/enclosures-that-work/etw-high-r-value-enclosure-assemblie\",HLOOKUP(C54,$Q$2:$Z$11,$P$10,FALSE)),HLOOKUP(C54,$Q$2:$Z$11,$P$10,FALSE))","v":"This wall type should be designed to align with Building Science Corporation's Enclosures That Work: Wall - Double Stud Wall Construction published on Nov. 15, 2014."},null,null,{"$f":"IF(LEFT(RIGHT(C54,5),1)=\"b\",IF(G66>F66,\"Ok, meets ratio.\",\"Does not meet ratio.\"),\"-\")","v":"-"}]
[null,null,null,null,null,{"$f":"IFERROR(IF(LEFT(RIGHT(C54,5),1)=\"B\",VLOOKUP($C$2,$P$32:$U$48,3,FALSE)/100,\"-\"),\"n/a\")","v":"-"},{"$f":"IFERROR(IF(LEFT(RIGHT(C54,5),5)=\"B (1)\",(F57*D57)/(SUMPRODUCT(D57:D63,F57:F63)-(F57*D57)),IF(LEFT(RIGHT(C54,5),5)=\"B (2)\",SUMPRODUCT(F57:F58,D57:D58)/(SUMPRODUCT(D57:D63,F57:F63)-SUMPRODUCT(F57:F58,D57:D58)),\"-\")),)","v":"-"}]
[null,"Step 4: Review Effective R-Value to confirm compliance with required R-value.",null,null,"Effective R-Value",{"$f":"SUM(G57:G61)","v":0}]
[]
[null,"Step 1: Choose Floor Assembly Type >","Overhang Floor (SIP)",{"$f":"HLOOKUP(C69,$P$22:$W$29,$P$29,FALSE)","v":"Structurally Insulated Panel with insulation comprised of only air-impermeable insulation."}]
[null,"Step 2: Fill in assembly materials, thicknesses & framing."]
[null,"Material Layer","Material Type","Material Thickness (in)","Framing Type","R/in","Effective R-Value"]
[null,{"$f":"HLOOKUP(C69,$Q$22:$W$27,$P$23,FALSE)","v":"Exterior Sheathing"},null,null,"-",{"$f":"IFERROR(VLOOKUP(C72,$J$2:$K$34,2,FALSE),)","v":0},{"$f":"IF(LEFT(C72,3)=\"air\",F72, IFERROR(VLOOKUP(E72,$M$2:$N$7,2,FALSE)*D72*F72+(1-VLOOKUP(E72,$M$2:$N$7,2,FALSE))*1.25,))","v":0}]
[null,{"$f":"HLOOKUP(C69,$Q$22:$W$27,$P$24,FALSE)","v":"Continous Exterior Insulation"},null,null,"-",{"$f":"IFERROR(VLOOKUP(C73,$J$2:$K$34,2,FALSE),)","v":0},{"$f":"IF(LEFT(C73,3)=\"air\",F73, IFERROR(VLOOKUP(E73,$M$2:$N$7,2,FALSE)*D73*F73+(1-VLOOKUP(E73,$M$2:$N$7,2,FALSE))*1.25,))","v":0}]
[null,{"$f":"HLOOKUP(C69,$Q$22:$W$27,$P$25,FALSE)","v":"Sheathing"},null,null,"-",{"$f":"IFERROR(VLOOKUP(C74,$J$2:$K$34,2,FALSE),)","v":0},{"$f":"IF(LEFT(C74,3)=\"air\",F74, IFERROR(VLOOKUP(E74,$M$2:$N$7,2,FALSE)*D74*F74+(1-VLOOKUP(E74,$M$2:$N$7,2,FALSE))*1.25,))","v":0}]
[null,{"$f":"HLOOKUP(C69,$Q$22:$W$27,$P$26,FALSE)","v":"Subfloor (optional)"},null,null,"-",{"$f":"IFERROR(VLOOKUP(C75,$J$2:$K$34,2,FALSE),)","v":0},{"$f":"IF(LEFT(C75,3)=\"air\",F75, IFERROR(VLOOKUP(E75,$M$2:$N$7,2,FALSE)*D75*F75+(1-VLOOKUP(E75,$M$2:$N$7,2,FALSE))*1.25,))","v":0}]
[null,{"$f":"HLOOKUP(C69,$Q$22:$W$27,$P$27,FALSE)","v":"-"},null,null,"-",{"$f":"IFERROR(VLOOKUP(C76,$J$2:$K$34,2,FALSE),)","v":0},{"$f":"IF(LEFT(C76,3)=\"air\",F76, IFERROR(VLOOKUP(E76,$M$2:$N$7,2,FALSE)*D76*F76+(1-VLOOKUP(E76,$M$2:$N$7,2,FALSE))*1.25,))","v":0}]
[null,"Step 3: Review hygrothermal & moisture guidelines."]
[null,{"$f":"HLOOKUP(C69,$Q$22:$W$29,$P$28,FALSE)","v":"This floor type requires an effective airflow control layer on the inside of the insulation and/or framing."}]
[]
[null,"Step 4: Review Effective R-Value to confirm compliance with required R-value.",null,null,"Effective R-Value",{"$f":"SUM(G72:G76)","v":0}]

{"sheet":"NFRC - Window Calculation","index":9,"n_rows":126,"n_cols":26,"rows_kept":126,"cut":false,"hidden":true,"merged":[[125,11,125,12],[118,1,118,4],[118,6,118,14],[119,1,119,2],[119,6,119,9],[119,10,125,10],[119,11,119,14],[120,1,120,2],[120,6,123,6],[120,11,123,11],[121,1,121,2],[122,1,122,2],[123,1,123,2],[124,1,124,2],[124,6,124,7],[124,11,124,12],[125,6,125,7],[116,1,116,2],[116,6,116,10],[116,11,116,12],[116,13,116,14],[117,1,117,2],[117,6,117,10],[117,11,117,12],[117,13,117,14],[113,1,113,14],[114,1,114,2],[114,3,114,4],[114,6,114,14],[115,1,115,2],[115,6,115,14],[112,1,112,14],[100,1,100,2],[100,6,100,14],[101,1,101,2],[101,6,101,10],[101,11,101,12],[101,13,101,14],[102,1,102,2],[102,6,102,10],[102,11,102,12],[102,13,102,14],[103,1,103,4],[103,6,103,14],[104,1,104,2],[104,6,104,9],[39,1,39,2],[39,6,39,7],[75,1,75,9],[76,1,76,9],[77,1,77,2],[77,3,77,4],[77,6,77,9],[58,1,58,2],[58,6,58,7],[57,1,57,2],[57,6,57,9],[59,1,59,2],[59,6,59,7],[60,1,60,4],[60,6,60,9],[61,1,61,2],[61,6,61,9],[72,6,72,7],[62,1,62,2],[62,6,64,6],[63,1,63,2],[64,1,64,2],[65,1,65,2],[65,6,65,7],[35,1,35,2],[35,6,37,6],[36,1,36,2],[37,1,37,2],[38,1,38,2],[38,6,38,7],[32,1,32,2],[32,6,32,7],[33,1,33,4],[33,6,33,7],[34,1,34,2],[34,6,34,9],[29,1,29,9],[30,1,30,2],[30,3,30,4],[30,6,30,9],[31,1,31,2],[31,6,31,9],[25,1,25,2],[25,6,25,7],[26,1,26,2],[26,6,26,7],[28,1,28,9],[20,1,20,4],[20,6,20,7],[21,1,21,2],[21,6,21,9],[22,1,22,2],[22,6,24,6],[23,1,23,2],[24,1,24,2],[17,3,17,4],[17,6,17,9],[18,1,18,2],[18,6,18,9],[19,1,19,2],[19,6,19,7],[4,25,5,25],[4,1,4,2],[4,3,4,4],[4,6,4,9],[0,1,0,3],[0,4,0,6],[0,7,0,9],[2,1,2,9],[3,14,3,18],[3,20,3,25],[3,1,3,9],[4,15,4,16],[4,17,4,18],[4,21,4,22],[4,23,4,24],[5,1,5,2],[5,6,5,9],[6,1,6,2],[6,6,6,7],[7,1,7,4],[7,6,7,7],[8,1,8,2],[8,6,8,9],[9,1,9,2],[9,6,11,6],[10,1,10,2],[11,1,11,2],[12,1,12,2],[12,6,12,7],[13,1,13,2],[13,6,13,7],[54,1,54,9],[55,1,55,9],[56,1,56,2],[56,3,56,4],[56,6,56,9],[15,1,15,9],[16,1,16,9],[17,1,17,2],[41,1,41,9],[42,1,42,9],[43,1,43,2],[43,3,43,4],[43,6,43,9],[44,1,44,2],[44,6,44,9],[45,1,45,2],[45,6,45,7],[46,1,46,4],[46,6,46,7],[47,1,47,2],[66,1,66,2],[66,6,66,7],[67,6,67,9],[68,6,68,9],[69,6,71,6],[73,6,73,7],[97,1,97,14],[98,1,98,14],[99,1,99,2],[99,3,99,4],[99,6,99,14],[78,1,78,2],[78,6,78,9],[79,1,79,2],[79,6,79,7],[80,1,80,2],[80,6,80,7],[81,1,81,4],[81,6,81,9],[82,1,82,2],[82,6,82,9],[83,1,83,2],[83,6,85,6],[84,1,84,2],[85,1,85,2],[86,1,86,2],[86,6,86,7],[104,10,110,10],[104,11,104,14],[105,1,105,2],[105,6,108,6],[105,11,108,11],[106,1,106,2],[107,1,107,2],[108,1,108,2],[109,1,109,2],[109,6,109,7],[109,11,109,12],[110,6,110,7],[110,11,110,12],[93,6,93,7],[94,6,94,7],[87,1,87,2],[87,6,87,7],[88,6,88,9],[89,6,89,9],[90,6,92,6],[47,6,47,9],[48,1,48,2],[48,6,50,6],[49,1,49,2],[50,1,50,2],[51,1,51,2],[51,6,51,7],[52,1,52,2],[52,6,52,7]]}
[null,"Input Data",null,null,"Calculated Values",null,null,"Defaults"]
[]
[null,"Single Lite - Type 1",null,null,null,null,null,null,null,null,null,null,null,null,"https://cdn.ymaws.com/nfrccommunity.site-ym.com/resource/resmgr/2014_Technical_Docs/ANSI_NFRC_100-2014_E0A1.pdf"]
[null,{"$f":"Checklist!F324","v":"Casement"},null,null,null,null,null,null,null,null,"Frame fRsi",{"$f":"IF(I13=\"-\",\"-\",1-0.74/(0.74+1/(I13*(1+L5))))","v":"-"},null,null,"NFRC Default Window Sizes",null,null,null,null,null,"NFRC Default Window Sizes"]
[null,"NFRC",null,"Data",null,null,"WUFI Inputs",null,null,null,"Safety Factor",0.15,null,null,"Singles","mm",null,"ft",null,null,"Mulled / Doubles","mm",null,"ft",null,"Horizontal?"]
[null,"Whole Window U-value",null,{"$f":"Checklist!$Q$91","v":0.1546829848716641},"BTU/hr.sf.F",null,"Basic Parameters",null,null,null,null,null,null,null,"Product Type","Width","Height","Width","Height",null,"Product Type","Width","Height","Width","Height"]
[null,"SHGC - overall",null,0.35,null,null,"Glass U-value",null,{"$f":"L9","v":0.11},"BTU/hr.sf.F","Panes of Glass",{"$f":"Checklist!F325","v":3},null,null,"Casement",600,1500,{"$f":"P7/25.4/12","v":1.9685039370078741},4.9212598425196852,null,"Casement",1200,1500,{"$f":"V7/25.4/12","v":3.9370078740157481},{"$f":"W7/25.4/12","v":4.9212598425196852},true]
[null,"NFRC Window Sizes",null,null,null,null,"SHGC - Glass",null,{"$f":"IFERROR(((D7*D13)/D11),\"-\")","v":0.35},null,"U-cog",{"$f":"Checklist!L325","v":0},null,null,"Dual Action",1200,1500,3.9370078740157481,4.9212598425196852,null,"Horizontal Slider",1500,1200,{"$f":"V8/25.4/12","v":4.9212598425196852},3.9370078740157481,true]
[null,"Height",null,{"$f":"IFERROR(VLOOKUP(B4,$O$7:$S$18,5,FALSE),\"-\")","v":4.9212598425196852},"ft",null,"Frame Parameters",null,null,null,"Glass U-value",{"$f":"IF(L8=0,VLOOKUP(L7,$M$21:$N$23,2,FALSE),L8)","v":0.11},null,null,"Fixed",1200,1500,3.9370078740157481,4.9212598425196852,null,"Projecting (Awning, Dual)",1500,1200,4.9212598425196852,3.9370078740157481,true]
[null,"Width",null,{"$f":"IFERROR(VLOOKUP(B4,$O$7:$S$18,4,FALSE),\"-\")","v":1.9685039370078741},"ft",null,"Frame\nWidth","Left/Right",{"$f":"Checklist!L324","v":0},"in",null,null,null,null,"Jal/Jal Awning",1200,1500,3.9370078740157481,4.9212598425196852,null,"Sliding Patio Door",2000,2000,6.5616797900262469,6.5616797900262469,true]
[null,"Glass Area",null,{"$f":"IFERROR((D9-(I11/12+I12/12))*(D10-2*I10/12),\"-\")","v":9.6875193750387503},"sf",null,null,"Top",{"$f":"I10","v":0},"in",null,null,null,null,"Pivoted",1200,1500,3.9370078740157481,4.9212598425196852,null,"Curtain Wall",2000,2000,6.5616797900262469,6.5616797900262469,true]
[null,"Frame Area",null,{"$f":"IFERROR(D13-D11,\"-\")","v":0},"sf",null,null,"Bottom",{"$f":"I11","v":0},"in",null,null,null,null,"Projected Awning",1500,600,4.9212598425196852,1.9685039370078741,null,"Swinging Door",1920,2090,6.2992125984251972,6.8569553805774284,true]
[null,"Window area",null,{"$f":"IFERROR(D9*D10,\"-\")","v":9.6875193750387503},"sf",null,"Frame U-value",null,{"$f":"IFERROR(((D6*D13)-(I14*D14)-(I7*D11))/D12,\"-\")","v":"-"},"BTU/hr.sf.F",null,null,null,null,"Door Sidelite",600,2000,1.9685039370078741,6.5616797900262469,null,"Vertical Slider",1200,1500,3.9370078740157481,4.9212598425196852,false]
[null,"Glazing-to-frame psi-length",null,{"$f":"IFERROR(2*((D9-I11/12-I12/12)+(D10-2*I11/12)),\"-\")","v":13.779527559055119},"ft",null,"Glazing-to-frame psi-value",null,2.3E-2,"Btu/hr.ft.F",null,null,null,null,"Skylight",1200,1200,3.9370078740157481,3.9370078740157481,null,"Spandrel Panel",2000,1200,6.5616797900262469,3.9370078740157481,false]
[null,null,null,null,null,null,null,null,null,null,null,null,null,null,"Door Transom",2000,600,6.5616797900262469,1.9685039370078741]
[null,"Single Lite - Type 2",null,null,null,null,null,null,null,null,null,null,null,null,"Tropical Awning",1500,1200,4.9212598425196852,3.9370078740157481]
[null,{"$f":"Checklist!F328","v":"Dual Action"},null,null,null,null,null,null,null,null,"Frame fRsi",{"$f":"IF(I26=\"-\",\"-\",1-0.74/(0.74+1/(I26*(1+L18))))","v":"-"},null,null,"Swinging Door",960,2090,3.1496062992125986,6.8569553805774284]
[null,"NFRC",null,"Data",null,null,"WUFI Inputs",null,null,null,"Safety Factor",0.15]
[null,"Whole Window U-value",null,{"$f":"Checklist!$Q$91","v":0.1546829848716641},"BTU/hr.sf.F",null,"Basic Parameters"]
[null,"SHGC - overall",null,0.35,null,null,"Glass U-value",null,{"$f":"L22","v":0.11},"BTU/hr.sf.F","Panes of Glass",{"$f":"Checklist!F329","v":3},"Panes","U center of glass Btu/h.ft2.F"]
[null,"NFRC Window Sizes",null,null,null,null,"SHGC - Glass",null,{"$f":"IFERROR(((D20*D26)/D24),\"-\")","v":0.35},null,"U-cog",{"$f":"Checklist!L329","v":0},2,0.24]
[null,"Height",null,{"$f":"IFERROR(VLOOKUP(B17,$O$7:$S$18,5,FALSE),\"-\")","v":4.9212598425196852},"ft",null,"Frame Parameters",null,null,null,"Glass U-value",{"$f":"IF(L21=0,VLOOKUP(L20,$M$21:$N$23,2,FALSE),L21)","v":0.11},3,0.11]
[null,"Width",null,{"$f":"IFERROR(VLOOKUP(B17,$O$7:$S$18,4,FALSE),\"-\")","v":3.9370078740157481},"ft",null,"Frame\nWidth","Left/Right",{"$f":"Checklist!L328","v":0},"in",null,null,4,0.06]
[null,"Glass Area",null,{"$f":"IFERROR((D22-(I24/12+I25/12))*(D23-2*I23/12),\"-\")","v":19.375038750077501},"sf",null,null,"Top",{"$f":"I23","v":0},"in"]
[null,"Frame Area",null,{"$f":"IFERROR(D26-D24,\"-\")","v":0},"sf",null,null,"Bottom",{"$f":"I24","v":0},"in"]
[null,"Window area",null,{"$f":"IFERROR(D22*D23,\"-\")","v":19.375038750077501},"sf",null,"Frame U-value",null,{"$f":"IFERROR(((D19*D26)-(I27*D27)-(I20*D24))/D25,\"-\")","v":"-"},"BTU/hr.sf.F"]
[null,"Glazing-to-frame psi-length",null,{"$f":"IFERROR(2*((D22-I24/12-I25/12)+(D23-2*I24/12)),\"-\")","v":17.716535433070867},"ft",null,"Glazing-to-frame psi-value",null,2.3E-2,"Btu/hr.ft.F"]
[]
[null,"Single Lite - Type 3"]
[null,{"$f":"Checklist!F332","v":"Fixed"},null,null,null,null,null,null,null,null,"Frame fRsi",{"$f":"IF(I39=\"-\",\"-\",1-0.74/(0.74+1/(I39*(1+L31))))","v":"-"}]
[null,"NFRC",null,"Data",null,null,"WUFI Inputs",null,null,null,"Safety Factor",0.15]
[null,"Whole Window U-value",null,{"$f":"Checklist!$Q$91","v":0.1546829848716641},"BTU/hr.sf.F",null,"Basic Parameters"]
[null,"SHGC - overall",null,0.35,null,null,"Glass U-value",null,{"$f":"L35","v":0.11},"BTU/hr.sf.F","Panes of Glass",{"$f":"Checklist!F333","v":3}]
[null,"NFRC Window Sizes",null,null,null,null,"SHGC - Glass",null,{"$f":"IFERROR(((D33*D39)/D37),\"-\")","v":0.35},null,"U-cog",{"$f":"Checklist!L333","v":0}]
[null,"Height",null,{"$f":"IFERROR(VLOOKUP(B30,$O$7:$S$18,5,FALSE),\"-\")","v":4.9212598425196852},"ft",null,"Frame Parameters",null,null,null,"Glass U-value",{"$f":"IF(L34=0,VLOOKUP(L33,$M$21:$N$23,2,FALSE),L34)","v":0.11}]
[null,"Width",null,{"$f":"IFERROR(VLOOKUP(B30,$O$7:$S$18,4,FALSE),\"-\")","v":3.9370078740157481},"ft",null,"Frame\nWidth","Left/Right",{"$f":"Checklist!L332","v":0},"in"]
[null,"Glass Area",null,{"$f":"IFERROR((D35-(I37/12+I38/12))*(D36-2*I36/12),\"-\")","v":19.375038750077501},"sf",null,null,"Top",{"$f":"I36","v":0},"in"]
[null,"Frame Area",null,{"$f":"IFERROR(D39-D37,\"-\")","v":0},"sf",null,null,"Bottom",{"$f":"I37","v":0},"in"]
[null,"Window area",null,{"$f":"IFERROR(D35*D36,\"-\")","v":19.375038750077501},"sf",null,"Frame U-value",null,{"$f":"IFERROR(((D32*D39)-(I40*D40)-(I33*D37))/D38,\"-\")","v":"-"},"BTU/hr.sf.F"]
[null,"Glazing-to-frame psi-length",null,{"$f":"IFERROR(2*((D35-I37/12-I38/12)+(D36-2*I37/12)),\"-\")","v":17.716535433070867},"ft",null,"Glazing-to-frame psi-value",null,2.3E-2,"Btu/hr.ft.F"]
[]
[null,"Single Lite - Type 4"]
[null,{"$f":"Checklist!F349","v":0},null,null,null,null,null,null,null,null,"Frame fRsi",{"$f":"IF(I52=\"-\",\"-\",1-0.74/(0.74+1/(I52*(1+L44))))","v":"-"}]
[null,"NFRC",null,"Data",null,null,"WUFI Inputs",null,null,null,"Safety Factor",0.15]
[null,"Whole Window U-value",null,{"$f":"Checklist!$Q$91","v":0.1546829848716641},"BTU/hr.sf.F",null,"Basic Parameters"]
[null,"SHGC - overall",null,0.35,null,null,"Glass U-value",null,{"$f":"L48","v":0.11},"BTU/hr.sf.F","Panes of Glass",{"$f":"Checklist!F342","v":3}]
[null,"NFRC Window Sizes",null,null,null,null,"SHGC - Glass",null,{"$f":"IFERROR(((D46*D52)/D50),\"-\")","v":"-"},null,"U-cog",{"$f":"Checklist!L342","v":0}]
[null,"Height",null,{"$f":"IFERROR(VLOOKUP(B43,$O$7:$S$18,5,FALSE),\"-\")","v":"-"},"ft",null,"Frame Parameters",null,null,null,"Glass U-value",{"$f":"IF(L47=0,VLOOKUP(L46,$M$21:$N$23,2,FALSE),L47)","v":0.11}]
[null,"Width",null,{"$f":"IFERROR(VLOOKUP(B43,$O$7:$S$18,4,FALSE),\"-\")","v":"-"},"ft",null,"Frame\nWidth","Left/Right",{"$f":"Checklist!L336","v":0},"in"]
[null,"Glass Area",null,{"$f":"IFERROR((D48-(I50/12+I51/12))*(D49-2*I49/12),\"-\")","v":"-"},"sf",null,null,"Top",{"$f":"I49","v":0},"in"]
[null,"Frame Area",null,{"$f":"IFERROR(D52-D50,\"-\")","v":"-"},"sf",null,null,"Bottom",{"$f":"I50","v":0},"in"]
[null,"Window area",null,{"$f":"IFERROR(D48*D49,\"-\")","v":"-"},"sf",null,"Frame U-value",null,{"$f":"IFERROR(((D45*D52)-(I53*D53)-(I46*D50))/D51,\"-\")","v":"-"},"BTU/hr.sf.F"]
[null,"Glazing-to-frame psi-length",null,{"$f":"IFERROR(2*((D48-I50/12-I51/12)+(D49-2*I50/12)),\"-\")","v":"-"},"ft",null,"Glazing-to-frame psi-value",null,2.3E-2,"Btu/hr.ft.F"]
[]
[null,"Two Lites Stacked - Type 1"]
[null,"Vertical Slider",null,null,null,null,null,null,null,null,"Frame fRsi",{"$f":"IF(I66=\"-\",\"-\",1-0.74/(0.74+1/(I66*(1+L57))))","v":"-"}]
[null,"NFRC",null,"Data",null,null,"WUFI Inputs",null,null,null,"Safety Factor",0.15]
[null,"Whole Window U-value",null,{"$f":"Checklist!$Q$91","v":0.1546829848716641},"BTU/hr.sf.F",null,"Basic Parameters"]
[null,"SHGC - overall",null,0.35,null,null,"Glass U-value",null,0.12,"BTU/hr.sf.F","Panes of Glass",{"$f":"Checklist!F342","v":3}]
[null,"Center Rail Thickness",null,{"$f":"Checklist!L341","v":0},"in",null,"SHGC - Glass",null,{"$f":"IFERROR(((D59*D66)/D64),\"-\")","v":0.35},null,"U-cog",{"$f":"Checklist!L342","v":0}]
[null,"NFRC Window Sizes",null,null,null,null,"Frame Parameters",null,null,null,"Glass U-value",{"$f":"IF(L60=0,VLOOKUP(L59,$M$21:$N$23,2,FALSE),L60)","v":0.11}]
[null,"Height",null,{"$f":"IFERROR(VLOOKUP(B56,$U$7:$Y$14,5,FALSE),\"=\")","v":4.9212598425196852},"ft",null,"Upper Window"]
[null,"Width",null,{"$f":"IFERROR(VLOOKUP(B56,$U$7:$Y$14,4,FALSE),\"-\")","v":3.9370078740157481},"ft",null,"Frame\nWidth","Left / Right",{"$f":"Checklist!L340","v":0},"in"]
[null,"Glass Area",null,{"$f":"IFERROR(IF(VLOOKUP(B56,$U$7:$Z$14,6,FALSE)=TRUE,(D62-(I64/12+I72/12))*(D63-((2*I63/12)+D60/12)),(D62-((I64+I72+D60)/12))*(D63-(2*I63/12))),\"-\")","v":19.375038750077501},"sf",null,null,"Top",{"$f":"I63","v":0},"in"]
[null,"Frame Area",null,{"$f":"IFERROR(D66-D64,\"-\")","v":0},"sf",null,null,"Bottom",{"$f":"D60/2","v":0},"in"]
[null,"Window area",null,{"$f":"IFERROR(D62*D63,\"-\")","v":19.375038750077501},"sf",null,"Frame U-value",null,{"$f":"IFERROR(((D58*D66)-(I67*D67)-(I59*D64))/D65,\"-\")","v":"-"},"BTU/hr.sf.F"]
[null,"Glazing-to-frame psi-length",null,{"$f":"IFERROR(IF(VLOOKUP(B56,$U$7:$Z$14,6,FALSE)=TRUE,2*((D63)-(2*(I63+D60)/12))+4*((D62)-((I64/12)+(I72/12))),4*(D63-(2*I63/12))+2*(D62-((D60+I64+I72)/12))),\"-\")","v":25.590551181102363},"ft",null,"Glazing-to-frame psi-value",null,2.3E-2,"Btu/hr.ft.F"]
[null,null,null,null,null,null,"Frame Parameters"]
[null,null,null,null,null,null,"Lower Window"]
[null,null,null,null,null,null,"Frame\nWidth","Left / Right",{"$f":"I63","v":0},"in"]
[null,null,null,null,null,null,null,"Top",{"$f":"D60/2","v":0},"in"]
[null,null,null,null,null,null,null,"Bottom",{"$f":"I64","v":0},"in"]
[null,null,null,null,null,null,"Frame U-value",null,{"$f":"I66","v":"-"},"BTU/hr.sf.F"]
[null,null,null,null,null,null,"Glazing-to-frame psi-value",null,{"$f":"I67","v":2.3E-2},"Btu/hr.ft.F"]
[]
[null,"Two Lites Stacked - Type 2"]
[null,"Vertical Slider",null,null,null,null,null,null,null,null,"Frame fRsi",{"$f":"IF(I87=\"-\",\"-\",1-0.74/(0.74+1/(I87*(1+L78))))","v":"-"}]
[null,"NFRC",null,"Data",null,null,"WUFI Inputs",null,null,null,"Safety Factor",0.15]
[null,"Whole Window U-value",null,{"$f":"Checklist!$Q$91","v":0.1546829848716641},"BTU/hr.sf.F",null,"Basic Parameters"]
[null,"SHGC - overall",null,0.35,null,null,"Glass U-value",null,{"$f":"L82","v":0.11},"BTU/hr.sf.F","Panes of Glass",{"$f":"Checklist!F347","v":3}]
[null,"Center Rail Thickness",null,{"$f":"Checklist!L346","v":0},"in",null,"SHGC - Glass",null,{"$f":"IFERROR(((D80*D87)/D85),\"-\")","v":0.35},null,"U-cog",{"$f":"Checklist!L347","v":0}]
[null,"NFRC Window Sizes",null,null,null,null,"Frame Parameters",null,null,null,"Glass U-value",{"$f":"IF(L81=0,VLOOKUP(L80,$M$21:$N$23,2,FALSE),L81)","v":0.11}]
[null,"Height",null,{"$f":"IFERROR(VLOOKUP(B77,$U$7:$Y$14,5,FALSE),\"=\")","v":4.9212598425196852},"ft",null,"Upper Window"]
[null,"Width",null,{"$f":"IFERROR(VLOOKUP(B77,$U$7:$Y$14,4,FALSE),\"-\")","v":3.9370078740157481},"ft",null,"Frame\nWidth","Left / Right",{"$f":"Checklist!L345","v":0},"in"]
[null,"Glass Area",null,{"$f":"IFERROR(IF(VLOOKUP(B77,$U$7:$Z$14,6,FALSE)=TRUE,(D83-(I85/12+I93/12))*(D84-((2*I84/12)+D81/12)),(D83-((I85+I93+D81)/12))*(D84-(2*I84/12))),\"-\")","v":19.375038750077501},"sf",null,null,"Top",{"$f":"I84","v":0},"in"]
[null,"Frame Area",null,{"$f":"IFERROR(D87-D85,\"-\")","v":0},"sf",null,null,"Bottom",{"$f":"D81/2","v":0},"in"]
[null,"Window area",null,{"$f":"IFERROR(D83*D84,\"-\")","v":19.375038750077501},"sf",null,"Frame U-value",null,{"$f":"IFERROR(((D79*D87)-(I88*D88)-(I80*D85))/D86,\"-\")","v":"-"},"BTU/hr.sf.F"]
[null,"Glazing-to-frame psi-length",null,{"$f":"IFERROR(IF(VLOOKUP(B77,$U$7:$Z$14,6,FALSE)=TRUE,2*((D84)-(2*(I84+D81)/12))+4*((D83)-((I85/12)+(I93/12))),4*(D84-(2*I84/12))+2*(D83-((D81+I85+I93)/12))),\"-\")","v":25.590551181102363},"ft",null,"Glazing-to-frame psi-value",null,2.3E-2,"Btu/hr.ft.F"]
[null,null,null,null,null,null,"Frame Parameters"]
[null,null,null,null,null,null,"Lower Window"]
[null,null,null,null,null,null,"Frame\nWidth","Left / Right",{"$f":"I84","v":0},"in"]
[null,null,null,null,null,null,null,"Top",{"$f":"D81/2","v":0},"in"]
[null,null,null,null,null,null,null,"Bottom",{"$f":"I85","v":0},"in"]
[null,null,null,null,null,null,"Frame U-value",null,{"$f":"I87","v":"-"},"BTU/hr.sf.F"]
[null,null,null,null,null,null,"Glazing-to-frame psi-value",null,{"$f":"I88","v":2.3E-2},"Btu/hr.ft.F"]
[]
[]
[null,"Two Lites Side-by-Side - Type 1"]
[null,"Sliding Patio Door"]
[null,"NFRC",null,"Data",null,null,"WUFI Inputs",null,null,null,null,null,null,null,null,null,null,"Frame fRsi",{"$f":"IF(N110=\"-\",\"-\",1-0.74/(0.74+1/(N110*(1+S101))))","v":"-"}]
[null,"Whole Window U-value",null,{"$f":"Checklist!$Q$91","v":0.1546829848716641},"BTU/hr.sf.F",null,"Basic Parameters",null,null,null,null,null,null,null,null,null,null,"Safety Factor",0.15]
[null,"SHGC - overall",null,0.35,null,null,"Glass U-value",null,null,null,null,{"$f":"S105","v":0.11},null,"BTU/hr.sf.F"]
[null,"Center Rail Thickness",null,{"$f":"Checklist!L351","v":0},"in",null,"SHGC - Glass",null,null,null,null,{"$f":"IFERROR(((D102*D109)/D107),\"-\")","v":0.35},null,null,null,null,null,"Panes of Glass",{"$f":"Checklist!F352","v":3}]
[null,"NFRC Window Sizes",null,null,null,null,"Frame Parameters",null,null,null,null,null,null,null,null,null,null,"U-cog",{"$f":"Checklist!L352","v":0}]
[null,"Height",null,{"$f":"IFERROR(VLOOKUP(B99,$U$7:$Y$14,5,FALSE),\"-\")","v":6.5616797900262469},"ft",null,"Left Window",null,null,null,null,"Right Window",null,null,null,null,null,"Glass U-value",{"$f":"IF(S104=0,VLOOKUP(S103,$M$21:$N$23,2,FALSE),S104)","v":0.11}]
[null,"Width",null,{"$f":"IFERROR(VLOOKUP(B99,$U$7:$Y$14,4,FALSE),\"-\")","v":6.5616797900262469},"ft",null,"Frame\nWidth","Left",{"$f":"Checklist!I351","v":0},"in",null,"Frame\nWidth","Left",{"$f":"D103/2","v":0},"in"]
[null,"Glass Area",null,{"$f":"IFERROR(IF(VLOOKUP(B99,$U$7:$Z$14,6,FALSE)=TRUE,(D105-(I108/12+I109/12))*(D106-((2*I106/12)+D103/12)),(D105-((I108+I109+D103)/12))*(D106-(2*I106/12))),\"-\")","v":43.055641666838895},"sf",null,null,"Right",{"$f":"D103/2","v":0},"in",null,null,"Right",{"$f":"I106","v":0},"in"]
[null,"Frame Area",null,{"$f":"IFERROR(D109-D107,\"-\")","v":0},"sf",null,null,"Top",{"$f":"Checklist!L350","v":0},"in",null,null,"Top",{"$f":"D103/2","v":0},"in"]
[null,"Window area",null,{"$f":"IFERROR(D105*D106,\"-\")","v":43.055641666838895},"sf",null,null,"Bottom",{"$f":"Checklist!P351","v":0},"in",null,null,"Bottom",{"$f":"I109","v":0},"in"]
[null,"Glazing-to-frame psi-length",null,{"$f":"IFERROR(IF(VLOOKUP(B99,$U$7:$Z$14,6,FALSE)=TRUE,2*((D106)-(2*(I106+D103)/12))+4*((D105)-((I108/12)+(I109/12))),4*(D106-(2*I106/12))+2*(D105-((D103+I108+I109)/12))),\"-\")","v":39.370078740157481},"ft",null,"Frame U-value",null,{"$f":"IFERROR(((D101*D109)-(I111*D110)-(L102*D107))/D108,\"-\")","v":"-"},"BTU/hr.sf.F",null,"Frame U-value",null,{"$f":"I110","v":"-"},"BTU/hr.sf.F"]
[null,null,null,null,null,null,"Glazing-to-frame psi-value",null,2.3E-2,"Btu/hr.ft.F",null,"Glazing-to-frame psi-value",null,{"$f":"I111","v":2.3E-2},"Btu/hr.ft.F"]
[]
[null,"Two Lites Side-by-Side - Type 2"]
[null,"Sliding Patio Door"]
[null,"NFRC",null,"Data",null,null,"WUFI Inputs",null,null,null,null,null,null,null,null,null,null,"Frame fRsi",{"$f":"IF(N125=\"-\",\"-\",1-0.74/(0.74+1/(N125*(1+S116))))","v":"-"}]
[null,"Whole Window U-value",null,{"$f":"Checklist!$Q$91","v":0.1546829848716641},"BTU/hr.sf.F",null,"Basic Parameters",null,null,null,null,null,null,null,null,null,null,"Safety Factor",0.15]
[null,"SHGC - overall",null,0.35,null,null,"Glass U-value",null,null,null,null,{"$f":"S120","v":0.11},null,"BTU/hr.sf.F"]
[null,"Center Rail Thickness",null,{"$f":"Checklist!L356","v":0},"in",null,"SHGC - Glass",null,null,null,null,{"$f":"IFERROR(((D117*D124)/D122),\"-\")","v":0.35},null,null,null,null,null,"Panes of Glass",{"$f":"Checklist!F357","v":3}]
[null,"NFRC Window Sizes",null,null,null,null,"Frame Parameters",null,null,null,null,null,null,null,null,null,null,"U-cog",{"$f":"Checklist!L357","v":0}]
[null,"Height",null,{"$f":"IFERROR(VLOOKUP(B114,$U$7:$Y$14,5,FALSE),\"-\")","v":6.5616797900262469},"ft",null,"Left Window",null,null,null,null,"Right Window",null,null,null,null,null,"Glass U-value",{"$f":"IF(S119=0,VLOOKUP(S118,$M$21:$N$23,2,FALSE),S119)","v":0.11}]
[null,"Width",null,{"$f":"IFERROR(VLOOKUP(B114,$U$7:$Y$14,4,FALSE),\"-\")","v":6.5616797900262469},"ft",null,"Frame\nWidth","Left",{"$f":"Checklist!I356","v":0},"in",null,"Frame\nWidth","Left",{"$f":"D118/2","v":0},"in"]
[null,"Glass Area",null,{"$f":"IFERROR(IF(VLOOKUP(B114,$U$7:$Z$14,6,FALSE)=TRUE,(D120-(I123/12+I124/12))*(D121-((2*I121/12)+D118/12)),(D120-((I123+I124+D118)/12))*(D121-(2*I121/12))),\"-\")","v":43.055641666838895},"sf",null,null,"Right",{"$f":"D118/2","v":0},"in",null,null,"Right",{"$f":"I121","v":0},"in"]
[null,"Frame Area",null,{"$f":"IFERROR(D124-D122,\"-\")","v":0},"sf",null,null,"Top",{"$f":"Checklist!L355","v":0},"in",null,null,"Top",{"$f":"D118/2","v":0},"in"]
[null,"Window area",null,{"$f":"IFERROR(D120*D121,\"-\")","v":43.055641666838895},"sf",null,null,"Bottom",{"$f":"Checklist!P356","v":0},"in",null,null,"Bottom",{"$f":"I124","v":0},"in"]
[null,"Glazing-to-frame psi-length",null,{"$f":"IFERROR(IF(VLOOKUP(B114,$U$7:$Z$14,6,FALSE)=TRUE,2*((D121)-(2*(I121+D118)/12))+4*((D120)-((I123/12)+(I124/12))),4*(D121-(2*I121/12))+2*(D120-((D118+I123+I124)/12))),\"-\")","v":39.370078740157481},"ft",null,"Frame U-value",null,{"$f":"IFERROR(((D116*D124)-(I126*D125)-(L117*D122))/D123,\"-\")","v":"-"},"BTU/hr.sf.F",null,"Frame U-value",null,{"$f":"I125","v":"-"},"BTU/hr.sf.F"]
[null,null,null,null,null,null,"Glazing-to-frame psi-value",null,2.3E-2,"Btu/hr.ft.F",null,"Glazing-to-frame psi-value",null,{"$f":"I126","v":2.3E-2},"Btu/hr.ft.F"]

{"sheet":"City List","index":10,"n_rows":75,"n_cols":68,"rows_kept":75,"cut":false,"hidden":true,"merged":[]}
[null,"Final Filtered List","Filtered List",1,2,3,4,5,6,7,8,9,10,11,12,13,14,15,16,17,18,19,20,21,22,23,24,25,26,27,28,29,30,31,32,33,34,35,36,37,38,39,40,41,42,43,44,45,46,47,48,49,50,51,52,53,54,55,56,57,58,59,60,61,62,63,64,1]
[null,null,{"$f":"_Ctrl_2","v":"ILLINOIS"},"ALBERTA","ALASKA","ALABAMA","ARKANSAS","ARIZONA","BRITISH COLUMBIA","CALIFORNIA","COLORADO","CONNECTICUT","DELAWARE","DISTRICT OF COLUMBIA","FLORIDA","GEORGIA","HAWAII","IOWA","IDAHO","ILLINOIS","INDIANA","KANSAS","KENTUCKY","LOUISIANA","MASSACHUSETTS","MANITOBA","MARYLAND","MAINE","MICHIGAN","MINNESOTA","MISSOURI","MISSISSIPPI","MONTANA","NEW BRUNSWICK","NORTH CAROLINA","NORTH DAKOTA","NEBRASKA","NEWFOUNDLAND","NEW HAMPSHIRE","NEW JERSEY","NEW MEXICO","NOVA SCOTIA","NORTHWEST TERRITORIES","NUNAVUT","NEVADA","NEW YORK","OHIO","OKLAHOMA","ONTARIO","OREGON","PENNSYLVANIA","PRINCE EDWARD ISLAND","QUEBEC","RHODE ISLAND","SOUTH CAROLINA","SOUTH DAKOTA","SAKSATCHEWAN","TENNESSEE","TEXAS","UTAH","VIRGINIA","VERMONT","WASHINGTON","WISCONSIN","WEST VIRGINIA","WYOMING","YUKON TERRITORY",2]
["ALABAMA",{"$f":"C3","v":"AURORA MUNICIPAL"},{"$f":"IFERROR(HLOOKUP($C$2,$D$2:$BO$75,$BP2,FALSE),\"\")","v":"AURORA MUNICIPAL"},"CALGARY INT AP","ADAK NAS","ANNISTON METROPOLITAN AP","BATESVILLE (AWOS)","CASA GRANDE (AWOS)","ABBOTSFORD AP","ALTURAS","AKRON WASHINGTON CO AP","BRIDGEPORT SIKORSKY MEMORIAL","DOVER AFB","WASHINGTON DC DULLES INT AR [STERLING - ISIS]","CRESTVIEW BOB SIKES AP","ALBANY DOUGHERTY COUNTY AP","BARBERS POINT NAS","ALGONA","BOISE AIR TERMINAL [UO]","AURORA MUNICIPAL","DELAWARE CO JOHNSON","CHANUTE MARTIN JOHNSON AP","BOWLING GREEN WARREN CO AP","ALEXANDRIA ESLER REGIONAL AP","BARNSTABLE MUNI BOA","WINNIPEG","ANDREWS AFB","AUBURN-LEWISTON","ALPENA COUNTY REGIONAL AP","AITKIN NDB(AWOS)","CAPE GIRARDEAU MUNICIPAL AP","COLUMBUS AFB","BILLINGS LOGAN INT ARPT","FREDERICTON","ASHEVILLE REGIONAL ARPT","BISMARCK MUNICIPAL ARPT [ISIS]","AINSWORTH MUNICIPAL","ST JOHNS","BERLIN MUNICIPAL","ATLANTIC CITY INTL AP","ALBUQUERQUE INTL ARPT [ISIS]","GREENWOOD AP","YELLOWKNIFE AP","IQALUIT","ELKO MUNICIPAL ARPT","ADIRONDACK RGNL","AKRON AKRON-CANTON REG AP","ALTUS AFB","BARRIE","ASTORIA REGIONAL AIRPORT","ALLENTOWN LEHIGH VALLEY INTL","CHARLOTTETOWN","BAGOTVILLE AP","BLOCK ISLAND STATE ARPT","ANDERSON COUNTY AP","ABERDEEN REGIONAL ARPT","MOOSE JAW AP","BRISTOL TRI CITY AIRPORT","ABILENE DYESS AFB","BLANDING MUNI AP","ABINGDON","BURLINGTON INTERNATIONAL AP","BELLINGHAM INTL AP","APPLETON/OUTAGAMIE","BECKLEY RALEIGH CO MEM AP","CASPER NATRONA CO INTL AP","WHITEHORSE",3]
["ALASKA",{"$f":"C4","v":"BELLEVILLE SCOTT AFB"},{"$f":"IFERROR(HLOOKUP($C$2,$D$2:$BO$75,$BP3,FALSE),\"\")","v":"BELLEVILLE SCOTT AFB"},"COP UPPER","AMBLER","AUBURN-OPELIKA APT","BENTONVILLE (AWOS)","DAVIS MONTHAN AFB","AGASSIZ CDA","ARCATA AIRPORT","ALAMOSA SAN LUIS VALLEY RGNL","DANBURY MUNICIPAL","WILMINGTON NEW CASTLE CNTY AP","WASHINGTON DC REAGAN AP","DAYTONA BEACH INTL AP","ALMA BACON COUNTY AP","HILO INTERNATIONAL AP","ATLANTIC","BURLEY MUNICIPAL ARPT","BELLEVILLE SCOTT AFB","EVANSVILLE REGIONAL AP","CONCORDIA BLOSSER MUNI AP","CINCINNATI NORTHERN KY AP","BARKSDALE AFB","BEVERLY MUNI","-","BALTIMORE BLT-WASHNGTN INT","AUGUSTA AIRPORT","ANN ARBOR MUNICIPAL","ALBERT LEA (AWOS)","COLUMBIA REGIONAL AIRPORT","GOLDEN TRI(AWOS)","BOZEMAN GALLATIN FIELD","MONCTON AP","CAPE HATTERAS NWS BLDG","DEVILS LAKE(AWOS)","ALLIANCE MUNICIPAL","-","CONCORD MUNICIPAL ARPT","BELMAR ASC","CARLSBAD CAVERN CITY AIR TERM","HALIFAX","-","-","ELY YELLAND FIELD","ALBANY COUNTY AP","BURKE LAKEFRONT","BARTLESVILLE-PHILLIPS FIELD","BEAUSOLEIL","AURORA STATE","ALTOONA BLAIR CO ARPT","-","JONQUIERE","PAWTUCKET (AWOS)","BEAUFORT MCAS","BROOKINGS (AWOS)","PRINCE ALBERT AP","CHATTANOOGA LOVELL FIELD AP","ABILENE REGIONAL AP [UT]","BRYCE CANYON AP","CHARLOTTESVILLE FAA","HO CHI MIHN","BREMERTON NATIONAL","EAU CLAIRE COUNTY AP","BLUEFIELD/MERCER CO [NREL]","CHEYENNE MUNICIPAL ARPT","-",4]
["ALBERTA","CAHOKIA/ST. LOUIS","CAHOKIA/ST. LOUIS","EDMONTON AP","ANAKTUVUK PASS","BIRMINGHAM MUNICIPAL AP","EL DORADO GOODWIN FIELD","DEER VALLEY/PHOENIX","BALLENAS ISLAND","BAKERSFIELD MEADOWS FIELD","ASPEN PITKIN CO SAR","GROTON NEW LONDON AP","-","-","FORT LAUDERDALE","ATHENS BEN EPPS AP","HONOLULU INTL ARPT","BOONE MUNI","CALDWELL (AWOS)","CAHOKIA/ST. LOUIS","FORT WAYNE INTL AP","DODGE CITY REGIONAL AP","FORT CAMPBELL AAF","BATON ROUGE RYAN ARPT","BOSTON LOGAN INT ARPT","-","HAGERSTOWN RGNL RIC","BANGOR INTERNATIONAL AP","BATTLE CREEK KELLOGG AP","ALEXANDRIA MUNICIPAL AP","FARMINGTON","GREENVILLE MUNI AP","BUTTE BERT MOONEY ARPT","-","CHARLOTTE DOUGLAS INTL ARPT","DICKINSON MUNICIPAL AP","BEATRICE MUNICIPAL","-","DILLANT HOPKINS","CALDWELL/ESSEX CO.","CLAYTON MUNICIPAL AIRPARK","SHEARWATER","-","-","FALLON NAAS","BINGHAMTON EDWIN A LINK FIELD","CINCINNATI MUNICIPAL AP LUNKI","CLINTON-SHERMAN","BURLINGTON PIERS","BAKER MUNICIPAL AP","BRADFORD REGIONAL AP","-","LA BAIE","PROVIDENCE T F GREEN STATE AR","CHARLESTON INTL ARPT","CHAN GURNEY MUNI","REGINA","CROSSVILLE MEMORIAL AP","ALICE INTL AP","CEDAR CITY MUNICIPAL AP","DANVILLE FAA AP","MONTPELIER AP","EPHRATA AP FCWOS","GREEN BAY AUSTIN STRAUBEL INT","CHARLESTON YEAGER ARPT","CODY MUNI (AWOS)","-",5]
["ARIZONA","CENTRAL ILLINOIS RG","CENTRAL ILLINOIS RG","EDMONTON MUN AP","ANCHORAGE INTL AP","CAIRNS FIELD FORT RUCKER","FAYETTEVILLE DRAKE FIELD","DOUGLAS BISBEE-DOUGLAS INTL A","COMOX AP","BEALE AFB","AURORA BUCKLEY FIELD ANGB","HARTFORD BRADLEY INTL AP","-","-","FORT LAUDERDALE HOLLYWOOD INT","ATLANTA HARTSFIELD INTL AP","KAHULUI AIRPORT","BURLINGTON MUNICIPAL AP","COEUR D`ALENE(AWOS)","CENTRAL ILLINOIS RG","GRISSOM ARB","EMPORIA MUNICIPAL AP","FORT KNOX GODMAN AAF","ENGLAND AFB","CHICOPEE FALLS WESTO","-","PATUXENT RIVER NAS","BAR HARBOR (AWOS)","BENTON HARBOR/ROSS","AUSTIN MUNI","JEFFERSON CITY MEM","GREENWOOD LEFLORE ARPT","CUT BANK MUNI AP","-","CHERRY POINT MCAS","FARGO HECTOR INTERNATIONAL AP","BELLEVUE OFFUTT AFB","-","LACONIA MUNI (AWOS)","CAPE MAY CO","CLOVIS CANNON AFB","SYDNEY AP","-","-","LAS VEGAS MCCARRAN INTL AP","BUFFALO NIAGARA INTL AP","CLEVELAND HOPKINS INTL AP","FORT SILL POST FIELD AF","ERIEAU","BURNS MUNICIPAL ARPT [UO]","BUTLER CO (AWOS)","-","LACADIE","-","COLUMBIA METRO ARPT","ELLSWORTH AFB","SASKATOON","DYERSBURG MUNICIPAL AP","AMARILLO INTERNATIONAL AP [CANYON - UT]","HANKSVILLE AP","DAVISON AAF","RUTLAND STATE","FAIRCHILD AFB","JANESVILLE/ROCK CO.","ELKINS ELKINS-RANDOLPH CO ARP","EVANSTON-UINTA COUNTY AP-BURNS FIELD","-",6]
["ARKANSAS","CHICAGO MIDWAY AP","CHICAGO MIDWAY AP","EDMONTON NAMAO","ANCHORAGE MERRILL FIELD","DOTHAN MUNICIPAL AP","FLIPPIN (AWOS)","FLAGSTAFF PULLIAM ARPT","CRANBROOK AP","BISHOP AIRPORT","BARRANQUILLA","HARTFORD BRAINARD FD","-","-","FORT MYERS PAGE FIELD","AUGUSTA BUSH FIELD","KANEOHE BAY MCAS","CARROLL","IDAHO FALLS FANNING FIELD","CHICAGO MIDWAY AP","HUNTINGBURG","FORT RILEY MARSHALL AAF","HENDERSON CITY","FORT POLK AAF","LAWRENCE MUNI","-","SALISBURY WICOMICO CO AP","CARIBOU MUNICIPAL ARPT","CADILLAC WEXFORD CO AP","BAUDETTE INTERNATIONAL AP","JOPLIN MUNICIPAL AP","GULFPORT BILOXI INT","GLASGOW INTL ARPT","-","DARE CO RGNL","GRAND FORKS AF","BREWSTER FIELD ARPT","-","LEBANON MUNICIPAL","MCGUIRE AFB","CLOVIS MUNI (AWOS)","-","-","-","LOVELOCK DERBY FIELD","ELMIRA CORNING REGIONAL AP","COLUMBUS PORT COLUMBUS INTL A","GAGE AIRPORT","LAGOON CITY","CORVALLIS MUNI","DUBOIS FAA AP","-","LASSOMPTION","-","FLORENCE REGIONAL AP","HURON REGIONAL ARPT","-","JACKSON MCKELLAR-SIPES REGL A","AUSTIN MUELLER MUNICIPAL AP [UT]","MOAB/CANYONLANDS [UO]","FARMVILLE","SPRINGFIELD/HARTNES","FELTS FLD","LA CROSSE MUNICIPAL ARPT","HARRISON MARION RGN","GILLETTE/GILLETTE-C","-",7]
["BRITISH COLUMBIA","CHICAGO OHARE INTL AP","CHICAGO OHARE INTL AP","EDMONTON-STONY P","ANCHORAGE/ELMENDORF","GADSEN MUNI AWOS","FORT SMITH REGIONAL AP","GRAND CANYON NATL P","DISCOVERY ISLAND","BLUE CANYON AP","BROOMFIELD/JEFFCO [BOULDER - SURFRAD]","NEW HAVEN TWEED AIRPORT","-","-","GAINESVILLE REGIONAL AP","BRUNSWICK GOLDEN IS","KONA INTL AT KEAHOL","CEDAR RAPIDS MUNICIPAL AP","JOSLIN FLD MAGIC VA [TWIN FALLS - UO]","CHICAGO OHARE INTL AP","INDIANAPOLIS INTL AP","GARDEN CITY MUNICIPAL AP","JACKSON JULIAN CARROLL AP","LAFAYETTE REGIONAL AP","MARTHAS VINEYARD","-","-","HOULTON INTL ARPT","CHIPPEWA CO INTL","BEMIDJI MUNICIPAL","KAISER MEM (AWOS)","HATTIESBURG LAUREL","GLENDIVE(AWOS)","-","ELIZABETH CITY COAST GUARD AI [NREL]","GRAND FORKS INTERNATIONAL AP","BROKEN BOW MUNI","-","MANCHESTER AIRPORT","MILLVILLE MUNICIPAL AP","DEMING MUNI","-","-","-","MERCURY DESERT ROCK AP [SURFRAD]","FORT DRUM/WHEELER-S","DAYTON INTERNATIONAL AIRPORT","HOBART MUNICIPAL AP","LAKESHORE","EUGENE MAHLON SWEET ARPT [UO]","ERIE INTERNATIONAL AP","-","LENNOXVILLE","-","GREENVILLE DOWNTOWN AP","MITCHELL (AWOS)","-","KNOXVILLE MCGHEE TYSON AP","BROWNSVILLE S PADRE ISL INTL","OGDEN HILL AFB","FRANKLIN NAAS","-","GRAY AAF","LONE ROCK FAA AP","HUNTINGTON TRI-STATE ARPT","GREEN RIVER-GREATER GREEN RIVER INTERGALACTIC SPACEPORT","-",8]
["CALIFORNIA","CHICAGO/WAUKEGAN","CHICAGO/WAUKEGAN","FORT MCMURRAY AP","ANIAK AIRPORT","HUNTSVILLE INTL/JONES FIELD","HARRISON FAA AP","KINGMAN (AMOS)","ENTRANCE ISLAND","BLYTHE RIVERSIDE CO ARPT","CALI","OXFORD (AWOS)","-","-","HOMESTEAD AFB","BRUNSWICK MALCOLM MCKINNON AP","LANAI AP","CHARITON","LEWISTON NEZ PERCE CNTY AP","CHICAGO/WAUKEGAN","LAFAYETTE PURDUE UNIV AP","GOODLAND RENNER FIELD","LEXINGTON BLUEGRASS AP","LAKE CHARLES REGIONAL ARPT","NANTUCKET MEMORIAL AP","-","-","MILLINOCKET MUNICIPAL AP","DETROIT CITY AIRPORT","BENSON MUNI","KANSAS CITY DOWNTOWN AP","JACKSON INTERNATIONAL AP","GREAT FALLS INTL ARPT","-","FAYETTEVILLE POPE AFB","JAMESTOWN MUNICIPAL ARPT","CHADRON MUNI AP","-","MOUNT WASHINGTON","NEWARK INTERNATIONAL ARPT","FARMINGTON FOUR CORNERS REGL","-","-","-","NELLIS AFB","GLENS FALLS AP","FINDLAY AIRPORT","LAWTON MUNICIPAL","LONDON AP","KLAMATH FALLS INTL AP [UO]","FRANKLIN","-","MC TAVISH","-","GREER GREENV-SPARTANBRG AP","MOBRIDGE","-","MEMPHIS INTERNATIONAL AP","CAMP MABRY","OGDEN HINKLEY AIRPORT","HILLSVILLE","-","HANFORD","MADISON DANE CO REGIONAL ARPT [ISIS]","LEWISBURG/GREENBRIE","JACKSON HOLE","-",9]
["COLORADO","DECATUR","DECATUR","GRAND PRAIRIE","ANNETTE ISLAND AP","MAXWELL AFB","JONESBORO MUNI","LUKE AFB","ESQUIMALT HARBOUR","BURBANK-GLENDALE-PASADENA AP","CARTAGENA","-","-","-","JACKSONVILLE INTL ARPT","COLUMBUS METROPOLITAN ARPT","LIHUE AIRPORT","CHARLES CITY","MOUNTAIN HOME AFB","DECATUR","MONROE CO","GREAT BEND (AWOS)","LONDON-CORBIN AP","MONROE REGIONAL AP","NEW BEDFORD RGNL","-","-","NORTHERN AROOSTOOK","DETROIT METROPOLITAN ARPT","BRAINERD/WIELAND","KANSAS CITY INT ARPT","KEESLER AFB","HAVRE CITY-COUNTY AP","-","FAYETTEVILLE RGNL G","MINOT AFB","COLUMBUS MUNI","-","PEASE INTL TRADEPOR","TETERBORO AIRPORT","GALLUP SEN CLARKE FLD","-","-","-","RENO TAHOE INTERNATIONAL AP","ISLIP LONG ISL MACARTHUR AP","MANSFIELD LAHM MUNICIPAL ARPT","MCALESTER MUNICIPAL AP","MOOSE FACTORY","LA GRANDE MUNI AP","HARRISBURG CAPITAL CITY ARPT","-","MONT JOLI AB","-","MYRTLE BEACH AFB","PIERRE MUNICIPAL AP","-","NASHVILLE INTERNATIONAL AP","CHILDRESS MUNICIPAL AP","PROVO MUNI (AWOS)","HOT SPRINGS/INGALLS","-","HOQUIAM AP","MANITOWOC MUNI AWOS","MARTINSBURG EASTERN WV REG AP","LANDER HUNT FIELD","-",10]
["CONNECTICUT","MARION REGIONAL","MARION REGIONAL","LACOMBE","ANVIK","MOBILE DOWNTOWN AP","LITTLE ROCK ADAMS FIELD","PAGE MUNI (AMOS)","FORT NELSON","CAMARILLO (AWOS)","COLORADO SPRINGS MUNI AP","-","-","-","JACKSONVILLE NAS","DEKALB PEACHTREE","MOLOKAI (AMOS)","CLARINDA","POCATELLO REGIONAL AP","MARION REGIONAL","NEW DELHI SAFDARJUNG AP","HAYS MUNI (AWOS)","LOUISVILLE BOWMAN FIELD","NEW IBERIA NAAS","NORTH ADAMS","-","-","PORTLAND INTL JETPORT","DETROIT WILLOW RUN AP","CAMBRIDGE MUNI","KIRKSVILLE REGIONAL AP","MCCOMB PIKE COUNTY AP","HELENA REGIONAL AIRPORT","-","FORT BRAGG SIMMONS AAF","MINOT FAA AP","FALLS CITY/BRENNER","-","-","TRENTON MERCER COUNTY AP","HOLLOMAN AFB","-","-","-","TONOPAH AIRPORT","JAMESTOWN (AWOS)","OHIO STATE UNIVERSI","OKLAHOMA CITY TINKER AFB","MUSKOKA AP","LAKEVIEW (AWOS)","JOHNSTOWN CAMBRIA COUNTY AP","-","MONT-ORFORD","-","NORTH MYRTLE BEACH-GRAND STRAND FIELD","RAPID CITY REGIONAL ARPT","-","-","COLLEGE STATION EASTERWOOD FL","SAINT GEORGE (AWOS)","LANGLEY AFB","-","KELSO WB AP","MARSHFIELD MUNI","MORGANTOWN HART FIELD","LARAMIE GENERAL BREES FIELD","-",11]
["DELAWARE","MOLINE QUAD CITY INTL AP","MOLINE QUAD CITY INTL AP","LETHBRIDGE","BARROW W POST-W ROGERS ARPT [NSA - ARM]","MOBILE REGIONAL AP","LITTLE ROCK AFB","PHOENIX SKY HARBOR INTL AP","FORT SAINT JOHN","CAMP PENDLETON MCAS","CORTEZ/MONTEZUMA","-","-","-","JACKSONVILLE/CRAIG","FORT BENNING LAWSON","-","CLINTON MUNI (AWOS)","SALMON/LEMHI (AWOS)","MOLINE QUAD CITY INTL AP","PATNA","HILL CITY MUNICIPAL AP","LOUISVILLE STANDIFORD FIELD","NEW ORLEANS ALVIN CALLENDER F","NORWOOD MEMORIAL","-","-","PRESQUE ISLE MUNICIP","ESCANABA (AWOS)","CLOQUET (AWOS)","POPLAR BLUFF(AMOS)","MERIDIAN KEY FIELD","KALISPELL GLACIER PK INT AR","-","GOLDSBORO SEYMOUR JOHNSON AFB","WILLISTON SLOULIN INTL AP","FREMONT MUNI ARPT","-","-","-","LAS CRUCES INTL AP","-","-","-","WINNEMUCCA MUNICIPAL ARPT","MASSENA AP","TOLEDO EXPRESS AIRPORT","OKLAHOMA CITY WILL ROGERS WOR","NORTH BAY AP","MEDFORD ROGUE VALLEY INTL AP [ASHLAND - UO]","LANCASTER","-","MONTREAL","-","SUMTER SHAW AFB","SIOUX FALLS FOSS FIELD","-","-","CORPUS CHRISTI INTL ARPT [UT]","SALT LAKE CITY INT ARPT [ISIS]","LEESBURG/GODFREY","-","MOSES LAKE GRANT COUNTY AP","MILWAUKEE MITCHELL INTL AP","PARKERSBURG WOOD COUNTY AP","RAWLINS MUNICIPAL AP","-",12]
["DISTRICT OF COLUMBIA","MOUNT VERNON (AWOS)","MOUNT VERNON (AWOS)","MEDICINE AP","BETHEL AIRPORT","MONTGOMERY DANNELLY FIELD","PINE BLUFF FAA AP","PRESCOTT LOVE FIELD","KAMLOOPS AP","CARLSBAD/PALOMAR","CRAIG-MOFFAT","-","-","-","KEY WEST INTL ARPT","FULTON CO ARPT BROW","-","COUNCIL BLUFFS","-","MOUNT VERNON (AWOS)","SOUTH BEND MICHIANA RGNL AP","HUTCHINSON MUNICIPAL AP","PADUCAH BARKLEY REGIONAL AP","NEW ORLEANS INTL ARPT","OTIS ANGB","-","-","ROCKLAND/KNOX(AWOS)","FLINT BISHOP INTL ARPT","CRANE LAKE (AWOS)","SPRINGFIELD REGIONAL ARPT","MERIDIAN NAAS","LEWISTOWN MUNICIPAL ARPT","-","GREENSBORO PIEDMONT TRIAD INT","-","GRAND ISLAND CENTRAL NE REGIO","-","-","-","LAS VEGAS MUNICIPAL ARPT","-","-","-","-","MONTICELLO(AWOS)","YOUNGSTOWN REGIONAL AIRPORT","OKLAHOMA CITY/WILEY","OTTAWA","NORTH BEND MUNI AIRPORT","MIDDLETOWN HARRISBURG INTL AP","-","MONTREAL-MIRABEL","-","-","WATERTOWN MUNICIPAL AP","-","-","CORPUS CHRISTI NAS","VERNAL","LYNCHBURG REGIONAL ARPT","-","OLYMPIA AIRPORT","MINOCQUA/WOODRUFF","WHEELING OHIO COUNTY AP","RIVERTON MUNICIPL AP","-",13]
["FLORIDA","PEORIA GREATER PEORIA AP","PEORIA GREATER PEORIA AP","RED DEER AP","BETTLES FIELD","MUSCLE SHOALS REGIONAL AP","ROGERS (AWOS)","SAFFORD (AMOS)","KELOWNA AP","CHINA LAKE NAF","DENVER INTL AP","-","-","-","KEY WEST NAS","HUNTER AAF","-","CRESTON","-","PEORIA GREATER PEORIA AP","TERRE HAUTE HULMAN REGIONAL A","LIBERAL MUNI","SOMERSET(AWOS)","NEW ORLEANS LAKEFRONT AP","PLYMOUTH MUNICIPAL","-","-","SANFORD MUNI (AWOS)","GRAND RAPIDS KENT COUNTY INT","CROOKSTON MUNI FLD","ST JOSEPH ROSECRANS MEMORIAL","NATCHEZ/HARDY(AWOS)","LIVINGSTON MISSION FIELD","-","HICKORY REGIONAL AP","-","HASTINGS MUNICIPAL","-","-","-","ROSWELL INDUSTRIAL AIR PARK","-","-","-","-","NEW YORK CENTRAL PRK OBS BELV","ZANESVILLE MUNICIPAL AP","PONCA CITY MUNICIPAL AP [SGP - ARM]","PETERBOROUGH AP","PENDLETON E OR REGIONAL AP","PHILADELPHIA INTERNATIONAL AP","-","NICOLET","-","-","-","-","-","COTULLA FAA AP","WENDOVER USAF AUXILIARY FIELD","MANASSAS MUNI(AWOS)","-","PASCO","MOSINEE/CENTRAL WI","-","SHERIDAN COUNTY ARPT","-",14]
["GEORGIA","QUINCY MUNI BALDWIN FLD","QUINCY MUNI BALDWIN FLD","SPRINGBANK","BIG DELTA ALLEN AAF","TROY AIR FIELD","SILOAM SPRING(AWOS)","SCOTTSDALE MUNI","MALAHAT","CHINO AIRPORT","DENVER/CENTENNIAL [GOLDEN - NREL]","-","-","-","MACDILL AFB","MACON MIDDLE GA REGIONAL AP","-","DECORAH","-","QUINCY MUNI BALDWIN FLD","-","MANHATTAN RGNL","-","PATTERSON MEMORIAL","PROVINCETOWN (AWOS)","-","-","WATERVILLE (AWOS)","HANCOCK HOUGHTON CO AP","DETROIT LAKES(AWOS)","ST LOUIS LAMBERT INT ARPT","TUPELO C D LEMONS ARPT","MILES CITY MUNICIPAL ARPT","-","JACKSONVILLE (AWOS)","-","IMPERIAL MUNI AP","-","-","-","SANTA FE COUNTY MUNICIPAL AP","-","-","-","-","NEW YORK J F KENNEDY INT AR","-","STILLWATER RGNL","PORT WELLER","PORTLAND INTERNATIONAL AP","PHILADELPHIA NE PHILADELPHIA","-","POINT-AU-PERE","-","-","-","-","-","COX FLD","-","MARION / WYTHEVILLE","-","PULLMAN/MOSCOW RGNL","PHILLIPS/PRICE CO.","-","WORLAND MUNICIPAL","-",15]
["HAWAII",{"$f":"C16","v":"ROCKFORD GREATER ROCKFORD AP"},"ROCKFORD GREATER ROCKFORD AP","-","BIG RIVER LAKE","TUSCALOOSA MUNICIPAL AP","SPRINGDALE MUNI","SHOW LOW MUNI AP","MERRITT","CHULA VISTA BROWN FIELD NAAS","DURANGO/LA PLATA CO","-","-","-","MARATHON AIRPORT","MARIETTA DOBBINS AFB","-","DENISON","-","ROCKFORD GREATER ROCKFORD AP","-","MCCONNELL AFB","-","SHREVEPORT DOWNTOWN","WESTFIELD BARNES MUNI AP","-","-","WISCASSET","HOUGHTON LAKE ROSCOMMON CO AR","DULUTH INTERNATIONAL ARPT","ST LOUIS SPIRIT OF ST LOUIS A","-","MISSOULA INTERNATIONAL AP","-","NEW BERN CRAVEN CO REGL AP","-","KEARNEY MUNI (AWOS)","-","-","-","SIERRA BLANCA RGNL","-","-","-","-","NEW YORK LAGUARDIA ARPT","-","TULSA INTERNATIONAL AIRPORT","SAULT STE MARIE","PORTLAND/HILLSBORO","PITTSBURGH ALLEGHENY CO AP","-","QUEBEC AP","-","-","-","-","-","DALHART MUNICIPAL AP","-","MARTINSVILLE","-","QUILLAYUTE STATE AIRPORT","RHINELANDER ONEIDA","-","-","-",16]
["IDAHO","SOUTHERN ILLINOIS","SOUTHERN ILLINOIS","-","BIRCHWOOD","-","STUTTGART (AWOS)","TUCSON INTERNATIONAL AP","NORTH VANCOUVER","CONCORD CONCORD-BUCHANAN FIEL","EAGLE COUNTY AP","-","-","-","MAYPORT NS","MOODY AFB/VALDOSTA","-","DES MOINES INTL AP","-","SOUTHERN ILLINOIS","-","NEWTON (AWOS)","-","SHREVEPORT REGIONAL ARPT","WORCESTER REGIONAL ARPT","-","-","-","HOWELL","ELY MUNI","VICHY ROLLA NATL ARPT","-","SIDNEY-RICHLAND","-","NEW RIVER MCAF","-","LINCOLN MUNICIPAL ARPT","-","-","-","TAOS MUNI APT(AWOS)","-","-","-","-","NIAGARA FALLS AF","-","VANCE AFB","SUDBURY AP","PORTLAND/TROUTDALE","PITTSBURGH INTERNATIONAL AP","-","SHERBROOKE AP","-","-","-","-","-","DALLAS/ADDISON ARPT","-","MELFA/ACCOMACK ARPT","-","RENTON MUNI","RICE LAKE MUNICIPAL","-","-","-",17]
["ILLINOIS","SPRINGFIELD CAPITAL AP","SPRINGFIELD CAPITAL AP","-","COLD BAY ARPT","-","TEXARKANA WEBB FIELD","WINSLOW MUNICIPAL AP","PENTICTON AP","CRESCENT CITY FAA AI","FORT COLLINS (AWOS)","-","-","-","MELBOURNE REGIONAL AP","ROME R B RUSSELL AP","-","DUBUQUE REGIONAL AP","-","SPRINGFIELD CAPITAL AP","-","OLATHE/JOHNSON CO.","-","-","-","-","-","-","IRON MOUNTAIN/FORD","EVELETH MUNI (AWOS)","WHITEMAN AFB","-","WOLF POINT INTL [FORT PECK - SURFRAD]","-","PITT GREENVILLE ARP","-","MCCOOK MUNICIPAL","-","-","-","TRUTH OR CONSEQUENCES MUNI AP","-","-","-","-","POUGHKEEPSIE DUTCHESS CO AP","-","-","THUNDER BAY AP","REDMOND ROBERTS FIELD","READING SPAATZ FIELD","-","ST ANICET","-","-","-","-","-","DALLAS/REDBIRD ARPT","-","NEWPORT NEWS","-","SEATTLE BOEING FIELD [ISIS]","STURGEON BAY","-","-","-",18]
["INDIANA","STERLING ROCKFALLS","STERLING ROCKFALLS","-","CORDOVA","-","WALNUT RIDGE (AWOS)","YUMA INTL ARPT","PITT MEADOWS","DAGGETT BARSTOW-DAGGETT AP","GRAND JUNCTION WALKER FIELD","-","-","-","MIAMI INTL AP","SAVANNAH INTL AP","-","ESTHERVILLE MUNI","-","STERLING ROCKFALLS","-","OLATHE-JOHNSON COUNTY INDUSTRIAL AP","-","-","-","-","-","-","IRONWOOD (AWOS)","FAIRMONT MUNI(AWOS)","-","-","-","-","RALEIGH DURHAM INTERNATIONAL","-","NORFOLK KARL STEFAN MEM ARPT","-","-","-","TUCUMCARI AP","-","-","-","-","REPUBLIC","-","-","TIMMINS AP","ROSEBURG REGIONAL AP","STATE COLLEGE [PENN STATE - SURFRAD]","-","STE ANNE DE BELLEVUE","-","-","-","-","-","DALLAS-FORT WORTH INTL AP","-","NORFOLK INTERNATIONAL AP","-","SEATTLE SEATTLE-TACOMA INTL A","WATERTOWN","-","-","-",19]
["IOWA","UNIV OF ILLINOIS WI [BONDVILLE - SURFRAD]","UNIV OF ILLINOIS WI [BONDVILLE - SURFRAD]","-","DEADHORSE","-","-","YUMA MCAS","PRINCE GEORGE","EDWARDS AFB","GREELEY/WELD (AWOS)","-","-","-","MIAMI/KENDALL-TAMIA","VALDOSTA WB AIRPORT","-","FAIR FIELD","-","UNIV OF ILLINOIS WI [BONDVILLE - SURFRAD]","-","RUSSELL MUNICIPAL AP","-","-","-","-","-","-","JACKSON REYNOLDS FIELD","FARIBAULT MUNI AWOS","-","-","-","-","ROCKY MOUNT WILSON","-","NORTH PLATTE REGIONAL AP","-","-","-","-","-","-","-","-","ROCHESTER GREATER ROCHESTER I","-","-","TORONTO","SALEM MCNARY FIELD","WASHINGTON (AWOS)","-","STE FOY","-","-","-","-","-","DALLAS-LOVE FIELD","-","NORFOLK NAS","-","SNOHOMISH CO","WAUSAU MUNICIPAL ARPT","-","-","-",20]
["KANSAS","W. CHICAGO/DU PAGE","W. CHICAGO/DU PAGE","-","DILLINGHAM (AMOS)","-","-","-","SMITHERS AP","FRESNO YOSEMITE INTL AP","GUNNISON CO. (AWOS)","-","-","-","MIAMI/OPA LOCKA","WARNER ROBINS AFB","-","FORT DODGE (AWOS)","-","W. CHICAGO/DU PAGE","-","SALINA MUNICIPAL AP","-","-","-","-","-","-","KALAMAZOO BATTLE CR","FERGUS FALLS AWOS","-","-","-","-","SOUTHERN PINES AWOS","-","OMAHA EPPLEY AIRFIELD","-","-","-","-","-","-","-","-","STEWART FIELD","-","-","TORONTO AP","SEXTON SUMMIT","WILKES-BARRE SCRANTON INTL AP","-","TROIS RIVIERES","-","-","-","-","-","DEL RIO [UT]","-","OCEANA NAS","-","SPOKANE INTERNATIONAL AP [CHENEY - UO]","WITTMAN RGNL","-","-","-",21]
["KENTUCKY","-","-","-","DUTCH HARBOR","-","-","-","SUMMERLAND","FULLERTON MUNICIPAL","HAYDEN/YAMPA (AWOS)","-","-","-","NAPLES MUNICIPAL","-","-","FORT MADISON","-","-","-","TOPEKA FORBES FIELD","-","-","-","-","-","-","LANSING CAPITAL CITY ARPT","FLYING CLOUD","-","-","-","-","WILMINGTON INTERNATIONAL ARPT","-","OMAHA WSFO","-","-","-","-","-","-","-","-","SYRACUSE HANCOCK INT ARPT","-","-","TORONTO ISLAND AP","-","WILLIAMSPORT REGIONAL AP","-","VARENNES","-","-","-","-","-","DEL RIO LAUGHLIN AFB","-","PULASKI-NEW RIVER VALLEY AP","-","STAMPEDE PASS","-","-","-","-",22]
["LOUISIANA","-","-","-","EMMONAK","-","-","-","VANCOUVER","HAYWARD AIR TERM","LA JUNTA MUNICIPAL AP","-","-","-","NASA SHUTTLE FCLTY","-","-","KEOKUK MUNI","-","-","-","TOPEKA MUNICIPAL AP","-","-","-","-","-","-","MANISTEE (AWOS)","FOSSTON(AWOS)","-","-","-","-","WINSTON-SALEM REYNOLDS AP","-","ONEILL-BAKER FIELD","-","-","-","-","-","-","-","-","UTICA ONEIDA COUNTY AP","-","-","TRENTON AP","-","WILLOW GROVE NAS","-","-","-","-","-","-","-","DRAUGHON MILLER CEN","-","QUANTICO MCAS","-","TACOMA MCCHORD AFB","-","-","-","-",23]
["MAINE","-","-","-","FAIRBANKS INTL ARPT","-","-","-","VERNON","IMPERIAL","LAMAR MUNICIPAL","-","-","-","OCALA MUNI (AWOS)","-","-","KNOXVILLE","-","-","-","WICHITA MID-CONTINENT AP","-","-","-","-","-","-","MENOMINEE (AWOS)","GLENWOOD (ASOS)","-","-","-","-","-","-","ORD-SHARP FIELD","-","-","-","-","-","-","-","-","WATERTOWN AP","-","-","WINDSOR","-","-","-","-","-","-","-","-","-","EL PASO INTERNATIONAL AP [UT]","-","RICHMOND INTERNATIONAL AP","-","TACOMA NARROWS","-","-","-","-",24]
["MANITOBA","-","-","-","FAIRBANKS/EIELSON A","-","-","-","VICTORIA","JACK NORTHROP FLD H","LEADVILLE/LAKE CO.","-","-","-","ORLANDO EXECUTIVE AP","-","-","LE MARS","-","-","-","WICHITA/COL. JABARA","-","-","-","-","-","-","MOUNT CLEMENS SELFRIDGE FLD","GRAND RAPIDS(AWOS)","-","-","-","-","-","-","SCOTTSBLUFF W B HEILIG FIELD","-","-","-","-","-","-","-","-","WESTHAMPTON GABRESKI AP","-","-","-","-","-","-","-","-","-","-","-","-","FORT HOOD","-","ROANOKE REGIONAL AP","-","THE DALLES MUNICIPAL ARPT","-","-","-","-",25]
["MARYLAND","-","-","-","FORT YUKON","-","-","-","VICTORIA AP","LANCASTER GEN WM FOX FIELD","LIMON","-","-","-","ORLANDO INTL ARPT","-","-","MASON CITY MUNICIPAL ARPT","-","-","-","-","-","-","-","-","-","-","MUSKEGON COUNTY ARPT","HALLOCK","-","-","-","-","-","-","SIDNEY MUNICIPAL AP","-","-","-","-","-","-","-","-","WHITE PLAINS WESTCHESTER CO A","-","-","-","-","-","-","-","-","-","-","-","-","FORT WORTH ALLIANCE","-","SHANNON ARPT","-","WALLA WALLA CITY COUNTY AP","-","-","-","-",26]
["MASSACHUSETTS","-","-","-","GAMBELL","-","-","-","VICTORIA UNIV","LEMOORE REEVES NAS","MONTROSE CO. ARPT","-","-","-","ORLANDO SANFORD AIRPORT","-","-","MONTICELLO MUNI","-","-","-","-","-","-","-","-","-","-","OAKLAND CO INTL","HIBBING CHISHOLM-HIBBING AP","-","-","-","-","-","-","TEKAMAH (ASOS)","-","-","-","-","-","-","-","-","-","-","-","-","-","-","-","-","-","-","-","-","-","FORT WORTH MEACHAM","-","STAUNTON/SHENANDOAH","-","WENATCHEE/PANGBORN","-","-","-","-",27]
["MICHIGAN","-","-","-","GULKANA INTERMEDIATE FIELD","-","-","-","W VANCOUVER","LIVERMORE MUNICIPAL","PUEBLO MEMORIAL AP","-","-","-","PANAMA CITY BAY CO","-","-","MUSCATINE","-","-","-","-","-","-","-","-","-","-","OSCODA WURTSMITH AFB","HUTCHINSON (AWOS)","-","-","-","-","-","-","VALENTINE MILLER FIELD","-","-","-","-","-","-","-","-","-","-","-","-","-","-","-","-","-","-","-","-","-","FORT WORTH NAS","-","VIRGINIA TECH ARPT","-","WHIDBEY ISLAND NAS","-","-","-","-",28]
["MINNESOTA","-","-","-","GUSTAVUS","-","-","-","WHISTLER","LOMPOC (AWOS)","RIFLE/GARFIELD RGNL","-","-","-","PENSACOLA FOREST SHERMAN NAS","-","-","NEWTON MUNI","-","-","-","-","-","-","-","-","-","-","PELLSTON EMMET COUNTY AP","INTERNATIONAL FALLS INTL AP","-","-","-","-","-","-","-","-","-","-","-","-","-","-","-","-","-","-","-","-","-","-","-","-","-","-","-","-","GALVESTON/SCHOLES","-","WASHINGTON DC DULLES INT AR [STERLING - ISIS]","-","WILLIAM R FAIRCHILD","-","-","-","-",29]
["MISSISSIPPI","-","-","-","HOMER ARPT","-","-","-","WHITE ROCK","LONG BEACH DAUGHERTY FLD","TRINIDAD LAS ANIMAS COUNTY AP","-","-","-","PENSACOLA REGIONAL AP","-","-","OELWEN","-","-","-","-","-","-","-","-","-","-","SAGINAW TRI CITY INTL AP","LITCHFIELD MUNI","-","-","-","-","-","-","-","-","-","-","-","-","-","-","-","-","-","-","-","-","-","-","-","-","-","-","-","-","GEORGETOWN (AWOS)","-","WASHINGTON DC REAGAN AP","-","YAKIMA AIR TERMINAL","-","-","-","-",30]
["MISSOURI","-","-","-","HOONAH","-","-","-","-","LOS ANGELES INTL ARPT","-","-","-","-","SARASOTA BRADENTON","-","-","ORANGE CITY","-","-","-","-","-","-","-","-","-","-","SAULT STE MARIE SANDERSON FIE","LITTLE FALLS (AWOS)","-","-","-","-","-","-","-","-","-","-","-","-","-","-","-","-","-","-","-","-","-","-","-","-","-","-","-","-","GREENVILLE MUNICIPAL AP","-","WINCHESTER RGNL","-","-","-","-","-","-",31]
["MONTANA","-","-","-","HOOPER BAY","-","-","-","-","MARCH AFB","-","-","-","-","SOUTHWEST FLORIDA I","-","-","OTTUMWA INDUSTRIAL AP","-","-","-","-","-","-","-","-","-","-","ST.CLAIR COUNTY INT","MANKATO(AWOS)","-","-","-","-","-","-","-","-","-","-","-","-","-","-","-","-","-","-","-","-","-","-","-","-","-","-","-","-","HARLINGEN RIO GRANDE VALLEY I","-","WISE/LONESOME PINE","-","-","-","-","-","-",32]
["NEBRASKA","-","-","-","HUSLIA","-","-","-","-","MERCED/MACREADY FLD","-","-","-","-","ST LUCIE CO INTL","-","-","RED OAK","-","-","-","-","-","-","-","-","-","-","TRAVERSE CITY CHERRY CAPITAL","MARSHALL MUNI-RYAN FIELD AWOS","-","-","-","-","-","-","-","-","-","-","-","-","-","-","-","-","-","-","-","-","-","-","-","-","-","-","-","-","HONDO MUNICIPAL AP","-","-","-","-","-","-","-","-",33]
["NEVADA","-","-","-","HYDABURG SEAPLANE","-","-","-","-","MODESTO CITY-COUNTY AP","-","-","-","-","ST PETERSBURG ALBERT WHITTED","-","-","SHELDON","-","-","-","-","-","-","-","-","-","-","-","MINNEAPOLIS/CRYSTAL","-","-","-","-","-","-","-","-","-","-","-","-","-","-","-","-","-","-","-","-","-","-","-","-","-","-","-","-","HOUSTON BUSH INTERCONTINENTAL","-","-","-","-","-","-","-","-",34]
["NEW BRUNSWICK","-","-","-","ILIAMNA ARPT","-","-","-","-","MONTAGUE SISKIYOU COUNTY AP","-","-","-","-","ST PETERSBURG CLEAR","-","-","SHENANDOAH MUNI","-","-","-","-","-","-","-","-","-","-","-","MINNEAPOLIS-ST PAUL INT ARP","-","-","-","-","-","-","-","-","-","-","-","-","-","-","-","-","-","-","-","-","-","-","-","-","-","-","-","-","HOUSTON ELLINGTON AFB [CLEAR LAKE - UT]","-","-","-","-","-","-","-","-",35]
["NEW HAMPSHIRE","-","-","-","JUNEAU INT ARPT","-","-","-","-","MONTEREY NAF","-","-","-","-","TALLAHASSEE REGIONAL AP [ISIS]","-","-","SIOUX CITY SIOUX GATEWAY AP","-","-","-","-","-","-","-","-","-","-","-","MORA MUNI (AWOS)","-","-","-","-","-","-","-","-","-","-","-","-","-","-","-","-","-","-","-","-","-","-","-","-","-","-","-","-","HOUSTON WILLIAM P HOBBY AP","-","-","-","-","-","-","-","-",36]
["NEW JERSEY","-","-","-","KAKE SEAPLANE BASE","-","-","-","-","MOUNTAIN VIEW MOFFETT FLD NAS","-","-","-","-","TAMPA INTERNATIONAL AP","-","-","SPENCER","-","-","-","-","-","-","-","-","-","-","-","MORRIS MUNI (AWOS)","-","-","-","-","-","-","-","-","-","-","-","-","-","-","-","-","-","-","-","-","-","-","-","-","-","-","-","-","HOUSTON/D.W. HOOKS","-","-","-","-","-","-","-","-",37]
["NEW MEXICO","-","-","-","KENAI MUNICIPAL AP","-","-","-","-","NAPA CO. AIRPORT","-","-","-","-","TYNDALL AFB","-","-","STORM LAKE","-","-","-","-","-","-","-","-","-","-","-","NEW ULM MUNI (AWOS)","-","-","-","-","-","-","-","-","-","-","-","-","-","-","-","-","-","-","-","-","-","-","-","-","-","-","-","-","KILLEEN MUNI AWOS","-","-","-","-","-","-","-","-",38]
["NEW YORK","-","-","-","KETCHIKAN INTL AP","-","-","-","-","NEEDLES AIRPORT","-","-","-","-","VALPARAISO EGLIN AFB","-","-","WASHINGTON","-","-","-","-","-","-","-","-","-","-","-","ORR","-","-","-","-","-","-","-","-","-","-","-","-","-","-","-","-","-","-","-","-","-","-","-","-","-","-","-","-","KINGSVILLE","-","-","-","-","-","-","-","-",39]
["NEWFOUNDLAND","-","-","-","KING SALMON ARPT","-","-","-","-","OAKLAND METROPOLITAN ARPT","-","-","-","-","VALPARAISO HURLBURT","-","-","WATERLOO MUNICIPAL AP","-","-","-","-","-","-","-","-","-","-","-","OWATONNA (AWOS)","-","-","-","-","-","-","-","-","-","-","-","-","-","-","-","-","-","-","-","-","-","-","-","-","-","-","-","-","LAREDO INTL AP [UT]","-","-","-","-","-","-","-","-",40]
["NORTH CAROLINA","-","-","-","KODIAK AIRPORT","-","-","-","-","OXNARD AIRPORT","-","-","-","-","VERO BEACH MUNICIPAL ARPT","-","-","WEBSTER CITY","-","-","-","-","-","-","-","-","-","-","-","PARK RAPIDS MUNICIPAL AP","-","-","-","-","-","-","-","-","-","-","-","-","-","-","-","-","-","-","-","-","-","-","-","-","-","-","-","-","LONGVIEW GREGG COUNTY AP [OVERTON - UT]","-","-","-","-","-","-","-","-",41]
["NORTH DAKOTA","-","-","-","KOTZEBUE RALPH WEIN MEMORIAL","-","-","-","-","PALM SPRINGS INTL","-","-","-","-","WHITING FIELD NAAS","-","-","-","-","-","-","-","-","-","-","-","-","-","-","PIPESTONE (AWOS)","-","-","-","-","-","-","-","-","-","-","-","-","-","-","-","-","-","-","-","-","-","-","-","-","-","-","-","-","LUBBOCK INTERNATIONAL AP","-","-","-","-","-","-","-","-",42]
["NORTHWEST TERRITORIES","-","-","-","LAKE HOOD SEAPLANE","-","-","-","-","PALM SPRINGS THERMAL AP","-","-","-","-","-","-","-","-","-","-","-","-","-","-","-","-","-","-","-","RED WING","-","-","-","-","-","-","-","-","-","-","-","-","-","-","-","-","-","-","-","-","-","-","-","-","-","-","-","-","LUFKIN ANGELINA CO","-","-","-","-","-","-","-","-",43]
["NOVA SCOTIA","-","-","-","MCGRATH ARPT","-","-","-","-","PALMDALE AIRPORT","-","-","-","-","-","-","-","-","-","-","-","-","-","-","-","-","-","-","-","REDWOOD FALLS MUNI","-","-","-","-","-","-","-","-","-","-","-","-","-","-","-","-","-","-","-","-","-","-","-","-","-","-","-","-","MARFA AP","-","-","-","-","-","-","-","-",44]
["NUNAVUT","-","-","-","MEKORYUK","-","-","-","-","PASO ROBLES MUNICIPAL ARPT","-","-","-","-","-","-","-","-","-","-","-","-","-","-","-","-","-","-","-","ROCHESTER INTERNATIONAL ARPT","-","-","-","-","-","-","-","-","-","-","-","-","-","-","-","-","-","-","-","-","-","-","-","-","-","-","-","-","MC GREGOR (AWOS)","-","-","-","-","-","-","-","-",45]
["OHIO","-","-","-","MIDDLETON ISLAND AUT","-","-","-","-","POINT MUGU NF","-","-","-","-","-","-","-","-","-","-","-","-","-","-","-","-","-","-","-","ROSEAU MUNI (AWOS)","-","-","-","-","-","-","-","-","-","-","-","-","-","-","-","-","-","-","-","-","-","-","-","-","-","-","-","-","MCALLEN MILLER INTL AP [EDINBURG - UT]","-","-","-","-","-","-","-","-",46]
["OKLAHOMA","-","-","-","MINCHUMINA","-","-","-","-","PORTERVILLE (AWOS)","-","-","-","-","-","-","-","-","-","-","-","-","-","-","-","-","-","-","-","SILVER BAY","-","-","-","-","-","-","-","-","-","-","-","-","-","-","-","-","-","-","-","-","-","-","-","-","-","-","-","-","MIDLAND INTERNATIONAL AP","-","-","-","-","-","-","-","-",47]
["ONTARIO","-","-","-","NENANA MUNICIPAL AP","-","-","-","-","RED BLUFF MUNICIPAL ARPT","-","-","-","-","-","-","-","-","-","-","-","-","-","-","-","-","-","-","-","SOUTH ST PAUL MUNI","-","-","-","-","-","-","-","-","-","-","-","-","-","-","-","-","-","-","-","-","-","-","-","-","-","-","-","-","MINERAL WELLS MUNICIPAL AP","-","-","-","-","-","-","-","-",48]
["OREGON","-","-","-","NOME MUNICIPAL ARPT","-","-","-","-","REDDING MUNICIPAL ARPT","-","-","-","-","-","-","-","-","-","-","-","-","-","-","-","-","-","-","-","ST CLOUD REGIONAL ARPT","-","-","-","-","-","-","-","-","-","-","-","-","-","-","-","-","-","-","-","-","-","-","-","-","-","-","-","-","NACOGDOCHES (AWOS)","-","-","-","-","-","-","-","-",49]
["PENNSYLVANIA","-","-","-","NORTHWAY AIRPORT","-","-","-","-","RIVERSIDE MUNI","-","-","-","-","-","-","-","-","-","-","-","-","-","-","-","-","-","-","-","ST PAUL DOWNTOWN AP","-","-","-","-","-","-","-","-","-","-","-","-","-","-","-","-","-","-","-","-","-","-","-","-","-","-","-","-","PALACIOS MUNICIPAL AP","-","-","-","-","-","-","-","-",50]
["QUEBEC","-","-","-","PALMER MUNICIPAL","-","-","-","-","SACRAMENTO EXECUTIVE ARPT","-","-","-","-","-","-","-","-","-","-","-","-","-","-","-","-","-","-","-","THIEF RIVER(AWOS)","-","-","-","-","-","-","-","-","-","-","-","-","-","-","-","-","-","-","-","-","-","-","-","-","-","-","-","-","PORT ARTHUR JEFFERSON COUNTY","-","-","-","-","-","-","-","-",51]
["RHODE ISLAND","-","-","-","PETERSBURG","-","-","-","-","SACRAMENTO METROPOLITAN AP","-","-","-","-","-","-","-","-","-","-","-","-","-","-","-","-","-","-","-","TWO HARBORS MUNI AP","-","-","-","-","-","-","-","-","-","-","-","-","-","-","-","-","-","-","-","-","-","-","-","-","-","-","-","-","RANDOLPH AFB","-","-","-","-","-","-","-","-",52]
["SAKSATCHEWAN","-","-","-","POINT HOPE (AWOS)","-","-","-","-","SALINAS MUNICIPAL AP","-","-","-","-","-","-","-","-","-","-","-","-","-","-","-","-","-","-","-","WHEATON NDB (AWOS)","-","-","-","-","-","-","-","-","-","-","-","-","-","-","-","-","-","-","-","-","-","-","-","-","-","-","-","-","ROCKPORT/ARANSAS CO","-","-","-","-","-","-","-","-",53]
["SOUTH CAROLINA","-","-","-","PORT HEIDEN","-","-","-","-","SAN DIEGO LINDBERGH FIELD","-","-","-","-","-","-","-","-","-","-","-","-","-","-","-","-","-","-","-","WILLMAR","-","-","-","-","-","-","-","-","-","-","-","-","-","-","-","-","-","-","-","-","-","-","-","-","-","-","-","-","SAN ANGELO MATHIS FIELD","-","-","-","-","-","-","-","-",54]
["SOUTH DAKOTA","-","-","-","SAINT MARY`S (AWOS)","-","-","-","-","SAN DIEGO MIRAMAR NAS","-","-","-","-","-","-","-","-","-","-","-","-","-","-","-","-","-","-","-","WINONA MUNI (AWOS)","-","-","-","-","-","-","-","-","-","-","-","-","-","-","-","-","-","-","-","-","-","-","-","-","-","-","-","-","SAN ANTONIO INTL AP","-","-","-","-","-","-","-","-",55]
["TENNESSEE","-","-","-","SAND POINT","-","-","-","-","SAN DIEGO NORTH ISLAND NAS","-","-","-","-","-","-","-","-","-","-","-","-","-","-","-","-","-","-","-","WORTHINGTON (AWOS)","-","-","-","-","-","-","-","-","-","-","-","-","-","-","-","-","-","-","-","-","-","-","-","-","-","-","-","-","SAN ANTONIO KELLY FIELD AFB","-","-","-","-","-","-","-","-",56]
["TEXAS","-","-","-","SAVOONGA","-","-","-","-","SAN DIEGO/MONTGOMER","-","-","-","-","-","-","-","-","-","-","-","-","-","-","-","-","-","-","-","-","-","-","-","-","-","-","-","-","-","-","-","-","-","-","-","-","-","-","-","-","-","-","-","-","-","-","-","-","SAN ANTONIO/STINSON","-","-","-","-","-","-","-","-",57]
["UTAH","-","-","-","SELAWIK","-","-","-","-","SAN FRANCISCO INTL AP","-","-","-","-","-","-","-","-","-","-","-","-","-","-","-","-","-","-","-","-","-","-","-","-","-","-","-","-","-","-","-","-","-","-","-","-","-","-","-","-","-","-","-","-","-","-","-","-","TYLER/POUNDS FLD","-","-","-","-","-","-","-","-",58]
["VERMONT","-","-","-","SEWARD","-","-","-","-","SAN JOSE INTL AP","-","-","-","-","-","-","-","-","-","-","-","-","-","-","-","-","-","-","-","-","-","-","-","-","-","-","-","-","-","-","-","-","-","-","-","-","-","-","-","-","-","-","-","-","-","-","-","-","VICTORIA REGIONAL AP","-","-","-","-","-","-","-","-",59]
["VIRGINIA","-","-","-","SHEMYA AFB","-","-","-","-","SAN LUIS CO RGNL","-","-","-","-","-","-","-","-","-","-","-","-","-","-","-","-","-","-","-","-","-","-","-","-","-","-","-","-","-","-","-","-","-","-","-","-","-","-","-","-","-","-","-","-","-","-","-","-","WACO REGIONAL AP","-","-","-","-","-","-","-","-",60]
["WASHINGTON","-","-","-","SHISHMAREF (AWOS)","-","-","-","-","SANDBERG","-","-","-","-","-","-","-","-","-","-","-","-","-","-","-","-","-","-","-","-","-","-","-","-","-","-","-","-","-","-","-","-","-","-","-","-","-","-","-","-","-","-","-","-","-","-","-","-","WICHITA FALLS MUNICIPAL ARPT","-","-","-","-","-","-","-","-",61]
["WEST VIRGINIA","-","-","-","SITKA JAPONSKI AP","-","-","-","-","SANTA ANA-JOHN WAYNE AP","-","-","-","-","-","-","-","-","-","-","-","-","-","-","-","-","-","-","-","-","-","-","-","-","-","-","-","-","-","-","-","-","-","-","-","-","-","-","-","-","-","-","-","-","-","-","-","-","WINK WINKLER COUNTY AP","-","-","-","-","-","-","-","-",62]
["WISCONSIN","-","-","-","SKAGWAY AIRPORT","-","-","-","-","SANTA BARBARA MUNICIPAL AP","-","-","-","-","-","-","-","-","-","-","-","-","-","-","-","-","-","-","-","-","-","-","-","-","-","-","-","-","-","-","-","-","-","-","-","-","-","-","-","-","-","-","-","-","-","-","-","-","-","-","-","-","-","-","-","-","-",63]
["WYOMING","-","-","-","SLEETMUTE","-","-","-","-","SANTA MARIA PUBLIC ARPT","-","-","-","-","-","-","-","-","-","-","-","-","-","-","-","-","-","-","-","-","-","-","-","-","-","-","-","-","-","-","-","-","-","-","-","-","-","-","-","-","-","-","-","-","-","-","-","-","-","-","-","-","-","-","-","-","-",64]
["YUKON TERRITORY","-","-","-","SOLDOTNA","-","-","-","-","SANTA MONICA MUNI","-","-","-","-","-","-","-","-","-","-","-","-","-","-","-","-","-","-","-","-","-","-","-","-","-","-","-","-","-","-","-","-","-","-","-","-","-","-","-","-","-","-","-","-","-","-","-","-","-","-","-","-","-","-","-","-","-",65]
[null,"-","-","-","ST PAUL ISLAND ARPT","-","-","-","-","SANTA ROSA (AWOS)","-","-","-","-","-","-","-","-","-","-","-","-","-","-","-","-","-","-","-","-","-","-","-","-","-","-","-","-","-","-","-","-","-","-","-","-","-","-","-","-","-","-","-","-","-","-","-","-","-","-","-","-","-","-","-","-","-",66]
[null,"-","-","-","TALKEETNA STATE ARPT","-","-","-","-","SOUTH LAKE TAHOE-LAKE TAHOE AP","-","-","-","-","-","-","-","-","-","-","-","-","-","-","-","-","-","-","-","-","-","-","-","-","-","-","-","-","-","-","-","-","-","-","-","-","-","-","-","-","-","-","-","-","-","-","-","-","-","-","-","-","-","-","-","-","-",67]
[null,{"$f":"C68","v":"-"},{"$f":"IFERROR(HLOOKUP($C$2,$D$2:$BO$75,$BP67,FALSE),\"\")","v":"-"},"-","TANANA RALPH M CALHOUN MEM AP","-","-","-","-","STOCKTON METROPOLITAN ARPT","-","-","-","-","-","-","-","-","-","-","-","-","-","-","-","-","-","-","-","-","-","-","-","-","-","-","-","-","-","-","-","-","-","-","-","-","-","-","-","-","-","-","-","-","-","-","-","-","-","-","-","-","-","-","-","-","-",68]
[null,"-","-","-","TOGIAK VILLAGE AWOS","-","-","-","-","TRAVIS FIELD AFB","-","-","-","-","-","-","-","-","-","-","-","-","-","-","-","-","-","-","-","-","-","-","-","-","-","-","-","-","-","-","-","-","-","-","-","-","-","-","-","-","-","-","-","-","-","-","-","-","-","-","-","-","-","-","-","-","-",69]
[null,"-","-","-","UNALAKLEET FIELD","-","-","-","-","TRUCKEE-TAHOE","-","-","-","-","-","-","-","-","-","-","-","-","-","-","-","-","-","-","-","-","-","-","-","-","-","-","-","-","-","-","-","-","-","-","-","-","-","-","-","-","-","-","-","-","-","-","-","-","-","-","-","-","-","-","-","-","-",70]
[null,"-","-","-","VALDEZ PIONEER FIEL","-","-","-","-","TWENTYNINE PALMS","-","-","-","-","-","-","-","-","-","-","-","-","-","-","-","-","-","-","-","-","-","-","-","-","-","-","-","-","-","-","-","-","-","-","-","-","-","-","-","-","-","-","-","-","-","-","-","-","-","-","-","-","-","-","-","-","-",71]
[null,"-","-","-","VALDEZ WSO","-","-","-","-","UKIAH MUNICIPAL AP","-","-","-","-","-","-","-","-","-","-","-","-","-","-","-","-","-","-","-","-","-","-","-","-","-","-","-","-","-","-","-","-","-","-","-","-","-","-","-","-","-","-","-","-","-","-","-","-","-","-","-","-","-","-","-","-","-",72]
[null,"-","-","-","WHITTIER","-","-","-","-","VAN NUYS AIRPORT","-","-","-","-","-","-","-","-","-","-","-","-","-","-","-","-","-","-","-","-","-","-","-","-","-","-","-","-","-","-","-","-","-","-","-","-","-","-","-","-","-","-","-","-","-","-","-","-","-","-","-","-","-","-","-","-","-",73]
[null,"-","-","-","WRANGELL","-","-","-","-","VISALIA MUNI (AWOS)","-","-","-","-","-","-","-","-","-","-","-","-","-","-","-","-","-","-","-","-","-","-","-","-","-","-","-","-","-","-","-","-","-","-","-","-","-","-","-","-","-","-","-","-","-","-","-","-","-","-","-","-","-","-","-","-","-",74]
[null,"-","-","-","YAKUTAT STATE ARPT","-","-","-","-","YUBA CO","-","-","-","-","-","-","-","-","-","-","-","-","-","-","-","-","-","-","-","-","-","-","-","-","-","-","-","-","-","-","-","-","-","-","-","-","-","-","-","-","-","-","-","-","-","-","-","-","-","-","-","-","-","-","-","-","-",75]

{"sheet":"V1 Sanden CO2","index":11,"n_rows":33,"n_cols":14,"rows_kept":33,"cut":false,"hidden":true,"merged":[[5,6,6,16],[1,1,1,4],[1,6,1,16],[2,1,2,4],[2,6,2,16],[3,1,4,3],[3,4,4,4],[3,6,4,16]]}
[]
[null,"PHIUS+ Sanden CO2 V1 Heat Pump Performance",null,null,null,null,"Notes/Instructions"]
[null,"*Results in green"]
[null,"Average Annual COP",null,null,{"$f":"SUM(C14:N14)/COUNT(C9:N9)","v":2.8342905982905986},null,"1) Enter average ambient temperature data from ASHRAE Fundamentals or paste from PHIUS climate data."]
[]
[null,null,null,null,null,null,"2) The result in cell E4 is an estimate for the average annual COP for this equipment for this climate location."]
[]
[]
[null,"Month",1,2,3,4,5,6,7,8,9,10,11,12]
[null,"Days",31,28,31,30,31,30,31,31,30,31,30,31]
[]
[null,"Ambient Temp (°F)",{"$f":"DHW!C17","v":24.6},{"$f":"DHW!D17","v":28.2},{"$f":"DHW!E17","v":38.200000000000003},{"$f":"DHW!F17","v":49.2},{"$f":"DHW!G17","v":59.6},{"$f":"DHW!H17","v":69.5},{"$f":"DHW!I17","v":74.2},{"$f":"DHW!J17","v":72.7},{"$f":"DHW!K17","v":64.900000000000006},{"$f":"DHW!L17","v":53.1},{"$f":"DHW!M17","v":40.6},{"$f":"DHW!N17","v":29.3}]
[]
[null,"Monthly average COP (W/W)",{"$f":"$C$19*C12+$C$20","v":1.9894358974358979},{"$f":"$C$19*D12+$C$20","v":2.1075897435897439},{"$f":"$C$19*E12+$C$20","v":2.4357948717948723},2.7968205128205135,3.1381538461538465,3.4630769230769234,3.6173333333333337,3.5681025641025643,3.3121025641025645,2.9248205128205131,2.514564102564103,2.1436923076923082]
[]
[null,"Manufacturer's data:","Rated COP","Ambient Temp. (F)"]
[null,"Sanden CO2 HPWH",4.3,95]
[null,null,1.74,17]
[null,"Slope per F",{"$f":"(C17-C18)/(D17-D18)","v":3.2820512820512814E-2}]
[null,"Intercept",{"$f":"C17-C19*D17","v":1.1820512820512827}]
[]
[null,"Outside Air Temp (F)","COP"]
[null,17,2.1]
[null,35,2.75]
[null,50,3.7]
[null,67,4.2]
[null,95,5]
[]
[]
[]
[null,"Limitations:"]
[]
[null,"Not considered at this point - outdoor dewpoint and its affect on frost buildup and time spent in defrost mode"]

{"sheet":"V2-Sanden CO2 GS3-45HPA","index":12,"n_rows":52,"n_cols":14,"rows_kept":52,"cut":false,"hidden":true,"merged":[[1,1,1,4],[2,1,2,4],[3,1,4,3],[3,4,4,4]]}
[]
[null,"PHIUS+ Sanden CO2 V2 Heat Pump Performance"]
[null,"*Results in green"]
[null,"Average Annual COP",null,null,{"$f":"SUM(C14:N14)/COUNT(C9:N9)","v":4.3601872427983546}]
[]
[]
[]
[]
[null,"Month",1,2,3,4,5,6,7,8,9,10,11,12]
[null,"Days",31,28,31,30,31,30,31,31,30,31,30,31]
[]
[null,"Ambient Temp (°F)",{"$f":"'V1 Sanden CO2'!C12","v":24.6},{"$f":"'V1 Sanden CO2'!D12","v":28.2},{"$f":"'V1 Sanden CO2'!E12","v":38.200000000000003},{"$f":"'V1 Sanden CO2'!F12","v":49.2},{"$f":"'V1 Sanden CO2'!G12","v":59.6},{"$f":"'V1 Sanden CO2'!H12","v":69.5},{"$f":"'V1 Sanden CO2'!I12","v":74.2},{"$f":"'V1 Sanden CO2'!J12","v":72.7},{"$f":"'V1 Sanden CO2'!K12","v":64.900000000000006},{"$f":"'V1 Sanden CO2'!L12","v":53.1},{"$f":"'V1 Sanden CO2'!M12","v":40.6},{"$f":"'V1 Sanden CO2'!N12","v":29.3}]
[]
[null,"Monthly average COP (W/W)",{"$f":"IF(C12<68,($C$19*C12)+$C$20,($C$23*C12)+$C$24)","v":3.3246913580246917},{"$f":"IF(D12<68,($C$19*D12)+$C$20,($C$23*D12)+$C$24)","v":3.4802469135802472},3.9123456790123461,4.3876543209876546,4.837037037037037,5.1533333333333342,5.0071111111111115,5.0537777777777784,5.0660493827160504,4.5561728395061731,4.0160493827160497,3.5277777777777781]
[]
[null,"Manufacturer's data:","Rated COP","Ambient Temp. (F)"]
[null,"Sanden CO2 HPWH (<68F)",{"$f":"C36","v":5.2},{"$f":"B36","v":68}]
[null,null,{"$f":"C27","v":1.7},{"$f":"B27","v":-13}]
[null,"Slope per F",{"$f":"(C17-C18)/(D17-D18)","v":4.3209876543209874E-2}]
[null,"Intercept",{"$f":"C17-C19*D17","v":2.2617283950617288}]
[null,"Sanden CO2 HPWH (>/=68F)",{"$f":"C36","v":5.2},68]
[null,null,{"$f":"C41","v":3.8},{"$f":"B41","v":113}]
[null,"Slope per F",{"$f":"(C21-C22)/(D21-D22)","v":-3.1111111111111121E-2}]
[null,"Intercept",{"$f":"C21-C23*D21","v":7.3155555555555569}]
[]
[null,"Outside Air Temp (F)","COP"]
[null,-13,1.7]
[null,-4,2]
[null,5,2.2000000000000002]
[null,14,2.5]
[null,23,3]
[null,32,3.2]
[null,41,3.7]
[null,50,4.5]
[null,59,4.7]
[null,68,5.2]
[null,77,4.9000000000000004]
[null,86,4.5999999999999996]
[null,95,4.4000000000000004]
[null,104,4]
[null,113,3.8]
[]
[]
[]
[null,"Questions and limitations:"]
[null,"1) Is using the average monthly ambient temperature accurate enough? Should we use a lower number to be more conservative?"]
[]
[null,"2) I think that field installation matching \"factory\" installation is possible, but is it realistic?"]
[]
[null,"3) I suspect that manufacturer's COP data does not include energy spent during defrost cycles? Does it? "]
[]
[null,"4) Not considered at this point - outdoor dewpoint and its affect on frost buildup and time spent in defrost mode"]

{"sheet":"Window ISO 13788 Calc","index":13,"n_rows":47,"n_cols":19,"rows_kept":47,"cut":false,"hidden":true,"merged":[]}
["2016-02-19"]
["Boundary condition finder for THERM analysis for inside surface mold risk."]
["Follows ISO 13788:2012(E)"]
[]
[null,null,"Month",1,2,3,4,5,6,7,8,9,10,11,12]
["Annual mean outside air temp F",{"$f":"AVERAGE(D6:O6)","v":50.341666666666661},"Monthly mean Ambient Temp (°F)",{"$f":"'Reference Climate Info_Vals'!K2","v":24.6},{"$f":"'Reference Climate Info_Vals'!L2","v":28.2},{"$f":"'Reference Climate Info_Vals'!M2","v":38.200000000000003},{"$f":"'Reference Climate Info_Vals'!N2","v":49.2},{"$f":"'Reference Climate Info_Vals'!O2","v":59.6},{"$f":"'Reference Climate Info_Vals'!P2","v":69.5},{"$f":"'Reference Climate Info_Vals'!Q2","v":74.2},{"$f":"'Reference Climate Info_Vals'!R2","v":72.7},{"$f":"'Reference Climate Info_Vals'!S2","v":64.900000000000006},{"$f":"'Reference Climate Info_Vals'!T2","v":53.1},{"$f":"'Reference Climate Info_Vals'!U2","v":40.6},{"$f":"'Reference Climate Info_Vals'!V2","v":29.3}]
[null,null,"dew point  (F)",{"$f":"'Reference Climate Info_Vals'!AU2","v":15.1},{"$f":"'Reference Climate Info_Vals'!AV2","v":17.239999999999998},{"$f":"'Reference Climate Info_Vals'!AW2","v":29.3},{"$f":"'Reference Climate Info_Vals'!AX2","v":39.200000000000003},{"$f":"'Reference Climate Info_Vals'!AY2","v":45},{"$f":"'Reference Climate Info_Vals'!AZ2","v":55.4},{"$f":"'Reference Climate Info_Vals'!BA2","v":65.66},{"$f":"'Reference Climate Info_Vals'!BB2","v":61.88},{"$f":"'Reference Climate Info_Vals'!BC2","v":55.2},{"$f":"'Reference Climate Info_Vals'!BD2","v":32.700000000000003},{"$f":"'Reference Climate Info_Vals'!BE2","v":32.700000000000003},{"$f":"'Reference Climate Info_Vals'!BF2","v":18.3}]
["Is this a Heating climate?",{"$f":"IF(VLOOKUP(Checklist!T10,Main!$A$49:$J$67,10,FALSE)>3,TRUE,FALSE)","v":true},"\"National standard\" Monthly Avg Temp for moisture design purposes."]
["Use simple method for outside moisture design temps?",true,"Exterior temp for moisture design - walls (F)",{"$f":"IF($B$9,IF($B$8,D6-3.6,D6+3.6),D8)","v":21},24.599999999999998,34.6,45.6,56,65.900000000000006,70.600000000000009,69.100000000000009,61.300000000000004,49.5,37,25.7]
[]
[]
["Use simple method for indoor humidity?",true]
["High occupancy?",true]
[]
[]
[{"$f":"A42","v":"fRsi,cold"},0.64200000000000002]
[{"$f":"A43","v":"Coldest month"},"JAN"]
[null,null,"exterior   design temp for low thermal interia elements",{"$f":"(('Reference Climate Info_Vals'!$J$2)-32)*5/9","v":-15.333333333333334},{"$f":"(('Reference Climate Info_Vals'!$J$2)-32)*5/9","v":-15.333333333333334},{"$f":"(('Reference Climate Info_Vals'!$J$2)-32)*5/9","v":-15.333333333333334},{"$f":"(('Reference Climate Info_Vals'!$J$2)-32)*5/9","v":-15.333333333333334},{"$f":"(('Reference Climate Info_Vals'!$J$2)-32)*5/9","v":-15.333333333333334},{"$f":"(('Reference Climate Info_Vals'!$J$2)-32)*5/9","v":-15.333333333333334},{"$f":"(('Reference Climate Info_Vals'!$J$2)-32)*5/9","v":-15.333333333333334},{"$f":"(('Reference Climate Info_Vals'!$J$2)-32)*5/9","v":-15.333333333333334},{"$f":"(('Reference Climate Info_Vals'!$J$2)-32)*5/9","v":-15.333333333333334},{"$f":"(('Reference Climate Info_Vals'!$J$2)-32)*5/9","v":-15.333333333333334},{"$f":"(('Reference Climate Info_Vals'!$J$2)-32)*5/9","v":-15.333333333333334},{"$f":"(('Reference Climate Info_Vals'!$J$2)-32)*5/9","v":-15.333333333333334}]
[null,null,"exterior temp for moisture design Celsius",{"$f":"(D9-32)*5/9","v":-6.1111111111111107},-4.1111111111111125,1.4444444444444453,7.5555555555555554,13.333333333333334,18.833333333333336,21.44444444444445,20.611111111111118,16.277777777777782,9.7222222222222214,2.7777777777777777,-3.5000000000000004,"over ice",null,"over water"]
[null,null,"dew point in Celsius",{"$f":"(D7-32)*5/9","v":-9.3888888888888893},-8.2000000000000011,-1.4999999999999996,4.0000000000000018,7.2222222222222223,13,18.7,16.600000000000001,12.888888888888891,0.38888888888889045,0.38888888888889045,-7.6111111111111107,"ic1",-5674.5358999999999,"ic8",-5800.2205999999996]
[null,null,"dew point in Kelvin",{"$f":"D20+273.15","v":263.76111111111106},264.95,271.64999999999998,277.14999999999998,280.37222222222221,286.14999999999998,291.84999999999997,289.75,286.03888888888889,273.53888888888889,273.53888888888889,265.53888888888889,"ic2",6.3925247000000001,"ic9",1.3914993]
[null,null,"ln(pws) over ice",{"$f":"'Window ISO 13788 Calc'!ic1_/D21+'Window ISO 13788 Calc'!ic2_+'Window ISO 13788 Calc'!ic3_*D21+'Window ISO 13788 Calc'!ic4_*D21^2+'Window ISO 13788 Calc'!ic5_*D21^3+'Window ISO 13788 Calc'!ic6_*D21^4+'Window ISO 13788 Calc'!ic7_*LN(D21)","v":5.6144349479421258},{"$f":"'Window ISO 13788 Calc'!ic1_/E21+'Window ISO 13788 Calc'!ic2_+'Window ISO 13788 Calc'!ic3_*E21+'Window ISO 13788 Calc'!ic4_*E21^2+'Window ISO 13788 Calc'!ic5_*E21^3+'Window ISO 13788 Calc'!ic6_*E21^4+'Window ISO 13788 Calc'!ic7_*LN(E21)","v":5.7190162519130716},{"$f":"'Window ISO 13788 Calc'!ic1_/F21+'Window ISO 13788 Calc'!ic2_+'Window ISO 13788 Calc'!ic3_*F21+'Window ISO 13788 Calc'!ic4_*F21^2+'Window ISO 13788 Calc'!ic5_*F21^3+'Window ISO 13788 Calc'!ic6_*F21^4+'Window ISO 13788 Calc'!ic7_*LN(F21)","v":6.2911395227646203},{"$f":"'Window ISO 13788 Calc'!ic1_/G21+'Window ISO 13788 Calc'!ic2_+'Window ISO 13788 Calc'!ic3_*G21+'Window ISO 13788 Calc'!ic4_*G21^2+'Window ISO 13788 Calc'!ic5_*G21^3+'Window ISO 13788 Calc'!ic6_*G21^4+'Window ISO 13788 Calc'!ic7_*LN(G21)","v":6.7399327333739016},{"$f":"'Window ISO 13788 Calc'!ic1_/H21+'Window ISO 13788 Calc'!ic2_+'Window ISO 13788 Calc'!ic3_*H21+'Window ISO 13788 Calc'!ic4_*H21^2+'Window ISO 13788 Calc'!ic5_*H21^3+'Window ISO 13788 Calc'!ic6_*H21^4+'Window ISO 13788 Calc'!ic7_*LN(H21)","v":6.9945943936612309},{"$f":"'Window ISO 13788 Calc'!ic1_/I21+'Window ISO 13788 Calc'!ic2_+'Window ISO 13788 Calc'!ic3_*I21+'Window ISO 13788 Calc'!ic4_*I21^2+'Window ISO 13788 Calc'!ic5_*I21^3+'Window ISO 13788 Calc'!ic6_*I21^4+'Window ISO 13788 Calc'!ic7_*LN(I21)","v":7.4366895425551398},{"$f":"'Window ISO 13788 Calc'!ic1_/J21+'Window ISO 13788 Calc'!ic2_+'Window ISO 13788 Calc'!ic3_*J21+'Window ISO 13788 Calc'!ic4_*J21^2+'Window ISO 13788 Calc'!ic5_*J21^3+'Window ISO 13788 Calc'!ic6_*J21^4+'Window ISO 13788 Calc'!ic7_*LN(J21)","v":7.8554408955492807},{"$f":"'Window ISO 13788 Calc'!ic1_/K21+'Window ISO 13788 Calc'!ic2_+'Window ISO 13788 Calc'!ic3_*K21+'Window ISO 13788 Calc'!ic4_*K21^2+'Window ISO 13788 Calc'!ic5_*K21^3+'Window ISO 13788 Calc'!ic6_*K21^4+'Window ISO 13788 Calc'!ic7_*LN(K21)","v":7.7031103452988496},{"$f":"'Window ISO 13788 Calc'!ic1_/L21+'Window ISO 13788 Calc'!ic2_+'Window ISO 13788 Calc'!ic3_*L21+'Window ISO 13788 Calc'!ic4_*L21^2+'Window ISO 13788 Calc'!ic5_*L21^3+'Window ISO 13788 Calc'!ic6_*L21^4+'Window ISO 13788 Calc'!ic7_*LN(L21)","v":7.4283584176260682},{"$f":"'Window ISO 13788 Calc'!ic1_/M21+'Window ISO 13788 Calc'!ic2_+'Window ISO 13788 Calc'!ic3_*M21+'Window ISO 13788 Calc'!ic4_*M21^2+'Window ISO 13788 Calc'!ic5_*M21^3+'Window ISO 13788 Calc'!ic6_*M21^4+'Window ISO 13788 Calc'!ic7_*LN(M21)","v":6.4473260132936225},{"$f":"'Window ISO 13788 Calc'!ic1_/N21+'Window ISO 13788 Calc'!ic2_+'Window ISO 13788 Calc'!ic3_*N21+'Window ISO 13788 Calc'!ic4_*N21^2+'Window ISO 13788 Calc'!ic5_*N21^3+'Window ISO 13788 Calc'!ic6_*N21^4+'Window ISO 13788 Calc'!ic7_*LN(N21)","v":6.4473260132936225},{"$f":"'Window ISO 13788 Calc'!ic1_/O21+'Window ISO 13788 Calc'!ic2_+'Window ISO 13788 Calc'!ic3_*O21+'Window ISO 13788 Calc'!ic4_*O21^2+'Window ISO 13788 Calc'!ic5_*O21^3+'Window ISO 13788 Calc'!ic6_*O21^4+'Window ISO 13788 Calc'!ic7_*LN(O21)","v":5.7704689328196217},"ic3",-9.6778430000000002E-3,"ic10",-4.8640239000000002E-2]
[null,null,"pws over ice (Pa)",{"$f":"EXP(D22)","v":274.35830866114065},304.60512081132634,539.76805675832554,845.50385974612789,1090.7211845735608,1697.1226590462704,2579.7322553885583,2215.2274098185112,1683.0424515769314,631.01271525288087,631.01271525288087,320.68807855843284,"ic4",6.2215700999999996E-7,"ic11",4.1764768000000003E-5]
[null,null,"ln(pws) over water",{"$f":"'Window ISO 13788 Calc'!ic8_/D21+'Window ISO 13788 Calc'!ic9_+'Window ISO 13788 Calc'!ic10_*D21+'Window ISO 13788 Calc'!ic11_*D21^2+'Window ISO 13788 Calc'!ic12_*D21^3+'Window ISO 13788 Calc'!ic13_*LN(D21)","v":5.7060971018824489},{"$f":"'Window ISO 13788 Calc'!ic8_/E21+'Window ISO 13788 Calc'!ic9_+'Window ISO 13788 Calc'!ic10_*E21+'Window ISO 13788 Calc'!ic11_*E21^2+'Window ISO 13788 Calc'!ic12_*E21^3+'Window ISO 13788 Calc'!ic13_*LN(E21)","v":5.7990346761139939},{"$f":"'Window ISO 13788 Calc'!ic8_/F21+'Window ISO 13788 Calc'!ic9_+'Window ISO 13788 Calc'!ic10_*F21+'Window ISO 13788 Calc'!ic11_*F21^2+'Window ISO 13788 Calc'!ic12_*F21^3+'Window ISO 13788 Calc'!ic13_*LN(F21)","v":6.3058017533748369},{"$f":"'Window ISO 13788 Calc'!ic8_/G21+'Window ISO 13788 Calc'!ic9_+'Window ISO 13788 Calc'!ic10_*G21+'Window ISO 13788 Calc'!ic11_*G21^2+'Window ISO 13788 Calc'!ic12_*G21^3+'Window ISO 13788 Calc'!ic13_*LN(G21)","v":6.7013212789816947},{"$f":"'Window ISO 13788 Calc'!ic8_/H21+'Window ISO 13788 Calc'!ic9_+'Window ISO 13788 Calc'!ic10_*H21+'Window ISO 13788 Calc'!ic11_*H21^2+'Window ISO 13788 Calc'!ic12_*H21^3+'Window ISO 13788 Calc'!ic13_*LN(H21)","v":6.9249498236997873},{"$f":"'Window ISO 13788 Calc'!ic8_/I21+'Window ISO 13788 Calc'!ic9_+'Window ISO 13788 Calc'!ic10_*I21+'Window ISO 13788 Calc'!ic11_*I21^2+'Window ISO 13788 Calc'!ic12_*I21^3+'Window ISO 13788 Calc'!ic13_*LN(I21)","v":7.3117598832672037},{"$f":"'Window ISO 13788 Calc'!ic8_/J21+'Window ISO 13788 Calc'!ic9_+'Window ISO 13788 Calc'!ic10_*J21+'Window ISO 13788 Calc'!ic11_*J21^2+'Window ISO 13788 Calc'!ic12_*J21^3+'Window ISO 13788 Calc'!ic13_*LN(J21)","v":7.6764610938951208},{"$f":"'Window ISO 13788 Calc'!ic8_/K21+'Window ISO 13788 Calc'!ic9_+'Window ISO 13788 Calc'!ic10_*K21+'Window ISO 13788 Calc'!ic11_*K21^2+'Window ISO 13788 Calc'!ic12_*K21^3+'Window ISO 13788 Calc'!ic13_*LN(K21)","v":7.5439844477965678},{"$f":"'Window ISO 13788 Calc'!ic8_/L21+'Window ISO 13788 Calc'!ic9_+'Window ISO 13788 Calc'!ic10_*L21+'Window ISO 13788 Calc'!ic11_*L21^2+'Window ISO 13788 Calc'!ic12_*L21^3+'Window ISO 13788 Calc'!ic13_*LN(L21)","v":7.3044873467013431},{"$f":"'Window ISO 13788 Calc'!ic8_/M21+'Window ISO 13788 Calc'!ic9_+'Window ISO 13788 Calc'!ic10_*M21+'Window ISO 13788 Calc'!ic11_*M21^2+'Window ISO 13788 Calc'!ic12_*M21^3+'Window ISO 13788 Calc'!ic13_*LN(M21)","v":6.4436511563503949},{"$f":"'Window ISO 13788 Calc'!ic8_/N21+'Window ISO 13788 Calc'!ic9_+'Window ISO 13788 Calc'!ic10_*N21+'Window ISO 13788 Calc'!ic11_*N21^2+'Window ISO 13788 Calc'!ic12_*N21^3+'Window ISO 13788 Calc'!ic13_*LN(N21)","v":6.4436511563503949},{"$f":"'Window ISO 13788 Calc'!ic8_/O21+'Window ISO 13788 Calc'!ic9_+'Window ISO 13788 Calc'!ic10_*O21+'Window ISO 13788 Calc'!ic11_*O21^2+'Window ISO 13788 Calc'!ic12_*O21^3+'Window ISO 13788 Calc'!ic13_*LN(O21)","v":5.8447247668834628},"ic5",2.0747825000000001E-9,"ic12",-1.4452092999999999E-8]
[null,null,"pws over water (Pa)",{"$f":"EXP(D24)","v":300.69519241314345},329.98086770027936,547.74056503232964,813.47994936153873,1017.3432218243087,1497.8108432903609,2156.9729244402984,1889.3430363207408,1486.9574727667839,628.69808935932258,628.69808935932258,345.40746112500773,"ic6",-9.4840240000000005E-13,"ic13",6.5459673]
[null,null,"ext. vapor pressure (Pa)",{"$f":"IF(D19<0,D23,D25)","v":274.35830866114065},304.60512081132634,547.74056503232964,813.47994936153873,1017.3432218243087,1497.8108432903609,2156.9729244402984,1889.3430363207408,1486.9574727667839,628.69808935932258,628.69808935932258,320.68807855843284,"ic7",4.1635019]
[]
[null,null,"Ground temps F",{"$f":"AVERAGE($B$6,O9)","v":38.020833333333329},{"$f":"AVERAGE($B$6,D9)","v":35.670833333333334},37.470833333333331,42.470833333333331,47.970833333333331,53.170833333333334,58.120833333333337,60.470833333333331,59.720833333333331,55.820833333333333,49.920833333333334,43.670833333333334]
[null,null,"Roof temps, simplified, F",{"$f":"D6-3.6","v":21},24.599999999999998,34.6,45.6,56,65.900000000000006,70.600000000000009,69.100000000000009,61.300000000000004,49.5,37,25.7]
[]
[]
[null,null,"Simplified indoor temp C",{"$f":"MIN(25,MAX(20,20+(5/10)*(D19-10)))","v":20},20,20,20,21.666666666666668,24.416666666666668,25,25,23.138888888888893,20,20,20]
[null,null,"simplified indoor temp, K",{"$f":"D32+273.15","v":293.14999999999998},293.14999999999998,293.14999999999998,293.14999999999998,294.81666666666666,297.56666666666666,298.14999999999998,298.14999999999998,296.28888888888889,293.14999999999998,293.14999999999998,293.14999999999998]
[null,null,"Simplified indoor design relative humidity - normal occupancy",{"$f":"MIN(65,MAX(35,35+(30/30)*(D19-(-10))))","v":38.888888888888886},40.888888888888886,46.444444444444443,52.555555555555557,58.333333333333336,63.833333333333336,65,65,61.277777777777786,54.722222222222221,47.777777777777779,41.5]
[null,null,"ditto, high-occupancy",{"$f":"MIN(70,MAX(40,40+(30/30)*(D19-(-10))))","v":43.888888888888886},45.888888888888886,51.444444444444443,57.555555555555557,63.333333333333336,68.833333333333343,70,70,66.277777777777786,59.722222222222221,52.777777777777779,46.5]
[null,null,"Indoor RH",{"$f":"IF($B$13,D35,D34)/100","v":0.43888888888888888},0.45888888888888885,0.51444444444444448,0.5755555555555556,0.6333333333333333,0.68833333333333346,0.7,0.7,0.66277777777777791,0.59722222222222221,0.52777777777777779,0.46500000000000002]
[null,null,"Indoor saturated vapor pressure  Pa",{"$f":"610.5*EXP((17.269*D32)/(237.3+D32))","v":2336.9511438023419},2336.9511438023419,2336.9511438023419,2336.9511438023419,2589.1991086894959,3057.5741777057606,3165.9200740618753,3165.9200740618753,2831.4821512286999,2336.9511438023419,2336.9511438023419,2336.9511438023419]
[null,null,"Simpl Indoor vapor pressure",{"$f":"D36*D37","v":1025.6618908910277},1072.4009137670746,1202.2315328672048,1345.045213877348,1639.8261021700141,2104.6302256541321,2216.1440518433124,2216.1440518433124,1876.6434480087999,1395.6791553263986,1233.3908814512361,1086.6822818680891]
[]
[null,null,"Indoor vapor pressure",{"$f":"IF($B$12,D38,D26)","v":1025.6618908910277},{"$f":"IF($B$12,E38,E26)","v":1072.4009137670746},1202.2315328672048,1345.045213877348,1639.8261021700141,2104.6302256541321,2216.1440518433124,2216.1440518433124,1876.6434480087999,1395.6791553263986,1233.3908814512361,1086.6822818680891]
[null,null,"max acceptable RH at surface",1,1,1,1,1,1,1,1,1,1,1,1]
["fRsi,cold",{"$f":"HLOOKUP(MIN(D45:O45),D45:O47,2,FALSE)","v":0.64200000000000002},"min acceptable saturation vapor pressure Pa",{"$f":"D40/D41","v":1025.6618908910277},1072.4009137670746,1202.2315328672048,1345.045213877348,1639.8261021700141,2104.6302256541321,2216.1440518433124,2216.1440518433124,1876.6434480087999,1395.6791553263986,1233.3908814512361,1086.6822818680891]
["Coldest month",{"$f":"HLOOKUP(MIN(D45:O45),D45:O47,3,FALSE)","v":"JAN"},"min acceptable surface temperature C",{"$f":"(237.3*LN(D42/610.5))/(17.269-LN(D42/610.5))","v":7.350058102334609},8.0026559612165595,9.6922753227117866,11.374675645585633,14.4014072174429,18.319470997069711,19.145351901183261,19.145351901183261,16.504285655083098,11.933569013145181,10.073783818145156,8.197066764950268]
[null,null,"Minimum acceptable interior window surface temperature (F)",{"$f":"(D43*9/5)+32","v":45.230104584202294},46.404780730189806,49.44609558088122,52.474416162054141,57.922532991397219,64.975047794725484,66.461633422129864,66.461633422129864,61.707714179149576,53.480424223661331,50.132810872661281,46.754720176910482]
[null,null,{"$f":"C6","v":"Monthly mean Ambient Temp (°F)"},24.6,28.2,38.200000000000003,49.2,59.6,69.5,74.2,72.7,64.900000000000006,53.1,40.6,29.3]
[null,null,"fRsi",{"$f":"ROUND((D43-D18)/(D32-D18),3)","v":0.64200000000000002},0.66,0.70799999999999996,0.75600000000000001,0.80400000000000005,0.84699999999999998,0.85499999999999998,0.85499999999999998,0.82799999999999996,0.77200000000000002,0.71899999999999997,0.66600000000000004]
[null,null,"Month","JAN","FEB","MAR","APR","MAY","JUN","JUL","AUG","SEP","OCT","NOV","DEC"]